{"text_format":"2","workbook":"xlsx","n_sheets":1,"sheets":["001 - A (18x24 In)"],"not_rendered":{"charts":0,"images":0,"macros":0,"external_links":0,"defined_names":0,"comments":0,"pivot_tables":0},"unopened":[],"bounds":{"document_bytes":16777216,"sheet_cells":100000,"run_cost":"one","rows_first":2000,"rows_last":500,"rows_between":2000,"halvings":0,"cell_chars":16384,"cell_head_chars":4096},"cells_cut":0,"cells_raw":0,"read":"whole","date_system":"1900"}

{"sheet":"001 - A (18x24 In)","index":0,"n_rows":1000,"n_cols":5,"rows_kept":1000,"cut":false,"hidden":false,"merged":[[59,0,59,1]]}
["RWA Name","Frame Placement","Minimum Order Quantity(No Of Lifts)","Locality","Captive Households (no of flats)"]
["4 Sight Model Town Apartment Owners Association","left",10,"Central Balia",250]
["4 Sight Model Town Apartment Owners Association","Right",10,"Central Balia",250]
["Akshara Lotus Garden","left",4,"Zarda Bagan",66]
["Akshara Lotus Garden","Right",4,"Zarda Bagan",66]
["Avishikta 2 Mig Category Residents Welfare Association","left",2,"Kalitala Rd",80]
["Avishikta 2 Mig Category Residents Welfare Association","Right",2,"Kalitala Rd",80]
["AWHO Bhaskar Roy Enclave Phase 2","left",9,"Rajarhat",225]
["AWHO Bhaskar Roy Enclave Phase 2","Right",9,"Rajarhat",225]
["Bhaskar Roy Enclave Phase 1","left",16,"VIP Rd Opposite Haldiram",234]
["Diamond City North Residents Association","left",29,"Ward Number 23",988]
["Diamond City North Residents Association","Right",29,"Ward Number 23",988]
["Dream Park","left",14,"Sonarpur",230]
["Dream Park","Right",14,"Sonarpur",230]
["Dream Residency Manor Apartment Owners Association","left",8,"Salua",183]
["Dream Residency Manor Apartment Owners Association","Right",8,"Salua",183]
["Ganges Garden Phase 2","left",17,"Howrah",225]
["Ganges Garden Phase 2","Right",17,"Howrah",225]
["Greenwood Nook","left",4,"Kalikapur",200]
["Greenwood Nook","Right",4,"Kalikapur",200]
["Ideal Abasan","left",13,"Rajarhat",384]
["Ideal Abasan","Right",13,"Rajarhat",384]
["Ideal Grand","left",9,"Shibpur",400]
["Ideal Grand","Right",9,"Shibpur",400]
["Koyla Vihar Abhinandan","left",6,"Kaikhali",150]
["Koyla Vihar Abhinandan","Right",6,"Kaikhali",150]
["Magnolia Grand","left",8,"Bishnupur",155]
["Magnolia Grand","Right",8,"Bishnupur",155]
["Nand Enclave","left",3,"Howrah",50]
["Nand Enclave","Right",3,"Howrah",50]
["Natural Heights","left",5,"Kaikhali",300]
["Natural Heights","Right",6,"Kaikhali",300]
["Ps Srijan Sonargaon","left",9,"Narendrapur",168]
["Ps Srijan Sonargaon","Right",9,"Narendrapur",168]
["Purba Abasan (Block DF) Apartment Owners Association","left",7,"Rajdanga",245]
["Purba Abasan (Block DF) Apartment Owners Association","Right",7,"Rajdanga",245]
["Raghav Residency","Right",12,"Howrah",192]
["Rishi Ecoview","left",5,"Jatragachhi",175]
["Rishi Ecoview","Right",5,"Jatragachhi",175]
["Skyline Apartment Owners Association","left",9,"Parnasree",115]
["Skyline Apartment Owners Association","Right",9,"Parnasree",115]
["Sucasa Green Apartment Owners Association","left",6,"Narendrapur",88]
["Sucasa Green Apartment Owners Association","Right",6,"Narendrapur",88]
["Utsa Luxury Complex","Center",8,"Rajarhat",208]
["Uniworld City","Right",117,"Rajarhat",3000]
["Ideal Enclave","left",20,"Rajarhat",589]
["Ideal Enclave","Right",20,"Rajarhat",589]
["Forum Pravesh","left",12,"Howrah",600]
["Forum Pravesh","Right",12,"Howrah",600]
["Sonarpur Prantik","left",11,"Sonarpur",400]
["Sonarpur Prantik","Right",11,"Sonarpur",400]
["Soura Niloy Housing Complex","left",22,"Purba Barisha",565]
["Soura Niloy Housing Complex","Right",22,"Purba Barisha",565]
["Urban Greens","left",12,"Newtown",196]
["Urban Greens","Right",12,"Newtown",196]
["Magnolia Oxygen","left",12,"Bishnupur",359]
["Magnolia Oxygen","Right",12,"Bishnupur",359]
["Siddha Town Rajarhat Residents Association","left",58,"Newtown",1337]
["Siddha Town Rajarhat Residents Association","Right",58,"Newtown",1337]
["Total",null,{"$f":"SUM(C2:C59)","v":802},{"$f":"IFERROR(__xludf.DUMMYFUNCTION(\"iferror(VLOOKUP(B60,IMPORTRANGE(\"\"https://docs.google.com/spreadsheets/d/1Kptv1Yhe55NnKrQfatjnFhSoEKdPJ_02VtssK9GkJPk/edit#gid=0\"\",\"\"RWA!F:BZ\"\"),44,0))\"),\"\")","v":""},{"$f":"SUM(E2:E59)","v":21080}]
[null,null,null,{"$f":"IFERROR(__xludf.DUMMYFUNCTION(\"iferror(VLOOKUP(B61,IMPORTRANGE(\"\"https://docs.google.com/spreadsheets/d/1Kptv1Yhe55NnKrQfatjnFhSoEKdPJ_02VtssK9GkJPk/edit#gid=0\"\",\"\"RWA!F:BZ\"\"),44,0))\"),\"\")","v":""},{"$f":"IFERROR(__xludf.DUMMYFUNCTION(\"iferror(VLOOKUP(B61,IMPORTRANGE(\"\"https://docs.google.com/spreadsheets/d/1Kptv1Yhe55NnKrQfatjnFhSoEKdPJ_02VtssK9GkJPk/edit#gid=0\"\",\"\"RWA!F:BZ\"\"),48,0))\"),\"\")","v":""}]
[null,null,null,{"$f":"IFERROR(__xludf.DUMMYFUNCTION(\"iferror(VLOOKUP(B62,IMPORTRANGE(\"\"https://docs.google.com/spreadsheets/d/1Kptv1Yhe55NnKrQfatjnFhSoEKdPJ_02VtssK9GkJPk/edit#gid=0\"\",\"\"RWA!F:BZ\"\"),44,0))\"),\"\")","v":""},{"$f":"IFERROR(__xludf.DUMMYFUNCTION(\"iferror(VLOOKUP(B62,IMPORTRANGE(\"\"https://docs.google.com/spreadsheets/d/1Kptv1Yhe55NnKrQfatjnFhSoEKdPJ_02VtssK9GkJPk/edit#gid=0\"\",\"\"RWA!F:BZ\"\"),48,0))\"),\"\")","v":""}]
[null,null,null,{"$f":"IFERROR(__xludf.DUMMYFUNCTION(\"iferror(VLOOKUP(B63,IMPORTRANGE(\"\"https://docs.google.com/spreadsheets/d/1Kptv1Yhe55NnKrQfatjnFhSoEKdPJ_02VtssK9GkJPk/edit#gid=0\"\",\"\"RWA!F:BZ\"\"),44,0))\"),\"\")","v":""},{"$f":"IFERROR(__xludf.DUMMYFUNCTION(\"iferror(VLOOKUP(B63,IMPORTRANGE(\"\"https://docs.google.com/spreadsheets/d/1Kptv1Yhe55NnKrQfatjnFhSoEKdPJ_02VtssK9GkJPk/edit#gid=0\"\",\"\"RWA!F:BZ\"\"),48,0))\"),\"\")","v":""}]
[null,null,null,{"$f":"IFERROR(__xludf.DUMMYFUNCTION(\"iferror(VLOOKUP(B64,IMPORTRANGE(\"\"https://docs.google.com/spreadsheets/d/1Kptv1Yhe55NnKrQfatjnFhSoEKdPJ_02VtssK9GkJPk/edit#gid=0\"\",\"\"RWA!F:BZ\"\"),44,0))\"),\"\")","v":""},{"$f":"IFERROR(__xludf.DUMMYFUNCTION(\"iferror(VLOOKUP(B64,IMPORTRANGE(\"\"https://docs.google.com/spreadsheets/d/1Kptv1Yhe55NnKrQfatjnFhSoEKdPJ_02VtssK9GkJPk/edit#gid=0\"\",\"\"RWA!F:BZ\"\"),48,0))\"),\"\")","v":""}]
[null,null,null,{"$f":"IFERROR(__xludf.DUMMYFUNCTION(\"iferror(VLOOKUP(B65,IMPORTRANGE(\"\"https://docs.google.com/spreadsheets/d/1Kptv1Yhe55NnKrQfatjnFhSoEKdPJ_02VtssK9GkJPk/edit#gid=0\"\",\"\"RWA!F:BZ\"\"),44,0))\"),\"\")","v":""},{"$f":"IFERROR(__xludf.DUMMYFUNCTION(\"iferror(VLOOKUP(B65,IMPORTRANGE(\"\"https://docs.google.com/spreadsheets/d/1Kptv1Yhe55NnKrQfatjnFhSoEKdPJ_02VtssK9GkJPk/edit#gid=0\"\",\"\"RWA!F:BZ\"\"),48,0))\"),\"\")","v":""}]
[null,null,null,{"$f":"IFERROR(__xludf.DUMMYFUNCTION(\"iferror(VLOOKUP(B66,IMPORTRANGE(\"\"https://docs.google.com/spreadsheets/d/1Kptv1Yhe55NnKrQfatjnFhSoEKdPJ_02VtssK9GkJPk/edit#gid=0\"\",\"\"RWA!F:BZ\"\"),44,0))\"),\"\")","v":""},{"$f":"IFERROR(__xludf.DUMMYFUNCTION(\"iferror(VLOOKUP(B66,IMPORTRANGE(\"\"https://docs.google.com/spreadsheets/d/1Kptv1Yhe55NnKrQfatjnFhSoEKdPJ_02VtssK9GkJPk/edit#gid=0\"\",\"\"RWA!F:BZ\"\"),48,0))\"),\"\")","v":""}]
[null,null,null,{"$f":"IFERROR(__xludf.DUMMYFUNCTION(\"iferror(VLOOKUP(B67,IMPORTRANGE(\"\"https://docs.google.com/spreadsheets/d/1Kptv1Yhe55NnKrQfatjnFhSoEKdPJ_02VtssK9GkJPk/edit#gid=0\"\",\"\"RWA!F:BZ\"\"),44,0))\"),\"\")","v":""},{"$f":"IFERROR(__xludf.DUMMYFUNCTION(\"iferror(VLOOKUP(B67,IMPORTRANGE(\"\"https://docs.google.com/spreadsheets/d/1Kptv1Yhe55NnKrQfatjnFhSoEKdPJ_02VtssK9GkJPk/edit#gid=0\"\",\"\"RWA!F:BZ\"\"),48,0))\"),\"\")","v":""}]
[null,null,null,{"$f":"IFERROR(__xludf.DUMMYFUNCTION(\"iferror(VLOOKUP(B68,IMPORTRANGE(\"\"https://docs.google.com/spreadsheets/d/1Kptv1Yhe55NnKrQfatjnFhSoEKdPJ_02VtssK9GkJPk/edit#gid=0\"\",\"\"RWA!F:BZ\"\"),44,0))\"),\"\")","v":""},{"$f":"IFERROR(__xludf.DUMMYFUNCTION(\"iferror(VLOOKUP(B68,IMPORTRANGE(\"\"https://docs.google.com/spreadsheets/d/1Kptv1Yhe55NnKrQfatjnFhSoEKdPJ_02VtssK9GkJPk/edit#gid=0\"\",\"\"RWA!F:BZ\"\"),48,0))\"),\"\")","v":""}]
[null,null,null,{"$f":"IFERROR(__xludf.DUMMYFUNCTION(\"iferror(VLOOKUP(B69,IMPORTRANGE(\"\"https://docs.google.com/spreadsheets/d/1Kptv1Yhe55NnKrQfatjnFhSoEKdPJ_02VtssK9GkJPk/edit#gid=0\"\",\"\"RWA!F:BZ\"\"),44,0))\"),\"\")","v":""},{"$f":"IFERROR(__xludf.DUMMYFUNCTION(\"iferror(VLOOKUP(B69,IMPORTRANGE(\"\"https://docs.google.com/spreadsheets/d/1Kptv1Yhe55NnKrQfatjnFhSoEKdPJ_02VtssK9GkJPk/edit#gid=0\"\",\"\"RWA!F:BZ\"\"),48,0))\"),\"\")","v":""}]
[null,null,null,{"$f":"IFERROR(__xludf.DUMMYFUNCTION(\"iferror(VLOOKUP(B70,IMPORTRANGE(\"\"https://docs.google.com/spreadsheets/d/1Kptv1Yhe55NnKrQfatjnFhSoEKdPJ_02VtssK9GkJPk/edit#gid=0\"\",\"\"RWA!F:BZ\"\"),44,0))\"),\"\")","v":""},{"$f":"IFERROR(__xludf.DUMMYFUNCTION(\"iferror(VLOOKUP(B70,IMPORTRANGE(\"\"https://docs.google.com/spreadsheets/d/1Kptv1Yhe55NnKrQfatjnFhSoEKdPJ_02VtssK9GkJPk/edit#gid=0\"\",\"\"RWA!F:BZ\"\"),48,0))\"),\"\")","v":""}]
[null,null,null,{"$f":"IFERROR(__xludf.DUMMYFUNCTION(\"iferror(VLOOKUP(B71,IMPORTRANGE(\"\"https://docs.google.com/spreadsheets/d/1Kptv1Yhe55NnKrQfatjnFhSoEKdPJ_02VtssK9GkJPk/edit#gid=0\"\",\"\"RWA!F:BZ\"\"),44,0))\"),\"\")","v":""},{"$f":"IFERROR(__xludf.DUMMYFUNCTION(\"iferror(VLOOKUP(B71,IMPORTRANGE(\"\"https://docs.google.com/spreadsheets/d/1Kptv1Yhe55NnKrQfatjnFhSoEKdPJ_02VtssK9GkJPk/edit#gid=0\"\",\"\"RWA!F:BZ\"\"),48,0))\"),\"\")","v":""}]
[null,null,null,{"$f":"IFERROR(__xludf.DUMMYFUNCTION(\"iferror(VLOOKUP(B72,IMPORTRANGE(\"\"https://docs.google.com/spreadsheets/d/1Kptv1Yhe55NnKrQfatjnFhSoEKdPJ_02VtssK9GkJPk/edit#gid=0\"\",\"\"RWA!F:BZ\"\"),44,0))\"),\"\")","v":""},{"$f":"IFERROR(__xludf.DUMMYFUNCTION(\"iferror(VLOOKUP(B72,IMPORTRANGE(\"\"https://docs.google.com/spreadsheets/d/1Kptv1Yhe55NnKrQfatjnFhSoEKdPJ_02VtssK9GkJPk/edit#gid=0\"\",\"\"RWA!F:BZ\"\"),48,0))\"),\"\")","v":""}]
[null,null,null,{"$f":"IFERROR(__xludf.DUMMYFUNCTION(\"iferror(VLOOKUP(B73,IMPORTRANGE(\"\"https://docs.google.com/spreadsheets/d/1Kptv1Yhe55NnKrQfatjnFhSoEKdPJ_02VtssK9GkJPk/edit#gid=0\"\",\"\"RWA!F:BZ\"\"),44,0))\"),\"\")","v":""},{"$f":"IFERROR(__xludf.DUMMYFUNCTION(\"iferror(VLOOKUP(B73,IMPORTRANGE(\"\"https://docs.google.com/spreadsheets/d/1Kptv1Yhe55NnKrQfatjnFhSoEKdPJ_02VtssK9GkJPk/edit#gid=0\"\",\"\"RWA!F:BZ\"\"),48,0))\"),\"\")","v":""}]
[null,null,null,{"$f":"IFERROR(__xludf.DUMMYFUNCTION(\"iferror(VLOOKUP(B74,IMPORTRANGE(\"\"https://docs.google.com/spreadsheets/d/1Kptv1Yhe55NnKrQfatjnFhSoEKdPJ_02VtssK9GkJPk/edit#gid=0\"\",\"\"RWA!F:BZ\"\"),44,0))\"),\"\")","v":""},{"$f":"IFERROR(__xludf.DUMMYFUNCTION(\"iferror(VLOOKUP(B74,IMPORTRANGE(\"\"https://docs.google.com/spreadsheets/d/1Kptv1Yhe55NnKrQfatjnFhSoEKdPJ_02VtssK9GkJPk/edit#gid=0\"\",\"\"RWA!F:BZ\"\"),48,0))\"),\"\")","v":""}]
[null,null,null,{"$f":"IFERROR(__xludf.DUMMYFUNCTION(\"iferror(VLOOKUP(B75,IMPORTRANGE(\"\"https://docs.google.com/spreadsheets/d/1Kptv1Yhe55NnKrQfatjnFhSoEKdPJ_02VtssK9GkJPk/edit#gid=0\"\",\"\"RWA!F:BZ\"\"),44,0))\"),\"\")","v":""},{"$f":"IFERROR(__xludf.DUMMYFUNCTION(\"iferror(VLOOKUP(B75,IMPORTRANGE(\"\"https://docs.google.com/spreadsheets/d/1Kptv1Yhe55NnKrQfatjnFhSoEKdPJ_02VtssK9GkJPk/edit#gid=0\"\",\"\"RWA!F:BZ\"\"),48,0))\"),\"\")","v":""}]
[null,null,null,{"$f":"IFERROR(__xludf.DUMMYFUNCTION(\"iferror(VLOOKUP(B76,IMPORTRANGE(\"\"https://docs.google.com/spreadsheets/d/1Kptv1Yhe55NnKrQfatjnFhSoEKdPJ_02VtssK9GkJPk/edit#gid=0\"\",\"\"RWA!F:BZ\"\"),44,0))\"),\"\")","v":""},{"$f":"IFERROR(__xludf.DUMMYFUNCTION(\"iferror(VLOOKUP(B76,IMPORTRANGE(\"\"https://docs.google.com/spreadsheets/d/1Kptv1Yhe55NnKrQfatjnFhSoEKdPJ_02VtssK9GkJPk/edit#gid=0\"\",\"\"RWA!F:BZ\"\"),48,0))\"),\"\")","v":""}]
[null,null,null,{"$f":"IFERROR(__xludf.DUMMYFUNCTION(\"iferror(VLOOKUP(B77,IMPORTRANGE(\"\"https://docs.google.com/spreadsheets/d/1Kptv1Yhe55NnKrQfatjnFhSoEKdPJ_02VtssK9GkJPk/edit#gid=0\"\",\"\"RWA!F:BZ\"\"),44,0))\"),\"\")","v":""},{"$f":"IFERROR(__xludf.DUMMYFUNCTION(\"iferror(VLOOKUP(B77,IMPORTRANGE(\"\"https://docs.google.com/spreadsheets/d/1Kptv1Yhe55NnKrQfatjnFhSoEKdPJ_02VtssK9GkJPk/edit#gid=0\"\",\"\"RWA!F:BZ\"\"),48,0))\"),\"\")","v":""}]
[null,null,null,{"$f":"IFERROR(__xludf.DUMMYFUNCTION(\"iferror(VLOOKUP(B78,IMPORTRANGE(\"\"https://docs.google.com/spreadsheets/d/1Kptv1Yhe55NnKrQfatjnFhSoEKdPJ_02VtssK9GkJPk/edit#gid=0\"\",\"\"RWA!F:BZ\"\"),44,0))\"),\"\")","v":""},{"$f":"IFERROR(__xludf.DUMMYFUNCTION(\"iferror(VLOOKUP(B78,IMPORTRANGE(\"\"https://docs.google.com/spreadsheets/d/1Kptv1Yhe55NnKrQfatjnFhSoEKdPJ_02VtssK9GkJPk/edit#gid=0\"\",\"\"RWA!F:BZ\"\"),48,0))\"),\"\")","v":""}]
[null,null,null,{"$f":"IFERROR(__xludf.DUMMYFUNCTION(\"iferror(VLOOKUP(B79,IMPORTRANGE(\"\"https://docs.google.com/spreadsheets/d/1Kptv1Yhe55NnKrQfatjnFhSoEKdPJ_02VtssK9GkJPk/edit#gid=0\"\",\"\"RWA!F:BZ\"\"),44,0))\"),\"\")","v":""},{"$f":"IFERROR(__xludf.DUMMYFUNCTION(\"iferror(VLOOKUP(B79,IMPORTRANGE(\"\"https://docs.google.com/spreadsheets/d/1Kptv1Yhe55NnKrQfatjnFhSoEKdPJ_02VtssK9GkJPk/edit#gid=0\"\",\"\"RWA!F:BZ\"\"),48,0))\"),\"\")","v":""}]
[null,null,null,{"$f":"IFERROR(__xludf.DUMMYFUNCTION(\"iferror(VLOOKUP(B80,IMPORTRANGE(\"\"https://docs.google.com/spreadsheets/d/1Kptv1Yhe55NnKrQfatjnFhSoEKdPJ_02VtssK9GkJPk/edit#gid=0\"\",\"\"RWA!F:BZ\"\"),44,0))\"),\"\")","v":""},{"$f":"IFERROR(__xludf.DUMMYFUNCTION(\"iferror(VLOOKUP(B80,IMPORTRANGE(\"\"https://docs.google.com/spreadsheets/d/1Kptv1Yhe55NnKrQfatjnFhSoEKdPJ_02VtssK9GkJPk/edit#gid=0\"\",\"\"RWA!F:BZ\"\"),48,0))\"),\"\")","v":""}]
[null,null,null,{"$f":"IFERROR(__xludf.DUMMYFUNCTION(\"iferror(VLOOKUP(B81,IMPORTRANGE(\"\"https://docs.google.com/spreadsheets/d/1Kptv1Yhe55NnKrQfatjnFhSoEKdPJ_02VtssK9GkJPk/edit#gid=0\"\",\"\"RWA!F:BZ\"\"),44,0))\"),\"\")","v":""},{"$f":"IFERROR(__xludf.DUMMYFUNCTION(\"iferror(VLOOKUP(B81,IMPORTRANGE(\"\"https://docs.google.com/spreadsheets/d/1Kptv1Yhe55NnKrQfatjnFhSoEKdPJ_02VtssK9GkJPk/edit#gid=0\"\",\"\"RWA!F:BZ\"\"),48,0))\"),\"\")","v":""}]
[null,null,null,{"$f":"IFERROR(__xludf.DUMMYFUNCTION(\"iferror(VLOOKUP(B82,IMPORTRANGE(\"\"https://docs.google.com/spreadsheets/d/1Kptv1Yhe55NnKrQfatjnFhSoEKdPJ_02VtssK9GkJPk/edit#gid=0\"\",\"\"RWA!F:BZ\"\"),44,0))\"),\"\")","v":""},{"$f":"IFERROR(__xludf.DUMMYFUNCTION(\"iferror(VLOOKUP(B82,IMPORTRANGE(\"\"https://docs.google.com/spreadsheets/d/1Kptv1Yhe55NnKrQfatjnFhSoEKdPJ_02VtssK9GkJPk/edit#gid=0\"\",\"\"RWA!F:BZ\"\"),48,0))\"),\"\")","v":""}]
[null,null,null,{"$f":"IFERROR(__xludf.DUMMYFUNCTION(\"iferror(VLOOKUP(B83,IMPORTRANGE(\"\"https://docs.google.com/spreadsheets/d/1Kptv1Yhe55NnKrQfatjnFhSoEKdPJ_02VtssK9GkJPk/edit#gid=0\"\",\"\"RWA!F:BZ\"\"),44,0))\"),\"\")","v":""},{"$f":"IFERROR(__xludf.DUMMYFUNCTION(\"iferror(VLOOKUP(B83,IMPORTRANGE(\"\"https://docs.google.com/spreadsheets/d/1Kptv1Yhe55NnKrQfatjnFhSoEKdPJ_02VtssK9GkJPk/edit#gid=0\"\",\"\"RWA!F:BZ\"\"),48,0))\"),\"\")","v":""}]
[null,null,null,{"$f":"IFERROR(__xludf.DUMMYFUNCTION(\"iferror(VLOOKUP(B84,IMPORTRANGE(\"\"https://docs.google.com/spreadsheets/d/1Kptv1Yhe55NnKrQfatjnFhSoEKdPJ_02VtssK9GkJPk/edit#gid=0\"\",\"\"RWA!F:BZ\"\"),44,0))\"),\"\")","v":""},{"$f":"IFERROR(__xludf.DUMMYFUNCTION(\"iferror(VLOOKUP(B84,IMPORTRANGE(\"\"https://docs.google.com/spreadsheets/d/1Kptv1Yhe55NnKrQfatjnFhSoEKdPJ_02VtssK9GkJPk/edit#gid=0\"\",\"\"RWA!F:BZ\"\"),48,0))\"),\"\")","v":""}]
[null,null,null,{"$f":"IFERROR(__xludf.DUMMYFUNCTION(\"iferror(VLOOKUP(B85,IMPORTRANGE(\"\"https://docs.google.com/spreadsheets/d/1Kptv1Yhe55NnKrQfatjnFhSoEKdPJ_02VtssK9GkJPk/edit#gid=0\"\",\"\"RWA!F:BZ\"\"),44,0))\"),\"\")","v":""},{"$f":"IFERROR(__xludf.DUMMYFUNCTION(\"iferror(VLOOKUP(B85,IMPORTRANGE(\"\"https://docs.google.com/spreadsheets/d/1Kptv1Yhe55NnKrQfatjnFhSoEKdPJ_02VtssK9GkJPk/edit#gid=0\"\",\"\"RWA!F:BZ\"\"),48,0))\"),\"\")","v":""}]
[null,null,null,{"$f":"IFERROR(__xludf.DUMMYFUNCTION(\"iferror(VLOOKUP(B86,IMPORTRANGE(\"\"https://docs.google.com/spreadsheets/d/1Kptv1Yhe55NnKrQfatjnFhSoEKdPJ_02VtssK9GkJPk/edit#gid=0\"\",\"\"RWA!F:BZ\"\"),44,0))\"),\"\")","v":""},{"$f":"IFERROR(__xludf.DUMMYFUNCTION(\"iferror(VLOOKUP(B86,IMPORTRANGE(\"\"https://docs.google.com/spreadsheets/d/1Kptv1Yhe55NnKrQfatjnFhSoEKdPJ_02VtssK9GkJPk/edit#gid=0\"\",\"\"RWA!F:BZ\"\"),48,0))\"),\"\")","v":""}]
[null,null,null,{"$f":"IFERROR(__xludf.DUMMYFUNCTION(\"iferror(VLOOKUP(B87,IMPORTRANGE(\"\"https://docs.google.com/spreadsheets/d/1Kptv1Yhe55NnKrQfatjnFhSoEKdPJ_02VtssK9GkJPk/edit#gid=0\"\",\"\"RWA!F:BZ\"\"),44,0))\"),\"\")","v":""},{"$f":"IFERROR(__xludf.DUMMYFUNCTION(\"iferror(VLOOKUP(B87,IMPORTRANGE(\"\"https://docs.google.com/spreadsheets/d/1Kptv1Yhe55NnKrQfatjnFhSoEKdPJ_02VtssK9GkJPk/edit#gid=0\"\",\"\"RWA!F:BZ\"\"),48,0))\"),\"\")","v":""}]
[null,null,null,{"$f":"IFERROR(__xludf.DUMMYFUNCTION(\"iferror(VLOOKUP(B88,IMPORTRANGE(\"\"https://docs.google.com/spreadsheets/d/1Kptv1Yhe55NnKrQfatjnFhSoEKdPJ_02VtssK9GkJPk/edit#gid=0\"\",\"\"RWA!F:BZ\"\"),44,0))\"),\"\")","v":""},{"$f":"IFERROR(__xludf.DUMMYFUNCTION(\"iferror(VLOOKUP(B88,IMPORTRANGE(\"\"https://docs.google.com/spreadsheets/d/1Kptv1Yhe55NnKrQfatjnFhSoEKdPJ_02VtssK9GkJPk/edit#gid=0\"\",\"\"RWA!F:BZ\"\"),48,0))\"),\"\")","v":""}]
[null,null,null,{"$f":"IFERROR(__xludf.DUMMYFUNCTION(\"iferror(VLOOKUP(B89,IMPORTRANGE(\"\"https://docs.google.com/spreadsheets/d/1Kptv1Yhe55NnKrQfatjnFhSoEKdPJ_02VtssK9GkJPk/edit#gid=0\"\",\"\"RWA!F:BZ\"\"),44,0))\"),\"\")","v":""},{"$f":"IFERROR(__xludf.DUMMYFUNCTION(\"iferror(VLOOKUP(B89,IMPORTRANGE(\"\"https://docs.google.com/spreadsheets/d/1Kptv1Yhe55NnKrQfatjnFhSoEKdPJ_02VtssK9GkJPk/edit#gid=0\"\",\"\"RWA!F:BZ\"\"),48,0))\"),\"\")","v":""}]
[null,null,null,{"$f":"IFERROR(__xludf.DUMMYFUNCTION(\"iferror(VLOOKUP(B90,IMPORTRANGE(\"\"https://docs.google.com/spreadsheets/d/1Kptv1Yhe55NnKrQfatjnFhSoEKdPJ_02VtssK9GkJPk/edit#gid=0\"\",\"\"RWA!F:BZ\"\"),44,0))\"),\"\")","v":""},{"$f":"IFERROR(__xludf.DUMMYFUNCTION(\"iferror(VLOOKUP(B90,IMPORTRANGE(\"\"https://docs.google.com/spreadsheets/d/1Kptv1Yhe55NnKrQfatjnFhSoEKdPJ_02VtssK9GkJPk/edit#gid=0\"\",\"\"RWA!F:BZ\"\"),48,0))\"),\"\")","v":""}]
[null,null,null,{"$f":"IFERROR(__xludf.DUMMYFUNCTION(\"iferror(VLOOKUP(B91,IMPORTRANGE(\"\"https://docs.google.com/spreadsheets/d/1Kptv1Yhe55NnKrQfatjnFhSoEKdPJ_02VtssK9GkJPk/edit#gid=0\"\",\"\"RWA!F:BZ\"\"),44,0))\"),\"\")","v":""},{"$f":"IFERROR(__xludf.DUMMYFUNCTION(\"iferror(VLOOKUP(B91,IMPORTRANGE(\"\"https://docs.google.com/spreadsheets/d/1Kptv1Yhe55NnKrQfatjnFhSoEKdPJ_02VtssK9GkJPk/edit#gid=0\"\",\"\"RWA!F:BZ\"\"),48,0))\"),\"\")","v":""}]
[null,null,null,{"$f":"IFERROR(__xludf.DUMMYFUNCTION(\"iferror(VLOOKUP(B92,IMPORTRANGE(\"\"https://docs.google.com/spreadsheets/d/1Kptv1Yhe55NnKrQfatjnFhSoEKdPJ_02VtssK9GkJPk/edit#gid=0\"\",\"\"RWA!F:BZ\"\"),44,0))\"),\"\")","v":""},{"$f":"IFERROR(__xludf.DUMMYFUNCTION(\"iferror(VLOOKUP(B92,IMPORTRANGE(\"\"https://docs.google.com/spreadsheets/d/1Kptv1Yhe55NnKrQfatjnFhSoEKdPJ_02VtssK9GkJPk/edit#gid=0\"\",\"\"RWA!F:BZ\"\"),48,0))\"),\"\")","v":""}]
[null,null,null,{"$f":"IFERROR(__xludf.DUMMYFUNCTION(\"iferror(VLOOKUP(B93,IMPORTRANGE(\"\"https://docs.google.com/spreadsheets/d/1Kptv1Yhe55NnKrQfatjnFhSoEKdPJ_02VtssK9GkJPk/edit#gid=0\"\",\"\"RWA!F:BZ\"\"),44,0))\"),\"\")","v":""},{"$f":"IFERROR(__xludf.DUMMYFUNCTION(\"iferror(VLOOKUP(B93,IMPORTRANGE(\"\"https://docs.google.com/spreadsheets/d/1Kptv1Yhe55NnKrQfatjnFhSoEKdPJ_02VtssK9GkJPk/edit#gid=0\"\",\"\"RWA!F:BZ\"\"),48,0))\"),\"\")","v":""}]
[null,null,null,{"$f":"IFERROR(__xludf.DUMMYFUNCTION(\"iferror(VLOOKUP(B94,IMPORTRANGE(\"\"https://docs.google.com/spreadsheets/d/1Kptv1Yhe55NnKrQfatjnFhSoEKdPJ_02VtssK9GkJPk/edit#gid=0\"\",\"\"RWA!F:BZ\"\"),44,0))\"),\"\")","v":""},{"$f":"IFERROR(__xludf.DUMMYFUNCTION(\"iferror(VLOOKUP(B94,IMPORTRANGE(\"\"https://docs.google.com/spreadsheets/d/1Kptv1Yhe55NnKrQfatjnFhSoEKdPJ_02VtssK9GkJPk/edit#gid=0\"\",\"\"RWA!F:BZ\"\"),48,0))\"),\"\")","v":""}]
[null,null,null,{"$f":"IFERROR(__xludf.DUMMYFUNCTION(\"iferror(VLOOKUP(B95,IMPORTRANGE(\"\"https://docs.google.com/spreadsheets/d/1Kptv1Yhe55NnKrQfatjnFhSoEKdPJ_02VtssK9GkJPk/edit#gid=0\"\",\"\"RWA!F:BZ\"\"),44,0))\"),\"\")","v":""},{"$f":"IFERROR(__xludf.DUMMYFUNCTION(\"iferror(VLOOKUP(B95,IMPORTRANGE(\"\"https://docs.google.com/spreadsheets/d/1Kptv1Yhe55NnKrQfatjnFhSoEKdPJ_02VtssK9GkJPk/edit#gid=0\"\",\"\"RWA!F:BZ\"\"),48,0))\"),\"\")","v":""}]
[null,null,null,{"$f":"IFERROR(__xludf.DUMMYFUNCTION(\"iferror(VLOOKUP(B96,IMPORTRANGE(\"\"https://docs.google.com/spreadsheets/d/1Kptv1Yhe55NnKrQfatjnFhSoEKdPJ_02VtssK9GkJPk/edit#gid=0\"\",\"\"RWA!F:BZ\"\"),44,0))\"),\"\")","v":""},{"$f":"IFERROR(__xludf.DUMMYFUNCTION(\"iferror(VLOOKUP(B96,IMPORTRANGE(\"\"https://docs.google.com/spreadsheets/d/1Kptv1Yhe55NnKrQfatjnFhSoEKdPJ_02VtssK9GkJPk/edit#gid=0\"\",\"\"RWA!F:BZ\"\"),48,0))\"),\"\")","v":""}]
[null,null,null,{"$f":"IFERROR(__xludf.DUMMYFUNCTION(\"iferror(VLOOKUP(B97,IMPORTRANGE(\"\"https://docs.google.com/spreadsheets/d/1Kptv1Yhe55NnKrQfatjnFhSoEKdPJ_02VtssK9GkJPk/edit#gid=0\"\",\"\"RWA!F:BZ\"\"),44,0))\"),\"\")","v":""},{"$f":"IFERROR(__xludf.DUMMYFUNCTION(\"iferror(VLOOKUP(B97,IMPORTRANGE(\"\"https://docs.google.com/spreadsheets/d/1Kptv1Yhe55NnKrQfatjnFhSoEKdPJ_02VtssK9GkJPk/edit#gid=0\"\",\"\"RWA!F:BZ\"\"),48,0))\"),\"\")","v":""}]
[null,null,null,{"$f":"IFERROR(__xludf.DUMMYFUNCTION(\"iferror(VLOOKUP(B98,IMPORTRANGE(\"\"https://docs.google.com/spreadsheets/d/1Kptv1Yhe55NnKrQfatjnFhSoEKdPJ_02VtssK9GkJPk/edit#gid=0\"\",\"\"RWA!F:BZ\"\"),44,0))\"),\"\")","v":""},{"$f":"IFERROR(__xludf.DUMMYFUNCTION(\"iferror(VLOOKUP(B98,IMPORTRANGE(\"\"https://docs.google.com/spreadsheets/d/1Kptv1Yhe55NnKrQfatjnFhSoEKdPJ_02VtssK9GkJPk/edit#gid=0\"\",\"\"RWA!F:BZ\"\"),48,0))\"),\"\")","v":""}]
[null,null,null,{"$f":"IFERROR(__xludf.DUMMYFUNCTION(\"iferror(VLOOKUP(B99,IMPORTRANGE(\"\"https://docs.google.com/spreadsheets/d/1Kptv1Yhe55NnKrQfatjnFhSoEKdPJ_02VtssK9GkJPk/edit#gid=0\"\",\"\"RWA!F:BZ\"\"),44,0))\"),\"\")","v":""},{"$f":"IFERROR(__xludf.DUMMYFUNCTION(\"iferror(VLOOKUP(B99,IMPORTRANGE(\"\"https://docs.google.com/spreadsheets/d/1Kptv1Yhe55NnKrQfatjnFhSoEKdPJ_02VtssK9GkJPk/edit#gid=0\"\",\"\"RWA!F:BZ\"\"),48,0))\"),\"\")","v":""}]
[null,null,null,{"$f":"IFERROR(__xludf.DUMMYFUNCTION(\"iferror(VLOOKUP(B100,IMPORTRANGE(\"\"https://docs.google.com/spreadsheets/d/1Kptv1Yhe55NnKrQfatjnFhSoEKdPJ_02VtssK9GkJPk/edit#gid=0\"\",\"\"RWA!F:BZ\"\"),44,0))\"),\"\")","v":""},{"$f":"IFERROR(__xludf.DUMMYFUNCTION(\"iferror(VLOOKUP(B100,IMPORTRANGE(\"\"https://docs.google.com/spreadsheets/d/1Kptv1Yhe55NnKrQfatjnFhSoEKdPJ_02VtssK9GkJPk/edit#gid=0\"\",\"\"RWA!F:BZ\"\"),48,0))\"),\"\")","v":""}]
[null,null,null,{"$f":"IFERROR(__xludf.DUMMYFUNCTION(\"iferror(VLOOKUP(B101,IMPORTRANGE(\"\"https://docs.google.com/spreadsheets/d/1Kptv1Yhe55NnKrQfatjnFhSoEKdPJ_02VtssK9GkJPk/edit#gid=0\"\",\"\"RWA!F:BZ\"\"),44,0))\"),\"\")","v":""},{"$f":"IFERROR(__xludf.DUMMYFUNCTION(\"iferror(VLOOKUP(B101,IMPORTRANGE(\"\"https://docs.google.com/spreadsheets/d/1Kptv1Yhe55NnKrQfatjnFhSoEKdPJ_02VtssK9GkJPk/edit#gid=0\"\",\"\"RWA!F:BZ\"\"),48,0))\"),\"\")","v":""}]
[null,null,null,{"$f":"IFERROR(__xludf.DUMMYFUNCTION(\"iferror(VLOOKUP(B102,IMPORTRANGE(\"\"https://docs.google.com/spreadsheets/d/1Kptv1Yhe55NnKrQfatjnFhSoEKdPJ_02VtssK9GkJPk/edit#gid=0\"\",\"\"RWA!F:BZ\"\"),44,0))\"),\"\")","v":""},{"$f":"IFERROR(__xludf.DUMMYFUNCTION(\"iferror(VLOOKUP(B102,IMPORTRANGE(\"\"https://docs.google.com/spreadsheets/d/1Kptv1Yhe55NnKrQfatjnFhSoEKdPJ_02VtssK9GkJPk/edit#gid=0\"\",\"\"RWA!F:BZ\"\"),48,0))\"),\"\")","v":""}]
[null,null,null,{"$f":"IFERROR(__xludf.DUMMYFUNCTION(\"iferror(VLOOKUP(B103,IMPORTRANGE(\"\"https://docs.google.com/spreadsheets/d/1Kptv1Yhe55NnKrQfatjnFhSoEKdPJ_02VtssK9GkJPk/edit#gid=0\"\",\"\"RWA!F:BZ\"\"),44,0))\"),\"\")","v":""},{"$f":"IFERROR(__xludf.DUMMYFUNCTION(\"iferror(VLOOKUP(B103,IMPORTRANGE(\"\"https://docs.google.com/spreadsheets/d/1Kptv1Yhe55NnKrQfatjnFhSoEKdPJ_02VtssK9GkJPk/edit#gid=0\"\",\"\"RWA!F:BZ\"\"),48,0))\"),\"\")","v":""}]
[null,null,null,{"$f":"IFERROR(__xludf.DUMMYFUNCTION(\"iferror(VLOOKUP(B104,IMPORTRANGE(\"\"https://docs.google.com/spreadsheets/d/1Kptv1Yhe55NnKrQfatjnFhSoEKdPJ_02VtssK9GkJPk/edit#gid=0\"\",\"\"RWA!F:BZ\"\"),44,0))\"),\"\")","v":""},{"$f":"IFERROR(__xludf.DUMMYFUNCTION(\"iferror(VLOOKUP(B104,IMPORTRANGE(\"\"https://docs.google.com/spreadsheets/d/1Kptv1Yhe55NnKrQfatjnFhSoEKdPJ_02VtssK9GkJPk/edit#gid=0\"\",\"\"RWA!F:BZ\"\"),48,0))\"),\"\")","v":""}]
[null,null,null,{"$f":"IFERROR(__xludf.DUMMYFUNCTION(\"iferror(VLOOKUP(B105,IMPORTRANGE(\"\"https://docs.google.com/spreadsheets/d/1Kptv1Yhe55NnKrQfatjnFhSoEKdPJ_02VtssK9GkJPk/edit#gid=0\"\",\"\"RWA!F:BZ\"\"),44,0))\"),\"\")","v":""},{"$f":"IFERROR(__xludf.DUMMYFUNCTION(\"iferror(VLOOKUP(B105,IMPORTRANGE(\"\"https://docs.google.com/spreadsheets/d/1Kptv1Yhe55NnKrQfatjnFhSoEKdPJ_02VtssK9GkJPk/edit#gid=0\"\",\"\"RWA!F:BZ\"\"),48,0))\"),\"\")","v":""}]
[null,null,null,{"$f":"IFERROR(__xludf.DUMMYFUNCTION(\"iferror(VLOOKUP(B106,IMPORTRANGE(\"\"https://docs.google.com/spreadsheets/d/1Kptv1Yhe55NnKrQfatjnFhSoEKdPJ_02VtssK9GkJPk/edit#gid=0\"\",\"\"RWA!F:BZ\"\"),44,0))\"),\"\")","v":""},{"$f":"IFERROR(__xludf.DUMMYFUNCTION(\"iferror(VLOOKUP(B106,IMPORTRANGE(\"\"https://docs.google.com/spreadsheets/d/1Kptv1Yhe55NnKrQfatjnFhSoEKdPJ_02VtssK9GkJPk/edit#gid=0\"\",\"\"RWA!F:BZ\"\"),48,0))\"),\"\")","v":""}]
[null,null,null,{"$f":"IFERROR(__xludf.DUMMYFUNCTION(\"iferror(VLOOKUP(B107,IMPORTRANGE(\"\"https://docs.google.com/spreadsheets/d/1Kptv1Yhe55NnKrQfatjnFhSoEKdPJ_02VtssK9GkJPk/edit#gid=0\"\",\"\"RWA!F:BZ\"\"),44,0))\"),\"\")","v":""},{"$f":"IFERROR(__xludf.DUMMYFUNCTION(\"iferror(VLOOKUP(B107,IMPORTRANGE(\"\"https://docs.google.com/spreadsheets/d/1Kptv1Yhe55NnKrQfatjnFhSoEKdPJ_02VtssK9GkJPk/edit#gid=0\"\",\"\"RWA!F:BZ\"\"),48,0))\"),\"\")","v":""}]
[null,null,null,{"$f":"IFERROR(__xludf.DUMMYFUNCTION(\"iferror(VLOOKUP(B108,IMPORTRANGE(\"\"https://docs.google.com/spreadsheets/d/1Kptv1Yhe55NnKrQfatjnFhSoEKdPJ_02VtssK9GkJPk/edit#gid=0\"\",\"\"RWA!F:BZ\"\"),44,0))\"),\"\")","v":""},{"$f":"IFERROR(__xludf.DUMMYFUNCTION(\"iferror(VLOOKUP(B108,IMPORTRANGE(\"\"https://docs.google.com/spreadsheets/d/1Kptv1Yhe55NnKrQfatjnFhSoEKdPJ_02VtssK9GkJPk/edit#gid=0\"\",\"\"RWA!F:BZ\"\"),48,0))\"),\"\")","v":""}]
[null,null,null,{"$f":"IFERROR(__xludf.DUMMYFUNCTION(\"iferror(VLOOKUP(B109,IMPORTRANGE(\"\"https://docs.google.com/spreadsheets/d/1Kptv1Yhe55NnKrQfatjnFhSoEKdPJ_02VtssK9GkJPk/edit#gid=0\"\",\"\"RWA!F:BZ\"\"),44,0))\"),\"\")","v":""},{"$f":"IFERROR(__xludf.DUMMYFUNCTION(\"iferror(VLOOKUP(B109,IMPORTRANGE(\"\"https://docs.google.com/spreadsheets/d/1Kptv1Yhe55NnKrQfatjnFhSoEKdPJ_02VtssK9GkJPk/edit#gid=0\"\",\"\"RWA!F:BZ\"\"),48,0))\"),\"\")","v":""}]
[null,null,null,{"$f":"IFERROR(__xludf.DUMMYFUNCTION(\"iferror(VLOOKUP(B110,IMPORTRANGE(\"\"https://docs.google.com/spreadsheets/d/1Kptv1Yhe55NnKrQfatjnFhSoEKdPJ_02VtssK9GkJPk/edit#gid=0\"\",\"\"RWA!F:BZ\"\"),44,0))\"),\"\")","v":""},{"$f":"IFERROR(__xludf.DUMMYFUNCTION(\"iferror(VLOOKUP(B110,IMPORTRANGE(\"\"https://docs.google.com/spreadsheets/d/1Kptv1Yhe55NnKrQfatjnFhSoEKdPJ_02VtssK9GkJPk/edit#gid=0\"\",\"\"RWA!F:BZ\"\"),48,0))\"),\"\")","v":""}]
[null,null,null,{"$f":"IFERROR(__xludf.DUMMYFUNCTION(\"iferror(VLOOKUP(B111,IMPORTRANGE(\"\"https://docs.google.com/spreadsheets/d/1Kptv1Yhe55NnKrQfatjnFhSoEKdPJ_02VtssK9GkJPk/edit#gid=0\"\",\"\"RWA!F:BZ\"\"),44,0))\"),\"\")","v":""},{"$f":"IFERROR(__xludf.DUMMYFUNCTION(\"iferror(VLOOKUP(B111,IMPORTRANGE(\"\"https://docs.google.com/spreadsheets/d/1Kptv1Yhe55NnKrQfatjnFhSoEKdPJ_02VtssK9GkJPk/edit#gid=0\"\",\"\"RWA!F:BZ\"\"),48,0))\"),\"\")","v":""}]
[null,null,null,{"$f":"IFERROR(__xludf.DUMMYFUNCTION(\"iferror(VLOOKUP(B112,IMPORTRANGE(\"\"https://docs.google.com/spreadsheets/d/1Kptv1Yhe55NnKrQfatjnFhSoEKdPJ_02VtssK9GkJPk/edit#gid=0\"\",\"\"RWA!F:BZ\"\"),44,0))\"),\"\")","v":""},{"$f":"IFERROR(__xludf.DUMMYFUNCTION(\"iferror(VLOOKUP(B112,IMPORTRANGE(\"\"https://docs.google.com/spreadsheets/d/1Kptv1Yhe55NnKrQfatjnFhSoEKdPJ_02VtssK9GkJPk/edit#gid=0\"\",\"\"RWA!F:BZ\"\"),48,0))\"),\"\")","v":""}]
[null,null,null,{"$f":"IFERROR(__xludf.DUMMYFUNCTION(\"iferror(VLOOKUP(B113,IMPORTRANGE(\"\"https://docs.google.com/spreadsheets/d/1Kptv1Yhe55NnKrQfatjnFhSoEKdPJ_02VtssK9GkJPk/edit#gid=0\"\",\"\"RWA!F:BZ\"\"),44,0))\"),\"\")","v":""},{"$f":"IFERROR(__xludf.DUMMYFUNCTION(\"iferror(VLOOKUP(B113,IMPORTRANGE(\"\"https://docs.google.com/spreadsheets/d/1Kptv1Yhe55NnKrQfatjnFhSoEKdPJ_02VtssK9GkJPk/edit#gid=0\"\",\"\"RWA!F:BZ\"\"),48,0))\"),\"\")","v":""}]
[null,null,null,{"$f":"IFERROR(__xludf.DUMMYFUNCTION(\"iferror(VLOOKUP(B114,IMPORTRANGE(\"\"https://docs.google.com/spreadsheets/d/1Kptv1Yhe55NnKrQfatjnFhSoEKdPJ_02VtssK9GkJPk/edit#gid=0\"\",\"\"RWA!F:BZ\"\"),44,0))\"),\"\")","v":""},{"$f":"IFERROR(__xludf.DUMMYFUNCTION(\"iferror(VLOOKUP(B114,IMPORTRANGE(\"\"https://docs.google.com/spreadsheets/d/1Kptv1Yhe55NnKrQfatjnFhSoEKdPJ_02VtssK9GkJPk/edit#gid=0\"\",\"\"RWA!F:BZ\"\"),48,0))\"),\"\")","v":""}]
[null,null,null,{"$f":"IFERROR(__xludf.DUMMYFUNCTION(\"iferror(VLOOKUP(B115,IMPORTRANGE(\"\"https://docs.google.com/spreadsheets/d/1Kptv1Yhe55NnKrQfatjnFhSoEKdPJ_02VtssK9GkJPk/edit#gid=0\"\",\"\"RWA!F:BZ\"\"),44,0))\"),\"\")","v":""},{"$f":"IFERROR(__xludf.DUMMYFUNCTION(\"iferror(VLOOKUP(B115,IMPORTRANGE(\"\"https://docs.google.com/spreadsheets/d/1Kptv1Yhe55NnKrQfatjnFhSoEKdPJ_02VtssK9GkJPk/edit#gid=0\"\",\"\"RWA!F:BZ\"\"),48,0))\"),\"\")","v":""}]
[null,null,null,{"$f":"IFERROR(__xludf.DUMMYFUNCTION(\"iferror(VLOOKUP(B116,IMPORTRANGE(\"\"https://docs.google.com/spreadsheets/d/1Kptv1Yhe55NnKrQfatjnFhSoEKdPJ_02VtssK9GkJPk/edit#gid=0\"\",\"\"RWA!F:BZ\"\"),44,0))\"),\"\")","v":""},{"$f":"IFERROR(__xludf.DUMMYFUNCTION(\"iferror(VLOOKUP(B116,IMPORTRANGE(\"\"https://docs.google.com/spreadsheets/d/1Kptv1Yhe55NnKrQfatjnFhSoEKdPJ_02VtssK9GkJPk/edit#gid=0\"\",\"\"RWA!F:BZ\"\"),48,0))\"),\"\")","v":""}]
[null,null,null,{"$f":"IFERROR(__xludf.DUMMYFUNCTION(\"iferror(VLOOKUP(B117,IMPORTRANGE(\"\"https://docs.google.com/spreadsheets/d/1Kptv1Yhe55NnKrQfatjnFhSoEKdPJ_02VtssK9GkJPk/edit#gid=0\"\",\"\"RWA!F:BZ\"\"),44,0))\"),\"\")","v":""},{"$f":"IFERROR(__xludf.DUMMYFUNCTION(\"iferror(VLOOKUP(B117,IMPORTRANGE(\"\"https://docs.google.com/spreadsheets/d/1Kptv1Yhe55NnKrQfatjnFhSoEKdPJ_02VtssK9GkJPk/edit#gid=0\"\",\"\"RWA!F:BZ\"\"),48,0))\"),\"\")","v":""}]
[null,null,null,{"$f":"IFERROR(__xludf.DUMMYFUNCTION(\"iferror(VLOOKUP(B118,IMPORTRANGE(\"\"https://docs.google.com/spreadsheets/d/1Kptv1Yhe55NnKrQfatjnFhSoEKdPJ_02VtssK9GkJPk/edit#gid=0\"\",\"\"RWA!F:BZ\"\"),44,0))\"),\"\")","v":""},{"$f":"IFERROR(__xludf.DUMMYFUNCTION(\"iferror(VLOOKUP(B118,IMPORTRANGE(\"\"https://docs.google.com/spreadsheets/d/1Kptv1Yhe55NnKrQfatjnFhSoEKdPJ_02VtssK9GkJPk/edit#gid=0\"\",\"\"RWA!F:BZ\"\"),48,0))\"),\"\")","v":""}]
[null,null,null,{"$f":"IFERROR(__xludf.DUMMYFUNCTION(\"iferror(VLOOKUP(B119,IMPORTRANGE(\"\"https://docs.google.com/spreadsheets/d/1Kptv1Yhe55NnKrQfatjnFhSoEKdPJ_02VtssK9GkJPk/edit#gid=0\"\",\"\"RWA!F:BZ\"\"),44,0))\"),\"\")","v":""},{"$f":"IFERROR(__xludf.DUMMYFUNCTION(\"iferror(VLOOKUP(B119,IMPORTRANGE(\"\"https://docs.google.com/spreadsheets/d/1Kptv1Yhe55NnKrQfatjnFhSoEKdPJ_02VtssK9GkJPk/edit#gid=0\"\",\"\"RWA!F:BZ\"\"),48,0))\"),\"\")","v":""}]
[null,null,null,{"$f":"IFERROR(__xludf.DUMMYFUNCTION(\"iferror(VLOOKUP(B120,IMPORTRANGE(\"\"https://docs.google.com/spreadsheets/d/1Kptv1Yhe55NnKrQfatjnFhSoEKdPJ_02VtssK9GkJPk/edit#gid=0\"\",\"\"RWA!F:BZ\"\"),44,0))\"),\"\")","v":""},{"$f":"IFERROR(__xludf.DUMMYFUNCTION(\"iferror(VLOOKUP(B120,IMPORTRANGE(\"\"https://docs.google.com/spreadsheets/d/1Kptv1Yhe55NnKrQfatjnFhSoEKdPJ_02VtssK9GkJPk/edit#gid=0\"\",\"\"RWA!F:BZ\"\"),48,0))\"),\"\")","v":""}]
[null,null,null,{"$f":"IFERROR(__xludf.DUMMYFUNCTION(\"iferror(VLOOKUP(B121,IMPORTRANGE(\"\"https://docs.google.com/spreadsheets/d/1Kptv1Yhe55NnKrQfatjnFhSoEKdPJ_02VtssK9GkJPk/edit#gid=0\"\",\"\"RWA!F:BZ\"\"),44,0))\"),\"\")","v":""},{"$f":"IFERROR(__xludf.DUMMYFUNCTION(\"iferror(VLOOKUP(B121,IMPORTRANGE(\"\"https://docs.google.com/spreadsheets/d/1Kptv1Yhe55NnKrQfatjnFhSoEKdPJ_02VtssK9GkJPk/edit#gid=0\"\",\"\"RWA!F:BZ\"\"),48,0))\"),\"\")","v":""}]
[null,null,null,{"$f":"IFERROR(__xludf.DUMMYFUNCTION(\"iferror(VLOOKUP(B122,IMPORTRANGE(\"\"https://docs.google.com/spreadsheets/d/1Kptv1Yhe55NnKrQfatjnFhSoEKdPJ_02VtssK9GkJPk/edit#gid=0\"\",\"\"RWA!F:BZ\"\"),44,0))\"),\"\")","v":""},{"$f":"IFERROR(__xludf.DUMMYFUNCTION(\"iferror(VLOOKUP(B122,IMPORTRANGE(\"\"https://docs.google.com/spreadsheets/d/1Kptv1Yhe55NnKrQfatjnFhSoEKdPJ_02VtssK9GkJPk/edit#gid=0\"\",\"\"RWA!F:BZ\"\"),48,0))\"),\"\")","v":""}]
[null,null,null,{"$f":"IFERROR(__xludf.DUMMYFUNCTION(\"iferror(VLOOKUP(B123,IMPORTRANGE(\"\"https://docs.google.com/spreadsheets/d/1Kptv1Yhe55NnKrQfatjnFhSoEKdPJ_02VtssK9GkJPk/edit#gid=0\"\",\"\"RWA!F:BZ\"\"),44,0))\"),\"\")","v":""},{"$f":"IFERROR(__xludf.DUMMYFUNCTION(\"iferror(VLOOKUP(B123,IMPORTRANGE(\"\"https://docs.google.com/spreadsheets/d/1Kptv1Yhe55NnKrQfatjnFhSoEKdPJ_02VtssK9GkJPk/edit#gid=0\"\",\"\"RWA!F:BZ\"\"),48,0))\"),\"\")","v":""}]
[null,null,null,{"$f":"IFERROR(__xludf.DUMMYFUNCTION(\"iferror(VLOOKUP(B124,IMPORTRANGE(\"\"https://docs.google.com/spreadsheets/d/1Kptv1Yhe55NnKrQfatjnFhSoEKdPJ_02VtssK9GkJPk/edit#gid=0\"\",\"\"RWA!F:BZ\"\"),44,0))\"),\"\")","v":""},{"$f":"IFERROR(__xludf.DUMMYFUNCTION(\"iferror(VLOOKUP(B124,IMPORTRANGE(\"\"https://docs.google.com/spreadsheets/d/1Kptv1Yhe55NnKrQfatjnFhSoEKdPJ_02VtssK9GkJPk/edit#gid=0\"\",\"\"RWA!F:BZ\"\"),48,0))\"),\"\")","v":""}]
[null,null,null,{"$f":"IFERROR(__xludf.DUMMYFUNCTION(\"iferror(VLOOKUP(B125,IMPORTRANGE(\"\"https://docs.google.com/spreadsheets/d/1Kptv1Yhe55NnKrQfatjnFhSoEKdPJ_02VtssK9GkJPk/edit#gid=0\"\",\"\"RWA!F:BZ\"\"),44,0))\"),\"\")","v":""},{"$f":"IFERROR(__xludf.DUMMYFUNCTION(\"iferror(VLOOKUP(B125,IMPORTRANGE(\"\"https://docs.google.com/spreadsheets/d/1Kptv1Yhe55NnKrQfatjnFhSoEKdPJ_02VtssK9GkJPk/edit#gid=0\"\",\"\"RWA!F:BZ\"\"),48,0))\"),\"\")","v":""}]
[null,null,null,{"$f":"IFERROR(__xludf.DUMMYFUNCTION(\"iferror(VLOOKUP(B126,IMPORTRANGE(\"\"https://docs.google.com/spreadsheets/d/1Kptv1Yhe55NnKrQfatjnFhSoEKdPJ_02VtssK9GkJPk/edit#gid=0\"\",\"\"RWA!F:BZ\"\"),44,0))\"),\"\")","v":""},{"$f":"IFERROR(__xludf.DUMMYFUNCTION(\"iferror(VLOOKUP(B126,IMPORTRANGE(\"\"https://docs.google.com/spreadsheets/d/1Kptv1Yhe55NnKrQfatjnFhSoEKdPJ_02VtssK9GkJPk/edit#gid=0\"\",\"\"RWA!F:BZ\"\"),48,0))\"),\"\")","v":""}]
[null,null,null,{"$f":"IFERROR(__xludf.DUMMYFUNCTION(\"iferror(VLOOKUP(B127,IMPORTRANGE(\"\"https://docs.google.com/spreadsheets/d/1Kptv1Yhe55NnKrQfatjnFhSoEKdPJ_02VtssK9GkJPk/edit#gid=0\"\",\"\"RWA!F:BZ\"\"),44,0))\"),\"\")","v":""},{"$f":"IFERROR(__xludf.DUMMYFUNCTION(\"iferror(VLOOKUP(B127,IMPORTRANGE(\"\"https://docs.google.com/spreadsheets/d/1Kptv1Yhe55NnKrQfatjnFhSoEKdPJ_02VtssK9GkJPk/edit#gid=0\"\",\"\"RWA!F:BZ\"\"),48,0))\"),\"\")","v":""}]
[null,null,null,{"$f":"IFERROR(__xludf.DUMMYFUNCTION(\"iferror(VLOOKUP(B128,IMPORTRANGE(\"\"https://docs.google.com/spreadsheets/d/1Kptv1Yhe55NnKrQfatjnFhSoEKdPJ_02VtssK9GkJPk/edit#gid=0\"\",\"\"RWA!F:BZ\"\"),44,0))\"),\"\")","v":""},{"$f":"IFERROR(__xludf.DUMMYFUNCTION(\"iferror(VLOOKUP(B128,IMPORTRANGE(\"\"https://docs.google.com/spreadsheets/d/1Kptv1Yhe55NnKrQfatjnFhSoEKdPJ_02VtssK9GkJPk/edit#gid=0\"\",\"\"RWA!F:BZ\"\"),48,0))\"),\"\")","v":""}]
[null,null,null,{"$f":"IFERROR(__xludf.DUMMYFUNCTION(\"iferror(VLOOKUP(B129,IMPORTRANGE(\"\"https://docs.google.com/spreadsheets/d/1Kptv1Yhe55NnKrQfatjnFhSoEKdPJ_02VtssK9GkJPk/edit#gid=0\"\",\"\"RWA!F:BZ\"\"),44,0))\"),\"\")","v":""},{"$f":"IFERROR(__xludf.DUMMYFUNCTION(\"iferror(VLOOKUP(B129,IMPORTRANGE(\"\"https://docs.google.com/spreadsheets/d/1Kptv1Yhe55NnKrQfatjnFhSoEKdPJ_02VtssK9GkJPk/edit#gid=0\"\",\"\"RWA!F:BZ\"\"),48,0))\"),\"\")","v":""}]
[null,null,null,{"$f":"IFERROR(__xludf.DUMMYFUNCTION(\"iferror(VLOOKUP(B130,IMPORTRANGE(\"\"https://docs.google.com/spreadsheets/d/1Kptv1Yhe55NnKrQfatjnFhSoEKdPJ_02VtssK9GkJPk/edit#gid=0\"\",\"\"RWA!F:BZ\"\"),44,0))\"),\"\")","v":""},{"$f":"IFERROR(__xludf.DUMMYFUNCTION(\"iferror(VLOOKUP(B130,IMPORTRANGE(\"\"https://docs.google.com/spreadsheets/d/1Kptv1Yhe55NnKrQfatjnFhSoEKdPJ_02VtssK9GkJPk/edit#gid=0\"\",\"\"RWA!F:BZ\"\"),48,0))\"),\"\")","v":""}]
[null,null,null,{"$f":"IFERROR(__xludf.DUMMYFUNCTION(\"iferror(VLOOKUP(B131,IMPORTRANGE(\"\"https://docs.google.com/spreadsheets/d/1Kptv1Yhe55NnKrQfatjnFhSoEKdPJ_02VtssK9GkJPk/edit#gid=0\"\",\"\"RWA!F:BZ\"\"),44,0))\"),\"\")","v":""},{"$f":"IFERROR(__xludf.DUMMYFUNCTION(\"iferror(VLOOKUP(B131,IMPORTRANGE(\"\"https://docs.google.com/spreadsheets/d/1Kptv1Yhe55NnKrQfatjnFhSoEKdPJ_02VtssK9GkJPk/edit#gid=0\"\",\"\"RWA!F:BZ\"\"),48,0))\"),\"\")","v":""}]
[null,null,null,{"$f":"IFERROR(__xludf.DUMMYFUNCTION(\"iferror(VLOOKUP(B132,IMPORTRANGE(\"\"https://docs.google.com/spreadsheets/d/1Kptv1Yhe55NnKrQfatjnFhSoEKdPJ_02VtssK9GkJPk/edit#gid=0\"\",\"\"RWA!F:BZ\"\"),44,0))\"),\"\")","v":""},{"$f":"IFERROR(__xludf.DUMMYFUNCTION(\"iferror(VLOOKUP(B132,IMPORTRANGE(\"\"https://docs.google.com/spreadsheets/d/1Kptv1Yhe55NnKrQfatjnFhSoEKdPJ_02VtssK9GkJPk/edit#gid=0\"\",\"\"RWA!F:BZ\"\"),48,0))\"),\"\")","v":""}]
[null,null,null,{"$f":"IFERROR(__xludf.DUMMYFUNCTION(\"iferror(VLOOKUP(B133,IMPORTRANGE(\"\"https://docs.google.com/spreadsheets/d/1Kptv1Yhe55NnKrQfatjnFhSoEKdPJ_02VtssK9GkJPk/edit#gid=0\"\",\"\"RWA!F:BZ\"\"),44,0))\"),\"\")","v":""},{"$f":"IFERROR(__xludf.DUMMYFUNCTION(\"iferror(VLOOKUP(B133,IMPORTRANGE(\"\"https://docs.google.com/spreadsheets/d/1Kptv1Yhe55NnKrQfatjnFhSoEKdPJ_02VtssK9GkJPk/edit#gid=0\"\",\"\"RWA!F:BZ\"\"),48,0))\"),\"\")","v":""}]
[null,null,null,{"$f":"IFERROR(__xludf.DUMMYFUNCTION(\"iferror(VLOOKUP(B134,IMPORTRANGE(\"\"https://docs.google.com/spreadsheets/d/1Kptv1Yhe55NnKrQfatjnFhSoEKdPJ_02VtssK9GkJPk/edit#gid=0\"\",\"\"RWA!F:BZ\"\"),44,0))\"),\"\")","v":""},{"$f":"IFERROR(__xludf.DUMMYFUNCTION(\"iferror(VLOOKUP(B134,IMPORTRANGE(\"\"https://docs.google.com/spreadsheets/d/1Kptv1Yhe55NnKrQfatjnFhSoEKdPJ_02VtssK9GkJPk/edit#gid=0\"\",\"\"RWA!F:BZ\"\"),48,0))\"),\"\")","v":""}]
[null,null,null,{"$f":"IFERROR(__xludf.DUMMYFUNCTION(\"iferror(VLOOKUP(B135,IMPORTRANGE(\"\"https://docs.google.com/spreadsheets/d/1Kptv1Yhe55NnKrQfatjnFhSoEKdPJ_02VtssK9GkJPk/edit#gid=0\"\",\"\"RWA!F:BZ\"\"),44,0))\"),\"\")","v":""},{"$f":"IFERROR(__xludf.DUMMYFUNCTION(\"iferror(VLOOKUP(B135,IMPORTRANGE(\"\"https://docs.google.com/spreadsheets/d/1Kptv1Yhe55NnKrQfatjnFhSoEKdPJ_02VtssK9GkJPk/edit#gid=0\"\",\"\"RWA!F:BZ\"\"),48,0))\"),\"\")","v":""}]
[null,null,null,{"$f":"IFERROR(__xludf.DUMMYFUNCTION(\"iferror(VLOOKUP(B136,IMPORTRANGE(\"\"https://docs.google.com/spreadsheets/d/1Kptv1Yhe55NnKrQfatjnFhSoEKdPJ_02VtssK9GkJPk/edit#gid=0\"\",\"\"RWA!F:BZ\"\"),44,0))\"),\"\")","v":""},{"$f":"IFERROR(__xludf.DUMMYFUNCTION(\"iferror(VLOOKUP(B136,IMPORTRANGE(\"\"https://docs.google.com/spreadsheets/d/1Kptv1Yhe55NnKrQfatjnFhSoEKdPJ_02VtssK9GkJPk/edit#gid=0\"\",\"\"RWA!F:BZ\"\"),48,0))\"),\"\")","v":""}]
[null,null,null,{"$f":"IFERROR(__xludf.DUMMYFUNCTION(\"iferror(VLOOKUP(B137,IMPORTRANGE(\"\"https://docs.google.com/spreadsheets/d/1Kptv1Yhe55NnKrQfatjnFhSoEKdPJ_02VtssK9GkJPk/edit#gid=0\"\",\"\"RWA!F:BZ\"\"),44,0))\"),\"\")","v":""},{"$f":"IFERROR(__xludf.DUMMYFUNCTION(\"iferror(VLOOKUP(B137,IMPORTRANGE(\"\"https://docs.google.com/spreadsheets/d/1Kptv1Yhe55NnKrQfatjnFhSoEKdPJ_02VtssK9GkJPk/edit#gid=0\"\",\"\"RWA!F:BZ\"\"),48,0))\"),\"\")","v":""}]
[null,null,null,{"$f":"IFERROR(__xludf.DUMMYFUNCTION(\"iferror(VLOOKUP(B138,IMPORTRANGE(\"\"https://docs.google.com/spreadsheets/d/1Kptv1Yhe55NnKrQfatjnFhSoEKdPJ_02VtssK9GkJPk/edit#gid=0\"\",\"\"RWA!F:BZ\"\"),44,0))\"),\"\")","v":""},{"$f":"IFERROR(__xludf.DUMMYFUNCTION(\"iferror(VLOOKUP(B138,IMPORTRANGE(\"\"https://docs.google.com/spreadsheets/d/1Kptv1Yhe55NnKrQfatjnFhSoEKdPJ_02VtssK9GkJPk/edit#gid=0\"\",\"\"RWA!F:BZ\"\"),48,0))\"),\"\")","v":""}]
[null,null,null,{"$f":"IFERROR(__xludf.DUMMYFUNCTION(\"iferror(VLOOKUP(B139,IMPORTRANGE(\"\"https://docs.google.com/spreadsheets/d/1Kptv1Yhe55NnKrQfatjnFhSoEKdPJ_02VtssK9GkJPk/edit#gid=0\"\",\"\"RWA!F:BZ\"\"),44,0))\"),\"\")","v":""},{"$f":"IFERROR(__xludf.DUMMYFUNCTION(\"iferror(VLOOKUP(B139,IMPORTRANGE(\"\"https://docs.google.com/spreadsheets/d/1Kptv1Yhe55NnKrQfatjnFhSoEKdPJ_02VtssK9GkJPk/edit#gid=0\"\",\"\"RWA!F:BZ\"\"),48,0))\"),\"\")","v":""}]
[null,null,null,{"$f":"IFERROR(__xludf.DUMMYFUNCTION(\"iferror(VLOOKUP(B140,IMPORTRANGE(\"\"https://docs.google.com/spreadsheets/d/1Kptv1Yhe55NnKrQfatjnFhSoEKdPJ_02VtssK9GkJPk/edit#gid=0\"\",\"\"RWA!F:BZ\"\"),44,0))\"),\"\")","v":""},{"$f":"IFERROR(__xludf.DUMMYFUNCTION(\"iferror(VLOOKUP(B140,IMPORTRANGE(\"\"https://docs.google.com/spreadsheets/d/1Kptv1Yhe55NnKrQfatjnFhSoEKdPJ_02VtssK9GkJPk/edit#gid=0\"\",\"\"RWA!F:BZ\"\"),48,0))\"),\"\")","v":""}]
[null,null,null,{"$f":"IFERROR(__xludf.DUMMYFUNCTION(\"iferror(VLOOKUP(B141,IMPORTRANGE(\"\"https://docs.google.com/spreadsheets/d/1Kptv1Yhe55NnKrQfatjnFhSoEKdPJ_02VtssK9GkJPk/edit#gid=0\"\",\"\"RWA!F:BZ\"\"),44,0))\"),\"\")","v":""},{"$f":"IFERROR(__xludf.DUMMYFUNCTION(\"iferror(VLOOKUP(B141,IMPORTRANGE(\"\"https://docs.google.com/spreadsheets/d/1Kptv1Yhe55NnKrQfatjnFhSoEKdPJ_02VtssK9GkJPk/edit#gid=0\"\",\"\"RWA!F:BZ\"\"),48,0))\"),\"\")","v":""}]
[null,null,null,{"$f":"IFERROR(__xludf.DUMMYFUNCTION(\"iferror(VLOOKUP(B142,IMPORTRANGE(\"\"https://docs.google.com/spreadsheets/d/1Kptv1Yhe55NnKrQfatjnFhSoEKdPJ_02VtssK9GkJPk/edit#gid=0\"\",\"\"RWA!F:BZ\"\"),44,0))\"),\"\")","v":""},{"$f":"IFERROR(__xludf.DUMMYFUNCTION(\"iferror(VLOOKUP(B142,IMPORTRANGE(\"\"https://docs.google.com/spreadsheets/d/1Kptv1Yhe55NnKrQfatjnFhSoEKdPJ_02VtssK9GkJPk/edit#gid=0\"\",\"\"RWA!F:BZ\"\"),48,0))\"),\"\")","v":""}]
[null,null,null,{"$f":"IFERROR(__xludf.DUMMYFUNCTION(\"iferror(VLOOKUP(B143,IMPORTRANGE(\"\"https://docs.google.com/spreadsheets/d/1Kptv1Yhe55NnKrQfatjnFhSoEKdPJ_02VtssK9GkJPk/edit#gid=0\"\",\"\"RWA!F:BZ\"\"),44,0))\"),\"\")","v":""},{"$f":"IFERROR(__xludf.DUMMYFUNCTION(\"iferror(VLOOKUP(B143,IMPORTRANGE(\"\"https://docs.google.com/spreadsheets/d/1Kptv1Yhe55NnKrQfatjnFhSoEKdPJ_02VtssK9GkJPk/edit#gid=0\"\",\"\"RWA!F:BZ\"\"),48,0))\"),\"\")","v":""}]
[null,null,null,{"$f":"IFERROR(__xludf.DUMMYFUNCTION(\"iferror(VLOOKUP(B144,IMPORTRANGE(\"\"https://docs.google.com/spreadsheets/d/1Kptv1Yhe55NnKrQfatjnFhSoEKdPJ_02VtssK9GkJPk/edit#gid=0\"\",\"\"RWA!F:BZ\"\"),44,0))\"),\"\")","v":""},{"$f":"IFERROR(__xludf.DUMMYFUNCTION(\"iferror(VLOOKUP(B144,IMPORTRANGE(\"\"https://docs.google.com/spreadsheets/d/1Kptv1Yhe55NnKrQfatjnFhSoEKdPJ_02VtssK9GkJPk/edit#gid=0\"\",\"\"RWA!F:BZ\"\"),48,0))\"),\"\")","v":""}]
[null,null,null,{"$f":"IFERROR(__xludf.DUMMYFUNCTION(\"iferror(VLOOKUP(B145,IMPORTRANGE(\"\"https://docs.google.com/spreadsheets/d/1Kptv1Yhe55NnKrQfatjnFhSoEKdPJ_02VtssK9GkJPk/edit#gid=0\"\",\"\"RWA!F:BZ\"\"),44,0))\"),\"\")","v":""},{"$f":"IFERROR(__xludf.DUMMYFUNCTION(\"iferror(VLOOKUP(B145,IMPORTRANGE(\"\"https://docs.google.com/spreadsheets/d/1Kptv1Yhe55NnKrQfatjnFhSoEKdPJ_02VtssK9GkJPk/edit#gid=0\"\",\"\"RWA!F:BZ\"\"),48,0))\"),\"\")","v":""}]
[null,null,null,{"$f":"IFERROR(__xludf.DUMMYFUNCTION(\"iferror(VLOOKUP(B146,IMPORTRANGE(\"\"https://docs.google.com/spreadsheets/d/1Kptv1Yhe55NnKrQfatjnFhSoEKdPJ_02VtssK9GkJPk/edit#gid=0\"\",\"\"RWA!F:BZ\"\"),44,0))\"),\"\")","v":""},{"$f":"IFERROR(__xludf.DUMMYFUNCTION(\"iferror(VLOOKUP(B146,IMPORTRANGE(\"\"https://docs.google.com/spreadsheets/d/1Kptv1Yhe55NnKrQfatjnFhSoEKdPJ_02VtssK9GkJPk/edit#gid=0\"\",\"\"RWA!F:BZ\"\"),48,0))\"),\"\")","v":""}]
[null,null,null,{"$f":"IFERROR(__xludf.DUMMYFUNCTION(\"iferror(VLOOKUP(B147,IMPORTRANGE(\"\"https://docs.google.com/spreadsheets/d/1Kptv1Yhe55NnKrQfatjnFhSoEKdPJ_02VtssK9GkJPk/edit#gid=0\"\",\"\"RWA!F:BZ\"\"),44,0))\"),\"\")","v":""},{"$f":"IFERROR(__xludf.DUMMYFUNCTION(\"iferror(VLOOKUP(B147,IMPORTRANGE(\"\"https://docs.google.com/spreadsheets/d/1Kptv1Yhe55NnKrQfatjnFhSoEKdPJ_02VtssK9GkJPk/edit#gid=0\"\",\"\"RWA!F:BZ\"\"),48,0))\"),\"\")","v":""}]
[null,null,null,{"$f":"IFERROR(__xludf.DUMMYFUNCTION(\"iferror(VLOOKUP(B148,IMPORTRANGE(\"\"https://docs.google.com/spreadsheets/d/1Kptv1Yhe55NnKrQfatjnFhSoEKdPJ_02VtssK9GkJPk/edit#gid=0\"\",\"\"RWA!F:BZ\"\"),44,0))\"),\"\")","v":""},{"$f":"IFERROR(__xludf.DUMMYFUNCTION(\"iferror(VLOOKUP(B148,IMPORTRANGE(\"\"https://docs.google.com/spreadsheets/d/1Kptv1Yhe55NnKrQfatjnFhSoEKdPJ_02VtssK9GkJPk/edit#gid=0\"\",\"\"RWA!F:BZ\"\"),48,0))\"),\"\")","v":""}]
[null,null,null,{"$f":"IFERROR(__xludf.DUMMYFUNCTION(\"iferror(VLOOKUP(B149,IMPORTRANGE(\"\"https://docs.google.com/spreadsheets/d/1Kptv1Yhe55NnKrQfatjnFhSoEKdPJ_02VtssK9GkJPk/edit#gid=0\"\",\"\"RWA!F:BZ\"\"),44,0))\"),\"\")","v":""},{"$f":"IFERROR(__xludf.DUMMYFUNCTION(\"iferror(VLOOKUP(B149,IMPORTRANGE(\"\"https://docs.google.com/spreadsheets/d/1Kptv1Yhe55NnKrQfatjnFhSoEKdPJ_02VtssK9GkJPk/edit#gid=0\"\",\"\"RWA!F:BZ\"\"),48,0))\"),\"\")","v":""}]
[null,null,null,{"$f":"IFERROR(__xludf.DUMMYFUNCTION(\"iferror(VLOOKUP(B150,IMPORTRANGE(\"\"https://docs.google.com/spreadsheets/d/1Kptv1Yhe55NnKrQfatjnFhSoEKdPJ_02VtssK9GkJPk/edit#gid=0\"\",\"\"RWA!F:BZ\"\"),44,0))\"),\"\")","v":""},{"$f":"IFERROR(__xludf.DUMMYFUNCTION(\"iferror(VLOOKUP(B150,IMPORTRANGE(\"\"https://docs.google.com/spreadsheets/d/1Kptv1Yhe55NnKrQfatjnFhSoEKdPJ_02VtssK9GkJPk/edit#gid=0\"\",\"\"RWA!F:BZ\"\"),48,0))\"),\"\")","v":""}]
[null,null,null,{"$f":"IFERROR(__xludf.DUMMYFUNCTION(\"iferror(VLOOKUP(B151,IMPORTRANGE(\"\"https://docs.google.com/spreadsheets/d/1Kptv1Yhe55NnKrQfatjnFhSoEKdPJ_02VtssK9GkJPk/edit#gid=0\"\",\"\"RWA!F:BZ\"\"),44,0))\"),\"\")","v":""},{"$f":"IFERROR(__xludf.DUMMYFUNCTION(\"iferror(VLOOKUP(B151,IMPORTRANGE(\"\"https://docs.google.com/spreadsheets/d/1Kptv1Yhe55NnKrQfatjnFhSoEKdPJ_02VtssK9GkJPk/edit#gid=0\"\",\"\"RWA!F:BZ\"\"),48,0))\"),\"\")","v":""}]
[null,null,null,{"$f":"IFERROR(__xludf.DUMMYFUNCTION(\"iferror(VLOOKUP(B152,IMPORTRANGE(\"\"https://docs.google.com/spreadsheets/d/1Kptv1Yhe55NnKrQfatjnFhSoEKdPJ_02VtssK9GkJPk/edit#gid=0\"\",\"\"RWA!F:BZ\"\"),44,0))\"),\"\")","v":""},{"$f":"IFERROR(__xludf.DUMMYFUNCTION(\"iferror(VLOOKUP(B152,IMPORTRANGE(\"\"https://docs.google.com/spreadsheets/d/1Kptv1Yhe55NnKrQfatjnFhSoEKdPJ_02VtssK9GkJPk/edit#gid=0\"\",\"\"RWA!F:BZ\"\"),48,0))\"),\"\")","v":""}]
[null,null,null,{"$f":"IFERROR(__xludf.DUMMYFUNCTION(\"iferror(VLOOKUP(B153,IMPORTRANGE(\"\"https://docs.google.com/spreadsheets/d/1Kptv1Yhe55NnKrQfatjnFhSoEKdPJ_02VtssK9GkJPk/edit#gid=0\"\",\"\"RWA!F:BZ\"\"),44,0))\"),\"\")","v":""},{"$f":"IFERROR(__xludf.DUMMYFUNCTION(\"iferror(VLOOKUP(B153,IMPORTRANGE(\"\"https://docs.google.com/spreadsheets/d/1Kptv1Yhe55NnKrQfatjnFhSoEKdPJ_02VtssK9GkJPk/edit#gid=0\"\",\"\"RWA!F:BZ\"\"),48,0))\"),\"\")","v":""}]
[null,null,null,{"$f":"IFERROR(__xludf.DUMMYFUNCTION(\"iferror(VLOOKUP(B154,IMPORTRANGE(\"\"https://docs.google.com/spreadsheets/d/1Kptv1Yhe55NnKrQfatjnFhSoEKdPJ_02VtssK9GkJPk/edit#gid=0\"\",\"\"RWA!F:BZ\"\"),44,0))\"),\"\")","v":""},{"$f":"IFERROR(__xludf.DUMMYFUNCTION(\"iferror(VLOOKUP(B154,IMPORTRANGE(\"\"https://docs.google.com/spreadsheets/d/1Kptv1Yhe55NnKrQfatjnFhSoEKdPJ_02VtssK9GkJPk/edit#gid=0\"\",\"\"RWA!F:BZ\"\"),48,0))\"),\"\")","v":""}]
[null,null,null,{"$f":"IFERROR(__xludf.DUMMYFUNCTION(\"iferror(VLOOKUP(B155,IMPORTRANGE(\"\"https://docs.google.com/spreadsheets/d/1Kptv1Yhe55NnKrQfatjnFhSoEKdPJ_02VtssK9GkJPk/edit#gid=0\"\",\"\"RWA!F:BZ\"\"),44,0))\"),\"\")","v":""},{"$f":"IFERROR(__xludf.DUMMYFUNCTION(\"iferror(VLOOKUP(B155,IMPORTRANGE(\"\"https://docs.google.com/spreadsheets/d/1Kptv1Yhe55NnKrQfatjnFhSoEKdPJ_02VtssK9GkJPk/edit#gid=0\"\",\"\"RWA!F:BZ\"\"),48,0))\"),\"\")","v":""}]
[null,null,null,{"$f":"IFERROR(__xludf.DUMMYFUNCTION(\"iferror(VLOOKUP(B156,IMPORTRANGE(\"\"https://docs.google.com/spreadsheets/d/1Kptv1Yhe55NnKrQfatjnFhSoEKdPJ_02VtssK9GkJPk/edit#gid=0\"\",\"\"RWA!F:BZ\"\"),44,0))\"),\"\")","v":""},{"$f":"IFERROR(__xludf.DUMMYFUNCTION(\"iferror(VLOOKUP(B156,IMPORTRANGE(\"\"https://docs.google.com/spreadsheets/d/1Kptv1Yhe55NnKrQfatjnFhSoEKdPJ_02VtssK9GkJPk/edit#gid=0\"\",\"\"RWA!F:BZ\"\"),48,0))\"),\"\")","v":""}]
[null,null,null,{"$f":"IFERROR(__xludf.DUMMYFUNCTION(\"iferror(VLOOKUP(B157,IMPORTRANGE(\"\"https://docs.google.com/spreadsheets/d/1Kptv1Yhe55NnKrQfatjnFhSoEKdPJ_02VtssK9GkJPk/edit#gid=0\"\",\"\"RWA!F:BZ\"\"),44,0))\"),\"\")","v":""},{"$f":"IFERROR(__xludf.DUMMYFUNCTION(\"iferror(VLOOKUP(B157,IMPORTRANGE(\"\"https://docs.google.com/spreadsheets/d/1Kptv1Yhe55NnKrQfatjnFhSoEKdPJ_02VtssK9GkJPk/edit#gid=0\"\",\"\"RWA!F:BZ\"\"),48,0))\"),\"\")","v":""}]
[null,null,null,{"$f":"IFERROR(__xludf.DUMMYFUNCTION(\"iferror(VLOOKUP(B158,IMPORTRANGE(\"\"https://docs.google.com/spreadsheets/d/1Kptv1Yhe55NnKrQfatjnFhSoEKdPJ_02VtssK9GkJPk/edit#gid=0\"\",\"\"RWA!F:BZ\"\"),44,0))\"),\"\")","v":""},{"$f":"IFERROR(__xludf.DUMMYFUNCTION(\"iferror(VLOOKUP(B158,IMPORTRANGE(\"\"https://docs.google.com/spreadsheets/d/1Kptv1Yhe55NnKrQfatjnFhSoEKdPJ_02VtssK9GkJPk/edit#gid=0\"\",\"\"RWA!F:BZ\"\"),48,0))\"),\"\")","v":""}]
[null,null,null,{"$f":"IFERROR(__xludf.DUMMYFUNCTION(\"iferror(VLOOKUP(B159,IMPORTRANGE(\"\"https://docs.google.com/spreadsheets/d/1Kptv1Yhe55NnKrQfatjnFhSoEKdPJ_02VtssK9GkJPk/edit#gid=0\"\",\"\"RWA!F:BZ\"\"),44,0))\"),\"\")","v":""},{"$f":"IFERROR(__xludf.DUMMYFUNCTION(\"iferror(VLOOKUP(B159,IMPORTRANGE(\"\"https://docs.google.com/spreadsheets/d/1Kptv1Yhe55NnKrQfatjnFhSoEKdPJ_02VtssK9GkJPk/edit#gid=0\"\",\"\"RWA!F:BZ\"\"),48,0))\"),\"\")","v":""}]
[null,null,null,{"$f":"IFERROR(__xludf.DUMMYFUNCTION(\"iferror(VLOOKUP(B160,IMPORTRANGE(\"\"https://docs.google.com/spreadsheets/d/1Kptv1Yhe55NnKrQfatjnFhSoEKdPJ_02VtssK9GkJPk/edit#gid=0\"\",\"\"RWA!F:BZ\"\"),44,0))\"),\"\")","v":""},{"$f":"IFERROR(__xludf.DUMMYFUNCTION(\"iferror(VLOOKUP(B160,IMPORTRANGE(\"\"https://docs.google.com/spreadsheets/d/1Kptv1Yhe55NnKrQfatjnFhSoEKdPJ_02VtssK9GkJPk/edit#gid=0\"\",\"\"RWA!F:BZ\"\"),48,0))\"),\"\")","v":""}]
[null,null,null,{"$f":"IFERROR(__xludf.DUMMYFUNCTION(\"iferror(VLOOKUP(B161,IMPORTRANGE(\"\"https://docs.google.com/spreadsheets/d/1Kptv1Yhe55NnKrQfatjnFhSoEKdPJ_02VtssK9GkJPk/edit#gid=0\"\",\"\"RWA!F:BZ\"\"),44,0))\"),\"\")","v":""},{"$f":"IFERROR(__xludf.DUMMYFUNCTION(\"iferror(VLOOKUP(B161,IMPORTRANGE(\"\"https://docs.google.com/spreadsheets/d/1Kptv1Yhe55NnKrQfatjnFhSoEKdPJ_02VtssK9GkJPk/edit#gid=0\"\",\"\"RWA!F:BZ\"\"),48,0))\"),\"\")","v":""}]
[null,null,null,{"$f":"IFERROR(__xludf.DUMMYFUNCTION(\"iferror(VLOOKUP(B162,IMPORTRANGE(\"\"https://docs.google.com/spreadsheets/d/1Kptv1Yhe55NnKrQfatjnFhSoEKdPJ_02VtssK9GkJPk/edit#gid=0\"\",\"\"RWA!F:BZ\"\"),44,0))\"),\"\")","v":""},{"$f":"IFERROR(__xludf.DUMMYFUNCTION(\"iferror(VLOOKUP(B162,IMPORTRANGE(\"\"https://docs.google.com/spreadsheets/d/1Kptv1Yhe55NnKrQfatjnFhSoEKdPJ_02VtssK9GkJPk/edit#gid=0\"\",\"\"RWA!F:BZ\"\"),48,0))\"),\"\")","v":""}]
[null,null,null,{"$f":"IFERROR(__xludf.DUMMYFUNCTION(\"iferror(VLOOKUP(B163,IMPORTRANGE(\"\"https://docs.google.com/spreadsheets/d/1Kptv1Yhe55NnKrQfatjnFhSoEKdPJ_02VtssK9GkJPk/edit#gid=0\"\",\"\"RWA!F:BZ\"\"),44,0))\"),\"\")","v":""},{"$f":"IFERROR(__xludf.DUMMYFUNCTION(\"iferror(VLOOKUP(B163,IMPORTRANGE(\"\"https://docs.google.com/spreadsheets/d/1Kptv1Yhe55NnKrQfatjnFhSoEKdPJ_02VtssK9GkJPk/edit#gid=0\"\",\"\"RWA!F:BZ\"\"),48,0))\"),\"\")","v":""}]
[null,null,null,{"$f":"IFERROR(__xludf.DUMMYFUNCTION(\"iferror(VLOOKUP(B164,IMPORTRANGE(\"\"https://docs.google.com/spreadsheets/d/1Kptv1Yhe55NnKrQfatjnFhSoEKdPJ_02VtssK9GkJPk/edit#gid=0\"\",\"\"RWA!F:BZ\"\"),44,0))\"),\"\")","v":""},{"$f":"IFERROR(__xludf.DUMMYFUNCTION(\"iferror(VLOOKUP(B164,IMPORTRANGE(\"\"https://docs.google.com/spreadsheets/d/1Kptv1Yhe55NnKrQfatjnFhSoEKdPJ_02VtssK9GkJPk/edit#gid=0\"\",\"\"RWA!F:BZ\"\"),48,0))\"),\"\")","v":""}]
[null,null,null,{"$f":"IFERROR(__xludf.DUMMYFUNCTION(\"iferror(VLOOKUP(B165,IMPORTRANGE(\"\"https://docs.google.com/spreadsheets/d/1Kptv1Yhe55NnKrQfatjnFhSoEKdPJ_02VtssK9GkJPk/edit#gid=0\"\",\"\"RWA!F:BZ\"\"),44,0))\"),\"\")","v":""},{"$f":"IFERROR(__xludf.DUMMYFUNCTION(\"iferror(VLOOKUP(B165,IMPORTRANGE(\"\"https://docs.google.com/spreadsheets/d/1Kptv1Yhe55NnKrQfatjnFhSoEKdPJ_02VtssK9GkJPk/edit#gid=0\"\",\"\"RWA!F:BZ\"\"),48,0))\"),\"\")","v":""}]
[null,null,null,{"$f":"IFERROR(__xludf.DUMMYFUNCTION(\"iferror(VLOOKUP(B166,IMPORTRANGE(\"\"https://docs.google.com/spreadsheets/d/1Kptv1Yhe55NnKrQfatjnFhSoEKdPJ_02VtssK9GkJPk/edit#gid=0\"\",\"\"RWA!F:BZ\"\"),44,0))\"),\"\")","v":""},{"$f":"IFERROR(__xludf.DUMMYFUNCTION(\"iferror(VLOOKUP(B166,IMPORTRANGE(\"\"https://docs.google.com/spreadsheets/d/1Kptv1Yhe55NnKrQfatjnFhSoEKdPJ_02VtssK9GkJPk/edit#gid=0\"\",\"\"RWA!F:BZ\"\"),48,0))\"),\"\")","v":""}]
[null,null,null,{"$f":"IFERROR(__xludf.DUMMYFUNCTION(\"iferror(VLOOKUP(B167,IMPORTRANGE(\"\"https://docs.google.com/spreadsheets/d/1Kptv1Yhe55NnKrQfatjnFhSoEKdPJ_02VtssK9GkJPk/edit#gid=0\"\",\"\"RWA!F:BZ\"\"),44,0))\"),\"\")","v":""},{"$f":"IFERROR(__xludf.DUMMYFUNCTION(\"iferror(VLOOKUP(B167,IMPORTRANGE(\"\"https://docs.google.com/spreadsheets/d/1Kptv1Yhe55NnKrQfatjnFhSoEKdPJ_02VtssK9GkJPk/edit#gid=0\"\",\"\"RWA!F:BZ\"\"),48,0))\"),\"\")","v":""}]
[null,null,null,{"$f":"IFERROR(__xludf.DUMMYFUNCTION(\"iferror(VLOOKUP(B168,IMPORTRANGE(\"\"https://docs.google.com/spreadsheets/d/1Kptv1Yhe55NnKrQfatjnFhSoEKdPJ_02VtssK9GkJPk/edit#gid=0\"\",\"\"RWA!F:BZ\"\"),44,0))\"),\"\")","v":""},{"$f":"IFERROR(__xludf.DUMMYFUNCTION(\"iferror(VLOOKUP(B168,IMPORTRANGE(\"\"https://docs.google.com/spreadsheets/d/1Kptv1Yhe55NnKrQfatjnFhSoEKdPJ_02VtssK9GkJPk/edit#gid=0\"\",\"\"RWA!F:BZ\"\"),48,0))\"),\"\")","v":""}]
[null,null,null,{"$f":"IFERROR(__xludf.DUMMYFUNCTION(\"iferror(VLOOKUP(B169,IMPORTRANGE(\"\"https://docs.google.com/spreadsheets/d/1Kptv1Yhe55NnKrQfatjnFhSoEKdPJ_02VtssK9GkJPk/edit#gid=0\"\",\"\"RWA!F:BZ\"\"),44,0))\"),\"\")","v":""},{"$f":"IFERROR(__xludf.DUMMYFUNCTION(\"iferror(VLOOKUP(B169,IMPORTRANGE(\"\"https://docs.google.com/spreadsheets/d/1Kptv1Yhe55NnKrQfatjnFhSoEKdPJ_02VtssK9GkJPk/edit#gid=0\"\",\"\"RWA!F:BZ\"\"),48,0))\"),\"\")","v":""}]
[null,null,null,{"$f":"IFERROR(__xludf.DUMMYFUNCTION(\"iferror(VLOOKUP(B170,IMPORTRANGE(\"\"https://docs.google.com/spreadsheets/d/1Kptv1Yhe55NnKrQfatjnFhSoEKdPJ_02VtssK9GkJPk/edit#gid=0\"\",\"\"RWA!F:BZ\"\"),44,0))\"),\"\")","v":""},{"$f":"IFERROR(__xludf.DUMMYFUNCTION(\"iferror(VLOOKUP(B170,IMPORTRANGE(\"\"https://docs.google.com/spreadsheets/d/1Kptv1Yhe55NnKrQfatjnFhSoEKdPJ_02VtssK9GkJPk/edit#gid=0\"\",\"\"RWA!F:BZ\"\"),48,0))\"),\"\")","v":""}]
[null,null,null,{"$f":"IFERROR(__xludf.DUMMYFUNCTION(\"iferror(VLOOKUP(B171,IMPORTRANGE(\"\"https://docs.google.com/spreadsheets/d/1Kptv1Yhe55NnKrQfatjnFhSoEKdPJ_02VtssK9GkJPk/edit#gid=0\"\",\"\"RWA!F:BZ\"\"),44,0))\"),\"\")","v":""},{"$f":"IFERROR(__xludf.DUMMYFUNCTION(\"iferror(VLOOKUP(B171,IMPORTRANGE(\"\"https://docs.google.com/spreadsheets/d/1Kptv1Yhe55NnKrQfatjnFhSoEKdPJ_02VtssK9GkJPk/edit#gid=0\"\",\"\"RWA!F:BZ\"\"),48,0))\"),\"\")","v":""}]
[null,null,null,{"$f":"IFERROR(__xludf.DUMMYFUNCTION(\"iferror(VLOOKUP(B172,IMPORTRANGE(\"\"https://docs.google.com/spreadsheets/d/1Kptv1Yhe55NnKrQfatjnFhSoEKdPJ_02VtssK9GkJPk/edit#gid=0\"\",\"\"RWA!F:BZ\"\"),44,0))\"),\"\")","v":""},{"$f":"IFERROR(__xludf.DUMMYFUNCTION(\"iferror(VLOOKUP(B172,IMPORTRANGE(\"\"https://docs.google.com/spreadsheets/d/1Kptv1Yhe55NnKrQfatjnFhSoEKdPJ_02VtssK9GkJPk/edit#gid=0\"\",\"\"RWA!F:BZ\"\"),48,0))\"),\"\")","v":""}]
[null,null,null,{"$f":"IFERROR(__xludf.DUMMYFUNCTION(\"iferror(VLOOKUP(B173,IMPORTRANGE(\"\"https://docs.google.com/spreadsheets/d/1Kptv1Yhe55NnKrQfatjnFhSoEKdPJ_02VtssK9GkJPk/edit#gid=0\"\",\"\"RWA!F:BZ\"\"),44,0))\"),\"\")","v":""},{"$f":"IFERROR(__xludf.DUMMYFUNCTION(\"iferror(VLOOKUP(B173,IMPORTRANGE(\"\"https://docs.google.com/spreadsheets/d/1Kptv1Yhe55NnKrQfatjnFhSoEKdPJ_02VtssK9GkJPk/edit#gid=0\"\",\"\"RWA!F:BZ\"\"),48,0))\"),\"\")","v":""}]
[null,null,null,{"$f":"IFERROR(__xludf.DUMMYFUNCTION(\"iferror(VLOOKUP(B174,IMPORTRANGE(\"\"https://docs.google.com/spreadsheets/d/1Kptv1Yhe55NnKrQfatjnFhSoEKdPJ_02VtssK9GkJPk/edit#gid=0\"\",\"\"RWA!F:BZ\"\"),44,0))\"),\"\")","v":""},{"$f":"IFERROR(__xludf.DUMMYFUNCTION(\"iferror(VLOOKUP(B174,IMPORTRANGE(\"\"https://docs.google.com/spreadsheets/d/1Kptv1Yhe55NnKrQfatjnFhSoEKdPJ_02VtssK9GkJPk/edit#gid=0\"\",\"\"RWA!F:BZ\"\"),48,0))\"),\"\")","v":""}]
[null,null,null,{"$f":"IFERROR(__xludf.DUMMYFUNCTION(\"iferror(VLOOKUP(B175,IMPORTRANGE(\"\"https://docs.google.com/spreadsheets/d/1Kptv1Yhe55NnKrQfatjnFhSoEKdPJ_02VtssK9GkJPk/edit#gid=0\"\",\"\"RWA!F:BZ\"\"),44,0))\"),\"\")","v":""},{"$f":"IFERROR(__xludf.DUMMYFUNCTION(\"iferror(VLOOKUP(B175,IMPORTRANGE(\"\"https://docs.google.com/spreadsheets/d/1Kptv1Yhe55NnKrQfatjnFhSoEKdPJ_02VtssK9GkJPk/edit#gid=0\"\",\"\"RWA!F:BZ\"\"),48,0))\"),\"\")","v":""}]
[null,null,null,{"$f":"IFERROR(__xludf.DUMMYFUNCTION(\"iferror(VLOOKUP(B176,IMPORTRANGE(\"\"https://docs.google.com/spreadsheets/d/1Kptv1Yhe55NnKrQfatjnFhSoEKdPJ_02VtssK9GkJPk/edit#gid=0\"\",\"\"RWA!F:BZ\"\"),44,0))\"),\"\")","v":""},{"$f":"IFERROR(__xludf.DUMMYFUNCTION(\"iferror(VLOOKUP(B176,IMPORTRANGE(\"\"https://docs.google.com/spreadsheets/d/1Kptv1Yhe55NnKrQfatjnFhSoEKdPJ_02VtssK9GkJPk/edit#gid=0\"\",\"\"RWA!F:BZ\"\"),48,0))\"),\"\")","v":""}]
[null,null,null,{"$f":"IFERROR(__xludf.DUMMYFUNCTION(\"iferror(VLOOKUP(B177,IMPORTRANGE(\"\"https://docs.google.com/spreadsheets/d/1Kptv1Yhe55NnKrQfatjnFhSoEKdPJ_02VtssK9GkJPk/edit#gid=0\"\",\"\"RWA!F:BZ\"\"),44,0))\"),\"\")","v":""},{"$f":"IFERROR(__xludf.DUMMYFUNCTION(\"iferror(VLOOKUP(B177,IMPORTRANGE(\"\"https://docs.google.com/spreadsheets/d/1Kptv1Yhe55NnKrQfatjnFhSoEKdPJ_02VtssK9GkJPk/edit#gid=0\"\",\"\"RWA!F:BZ\"\"),48,0))\"),\"\")","v":""}]
[null,null,null,{"$f":"IFERROR(__xludf.DUMMYFUNCTION(\"iferror(VLOOKUP(B178,IMPORTRANGE(\"\"https://docs.google.com/spreadsheets/d/1Kptv1Yhe55NnKrQfatjnFhSoEKdPJ_02VtssK9GkJPk/edit#gid=0\"\",\"\"RWA!F:BZ\"\"),44,0))\"),\"\")","v":""},{"$f":"IFERROR(__xludf.DUMMYFUNCTION(\"iferror(VLOOKUP(B178,IMPORTRANGE(\"\"https://docs.google.com/spreadsheets/d/1Kptv1Yhe55NnKrQfatjnFhSoEKdPJ_02VtssK9GkJPk/edit#gid=0\"\",\"\"RWA!F:BZ\"\"),48,0))\"),\"\")","v":""}]
[null,null,null,{"$f":"IFERROR(__xludf.DUMMYFUNCTION(\"iferror(VLOOKUP(B179,IMPORTRANGE(\"\"https://docs.google.com/spreadsheets/d/1Kptv1Yhe55NnKrQfatjnFhSoEKdPJ_02VtssK9GkJPk/edit#gid=0\"\",\"\"RWA!F:BZ\"\"),44,0))\"),\"\")","v":""},{"$f":"IFERROR(__xludf.DUMMYFUNCTION(\"iferror(VLOOKUP(B179,IMPORTRANGE(\"\"https://docs.google.com/spreadsheets/d/1Kptv1Yhe55NnKrQfatjnFhSoEKdPJ_02VtssK9GkJPk/edit#gid=0\"\",\"\"RWA!F:BZ\"\"),48,0))\"),\"\")","v":""}]
[null,null,null,{"$f":"IFERROR(__xludf.DUMMYFUNCTION(\"iferror(VLOOKUP(B180,IMPORTRANGE(\"\"https://docs.google.com/spreadsheets/d/1Kptv1Yhe55NnKrQfatjnFhSoEKdPJ_02VtssK9GkJPk/edit#gid=0\"\",\"\"RWA!F:BZ\"\"),44,0))\"),\"\")","v":""},{"$f":"IFERROR(__xludf.DUMMYFUNCTION(\"iferror(VLOOKUP(B180,IMPORTRANGE(\"\"https://docs.google.com/spreadsheets/d/1Kptv1Yhe55NnKrQfatjnFhSoEKdPJ_02VtssK9GkJPk/edit#gid=0\"\",\"\"RWA!F:BZ\"\"),48,0))\"),\"\")","v":""}]
[null,null,null,{"$f":"IFERROR(__xludf.DUMMYFUNCTION(\"iferror(VLOOKUP(B181,IMPORTRANGE(\"\"https://docs.google.com/spreadsheets/d/1Kptv1Yhe55NnKrQfatjnFhSoEKdPJ_02VtssK9GkJPk/edit#gid=0\"\",\"\"RWA!F:BZ\"\"),44,0))\"),\"\")","v":""},{"$f":"IFERROR(__xludf.DUMMYFUNCTION(\"iferror(VLOOKUP(B181,IMPORTRANGE(\"\"https://docs.google.com/spreadsheets/d/1Kptv1Yhe55NnKrQfatjnFhSoEKdPJ_02VtssK9GkJPk/edit#gid=0\"\",\"\"RWA!F:BZ\"\"),48,0))\"),\"\")","v":""}]
[null,null,null,{"$f":"IFERROR(__xludf.DUMMYFUNCTION(\"iferror(VLOOKUP(B182,IMPORTRANGE(\"\"https://docs.google.com/spreadsheets/d/1Kptv1Yhe55NnKrQfatjnFhSoEKdPJ_02VtssK9GkJPk/edit#gid=0\"\",\"\"RWA!F:BZ\"\"),44,0))\"),\"\")","v":""},{"$f":"IFERROR(__xludf.DUMMYFUNCTION(\"iferror(VLOOKUP(B182,IMPORTRANGE(\"\"https://docs.google.com/spreadsheets/d/1Kptv1Yhe55NnKrQfatjnFhSoEKdPJ_02VtssK9GkJPk/edit#gid=0\"\",\"\"RWA!F:BZ\"\"),48,0))\"),\"\")","v":""}]
[null,null,null,{"$f":"IFERROR(__xludf.DUMMYFUNCTION(\"iferror(VLOOKUP(B183,IMPORTRANGE(\"\"https://docs.google.com/spreadsheets/d/1Kptv1Yhe55NnKrQfatjnFhSoEKdPJ_02VtssK9GkJPk/edit#gid=0\"\",\"\"RWA!F:BZ\"\"),44,0))\"),\"\")","v":""},{"$f":"IFERROR(__xludf.DUMMYFUNCTION(\"iferror(VLOOKUP(B183,IMPORTRANGE(\"\"https://docs.google.com/spreadsheets/d/1Kptv1Yhe55NnKrQfatjnFhSoEKdPJ_02VtssK9GkJPk/edit#gid=0\"\",\"\"RWA!F:BZ\"\"),48,0))\"),\"\")","v":""}]
[null,null,null,{"$f":"IFERROR(__xludf.DUMMYFUNCTION(\"iferror(VLOOKUP(B184,IMPORTRANGE(\"\"https://docs.google.com/spreadsheets/d/1Kptv1Yhe55NnKrQfatjnFhSoEKdPJ_02VtssK9GkJPk/edit#gid=0\"\",\"\"RWA!F:BZ\"\"),44,0))\"),\"\")","v":""},{"$f":"IFERROR(__xludf.DUMMYFUNCTION(\"iferror(VLOOKUP(B184,IMPORTRANGE(\"\"https://docs.google.com/spreadsheets/d/1Kptv1Yhe55NnKrQfatjnFhSoEKdPJ_02VtssK9GkJPk/edit#gid=0\"\",\"\"RWA!F:BZ\"\"),48,0))\"),\"\")","v":""}]
[null,null,null,{"$f":"IFERROR(__xludf.DUMMYFUNCTION(\"iferror(VLOOKUP(B185,IMPORTRANGE(\"\"https://docs.google.com/spreadsheets/d/1Kptv1Yhe55NnKrQfatjnFhSoEKdPJ_02VtssK9GkJPk/edit#gid=0\"\",\"\"RWA!F:BZ\"\"),44,0))\"),\"\")","v":""},{"$f":"IFERROR(__xludf.DUMMYFUNCTION(\"iferror(VLOOKUP(B185,IMPORTRANGE(\"\"https://docs.google.com/spreadsheets/d/1Kptv1Yhe55NnKrQfatjnFhSoEKdPJ_02VtssK9GkJPk/edit#gid=0\"\",\"\"RWA!F:BZ\"\"),48,0))\"),\"\")","v":""}]
[null,null,null,{"$f":"IFERROR(__xludf.DUMMYFUNCTION(\"iferror(VLOOKUP(B186,IMPORTRANGE(\"\"https://docs.google.com/spreadsheets/d/1Kptv1Yhe55NnKrQfatjnFhSoEKdPJ_02VtssK9GkJPk/edit#gid=0\"\",\"\"RWA!F:BZ\"\"),44,0))\"),\"\")","v":""},{"$f":"IFERROR(__xludf.DUMMYFUNCTION(\"iferror(VLOOKUP(B186,IMPORTRANGE(\"\"https://docs.google.com/spreadsheets/d/1Kptv1Yhe55NnKrQfatjnFhSoEKdPJ_02VtssK9GkJPk/edit#gid=0\"\",\"\"RWA!F:BZ\"\"),48,0))\"),\"\")","v":""}]
[null,null,null,{"$f":"IFERROR(__xludf.DUMMYFUNCTION(\"iferror(VLOOKUP(B187,IMPORTRANGE(\"\"https://docs.google.com/spreadsheets/d/1Kptv1Yhe55NnKrQfatjnFhSoEKdPJ_02VtssK9GkJPk/edit#gid=0\"\",\"\"RWA!F:BZ\"\"),44,0))\"),\"\")","v":""},{"$f":"IFERROR(__xludf.DUMMYFUNCTION(\"iferror(VLOOKUP(B187,IMPORTRANGE(\"\"https://docs.google.com/spreadsheets/d/1Kptv1Yhe55NnKrQfatjnFhSoEKdPJ_02VtssK9GkJPk/edit#gid=0\"\",\"\"RWA!F:BZ\"\"),48,0))\"),\"\")","v":""}]
[null,null,null,{"$f":"IFERROR(__xludf.DUMMYFUNCTION(\"iferror(VLOOKUP(B188,IMPORTRANGE(\"\"https://docs.google.com/spreadsheets/d/1Kptv1Yhe55NnKrQfatjnFhSoEKdPJ_02VtssK9GkJPk/edit#gid=0\"\",\"\"RWA!F:BZ\"\"),44,0))\"),\"\")","v":""},{"$f":"IFERROR(__xludf.DUMMYFUNCTION(\"iferror(VLOOKUP(B188,IMPORTRANGE(\"\"https://docs.google.com/spreadsheets/d/1Kptv1Yhe55NnKrQfatjnFhSoEKdPJ_02VtssK9GkJPk/edit#gid=0\"\",\"\"RWA!F:BZ\"\"),48,0))\"),\"\")","v":""}]
[null,null,null,{"$f":"IFERROR(__xludf.DUMMYFUNCTION(\"iferror(VLOOKUP(B189,IMPORTRANGE(\"\"https://docs.google.com/spreadsheets/d/1Kptv1Yhe55NnKrQfatjnFhSoEKdPJ_02VtssK9GkJPk/edit#gid=0\"\",\"\"RWA!F:BZ\"\"),44,0))\"),\"\")","v":""},{"$f":"IFERROR(__xludf.DUMMYFUNCTION(\"iferror(VLOOKUP(B189,IMPORTRANGE(\"\"https://docs.google.com/spreadsheets/d/1Kptv1Yhe55NnKrQfatjnFhSoEKdPJ_02VtssK9GkJPk/edit#gid=0\"\",\"\"RWA!F:BZ\"\"),48,0))\"),\"\")","v":""}]
[null,null,null,{"$f":"IFERROR(__xludf.DUMMYFUNCTION(\"iferror(VLOOKUP(B190,IMPORTRANGE(\"\"https://docs.google.com/spreadsheets/d/1Kptv1Yhe55NnKrQfatjnFhSoEKdPJ_02VtssK9GkJPk/edit#gid=0\"\",\"\"RWA!F:BZ\"\"),44,0))\"),\"\")","v":""},{"$f":"IFERROR(__xludf.DUMMYFUNCTION(\"iferror(VLOOKUP(B190,IMPORTRANGE(\"\"https://docs.google.com/spreadsheets/d/1Kptv1Yhe55NnKrQfatjnFhSoEKdPJ_02VtssK9GkJPk/edit#gid=0\"\",\"\"RWA!F:BZ\"\"),48,0))\"),\"\")","v":""}]
[null,null,null,{"$f":"IFERROR(__xludf.DUMMYFUNCTION(\"iferror(VLOOKUP(B191,IMPORTRANGE(\"\"https://docs.google.com/spreadsheets/d/1Kptv1Yhe55NnKrQfatjnFhSoEKdPJ_02VtssK9GkJPk/edit#gid=0\"\",\"\"RWA!F:BZ\"\"),44,0))\"),\"\")","v":""},{"$f":"IFERROR(__xludf.DUMMYFUNCTION(\"iferror(VLOOKUP(B191,IMPORTRANGE(\"\"https://docs.google.com/spreadsheets/d/1Kptv1Yhe55NnKrQfatjnFhSoEKdPJ_02VtssK9GkJPk/edit#gid=0\"\",\"\"RWA!F:BZ\"\"),48,0))\"),\"\")","v":""}]
[null,null,null,{"$f":"IFERROR(__xludf.DUMMYFUNCTION(\"iferror(VLOOKUP(B192,IMPORTRANGE(\"\"https://docs.google.com/spreadsheets/d/1Kptv1Yhe55NnKrQfatjnFhSoEKdPJ_02VtssK9GkJPk/edit#gid=0\"\",\"\"RWA!F:BZ\"\"),44,0))\"),\"\")","v":""},{"$f":"IFERROR(__xludf.DUMMYFUNCTION(\"iferror(VLOOKUP(B192,IMPORTRANGE(\"\"https://docs.google.com/spreadsheets/d/1Kptv1Yhe55NnKrQfatjnFhSoEKdPJ_02VtssK9GkJPk/edit#gid=0\"\",\"\"RWA!F:BZ\"\"),48,0))\"),\"\")","v":""}]
[null,null,null,{"$f":"IFERROR(__xludf.DUMMYFUNCTION(\"iferror(VLOOKUP(B193,IMPORTRANGE(\"\"https://docs.google.com/spreadsheets/d/1Kptv1Yhe55NnKrQfatjnFhSoEKdPJ_02VtssK9GkJPk/edit#gid=0\"\",\"\"RWA!F:BZ\"\"),44,0))\"),\"\")","v":""},{"$f":"IFERROR(__xludf.DUMMYFUNCTION(\"iferror(VLOOKUP(B193,IMPORTRANGE(\"\"https://docs.google.com/spreadsheets/d/1Kptv1Yhe55NnKrQfatjnFhSoEKdPJ_02VtssK9GkJPk/edit#gid=0\"\",\"\"RWA!F:BZ\"\"),48,0))\"),\"\")","v":""}]
[null,null,null,{"$f":"IFERROR(__xludf.DUMMYFUNCTION(\"iferror(VLOOKUP(B194,IMPORTRANGE(\"\"https://docs.google.com/spreadsheets/d/1Kptv1Yhe55NnKrQfatjnFhSoEKdPJ_02VtssK9GkJPk/edit#gid=0\"\",\"\"RWA!F:BZ\"\"),44,0))\"),\"\")","v":""},{"$f":"IFERROR(__xludf.DUMMYFUNCTION(\"iferror(VLOOKUP(B194,IMPORTRANGE(\"\"https://docs.google.com/spreadsheets/d/1Kptv1Yhe55NnKrQfatjnFhSoEKdPJ_02VtssK9GkJPk/edit#gid=0\"\",\"\"RWA!F:BZ\"\"),48,0))\"),\"\")","v":""}]
[null,null,null,{"$f":"IFERROR(__xludf.DUMMYFUNCTION(\"iferror(VLOOKUP(B195,IMPORTRANGE(\"\"https://docs.google.com/spreadsheets/d/1Kptv1Yhe55NnKrQfatjnFhSoEKdPJ_02VtssK9GkJPk/edit#gid=0\"\",\"\"RWA!F:BZ\"\"),44,0))\"),\"\")","v":""},{"$f":"IFERROR(__xludf.DUMMYFUNCTION(\"iferror(VLOOKUP(B195,IMPORTRANGE(\"\"https://docs.google.com/spreadsheets/d/1Kptv1Yhe55NnKrQfatjnFhSoEKdPJ_02VtssK9GkJPk/edit#gid=0\"\",\"\"RWA!F:BZ\"\"),48,0))\"),\"\")","v":""}]
[null,null,null,{"$f":"IFERROR(__xludf.DUMMYFUNCTION(\"iferror(VLOOKUP(B196,IMPORTRANGE(\"\"https://docs.google.com/spreadsheets/d/1Kptv1Yhe55NnKrQfatjnFhSoEKdPJ_02VtssK9GkJPk/edit#gid=0\"\",\"\"RWA!F:BZ\"\"),44,0))\"),\"\")","v":""},{"$f":"IFERROR(__xludf.DUMMYFUNCTION(\"iferror(VLOOKUP(B196,IMPORTRANGE(\"\"https://docs.google.com/spreadsheets/d/1Kptv1Yhe55NnKrQfatjnFhSoEKdPJ_02VtssK9GkJPk/edit#gid=0\"\",\"\"RWA!F:BZ\"\"),48,0))\"),\"\")","v":""}]
[null,null,null,{"$f":"IFERROR(__xludf.DUMMYFUNCTION(\"iferror(VLOOKUP(B197,IMPORTRANGE(\"\"https://docs.google.com/spreadsheets/d/1Kptv1Yhe55NnKrQfatjnFhSoEKdPJ_02VtssK9GkJPk/edit#gid=0\"\",\"\"RWA!F:BZ\"\"),44,0))\"),\"\")","v":""},{"$f":"IFERROR(__xludf.DUMMYFUNCTION(\"iferror(VLOOKUP(B197,IMPORTRANGE(\"\"https://docs.google.com/spreadsheets/d/1Kptv1Yhe55NnKrQfatjnFhSoEKdPJ_02VtssK9GkJPk/edit#gid=0\"\",\"\"RWA!F:BZ\"\"),48,0))\"),\"\")","v":""}]
[null,null,null,{"$f":"IFERROR(__xludf.DUMMYFUNCTION(\"iferror(VLOOKUP(B198,IMPORTRANGE(\"\"https://docs.google.com/spreadsheets/d/1Kptv1Yhe55NnKrQfatjnFhSoEKdPJ_02VtssK9GkJPk/edit#gid=0\"\",\"\"RWA!F:BZ\"\"),44,0))\"),\"\")","v":""},{"$f":"IFERROR(__xludf.DUMMYFUNCTION(\"iferror(VLOOKUP(B198,IMPORTRANGE(\"\"https://docs.google.com/spreadsheets/d/1Kptv1Yhe55NnKrQfatjnFhSoEKdPJ_02VtssK9GkJPk/edit#gid=0\"\",\"\"RWA!F:BZ\"\"),48,0))\"),\"\")","v":""}]
[null,null,null,{"$f":"IFERROR(__xludf.DUMMYFUNCTION(\"iferror(VLOOKUP(B199,IMPORTRANGE(\"\"https://docs.google.com/spreadsheets/d/1Kptv1Yhe55NnKrQfatjnFhSoEKdPJ_02VtssK9GkJPk/edit#gid=0\"\",\"\"RWA!F:BZ\"\"),44,0))\"),\"\")","v":""},{"$f":"IFERROR(__xludf.DUMMYFUNCTION(\"iferror(VLOOKUP(B199,IMPORTRANGE(\"\"https://docs.google.com/spreadsheets/d/1Kptv1Yhe55NnKrQfatjnFhSoEKdPJ_02VtssK9GkJPk/edit#gid=0\"\",\"\"RWA!F:BZ\"\"),48,0))\"),\"\")","v":""}]
[null,null,null,{"$f":"IFERROR(__xludf.DUMMYFUNCTION(\"iferror(VLOOKUP(B200,IMPORTRANGE(\"\"https://docs.google.com/spreadsheets/d/1Kptv1Yhe55NnKrQfatjnFhSoEKdPJ_02VtssK9GkJPk/edit#gid=0\"\",\"\"RWA!F:BZ\"\"),44,0))\"),\"\")","v":""},{"$f":"IFERROR(__xludf.DUMMYFUNCTION(\"iferror(VLOOKUP(B200,IMPORTRANGE(\"\"https://docs.google.com/spreadsheets/d/1Kptv1Yhe55NnKrQfatjnFhSoEKdPJ_02VtssK9GkJPk/edit#gid=0\"\",\"\"RWA!F:BZ\"\"),48,0))\"),\"\")","v":""}]
[null,null,null,{"$f":"IFERROR(__xludf.DUMMYFUNCTION(\"iferror(VLOOKUP(B201,IMPORTRANGE(\"\"https://docs.google.com/spreadsheets/d/1Kptv1Yhe55NnKrQfatjnFhSoEKdPJ_02VtssK9GkJPk/edit#gid=0\"\",\"\"RWA!F:BZ\"\"),44,0))\"),\"\")","v":""},{"$f":"IFERROR(__xludf.DUMMYFUNCTION(\"iferror(VLOOKUP(B201,IMPORTRANGE(\"\"https://docs.google.com/spreadsheets/d/1Kptv1Yhe55NnKrQfatjnFhSoEKdPJ_02VtssK9GkJPk/edit#gid=0\"\",\"\"RWA!F:BZ\"\"),48,0))\"),\"\")","v":""}]
[null,null,null,{"$f":"IFERROR(__xludf.DUMMYFUNCTION(\"iferror(VLOOKUP(B202,IMPORTRANGE(\"\"https://docs.google.com/spreadsheets/d/1Kptv1Yhe55NnKrQfatjnFhSoEKdPJ_02VtssK9GkJPk/edit#gid=0\"\",\"\"RWA!F:BZ\"\"),44,0))\"),\"\")","v":""},{"$f":"IFERROR(__xludf.DUMMYFUNCTION(\"iferror(VLOOKUP(B202,IMPORTRANGE(\"\"https://docs.google.com/spreadsheets/d/1Kptv1Yhe55NnKrQfatjnFhSoEKdPJ_02VtssK9GkJPk/edit#gid=0\"\",\"\"RWA!F:BZ\"\"),48,0))\"),\"\")","v":""}]
[null,null,null,{"$f":"IFERROR(__xludf.DUMMYFUNCTION(\"iferror(VLOOKUP(B203,IMPORTRANGE(\"\"https://docs.google.com/spreadsheets/d/1Kptv1Yhe55NnKrQfatjnFhSoEKdPJ_02VtssK9GkJPk/edit#gid=0\"\",\"\"RWA!F:BZ\"\"),44,0))\"),\"\")","v":""},{"$f":"IFERROR(__xludf.DUMMYFUNCTION(\"iferror(VLOOKUP(B203,IMPORTRANGE(\"\"https://docs.google.com/spreadsheets/d/1Kptv1Yhe55NnKrQfatjnFhSoEKdPJ_02VtssK9GkJPk/edit#gid=0\"\",\"\"RWA!F:BZ\"\"),48,0))\"),\"\")","v":""}]
[null,null,null,{"$f":"IFERROR(__xludf.DUMMYFUNCTION(\"iferror(VLOOKUP(B204,IMPORTRANGE(\"\"https://docs.google.com/spreadsheets/d/1Kptv1Yhe55NnKrQfatjnFhSoEKdPJ_02VtssK9GkJPk/edit#gid=0\"\",\"\"RWA!F:BZ\"\"),44,0))\"),\"\")","v":""},{"$f":"IFERROR(__xludf.DUMMYFUNCTION(\"iferror(VLOOKUP(B204,IMPORTRANGE(\"\"https://docs.google.com/spreadsheets/d/1Kptv1Yhe55NnKrQfatjnFhSoEKdPJ_02VtssK9GkJPk/edit#gid=0\"\",\"\"RWA!F:BZ\"\"),48,0))\"),\"\")","v":""}]
[null,null,null,{"$f":"IFERROR(__xludf.DUMMYFUNCTION(\"iferror(VLOOKUP(B205,IMPORTRANGE(\"\"https://docs.google.com/spreadsheets/d/1Kptv1Yhe55NnKrQfatjnFhSoEKdPJ_02VtssK9GkJPk/edit#gid=0\"\",\"\"RWA!F:BZ\"\"),44,0))\"),\"\")","v":""},{"$f":"IFERROR(__xludf.DUMMYFUNCTION(\"iferror(VLOOKUP(B205,IMPORTRANGE(\"\"https://docs.google.com/spreadsheets/d/1Kptv1Yhe55NnKrQfatjnFhSoEKdPJ_02VtssK9GkJPk/edit#gid=0\"\",\"\"RWA!F:BZ\"\"),48,0))\"),\"\")","v":""}]
[null,null,null,{"$f":"IFERROR(__xludf.DUMMYFUNCTION(\"iferror(VLOOKUP(B206,IMPORTRANGE(\"\"https://docs.google.com/spreadsheets/d/1Kptv1Yhe55NnKrQfatjnFhSoEKdPJ_02VtssK9GkJPk/edit#gid=0\"\",\"\"RWA!F:BZ\"\"),44,0))\"),\"\")","v":""},{"$f":"IFERROR(__xludf.DUMMYFUNCTION(\"iferror(VLOOKUP(B206,IMPORTRANGE(\"\"https://docs.google.com/spreadsheets/d/1Kptv1Yhe55NnKrQfatjnFhSoEKdPJ_02VtssK9GkJPk/edit#gid=0\"\",\"\"RWA!F:BZ\"\"),48,0))\"),\"\")","v":""}]
[null,null,null,{"$f":"IFERROR(__xludf.DUMMYFUNCTION(\"iferror(VLOOKUP(B207,IMPORTRANGE(\"\"https://docs.google.com/spreadsheets/d/1Kptv1Yhe55NnKrQfatjnFhSoEKdPJ_02VtssK9GkJPk/edit#gid=0\"\",\"\"RWA!F:BZ\"\"),44,0))\"),\"\")","v":""},{"$f":"IFERROR(__xludf.DUMMYFUNCTION(\"iferror(VLOOKUP(B207,IMPORTRANGE(\"\"https://docs.google.com/spreadsheets/d/1Kptv1Yhe55NnKrQfatjnFhSoEKdPJ_02VtssK9GkJPk/edit#gid=0\"\",\"\"RWA!F:BZ\"\"),48,0))\"),\"\")","v":""}]
[null,null,null,{"$f":"IFERROR(__xludf.DUMMYFUNCTION(\"iferror(VLOOKUP(B208,IMPORTRANGE(\"\"https://docs.google.com/spreadsheets/d/1Kptv1Yhe55NnKrQfatjnFhSoEKdPJ_02VtssK9GkJPk/edit#gid=0\"\",\"\"RWA!F:BZ\"\"),44,0))\"),\"\")","v":""},{"$f":"IFERROR(__xludf.DUMMYFUNCTION(\"iferror(VLOOKUP(B208,IMPORTRANGE(\"\"https://docs.google.com/spreadsheets/d/1Kptv1Yhe55NnKrQfatjnFhSoEKdPJ_02VtssK9GkJPk/edit#gid=0\"\",\"\"RWA!F:BZ\"\"),48,0))\"),\"\")","v":""}]
[null,null,null,{"$f":"IFERROR(__xludf.DUMMYFUNCTION(\"iferror(VLOOKUP(B209,IMPORTRANGE(\"\"https://docs.google.com/spreadsheets/d/1Kptv1Yhe55NnKrQfatjnFhSoEKdPJ_02VtssK9GkJPk/edit#gid=0\"\",\"\"RWA!F:BZ\"\"),44,0))\"),\"\")","v":""},{"$f":"IFERROR(__xludf.DUMMYFUNCTION(\"iferror(VLOOKUP(B209,IMPORTRANGE(\"\"https://docs.google.com/spreadsheets/d/1Kptv1Yhe55NnKrQfatjnFhSoEKdPJ_02VtssK9GkJPk/edit#gid=0\"\",\"\"RWA!F:BZ\"\"),48,0))\"),\"\")","v":""}]
[null,null,null,{"$f":"IFERROR(__xludf.DUMMYFUNCTION(\"iferror(VLOOKUP(B210,IMPORTRANGE(\"\"https://docs.google.com/spreadsheets/d/1Kptv1Yhe55NnKrQfatjnFhSoEKdPJ_02VtssK9GkJPk/edit#gid=0\"\",\"\"RWA!F:BZ\"\"),44,0))\"),\"\")","v":""},{"$f":"IFERROR(__xludf.DUMMYFUNCTION(\"iferror(VLOOKUP(B210,IMPORTRANGE(\"\"https://docs.google.com/spreadsheets/d/1Kptv1Yhe55NnKrQfatjnFhSoEKdPJ_02VtssK9GkJPk/edit#gid=0\"\",\"\"RWA!F:BZ\"\"),48,0))\"),\"\")","v":""}]
[null,null,null,{"$f":"IFERROR(__xludf.DUMMYFUNCTION(\"iferror(VLOOKUP(B211,IMPORTRANGE(\"\"https://docs.google.com/spreadsheets/d/1Kptv1Yhe55NnKrQfatjnFhSoEKdPJ_02VtssK9GkJPk/edit#gid=0\"\",\"\"RWA!F:BZ\"\"),44,0))\"),\"\")","v":""},{"$f":"IFERROR(__xludf.DUMMYFUNCTION(\"iferror(VLOOKUP(B211,IMPORTRANGE(\"\"https://docs.google.com/spreadsheets/d/1Kptv1Yhe55NnKrQfatjnFhSoEKdPJ_02VtssK9GkJPk/edit#gid=0\"\",\"\"RWA!F:BZ\"\"),48,0))\"),\"\")","v":""}]
[null,null,null,{"$f":"IFERROR(__xludf.DUMMYFUNCTION(\"iferror(VLOOKUP(B212,IMPORTRANGE(\"\"https://docs.google.com/spreadsheets/d/1Kptv1Yhe55NnKrQfatjnFhSoEKdPJ_02VtssK9GkJPk/edit#gid=0\"\",\"\"RWA!F:BZ\"\"),44,0))\"),\"\")","v":""},{"$f":"IFERROR(__xludf.DUMMYFUNCTION(\"iferror(VLOOKUP(B212,IMPORTRANGE(\"\"https://docs.google.com/spreadsheets/d/1Kptv1Yhe55NnKrQfatjnFhSoEKdPJ_02VtssK9GkJPk/edit#gid=0\"\",\"\"RWA!F:BZ\"\"),48,0))\"),\"\")","v":""}]
[null,null,null,{"$f":"IFERROR(__xludf.DUMMYFUNCTION(\"iferror(VLOOKUP(B213,IMPORTRANGE(\"\"https://docs.google.com/spreadsheets/d/1Kptv1Yhe55NnKrQfatjnFhSoEKdPJ_02VtssK9GkJPk/edit#gid=0\"\",\"\"RWA!F:BZ\"\"),44,0))\"),\"\")","v":""},{"$f":"IFERROR(__xludf.DUMMYFUNCTION(\"iferror(VLOOKUP(B213,IMPORTRANGE(\"\"https://docs.google.com/spreadsheets/d/1Kptv1Yhe55NnKrQfatjnFhSoEKdPJ_02VtssK9GkJPk/edit#gid=0\"\",\"\"RWA!F:BZ\"\"),48,0))\"),\"\")","v":""}]
[null,null,null,{"$f":"IFERROR(__xludf.DUMMYFUNCTION(\"iferror(VLOOKUP(B214,IMPORTRANGE(\"\"https://docs.google.com/spreadsheets/d/1Kptv1Yhe55NnKrQfatjnFhSoEKdPJ_02VtssK9GkJPk/edit#gid=0\"\",\"\"RWA!F:BZ\"\"),44,0))\"),\"\")","v":""},{"$f":"IFERROR(__xludf.DUMMYFUNCTION(\"iferror(VLOOKUP(B214,IMPORTRANGE(\"\"https://docs.google.com/spreadsheets/d/1Kptv1Yhe55NnKrQfatjnFhSoEKdPJ_02VtssK9GkJPk/edit#gid=0\"\",\"\"RWA!F:BZ\"\"),48,0))\"),\"\")","v":""}]
[null,null,null,{"$f":"IFERROR(__xludf.DUMMYFUNCTION(\"iferror(VLOOKUP(B215,IMPORTRANGE(\"\"https://docs.google.com/spreadsheets/d/1Kptv1Yhe55NnKrQfatjnFhSoEKdPJ_02VtssK9GkJPk/edit#gid=0\"\",\"\"RWA!F:BZ\"\"),44,0))\"),\"\")","v":""},{"$f":"IFERROR(__xludf.DUMMYFUNCTION(\"iferror(VLOOKUP(B215,IMPORTRANGE(\"\"https://docs.google.com/spreadsheets/d/1Kptv1Yhe55NnKrQfatjnFhSoEKdPJ_02VtssK9GkJPk/edit#gid=0\"\",\"\"RWA!F:BZ\"\"),48,0))\"),\"\")","v":""}]
[null,null,null,{"$f":"IFERROR(__xludf.DUMMYFUNCTION(\"iferror(VLOOKUP(B216,IMPORTRANGE(\"\"https://docs.google.com/spreadsheets/d/1Kptv1Yhe55NnKrQfatjnFhSoEKdPJ_02VtssK9GkJPk/edit#gid=0\"\",\"\"RWA!F:BZ\"\"),44,0))\"),\"\")","v":""},{"$f":"IFERROR(__xludf.DUMMYFUNCTION(\"iferror(VLOOKUP(B216,IMPORTRANGE(\"\"https://docs.google.com/spreadsheets/d/1Kptv1Yhe55NnKrQfatjnFhSoEKdPJ_02VtssK9GkJPk/edit#gid=0\"\",\"\"RWA!F:BZ\"\"),48,0))\"),\"\")","v":""}]
[null,null,null,{"$f":"IFERROR(__xludf.DUMMYFUNCTION(\"iferror(VLOOKUP(B217,IMPORTRANGE(\"\"https://docs.google.com/spreadsheets/d/1Kptv1Yhe55NnKrQfatjnFhSoEKdPJ_02VtssK9GkJPk/edit#gid=0\"\",\"\"RWA!F:BZ\"\"),44,0))\"),\"\")","v":""},{"$f":"IFERROR(__xludf.DUMMYFUNCTION(\"iferror(VLOOKUP(B217,IMPORTRANGE(\"\"https://docs.google.com/spreadsheets/d/1Kptv1Yhe55NnKrQfatjnFhSoEKdPJ_02VtssK9GkJPk/edit#gid=0\"\",\"\"RWA!F:BZ\"\"),48,0))\"),\"\")","v":""}]
[null,null,null,{"$f":"IFERROR(__xludf.DUMMYFUNCTION(\"iferror(VLOOKUP(B218,IMPORTRANGE(\"\"https://docs.google.com/spreadsheets/d/1Kptv1Yhe55NnKrQfatjnFhSoEKdPJ_02VtssK9GkJPk/edit#gid=0\"\",\"\"RWA!F:BZ\"\"),44,0))\"),\"\")","v":""},{"$f":"IFERROR(__xludf.DUMMYFUNCTION(\"iferror(VLOOKUP(B218,IMPORTRANGE(\"\"https://docs.google.com/spreadsheets/d/1Kptv1Yhe55NnKrQfatjnFhSoEKdPJ_02VtssK9GkJPk/edit#gid=0\"\",\"\"RWA!F:BZ\"\"),48,0))\"),\"\")","v":""}]
[null,null,null,{"$f":"IFERROR(__xludf.DUMMYFUNCTION(\"iferror(VLOOKUP(B219,IMPORTRANGE(\"\"https://docs.google.com/spreadsheets/d/1Kptv1Yhe55NnKrQfatjnFhSoEKdPJ_02VtssK9GkJPk/edit#gid=0\"\",\"\"RWA!F:BZ\"\"),44,0))\"),\"\")","v":""},{"$f":"IFERROR(__xludf.DUMMYFUNCTION(\"iferror(VLOOKUP(B219,IMPORTRANGE(\"\"https://docs.google.com/spreadsheets/d/1Kptv1Yhe55NnKrQfatjnFhSoEKdPJ_02VtssK9GkJPk/edit#gid=0\"\",\"\"RWA!F:BZ\"\"),48,0))\"),\"\")","v":""}]
[null,null,null,{"$f":"IFERROR(__xludf.DUMMYFUNCTION(\"iferror(VLOOKUP(B220,IMPORTRANGE(\"\"https://docs.google.com/spreadsheets/d/1Kptv1Yhe55NnKrQfatjnFhSoEKdPJ_02VtssK9GkJPk/edit#gid=0\"\",\"\"RWA!F:BZ\"\"),44,0))\"),\"\")","v":""},{"$f":"IFERROR(__xludf.DUMMYFUNCTION(\"iferror(VLOOKUP(B220,IMPORTRANGE(\"\"https://docs.google.com/spreadsheets/d/1Kptv1Yhe55NnKrQfatjnFhSoEKdPJ_02VtssK9GkJPk/edit#gid=0\"\",\"\"RWA!F:BZ\"\"),48,0))\"),\"\")","v":""}]
[null,null,null,{"$f":"IFERROR(__xludf.DUMMYFUNCTION(\"iferror(VLOOKUP(B221,IMPORTRANGE(\"\"https://docs.google.com/spreadsheets/d/1Kptv1Yhe55NnKrQfatjnFhSoEKdPJ_02VtssK9GkJPk/edit#gid=0\"\",\"\"RWA!F:BZ\"\"),44,0))\"),\"\")","v":""},{"$f":"IFERROR(__xludf.DUMMYFUNCTION(\"iferror(VLOOKUP(B221,IMPORTRANGE(\"\"https://docs.google.com/spreadsheets/d/1Kptv1Yhe55NnKrQfatjnFhSoEKdPJ_02VtssK9GkJPk/edit#gid=0\"\",\"\"RWA!F:BZ\"\"),48,0))\"),\"\")","v":""}]
[null,null,null,{"$f":"IFERROR(__xludf.DUMMYFUNCTION(\"iferror(VLOOKUP(B222,IMPORTRANGE(\"\"https://docs.google.com/spreadsheets/d/1Kptv1Yhe55NnKrQfatjnFhSoEKdPJ_02VtssK9GkJPk/edit#gid=0\"\",\"\"RWA!F:BZ\"\"),44,0))\"),\"\")","v":""},{"$f":"IFERROR(__xludf.DUMMYFUNCTION(\"iferror(VLOOKUP(B222,IMPORTRANGE(\"\"https://docs.google.com/spreadsheets/d/1Kptv1Yhe55NnKrQfatjnFhSoEKdPJ_02VtssK9GkJPk/edit#gid=0\"\",\"\"RWA!F:BZ\"\"),48,0))\"),\"\")","v":""}]
[null,null,null,{"$f":"IFERROR(__xludf.DUMMYFUNCTION(\"iferror(VLOOKUP(B223,IMPORTRANGE(\"\"https://docs.google.com/spreadsheets/d/1Kptv1Yhe55NnKrQfatjnFhSoEKdPJ_02VtssK9GkJPk/edit#gid=0\"\",\"\"RWA!F:BZ\"\"),44,0))\"),\"\")","v":""},{"$f":"IFERROR(__xludf.DUMMYFUNCTION(\"iferror(VLOOKUP(B223,IMPORTRANGE(\"\"https://docs.google.com/spreadsheets/d/1Kptv1Yhe55NnKrQfatjnFhSoEKdPJ_02VtssK9GkJPk/edit#gid=0\"\",\"\"RWA!F:BZ\"\"),48,0))\"),\"\")","v":""}]
[null,null,null,{"$f":"IFERROR(__xludf.DUMMYFUNCTION(\"iferror(VLOOKUP(B224,IMPORTRANGE(\"\"https://docs.google.com/spreadsheets/d/1Kptv1Yhe55NnKrQfatjnFhSoEKdPJ_02VtssK9GkJPk/edit#gid=0\"\",\"\"RWA!F:BZ\"\"),44,0))\"),\"\")","v":""},{"$f":"IFERROR(__xludf.DUMMYFUNCTION(\"iferror(VLOOKUP(B224,IMPORTRANGE(\"\"https://docs.google.com/spreadsheets/d/1Kptv1Yhe55NnKrQfatjnFhSoEKdPJ_02VtssK9GkJPk/edit#gid=0\"\",\"\"RWA!F:BZ\"\"),48,0))\"),\"\")","v":""}]
[null,null,null,{"$f":"IFERROR(__xludf.DUMMYFUNCTION(\"iferror(VLOOKUP(B225,IMPORTRANGE(\"\"https://docs.google.com/spreadsheets/d/1Kptv1Yhe55NnKrQfatjnFhSoEKdPJ_02VtssK9GkJPk/edit#gid=0\"\",\"\"RWA!F:BZ\"\"),44,0))\"),\"\")","v":""},{"$f":"IFERROR(__xludf.DUMMYFUNCTION(\"iferror(VLOOKUP(B225,IMPORTRANGE(\"\"https://docs.google.com/spreadsheets/d/1Kptv1Yhe55NnKrQfatjnFhSoEKdPJ_02VtssK9GkJPk/edit#gid=0\"\",\"\"RWA!F:BZ\"\"),48,0))\"),\"\")","v":""}]
[null,null,null,{"$f":"IFERROR(__xludf.DUMMYFUNCTION(\"iferror(VLOOKUP(B226,IMPORTRANGE(\"\"https://docs.google.com/spreadsheets/d/1Kptv1Yhe55NnKrQfatjnFhSoEKdPJ_02VtssK9GkJPk/edit#gid=0\"\",\"\"RWA!F:BZ\"\"),44,0))\"),\"\")","v":""},{"$f":"IFERROR(__xludf.DUMMYFUNCTION(\"iferror(VLOOKUP(B226,IMPORTRANGE(\"\"https://docs.google.com/spreadsheets/d/1Kptv1Yhe55NnKrQfatjnFhSoEKdPJ_02VtssK9GkJPk/edit#gid=0\"\",\"\"RWA!F:BZ\"\"),48,0))\"),\"\")","v":""}]
[null,null,null,{"$f":"IFERROR(__xludf.DUMMYFUNCTION(\"iferror(VLOOKUP(B227,IMPORTRANGE(\"\"https://docs.google.com/spreadsheets/d/1Kptv1Yhe55NnKrQfatjnFhSoEKdPJ_02VtssK9GkJPk/edit#gid=0\"\",\"\"RWA!F:BZ\"\"),44,0))\"),\"\")","v":""},{"$f":"IFERROR(__xludf.DUMMYFUNCTION(\"iferror(VLOOKUP(B227,IMPORTRANGE(\"\"https://docs.google.com/spreadsheets/d/1Kptv1Yhe55NnKrQfatjnFhSoEKdPJ_02VtssK9GkJPk/edit#gid=0\"\",\"\"RWA!F:BZ\"\"),48,0))\"),\"\")","v":""}]
[null,null,null,{"$f":"IFERROR(__xludf.DUMMYFUNCTION(\"iferror(VLOOKUP(B228,IMPORTRANGE(\"\"https://docs.google.com/spreadsheets/d/1Kptv1Yhe55NnKrQfatjnFhSoEKdPJ_02VtssK9GkJPk/edit#gid=0\"\",\"\"RWA!F:BZ\"\"),44,0))\"),\"\")","v":""},{"$f":"IFERROR(__xludf.DUMMYFUNCTION(\"iferror(VLOOKUP(B228,IMPORTRANGE(\"\"https://docs.google.com/spreadsheets/d/1Kptv1Yhe55NnKrQfatjnFhSoEKdPJ_02VtssK9GkJPk/edit#gid=0\"\",\"\"RWA!F:BZ\"\"),48,0))\"),\"\")","v":""}]
[null,null,null,{"$f":"IFERROR(__xludf.DUMMYFUNCTION(\"iferror(VLOOKUP(B229,IMPORTRANGE(\"\"https://docs.google.com/spreadsheets/d/1Kptv1Yhe55NnKrQfatjnFhSoEKdPJ_02VtssK9GkJPk/edit#gid=0\"\",\"\"RWA!F:BZ\"\"),44,0))\"),\"\")","v":""},{"$f":"IFERROR(__xludf.DUMMYFUNCTION(\"iferror(VLOOKUP(B229,IMPORTRANGE(\"\"https://docs.google.com/spreadsheets/d/1Kptv1Yhe55NnKrQfatjnFhSoEKdPJ_02VtssK9GkJPk/edit#gid=0\"\",\"\"RWA!F:BZ\"\"),48,0))\"),\"\")","v":""}]
[null,null,null,{"$f":"IFERROR(__xludf.DUMMYFUNCTION(\"iferror(VLOOKUP(B230,IMPORTRANGE(\"\"https://docs.google.com/spreadsheets/d/1Kptv1Yhe55NnKrQfatjnFhSoEKdPJ_02VtssK9GkJPk/edit#gid=0\"\",\"\"RWA!F:BZ\"\"),44,0))\"),\"\")","v":""},{"$f":"IFERROR(__xludf.DUMMYFUNCTION(\"iferror(VLOOKUP(B230,IMPORTRANGE(\"\"https://docs.google.com/spreadsheets/d/1Kptv1Yhe55NnKrQfatjnFhSoEKdPJ_02VtssK9GkJPk/edit#gid=0\"\",\"\"RWA!F:BZ\"\"),48,0))\"),\"\")","v":""}]
[null,null,null,{"$f":"IFERROR(__xludf.DUMMYFUNCTION(\"iferror(VLOOKUP(B231,IMPORTRANGE(\"\"https://docs.google.com/spreadsheets/d/1Kptv1Yhe55NnKrQfatjnFhSoEKdPJ_02VtssK9GkJPk/edit#gid=0\"\",\"\"RWA!F:BZ\"\"),44,0))\"),\"\")","v":""},{"$f":"IFERROR(__xludf.DUMMYFUNCTION(\"iferror(VLOOKUP(B231,IMPORTRANGE(\"\"https://docs.google.com/spreadsheets/d/1Kptv1Yhe55NnKrQfatjnFhSoEKdPJ_02VtssK9GkJPk/edit#gid=0\"\",\"\"RWA!F:BZ\"\"),48,0))\"),\"\")","v":""}]
[null,null,null,{"$f":"IFERROR(__xludf.DUMMYFUNCTION(\"iferror(VLOOKUP(B232,IMPORTRANGE(\"\"https://docs.google.com/spreadsheets/d/1Kptv1Yhe55NnKrQfatjnFhSoEKdPJ_02VtssK9GkJPk/edit#gid=0\"\",\"\"RWA!F:BZ\"\"),44,0))\"),\"\")","v":""},{"$f":"IFERROR(__xludf.DUMMYFUNCTION(\"iferror(VLOOKUP(B232,IMPORTRANGE(\"\"https://docs.google.com/spreadsheets/d/1Kptv1Yhe55NnKrQfatjnFhSoEKdPJ_02VtssK9GkJPk/edit#gid=0\"\",\"\"RWA!F:BZ\"\"),48,0))\"),\"\")","v":""}]
[null,null,null,{"$f":"IFERROR(__xludf.DUMMYFUNCTION(\"iferror(VLOOKUP(B233,IMPORTRANGE(\"\"https://docs.google.com/spreadsheets/d/1Kptv1Yhe55NnKrQfatjnFhSoEKdPJ_02VtssK9GkJPk/edit#gid=0\"\",\"\"RWA!F:BZ\"\"),44,0))\"),\"\")","v":""},{"$f":"IFERROR(__xludf.DUMMYFUNCTION(\"iferror(VLOOKUP(B233,IMPORTRANGE(\"\"https://docs.google.com/spreadsheets/d/1Kptv1Yhe55NnKrQfatjnFhSoEKdPJ_02VtssK9GkJPk/edit#gid=0\"\",\"\"RWA!F:BZ\"\"),48,0))\"),\"\")","v":""}]
[null,null,null,{"$f":"IFERROR(__xludf.DUMMYFUNCTION(\"iferror(VLOOKUP(B234,IMPORTRANGE(\"\"https://docs.google.com/spreadsheets/d/1Kptv1Yhe55NnKrQfatjnFhSoEKdPJ_02VtssK9GkJPk/edit#gid=0\"\",\"\"RWA!F:BZ\"\"),44,0))\"),\"\")","v":""},{"$f":"IFERROR(__xludf.DUMMYFUNCTION(\"iferror(VLOOKUP(B234,IMPORTRANGE(\"\"https://docs.google.com/spreadsheets/d/1Kptv1Yhe55NnKrQfatjnFhSoEKdPJ_02VtssK9GkJPk/edit#gid=0\"\",\"\"RWA!F:BZ\"\"),48,0))\"),\"\")","v":""}]
[null,null,null,{"$f":"IFERROR(__xludf.DUMMYFUNCTION(\"iferror(VLOOKUP(B235,IMPORTRANGE(\"\"https://docs.google.com/spreadsheets/d/1Kptv1Yhe55NnKrQfatjnFhSoEKdPJ_02VtssK9GkJPk/edit#gid=0\"\",\"\"RWA!F:BZ\"\"),44,0))\"),\"\")","v":""},{"$f":"IFERROR(__xludf.DUMMYFUNCTION(\"iferror(VLOOKUP(B235,IMPORTRANGE(\"\"https://docs.google.com/spreadsheets/d/1Kptv1Yhe55NnKrQfatjnFhSoEKdPJ_02VtssK9GkJPk/edit#gid=0\"\",\"\"RWA!F:BZ\"\"),48,0))\"),\"\")","v":""}]
[null,null,null,{"$f":"IFERROR(__xludf.DUMMYFUNCTION(\"iferror(VLOOKUP(B236,IMPORTRANGE(\"\"https://docs.google.com/spreadsheets/d/1Kptv1Yhe55NnKrQfatjnFhSoEKdPJ_02VtssK9GkJPk/edit#gid=0\"\",\"\"RWA!F:BZ\"\"),44,0))\"),\"\")","v":""},{"$f":"IFERROR(__xludf.DUMMYFUNCTION(\"iferror(VLOOKUP(B236,IMPORTRANGE(\"\"https://docs.google.com/spreadsheets/d/1Kptv1Yhe55NnKrQfatjnFhSoEKdPJ_02VtssK9GkJPk/edit#gid=0\"\",\"\"RWA!F:BZ\"\"),48,0))\"),\"\")","v":""}]
[null,null,null,{"$f":"IFERROR(__xludf.DUMMYFUNCTION(\"iferror(VLOOKUP(B237,IMPORTRANGE(\"\"https://docs.google.com/spreadsheets/d/1Kptv1Yhe55NnKrQfatjnFhSoEKdPJ_02VtssK9GkJPk/edit#gid=0\"\",\"\"RWA!F:BZ\"\"),44,0))\"),\"\")","v":""},{"$f":"IFERROR(__xludf.DUMMYFUNCTION(\"iferror(VLOOKUP(B237,IMPORTRANGE(\"\"https://docs.google.com/spreadsheets/d/1Kptv1Yhe55NnKrQfatjnFhSoEKdPJ_02VtssK9GkJPk/edit#gid=0\"\",\"\"RWA!F:BZ\"\"),48,0))\"),\"\")","v":""}]
[null,null,null,{"$f":"IFERROR(__xludf.DUMMYFUNCTION(\"iferror(VLOOKUP(B238,IMPORTRANGE(\"\"https://docs.google.com/spreadsheets/d/1Kptv1Yhe55NnKrQfatjnFhSoEKdPJ_02VtssK9GkJPk/edit#gid=0\"\",\"\"RWA!F:BZ\"\"),44,0))\"),\"\")","v":""},{"$f":"IFERROR(__xludf.DUMMYFUNCTION(\"iferror(VLOOKUP(B238,IMPORTRANGE(\"\"https://docs.google.com/spreadsheets/d/1Kptv1Yhe55NnKrQfatjnFhSoEKdPJ_02VtssK9GkJPk/edit#gid=0\"\",\"\"RWA!F:BZ\"\"),48,0))\"),\"\")","v":""}]
[null,null,null,{"$f":"IFERROR(__xludf.DUMMYFUNCTION(\"iferror(VLOOKUP(B239,IMPORTRANGE(\"\"https://docs.google.com/spreadsheets/d/1Kptv1Yhe55NnKrQfatjnFhSoEKdPJ_02VtssK9GkJPk/edit#gid=0\"\",\"\"RWA!F:BZ\"\"),44,0))\"),\"\")","v":""},{"$f":"IFERROR(__xludf.DUMMYFUNCTION(\"iferror(VLOOKUP(B239,IMPORTRANGE(\"\"https://docs.google.com/spreadsheets/d/1Kptv1Yhe55NnKrQfatjnFhSoEKdPJ_02VtssK9GkJPk/edit#gid=0\"\",\"\"RWA!F:BZ\"\"),48,0))\"),\"\")","v":""}]
[null,null,null,{"$f":"IFERROR(__xludf.DUMMYFUNCTION(\"iferror(VLOOKUP(B240,IMPORTRANGE(\"\"https://docs.google.com/spreadsheets/d/1Kptv1Yhe55NnKrQfatjnFhSoEKdPJ_02VtssK9GkJPk/edit#gid=0\"\",\"\"RWA!F:BZ\"\"),44,0))\"),\"\")","v":""},{"$f":"IFERROR(__xludf.DUMMYFUNCTION(\"iferror(VLOOKUP(B240,IMPORTRANGE(\"\"https://docs.google.com/spreadsheets/d/1Kptv1Yhe55NnKrQfatjnFhSoEKdPJ_02VtssK9GkJPk/edit#gid=0\"\",\"\"RWA!F:BZ\"\"),48,0))\"),\"\")","v":""}]
[null,null,null,{"$f":"IFERROR(__xludf.DUMMYFUNCTION(\"iferror(VLOOKUP(B241,IMPORTRANGE(\"\"https://docs.google.com/spreadsheets/d/1Kptv1Yhe55NnKrQfatjnFhSoEKdPJ_02VtssK9GkJPk/edit#gid=0\"\",\"\"RWA!F:BZ\"\"),44,0))\"),\"\")","v":""},{"$f":"IFERROR(__xludf.DUMMYFUNCTION(\"iferror(VLOOKUP(B241,IMPORTRANGE(\"\"https://docs.google.com/spreadsheets/d/1Kptv1Yhe55NnKrQfatjnFhSoEKdPJ_02VtssK9GkJPk/edit#gid=0\"\",\"\"RWA!F:BZ\"\"),48,0))\"),\"\")","v":""}]
[null,null,null,{"$f":"IFERROR(__xludf.DUMMYFUNCTION(\"iferror(VLOOKUP(B242,IMPORTRANGE(\"\"https://docs.google.com/spreadsheets/d/1Kptv1Yhe55NnKrQfatjnFhSoEKdPJ_02VtssK9GkJPk/edit#gid=0\"\",\"\"RWA!F:BZ\"\"),44,0))\"),\"\")","v":""},{"$f":"IFERROR(__xludf.DUMMYFUNCTION(\"iferror(VLOOKUP(B242,IMPORTRANGE(\"\"https://docs.google.com/spreadsheets/d/1Kptv1Yhe55NnKrQfatjnFhSoEKdPJ_02VtssK9GkJPk/edit#gid=0\"\",\"\"RWA!F:BZ\"\"),48,0))\"),\"\")","v":""}]
[null,null,null,{"$f":"IFERROR(__xludf.DUMMYFUNCTION(\"iferror(VLOOKUP(B243,IMPORTRANGE(\"\"https://docs.google.com/spreadsheets/d/1Kptv1Yhe55NnKrQfatjnFhSoEKdPJ_02VtssK9GkJPk/edit#gid=0\"\",\"\"RWA!F:BZ\"\"),44,0))\"),\"\")","v":""},{"$f":"IFERROR(__xludf.DUMMYFUNCTION(\"iferror(VLOOKUP(B243,IMPORTRANGE(\"\"https://docs.google.com/spreadsheets/d/1Kptv1Yhe55NnKrQfatjnFhSoEKdPJ_02VtssK9GkJPk/edit#gid=0\"\",\"\"RWA!F:BZ\"\"),48,0))\"),\"\")","v":""}]
[null,null,null,{"$f":"IFERROR(__xludf.DUMMYFUNCTION(\"iferror(VLOOKUP(B244,IMPORTRANGE(\"\"https://docs.google.com/spreadsheets/d/1Kptv1Yhe55NnKrQfatjnFhSoEKdPJ_02VtssK9GkJPk/edit#gid=0\"\",\"\"RWA!F:BZ\"\"),44,0))\"),\"\")","v":""},{"$f":"IFERROR(__xludf.DUMMYFUNCTION(\"iferror(VLOOKUP(B244,IMPORTRANGE(\"\"https://docs.google.com/spreadsheets/d/1Kptv1Yhe55NnKrQfatjnFhSoEKdPJ_02VtssK9GkJPk/edit#gid=0\"\",\"\"RWA!F:BZ\"\"),48,0))\"),\"\")","v":""}]
[null,null,null,{"$f":"IFERROR(__xludf.DUMMYFUNCTION(\"iferror(VLOOKUP(B245,IMPORTRANGE(\"\"https://docs.google.com/spreadsheets/d/1Kptv1Yhe55NnKrQfatjnFhSoEKdPJ_02VtssK9GkJPk/edit#gid=0\"\",\"\"RWA!F:BZ\"\"),44,0))\"),\"\")","v":""},{"$f":"IFERROR(__xludf.DUMMYFUNCTION(\"iferror(VLOOKUP(B245,IMPORTRANGE(\"\"https://docs.google.com/spreadsheets/d/1Kptv1Yhe55NnKrQfatjnFhSoEKdPJ_02VtssK9GkJPk/edit#gid=0\"\",\"\"RWA!F:BZ\"\"),48,0))\"),\"\")","v":""}]
[null,null,null,{"$f":"IFERROR(__xludf.DUMMYFUNCTION(\"iferror(VLOOKUP(B246,IMPORTRANGE(\"\"https://docs.google.com/spreadsheets/d/1Kptv1Yhe55NnKrQfatjnFhSoEKdPJ_02VtssK9GkJPk/edit#gid=0\"\",\"\"RWA!F:BZ\"\"),44,0))\"),\"\")","v":""},{"$f":"IFERROR(__xludf.DUMMYFUNCTION(\"iferror(VLOOKUP(B246,IMPORTRANGE(\"\"https://docs.google.com/spreadsheets/d/1Kptv1Yhe55NnKrQfatjnFhSoEKdPJ_02VtssK9GkJPk/edit#gid=0\"\",\"\"RWA!F:BZ\"\"),48,0))\"),\"\")","v":""}]
[null,null,null,{"$f":"IFERROR(__xludf.DUMMYFUNCTION(\"iferror(VLOOKUP(B247,IMPORTRANGE(\"\"https://docs.google.com/spreadsheets/d/1Kptv1Yhe55NnKrQfatjnFhSoEKdPJ_02VtssK9GkJPk/edit#gid=0\"\",\"\"RWA!F:BZ\"\"),44,0))\"),\"\")","v":""},{"$f":"IFERROR(__xludf.DUMMYFUNCTION(\"iferror(VLOOKUP(B247,IMPORTRANGE(\"\"https://docs.google.com/spreadsheets/d/1Kptv1Yhe55NnKrQfatjnFhSoEKdPJ_02VtssK9GkJPk/edit#gid=0\"\",\"\"RWA!F:BZ\"\"),48,0))\"),\"\")","v":""}]
[null,null,null,{"$f":"IFERROR(__xludf.DUMMYFUNCTION(\"iferror(VLOOKUP(B248,IMPORTRANGE(\"\"https://docs.google.com/spreadsheets/d/1Kptv1Yhe55NnKrQfatjnFhSoEKdPJ_02VtssK9GkJPk/edit#gid=0\"\",\"\"RWA!F:BZ\"\"),44,0))\"),\"\")","v":""},{"$f":"IFERROR(__xludf.DUMMYFUNCTION(\"iferror(VLOOKUP(B248,IMPORTRANGE(\"\"https://docs.google.com/spreadsheets/d/1Kptv1Yhe55NnKrQfatjnFhSoEKdPJ_02VtssK9GkJPk/edit#gid=0\"\",\"\"RWA!F:BZ\"\"),48,0))\"),\"\")","v":""}]
[null,null,null,{"$f":"IFERROR(__xludf.DUMMYFUNCTION(\"iferror(VLOOKUP(B249,IMPORTRANGE(\"\"https://docs.google.com/spreadsheets/d/1Kptv1Yhe55NnKrQfatjnFhSoEKdPJ_02VtssK9GkJPk/edit#gid=0\"\",\"\"RWA!F:BZ\"\"),44,0))\"),\"\")","v":""},{"$f":"IFERROR(__xludf.DUMMYFUNCTION(\"iferror(VLOOKUP(B249,IMPORTRANGE(\"\"https://docs.google.com/spreadsheets/d/1Kptv1Yhe55NnKrQfatjnFhSoEKdPJ_02VtssK9GkJPk/edit#gid=0\"\",\"\"RWA!F:BZ\"\"),48,0))\"),\"\")","v":""}]
[null,null,null,{"$f":"IFERROR(__xludf.DUMMYFUNCTION(\"iferror(VLOOKUP(B250,IMPORTRANGE(\"\"https://docs.google.com/spreadsheets/d/1Kptv1Yhe55NnKrQfatjnFhSoEKdPJ_02VtssK9GkJPk/edit#gid=0\"\",\"\"RWA!F:BZ\"\"),44,0))\"),\"\")","v":""},{"$f":"IFERROR(__xludf.DUMMYFUNCTION(\"iferror(VLOOKUP(B250,IMPORTRANGE(\"\"https://docs.google.com/spreadsheets/d/1Kptv1Yhe55NnKrQfatjnFhSoEKdPJ_02VtssK9GkJPk/edit#gid=0\"\",\"\"RWA!F:BZ\"\"),48,0))\"),\"\")","v":""}]
[null,null,null,{"$f":"IFERROR(__xludf.DUMMYFUNCTION(\"iferror(VLOOKUP(B251,IMPORTRANGE(\"\"https://docs.google.com/spreadsheets/d/1Kptv1Yhe55NnKrQfatjnFhSoEKdPJ_02VtssK9GkJPk/edit#gid=0\"\",\"\"RWA!F:BZ\"\"),44,0))\"),\"\")","v":""},{"$f":"IFERROR(__xludf.DUMMYFUNCTION(\"iferror(VLOOKUP(B251,IMPORTRANGE(\"\"https://docs.google.com/spreadsheets/d/1Kptv1Yhe55NnKrQfatjnFhSoEKdPJ_02VtssK9GkJPk/edit#gid=0\"\",\"\"RWA!F:BZ\"\"),48,0))\"),\"\")","v":""}]
[null,null,null,{"$f":"IFERROR(__xludf.DUMMYFUNCTION(\"iferror(VLOOKUP(B252,IMPORTRANGE(\"\"https://docs.google.com/spreadsheets/d/1Kptv1Yhe55NnKrQfatjnFhSoEKdPJ_02VtssK9GkJPk/edit#gid=0\"\",\"\"RWA!F:BZ\"\"),44,0))\"),\"\")","v":""},{"$f":"IFERROR(__xludf.DUMMYFUNCTION(\"iferror(VLOOKUP(B252,IMPORTRANGE(\"\"https://docs.google.com/spreadsheets/d/1Kptv1Yhe55NnKrQfatjnFhSoEKdPJ_02VtssK9GkJPk/edit#gid=0\"\",\"\"RWA!F:BZ\"\"),48,0))\"),\"\")","v":""}]
[null,null,null,{"$f":"IFERROR(__xludf.DUMMYFUNCTION(\"iferror(VLOOKUP(B253,IMPORTRANGE(\"\"https://docs.google.com/spreadsheets/d/1Kptv1Yhe55NnKrQfatjnFhSoEKdPJ_02VtssK9GkJPk/edit#gid=0\"\",\"\"RWA!F:BZ\"\"),44,0))\"),\"\")","v":""},{"$f":"IFERROR(__xludf.DUMMYFUNCTION(\"iferror(VLOOKUP(B253,IMPORTRANGE(\"\"https://docs.google.com/spreadsheets/d/1Kptv1Yhe55NnKrQfatjnFhSoEKdPJ_02VtssK9GkJPk/edit#gid=0\"\",\"\"RWA!F:BZ\"\"),48,0))\"),\"\")","v":""}]
[null,null,null,{"$f":"IFERROR(__xludf.DUMMYFUNCTION(\"iferror(VLOOKUP(B254,IMPORTRANGE(\"\"https://docs.google.com/spreadsheets/d/1Kptv1Yhe55NnKrQfatjnFhSoEKdPJ_02VtssK9GkJPk/edit#gid=0\"\",\"\"RWA!F:BZ\"\"),44,0))\"),\"\")","v":""},{"$f":"IFERROR(__xludf.DUMMYFUNCTION(\"iferror(VLOOKUP(B254,IMPORTRANGE(\"\"https://docs.google.com/spreadsheets/d/1Kptv1Yhe55NnKrQfatjnFhSoEKdPJ_02VtssK9GkJPk/edit#gid=0\"\",\"\"RWA!F:BZ\"\"),48,0))\"),\"\")","v":""}]
[null,null,null,{"$f":"IFERROR(__xludf.DUMMYFUNCTION(\"iferror(VLOOKUP(B255,IMPORTRANGE(\"\"https://docs.google.com/spreadsheets/d/1Kptv1Yhe55NnKrQfatjnFhSoEKdPJ_02VtssK9GkJPk/edit#gid=0\"\",\"\"RWA!F:BZ\"\"),44,0))\"),\"\")","v":""},{"$f":"IFERROR(__xludf.DUMMYFUNCTION(\"iferror(VLOOKUP(B255,IMPORTRANGE(\"\"https://docs.google.com/spreadsheets/d/1Kptv1Yhe55NnKrQfatjnFhSoEKdPJ_02VtssK9GkJPk/edit#gid=0\"\",\"\"RWA!F:BZ\"\"),48,0))\"),\"\")","v":""}]
[null,null,null,{"$f":"IFERROR(__xludf.DUMMYFUNCTION(\"iferror(VLOOKUP(B256,IMPORTRANGE(\"\"https://docs.google.com/spreadsheets/d/1Kptv1Yhe55NnKrQfatjnFhSoEKdPJ_02VtssK9GkJPk/edit#gid=0\"\",\"\"RWA!F:BZ\"\"),44,0))\"),\"\")","v":""},{"$f":"IFERROR(__xludf.DUMMYFUNCTION(\"iferror(VLOOKUP(B256,IMPORTRANGE(\"\"https://docs.google.com/spreadsheets/d/1Kptv1Yhe55NnKrQfatjnFhSoEKdPJ_02VtssK9GkJPk/edit#gid=0\"\",\"\"RWA!F:BZ\"\"),48,0))\"),\"\")","v":""}]
[null,null,null,{"$f":"IFERROR(__xludf.DUMMYFUNCTION(\"iferror(VLOOKUP(B257,IMPORTRANGE(\"\"https://docs.google.com/spreadsheets/d/1Kptv1Yhe55NnKrQfatjnFhSoEKdPJ_02VtssK9GkJPk/edit#gid=0\"\",\"\"RWA!F:BZ\"\"),44,0))\"),\"\")","v":""},{"$f":"IFERROR(__xludf.DUMMYFUNCTION(\"iferror(VLOOKUP(B257,IMPORTRANGE(\"\"https://docs.google.com/spreadsheets/d/1Kptv1Yhe55NnKrQfatjnFhSoEKdPJ_02VtssK9GkJPk/edit#gid=0\"\",\"\"RWA!F:BZ\"\"),48,0))\"),\"\")","v":""}]
[null,null,null,{"$f":"IFERROR(__xludf.DUMMYFUNCTION(\"iferror(VLOOKUP(B258,IMPORTRANGE(\"\"https://docs.google.com/spreadsheets/d/1Kptv1Yhe55NnKrQfatjnFhSoEKdPJ_02VtssK9GkJPk/edit#gid=0\"\",\"\"RWA!F:BZ\"\"),44,0))\"),\"\")","v":""},{"$f":"IFERROR(__xludf.DUMMYFUNCTION(\"iferror(VLOOKUP(B258,IMPORTRANGE(\"\"https://docs.google.com/spreadsheets/d/1Kptv1Yhe55NnKrQfatjnFhSoEKdPJ_02VtssK9GkJPk/edit#gid=0\"\",\"\"RWA!F:BZ\"\"),48,0))\"),\"\")","v":""}]
[null,null,null,{"$f":"IFERROR(__xludf.DUMMYFUNCTION(\"iferror(VLOOKUP(B259,IMPORTRANGE(\"\"https://docs.google.com/spreadsheets/d/1Kptv1Yhe55NnKrQfatjnFhSoEKdPJ_02VtssK9GkJPk/edit#gid=0\"\",\"\"RWA!F:BZ\"\"),44,0))\"),\"\")","v":""},{"$f":"IFERROR(__xludf.DUMMYFUNCTION(\"iferror(VLOOKUP(B259,IMPORTRANGE(\"\"https://docs.google.com/spreadsheets/d/1Kptv1Yhe55NnKrQfatjnFhSoEKdPJ_02VtssK9GkJPk/edit#gid=0\"\",\"\"RWA!F:BZ\"\"),48,0))\"),\"\")","v":""}]
[null,null,null,{"$f":"IFERROR(__xludf.DUMMYFUNCTION(\"iferror(VLOOKUP(B260,IMPORTRANGE(\"\"https://docs.google.com/spreadsheets/d/1Kptv1Yhe55NnKrQfatjnFhSoEKdPJ_02VtssK9GkJPk/edit#gid=0\"\",\"\"RWA!F:BZ\"\"),44,0))\"),\"\")","v":""},{"$f":"IFERROR(__xludf.DUMMYFUNCTION(\"iferror(VLOOKUP(B260,IMPORTRANGE(\"\"https://docs.google.com/spreadsheets/d/1Kptv1Yhe55NnKrQfatjnFhSoEKdPJ_02VtssK9GkJPk/edit#gid=0\"\",\"\"RWA!F:BZ\"\"),48,0))\"),\"\")","v":""}]
[null,null,null,{"$f":"IFERROR(__xludf.DUMMYFUNCTION(\"iferror(VLOOKUP(B261,IMPORTRANGE(\"\"https://docs.google.com/spreadsheets/d/1Kptv1Yhe55NnKrQfatjnFhSoEKdPJ_02VtssK9GkJPk/edit#gid=0\"\",\"\"RWA!F:BZ\"\"),44,0))\"),\"\")","v":""},{"$f":"IFERROR(__xludf.DUMMYFUNCTION(\"iferror(VLOOKUP(B261,IMPORTRANGE(\"\"https://docs.google.com/spreadsheets/d/1Kptv1Yhe55NnKrQfatjnFhSoEKdPJ_02VtssK9GkJPk/edit#gid=0\"\",\"\"RWA!F:BZ\"\"),48,0))\"),\"\")","v":""}]
[null,null,null,{"$f":"IFERROR(__xludf.DUMMYFUNCTION(\"iferror(VLOOKUP(B262,IMPORTRANGE(\"\"https://docs.google.com/spreadsheets/d/1Kptv1Yhe55NnKrQfatjnFhSoEKdPJ_02VtssK9GkJPk/edit#gid=0\"\",\"\"RWA!F:BZ\"\"),44,0))\"),\"\")","v":""},{"$f":"IFERROR(__xludf.DUMMYFUNCTION(\"iferror(VLOOKUP(B262,IMPORTRANGE(\"\"https://docs.google.com/spreadsheets/d/1Kptv1Yhe55NnKrQfatjnFhSoEKdPJ_02VtssK9GkJPk/edit#gid=0\"\",\"\"RWA!F:BZ\"\"),48,0))\"),\"\")","v":""}]
[null,null,null,{"$f":"IFERROR(__xludf.DUMMYFUNCTION(\"iferror(VLOOKUP(B263,IMPORTRANGE(\"\"https://docs.google.com/spreadsheets/d/1Kptv1Yhe55NnKrQfatjnFhSoEKdPJ_02VtssK9GkJPk/edit#gid=0\"\",\"\"RWA!F:BZ\"\"),44,0))\"),\"\")","v":""},{"$f":"IFERROR(__xludf.DUMMYFUNCTION(\"iferror(VLOOKUP(B263,IMPORTRANGE(\"\"https://docs.google.com/spreadsheets/d/1Kptv1Yhe55NnKrQfatjnFhSoEKdPJ_02VtssK9GkJPk/edit#gid=0\"\",\"\"RWA!F:BZ\"\"),48,0))\"),\"\")","v":""}]
[null,null,null,{"$f":"IFERROR(__xludf.DUMMYFUNCTION(\"iferror(VLOOKUP(B264,IMPORTRANGE(\"\"https://docs.google.com/spreadsheets/d/1Kptv1Yhe55NnKrQfatjnFhSoEKdPJ_02VtssK9GkJPk/edit#gid=0\"\",\"\"RWA!F:BZ\"\"),44,0))\"),\"\")","v":""},{"$f":"IFERROR(__xludf.DUMMYFUNCTION(\"iferror(VLOOKUP(B264,IMPORTRANGE(\"\"https://docs.google.com/spreadsheets/d/1Kptv1Yhe55NnKrQfatjnFhSoEKdPJ_02VtssK9GkJPk/edit#gid=0\"\",\"\"RWA!F:BZ\"\"),48,0))\"),\"\")","v":""}]
[null,null,null,{"$f":"IFERROR(__xludf.DUMMYFUNCTION(\"iferror(VLOOKUP(B265,IMPORTRANGE(\"\"https://docs.google.com/spreadsheets/d/1Kptv1Yhe55NnKrQfatjnFhSoEKdPJ_02VtssK9GkJPk/edit#gid=0\"\",\"\"RWA!F:BZ\"\"),44,0))\"),\"\")","v":""},{"$f":"IFERROR(__xludf.DUMMYFUNCTION(\"iferror(VLOOKUP(B265,IMPORTRANGE(\"\"https://docs.google.com/spreadsheets/d/1Kptv1Yhe55NnKrQfatjnFhSoEKdPJ_02VtssK9GkJPk/edit#gid=0\"\",\"\"RWA!F:BZ\"\"),48,0))\"),\"\")","v":""}]
[null,null,null,{"$f":"IFERROR(__xludf.DUMMYFUNCTION(\"iferror(VLOOKUP(B266,IMPORTRANGE(\"\"https://docs.google.com/spreadsheets/d/1Kptv1Yhe55NnKrQfatjnFhSoEKdPJ_02VtssK9GkJPk/edit#gid=0\"\",\"\"RWA!F:BZ\"\"),44,0))\"),\"\")","v":""},{"$f":"IFERROR(__xludf.DUMMYFUNCTION(\"iferror(VLOOKUP(B266,IMPORTRANGE(\"\"https://docs.google.com/spreadsheets/d/1Kptv1Yhe55NnKrQfatjnFhSoEKdPJ_02VtssK9GkJPk/edit#gid=0\"\",\"\"RWA!F:BZ\"\"),48,0))\"),\"\")","v":""}]
[null,null,null,{"$f":"IFERROR(__xludf.DUMMYFUNCTION(\"iferror(VLOOKUP(B267,IMPORTRANGE(\"\"https://docs.google.com/spreadsheets/d/1Kptv1Yhe55NnKrQfatjnFhSoEKdPJ_02VtssK9GkJPk/edit#gid=0\"\",\"\"RWA!F:BZ\"\"),44,0))\"),\"\")","v":""},{"$f":"IFERROR(__xludf.DUMMYFUNCTION(\"iferror(VLOOKUP(B267,IMPORTRANGE(\"\"https://docs.google.com/spreadsheets/d/1Kptv1Yhe55NnKrQfatjnFhSoEKdPJ_02VtssK9GkJPk/edit#gid=0\"\",\"\"RWA!F:BZ\"\"),48,0))\"),\"\")","v":""}]
[null,null,null,{"$f":"IFERROR(__xludf.DUMMYFUNCTION(\"iferror(VLOOKUP(B268,IMPORTRANGE(\"\"https://docs.google.com/spreadsheets/d/1Kptv1Yhe55NnKrQfatjnFhSoEKdPJ_02VtssK9GkJPk/edit#gid=0\"\",\"\"RWA!F:BZ\"\"),44,0))\"),\"\")","v":""},{"$f":"IFERROR(__xludf.DUMMYFUNCTION(\"iferror(VLOOKUP(B268,IMPORTRANGE(\"\"https://docs.google.com/spreadsheets/d/1Kptv1Yhe55NnKrQfatjnFhSoEKdPJ_02VtssK9GkJPk/edit#gid=0\"\",\"\"RWA!F:BZ\"\"),48,0))\"),\"\")","v":""}]
[null,null,null,{"$f":"IFERROR(__xludf.DUMMYFUNCTION(\"iferror(VLOOKUP(B269,IMPORTRANGE(\"\"https://docs.google.com/spreadsheets/d/1Kptv1Yhe55NnKrQfatjnFhSoEKdPJ_02VtssK9GkJPk/edit#gid=0\"\",\"\"RWA!F:BZ\"\"),44,0))\"),\"\")","v":""},{"$f":"IFERROR(__xludf.DUMMYFUNCTION(\"iferror(VLOOKUP(B269,IMPORTRANGE(\"\"https://docs.google.com/spreadsheets/d/1Kptv1Yhe55NnKrQfatjnFhSoEKdPJ_02VtssK9GkJPk/edit#gid=0\"\",\"\"RWA!F:BZ\"\"),48,0))\"),\"\")","v":""}]
[null,null,null,{"$f":"IFERROR(__xludf.DUMMYFUNCTION(\"iferror(VLOOKUP(B270,IMPORTRANGE(\"\"https://docs.google.com/spreadsheets/d/1Kptv1Yhe55NnKrQfatjnFhSoEKdPJ_02VtssK9GkJPk/edit#gid=0\"\",\"\"RWA!F:BZ\"\"),44,0))\"),\"\")","v":""},{"$f":"IFERROR(__xludf.DUMMYFUNCTION(\"iferror(VLOOKUP(B270,IMPORTRANGE(\"\"https://docs.google.com/spreadsheets/d/1Kptv1Yhe55NnKrQfatjnFhSoEKdPJ_02VtssK9GkJPk/edit#gid=0\"\",\"\"RWA!F:BZ\"\"),48,0))\"),\"\")","v":""}]
[null,null,null,{"$f":"IFERROR(__xludf.DUMMYFUNCTION(\"iferror(VLOOKUP(B271,IMPORTRANGE(\"\"https://docs.google.com/spreadsheets/d/1Kptv1Yhe55NnKrQfatjnFhSoEKdPJ_02VtssK9GkJPk/edit#gid=0\"\",\"\"RWA!F:BZ\"\"),44,0))\"),\"\")","v":""},{"$f":"IFERROR(__xludf.DUMMYFUNCTION(\"iferror(VLOOKUP(B271,IMPORTRANGE(\"\"https://docs.google.com/spreadsheets/d/1Kptv1Yhe55NnKrQfatjnFhSoEKdPJ_02VtssK9GkJPk/edit#gid=0\"\",\"\"RWA!F:BZ\"\"),48,0))\"),\"\")","v":""}]
[null,null,null,{"$f":"IFERROR(__xludf.DUMMYFUNCTION(\"iferror(VLOOKUP(B272,IMPORTRANGE(\"\"https://docs.google.com/spreadsheets/d/1Kptv1Yhe55NnKrQfatjnFhSoEKdPJ_02VtssK9GkJPk/edit#gid=0\"\",\"\"RWA!F:BZ\"\"),44,0))\"),\"\")","v":""},{"$f":"IFERROR(__xludf.DUMMYFUNCTION(\"iferror(VLOOKUP(B272,IMPORTRANGE(\"\"https://docs.google.com/spreadsheets/d/1Kptv1Yhe55NnKrQfatjnFhSoEKdPJ_02VtssK9GkJPk/edit#gid=0\"\",\"\"RWA!F:BZ\"\"),48,0))\"),\"\")","v":""}]
[null,null,null,{"$f":"IFERROR(__xludf.DUMMYFUNCTION(\"iferror(VLOOKUP(B273,IMPORTRANGE(\"\"https://docs.google.com/spreadsheets/d/1Kptv1Yhe55NnKrQfatjnFhSoEKdPJ_02VtssK9GkJPk/edit#gid=0\"\",\"\"RWA!F:BZ\"\"),44,0))\"),\"\")","v":""},{"$f":"IFERROR(__xludf.DUMMYFUNCTION(\"iferror(VLOOKUP(B273,IMPORTRANGE(\"\"https://docs.google.com/spreadsheets/d/1Kptv1Yhe55NnKrQfatjnFhSoEKdPJ_02VtssK9GkJPk/edit#gid=0\"\",\"\"RWA!F:BZ\"\"),48,0))\"),\"\")","v":""}]
[null,null,null,{"$f":"IFERROR(__xludf.DUMMYFUNCTION(\"iferror(VLOOKUP(B274,IMPORTRANGE(\"\"https://docs.google.com/spreadsheets/d/1Kptv1Yhe55NnKrQfatjnFhSoEKdPJ_02VtssK9GkJPk/edit#gid=0\"\",\"\"RWA!F:BZ\"\"),44,0))\"),\"\")","v":""},{"$f":"IFERROR(__xludf.DUMMYFUNCTION(\"iferror(VLOOKUP(B274,IMPORTRANGE(\"\"https://docs.google.com/spreadsheets/d/1Kptv1Yhe55NnKrQfatjnFhSoEKdPJ_02VtssK9GkJPk/edit#gid=0\"\",\"\"RWA!F:BZ\"\"),48,0))\"),\"\")","v":""}]
[null,null,null,{"$f":"IFERROR(__xludf.DUMMYFUNCTION(\"iferror(VLOOKUP(B275,IMPORTRANGE(\"\"https://docs.google.com/spreadsheets/d/1Kptv1Yhe55NnKrQfatjnFhSoEKdPJ_02VtssK9GkJPk/edit#gid=0\"\",\"\"RWA!F:BZ\"\"),44,0))\"),\"\")","v":""},{"$f":"IFERROR(__xludf.DUMMYFUNCTION(\"iferror(VLOOKUP(B275,IMPORTRANGE(\"\"https://docs.google.com/spreadsheets/d/1Kptv1Yhe55NnKrQfatjnFhSoEKdPJ_02VtssK9GkJPk/edit#gid=0\"\",\"\"RWA!F:BZ\"\"),48,0))\"),\"\")","v":""}]
[null,null,null,{"$f":"IFERROR(__xludf.DUMMYFUNCTION(\"iferror(VLOOKUP(B276,IMPORTRANGE(\"\"https://docs.google.com/spreadsheets/d/1Kptv1Yhe55NnKrQfatjnFhSoEKdPJ_02VtssK9GkJPk/edit#gid=0\"\",\"\"RWA!F:BZ\"\"),44,0))\"),\"\")","v":""},{"$f":"IFERROR(__xludf.DUMMYFUNCTION(\"iferror(VLOOKUP(B276,IMPORTRANGE(\"\"https://docs.google.com/spreadsheets/d/1Kptv1Yhe55NnKrQfatjnFhSoEKdPJ_02VtssK9GkJPk/edit#gid=0\"\",\"\"RWA!F:BZ\"\"),48,0))\"),\"\")","v":""}]
[null,null,null,{"$f":"IFERROR(__xludf.DUMMYFUNCTION(\"iferror(VLOOKUP(B277,IMPORTRANGE(\"\"https://docs.google.com/spreadsheets/d/1Kptv1Yhe55NnKrQfatjnFhSoEKdPJ_02VtssK9GkJPk/edit#gid=0\"\",\"\"RWA!F:BZ\"\"),44,0))\"),\"\")","v":""},{"$f":"IFERROR(__xludf.DUMMYFUNCTION(\"iferror(VLOOKUP(B277,IMPORTRANGE(\"\"https://docs.google.com/spreadsheets/d/1Kptv1Yhe55NnKrQfatjnFhSoEKdPJ_02VtssK9GkJPk/edit#gid=0\"\",\"\"RWA!F:BZ\"\"),48,0))\"),\"\")","v":""}]
[null,null,null,{"$f":"IFERROR(__xludf.DUMMYFUNCTION(\"iferror(VLOOKUP(B278,IMPORTRANGE(\"\"https://docs.google.com/spreadsheets/d/1Kptv1Yhe55NnKrQfatjnFhSoEKdPJ_02VtssK9GkJPk/edit#gid=0\"\",\"\"RWA!F:BZ\"\"),44,0))\"),\"\")","v":""},{"$f":"IFERROR(__xludf.DUMMYFUNCTION(\"iferror(VLOOKUP(B278,IMPORTRANGE(\"\"https://docs.google.com/spreadsheets/d/1Kptv1Yhe55NnKrQfatjnFhSoEKdPJ_02VtssK9GkJPk/edit#gid=0\"\",\"\"RWA!F:BZ\"\"),48,0))\"),\"\")","v":""}]
[null,null,null,{"$f":"IFERROR(__xludf.DUMMYFUNCTION(\"iferror(VLOOKUP(B279,IMPORTRANGE(\"\"https://docs.google.com/spreadsheets/d/1Kptv1Yhe55NnKrQfatjnFhSoEKdPJ_02VtssK9GkJPk/edit#gid=0\"\",\"\"RWA!F:BZ\"\"),44,0))\"),\"\")","v":""},{"$f":"IFERROR(__xludf.DUMMYFUNCTION(\"iferror(VLOOKUP(B279,IMPORTRANGE(\"\"https://docs.google.com/spreadsheets/d/1Kptv1Yhe55NnKrQfatjnFhSoEKdPJ_02VtssK9GkJPk/edit#gid=0\"\",\"\"RWA!F:BZ\"\"),48,0))\"),\"\")","v":""}]
[null,null,null,{"$f":"IFERROR(__xludf.DUMMYFUNCTION(\"iferror(VLOOKUP(B280,IMPORTRANGE(\"\"https://docs.google.com/spreadsheets/d/1Kptv1Yhe55NnKrQfatjnFhSoEKdPJ_02VtssK9GkJPk/edit#gid=0\"\",\"\"RWA!F:BZ\"\"),44,0))\"),\"\")","v":""},{"$f":"IFERROR(__xludf.DUMMYFUNCTION(\"iferror(VLOOKUP(B280,IMPORTRANGE(\"\"https://docs.google.com/spreadsheets/d/1Kptv1Yhe55NnKrQfatjnFhSoEKdPJ_02VtssK9GkJPk/edit#gid=0\"\",\"\"RWA!F:BZ\"\"),48,0))\"),\"\")","v":""}]
[null,null,null,{"$f":"IFERROR(__xludf.DUMMYFUNCTION(\"iferror(VLOOKUP(B281,IMPORTRANGE(\"\"https://docs.google.com/spreadsheets/d/1Kptv1Yhe55NnKrQfatjnFhSoEKdPJ_02VtssK9GkJPk/edit#gid=0\"\",\"\"RWA!F:BZ\"\"),44,0))\"),\"\")","v":""},{"$f":"IFERROR(__xludf.DUMMYFUNCTION(\"iferror(VLOOKUP(B281,IMPORTRANGE(\"\"https://docs.google.com/spreadsheets/d/1Kptv1Yhe55NnKrQfatjnFhSoEKdPJ_02VtssK9GkJPk/edit#gid=0\"\",\"\"RWA!F:BZ\"\"),48,0))\"),\"\")","v":""}]
[null,null,null,{"$f":"IFERROR(__xludf.DUMMYFUNCTION(\"iferror(VLOOKUP(B282,IMPORTRANGE(\"\"https://docs.google.com/spreadsheets/d/1Kptv1Yhe55NnKrQfatjnFhSoEKdPJ_02VtssK9GkJPk/edit#gid=0\"\",\"\"RWA!F:BZ\"\"),44,0))\"),\"\")","v":""},{"$f":"IFERROR(__xludf.DUMMYFUNCTION(\"iferror(VLOOKUP(B282,IMPORTRANGE(\"\"https://docs.google.com/spreadsheets/d/1Kptv1Yhe55NnKrQfatjnFhSoEKdPJ_02VtssK9GkJPk/edit#gid=0\"\",\"\"RWA!F:BZ\"\"),48,0))\"),\"\")","v":""}]
[null,null,null,{"$f":"IFERROR(__xludf.DUMMYFUNCTION(\"iferror(VLOOKUP(B283,IMPORTRANGE(\"\"https://docs.google.com/spreadsheets/d/1Kptv1Yhe55NnKrQfatjnFhSoEKdPJ_02VtssK9GkJPk/edit#gid=0\"\",\"\"RWA!F:BZ\"\"),44,0))\"),\"\")","v":""},{"$f":"IFERROR(__xludf.DUMMYFUNCTION(\"iferror(VLOOKUP(B283,IMPORTRANGE(\"\"https://docs.google.com/spreadsheets/d/1Kptv1Yhe55NnKrQfatjnFhSoEKdPJ_02VtssK9GkJPk/edit#gid=0\"\",\"\"RWA!F:BZ\"\"),48,0))\"),\"\")","v":""}]
[null,null,null,{"$f":"IFERROR(__xludf.DUMMYFUNCTION(\"iferror(VLOOKUP(B284,IMPORTRANGE(\"\"https://docs.google.com/spreadsheets/d/1Kptv1Yhe55NnKrQfatjnFhSoEKdPJ_02VtssK9GkJPk/edit#gid=0\"\",\"\"RWA!F:BZ\"\"),44,0))\"),\"\")","v":""},{"$f":"IFERROR(__xludf.DUMMYFUNCTION(\"iferror(VLOOKUP(B284,IMPORTRANGE(\"\"https://docs.google.com/spreadsheets/d/1Kptv1Yhe55NnKrQfatjnFhSoEKdPJ_02VtssK9GkJPk/edit#gid=0\"\",\"\"RWA!F:BZ\"\"),48,0))\"),\"\")","v":""}]
[null,null,null,{"$f":"IFERROR(__xludf.DUMMYFUNCTION(\"iferror(VLOOKUP(B285,IMPORTRANGE(\"\"https://docs.google.com/spreadsheets/d/1Kptv1Yhe55NnKrQfatjnFhSoEKdPJ_02VtssK9GkJPk/edit#gid=0\"\",\"\"RWA!F:BZ\"\"),44,0))\"),\"\")","v":""},{"$f":"IFERROR(__xludf.DUMMYFUNCTION(\"iferror(VLOOKUP(B285,IMPORTRANGE(\"\"https://docs.google.com/spreadsheets/d/1Kptv1Yhe55NnKrQfatjnFhSoEKdPJ_02VtssK9GkJPk/edit#gid=0\"\",\"\"RWA!F:BZ\"\"),48,0))\"),\"\")","v":""}]
[null,null,null,{"$f":"IFERROR(__xludf.DUMMYFUNCTION(\"iferror(VLOOKUP(B286,IMPORTRANGE(\"\"https://docs.google.com/spreadsheets/d/1Kptv1Yhe55NnKrQfatjnFhSoEKdPJ_02VtssK9GkJPk/edit#gid=0\"\",\"\"RWA!F:BZ\"\"),44,0))\"),\"\")","v":""},{"$f":"IFERROR(__xludf.DUMMYFUNCTION(\"iferror(VLOOKUP(B286,IMPORTRANGE(\"\"https://docs.google.com/spreadsheets/d/1Kptv1Yhe55NnKrQfatjnFhSoEKdPJ_02VtssK9GkJPk/edit#gid=0\"\",\"\"RWA!F:BZ\"\"),48,0))\"),\"\")","v":""}]
[null,null,null,{"$f":"IFERROR(__xludf.DUMMYFUNCTION(\"iferror(VLOOKUP(B287,IMPORTRANGE(\"\"https://docs.google.com/spreadsheets/d/1Kptv1Yhe55NnKrQfatjnFhSoEKdPJ_02VtssK9GkJPk/edit#gid=0\"\",\"\"RWA!F:BZ\"\"),44,0))\"),\"\")","v":""},{"$f":"IFERROR(__xludf.DUMMYFUNCTION(\"iferror(VLOOKUP(B287,IMPORTRANGE(\"\"https://docs.google.com/spreadsheets/d/1Kptv1Yhe55NnKrQfatjnFhSoEKdPJ_02VtssK9GkJPk/edit#gid=0\"\",\"\"RWA!F:BZ\"\"),48,0))\"),\"\")","v":""}]
[null,null,null,{"$f":"IFERROR(__xludf.DUMMYFUNCTION(\"iferror(VLOOKUP(B288,IMPORTRANGE(\"\"https://docs.google.com/spreadsheets/d/1Kptv1Yhe55NnKrQfatjnFhSoEKdPJ_02VtssK9GkJPk/edit#gid=0\"\",\"\"RWA!F:BZ\"\"),44,0))\"),\"\")","v":""},{"$f":"IFERROR(__xludf.DUMMYFUNCTION(\"iferror(VLOOKUP(B288,IMPORTRANGE(\"\"https://docs.google.com/spreadsheets/d/1Kptv1Yhe55NnKrQfatjnFhSoEKdPJ_02VtssK9GkJPk/edit#gid=0\"\",\"\"RWA!F:BZ\"\"),48,0))\"),\"\")","v":""}]
[null,null,null,{"$f":"IFERROR(__xludf.DUMMYFUNCTION(\"iferror(VLOOKUP(B289,IMPORTRANGE(\"\"https://docs.google.com/spreadsheets/d/1Kptv1Yhe55NnKrQfatjnFhSoEKdPJ_02VtssK9GkJPk/edit#gid=0\"\",\"\"RWA!F:BZ\"\"),44,0))\"),\"\")","v":""},{"$f":"IFERROR(__xludf.DUMMYFUNCTION(\"iferror(VLOOKUP(B289,IMPORTRANGE(\"\"https://docs.google.com/spreadsheets/d/1Kptv1Yhe55NnKrQfatjnFhSoEKdPJ_02VtssK9GkJPk/edit#gid=0\"\",\"\"RWA!F:BZ\"\"),48,0))\"),\"\")","v":""}]
[null,null,null,{"$f":"IFERROR(__xludf.DUMMYFUNCTION(\"iferror(VLOOKUP(B290,IMPORTRANGE(\"\"https://docs.google.com/spreadsheets/d/1Kptv1Yhe55NnKrQfatjnFhSoEKdPJ_02VtssK9GkJPk/edit#gid=0\"\",\"\"RWA!F:BZ\"\"),44,0))\"),\"\")","v":""},{"$f":"IFERROR(__xludf.DUMMYFUNCTION(\"iferror(VLOOKUP(B290,IMPORTRANGE(\"\"https://docs.google.com/spreadsheets/d/1Kptv1Yhe55NnKrQfatjnFhSoEKdPJ_02VtssK9GkJPk/edit#gid=0\"\",\"\"RWA!F:BZ\"\"),48,0))\"),\"\")","v":""}]
[null,null,null,{"$f":"IFERROR(__xludf.DUMMYFUNCTION(\"iferror(VLOOKUP(B291,IMPORTRANGE(\"\"https://docs.google.com/spreadsheets/d/1Kptv1Yhe55NnKrQfatjnFhSoEKdPJ_02VtssK9GkJPk/edit#gid=0\"\",\"\"RWA!F:BZ\"\"),44,0))\"),\"\")","v":""},{"$f":"IFERROR(__xludf.DUMMYFUNCTION(\"iferror(VLOOKUP(B291,IMPORTRANGE(\"\"https://docs.google.com/spreadsheets/d/1Kptv1Yhe55NnKrQfatjnFhSoEKdPJ_02VtssK9GkJPk/edit#gid=0\"\",\"\"RWA!F:BZ\"\"),48,0))\"),\"\")","v":""}]
[null,null,null,{"$f":"IFERROR(__xludf.DUMMYFUNCTION(\"iferror(VLOOKUP(B292,IMPORTRANGE(\"\"https://docs.google.com/spreadsheets/d/1Kptv1Yhe55NnKrQfatjnFhSoEKdPJ_02VtssK9GkJPk/edit#gid=0\"\",\"\"RWA!F:BZ\"\"),44,0))\"),\"\")","v":""},{"$f":"IFERROR(__xludf.DUMMYFUNCTION(\"iferror(VLOOKUP(B292,IMPORTRANGE(\"\"https://docs.google.com/spreadsheets/d/1Kptv1Yhe55NnKrQfatjnFhSoEKdPJ_02VtssK9GkJPk/edit#gid=0\"\",\"\"RWA!F:BZ\"\"),48,0))\"),\"\")","v":""}]
[null,null,null,{"$f":"IFERROR(__xludf.DUMMYFUNCTION(\"iferror(VLOOKUP(B293,IMPORTRANGE(\"\"https://docs.google.com/spreadsheets/d/1Kptv1Yhe55NnKrQfatjnFhSoEKdPJ_02VtssK9GkJPk/edit#gid=0\"\",\"\"RWA!F:BZ\"\"),44,0))\"),\"\")","v":""},{"$f":"IFERROR(__xludf.DUMMYFUNCTION(\"iferror(VLOOKUP(B293,IMPORTRANGE(\"\"https://docs.google.com/spreadsheets/d/1Kptv1Yhe55NnKrQfatjnFhSoEKdPJ_02VtssK9GkJPk/edit#gid=0\"\",\"\"RWA!F:BZ\"\"),48,0))\"),\"\")","v":""}]
[null,null,null,{"$f":"IFERROR(__xludf.DUMMYFUNCTION(\"iferror(VLOOKUP(B294,IMPORTRANGE(\"\"https://docs.google.com/spreadsheets/d/1Kptv1Yhe55NnKrQfatjnFhSoEKdPJ_02VtssK9GkJPk/edit#gid=0\"\",\"\"RWA!F:BZ\"\"),44,0))\"),\"\")","v":""},{"$f":"IFERROR(__xludf.DUMMYFUNCTION(\"iferror(VLOOKUP(B294,IMPORTRANGE(\"\"https://docs.google.com/spreadsheets/d/1Kptv1Yhe55NnKrQfatjnFhSoEKdPJ_02VtssK9GkJPk/edit#gid=0\"\",\"\"RWA!F:BZ\"\"),48,0))\"),\"\")","v":""}]
[null,null,null,{"$f":"IFERROR(__xludf.DUMMYFUNCTION(\"iferror(VLOOKUP(B295,IMPORTRANGE(\"\"https://docs.google.com/spreadsheets/d/1Kptv1Yhe55NnKrQfatjnFhSoEKdPJ_02VtssK9GkJPk/edit#gid=0\"\",\"\"RWA!F:BZ\"\"),44,0))\"),\"\")","v":""},{"$f":"IFERROR(__xludf.DUMMYFUNCTION(\"iferror(VLOOKUP(B295,IMPORTRANGE(\"\"https://docs.google.com/spreadsheets/d/1Kptv1Yhe55NnKrQfatjnFhSoEKdPJ_02VtssK9GkJPk/edit#gid=0\"\",\"\"RWA!F:BZ\"\"),48,0))\"),\"\")","v":""}]
[null,null,null,{"$f":"IFERROR(__xludf.DUMMYFUNCTION(\"iferror(VLOOKUP(B296,IMPORTRANGE(\"\"https://docs.google.com/spreadsheets/d/1Kptv1Yhe55NnKrQfatjnFhSoEKdPJ_02VtssK9GkJPk/edit#gid=0\"\",\"\"RWA!F:BZ\"\"),44,0))\"),\"\")","v":""},{"$f":"IFERROR(__xludf.DUMMYFUNCTION(\"iferror(VLOOKUP(B296,IMPORTRANGE(\"\"https://docs.google.com/spreadsheets/d/1Kptv1Yhe55NnKrQfatjnFhSoEKdPJ_02VtssK9GkJPk/edit#gid=0\"\",\"\"RWA!F:BZ\"\"),48,0))\"),\"\")","v":""}]
[null,null,null,{"$f":"IFERROR(__xludf.DUMMYFUNCTION(\"iferror(VLOOKUP(B297,IMPORTRANGE(\"\"https://docs.google.com/spreadsheets/d/1Kptv1Yhe55NnKrQfatjnFhSoEKdPJ_02VtssK9GkJPk/edit#gid=0\"\",\"\"RWA!F:BZ\"\"),44,0))\"),\"\")","v":""},{"$f":"IFERROR(__xludf.DUMMYFUNCTION(\"iferror(VLOOKUP(B297,IMPORTRANGE(\"\"https://docs.google.com/spreadsheets/d/1Kptv1Yhe55NnKrQfatjnFhSoEKdPJ_02VtssK9GkJPk/edit#gid=0\"\",\"\"RWA!F:BZ\"\"),48,0))\"),\"\")","v":""}]
[null,null,null,{"$f":"IFERROR(__xludf.DUMMYFUNCTION(\"iferror(VLOOKUP(B298,IMPORTRANGE(\"\"https://docs.google.com/spreadsheets/d/1Kptv1Yhe55NnKrQfatjnFhSoEKdPJ_02VtssK9GkJPk/edit#gid=0\"\",\"\"RWA!F:BZ\"\"),44,0))\"),\"\")","v":""},{"$f":"IFERROR(__xludf.DUMMYFUNCTION(\"iferror(VLOOKUP(B298,IMPORTRANGE(\"\"https://docs.google.com/spreadsheets/d/1Kptv1Yhe55NnKrQfatjnFhSoEKdPJ_02VtssK9GkJPk/edit#gid=0\"\",\"\"RWA!F:BZ\"\"),48,0))\"),\"\")","v":""}]
[null,null,null,{"$f":"IFERROR(__xludf.DUMMYFUNCTION(\"iferror(VLOOKUP(B299,IMPORTRANGE(\"\"https://docs.google.com/spreadsheets/d/1Kptv1Yhe55NnKrQfatjnFhSoEKdPJ_02VtssK9GkJPk/edit#gid=0\"\",\"\"RWA!F:BZ\"\"),44,0))\"),\"\")","v":""},{"$f":"IFERROR(__xludf.DUMMYFUNCTION(\"iferror(VLOOKUP(B299,IMPORTRANGE(\"\"https://docs.google.com/spreadsheets/d/1Kptv1Yhe55NnKrQfatjnFhSoEKdPJ_02VtssK9GkJPk/edit#gid=0\"\",\"\"RWA!F:BZ\"\"),48,0))\"),\"\")","v":""}]
[null,null,null,{"$f":"IFERROR(__xludf.DUMMYFUNCTION(\"iferror(VLOOKUP(B300,IMPORTRANGE(\"\"https://docs.google.com/spreadsheets/d/1Kptv1Yhe55NnKrQfatjnFhSoEKdPJ_02VtssK9GkJPk/edit#gid=0\"\",\"\"RWA!F:BZ\"\"),44,0))\"),\"\")","v":""},{"$f":"IFERROR(__xludf.DUMMYFUNCTION(\"iferror(VLOOKUP(B300,IMPORTRANGE(\"\"https://docs.google.com/spreadsheets/d/1Kptv1Yhe55NnKrQfatjnFhSoEKdPJ_02VtssK9GkJPk/edit#gid=0\"\",\"\"RWA!F:BZ\"\"),48,0))\"),\"\")","v":""}]
[null,null,null,{"$f":"IFERROR(__xludf.DUMMYFUNCTION(\"iferror(VLOOKUP(B301,IMPORTRANGE(\"\"https://docs.google.com/spreadsheets/d/1Kptv1Yhe55NnKrQfatjnFhSoEKdPJ_02VtssK9GkJPk/edit#gid=0\"\",\"\"RWA!F:BZ\"\"),44,0))\"),\"\")","v":""},{"$f":"IFERROR(__xludf.DUMMYFUNCTION(\"iferror(VLOOKUP(B301,IMPORTRANGE(\"\"https://docs.google.com/spreadsheets/d/1Kptv1Yhe55NnKrQfatjnFhSoEKdPJ_02VtssK9GkJPk/edit#gid=0\"\",\"\"RWA!F:BZ\"\"),48,0))\"),\"\")","v":""}]
[null,null,null,{"$f":"IFERROR(__xludf.DUMMYFUNCTION(\"iferror(VLOOKUP(B302,IMPORTRANGE(\"\"https://docs.google.com/spreadsheets/d/1Kptv1Yhe55NnKrQfatjnFhSoEKdPJ_02VtssK9GkJPk/edit#gid=0\"\",\"\"RWA!F:BZ\"\"),44,0))\"),\"\")","v":""},{"$f":"IFERROR(__xludf.DUMMYFUNCTION(\"iferror(VLOOKUP(B302,IMPORTRANGE(\"\"https://docs.google.com/spreadsheets/d/1Kptv1Yhe55NnKrQfatjnFhSoEKdPJ_02VtssK9GkJPk/edit#gid=0\"\",\"\"RWA!F:BZ\"\"),48,0))\"),\"\")","v":""}]
[null,null,null,{"$f":"IFERROR(__xludf.DUMMYFUNCTION(\"iferror(VLOOKUP(B303,IMPORTRANGE(\"\"https://docs.google.com/spreadsheets/d/1Kptv1Yhe55NnKrQfatjnFhSoEKdPJ_02VtssK9GkJPk/edit#gid=0\"\",\"\"RWA!F:BZ\"\"),44,0))\"),\"\")","v":""},{"$f":"IFERROR(__xludf.DUMMYFUNCTION(\"iferror(VLOOKUP(B303,IMPORTRANGE(\"\"https://docs.google.com/spreadsheets/d/1Kptv1Yhe55NnKrQfatjnFhSoEKdPJ_02VtssK9GkJPk/edit#gid=0\"\",\"\"RWA!F:BZ\"\"),48,0))\"),\"\")","v":""}]
[null,null,null,{"$f":"IFERROR(__xludf.DUMMYFUNCTION(\"iferror(VLOOKUP(B304,IMPORTRANGE(\"\"https://docs.google.com/spreadsheets/d/1Kptv1Yhe55NnKrQfatjnFhSoEKdPJ_02VtssK9GkJPk/edit#gid=0\"\",\"\"RWA!F:BZ\"\"),44,0))\"),\"\")","v":""},{"$f":"IFERROR(__xludf.DUMMYFUNCTION(\"iferror(VLOOKUP(B304,IMPORTRANGE(\"\"https://docs.google.com/spreadsheets/d/1Kptv1Yhe55NnKrQfatjnFhSoEKdPJ_02VtssK9GkJPk/edit#gid=0\"\",\"\"RWA!F:BZ\"\"),48,0))\"),\"\")","v":""}]
[null,null,null,{"$f":"IFERROR(__xludf.DUMMYFUNCTION(\"iferror(VLOOKUP(B305,IMPORTRANGE(\"\"https://docs.google.com/spreadsheets/d/1Kptv1Yhe55NnKrQfatjnFhSoEKdPJ_02VtssK9GkJPk/edit#gid=0\"\",\"\"RWA!F:BZ\"\"),44,0))\"),\"\")","v":""},{"$f":"IFERROR(__xludf.DUMMYFUNCTION(\"iferror(VLOOKUP(B305,IMPORTRANGE(\"\"https://docs.google.com/spreadsheets/d/1Kptv1Yhe55NnKrQfatjnFhSoEKdPJ_02VtssK9GkJPk/edit#gid=0\"\",\"\"RWA!F:BZ\"\"),48,0))\"),\"\")","v":""}]
[null,null,null,{"$f":"IFERROR(__xludf.DUMMYFUNCTION(\"iferror(VLOOKUP(B306,IMPORTRANGE(\"\"https://docs.google.com/spreadsheets/d/1Kptv1Yhe55NnKrQfatjnFhSoEKdPJ_02VtssK9GkJPk/edit#gid=0\"\",\"\"RWA!F:BZ\"\"),44,0))\"),\"\")","v":""},{"$f":"IFERROR(__xludf.DUMMYFUNCTION(\"iferror(VLOOKUP(B306,IMPORTRANGE(\"\"https://docs.google.com/spreadsheets/d/1Kptv1Yhe55NnKrQfatjnFhSoEKdPJ_02VtssK9GkJPk/edit#gid=0\"\",\"\"RWA!F:BZ\"\"),48,0))\"),\"\")","v":""}]
[null,null,null,{"$f":"IFERROR(__xludf.DUMMYFUNCTION(\"iferror(VLOOKUP(B307,IMPORTRANGE(\"\"https://docs.google.com/spreadsheets/d/1Kptv1Yhe55NnKrQfatjnFhSoEKdPJ_02VtssK9GkJPk/edit#gid=0\"\",\"\"RWA!F:BZ\"\"),44,0))\"),\"\")","v":""},{"$f":"IFERROR(__xludf.DUMMYFUNCTION(\"iferror(VLOOKUP(B307,IMPORTRANGE(\"\"https://docs.google.com/spreadsheets/d/1Kptv1Yhe55NnKrQfatjnFhSoEKdPJ_02VtssK9GkJPk/edit#gid=0\"\",\"\"RWA!F:BZ\"\"),48,0))\"),\"\")","v":""}]
[null,null,null,{"$f":"IFERROR(__xludf.DUMMYFUNCTION(\"iferror(VLOOKUP(B308,IMPORTRANGE(\"\"https://docs.google.com/spreadsheets/d/1Kptv1Yhe55NnKrQfatjnFhSoEKdPJ_02VtssK9GkJPk/edit#gid=0\"\",\"\"RWA!F:BZ\"\"),44,0))\"),\"\")","v":""},{"$f":"IFERROR(__xludf.DUMMYFUNCTION(\"iferror(VLOOKUP(B308,IMPORTRANGE(\"\"https://docs.google.com/spreadsheets/d/1Kptv1Yhe55NnKrQfatjnFhSoEKdPJ_02VtssK9GkJPk/edit#gid=0\"\",\"\"RWA!F:BZ\"\"),48,0))\"),\"\")","v":""}]
[null,null,null,{"$f":"IFERROR(__xludf.DUMMYFUNCTION(\"iferror(VLOOKUP(B309,IMPORTRANGE(\"\"https://docs.google.com/spreadsheets/d/1Kptv1Yhe55NnKrQfatjnFhSoEKdPJ_02VtssK9GkJPk/edit#gid=0\"\",\"\"RWA!F:BZ\"\"),44,0))\"),\"\")","v":""},{"$f":"IFERROR(__xludf.DUMMYFUNCTION(\"iferror(VLOOKUP(B309,IMPORTRANGE(\"\"https://docs.google.com/spreadsheets/d/1Kptv1Yhe55NnKrQfatjnFhSoEKdPJ_02VtssK9GkJPk/edit#gid=0\"\",\"\"RWA!F:BZ\"\"),48,0))\"),\"\")","v":""}]
[null,null,null,{"$f":"IFERROR(__xludf.DUMMYFUNCTION(\"iferror(VLOOKUP(B310,IMPORTRANGE(\"\"https://docs.google.com/spreadsheets/d/1Kptv1Yhe55NnKrQfatjnFhSoEKdPJ_02VtssK9GkJPk/edit#gid=0\"\",\"\"RWA!F:BZ\"\"),44,0))\"),\"\")","v":""},{"$f":"IFERROR(__xludf.DUMMYFUNCTION(\"iferror(VLOOKUP(B310,IMPORTRANGE(\"\"https://docs.google.com/spreadsheets/d/1Kptv1Yhe55NnKrQfatjnFhSoEKdPJ_02VtssK9GkJPk/edit#gid=0\"\",\"\"RWA!F:BZ\"\"),48,0))\"),\"\")","v":""}]
[null,null,null,{"$f":"IFERROR(__xludf.DUMMYFUNCTION(\"iferror(VLOOKUP(B311,IMPORTRANGE(\"\"https://docs.google.com/spreadsheets/d/1Kptv1Yhe55NnKrQfatjnFhSoEKdPJ_02VtssK9GkJPk/edit#gid=0\"\",\"\"RWA!F:BZ\"\"),44,0))\"),\"\")","v":""},{"$f":"IFERROR(__xludf.DUMMYFUNCTION(\"iferror(VLOOKUP(B311,IMPORTRANGE(\"\"https://docs.google.com/spreadsheets/d/1Kptv1Yhe55NnKrQfatjnFhSoEKdPJ_02VtssK9GkJPk/edit#gid=0\"\",\"\"RWA!F:BZ\"\"),48,0))\"),\"\")","v":""}]
[null,null,null,{"$f":"IFERROR(__xludf.DUMMYFUNCTION(\"iferror(VLOOKUP(B312,IMPORTRANGE(\"\"https://docs.google.com/spreadsheets/d/1Kptv1Yhe55NnKrQfatjnFhSoEKdPJ_02VtssK9GkJPk/edit#gid=0\"\",\"\"RWA!F:BZ\"\"),44,0))\"),\"\")","v":""},{"$f":"IFERROR(__xludf.DUMMYFUNCTION(\"iferror(VLOOKUP(B312,IMPORTRANGE(\"\"https://docs.google.com/spreadsheets/d/1Kptv1Yhe55NnKrQfatjnFhSoEKdPJ_02VtssK9GkJPk/edit#gid=0\"\",\"\"RWA!F:BZ\"\"),48,0))\"),\"\")","v":""}]
[null,null,null,{"$f":"IFERROR(__xludf.DUMMYFUNCTION(\"iferror(VLOOKUP(B313,IMPORTRANGE(\"\"https://docs.google.com/spreadsheets/d/1Kptv1Yhe55NnKrQfatjnFhSoEKdPJ_02VtssK9GkJPk/edit#gid=0\"\",\"\"RWA!F:BZ\"\"),44,0))\"),\"\")","v":""},{"$f":"IFERROR(__xludf.DUMMYFUNCTION(\"iferror(VLOOKUP(B313,IMPORTRANGE(\"\"https://docs.google.com/spreadsheets/d/1Kptv1Yhe55NnKrQfatjnFhSoEKdPJ_02VtssK9GkJPk/edit#gid=0\"\",\"\"RWA!F:BZ\"\"),48,0))\"),\"\")","v":""}]
[null,null,null,{"$f":"IFERROR(__xludf.DUMMYFUNCTION(\"iferror(VLOOKUP(B314,IMPORTRANGE(\"\"https://docs.google.com/spreadsheets/d/1Kptv1Yhe55NnKrQfatjnFhSoEKdPJ_02VtssK9GkJPk/edit#gid=0\"\",\"\"RWA!F:BZ\"\"),44,0))\"),\"\")","v":""},{"$f":"IFERROR(__xludf.DUMMYFUNCTION(\"iferror(VLOOKUP(B314,IMPORTRANGE(\"\"https://docs.google.com/spreadsheets/d/1Kptv1Yhe55NnKrQfatjnFhSoEKdPJ_02VtssK9GkJPk/edit#gid=0\"\",\"\"RWA!F:BZ\"\"),48,0))\"),\"\")","v":""}]
[null,null,null,{"$f":"IFERROR(__xludf.DUMMYFUNCTION(\"iferror(VLOOKUP(B315,IMPORTRANGE(\"\"https://docs.google.com/spreadsheets/d/1Kptv1Yhe55NnKrQfatjnFhSoEKdPJ_02VtssK9GkJPk/edit#gid=0\"\",\"\"RWA!F:BZ\"\"),44,0))\"),\"\")","v":""},{"$f":"IFERROR(__xludf.DUMMYFUNCTION(\"iferror(VLOOKUP(B315,IMPORTRANGE(\"\"https://docs.google.com/spreadsheets/d/1Kptv1Yhe55NnKrQfatjnFhSoEKdPJ_02VtssK9GkJPk/edit#gid=0\"\",\"\"RWA!F:BZ\"\"),48,0))\"),\"\")","v":""}]
[null,null,null,{"$f":"IFERROR(__xludf.DUMMYFUNCTION(\"iferror(VLOOKUP(B316,IMPORTRANGE(\"\"https://docs.google.com/spreadsheets/d/1Kptv1Yhe55NnKrQfatjnFhSoEKdPJ_02VtssK9GkJPk/edit#gid=0\"\",\"\"RWA!F:BZ\"\"),44,0))\"),\"\")","v":""},{"$f":"IFERROR(__xludf.DUMMYFUNCTION(\"iferror(VLOOKUP(B316,IMPORTRANGE(\"\"https://docs.google.com/spreadsheets/d/1Kptv1Yhe55NnKrQfatjnFhSoEKdPJ_02VtssK9GkJPk/edit#gid=0\"\",\"\"RWA!F:BZ\"\"),48,0))\"),\"\")","v":""}]
[null,null,null,{"$f":"IFERROR(__xludf.DUMMYFUNCTION(\"iferror(VLOOKUP(B317,IMPORTRANGE(\"\"https://docs.google.com/spreadsheets/d/1Kptv1Yhe55NnKrQfatjnFhSoEKdPJ_02VtssK9GkJPk/edit#gid=0\"\",\"\"RWA!F:BZ\"\"),44,0))\"),\"\")","v":""},{"$f":"IFERROR(__xludf.DUMMYFUNCTION(\"iferror(VLOOKUP(B317,IMPORTRANGE(\"\"https://docs.google.com/spreadsheets/d/1Kptv1Yhe55NnKrQfatjnFhSoEKdPJ_02VtssK9GkJPk/edit#gid=0\"\",\"\"RWA!F:BZ\"\"),48,0))\"),\"\")","v":""}]
[null,null,null,{"$f":"IFERROR(__xludf.DUMMYFUNCTION(\"iferror(VLOOKUP(B318,IMPORTRANGE(\"\"https://docs.google.com/spreadsheets/d/1Kptv1Yhe55NnKrQfatjnFhSoEKdPJ_02VtssK9GkJPk/edit#gid=0\"\",\"\"RWA!F:BZ\"\"),44,0))\"),\"\")","v":""},{"$f":"IFERROR(__xludf.DUMMYFUNCTION(\"iferror(VLOOKUP(B318,IMPORTRANGE(\"\"https://docs.google.com/spreadsheets/d/1Kptv1Yhe55NnKrQfatjnFhSoEKdPJ_02VtssK9GkJPk/edit#gid=0\"\",\"\"RWA!F:BZ\"\"),48,0))\"),\"\")","v":""}]
[null,null,null,{"$f":"IFERROR(__xludf.DUMMYFUNCTION(\"iferror(VLOOKUP(B319,IMPORTRANGE(\"\"https://docs.google.com/spreadsheets/d/1Kptv1Yhe55NnKrQfatjnFhSoEKdPJ_02VtssK9GkJPk/edit#gid=0\"\",\"\"RWA!F:BZ\"\"),44,0))\"),\"\")","v":""},{"$f":"IFERROR(__xludf.DUMMYFUNCTION(\"iferror(VLOOKUP(B319,IMPORTRANGE(\"\"https://docs.google.com/spreadsheets/d/1Kptv1Yhe55NnKrQfatjnFhSoEKdPJ_02VtssK9GkJPk/edit#gid=0\"\",\"\"RWA!F:BZ\"\"),48,0))\"),\"\")","v":""}]
[null,null,null,{"$f":"IFERROR(__xludf.DUMMYFUNCTION(\"iferror(VLOOKUP(B320,IMPORTRANGE(\"\"https://docs.google.com/spreadsheets/d/1Kptv1Yhe55NnKrQfatjnFhSoEKdPJ_02VtssK9GkJPk/edit#gid=0\"\",\"\"RWA!F:BZ\"\"),44,0))\"),\"\")","v":""},{"$f":"IFERROR(__xludf.DUMMYFUNCTION(\"iferror(VLOOKUP(B320,IMPORTRANGE(\"\"https://docs.google.com/spreadsheets/d/1Kptv1Yhe55NnKrQfatjnFhSoEKdPJ_02VtssK9GkJPk/edit#gid=0\"\",\"\"RWA!F:BZ\"\"),48,0))\"),\"\")","v":""}]
[null,null,null,{"$f":"IFERROR(__xludf.DUMMYFUNCTION(\"iferror(VLOOKUP(B321,IMPORTRANGE(\"\"https://docs.google.com/spreadsheets/d/1Kptv1Yhe55NnKrQfatjnFhSoEKdPJ_02VtssK9GkJPk/edit#gid=0\"\",\"\"RWA!F:BZ\"\"),44,0))\"),\"\")","v":""},{"$f":"IFERROR(__xludf.DUMMYFUNCTION(\"iferror(VLOOKUP(B321,IMPORTRANGE(\"\"https://docs.google.com/spreadsheets/d/1Kptv1Yhe55NnKrQfatjnFhSoEKdPJ_02VtssK9GkJPk/edit#gid=0\"\",\"\"RWA!F:BZ\"\"),48,0))\"),\"\")","v":""}]
[null,null,null,{"$f":"IFERROR(__xludf.DUMMYFUNCTION(\"iferror(VLOOKUP(B322,IMPORTRANGE(\"\"https://docs.google.com/spreadsheets/d/1Kptv1Yhe55NnKrQfatjnFhSoEKdPJ_02VtssK9GkJPk/edit#gid=0\"\",\"\"RWA!F:BZ\"\"),44,0))\"),\"\")","v":""},{"$f":"IFERROR(__xludf.DUMMYFUNCTION(\"iferror(VLOOKUP(B322,IMPORTRANGE(\"\"https://docs.google.com/spreadsheets/d/1Kptv1Yhe55NnKrQfatjnFhSoEKdPJ_02VtssK9GkJPk/edit#gid=0\"\",\"\"RWA!F:BZ\"\"),48,0))\"),\"\")","v":""}]
[null,null,null,{"$f":"IFERROR(__xludf.DUMMYFUNCTION(\"iferror(VLOOKUP(B323,IMPORTRANGE(\"\"https://docs.google.com/spreadsheets/d/1Kptv1Yhe55NnKrQfatjnFhSoEKdPJ_02VtssK9GkJPk/edit#gid=0\"\",\"\"RWA!F:BZ\"\"),44,0))\"),\"\")","v":""},{"$f":"IFERROR(__xludf.DUMMYFUNCTION(\"iferror(VLOOKUP(B323,IMPORTRANGE(\"\"https://docs.google.com/spreadsheets/d/1Kptv1Yhe55NnKrQfatjnFhSoEKdPJ_02VtssK9GkJPk/edit#gid=0\"\",\"\"RWA!F:BZ\"\"),48,0))\"),\"\")","v":""}]
[null,null,null,{"$f":"IFERROR(__xludf.DUMMYFUNCTION(\"iferror(VLOOKUP(B324,IMPORTRANGE(\"\"https://docs.google.com/spreadsheets/d/1Kptv1Yhe55NnKrQfatjnFhSoEKdPJ_02VtssK9GkJPk/edit#gid=0\"\",\"\"RWA!F:BZ\"\"),44,0))\"),\"\")","v":""},{"$f":"IFERROR(__xludf.DUMMYFUNCTION(\"iferror(VLOOKUP(B324,IMPORTRANGE(\"\"https://docs.google.com/spreadsheets/d/1Kptv1Yhe55NnKrQfatjnFhSoEKdPJ_02VtssK9GkJPk/edit#gid=0\"\",\"\"RWA!F:BZ\"\"),48,0))\"),\"\")","v":""}]
[null,null,null,{"$f":"IFERROR(__xludf.DUMMYFUNCTION(\"iferror(VLOOKUP(B325,IMPORTRANGE(\"\"https://docs.google.com/spreadsheets/d/1Kptv1Yhe55NnKrQfatjnFhSoEKdPJ_02VtssK9GkJPk/edit#gid=0\"\",\"\"RWA!F:BZ\"\"),44,0))\"),\"\")","v":""},{"$f":"IFERROR(__xludf.DUMMYFUNCTION(\"iferror(VLOOKUP(B325,IMPORTRANGE(\"\"https://docs.google.com/spreadsheets/d/1Kptv1Yhe55NnKrQfatjnFhSoEKdPJ_02VtssK9GkJPk/edit#gid=0\"\",\"\"RWA!F:BZ\"\"),48,0))\"),\"\")","v":""}]
[null,null,null,{"$f":"IFERROR(__xludf.DUMMYFUNCTION(\"iferror(VLOOKUP(B326,IMPORTRANGE(\"\"https://docs.google.com/spreadsheets/d/1Kptv1Yhe55NnKrQfatjnFhSoEKdPJ_02VtssK9GkJPk/edit#gid=0\"\",\"\"RWA!F:BZ\"\"),44,0))\"),\"\")","v":""},{"$f":"IFERROR(__xludf.DUMMYFUNCTION(\"iferror(VLOOKUP(B326,IMPORTRANGE(\"\"https://docs.google.com/spreadsheets/d/1Kptv1Yhe55NnKrQfatjnFhSoEKdPJ_02VtssK9GkJPk/edit#gid=0\"\",\"\"RWA!F:BZ\"\"),48,0))\"),\"\")","v":""}]
[null,null,null,{"$f":"IFERROR(__xludf.DUMMYFUNCTION(\"iferror(VLOOKUP(B327,IMPORTRANGE(\"\"https://docs.google.com/spreadsheets/d/1Kptv1Yhe55NnKrQfatjnFhSoEKdPJ_02VtssK9GkJPk/edit#gid=0\"\",\"\"RWA!F:BZ\"\"),44,0))\"),\"\")","v":""},{"$f":"IFERROR(__xludf.DUMMYFUNCTION(\"iferror(VLOOKUP(B327,IMPORTRANGE(\"\"https://docs.google.com/spreadsheets/d/1Kptv1Yhe55NnKrQfatjnFhSoEKdPJ_02VtssK9GkJPk/edit#gid=0\"\",\"\"RWA!F:BZ\"\"),48,0))\"),\"\")","v":""}]
[null,null,null,{"$f":"IFERROR(__xludf.DUMMYFUNCTION(\"iferror(VLOOKUP(B328,IMPORTRANGE(\"\"https://docs.google.com/spreadsheets/d/1Kptv1Yhe55NnKrQfatjnFhSoEKdPJ_02VtssK9GkJPk/edit#gid=0\"\",\"\"RWA!F:BZ\"\"),44,0))\"),\"\")","v":""},{"$f":"IFERROR(__xludf.DUMMYFUNCTION(\"iferror(VLOOKUP(B328,IMPORTRANGE(\"\"https://docs.google.com/spreadsheets/d/1Kptv1Yhe55NnKrQfatjnFhSoEKdPJ_02VtssK9GkJPk/edit#gid=0\"\",\"\"RWA!F:BZ\"\"),48,0))\"),\"\")","v":""}]
[null,null,null,{"$f":"IFERROR(__xludf.DUMMYFUNCTION(\"iferror(VLOOKUP(B329,IMPORTRANGE(\"\"https://docs.google.com/spreadsheets/d/1Kptv1Yhe55NnKrQfatjnFhSoEKdPJ_02VtssK9GkJPk/edit#gid=0\"\",\"\"RWA!F:BZ\"\"),44,0))\"),\"\")","v":""},{"$f":"IFERROR(__xludf.DUMMYFUNCTION(\"iferror(VLOOKUP(B329,IMPORTRANGE(\"\"https://docs.google.com/spreadsheets/d/1Kptv1Yhe55NnKrQfatjnFhSoEKdPJ_02VtssK9GkJPk/edit#gid=0\"\",\"\"RWA!F:BZ\"\"),48,0))\"),\"\")","v":""}]
[null,null,null,{"$f":"IFERROR(__xludf.DUMMYFUNCTION(\"iferror(VLOOKUP(B330,IMPORTRANGE(\"\"https://docs.google.com/spreadsheets/d/1Kptv1Yhe55NnKrQfatjnFhSoEKdPJ_02VtssK9GkJPk/edit#gid=0\"\",\"\"RWA!F:BZ\"\"),44,0))\"),\"\")","v":""},{"$f":"IFERROR(__xludf.DUMMYFUNCTION(\"iferror(VLOOKUP(B330,IMPORTRANGE(\"\"https://docs.google.com/spreadsheets/d/1Kptv1Yhe55NnKrQfatjnFhSoEKdPJ_02VtssK9GkJPk/edit#gid=0\"\",\"\"RWA!F:BZ\"\"),48,0))\"),\"\")","v":""}]
[null,null,null,{"$f":"IFERROR(__xludf.DUMMYFUNCTION(\"iferror(VLOOKUP(B331,IMPORTRANGE(\"\"https://docs.google.com/spreadsheets/d/1Kptv1Yhe55NnKrQfatjnFhSoEKdPJ_02VtssK9GkJPk/edit#gid=0\"\",\"\"RWA!F:BZ\"\"),44,0))\"),\"\")","v":""},{"$f":"IFERROR(__xludf.DUMMYFUNCTION(\"iferror(VLOOKUP(B331,IMPORTRANGE(\"\"https://docs.google.com/spreadsheets/d/1Kptv1Yhe55NnKrQfatjnFhSoEKdPJ_02VtssK9GkJPk/edit#gid=0\"\",\"\"RWA!F:BZ\"\"),48,0))\"),\"\")","v":""}]
[null,null,null,{"$f":"IFERROR(__xludf.DUMMYFUNCTION(\"iferror(VLOOKUP(B332,IMPORTRANGE(\"\"https://docs.google.com/spreadsheets/d/1Kptv1Yhe55NnKrQfatjnFhSoEKdPJ_02VtssK9GkJPk/edit#gid=0\"\",\"\"RWA!F:BZ\"\"),44,0))\"),\"\")","v":""},{"$f":"IFERROR(__xludf.DUMMYFUNCTION(\"iferror(VLOOKUP(B332,IMPORTRANGE(\"\"https://docs.google.com/spreadsheets/d/1Kptv1Yhe55NnKrQfatjnFhSoEKdPJ_02VtssK9GkJPk/edit#gid=0\"\",\"\"RWA!F:BZ\"\"),48,0))\"),\"\")","v":""}]
[null,null,null,{"$f":"IFERROR(__xludf.DUMMYFUNCTION(\"iferror(VLOOKUP(B333,IMPORTRANGE(\"\"https://docs.google.com/spreadsheets/d/1Kptv1Yhe55NnKrQfatjnFhSoEKdPJ_02VtssK9GkJPk/edit#gid=0\"\",\"\"RWA!F:BZ\"\"),44,0))\"),\"\")","v":""},{"$f":"IFERROR(__xludf.DUMMYFUNCTION(\"iferror(VLOOKUP(B333,IMPORTRANGE(\"\"https://docs.google.com/spreadsheets/d/1Kptv1Yhe55NnKrQfatjnFhSoEKdPJ_02VtssK9GkJPk/edit#gid=0\"\",\"\"RWA!F:BZ\"\"),48,0))\"),\"\")","v":""}]
[null,null,null,{"$f":"IFERROR(__xludf.DUMMYFUNCTION(\"iferror(VLOOKUP(B334,IMPORTRANGE(\"\"https://docs.google.com/spreadsheets/d/1Kptv1Yhe55NnKrQfatjnFhSoEKdPJ_02VtssK9GkJPk/edit#gid=0\"\",\"\"RWA!F:BZ\"\"),44,0))\"),\"\")","v":""},{"$f":"IFERROR(__xludf.DUMMYFUNCTION(\"iferror(VLOOKUP(B334,IMPORTRANGE(\"\"https://docs.google.com/spreadsheets/d/1Kptv1Yhe55NnKrQfatjnFhSoEKdPJ_02VtssK9GkJPk/edit#gid=0\"\",\"\"RWA!F:BZ\"\"),48,0))\"),\"\")","v":""}]
[null,null,null,{"$f":"IFERROR(__xludf.DUMMYFUNCTION(\"iferror(VLOOKUP(B335,IMPORTRANGE(\"\"https://docs.google.com/spreadsheets/d/1Kptv1Yhe55NnKrQfatjnFhSoEKdPJ_02VtssK9GkJPk/edit#gid=0\"\",\"\"RWA!F:BZ\"\"),44,0))\"),\"\")","v":""},{"$f":"IFERROR(__xludf.DUMMYFUNCTION(\"iferror(VLOOKUP(B335,IMPORTRANGE(\"\"https://docs.google.com/spreadsheets/d/1Kptv1Yhe55NnKrQfatjnFhSoEKdPJ_02VtssK9GkJPk/edit#gid=0\"\",\"\"RWA!F:BZ\"\"),48,0))\"),\"\")","v":""}]
[null,null,null,{"$f":"IFERROR(__xludf.DUMMYFUNCTION(\"iferror(VLOOKUP(B336,IMPORTRANGE(\"\"https://docs.google.com/spreadsheets/d/1Kptv1Yhe55NnKrQfatjnFhSoEKdPJ_02VtssK9GkJPk/edit#gid=0\"\",\"\"RWA!F:BZ\"\"),44,0))\"),\"\")","v":""},{"$f":"IFERROR(__xludf.DUMMYFUNCTION(\"iferror(VLOOKUP(B336,IMPORTRANGE(\"\"https://docs.google.com/spreadsheets/d/1Kptv1Yhe55NnKrQfatjnFhSoEKdPJ_02VtssK9GkJPk/edit#gid=0\"\",\"\"RWA!F:BZ\"\"),48,0))\"),\"\")","v":""}]
[null,null,null,{"$f":"IFERROR(__xludf.DUMMYFUNCTION(\"iferror(VLOOKUP(B337,IMPORTRANGE(\"\"https://docs.google.com/spreadsheets/d/1Kptv1Yhe55NnKrQfatjnFhSoEKdPJ_02VtssK9GkJPk/edit#gid=0\"\",\"\"RWA!F:BZ\"\"),44,0))\"),\"\")","v":""},{"$f":"IFERROR(__xludf.DUMMYFUNCTION(\"iferror(VLOOKUP(B337,IMPORTRANGE(\"\"https://docs.google.com/spreadsheets/d/1Kptv1Yhe55NnKrQfatjnFhSoEKdPJ_02VtssK9GkJPk/edit#gid=0\"\",\"\"RWA!F:BZ\"\"),48,0))\"),\"\")","v":""}]
[null,null,null,{"$f":"IFERROR(__xludf.DUMMYFUNCTION(\"iferror(VLOOKUP(B338,IMPORTRANGE(\"\"https://docs.google.com/spreadsheets/d/1Kptv1Yhe55NnKrQfatjnFhSoEKdPJ_02VtssK9GkJPk/edit#gid=0\"\",\"\"RWA!F:BZ\"\"),44,0))\"),\"\")","v":""},{"$f":"IFERROR(__xludf.DUMMYFUNCTION(\"iferror(VLOOKUP(B338,IMPORTRANGE(\"\"https://docs.google.com/spreadsheets/d/1Kptv1Yhe55NnKrQfatjnFhSoEKdPJ_02VtssK9GkJPk/edit#gid=0\"\",\"\"RWA!F:BZ\"\"),48,0))\"),\"\")","v":""}]
[null,null,null,{"$f":"IFERROR(__xludf.DUMMYFUNCTION(\"iferror(VLOOKUP(B339,IMPORTRANGE(\"\"https://docs.google.com/spreadsheets/d/1Kptv1Yhe55NnKrQfatjnFhSoEKdPJ_02VtssK9GkJPk/edit#gid=0\"\",\"\"RWA!F:BZ\"\"),44,0))\"),\"\")","v":""},{"$f":"IFERROR(__xludf.DUMMYFUNCTION(\"iferror(VLOOKUP(B339,IMPORTRANGE(\"\"https://docs.google.com/spreadsheets/d/1Kptv1Yhe55NnKrQfatjnFhSoEKdPJ_02VtssK9GkJPk/edit#gid=0\"\",\"\"RWA!F:BZ\"\"),48,0))\"),\"\")","v":""}]
[null,null,null,{"$f":"IFERROR(__xludf.DUMMYFUNCTION(\"iferror(VLOOKUP(B340,IMPORTRANGE(\"\"https://docs.google.com/spreadsheets/d/1Kptv1Yhe55NnKrQfatjnFhSoEKdPJ_02VtssK9GkJPk/edit#gid=0\"\",\"\"RWA!F:BZ\"\"),44,0))\"),\"\")","v":""},{"$f":"IFERROR(__xludf.DUMMYFUNCTION(\"iferror(VLOOKUP(B340,IMPORTRANGE(\"\"https://docs.google.com/spreadsheets/d/1Kptv1Yhe55NnKrQfatjnFhSoEKdPJ_02VtssK9GkJPk/edit#gid=0\"\",\"\"RWA!F:BZ\"\"),48,0))\"),\"\")","v":""}]
[null,null,null,{"$f":"IFERROR(__xludf.DUMMYFUNCTION(\"iferror(VLOOKUP(B341,IMPORTRANGE(\"\"https://docs.google.com/spreadsheets/d/1Kptv1Yhe55NnKrQfatjnFhSoEKdPJ_02VtssK9GkJPk/edit#gid=0\"\",\"\"RWA!F:BZ\"\"),44,0))\"),\"\")","v":""},{"$f":"IFERROR(__xludf.DUMMYFUNCTION(\"iferror(VLOOKUP(B341,IMPORTRANGE(\"\"https://docs.google.com/spreadsheets/d/1Kptv1Yhe55NnKrQfatjnFhSoEKdPJ_02VtssK9GkJPk/edit#gid=0\"\",\"\"RWA!F:BZ\"\"),48,0))\"),\"\")","v":""}]
[null,null,null,{"$f":"IFERROR(__xludf.DUMMYFUNCTION(\"iferror(VLOOKUP(B342,IMPORTRANGE(\"\"https://docs.google.com/spreadsheets/d/1Kptv1Yhe55NnKrQfatjnFhSoEKdPJ_02VtssK9GkJPk/edit#gid=0\"\",\"\"RWA!F:BZ\"\"),44,0))\"),\"\")","v":""},{"$f":"IFERROR(__xludf.DUMMYFUNCTION(\"iferror(VLOOKUP(B342,IMPORTRANGE(\"\"https://docs.google.com/spreadsheets/d/1Kptv1Yhe55NnKrQfatjnFhSoEKdPJ_02VtssK9GkJPk/edit#gid=0\"\",\"\"RWA!F:BZ\"\"),48,0))\"),\"\")","v":""}]
[null,null,null,{"$f":"IFERROR(__xludf.DUMMYFUNCTION(\"iferror(VLOOKUP(B343,IMPORTRANGE(\"\"https://docs.google.com/spreadsheets/d/1Kptv1Yhe55NnKrQfatjnFhSoEKdPJ_02VtssK9GkJPk/edit#gid=0\"\",\"\"RWA!F:BZ\"\"),44,0))\"),\"\")","v":""},{"$f":"IFERROR(__xludf.DUMMYFUNCTION(\"iferror(VLOOKUP(B343,IMPORTRANGE(\"\"https://docs.google.com/spreadsheets/d/1Kptv1Yhe55NnKrQfatjnFhSoEKdPJ_02VtssK9GkJPk/edit#gid=0\"\",\"\"RWA!F:BZ\"\"),48,0))\"),\"\")","v":""}]
[null,null,null,{"$f":"IFERROR(__xludf.DUMMYFUNCTION(\"iferror(VLOOKUP(B344,IMPORTRANGE(\"\"https://docs.google.com/spreadsheets/d/1Kptv1Yhe55NnKrQfatjnFhSoEKdPJ_02VtssK9GkJPk/edit#gid=0\"\",\"\"RWA!F:BZ\"\"),44,0))\"),\"\")","v":""},{"$f":"IFERROR(__xludf.DUMMYFUNCTION(\"iferror(VLOOKUP(B344,IMPORTRANGE(\"\"https://docs.google.com/spreadsheets/d/1Kptv1Yhe55NnKrQfatjnFhSoEKdPJ_02VtssK9GkJPk/edit#gid=0\"\",\"\"RWA!F:BZ\"\"),48,0))\"),\"\")","v":""}]
[null,null,null,{"$f":"IFERROR(__xludf.DUMMYFUNCTION(\"iferror(VLOOKUP(B345,IMPORTRANGE(\"\"https://docs.google.com/spreadsheets/d/1Kptv1Yhe55NnKrQfatjnFhSoEKdPJ_02VtssK9GkJPk/edit#gid=0\"\",\"\"RWA!F:BZ\"\"),44,0))\"),\"\")","v":""},{"$f":"IFERROR(__xludf.DUMMYFUNCTION(\"iferror(VLOOKUP(B345,IMPORTRANGE(\"\"https://docs.google.com/spreadsheets/d/1Kptv1Yhe55NnKrQfatjnFhSoEKdPJ_02VtssK9GkJPk/edit#gid=0\"\",\"\"RWA!F:BZ\"\"),48,0))\"),\"\")","v":""}]
[null,null,null,{"$f":"IFERROR(__xludf.DUMMYFUNCTION(\"iferror(VLOOKUP(B346,IMPORTRANGE(\"\"https://docs.google.com/spreadsheets/d/1Kptv1Yhe55NnKrQfatjnFhSoEKdPJ_02VtssK9GkJPk/edit#gid=0\"\",\"\"RWA!F:BZ\"\"),44,0))\"),\"\")","v":""},{"$f":"IFERROR(__xludf.DUMMYFUNCTION(\"iferror(VLOOKUP(B346,IMPORTRANGE(\"\"https://docs.google.com/spreadsheets/d/1Kptv1Yhe55NnKrQfatjnFhSoEKdPJ_02VtssK9GkJPk/edit#gid=0\"\",\"\"RWA!F:BZ\"\"),48,0))\"),\"\")","v":""}]
[null,null,null,{"$f":"IFERROR(__xludf.DUMMYFUNCTION(\"iferror(VLOOKUP(B347,IMPORTRANGE(\"\"https://docs.google.com/spreadsheets/d/1Kptv1Yhe55NnKrQfatjnFhSoEKdPJ_02VtssK9GkJPk/edit#gid=0\"\",\"\"RWA!F:BZ\"\"),44,0))\"),\"\")","v":""},{"$f":"IFERROR(__xludf.DUMMYFUNCTION(\"iferror(VLOOKUP(B347,IMPORTRANGE(\"\"https://docs.google.com/spreadsheets/d/1Kptv1Yhe55NnKrQfatjnFhSoEKdPJ_02VtssK9GkJPk/edit#gid=0\"\",\"\"RWA!F:BZ\"\"),48,0))\"),\"\")","v":""}]
[null,null,null,{"$f":"IFERROR(__xludf.DUMMYFUNCTION(\"iferror(VLOOKUP(B348,IMPORTRANGE(\"\"https://docs.google.com/spreadsheets/d/1Kptv1Yhe55NnKrQfatjnFhSoEKdPJ_02VtssK9GkJPk/edit#gid=0\"\",\"\"RWA!F:BZ\"\"),44,0))\"),\"\")","v":""},{"$f":"IFERROR(__xludf.DUMMYFUNCTION(\"iferror(VLOOKUP(B348,IMPORTRANGE(\"\"https://docs.google.com/spreadsheets/d/1Kptv1Yhe55NnKrQfatjnFhSoEKdPJ_02VtssK9GkJPk/edit#gid=0\"\",\"\"RWA!F:BZ\"\"),48,0))\"),\"\")","v":""}]
[null,null,null,{"$f":"IFERROR(__xludf.DUMMYFUNCTION(\"iferror(VLOOKUP(B349,IMPORTRANGE(\"\"https://docs.google.com/spreadsheets/d/1Kptv1Yhe55NnKrQfatjnFhSoEKdPJ_02VtssK9GkJPk/edit#gid=0\"\",\"\"RWA!F:BZ\"\"),44,0))\"),\"\")","v":""},{"$f":"IFERROR(__xludf.DUMMYFUNCTION(\"iferror(VLOOKUP(B349,IMPORTRANGE(\"\"https://docs.google.com/spreadsheets/d/1Kptv1Yhe55NnKrQfatjnFhSoEKdPJ_02VtssK9GkJPk/edit#gid=0\"\",\"\"RWA!F:BZ\"\"),48,0))\"),\"\")","v":""}]
[null,null,null,{"$f":"IFERROR(__xludf.DUMMYFUNCTION(\"iferror(VLOOKUP(B350,IMPORTRANGE(\"\"https://docs.google.com/spreadsheets/d/1Kptv1Yhe55NnKrQfatjnFhSoEKdPJ_02VtssK9GkJPk/edit#gid=0\"\",\"\"RWA!F:BZ\"\"),44,0))\"),\"\")","v":""},{"$f":"IFERROR(__xludf.DUMMYFUNCTION(\"iferror(VLOOKUP(B350,IMPORTRANGE(\"\"https://docs.google.com/spreadsheets/d/1Kptv1Yhe55NnKrQfatjnFhSoEKdPJ_02VtssK9GkJPk/edit#gid=0\"\",\"\"RWA!F:BZ\"\"),48,0))\"),\"\")","v":""}]
[null,null,null,{"$f":"IFERROR(__xludf.DUMMYFUNCTION(\"iferror(VLOOKUP(B351,IMPORTRANGE(\"\"https://docs.google.com/spreadsheets/d/1Kptv1Yhe55NnKrQfatjnFhSoEKdPJ_02VtssK9GkJPk/edit#gid=0\"\",\"\"RWA!F:BZ\"\"),44,0))\"),\"\")","v":""},{"$f":"IFERROR(__xludf.DUMMYFUNCTION(\"iferror(VLOOKUP(B351,IMPORTRANGE(\"\"https://docs.google.com/spreadsheets/d/1Kptv1Yhe55NnKrQfatjnFhSoEKdPJ_02VtssK9GkJPk/edit#gid=0\"\",\"\"RWA!F:BZ\"\"),48,0))\"),\"\")","v":""}]
[null,null,null,{"$f":"IFERROR(__xludf.DUMMYFUNCTION(\"iferror(VLOOKUP(B352,IMPORTRANGE(\"\"https://docs.google.com/spreadsheets/d/1Kptv1Yhe55NnKrQfatjnFhSoEKdPJ_02VtssK9GkJPk/edit#gid=0\"\",\"\"RWA!F:BZ\"\"),44,0))\"),\"\")","v":""},{"$f":"IFERROR(__xludf.DUMMYFUNCTION(\"iferror(VLOOKUP(B352,IMPORTRANGE(\"\"https://docs.google.com/spreadsheets/d/1Kptv1Yhe55NnKrQfatjnFhSoEKdPJ_02VtssK9GkJPk/edit#gid=0\"\",\"\"RWA!F:BZ\"\"),48,0))\"),\"\")","v":""}]
[null,null,null,{"$f":"IFERROR(__xludf.DUMMYFUNCTION(\"iferror(VLOOKUP(B353,IMPORTRANGE(\"\"https://docs.google.com/spreadsheets/d/1Kptv1Yhe55NnKrQfatjnFhSoEKdPJ_02VtssK9GkJPk/edit#gid=0\"\",\"\"RWA!F:BZ\"\"),44,0))\"),\"\")","v":""},{"$f":"IFERROR(__xludf.DUMMYFUNCTION(\"iferror(VLOOKUP(B353,IMPORTRANGE(\"\"https://docs.google.com/spreadsheets/d/1Kptv1Yhe55NnKrQfatjnFhSoEKdPJ_02VtssK9GkJPk/edit#gid=0\"\",\"\"RWA!F:BZ\"\"),48,0))\"),\"\")","v":""}]
[null,null,null,{"$f":"IFERROR(__xludf.DUMMYFUNCTION(\"iferror(VLOOKUP(B354,IMPORTRANGE(\"\"https://docs.google.com/spreadsheets/d/1Kptv1Yhe55NnKrQfatjnFhSoEKdPJ_02VtssK9GkJPk/edit#gid=0\"\",\"\"RWA!F:BZ\"\"),44,0))\"),\"\")","v":""},{"$f":"IFERROR(__xludf.DUMMYFUNCTION(\"iferror(VLOOKUP(B354,IMPORTRANGE(\"\"https://docs.google.com/spreadsheets/d/1Kptv1Yhe55NnKrQfatjnFhSoEKdPJ_02VtssK9GkJPk/edit#gid=0\"\",\"\"RWA!F:BZ\"\"),48,0))\"),\"\")","v":""}]
[null,null,null,{"$f":"IFERROR(__xludf.DUMMYFUNCTION(\"iferror(VLOOKUP(B355,IMPORTRANGE(\"\"https://docs.google.com/spreadsheets/d/1Kptv1Yhe55NnKrQfatjnFhSoEKdPJ_02VtssK9GkJPk/edit#gid=0\"\",\"\"RWA!F:BZ\"\"),44,0))\"),\"\")","v":""},{"$f":"IFERROR(__xludf.DUMMYFUNCTION(\"iferror(VLOOKUP(B355,IMPORTRANGE(\"\"https://docs.google.com/spreadsheets/d/1Kptv1Yhe55NnKrQfatjnFhSoEKdPJ_02VtssK9GkJPk/edit#gid=0\"\",\"\"RWA!F:BZ\"\"),48,0))\"),\"\")","v":""}]
[null,null,null,{"$f":"IFERROR(__xludf.DUMMYFUNCTION(\"iferror(VLOOKUP(B356,IMPORTRANGE(\"\"https://docs.google.com/spreadsheets/d/1Kptv1Yhe55NnKrQfatjnFhSoEKdPJ_02VtssK9GkJPk/edit#gid=0\"\",\"\"RWA!F:BZ\"\"),44,0))\"),\"\")","v":""},{"$f":"IFERROR(__xludf.DUMMYFUNCTION(\"iferror(VLOOKUP(B356,IMPORTRANGE(\"\"https://docs.google.com/spreadsheets/d/1Kptv1Yhe55NnKrQfatjnFhSoEKdPJ_02VtssK9GkJPk/edit#gid=0\"\",\"\"RWA!F:BZ\"\"),48,0))\"),\"\")","v":""}]
[null,null,null,{"$f":"IFERROR(__xludf.DUMMYFUNCTION(\"iferror(VLOOKUP(B357,IMPORTRANGE(\"\"https://docs.google.com/spreadsheets/d/1Kptv1Yhe55NnKrQfatjnFhSoEKdPJ_02VtssK9GkJPk/edit#gid=0\"\",\"\"RWA!F:BZ\"\"),44,0))\"),\"\")","v":""},{"$f":"IFERROR(__xludf.DUMMYFUNCTION(\"iferror(VLOOKUP(B357,IMPORTRANGE(\"\"https://docs.google.com/spreadsheets/d/1Kptv1Yhe55NnKrQfatjnFhSoEKdPJ_02VtssK9GkJPk/edit#gid=0\"\",\"\"RWA!F:BZ\"\"),48,0))\"),\"\")","v":""}]
[null,null,null,{"$f":"IFERROR(__xludf.DUMMYFUNCTION(\"iferror(VLOOKUP(B358,IMPORTRANGE(\"\"https://docs.google.com/spreadsheets/d/1Kptv1Yhe55NnKrQfatjnFhSoEKdPJ_02VtssK9GkJPk/edit#gid=0\"\",\"\"RWA!F:BZ\"\"),44,0))\"),\"\")","v":""},{"$f":"IFERROR(__xludf.DUMMYFUNCTION(\"iferror(VLOOKUP(B358,IMPORTRANGE(\"\"https://docs.google.com/spreadsheets/d/1Kptv1Yhe55NnKrQfatjnFhSoEKdPJ_02VtssK9GkJPk/edit#gid=0\"\",\"\"RWA!F:BZ\"\"),48,0))\"),\"\")","v":""}]
[null,null,null,{"$f":"IFERROR(__xludf.DUMMYFUNCTION(\"iferror(VLOOKUP(B359,IMPORTRANGE(\"\"https://docs.google.com/spreadsheets/d/1Kptv1Yhe55NnKrQfatjnFhSoEKdPJ_02VtssK9GkJPk/edit#gid=0\"\",\"\"RWA!F:BZ\"\"),44,0))\"),\"\")","v":""},{"$f":"IFERROR(__xludf.DUMMYFUNCTION(\"iferror(VLOOKUP(B359,IMPORTRANGE(\"\"https://docs.google.com/spreadsheets/d/1Kptv1Yhe55NnKrQfatjnFhSoEKdPJ_02VtssK9GkJPk/edit#gid=0\"\",\"\"RWA!F:BZ\"\"),48,0))\"),\"\")","v":""}]
[null,null,null,{"$f":"IFERROR(__xludf.DUMMYFUNCTION(\"iferror(VLOOKUP(B360,IMPORTRANGE(\"\"https://docs.google.com/spreadsheets/d/1Kptv1Yhe55NnKrQfatjnFhSoEKdPJ_02VtssK9GkJPk/edit#gid=0\"\",\"\"RWA!F:BZ\"\"),44,0))\"),\"\")","v":""},{"$f":"IFERROR(__xludf.DUMMYFUNCTION(\"iferror(VLOOKUP(B360,IMPORTRANGE(\"\"https://docs.google.com/spreadsheets/d/1Kptv1Yhe55NnKrQfatjnFhSoEKdPJ_02VtssK9GkJPk/edit#gid=0\"\",\"\"RWA!F:BZ\"\"),48,0))\"),\"\")","v":""}]
[null,null,null,{"$f":"IFERROR(__xludf.DUMMYFUNCTION(\"iferror(VLOOKUP(B361,IMPORTRANGE(\"\"https://docs.google.com/spreadsheets/d/1Kptv1Yhe55NnKrQfatjnFhSoEKdPJ_02VtssK9GkJPk/edit#gid=0\"\",\"\"RWA!F:BZ\"\"),44,0))\"),\"\")","v":""},{"$f":"IFERROR(__xludf.DUMMYFUNCTION(\"iferror(VLOOKUP(B361,IMPORTRANGE(\"\"https://docs.google.com/spreadsheets/d/1Kptv1Yhe55NnKrQfatjnFhSoEKdPJ_02VtssK9GkJPk/edit#gid=0\"\",\"\"RWA!F:BZ\"\"),48,0))\"),\"\")","v":""}]
[null,null,null,{"$f":"IFERROR(__xludf.DUMMYFUNCTION(\"iferror(VLOOKUP(B362,IMPORTRANGE(\"\"https://docs.google.com/spreadsheets/d/1Kptv1Yhe55NnKrQfatjnFhSoEKdPJ_02VtssK9GkJPk/edit#gid=0\"\",\"\"RWA!F:BZ\"\"),44,0))\"),\"\")","v":""},{"$f":"IFERROR(__xludf.DUMMYFUNCTION(\"iferror(VLOOKUP(B362,IMPORTRANGE(\"\"https://docs.google.com/spreadsheets/d/1Kptv1Yhe55NnKrQfatjnFhSoEKdPJ_02VtssK9GkJPk/edit#gid=0\"\",\"\"RWA!F:BZ\"\"),48,0))\"),\"\")","v":""}]
[null,null,null,{"$f":"IFERROR(__xludf.DUMMYFUNCTION(\"iferror(VLOOKUP(B363,IMPORTRANGE(\"\"https://docs.google.com/spreadsheets/d/1Kptv1Yhe55NnKrQfatjnFhSoEKdPJ_02VtssK9GkJPk/edit#gid=0\"\",\"\"RWA!F:BZ\"\"),44,0))\"),\"\")","v":""},{"$f":"IFERROR(__xludf.DUMMYFUNCTION(\"iferror(VLOOKUP(B363,IMPORTRANGE(\"\"https://docs.google.com/spreadsheets/d/1Kptv1Yhe55NnKrQfatjnFhSoEKdPJ_02VtssK9GkJPk/edit#gid=0\"\",\"\"RWA!F:BZ\"\"),48,0))\"),\"\")","v":""}]
[null,null,null,{"$f":"IFERROR(__xludf.DUMMYFUNCTION(\"iferror(VLOOKUP(B364,IMPORTRANGE(\"\"https://docs.google.com/spreadsheets/d/1Kptv1Yhe55NnKrQfatjnFhSoEKdPJ_02VtssK9GkJPk/edit#gid=0\"\",\"\"RWA!F:BZ\"\"),44,0))\"),\"\")","v":""},{"$f":"IFERROR(__xludf.DUMMYFUNCTION(\"iferror(VLOOKUP(B364,IMPORTRANGE(\"\"https://docs.google.com/spreadsheets/d/1Kptv1Yhe55NnKrQfatjnFhSoEKdPJ_02VtssK9GkJPk/edit#gid=0\"\",\"\"RWA!F:BZ\"\"),48,0))\"),\"\")","v":""}]
[null,null,null,{"$f":"IFERROR(__xludf.DUMMYFUNCTION(\"iferror(VLOOKUP(B365,IMPORTRANGE(\"\"https://docs.google.com/spreadsheets/d/1Kptv1Yhe55NnKrQfatjnFhSoEKdPJ_02VtssK9GkJPk/edit#gid=0\"\",\"\"RWA!F:BZ\"\"),44,0))\"),\"\")","v":""},{"$f":"IFERROR(__xludf.DUMMYFUNCTION(\"iferror(VLOOKUP(B365,IMPORTRANGE(\"\"https://docs.google.com/spreadsheets/d/1Kptv1Yhe55NnKrQfatjnFhSoEKdPJ_02VtssK9GkJPk/edit#gid=0\"\",\"\"RWA!F:BZ\"\"),48,0))\"),\"\")","v":""}]
[null,null,null,{"$f":"IFERROR(__xludf.DUMMYFUNCTION(\"iferror(VLOOKUP(B366,IMPORTRANGE(\"\"https://docs.google.com/spreadsheets/d/1Kptv1Yhe55NnKrQfatjnFhSoEKdPJ_02VtssK9GkJPk/edit#gid=0\"\",\"\"RWA!F:BZ\"\"),44,0))\"),\"\")","v":""},{"$f":"IFERROR(__xludf.DUMMYFUNCTION(\"iferror(VLOOKUP(B366,IMPORTRANGE(\"\"https://docs.google.com/spreadsheets/d/1Kptv1Yhe55NnKrQfatjnFhSoEKdPJ_02VtssK9GkJPk/edit#gid=0\"\",\"\"RWA!F:BZ\"\"),48,0))\"),\"\")","v":""}]
[null,null,null,{"$f":"IFERROR(__xludf.DUMMYFUNCTION(\"iferror(VLOOKUP(B367,IMPORTRANGE(\"\"https://docs.google.com/spreadsheets/d/1Kptv1Yhe55NnKrQfatjnFhSoEKdPJ_02VtssK9GkJPk/edit#gid=0\"\",\"\"RWA!F:BZ\"\"),44,0))\"),\"\")","v":""},{"$f":"IFERROR(__xludf.DUMMYFUNCTION(\"iferror(VLOOKUP(B367,IMPORTRANGE(\"\"https://docs.google.com/spreadsheets/d/1Kptv1Yhe55NnKrQfatjnFhSoEKdPJ_02VtssK9GkJPk/edit#gid=0\"\",\"\"RWA!F:BZ\"\"),48,0))\"),\"\")","v":""}]
[null,null,null,{"$f":"IFERROR(__xludf.DUMMYFUNCTION(\"iferror(VLOOKUP(B368,IMPORTRANGE(\"\"https://docs.google.com/spreadsheets/d/1Kptv1Yhe55NnKrQfatjnFhSoEKdPJ_02VtssK9GkJPk/edit#gid=0\"\",\"\"RWA!F:BZ\"\"),44,0))\"),\"\")","v":""},{"$f":"IFERROR(__xludf.DUMMYFUNCTION(\"iferror(VLOOKUP(B368,IMPORTRANGE(\"\"https://docs.google.com/spreadsheets/d/1Kptv1Yhe55NnKrQfatjnFhSoEKdPJ_02VtssK9GkJPk/edit#gid=0\"\",\"\"RWA!F:BZ\"\"),48,0))\"),\"\")","v":""}]
[null,null,null,{"$f":"IFERROR(__xludf.DUMMYFUNCTION(\"iferror(VLOOKUP(B369,IMPORTRANGE(\"\"https://docs.google.com/spreadsheets/d/1Kptv1Yhe55NnKrQfatjnFhSoEKdPJ_02VtssK9GkJPk/edit#gid=0\"\",\"\"RWA!F:BZ\"\"),44,0))\"),\"\")","v":""},{"$f":"IFERROR(__xludf.DUMMYFUNCTION(\"iferror(VLOOKUP(B369,IMPORTRANGE(\"\"https://docs.google.com/spreadsheets/d/1Kptv1Yhe55NnKrQfatjnFhSoEKdPJ_02VtssK9GkJPk/edit#gid=0\"\",\"\"RWA!F:BZ\"\"),48,0))\"),\"\")","v":""}]
[null,null,null,{"$f":"IFERROR(__xludf.DUMMYFUNCTION(\"iferror(VLOOKUP(B370,IMPORTRANGE(\"\"https://docs.google.com/spreadsheets/d/1Kptv1Yhe55NnKrQfatjnFhSoEKdPJ_02VtssK9GkJPk/edit#gid=0\"\",\"\"RWA!F:BZ\"\"),44,0))\"),\"\")","v":""},{"$f":"IFERROR(__xludf.DUMMYFUNCTION(\"iferror(VLOOKUP(B370,IMPORTRANGE(\"\"https://docs.google.com/spreadsheets/d/1Kptv1Yhe55NnKrQfatjnFhSoEKdPJ_02VtssK9GkJPk/edit#gid=0\"\",\"\"RWA!F:BZ\"\"),48,0))\"),\"\")","v":""}]
[null,null,null,{"$f":"IFERROR(__xludf.DUMMYFUNCTION(\"iferror(VLOOKUP(B371,IMPORTRANGE(\"\"https://docs.google.com/spreadsheets/d/1Kptv1Yhe55NnKrQfatjnFhSoEKdPJ_02VtssK9GkJPk/edit#gid=0\"\",\"\"RWA!F:BZ\"\"),44,0))\"),\"\")","v":""},{"$f":"IFERROR(__xludf.DUMMYFUNCTION(\"iferror(VLOOKUP(B371,IMPORTRANGE(\"\"https://docs.google.com/spreadsheets/d/1Kptv1Yhe55NnKrQfatjnFhSoEKdPJ_02VtssK9GkJPk/edit#gid=0\"\",\"\"RWA!F:BZ\"\"),48,0))\"),\"\")","v":""}]
[null,null,null,{"$f":"IFERROR(__xludf.DUMMYFUNCTION(\"iferror(VLOOKUP(B372,IMPORTRANGE(\"\"https://docs.google.com/spreadsheets/d/1Kptv1Yhe55NnKrQfatjnFhSoEKdPJ_02VtssK9GkJPk/edit#gid=0\"\",\"\"RWA!F:BZ\"\"),44,0))\"),\"\")","v":""},{"$f":"IFERROR(__xludf.DUMMYFUNCTION(\"iferror(VLOOKUP(B372,IMPORTRANGE(\"\"https://docs.google.com/spreadsheets/d/1Kptv1Yhe55NnKrQfatjnFhSoEKdPJ_02VtssK9GkJPk/edit#gid=0\"\",\"\"RWA!F:BZ\"\"),48,0))\"),\"\")","v":""}]
[null,null,null,{"$f":"IFERROR(__xludf.DUMMYFUNCTION(\"iferror(VLOOKUP(B373,IMPORTRANGE(\"\"https://docs.google.com/spreadsheets/d/1Kptv1Yhe55NnKrQfatjnFhSoEKdPJ_02VtssK9GkJPk/edit#gid=0\"\",\"\"RWA!F:BZ\"\"),44,0))\"),\"\")","v":""},{"$f":"IFERROR(__xludf.DUMMYFUNCTION(\"iferror(VLOOKUP(B373,IMPORTRANGE(\"\"https://docs.google.com/spreadsheets/d/1Kptv1Yhe55NnKrQfatjnFhSoEKdPJ_02VtssK9GkJPk/edit#gid=0\"\",\"\"RWA!F:BZ\"\"),48,0))\"),\"\")","v":""}]
[null,null,null,{"$f":"IFERROR(__xludf.DUMMYFUNCTION(\"iferror(VLOOKUP(B374,IMPORTRANGE(\"\"https://docs.google.com/spreadsheets/d/1Kptv1Yhe55NnKrQfatjnFhSoEKdPJ_02VtssK9GkJPk/edit#gid=0\"\",\"\"RWA!F:BZ\"\"),44,0))\"),\"\")","v":""},{"$f":"IFERROR(__xludf.DUMMYFUNCTION(\"iferror(VLOOKUP(B374,IMPORTRANGE(\"\"https://docs.google.com/spreadsheets/d/1Kptv1Yhe55NnKrQfatjnFhSoEKdPJ_02VtssK9GkJPk/edit#gid=0\"\",\"\"RWA!F:BZ\"\"),48,0))\"),\"\")","v":""}]
[null,null,null,{"$f":"IFERROR(__xludf.DUMMYFUNCTION(\"iferror(VLOOKUP(B375,IMPORTRANGE(\"\"https://docs.google.com/spreadsheets/d/1Kptv1Yhe55NnKrQfatjnFhSoEKdPJ_02VtssK9GkJPk/edit#gid=0\"\",\"\"RWA!F:BZ\"\"),44,0))\"),\"\")","v":""},{"$f":"IFERROR(__xludf.DUMMYFUNCTION(\"iferror(VLOOKUP(B375,IMPORTRANGE(\"\"https://docs.google.com/spreadsheets/d/1Kptv1Yhe55NnKrQfatjnFhSoEKdPJ_02VtssK9GkJPk/edit#gid=0\"\",\"\"RWA!F:BZ\"\"),48,0))\"),\"\")","v":""}]
[null,null,null,{"$f":"IFERROR(__xludf.DUMMYFUNCTION(\"iferror(VLOOKUP(B376,IMPORTRANGE(\"\"https://docs.google.com/spreadsheets/d/1Kptv1Yhe55NnKrQfatjnFhSoEKdPJ_02VtssK9GkJPk/edit#gid=0\"\",\"\"RWA!F:BZ\"\"),44,0))\"),\"\")","v":""},{"$f":"IFERROR(__xludf.DUMMYFUNCTION(\"iferror(VLOOKUP(B376,IMPORTRANGE(\"\"https://docs.google.com/spreadsheets/d/1Kptv1Yhe55NnKrQfatjnFhSoEKdPJ_02VtssK9GkJPk/edit#gid=0\"\",\"\"RWA!F:BZ\"\"),48,0))\"),\"\")","v":""}]
[null,null,null,{"$f":"IFERROR(__xludf.DUMMYFUNCTION(\"iferror(VLOOKUP(B377,IMPORTRANGE(\"\"https://docs.google.com/spreadsheets/d/1Kptv1Yhe55NnKrQfatjnFhSoEKdPJ_02VtssK9GkJPk/edit#gid=0\"\",\"\"RWA!F:BZ\"\"),44,0))\"),\"\")","v":""},{"$f":"IFERROR(__xludf.DUMMYFUNCTION(\"iferror(VLOOKUP(B377,IMPORTRANGE(\"\"https://docs.google.com/spreadsheets/d/1Kptv1Yhe55NnKrQfatjnFhSoEKdPJ_02VtssK9GkJPk/edit#gid=0\"\",\"\"RWA!F:BZ\"\"),48,0))\"),\"\")","v":""}]
[null,null,null,{"$f":"IFERROR(__xludf.DUMMYFUNCTION(\"iferror(VLOOKUP(B378,IMPORTRANGE(\"\"https://docs.google.com/spreadsheets/d/1Kptv1Yhe55NnKrQfatjnFhSoEKdPJ_02VtssK9GkJPk/edit#gid=0\"\",\"\"RWA!F:BZ\"\"),44,0))\"),\"\")","v":""},{"$f":"IFERROR(__xludf.DUMMYFUNCTION(\"iferror(VLOOKUP(B378,IMPORTRANGE(\"\"https://docs.google.com/spreadsheets/d/1Kptv1Yhe55NnKrQfatjnFhSoEKdPJ_02VtssK9GkJPk/edit#gid=0\"\",\"\"RWA!F:BZ\"\"),48,0))\"),\"\")","v":""}]
[null,null,null,{"$f":"IFERROR(__xludf.DUMMYFUNCTION(\"iferror(VLOOKUP(B379,IMPORTRANGE(\"\"https://docs.google.com/spreadsheets/d/1Kptv1Yhe55NnKrQfatjnFhSoEKdPJ_02VtssK9GkJPk/edit#gid=0\"\",\"\"RWA!F:BZ\"\"),44,0))\"),\"\")","v":""},{"$f":"IFERROR(__xludf.DUMMYFUNCTION(\"iferror(VLOOKUP(B379,IMPORTRANGE(\"\"https://docs.google.com/spreadsheets/d/1Kptv1Yhe55NnKrQfatjnFhSoEKdPJ_02VtssK9GkJPk/edit#gid=0\"\",\"\"RWA!F:BZ\"\"),48,0))\"),\"\")","v":""}]
[null,null,null,{"$f":"IFERROR(__xludf.DUMMYFUNCTION(\"iferror(VLOOKUP(B380,IMPORTRANGE(\"\"https://docs.google.com/spreadsheets/d/1Kptv1Yhe55NnKrQfatjnFhSoEKdPJ_02VtssK9GkJPk/edit#gid=0\"\",\"\"RWA!F:BZ\"\"),44,0))\"),\"\")","v":""},{"$f":"IFERROR(__xludf.DUMMYFUNCTION(\"iferror(VLOOKUP(B380,IMPORTRANGE(\"\"https://docs.google.com/spreadsheets/d/1Kptv1Yhe55NnKrQfatjnFhSoEKdPJ_02VtssK9GkJPk/edit#gid=0\"\",\"\"RWA!F:BZ\"\"),48,0))\"),\"\")","v":""}]
[null,null,null,{"$f":"IFERROR(__xludf.DUMMYFUNCTION(\"iferror(VLOOKUP(B381,IMPORTRANGE(\"\"https://docs.google.com/spreadsheets/d/1Kptv1Yhe55NnKrQfatjnFhSoEKdPJ_02VtssK9GkJPk/edit#gid=0\"\",\"\"RWA!F:BZ\"\"),44,0))\"),\"\")","v":""},{"$f":"IFERROR(__xludf.DUMMYFUNCTION(\"iferror(VLOOKUP(B381,IMPORTRANGE(\"\"https://docs.google.com/spreadsheets/d/1Kptv1Yhe55NnKrQfatjnFhSoEKdPJ_02VtssK9GkJPk/edit#gid=0\"\",\"\"RWA!F:BZ\"\"),48,0))\"),\"\")","v":""}]
[null,null,null,{"$f":"IFERROR(__xludf.DUMMYFUNCTION(\"iferror(VLOOKUP(B382,IMPORTRANGE(\"\"https://docs.google.com/spreadsheets/d/1Kptv1Yhe55NnKrQfatjnFhSoEKdPJ_02VtssK9GkJPk/edit#gid=0\"\",\"\"RWA!F:BZ\"\"),44,0))\"),\"\")","v":""},{"$f":"IFERROR(__xludf.DUMMYFUNCTION(\"iferror(VLOOKUP(B382,IMPORTRANGE(\"\"https://docs.google.com/spreadsheets/d/1Kptv1Yhe55NnKrQfatjnFhSoEKdPJ_02VtssK9GkJPk/edit#gid=0\"\",\"\"RWA!F:BZ\"\"),48,0))\"),\"\")","v":""}]
[null,null,null,{"$f":"IFERROR(__xludf.DUMMYFUNCTION(\"iferror(VLOOKUP(B383,IMPORTRANGE(\"\"https://docs.google.com/spreadsheets/d/1Kptv1Yhe55NnKrQfatjnFhSoEKdPJ_02VtssK9GkJPk/edit#gid=0\"\",\"\"RWA!F:BZ\"\"),44,0))\"),\"\")","v":""},{"$f":"IFERROR(__xludf.DUMMYFUNCTION(\"iferror(VLOOKUP(B383,IMPORTRANGE(\"\"https://docs.google.com/spreadsheets/d/1Kptv1Yhe55NnKrQfatjnFhSoEKdPJ_02VtssK9GkJPk/edit#gid=0\"\",\"\"RWA!F:BZ\"\"),48,0))\"),\"\")","v":""}]
[null,null,null,{"$f":"IFERROR(__xludf.DUMMYFUNCTION(\"iferror(VLOOKUP(B384,IMPORTRANGE(\"\"https://docs.google.com/spreadsheets/d/1Kptv1Yhe55NnKrQfatjnFhSoEKdPJ_02VtssK9GkJPk/edit#gid=0\"\",\"\"RWA!F:BZ\"\"),44,0))\"),\"\")","v":""},{"$f":"IFERROR(__xludf.DUMMYFUNCTION(\"iferror(VLOOKUP(B384,IMPORTRANGE(\"\"https://docs.google.com/spreadsheets/d/1Kptv1Yhe55NnKrQfatjnFhSoEKdPJ_02VtssK9GkJPk/edit#gid=0\"\",\"\"RWA!F:BZ\"\"),48,0))\"),\"\")","v":""}]
[null,null,null,{"$f":"IFERROR(__xludf.DUMMYFUNCTION(\"iferror(VLOOKUP(B385,IMPORTRANGE(\"\"https://docs.google.com/spreadsheets/d/1Kptv1Yhe55NnKrQfatjnFhSoEKdPJ_02VtssK9GkJPk/edit#gid=0\"\",\"\"RWA!F:BZ\"\"),44,0))\"),\"\")","v":""},{"$f":"IFERROR(__xludf.DUMMYFUNCTION(\"iferror(VLOOKUP(B385,IMPORTRANGE(\"\"https://docs.google.com/spreadsheets/d/1Kptv1Yhe55NnKrQfatjnFhSoEKdPJ_02VtssK9GkJPk/edit#gid=0\"\",\"\"RWA!F:BZ\"\"),48,0))\"),\"\")","v":""}]
[null,null,null,{"$f":"IFERROR(__xludf.DUMMYFUNCTION(\"iferror(VLOOKUP(B386,IMPORTRANGE(\"\"https://docs.google.com/spreadsheets/d/1Kptv1Yhe55NnKrQfatjnFhSoEKdPJ_02VtssK9GkJPk/edit#gid=0\"\",\"\"RWA!F:BZ\"\"),44,0))\"),\"\")","v":""},{"$f":"IFERROR(__xludf.DUMMYFUNCTION(\"iferror(VLOOKUP(B386,IMPORTRANGE(\"\"https://docs.google.com/spreadsheets/d/1Kptv1Yhe55NnKrQfatjnFhSoEKdPJ_02VtssK9GkJPk/edit#gid=0\"\",\"\"RWA!F:BZ\"\"),48,0))\"),\"\")","v":""}]
[null,null,null,{"$f":"IFERROR(__xludf.DUMMYFUNCTION(\"iferror(VLOOKUP(B387,IMPORTRANGE(\"\"https://docs.google.com/spreadsheets/d/1Kptv1Yhe55NnKrQfatjnFhSoEKdPJ_02VtssK9GkJPk/edit#gid=0\"\",\"\"RWA!F:BZ\"\"),44,0))\"),\"\")","v":""},{"$f":"IFERROR(__xludf.DUMMYFUNCTION(\"iferror(VLOOKUP(B387,IMPORTRANGE(\"\"https://docs.google.com/spreadsheets/d/1Kptv1Yhe55NnKrQfatjnFhSoEKdPJ_02VtssK9GkJPk/edit#gid=0\"\",\"\"RWA!F:BZ\"\"),48,0))\"),\"\")","v":""}]
[null,null,null,{"$f":"IFERROR(__xludf.DUMMYFUNCTION(\"iferror(VLOOKUP(B388,IMPORTRANGE(\"\"https://docs.google.com/spreadsheets/d/1Kptv1Yhe55NnKrQfatjnFhSoEKdPJ_02VtssK9GkJPk/edit#gid=0\"\",\"\"RWA!F:BZ\"\"),44,0))\"),\"\")","v":""},{"$f":"IFERROR(__xludf.DUMMYFUNCTION(\"iferror(VLOOKUP(B388,IMPORTRANGE(\"\"https://docs.google.com/spreadsheets/d/1Kptv1Yhe55NnKrQfatjnFhSoEKdPJ_02VtssK9GkJPk/edit#gid=0\"\",\"\"RWA!F:BZ\"\"),48,0))\"),\"\")","v":""}]
[null,null,null,{"$f":"IFERROR(__xludf.DUMMYFUNCTION(\"iferror(VLOOKUP(B389,IMPORTRANGE(\"\"https://docs.google.com/spreadsheets/d/1Kptv1Yhe55NnKrQfatjnFhSoEKdPJ_02VtssK9GkJPk/edit#gid=0\"\",\"\"RWA!F:BZ\"\"),44,0))\"),\"\")","v":""},{"$f":"IFERROR(__xludf.DUMMYFUNCTION(\"iferror(VLOOKUP(B389,IMPORTRANGE(\"\"https://docs.google.com/spreadsheets/d/1Kptv1Yhe55NnKrQfatjnFhSoEKdPJ_02VtssK9GkJPk/edit#gid=0\"\",\"\"RWA!F:BZ\"\"),48,0))\"),\"\")","v":""}]
[null,null,null,{"$f":"IFERROR(__xludf.DUMMYFUNCTION(\"iferror(VLOOKUP(B390,IMPORTRANGE(\"\"https://docs.google.com/spreadsheets/d/1Kptv1Yhe55NnKrQfatjnFhSoEKdPJ_02VtssK9GkJPk/edit#gid=0\"\",\"\"RWA!F:BZ\"\"),44,0))\"),\"\")","v":""},{"$f":"IFERROR(__xludf.DUMMYFUNCTION(\"iferror(VLOOKUP(B390,IMPORTRANGE(\"\"https://docs.google.com/spreadsheets/d/1Kptv1Yhe55NnKrQfatjnFhSoEKdPJ_02VtssK9GkJPk/edit#gid=0\"\",\"\"RWA!F:BZ\"\"),48,0))\"),\"\")","v":""}]
[null,null,null,{"$f":"IFERROR(__xludf.DUMMYFUNCTION(\"iferror(VLOOKUP(B391,IMPORTRANGE(\"\"https://docs.google.com/spreadsheets/d/1Kptv1Yhe55NnKrQfatjnFhSoEKdPJ_02VtssK9GkJPk/edit#gid=0\"\",\"\"RWA!F:BZ\"\"),44,0))\"),\"\")","v":""},{"$f":"IFERROR(__xludf.DUMMYFUNCTION(\"iferror(VLOOKUP(B391,IMPORTRANGE(\"\"https://docs.google.com/spreadsheets/d/1Kptv1Yhe55NnKrQfatjnFhSoEKdPJ_02VtssK9GkJPk/edit#gid=0\"\",\"\"RWA!F:BZ\"\"),48,0))\"),\"\")","v":""}]
[null,null,null,{"$f":"IFERROR(__xludf.DUMMYFUNCTION(\"iferror(VLOOKUP(B392,IMPORTRANGE(\"\"https://docs.google.com/spreadsheets/d/1Kptv1Yhe55NnKrQfatjnFhSoEKdPJ_02VtssK9GkJPk/edit#gid=0\"\",\"\"RWA!F:BZ\"\"),44,0))\"),\"\")","v":""},{"$f":"IFERROR(__xludf.DUMMYFUNCTION(\"iferror(VLOOKUP(B392,IMPORTRANGE(\"\"https://docs.google.com/spreadsheets/d/1Kptv1Yhe55NnKrQfatjnFhSoEKdPJ_02VtssK9GkJPk/edit#gid=0\"\",\"\"RWA!F:BZ\"\"),48,0))\"),\"\")","v":""}]
[null,null,null,{"$f":"IFERROR(__xludf.DUMMYFUNCTION(\"iferror(VLOOKUP(B393,IMPORTRANGE(\"\"https://docs.google.com/spreadsheets/d/1Kptv1Yhe55NnKrQfatjnFhSoEKdPJ_02VtssK9GkJPk/edit#gid=0\"\",\"\"RWA!F:BZ\"\"),44,0))\"),\"\")","v":""},{"$f":"IFERROR(__xludf.DUMMYFUNCTION(\"iferror(VLOOKUP(B393,IMPORTRANGE(\"\"https://docs.google.com/spreadsheets/d/1Kptv1Yhe55NnKrQfatjnFhSoEKdPJ_02VtssK9GkJPk/edit#gid=0\"\",\"\"RWA!F:BZ\"\"),48,0))\"),\"\")","v":""}]
[null,null,null,{"$f":"IFERROR(__xludf.DUMMYFUNCTION(\"iferror(VLOOKUP(B394,IMPORTRANGE(\"\"https://docs.google.com/spreadsheets/d/1Kptv1Yhe55NnKrQfatjnFhSoEKdPJ_02VtssK9GkJPk/edit#gid=0\"\",\"\"RWA!F:BZ\"\"),44,0))\"),\"\")","v":""},{"$f":"IFERROR(__xludf.DUMMYFUNCTION(\"iferror(VLOOKUP(B394,IMPORTRANGE(\"\"https://docs.google.com/spreadsheets/d/1Kptv1Yhe55NnKrQfatjnFhSoEKdPJ_02VtssK9GkJPk/edit#gid=0\"\",\"\"RWA!F:BZ\"\"),48,0))\"),\"\")","v":""}]
[null,null,null,{"$f":"IFERROR(__xludf.DUMMYFUNCTION(\"iferror(VLOOKUP(B395,IMPORTRANGE(\"\"https://docs.google.com/spreadsheets/d/1Kptv1Yhe55NnKrQfatjnFhSoEKdPJ_02VtssK9GkJPk/edit#gid=0\"\",\"\"RWA!F:BZ\"\"),44,0))\"),\"\")","v":""},{"$f":"IFERROR(__xludf.DUMMYFUNCTION(\"iferror(VLOOKUP(B395,IMPORTRANGE(\"\"https://docs.google.com/spreadsheets/d/1Kptv1Yhe55NnKrQfatjnFhSoEKdPJ_02VtssK9GkJPk/edit#gid=0\"\",\"\"RWA!F:BZ\"\"),48,0))\"),\"\")","v":""}]
[null,null,null,{"$f":"IFERROR(__xludf.DUMMYFUNCTION(\"iferror(VLOOKUP(B396,IMPORTRANGE(\"\"https://docs.google.com/spreadsheets/d/1Kptv1Yhe55NnKrQfatjnFhSoEKdPJ_02VtssK9GkJPk/edit#gid=0\"\",\"\"RWA!F:BZ\"\"),44,0))\"),\"\")","v":""},{"$f":"IFERROR(__xludf.DUMMYFUNCTION(\"iferror(VLOOKUP(B396,IMPORTRANGE(\"\"https://docs.google.com/spreadsheets/d/1Kptv1Yhe55NnKrQfatjnFhSoEKdPJ_02VtssK9GkJPk/edit#gid=0\"\",\"\"RWA!F:BZ\"\"),48,0))\"),\"\")","v":""}]
[null,null,null,{"$f":"IFERROR(__xludf.DUMMYFUNCTION(\"iferror(VLOOKUP(B397,IMPORTRANGE(\"\"https://docs.google.com/spreadsheets/d/1Kptv1Yhe55NnKrQfatjnFhSoEKdPJ_02VtssK9GkJPk/edit#gid=0\"\",\"\"RWA!F:BZ\"\"),44,0))\"),\"\")","v":""},{"$f":"IFERROR(__xludf.DUMMYFUNCTION(\"iferror(VLOOKUP(B397,IMPORTRANGE(\"\"https://docs.google.com/spreadsheets/d/1Kptv1Yhe55NnKrQfatjnFhSoEKdPJ_02VtssK9GkJPk/edit#gid=0\"\",\"\"RWA!F:BZ\"\"),48,0))\"),\"\")","v":""}]
[null,null,null,{"$f":"IFERROR(__xludf.DUMMYFUNCTION(\"iferror(VLOOKUP(B398,IMPORTRANGE(\"\"https://docs.google.com/spreadsheets/d/1Kptv1Yhe55NnKrQfatjnFhSoEKdPJ_02VtssK9GkJPk/edit#gid=0\"\",\"\"RWA!F:BZ\"\"),44,0))\"),\"\")","v":""},{"$f":"IFERROR(__xludf.DUMMYFUNCTION(\"iferror(VLOOKUP(B398,IMPORTRANGE(\"\"https://docs.google.com/spreadsheets/d/1Kptv1Yhe55NnKrQfatjnFhSoEKdPJ_02VtssK9GkJPk/edit#gid=0\"\",\"\"RWA!F:BZ\"\"),48,0))\"),\"\")","v":""}]
[null,null,null,{"$f":"IFERROR(__xludf.DUMMYFUNCTION(\"iferror(VLOOKUP(B399,IMPORTRANGE(\"\"https://docs.google.com/spreadsheets/d/1Kptv1Yhe55NnKrQfatjnFhSoEKdPJ_02VtssK9GkJPk/edit#gid=0\"\",\"\"RWA!F:BZ\"\"),44,0))\"),\"\")","v":""},{"$f":"IFERROR(__xludf.DUMMYFUNCTION(\"iferror(VLOOKUP(B399,IMPORTRANGE(\"\"https://docs.google.com/spreadsheets/d/1Kptv1Yhe55NnKrQfatjnFhSoEKdPJ_02VtssK9GkJPk/edit#gid=0\"\",\"\"RWA!F:BZ\"\"),48,0))\"),\"\")","v":""}]
[null,null,null,{"$f":"IFERROR(__xludf.DUMMYFUNCTION(\"iferror(VLOOKUP(B400,IMPORTRANGE(\"\"https://docs.google.com/spreadsheets/d/1Kptv1Yhe55NnKrQfatjnFhSoEKdPJ_02VtssK9GkJPk/edit#gid=0\"\",\"\"RWA!F:BZ\"\"),44,0))\"),\"\")","v":""},{"$f":"IFERROR(__xludf.DUMMYFUNCTION(\"iferror(VLOOKUP(B400,IMPORTRANGE(\"\"https://docs.google.com/spreadsheets/d/1Kptv1Yhe55NnKrQfatjnFhSoEKdPJ_02VtssK9GkJPk/edit#gid=0\"\",\"\"RWA!F:BZ\"\"),48,0))\"),\"\")","v":""}]
[null,null,null,{"$f":"IFERROR(__xludf.DUMMYFUNCTION(\"iferror(VLOOKUP(B401,IMPORTRANGE(\"\"https://docs.google.com/spreadsheets/d/1Kptv1Yhe55NnKrQfatjnFhSoEKdPJ_02VtssK9GkJPk/edit#gid=0\"\",\"\"RWA!F:BZ\"\"),44,0))\"),\"\")","v":""},{"$f":"IFERROR(__xludf.DUMMYFUNCTION(\"iferror(VLOOKUP(B401,IMPORTRANGE(\"\"https://docs.google.com/spreadsheets/d/1Kptv1Yhe55NnKrQfatjnFhSoEKdPJ_02VtssK9GkJPk/edit#gid=0\"\",\"\"RWA!F:BZ\"\"),48,0))\"),\"\")","v":""}]
[null,null,null,{"$f":"IFERROR(__xludf.DUMMYFUNCTION(\"iferror(VLOOKUP(B402,IMPORTRANGE(\"\"https://docs.google.com/spreadsheets/d/1Kptv1Yhe55NnKrQfatjnFhSoEKdPJ_02VtssK9GkJPk/edit#gid=0\"\",\"\"RWA!F:BZ\"\"),44,0))\"),\"\")","v":""},{"$f":"IFERROR(__xludf.DUMMYFUNCTION(\"iferror(VLOOKUP(B402,IMPORTRANGE(\"\"https://docs.google.com/spreadsheets/d/1Kptv1Yhe55NnKrQfatjnFhSoEKdPJ_02VtssK9GkJPk/edit#gid=0\"\",\"\"RWA!F:BZ\"\"),48,0))\"),\"\")","v":""}]
[null,null,null,{"$f":"IFERROR(__xludf.DUMMYFUNCTION(\"iferror(VLOOKUP(B403,IMPORTRANGE(\"\"https://docs.google.com/spreadsheets/d/1Kptv1Yhe55NnKrQfatjnFhSoEKdPJ_02VtssK9GkJPk/edit#gid=0\"\",\"\"RWA!F:BZ\"\"),44,0))\"),\"\")","v":""},{"$f":"IFERROR(__xludf.DUMMYFUNCTION(\"iferror(VLOOKUP(B403,IMPORTRANGE(\"\"https://docs.google.com/spreadsheets/d/1Kptv1Yhe55NnKrQfatjnFhSoEKdPJ_02VtssK9GkJPk/edit#gid=0\"\",\"\"RWA!F:BZ\"\"),48,0))\"),\"\")","v":""}]
[null,null,null,{"$f":"IFERROR(__xludf.DUMMYFUNCTION(\"iferror(VLOOKUP(B404,IMPORTRANGE(\"\"https://docs.google.com/spreadsheets/d/1Kptv1Yhe55NnKrQfatjnFhSoEKdPJ_02VtssK9GkJPk/edit#gid=0\"\",\"\"RWA!F:BZ\"\"),44,0))\"),\"\")","v":""},{"$f":"IFERROR(__xludf.DUMMYFUNCTION(\"iferror(VLOOKUP(B404,IMPORTRANGE(\"\"https://docs.google.com/spreadsheets/d/1Kptv1Yhe55NnKrQfatjnFhSoEKdPJ_02VtssK9GkJPk/edit#gid=0\"\",\"\"RWA!F:BZ\"\"),48,0))\"),\"\")","v":""}]
[null,null,null,{"$f":"IFERROR(__xludf.DUMMYFUNCTION(\"iferror(VLOOKUP(B405,IMPORTRANGE(\"\"https://docs.google.com/spreadsheets/d/1Kptv1Yhe55NnKrQfatjnFhSoEKdPJ_02VtssK9GkJPk/edit#gid=0\"\",\"\"RWA!F:BZ\"\"),44,0))\"),\"\")","v":""},{"$f":"IFERROR(__xludf.DUMMYFUNCTION(\"iferror(VLOOKUP(B405,IMPORTRANGE(\"\"https://docs.google.com/spreadsheets/d/1Kptv1Yhe55NnKrQfatjnFhSoEKdPJ_02VtssK9GkJPk/edit#gid=0\"\",\"\"RWA!F:BZ\"\"),48,0))\"),\"\")","v":""}]
[null,null,null,{"$f":"IFERROR(__xludf.DUMMYFUNCTION(\"iferror(VLOOKUP(B406,IMPORTRANGE(\"\"https://docs.google.com/spreadsheets/d/1Kptv1Yhe55NnKrQfatjnFhSoEKdPJ_02VtssK9GkJPk/edit#gid=0\"\",\"\"RWA!F:BZ\"\"),44,0))\"),\"\")","v":""},{"$f":"IFERROR(__xludf.DUMMYFUNCTION(\"iferror(VLOOKUP(B406,IMPORTRANGE(\"\"https://docs.google.com/spreadsheets/d/1Kptv1Yhe55NnKrQfatjnFhSoEKdPJ_02VtssK9GkJPk/edit#gid=0\"\",\"\"RWA!F:BZ\"\"),48,0))\"),\"\")","v":""}]
[null,null,null,{"$f":"IFERROR(__xludf.DUMMYFUNCTION(\"iferror(VLOOKUP(B407,IMPORTRANGE(\"\"https://docs.google.com/spreadsheets/d/1Kptv1Yhe55NnKrQfatjnFhSoEKdPJ_02VtssK9GkJPk/edit#gid=0\"\",\"\"RWA!F:BZ\"\"),44,0))\"),\"\")","v":""},{"$f":"IFERROR(__xludf.DUMMYFUNCTION(\"iferror(VLOOKUP(B407,IMPORTRANGE(\"\"https://docs.google.com/spreadsheets/d/1Kptv1Yhe55NnKrQfatjnFhSoEKdPJ_02VtssK9GkJPk/edit#gid=0\"\",\"\"RWA!F:BZ\"\"),48,0))\"),\"\")","v":""}]
[null,null,null,{"$f":"IFERROR(__xludf.DUMMYFUNCTION(\"iferror(VLOOKUP(B408,IMPORTRANGE(\"\"https://docs.google.com/spreadsheets/d/1Kptv1Yhe55NnKrQfatjnFhSoEKdPJ_02VtssK9GkJPk/edit#gid=0\"\",\"\"RWA!F:BZ\"\"),44,0))\"),\"\")","v":""},{"$f":"IFERROR(__xludf.DUMMYFUNCTION(\"iferror(VLOOKUP(B408,IMPORTRANGE(\"\"https://docs.google.com/spreadsheets/d/1Kptv1Yhe55NnKrQfatjnFhSoEKdPJ_02VtssK9GkJPk/edit#gid=0\"\",\"\"RWA!F:BZ\"\"),48,0))\"),\"\")","v":""}]
[null,null,null,{"$f":"IFERROR(__xludf.DUMMYFUNCTION(\"iferror(VLOOKUP(B409,IMPORTRANGE(\"\"https://docs.google.com/spreadsheets/d/1Kptv1Yhe55NnKrQfatjnFhSoEKdPJ_02VtssK9GkJPk/edit#gid=0\"\",\"\"RWA!F:BZ\"\"),44,0))\"),\"\")","v":""},{"$f":"IFERROR(__xludf.DUMMYFUNCTION(\"iferror(VLOOKUP(B409,IMPORTRANGE(\"\"https://docs.google.com/spreadsheets/d/1Kptv1Yhe55NnKrQfatjnFhSoEKdPJ_02VtssK9GkJPk/edit#gid=0\"\",\"\"RWA!F:BZ\"\"),48,0))\"),\"\")","v":""}]
[null,null,null,{"$f":"IFERROR(__xludf.DUMMYFUNCTION(\"iferror(VLOOKUP(B410,IMPORTRANGE(\"\"https://docs.google.com/spreadsheets/d/1Kptv1Yhe55NnKrQfatjnFhSoEKdPJ_02VtssK9GkJPk/edit#gid=0\"\",\"\"RWA!F:BZ\"\"),44,0))\"),\"\")","v":""},{"$f":"IFERROR(__xludf.DUMMYFUNCTION(\"iferror(VLOOKUP(B410,IMPORTRANGE(\"\"https://docs.google.com/spreadsheets/d/1Kptv1Yhe55NnKrQfatjnFhSoEKdPJ_02VtssK9GkJPk/edit#gid=0\"\",\"\"RWA!F:BZ\"\"),48,0))\"),\"\")","v":""}]
[null,null,null,{"$f":"IFERROR(__xludf.DUMMYFUNCTION(\"iferror(VLOOKUP(B411,IMPORTRANGE(\"\"https://docs.google.com/spreadsheets/d/1Kptv1Yhe55NnKrQfatjnFhSoEKdPJ_02VtssK9GkJPk/edit#gid=0\"\",\"\"RWA!F:BZ\"\"),44,0))\"),\"\")","v":""},{"$f":"IFERROR(__xludf.DUMMYFUNCTION(\"iferror(VLOOKUP(B411,IMPORTRANGE(\"\"https://docs.google.com/spreadsheets/d/1Kptv1Yhe55NnKrQfatjnFhSoEKdPJ_02VtssK9GkJPk/edit#gid=0\"\",\"\"RWA!F:BZ\"\"),48,0))\"),\"\")","v":""}]
[null,null,null,{"$f":"IFERROR(__xludf.DUMMYFUNCTION(\"iferror(VLOOKUP(B412,IMPORTRANGE(\"\"https://docs.google.com/spreadsheets/d/1Kptv1Yhe55NnKrQfatjnFhSoEKdPJ_02VtssK9GkJPk/edit#gid=0\"\",\"\"RWA!F:BZ\"\"),44,0))\"),\"\")","v":""},{"$f":"IFERROR(__xludf.DUMMYFUNCTION(\"iferror(VLOOKUP(B412,IMPORTRANGE(\"\"https://docs.google.com/spreadsheets/d/1Kptv1Yhe55NnKrQfatjnFhSoEKdPJ_02VtssK9GkJPk/edit#gid=0\"\",\"\"RWA!F:BZ\"\"),48,0))\"),\"\")","v":""}]
[null,null,null,{"$f":"IFERROR(__xludf.DUMMYFUNCTION(\"iferror(VLOOKUP(B413,IMPORTRANGE(\"\"https://docs.google.com/spreadsheets/d/1Kptv1Yhe55NnKrQfatjnFhSoEKdPJ_02VtssK9GkJPk/edit#gid=0\"\",\"\"RWA!F:BZ\"\"),44,0))\"),\"\")","v":""},{"$f":"IFERROR(__xludf.DUMMYFUNCTION(\"iferror(VLOOKUP(B413,IMPORTRANGE(\"\"https://docs.google.com/spreadsheets/d/1Kptv1Yhe55NnKrQfatjnFhSoEKdPJ_02VtssK9GkJPk/edit#gid=0\"\",\"\"RWA!F:BZ\"\"),48,0))\"),\"\")","v":""}]
[null,null,null,{"$f":"IFERROR(__xludf.DUMMYFUNCTION(\"iferror(VLOOKUP(B414,IMPORTRANGE(\"\"https://docs.google.com/spreadsheets/d/1Kptv1Yhe55NnKrQfatjnFhSoEKdPJ_02VtssK9GkJPk/edit#gid=0\"\",\"\"RWA!F:BZ\"\"),44,0))\"),\"\")","v":""},{"$f":"IFERROR(__xludf.DUMMYFUNCTION(\"iferror(VLOOKUP(B414,IMPORTRANGE(\"\"https://docs.google.com/spreadsheets/d/1Kptv1Yhe55NnKrQfatjnFhSoEKdPJ_02VtssK9GkJPk/edit#gid=0\"\",\"\"RWA!F:BZ\"\"),48,0))\"),\"\")","v":""}]
[null,null,null,{"$f":"IFERROR(__xludf.DUMMYFUNCTION(\"iferror(VLOOKUP(B415,IMPORTRANGE(\"\"https://docs.google.com/spreadsheets/d/1Kptv1Yhe55NnKrQfatjnFhSoEKdPJ_02VtssK9GkJPk/edit#gid=0\"\",\"\"RWA!F:BZ\"\"),44,0))\"),\"\")","v":""},{"$f":"IFERROR(__xludf.DUMMYFUNCTION(\"iferror(VLOOKUP(B415,IMPORTRANGE(\"\"https://docs.google.com/spreadsheets/d/1Kptv1Yhe55NnKrQfatjnFhSoEKdPJ_02VtssK9GkJPk/edit#gid=0\"\",\"\"RWA!F:BZ\"\"),48,0))\"),\"\")","v":""}]
[null,null,null,{"$f":"IFERROR(__xludf.DUMMYFUNCTION(\"iferror(VLOOKUP(B416,IMPORTRANGE(\"\"https://docs.google.com/spreadsheets/d/1Kptv1Yhe55NnKrQfatjnFhSoEKdPJ_02VtssK9GkJPk/edit#gid=0\"\",\"\"RWA!F:BZ\"\"),44,0))\"),\"\")","v":""},{"$f":"IFERROR(__xludf.DUMMYFUNCTION(\"iferror(VLOOKUP(B416,IMPORTRANGE(\"\"https://docs.google.com/spreadsheets/d/1Kptv1Yhe55NnKrQfatjnFhSoEKdPJ_02VtssK9GkJPk/edit#gid=0\"\",\"\"RWA!F:BZ\"\"),48,0))\"),\"\")","v":""}]
[null,null,null,{"$f":"IFERROR(__xludf.DUMMYFUNCTION(\"iferror(VLOOKUP(B417,IMPORTRANGE(\"\"https://docs.google.com/spreadsheets/d/1Kptv1Yhe55NnKrQfatjnFhSoEKdPJ_02VtssK9GkJPk/edit#gid=0\"\",\"\"RWA!F:BZ\"\"),44,0))\"),\"\")","v":""},{"$f":"IFERROR(__xludf.DUMMYFUNCTION(\"iferror(VLOOKUP(B417,IMPORTRANGE(\"\"https://docs.google.com/spreadsheets/d/1Kptv1Yhe55NnKrQfatjnFhSoEKdPJ_02VtssK9GkJPk/edit#gid=0\"\",\"\"RWA!F:BZ\"\"),48,0))\"),\"\")","v":""}]
[null,null,null,{"$f":"IFERROR(__xludf.DUMMYFUNCTION(\"iferror(VLOOKUP(B418,IMPORTRANGE(\"\"https://docs.google.com/spreadsheets/d/1Kptv1Yhe55NnKrQfatjnFhSoEKdPJ_02VtssK9GkJPk/edit#gid=0\"\",\"\"RWA!F:BZ\"\"),44,0))\"),\"\")","v":""},{"$f":"IFERROR(__xludf.DUMMYFUNCTION(\"iferror(VLOOKUP(B418,IMPORTRANGE(\"\"https://docs.google.com/spreadsheets/d/1Kptv1Yhe55NnKrQfatjnFhSoEKdPJ_02VtssK9GkJPk/edit#gid=0\"\",\"\"RWA!F:BZ\"\"),48,0))\"),\"\")","v":""}]
[null,null,null,{"$f":"IFERROR(__xludf.DUMMYFUNCTION(\"iferror(VLOOKUP(B419,IMPORTRANGE(\"\"https://docs.google.com/spreadsheets/d/1Kptv1Yhe55NnKrQfatjnFhSoEKdPJ_02VtssK9GkJPk/edit#gid=0\"\",\"\"RWA!F:BZ\"\"),44,0))\"),\"\")","v":""},{"$f":"IFERROR(__xludf.DUMMYFUNCTION(\"iferror(VLOOKUP(B419,IMPORTRANGE(\"\"https://docs.google.com/spreadsheets/d/1Kptv1Yhe55NnKrQfatjnFhSoEKdPJ_02VtssK9GkJPk/edit#gid=0\"\",\"\"RWA!F:BZ\"\"),48,0))\"),\"\")","v":""}]
[null,null,null,{"$f":"IFERROR(__xludf.DUMMYFUNCTION(\"iferror(VLOOKUP(B420,IMPORTRANGE(\"\"https://docs.google.com/spreadsheets/d/1Kptv1Yhe55NnKrQfatjnFhSoEKdPJ_02VtssK9GkJPk/edit#gid=0\"\",\"\"RWA!F:BZ\"\"),44,0))\"),\"\")","v":""},{"$f":"IFERROR(__xludf.DUMMYFUNCTION(\"iferror(VLOOKUP(B420,IMPORTRANGE(\"\"https://docs.google.com/spreadsheets/d/1Kptv1Yhe55NnKrQfatjnFhSoEKdPJ_02VtssK9GkJPk/edit#gid=0\"\",\"\"RWA!F:BZ\"\"),48,0))\"),\"\")","v":""}]
[null,null,null,{"$f":"IFERROR(__xludf.DUMMYFUNCTION(\"iferror(VLOOKUP(B421,IMPORTRANGE(\"\"https://docs.google.com/spreadsheets/d/1Kptv1Yhe55NnKrQfatjnFhSoEKdPJ_02VtssK9GkJPk/edit#gid=0\"\",\"\"RWA!F:BZ\"\"),44,0))\"),\"\")","v":""},{"$f":"IFERROR(__xludf.DUMMYFUNCTION(\"iferror(VLOOKUP(B421,IMPORTRANGE(\"\"https://docs.google.com/spreadsheets/d/1Kptv1Yhe55NnKrQfatjnFhSoEKdPJ_02VtssK9GkJPk/edit#gid=0\"\",\"\"RWA!F:BZ\"\"),48,0))\"),\"\")","v":""}]
[null,null,null,{"$f":"IFERROR(__xludf.DUMMYFUNCTION(\"iferror(VLOOKUP(B422,IMPORTRANGE(\"\"https://docs.google.com/spreadsheets/d/1Kptv1Yhe55NnKrQfatjnFhSoEKdPJ_02VtssK9GkJPk/edit#gid=0\"\",\"\"RWA!F:BZ\"\"),44,0))\"),\"\")","v":""},{"$f":"IFERROR(__xludf.DUMMYFUNCTION(\"iferror(VLOOKUP(B422,IMPORTRANGE(\"\"https://docs.google.com/spreadsheets/d/1Kptv1Yhe55NnKrQfatjnFhSoEKdPJ_02VtssK9GkJPk/edit#gid=0\"\",\"\"RWA!F:BZ\"\"),48,0))\"),\"\")","v":""}]
[null,null,null,{"$f":"IFERROR(__xludf.DUMMYFUNCTION(\"iferror(VLOOKUP(B423,IMPORTRANGE(\"\"https://docs.google.com/spreadsheets/d/1Kptv1Yhe55NnKrQfatjnFhSoEKdPJ_02VtssK9GkJPk/edit#gid=0\"\",\"\"RWA!F:BZ\"\"),44,0))\"),\"\")","v":""},{"$f":"IFERROR(__xludf.DUMMYFUNCTION(\"iferror(VLOOKUP(B423,IMPORTRANGE(\"\"https://docs.google.com/spreadsheets/d/1Kptv1Yhe55NnKrQfatjnFhSoEKdPJ_02VtssK9GkJPk/edit#gid=0\"\",\"\"RWA!F:BZ\"\"),48,0))\"),\"\")","v":""}]
[null,null,null,{"$f":"IFERROR(__xludf.DUMMYFUNCTION(\"iferror(VLOOKUP(B424,IMPORTRANGE(\"\"https://docs.google.com/spreadsheets/d/1Kptv1Yhe55NnKrQfatjnFhSoEKdPJ_02VtssK9GkJPk/edit#gid=0\"\",\"\"RWA!F:BZ\"\"),44,0))\"),\"\")","v":""},{"$f":"IFERROR(__xludf.DUMMYFUNCTION(\"iferror(VLOOKUP(B424,IMPORTRANGE(\"\"https://docs.google.com/spreadsheets/d/1Kptv1Yhe55NnKrQfatjnFhSoEKdPJ_02VtssK9GkJPk/edit#gid=0\"\",\"\"RWA!F:BZ\"\"),48,0))\"),\"\")","v":""}]
[null,null,null,{"$f":"IFERROR(__xludf.DUMMYFUNCTION(\"iferror(VLOOKUP(B425,IMPORTRANGE(\"\"https://docs.google.com/spreadsheets/d/1Kptv1Yhe55NnKrQfatjnFhSoEKdPJ_02VtssK9GkJPk/edit#gid=0\"\",\"\"RWA!F:BZ\"\"),44,0))\"),\"\")","v":""},{"$f":"IFERROR(__xludf.DUMMYFUNCTION(\"iferror(VLOOKUP(B425,IMPORTRANGE(\"\"https://docs.google.com/spreadsheets/d/1Kptv1Yhe55NnKrQfatjnFhSoEKdPJ_02VtssK9GkJPk/edit#gid=0\"\",\"\"RWA!F:BZ\"\"),48,0))\"),\"\")","v":""}]
[null,null,null,{"$f":"IFERROR(__xludf.DUMMYFUNCTION(\"iferror(VLOOKUP(B426,IMPORTRANGE(\"\"https://docs.google.com/spreadsheets/d/1Kptv1Yhe55NnKrQfatjnFhSoEKdPJ_02VtssK9GkJPk/edit#gid=0\"\",\"\"RWA!F:BZ\"\"),44,0))\"),\"\")","v":""},{"$f":"IFERROR(__xludf.DUMMYFUNCTION(\"iferror(VLOOKUP(B426,IMPORTRANGE(\"\"https://docs.google.com/spreadsheets/d/1Kptv1Yhe55NnKrQfatjnFhSoEKdPJ_02VtssK9GkJPk/edit#gid=0\"\",\"\"RWA!F:BZ\"\"),48,0))\"),\"\")","v":""}]
[null,null,null,{"$f":"IFERROR(__xludf.DUMMYFUNCTION(\"iferror(VLOOKUP(B427,IMPORTRANGE(\"\"https://docs.google.com/spreadsheets/d/1Kptv1Yhe55NnKrQfatjnFhSoEKdPJ_02VtssK9GkJPk/edit#gid=0\"\",\"\"RWA!F:BZ\"\"),44,0))\"),\"\")","v":""},{"$f":"IFERROR(__xludf.DUMMYFUNCTION(\"iferror(VLOOKUP(B427,IMPORTRANGE(\"\"https://docs.google.com/spreadsheets/d/1Kptv1Yhe55NnKrQfatjnFhSoEKdPJ_02VtssK9GkJPk/edit#gid=0\"\",\"\"RWA!F:BZ\"\"),48,0))\"),\"\")","v":""}]
[null,null,null,{"$f":"IFERROR(__xludf.DUMMYFUNCTION(\"iferror(VLOOKUP(B428,IMPORTRANGE(\"\"https://docs.google.com/spreadsheets/d/1Kptv1Yhe55NnKrQfatjnFhSoEKdPJ_02VtssK9GkJPk/edit#gid=0\"\",\"\"RWA!F:BZ\"\"),44,0))\"),\"\")","v":""},{"$f":"IFERROR(__xludf.DUMMYFUNCTION(\"iferror(VLOOKUP(B428,IMPORTRANGE(\"\"https://docs.google.com/spreadsheets/d/1Kptv1Yhe55NnKrQfatjnFhSoEKdPJ_02VtssK9GkJPk/edit#gid=0\"\",\"\"RWA!F:BZ\"\"),48,0))\"),\"\")","v":""}]
[null,null,null,{"$f":"IFERROR(__xludf.DUMMYFUNCTION(\"iferror(VLOOKUP(B429,IMPORTRANGE(\"\"https://docs.google.com/spreadsheets/d/1Kptv1Yhe55NnKrQfatjnFhSoEKdPJ_02VtssK9GkJPk/edit#gid=0\"\",\"\"RWA!F:BZ\"\"),44,0))\"),\"\")","v":""},{"$f":"IFERROR(__xludf.DUMMYFUNCTION(\"iferror(VLOOKUP(B429,IMPORTRANGE(\"\"https://docs.google.com/spreadsheets/d/1Kptv1Yhe55NnKrQfatjnFhSoEKdPJ_02VtssK9GkJPk/edit#gid=0\"\",\"\"RWA!F:BZ\"\"),48,0))\"),\"\")","v":""}]
[null,null,null,{"$f":"IFERROR(__xludf.DUMMYFUNCTION(\"iferror(VLOOKUP(B430,IMPORTRANGE(\"\"https://docs.google.com/spreadsheets/d/1Kptv1Yhe55NnKrQfatjnFhSoEKdPJ_02VtssK9GkJPk/edit#gid=0\"\",\"\"RWA!F:BZ\"\"),44,0))\"),\"\")","v":""},{"$f":"IFERROR(__xludf.DUMMYFUNCTION(\"iferror(VLOOKUP(B430,IMPORTRANGE(\"\"https://docs.google.com/spreadsheets/d/1Kptv1Yhe55NnKrQfatjnFhSoEKdPJ_02VtssK9GkJPk/edit#gid=0\"\",\"\"RWA!F:BZ\"\"),48,0))\"),\"\")","v":""}]
[null,null,null,{"$f":"IFERROR(__xludf.DUMMYFUNCTION(\"iferror(VLOOKUP(B431,IMPORTRANGE(\"\"https://docs.google.com/spreadsheets/d/1Kptv1Yhe55NnKrQfatjnFhSoEKdPJ_02VtssK9GkJPk/edit#gid=0\"\",\"\"RWA!F:BZ\"\"),44,0))\"),\"\")","v":""},{"$f":"IFERROR(__xludf.DUMMYFUNCTION(\"iferror(VLOOKUP(B431,IMPORTRANGE(\"\"https://docs.google.com/spreadsheets/d/1Kptv1Yhe55NnKrQfatjnFhSoEKdPJ_02VtssK9GkJPk/edit#gid=0\"\",\"\"RWA!F:BZ\"\"),48,0))\"),\"\")","v":""}]
[null,null,null,{"$f":"IFERROR(__xludf.DUMMYFUNCTION(\"iferror(VLOOKUP(B432,IMPORTRANGE(\"\"https://docs.google.com/spreadsheets/d/1Kptv1Yhe55NnKrQfatjnFhSoEKdPJ_02VtssK9GkJPk/edit#gid=0\"\",\"\"RWA!F:BZ\"\"),44,0))\"),\"\")","v":""},{"$f":"IFERROR(__xludf.DUMMYFUNCTION(\"iferror(VLOOKUP(B432,IMPORTRANGE(\"\"https://docs.google.com/spreadsheets/d/1Kptv1Yhe55NnKrQfatjnFhSoEKdPJ_02VtssK9GkJPk/edit#gid=0\"\",\"\"RWA!F:BZ\"\"),48,0))\"),\"\")","v":""}]
[null,null,null,{"$f":"IFERROR(__xludf.DUMMYFUNCTION(\"iferror(VLOOKUP(B433,IMPORTRANGE(\"\"https://docs.google.com/spreadsheets/d/1Kptv1Yhe55NnKrQfatjnFhSoEKdPJ_02VtssK9GkJPk/edit#gid=0\"\",\"\"RWA!F:BZ\"\"),44,0))\"),\"\")","v":""},{"$f":"IFERROR(__xludf.DUMMYFUNCTION(\"iferror(VLOOKUP(B433,IMPORTRANGE(\"\"https://docs.google.com/spreadsheets/d/1Kptv1Yhe55NnKrQfatjnFhSoEKdPJ_02VtssK9GkJPk/edit#gid=0\"\",\"\"RWA!F:BZ\"\"),48,0))\"),\"\")","v":""}]
[null,null,null,{"$f":"IFERROR(__xludf.DUMMYFUNCTION(\"iferror(VLOOKUP(B434,IMPORTRANGE(\"\"https://docs.google.com/spreadsheets/d/1Kptv1Yhe55NnKrQfatjnFhSoEKdPJ_02VtssK9GkJPk/edit#gid=0\"\",\"\"RWA!F:BZ\"\"),44,0))\"),\"\")","v":""},{"$f":"IFERROR(__xludf.DUMMYFUNCTION(\"iferror(VLOOKUP(B434,IMPORTRANGE(\"\"https://docs.google.com/spreadsheets/d/1Kptv1Yhe55NnKrQfatjnFhSoEKdPJ_02VtssK9GkJPk/edit#gid=0\"\",\"\"RWA!F:BZ\"\"),48,0))\"),\"\")","v":""}]
[null,null,null,{"$f":"IFERROR(__xludf.DUMMYFUNCTION(\"iferror(VLOOKUP(B435,IMPORTRANGE(\"\"https://docs.google.com/spreadsheets/d/1Kptv1Yhe55NnKrQfatjnFhSoEKdPJ_02VtssK9GkJPk/edit#gid=0\"\",\"\"RWA!F:BZ\"\"),44,0))\"),\"\")","v":""},{"$f":"IFERROR(__xludf.DUMMYFUNCTION(\"iferror(VLOOKUP(B435,IMPORTRANGE(\"\"https://docs.google.com/spreadsheets/d/1Kptv1Yhe55NnKrQfatjnFhSoEKdPJ_02VtssK9GkJPk/edit#gid=0\"\",\"\"RWA!F:BZ\"\"),48,0))\"),\"\")","v":""}]
[null,null,null,{"$f":"IFERROR(__xludf.DUMMYFUNCTION(\"iferror(VLOOKUP(B436,IMPORTRANGE(\"\"https://docs.google.com/spreadsheets/d/1Kptv1Yhe55NnKrQfatjnFhSoEKdPJ_02VtssK9GkJPk/edit#gid=0\"\",\"\"RWA!F:BZ\"\"),44,0))\"),\"\")","v":""},{"$f":"IFERROR(__xludf.DUMMYFUNCTION(\"iferror(VLOOKUP(B436,IMPORTRANGE(\"\"https://docs.google.com/spreadsheets/d/1Kptv1Yhe55NnKrQfatjnFhSoEKdPJ_02VtssK9GkJPk/edit#gid=0\"\",\"\"RWA!F:BZ\"\"),48,0))\"),\"\")","v":""}]
[null,null,null,{"$f":"IFERROR(__xludf.DUMMYFUNCTION(\"iferror(VLOOKUP(B437,IMPORTRANGE(\"\"https://docs.google.com/spreadsheets/d/1Kptv1Yhe55NnKrQfatjnFhSoEKdPJ_02VtssK9GkJPk/edit#gid=0\"\",\"\"RWA!F:BZ\"\"),44,0))\"),\"\")","v":""},{"$f":"IFERROR(__xludf.DUMMYFUNCTION(\"iferror(VLOOKUP(B437,IMPORTRANGE(\"\"https://docs.google.com/spreadsheets/d/1Kptv1Yhe55NnKrQfatjnFhSoEKdPJ_02VtssK9GkJPk/edit#gid=0\"\",\"\"RWA!F:BZ\"\"),48,0))\"),\"\")","v":""}]
[null,null,null,{"$f":"IFERROR(__xludf.DUMMYFUNCTION(\"iferror(VLOOKUP(B438,IMPORTRANGE(\"\"https://docs.google.com/spreadsheets/d/1Kptv1Yhe55NnKrQfatjnFhSoEKdPJ_02VtssK9GkJPk/edit#gid=0\"\",\"\"RWA!F:BZ\"\"),44,0))\"),\"\")","v":""},{"$f":"IFERROR(__xludf.DUMMYFUNCTION(\"iferror(VLOOKUP(B438,IMPORTRANGE(\"\"https://docs.google.com/spreadsheets/d/1Kptv1Yhe55NnKrQfatjnFhSoEKdPJ_02VtssK9GkJPk/edit#gid=0\"\",\"\"RWA!F:BZ\"\"),48,0))\"),\"\")","v":""}]
[null,null,null,{"$f":"IFERROR(__xludf.DUMMYFUNCTION(\"iferror(VLOOKUP(B439,IMPORTRANGE(\"\"https://docs.google.com/spreadsheets/d/1Kptv1Yhe55NnKrQfatjnFhSoEKdPJ_02VtssK9GkJPk/edit#gid=0\"\",\"\"RWA!F:BZ\"\"),44,0))\"),\"\")","v":""},{"$f":"IFERROR(__xludf.DUMMYFUNCTION(\"iferror(VLOOKUP(B439,IMPORTRANGE(\"\"https://docs.google.com/spreadsheets/d/1Kptv1Yhe55NnKrQfatjnFhSoEKdPJ_02VtssK9GkJPk/edit#gid=0\"\",\"\"RWA!F:BZ\"\"),48,0))\"),\"\")","v":""}]
[null,null,null,{"$f":"IFERROR(__xludf.DUMMYFUNCTION(\"iferror(VLOOKUP(B440,IMPORTRANGE(\"\"https://docs.google.com/spreadsheets/d/1Kptv1Yhe55NnKrQfatjnFhSoEKdPJ_02VtssK9GkJPk/edit#gid=0\"\",\"\"RWA!F:BZ\"\"),44,0))\"),\"\")","v":""},{"$f":"IFERROR(__xludf.DUMMYFUNCTION(\"iferror(VLOOKUP(B440,IMPORTRANGE(\"\"https://docs.google.com/spreadsheets/d/1Kptv1Yhe55NnKrQfatjnFhSoEKdPJ_02VtssK9GkJPk/edit#gid=0\"\",\"\"RWA!F:BZ\"\"),48,0))\"),\"\")","v":""}]
[null,null,null,{"$f":"IFERROR(__xludf.DUMMYFUNCTION(\"iferror(VLOOKUP(B441,IMPORTRANGE(\"\"https://docs.google.com/spreadsheets/d/1Kptv1Yhe55NnKrQfatjnFhSoEKdPJ_02VtssK9GkJPk/edit#gid=0\"\",\"\"RWA!F:BZ\"\"),44,0))\"),\"\")","v":""},{"$f":"IFERROR(__xludf.DUMMYFUNCTION(\"iferror(VLOOKUP(B441,IMPORTRANGE(\"\"https://docs.google.com/spreadsheets/d/1Kptv1Yhe55NnKrQfatjnFhSoEKdPJ_02VtssK9GkJPk/edit#gid=0\"\",\"\"RWA!F:BZ\"\"),48,0))\"),\"\")","v":""}]
[null,null,null,{"$f":"IFERROR(__xludf.DUMMYFUNCTION(\"iferror(VLOOKUP(B442,IMPORTRANGE(\"\"https://docs.google.com/spreadsheets/d/1Kptv1Yhe55NnKrQfatjnFhSoEKdPJ_02VtssK9GkJPk/edit#gid=0\"\",\"\"RWA!F:BZ\"\"),44,0))\"),\"\")","v":""},{"$f":"IFERROR(__xludf.DUMMYFUNCTION(\"iferror(VLOOKUP(B442,IMPORTRANGE(\"\"https://docs.google.com/spreadsheets/d/1Kptv1Yhe55NnKrQfatjnFhSoEKdPJ_02VtssK9GkJPk/edit#gid=0\"\",\"\"RWA!F:BZ\"\"),48,0))\"),\"\")","v":""}]
[null,null,null,{"$f":"IFERROR(__xludf.DUMMYFUNCTION(\"iferror(VLOOKUP(B443,IMPORTRANGE(\"\"https://docs.google.com/spreadsheets/d/1Kptv1Yhe55NnKrQfatjnFhSoEKdPJ_02VtssK9GkJPk/edit#gid=0\"\",\"\"RWA!F:BZ\"\"),44,0))\"),\"\")","v":""},{"$f":"IFERROR(__xludf.DUMMYFUNCTION(\"iferror(VLOOKUP(B443,IMPORTRANGE(\"\"https://docs.google.com/spreadsheets/d/1Kptv1Yhe55NnKrQfatjnFhSoEKdPJ_02VtssK9GkJPk/edit#gid=0\"\",\"\"RWA!F:BZ\"\"),48,0))\"),\"\")","v":""}]
[null,null,null,{"$f":"IFERROR(__xludf.DUMMYFUNCTION(\"iferror(VLOOKUP(B444,IMPORTRANGE(\"\"https://docs.google.com/spreadsheets/d/1Kptv1Yhe55NnKrQfatjnFhSoEKdPJ_02VtssK9GkJPk/edit#gid=0\"\",\"\"RWA!F:BZ\"\"),44,0))\"),\"\")","v":""},{"$f":"IFERROR(__xludf.DUMMYFUNCTION(\"iferror(VLOOKUP(B444,IMPORTRANGE(\"\"https://docs.google.com/spreadsheets/d/1Kptv1Yhe55NnKrQfatjnFhSoEKdPJ_02VtssK9GkJPk/edit#gid=0\"\",\"\"RWA!F:BZ\"\"),48,0))\"),\"\")","v":""}]
[null,null,null,{"$f":"IFERROR(__xludf.DUMMYFUNCTION(\"iferror(VLOOKUP(B445,IMPORTRANGE(\"\"https://docs.google.com/spreadsheets/d/1Kptv1Yhe55NnKrQfatjnFhSoEKdPJ_02VtssK9GkJPk/edit#gid=0\"\",\"\"RWA!F:BZ\"\"),44,0))\"),\"\")","v":""},{"$f":"IFERROR(__xludf.DUMMYFUNCTION(\"iferror(VLOOKUP(B445,IMPORTRANGE(\"\"https://docs.google.com/spreadsheets/d/1Kptv1Yhe55NnKrQfatjnFhSoEKdPJ_02VtssK9GkJPk/edit#gid=0\"\",\"\"RWA!F:BZ\"\"),48,0))\"),\"\")","v":""}]
[null,null,null,{"$f":"IFERROR(__xludf.DUMMYFUNCTION(\"iferror(VLOOKUP(B446,IMPORTRANGE(\"\"https://docs.google.com/spreadsheets/d/1Kptv1Yhe55NnKrQfatjnFhSoEKdPJ_02VtssK9GkJPk/edit#gid=0\"\",\"\"RWA!F:BZ\"\"),44,0))\"),\"\")","v":""},{"$f":"IFERROR(__xludf.DUMMYFUNCTION(\"iferror(VLOOKUP(B446,IMPORTRANGE(\"\"https://docs.google.com/spreadsheets/d/1Kptv1Yhe55NnKrQfatjnFhSoEKdPJ_02VtssK9GkJPk/edit#gid=0\"\",\"\"RWA!F:BZ\"\"),48,0))\"),\"\")","v":""}]
[null,null,null,{"$f":"IFERROR(__xludf.DUMMYFUNCTION(\"iferror(VLOOKUP(B447,IMPORTRANGE(\"\"https://docs.google.com/spreadsheets/d/1Kptv1Yhe55NnKrQfatjnFhSoEKdPJ_02VtssK9GkJPk/edit#gid=0\"\",\"\"RWA!F:BZ\"\"),44,0))\"),\"\")","v":""},{"$f":"IFERROR(__xludf.DUMMYFUNCTION(\"iferror(VLOOKUP(B447,IMPORTRANGE(\"\"https://docs.google.com/spreadsheets/d/1Kptv1Yhe55NnKrQfatjnFhSoEKdPJ_02VtssK9GkJPk/edit#gid=0\"\",\"\"RWA!F:BZ\"\"),48,0))\"),\"\")","v":""}]
[null,null,null,{"$f":"IFERROR(__xludf.DUMMYFUNCTION(\"iferror(VLOOKUP(B448,IMPORTRANGE(\"\"https://docs.google.com/spreadsheets/d/1Kptv1Yhe55NnKrQfatjnFhSoEKdPJ_02VtssK9GkJPk/edit#gid=0\"\",\"\"RWA!F:BZ\"\"),44,0))\"),\"\")","v":""},{"$f":"IFERROR(__xludf.DUMMYFUNCTION(\"iferror(VLOOKUP(B448,IMPORTRANGE(\"\"https://docs.google.com/spreadsheets/d/1Kptv1Yhe55NnKrQfatjnFhSoEKdPJ_02VtssK9GkJPk/edit#gid=0\"\",\"\"RWA!F:BZ\"\"),48,0))\"),\"\")","v":""}]
[null,null,null,{"$f":"IFERROR(__xludf.DUMMYFUNCTION(\"iferror(VLOOKUP(B449,IMPORTRANGE(\"\"https://docs.google.com/spreadsheets/d/1Kptv1Yhe55NnKrQfatjnFhSoEKdPJ_02VtssK9GkJPk/edit#gid=0\"\",\"\"RWA!F:BZ\"\"),44,0))\"),\"\")","v":""},{"$f":"IFERROR(__xludf.DUMMYFUNCTION(\"iferror(VLOOKUP(B449,IMPORTRANGE(\"\"https://docs.google.com/spreadsheets/d/1Kptv1Yhe55NnKrQfatjnFhSoEKdPJ_02VtssK9GkJPk/edit#gid=0\"\",\"\"RWA!F:BZ\"\"),48,0))\"),\"\")","v":""}]
[null,null,null,{"$f":"IFERROR(__xludf.DUMMYFUNCTION(\"iferror(VLOOKUP(B450,IMPORTRANGE(\"\"https://docs.google.com/spreadsheets/d/1Kptv1Yhe55NnKrQfatjnFhSoEKdPJ_02VtssK9GkJPk/edit#gid=0\"\",\"\"RWA!F:BZ\"\"),44,0))\"),\"\")","v":""},{"$f":"IFERROR(__xludf.DUMMYFUNCTION(\"iferror(VLOOKUP(B450,IMPORTRANGE(\"\"https://docs.google.com/spreadsheets/d/1Kptv1Yhe55NnKrQfatjnFhSoEKdPJ_02VtssK9GkJPk/edit#gid=0\"\",\"\"RWA!F:BZ\"\"),48,0))\"),\"\")","v":""}]
[null,null,null,{"$f":"IFERROR(__xludf.DUMMYFUNCTION(\"iferror(VLOOKUP(B451,IMPORTRANGE(\"\"https://docs.google.com/spreadsheets/d/1Kptv1Yhe55NnKrQfatjnFhSoEKdPJ_02VtssK9GkJPk/edit#gid=0\"\",\"\"RWA!F:BZ\"\"),44,0))\"),\"\")","v":""},{"$f":"IFERROR(__xludf.DUMMYFUNCTION(\"iferror(VLOOKUP(B451,IMPORTRANGE(\"\"https://docs.google.com/spreadsheets/d/1Kptv1Yhe55NnKrQfatjnFhSoEKdPJ_02VtssK9GkJPk/edit#gid=0\"\",\"\"RWA!F:BZ\"\"),48,0))\"),\"\")","v":""}]
[null,null,null,{"$f":"IFERROR(__xludf.DUMMYFUNCTION(\"iferror(VLOOKUP(B452,IMPORTRANGE(\"\"https://docs.google.com/spreadsheets/d/1Kptv1Yhe55NnKrQfatjnFhSoEKdPJ_02VtssK9GkJPk/edit#gid=0\"\",\"\"RWA!F:BZ\"\"),44,0))\"),\"\")","v":""},{"$f":"IFERROR(__xludf.DUMMYFUNCTION(\"iferror(VLOOKUP(B452,IMPORTRANGE(\"\"https://docs.google.com/spreadsheets/d/1Kptv1Yhe55NnKrQfatjnFhSoEKdPJ_02VtssK9GkJPk/edit#gid=0\"\",\"\"RWA!F:BZ\"\"),48,0))\"),\"\")","v":""}]
[null,null,null,{"$f":"IFERROR(__xludf.DUMMYFUNCTION(\"iferror(VLOOKUP(B453,IMPORTRANGE(\"\"https://docs.google.com/spreadsheets/d/1Kptv1Yhe55NnKrQfatjnFhSoEKdPJ_02VtssK9GkJPk/edit#gid=0\"\",\"\"RWA!F:BZ\"\"),44,0))\"),\"\")","v":""},{"$f":"IFERROR(__xludf.DUMMYFUNCTION(\"iferror(VLOOKUP(B453,IMPORTRANGE(\"\"https://docs.google.com/spreadsheets/d/1Kptv1Yhe55NnKrQfatjnFhSoEKdPJ_02VtssK9GkJPk/edit#gid=0\"\",\"\"RWA!F:BZ\"\"),48,0))\"),\"\")","v":""}]
[null,null,null,{"$f":"IFERROR(__xludf.DUMMYFUNCTION(\"iferror(VLOOKUP(B454,IMPORTRANGE(\"\"https://docs.google.com/spreadsheets/d/1Kptv1Yhe55NnKrQfatjnFhSoEKdPJ_02VtssK9GkJPk/edit#gid=0\"\",\"\"RWA!F:BZ\"\"),44,0))\"),\"\")","v":""},{"$f":"IFERROR(__xludf.DUMMYFUNCTION(\"iferror(VLOOKUP(B454,IMPORTRANGE(\"\"https://docs.google.com/spreadsheets/d/1Kptv1Yhe55NnKrQfatjnFhSoEKdPJ_02VtssK9GkJPk/edit#gid=0\"\",\"\"RWA!F:BZ\"\"),48,0))\"),\"\")","v":""}]
[null,null,null,{"$f":"IFERROR(__xludf.DUMMYFUNCTION(\"iferror(VLOOKUP(B455,IMPORTRANGE(\"\"https://docs.google.com/spreadsheets/d/1Kptv1Yhe55NnKrQfatjnFhSoEKdPJ_02VtssK9GkJPk/edit#gid=0\"\",\"\"RWA!F:BZ\"\"),44,0))\"),\"\")","v":""},{"$f":"IFERROR(__xludf.DUMMYFUNCTION(\"iferror(VLOOKUP(B455,IMPORTRANGE(\"\"https://docs.google.com/spreadsheets/d/1Kptv1Yhe55NnKrQfatjnFhSoEKdPJ_02VtssK9GkJPk/edit#gid=0\"\",\"\"RWA!F:BZ\"\"),48,0))\"),\"\")","v":""}]
[null,null,null,{"$f":"IFERROR(__xludf.DUMMYFUNCTION(\"iferror(VLOOKUP(B456,IMPORTRANGE(\"\"https://docs.google.com/spreadsheets/d/1Kptv1Yhe55NnKrQfatjnFhSoEKdPJ_02VtssK9GkJPk/edit#gid=0\"\",\"\"RWA!F:BZ\"\"),44,0))\"),\"\")","v":""},{"$f":"IFERROR(__xludf.DUMMYFUNCTION(\"iferror(VLOOKUP(B456,IMPORTRANGE(\"\"https://docs.google.com/spreadsheets/d/1Kptv1Yhe55NnKrQfatjnFhSoEKdPJ_02VtssK9GkJPk/edit#gid=0\"\",\"\"RWA!F:BZ\"\"),48,0))\"),\"\")","v":""}]
[null,null,null,{"$f":"IFERROR(__xludf.DUMMYFUNCTION(\"iferror(VLOOKUP(B457,IMPORTRANGE(\"\"https://docs.google.com/spreadsheets/d/1Kptv1Yhe55NnKrQfatjnFhSoEKdPJ_02VtssK9GkJPk/edit#gid=0\"\",\"\"RWA!F:BZ\"\"),44,0))\"),\"\")","v":""},{"$f":"IFERROR(__xludf.DUMMYFUNCTION(\"iferror(VLOOKUP(B457,IMPORTRANGE(\"\"https://docs.google.com/spreadsheets/d/1Kptv1Yhe55NnKrQfatjnFhSoEKdPJ_02VtssK9GkJPk/edit#gid=0\"\",\"\"RWA!F:BZ\"\"),48,0))\"),\"\")","v":""}]
[null,null,null,{"$f":"IFERROR(__xludf.DUMMYFUNCTION(\"iferror(VLOOKUP(B458,IMPORTRANGE(\"\"https://docs.google.com/spreadsheets/d/1Kptv1Yhe55NnKrQfatjnFhSoEKdPJ_02VtssK9GkJPk/edit#gid=0\"\",\"\"RWA!F:BZ\"\"),44,0))\"),\"\")","v":""},{"$f":"IFERROR(__xludf.DUMMYFUNCTION(\"iferror(VLOOKUP(B458,IMPORTRANGE(\"\"https://docs.google.com/spreadsheets/d/1Kptv1Yhe55NnKrQfatjnFhSoEKdPJ_02VtssK9GkJPk/edit#gid=0\"\",\"\"RWA!F:BZ\"\"),48,0))\"),\"\")","v":""}]
[null,null,null,{"$f":"IFERROR(__xludf.DUMMYFUNCTION(\"iferror(VLOOKUP(B459,IMPORTRANGE(\"\"https://docs.google.com/spreadsheets/d/1Kptv1Yhe55NnKrQfatjnFhSoEKdPJ_02VtssK9GkJPk/edit#gid=0\"\",\"\"RWA!F:BZ\"\"),44,0))\"),\"\")","v":""},{"$f":"IFERROR(__xludf.DUMMYFUNCTION(\"iferror(VLOOKUP(B459,IMPORTRANGE(\"\"https://docs.google.com/spreadsheets/d/1Kptv1Yhe55NnKrQfatjnFhSoEKdPJ_02VtssK9GkJPk/edit#gid=0\"\",\"\"RWA!F:BZ\"\"),48,0))\"),\"\")","v":""}]
[null,null,null,{"$f":"IFERROR(__xludf.DUMMYFUNCTION(\"iferror(VLOOKUP(B460,IMPORTRANGE(\"\"https://docs.google.com/spreadsheets/d/1Kptv1Yhe55NnKrQfatjnFhSoEKdPJ_02VtssK9GkJPk/edit#gid=0\"\",\"\"RWA!F:BZ\"\"),44,0))\"),\"\")","v":""},{"$f":"IFERROR(__xludf.DUMMYFUNCTION(\"iferror(VLOOKUP(B460,IMPORTRANGE(\"\"https://docs.google.com/spreadsheets/d/1Kptv1Yhe55NnKrQfatjnFhSoEKdPJ_02VtssK9GkJPk/edit#gid=0\"\",\"\"RWA!F:BZ\"\"),48,0))\"),\"\")","v":""}]
[null,null,null,{"$f":"IFERROR(__xludf.DUMMYFUNCTION(\"iferror(VLOOKUP(B461,IMPORTRANGE(\"\"https://docs.google.com/spreadsheets/d/1Kptv1Yhe55NnKrQfatjnFhSoEKdPJ_02VtssK9GkJPk/edit#gid=0\"\",\"\"RWA!F:BZ\"\"),44,0))\"),\"\")","v":""},{"$f":"IFERROR(__xludf.DUMMYFUNCTION(\"iferror(VLOOKUP(B461,IMPORTRANGE(\"\"https://docs.google.com/spreadsheets/d/1Kptv1Yhe55NnKrQfatjnFhSoEKdPJ_02VtssK9GkJPk/edit#gid=0\"\",\"\"RWA!F:BZ\"\"),48,0))\"),\"\")","v":""}]
[null,null,null,{"$f":"IFERROR(__xludf.DUMMYFUNCTION(\"iferror(VLOOKUP(B462,IMPORTRANGE(\"\"https://docs.google.com/spreadsheets/d/1Kptv1Yhe55NnKrQfatjnFhSoEKdPJ_02VtssK9GkJPk/edit#gid=0\"\",\"\"RWA!F:BZ\"\"),44,0))\"),\"\")","v":""},{"$f":"IFERROR(__xludf.DUMMYFUNCTION(\"iferror(VLOOKUP(B462,IMPORTRANGE(\"\"https://docs.google.com/spreadsheets/d/1Kptv1Yhe55NnKrQfatjnFhSoEKdPJ_02VtssK9GkJPk/edit#gid=0\"\",\"\"RWA!F:BZ\"\"),48,0))\"),\"\")","v":""}]
[null,null,null,{"$f":"IFERROR(__xludf.DUMMYFUNCTION(\"iferror(VLOOKUP(B463,IMPORTRANGE(\"\"https://docs.google.com/spreadsheets/d/1Kptv1Yhe55NnKrQfatjnFhSoEKdPJ_02VtssK9GkJPk/edit#gid=0\"\",\"\"RWA!F:BZ\"\"),44,0))\"),\"\")","v":""},{"$f":"IFERROR(__xludf.DUMMYFUNCTION(\"iferror(VLOOKUP(B463,IMPORTRANGE(\"\"https://docs.google.com/spreadsheets/d/1Kptv1Yhe55NnKrQfatjnFhSoEKdPJ_02VtssK9GkJPk/edit#gid=0\"\",\"\"RWA!F:BZ\"\"),48,0))\"),\"\")","v":""}]
[null,null,null,{"$f":"IFERROR(__xludf.DUMMYFUNCTION(\"iferror(VLOOKUP(B464,IMPORTRANGE(\"\"https://docs.google.com/spreadsheets/d/1Kptv1Yhe55NnKrQfatjnFhSoEKdPJ_02VtssK9GkJPk/edit#gid=0\"\",\"\"RWA!F:BZ\"\"),44,0))\"),\"\")","v":""},{"$f":"IFERROR(__xludf.DUMMYFUNCTION(\"iferror(VLOOKUP(B464,IMPORTRANGE(\"\"https://docs.google.com/spreadsheets/d/1Kptv1Yhe55NnKrQfatjnFhSoEKdPJ_02VtssK9GkJPk/edit#gid=0\"\",\"\"RWA!F:BZ\"\"),48,0))\"),\"\")","v":""}]
[null,null,null,{"$f":"IFERROR(__xludf.DUMMYFUNCTION(\"iferror(VLOOKUP(B465,IMPORTRANGE(\"\"https://docs.google.com/spreadsheets/d/1Kptv1Yhe55NnKrQfatjnFhSoEKdPJ_02VtssK9GkJPk/edit#gid=0\"\",\"\"RWA!F:BZ\"\"),44,0))\"),\"\")","v":""},{"$f":"IFERROR(__xludf.DUMMYFUNCTION(\"iferror(VLOOKUP(B465,IMPORTRANGE(\"\"https://docs.google.com/spreadsheets/d/1Kptv1Yhe55NnKrQfatjnFhSoEKdPJ_02VtssK9GkJPk/edit#gid=0\"\",\"\"RWA!F:BZ\"\"),48,0))\"),\"\")","v":""}]
[null,null,null,{"$f":"IFERROR(__xludf.DUMMYFUNCTION(\"iferror(VLOOKUP(B466,IMPORTRANGE(\"\"https://docs.google.com/spreadsheets/d/1Kptv1Yhe55NnKrQfatjnFhSoEKdPJ_02VtssK9GkJPk/edit#gid=0\"\",\"\"RWA!F:BZ\"\"),44,0))\"),\"\")","v":""},{"$f":"IFERROR(__xludf.DUMMYFUNCTION(\"iferror(VLOOKUP(B466,IMPORTRANGE(\"\"https://docs.google.com/spreadsheets/d/1Kptv1Yhe55NnKrQfatjnFhSoEKdPJ_02VtssK9GkJPk/edit#gid=0\"\",\"\"RWA!F:BZ\"\"),48,0))\"),\"\")","v":""}]
[null,null,null,{"$f":"IFERROR(__xludf.DUMMYFUNCTION(\"iferror(VLOOKUP(B467,IMPORTRANGE(\"\"https://docs.google.com/spreadsheets/d/1Kptv1Yhe55NnKrQfatjnFhSoEKdPJ_02VtssK9GkJPk/edit#gid=0\"\",\"\"RWA!F:BZ\"\"),44,0))\"),\"\")","v":""},{"$f":"IFERROR(__xludf.DUMMYFUNCTION(\"iferror(VLOOKUP(B467,IMPORTRANGE(\"\"https://docs.google.com/spreadsheets/d/1Kptv1Yhe55NnKrQfatjnFhSoEKdPJ_02VtssK9GkJPk/edit#gid=0\"\",\"\"RWA!F:BZ\"\"),48,0))\"),\"\")","v":""}]
[null,null,null,{"$f":"IFERROR(__xludf.DUMMYFUNCTION(\"iferror(VLOOKUP(B468,IMPORTRANGE(\"\"https://docs.google.com/spreadsheets/d/1Kptv1Yhe55NnKrQfatjnFhSoEKdPJ_02VtssK9GkJPk/edit#gid=0\"\",\"\"RWA!F:BZ\"\"),44,0))\"),\"\")","v":""},{"$f":"IFERROR(__xludf.DUMMYFUNCTION(\"iferror(VLOOKUP(B468,IMPORTRANGE(\"\"https://docs.google.com/spreadsheets/d/1Kptv1Yhe55NnKrQfatjnFhSoEKdPJ_02VtssK9GkJPk/edit#gid=0\"\",\"\"RWA!F:BZ\"\"),48,0))\"),\"\")","v":""}]
[null,null,null,{"$f":"IFERROR(__xludf.DUMMYFUNCTION(\"iferror(VLOOKUP(B469,IMPORTRANGE(\"\"https://docs.google.com/spreadsheets/d/1Kptv1Yhe55NnKrQfatjnFhSoEKdPJ_02VtssK9GkJPk/edit#gid=0\"\",\"\"RWA!F:BZ\"\"),44,0))\"),\"\")","v":""},{"$f":"IFERROR(__xludf.DUMMYFUNCTION(\"iferror(VLOOKUP(B469,IMPORTRANGE(\"\"https://docs.google.com/spreadsheets/d/1Kptv1Yhe55NnKrQfatjnFhSoEKdPJ_02VtssK9GkJPk/edit#gid=0\"\",\"\"RWA!F:BZ\"\"),48,0))\"),\"\")","v":""}]
[null,null,null,{"$f":"IFERROR(__xludf.DUMMYFUNCTION(\"iferror(VLOOKUP(B470,IMPORTRANGE(\"\"https://docs.google.com/spreadsheets/d/1Kptv1Yhe55NnKrQfatjnFhSoEKdPJ_02VtssK9GkJPk/edit#gid=0\"\",\"\"RWA!F:BZ\"\"),44,0))\"),\"\")","v":""},{"$f":"IFERROR(__xludf.DUMMYFUNCTION(\"iferror(VLOOKUP(B470,IMPORTRANGE(\"\"https://docs.google.com/spreadsheets/d/1Kptv1Yhe55NnKrQfatjnFhSoEKdPJ_02VtssK9GkJPk/edit#gid=0\"\",\"\"RWA!F:BZ\"\"),48,0))\"),\"\")","v":""}]
[null,null,null,{"$f":"IFERROR(__xludf.DUMMYFUNCTION(\"iferror(VLOOKUP(B471,IMPORTRANGE(\"\"https://docs.google.com/spreadsheets/d/1Kptv1Yhe55NnKrQfatjnFhSoEKdPJ_02VtssK9GkJPk/edit#gid=0\"\",\"\"RWA!F:BZ\"\"),44,0))\"),\"\")","v":""},{"$f":"IFERROR(__xludf.DUMMYFUNCTION(\"iferror(VLOOKUP(B471,IMPORTRANGE(\"\"https://docs.google.com/spreadsheets/d/1Kptv1Yhe55NnKrQfatjnFhSoEKdPJ_02VtssK9GkJPk/edit#gid=0\"\",\"\"RWA!F:BZ\"\"),48,0))\"),\"\")","v":""}]
[null,null,null,{"$f":"IFERROR(__xludf.DUMMYFUNCTION(\"iferror(VLOOKUP(B472,IMPORTRANGE(\"\"https://docs.google.com/spreadsheets/d/1Kptv1Yhe55NnKrQfatjnFhSoEKdPJ_02VtssK9GkJPk/edit#gid=0\"\",\"\"RWA!F:BZ\"\"),44,0))\"),\"\")","v":""},{"$f":"IFERROR(__xludf.DUMMYFUNCTION(\"iferror(VLOOKUP(B472,IMPORTRANGE(\"\"https://docs.google.com/spreadsheets/d/1Kptv1Yhe55NnKrQfatjnFhSoEKdPJ_02VtssK9GkJPk/edit#gid=0\"\",\"\"RWA!F:BZ\"\"),48,0))\"),\"\")","v":""}]
[null,null,null,{"$f":"IFERROR(__xludf.DUMMYFUNCTION(\"iferror(VLOOKUP(B473,IMPORTRANGE(\"\"https://docs.google.com/spreadsheets/d/1Kptv1Yhe55NnKrQfatjnFhSoEKdPJ_02VtssK9GkJPk/edit#gid=0\"\",\"\"RWA!F:BZ\"\"),44,0))\"),\"\")","v":""},{"$f":"IFERROR(__xludf.DUMMYFUNCTION(\"iferror(VLOOKUP(B473,IMPORTRANGE(\"\"https://docs.google.com/spreadsheets/d/1Kptv1Yhe55NnKrQfatjnFhSoEKdPJ_02VtssK9GkJPk/edit#gid=0\"\",\"\"RWA!F:BZ\"\"),48,0))\"),\"\")","v":""}]
[null,null,null,{"$f":"IFERROR(__xludf.DUMMYFUNCTION(\"iferror(VLOOKUP(B474,IMPORTRANGE(\"\"https://docs.google.com/spreadsheets/d/1Kptv1Yhe55NnKrQfatjnFhSoEKdPJ_02VtssK9GkJPk/edit#gid=0\"\",\"\"RWA!F:BZ\"\"),44,0))\"),\"\")","v":""},{"$f":"IFERROR(__xludf.DUMMYFUNCTION(\"iferror(VLOOKUP(B474,IMPORTRANGE(\"\"https://docs.google.com/spreadsheets/d/1Kptv1Yhe55NnKrQfatjnFhSoEKdPJ_02VtssK9GkJPk/edit#gid=0\"\",\"\"RWA!F:BZ\"\"),48,0))\"),\"\")","v":""}]
[null,null,null,{"$f":"IFERROR(__xludf.DUMMYFUNCTION(\"iferror(VLOOKUP(B475,IMPORTRANGE(\"\"https://docs.google.com/spreadsheets/d/1Kptv1Yhe55NnKrQfatjnFhSoEKdPJ_02VtssK9GkJPk/edit#gid=0\"\",\"\"RWA!F:BZ\"\"),44,0))\"),\"\")","v":""},{"$f":"IFERROR(__xludf.DUMMYFUNCTION(\"iferror(VLOOKUP(B475,IMPORTRANGE(\"\"https://docs.google.com/spreadsheets/d/1Kptv1Yhe55NnKrQfatjnFhSoEKdPJ_02VtssK9GkJPk/edit#gid=0\"\",\"\"RWA!F:BZ\"\"),48,0))\"),\"\")","v":""}]
[null,null,null,{"$f":"IFERROR(__xludf.DUMMYFUNCTION(\"iferror(VLOOKUP(B476,IMPORTRANGE(\"\"https://docs.google.com/spreadsheets/d/1Kptv1Yhe55NnKrQfatjnFhSoEKdPJ_02VtssK9GkJPk/edit#gid=0\"\",\"\"RWA!F:BZ\"\"),44,0))\"),\"\")","v":""},{"$f":"IFERROR(__xludf.DUMMYFUNCTION(\"iferror(VLOOKUP(B476,IMPORTRANGE(\"\"https://docs.google.com/spreadsheets/d/1Kptv1Yhe55NnKrQfatjnFhSoEKdPJ_02VtssK9GkJPk/edit#gid=0\"\",\"\"RWA!F:BZ\"\"),48,0))\"),\"\")","v":""}]
[null,null,null,{"$f":"IFERROR(__xludf.DUMMYFUNCTION(\"iferror(VLOOKUP(B477,IMPORTRANGE(\"\"https://docs.google.com/spreadsheets/d/1Kptv1Yhe55NnKrQfatjnFhSoEKdPJ_02VtssK9GkJPk/edit#gid=0\"\",\"\"RWA!F:BZ\"\"),44,0))\"),\"\")","v":""},{"$f":"IFERROR(__xludf.DUMMYFUNCTION(\"iferror(VLOOKUP(B477,IMPORTRANGE(\"\"https://docs.google.com/spreadsheets/d/1Kptv1Yhe55NnKrQfatjnFhSoEKdPJ_02VtssK9GkJPk/edit#gid=0\"\",\"\"RWA!F:BZ\"\"),48,0))\"),\"\")","v":""}]
[null,null,null,{"$f":"IFERROR(__xludf.DUMMYFUNCTION(\"iferror(VLOOKUP(B478,IMPORTRANGE(\"\"https://docs.google.com/spreadsheets/d/1Kptv1Yhe55NnKrQfatjnFhSoEKdPJ_02VtssK9GkJPk/edit#gid=0\"\",\"\"RWA!F:BZ\"\"),44,0))\"),\"\")","v":""},{"$f":"IFERROR(__xludf.DUMMYFUNCTION(\"iferror(VLOOKUP(B478,IMPORTRANGE(\"\"https://docs.google.com/spreadsheets/d/1Kptv1Yhe55NnKrQfatjnFhSoEKdPJ_02VtssK9GkJPk/edit#gid=0\"\",\"\"RWA!F:BZ\"\"),48,0))\"),\"\")","v":""}]
[null,null,null,{"$f":"IFERROR(__xludf.DUMMYFUNCTION(\"iferror(VLOOKUP(B479,IMPORTRANGE(\"\"https://docs.google.com/spreadsheets/d/1Kptv1Yhe55NnKrQfatjnFhSoEKdPJ_02VtssK9GkJPk/edit#gid=0\"\",\"\"RWA!F:BZ\"\"),44,0))\"),\"\")","v":""},{"$f":"IFERROR(__xludf.DUMMYFUNCTION(\"iferror(VLOOKUP(B479,IMPORTRANGE(\"\"https://docs.google.com/spreadsheets/d/1Kptv1Yhe55NnKrQfatjnFhSoEKdPJ_02VtssK9GkJPk/edit#gid=0\"\",\"\"RWA!F:BZ\"\"),48,0))\"),\"\")","v":""}]
[null,null,null,{"$f":"IFERROR(__xludf.DUMMYFUNCTION(\"iferror(VLOOKUP(B480,IMPORTRANGE(\"\"https://docs.google.com/spreadsheets/d/1Kptv1Yhe55NnKrQfatjnFhSoEKdPJ_02VtssK9GkJPk/edit#gid=0\"\",\"\"RWA!F:BZ\"\"),44,0))\"),\"\")","v":""},{"$f":"IFERROR(__xludf.DUMMYFUNCTION(\"iferror(VLOOKUP(B480,IMPORTRANGE(\"\"https://docs.google.com/spreadsheets/d/1Kptv1Yhe55NnKrQfatjnFhSoEKdPJ_02VtssK9GkJPk/edit#gid=0\"\",\"\"RWA!F:BZ\"\"),48,0))\"),\"\")","v":""}]
[null,null,null,{"$f":"IFERROR(__xludf.DUMMYFUNCTION(\"iferror(VLOOKUP(B481,IMPORTRANGE(\"\"https://docs.google.com/spreadsheets/d/1Kptv1Yhe55NnKrQfatjnFhSoEKdPJ_02VtssK9GkJPk/edit#gid=0\"\",\"\"RWA!F:BZ\"\"),44,0))\"),\"\")","v":""},{"$f":"IFERROR(__xludf.DUMMYFUNCTION(\"iferror(VLOOKUP(B481,IMPORTRANGE(\"\"https://docs.google.com/spreadsheets/d/1Kptv1Yhe55NnKrQfatjnFhSoEKdPJ_02VtssK9GkJPk/edit#gid=0\"\",\"\"RWA!F:BZ\"\"),48,0))\"),\"\")","v":""}]
[null,null,null,{"$f":"IFERROR(__xludf.DUMMYFUNCTION(\"iferror(VLOOKUP(B482,IMPORTRANGE(\"\"https://docs.google.com/spreadsheets/d/1Kptv1Yhe55NnKrQfatjnFhSoEKdPJ_02VtssK9GkJPk/edit#gid=0\"\",\"\"RWA!F:BZ\"\"),44,0))\"),\"\")","v":""},{"$f":"IFERROR(__xludf.DUMMYFUNCTION(\"iferror(VLOOKUP(B482,IMPORTRANGE(\"\"https://docs.google.com/spreadsheets/d/1Kptv1Yhe55NnKrQfatjnFhSoEKdPJ_02VtssK9GkJPk/edit#gid=0\"\",\"\"RWA!F:BZ\"\"),48,0))\"),\"\")","v":""}]
[null,null,null,{"$f":"IFERROR(__xludf.DUMMYFUNCTION(\"iferror(VLOOKUP(B483,IMPORTRANGE(\"\"https://docs.google.com/spreadsheets/d/1Kptv1Yhe55NnKrQfatjnFhSoEKdPJ_02VtssK9GkJPk/edit#gid=0\"\",\"\"RWA!F:BZ\"\"),44,0))\"),\"\")","v":""},{"$f":"IFERROR(__xludf.DUMMYFUNCTION(\"iferror(VLOOKUP(B483,IMPORTRANGE(\"\"https://docs.google.com/spreadsheets/d/1Kptv1Yhe55NnKrQfatjnFhSoEKdPJ_02VtssK9GkJPk/edit#gid=0\"\",\"\"RWA!F:BZ\"\"),48,0))\"),\"\")","v":""}]
[null,null,null,{"$f":"IFERROR(__xludf.DUMMYFUNCTION(\"iferror(VLOOKUP(B484,IMPORTRANGE(\"\"https://docs.google.com/spreadsheets/d/1Kptv1Yhe55NnKrQfatjnFhSoEKdPJ_02VtssK9GkJPk/edit#gid=0\"\",\"\"RWA!F:BZ\"\"),44,0))\"),\"\")","v":""},{"$f":"IFERROR(__xludf.DUMMYFUNCTION(\"iferror(VLOOKUP(B484,IMPORTRANGE(\"\"https://docs.google.com/spreadsheets/d/1Kptv1Yhe55NnKrQfatjnFhSoEKdPJ_02VtssK9GkJPk/edit#gid=0\"\",\"\"RWA!F:BZ\"\"),48,0))\"),\"\")","v":""}]
[null,null,null,{"$f":"IFERROR(__xludf.DUMMYFUNCTION(\"iferror(VLOOKUP(B485,IMPORTRANGE(\"\"https://docs.google.com/spreadsheets/d/1Kptv1Yhe55NnKrQfatjnFhSoEKdPJ_02VtssK9GkJPk/edit#gid=0\"\",\"\"RWA!F:BZ\"\"),44,0))\"),\"\")","v":""},{"$f":"IFERROR(__xludf.DUMMYFUNCTION(\"iferror(VLOOKUP(B485,IMPORTRANGE(\"\"https://docs.google.com/spreadsheets/d/1Kptv1Yhe55NnKrQfatjnFhSoEKdPJ_02VtssK9GkJPk/edit#gid=0\"\",\"\"RWA!F:BZ\"\"),48,0))\"),\"\")","v":""}]
[null,null,null,{"$f":"IFERROR(__xludf.DUMMYFUNCTION(\"iferror(VLOOKUP(B486,IMPORTRANGE(\"\"https://docs.google.com/spreadsheets/d/1Kptv1Yhe55NnKrQfatjnFhSoEKdPJ_02VtssK9GkJPk/edit#gid=0\"\",\"\"RWA!F:BZ\"\"),44,0))\"),\"\")","v":""},{"$f":"IFERROR(__xludf.DUMMYFUNCTION(\"iferror(VLOOKUP(B486,IMPORTRANGE(\"\"https://docs.google.com/spreadsheets/d/1Kptv1Yhe55NnKrQfatjnFhSoEKdPJ_02VtssK9GkJPk/edit#gid=0\"\",\"\"RWA!F:BZ\"\"),48,0))\"),\"\")","v":""}]
[null,null,null,{"$f":"IFERROR(__xludf.DUMMYFUNCTION(\"iferror(VLOOKUP(B487,IMPORTRANGE(\"\"https://docs.google.com/spreadsheets/d/1Kptv1Yhe55NnKrQfatjnFhSoEKdPJ_02VtssK9GkJPk/edit#gid=0\"\",\"\"RWA!F:BZ\"\"),44,0))\"),\"\")","v":""},{"$f":"IFERROR(__xludf.DUMMYFUNCTION(\"iferror(VLOOKUP(B487,IMPORTRANGE(\"\"https://docs.google.com/spreadsheets/d/1Kptv1Yhe55NnKrQfatjnFhSoEKdPJ_02VtssK9GkJPk/edit#gid=0\"\",\"\"RWA!F:BZ\"\"),48,0))\"),\"\")","v":""}]
[null,null,null,{"$f":"IFERROR(__xludf.DUMMYFUNCTION(\"iferror(VLOOKUP(B488,IMPORTRANGE(\"\"https://docs.google.com/spreadsheets/d/1Kptv1Yhe55NnKrQfatjnFhSoEKdPJ_02VtssK9GkJPk/edit#gid=0\"\",\"\"RWA!F:BZ\"\"),44,0))\"),\"\")","v":""},{"$f":"IFERROR(__xludf.DUMMYFUNCTION(\"iferror(VLOOKUP(B488,IMPORTRANGE(\"\"https://docs.google.com/spreadsheets/d/1Kptv1Yhe55NnKrQfatjnFhSoEKdPJ_02VtssK9GkJPk/edit#gid=0\"\",\"\"RWA!F:BZ\"\"),48,0))\"),\"\")","v":""}]
[null,null,null,{"$f":"IFERROR(__xludf.DUMMYFUNCTION(\"iferror(VLOOKUP(B489,IMPORTRANGE(\"\"https://docs.google.com/spreadsheets/d/1Kptv1Yhe55NnKrQfatjnFhSoEKdPJ_02VtssK9GkJPk/edit#gid=0\"\",\"\"RWA!F:BZ\"\"),44,0))\"),\"\")","v":""},{"$f":"IFERROR(__xludf.DUMMYFUNCTION(\"iferror(VLOOKUP(B489,IMPORTRANGE(\"\"https://docs.google.com/spreadsheets/d/1Kptv1Yhe55NnKrQfatjnFhSoEKdPJ_02VtssK9GkJPk/edit#gid=0\"\",\"\"RWA!F:BZ\"\"),48,0))\"),\"\")","v":""}]
[null,null,null,{"$f":"IFERROR(__xludf.DUMMYFUNCTION(\"iferror(VLOOKUP(B490,IMPORTRANGE(\"\"https://docs.google.com/spreadsheets/d/1Kptv1Yhe55NnKrQfatjnFhSoEKdPJ_02VtssK9GkJPk/edit#gid=0\"\",\"\"RWA!F:BZ\"\"),44,0))\"),\"\")","v":""},{"$f":"IFERROR(__xludf.DUMMYFUNCTION(\"iferror(VLOOKUP(B490,IMPORTRANGE(\"\"https://docs.google.com/spreadsheets/d/1Kptv1Yhe55NnKrQfatjnFhSoEKdPJ_02VtssK9GkJPk/edit#gid=0\"\",\"\"RWA!F:BZ\"\"),48,0))\"),\"\")","v":""}]
[null,null,null,{"$f":"IFERROR(__xludf.DUMMYFUNCTION(\"iferror(VLOOKUP(B491,IMPORTRANGE(\"\"https://docs.google.com/spreadsheets/d/1Kptv1Yhe55NnKrQfatjnFhSoEKdPJ_02VtssK9GkJPk/edit#gid=0\"\",\"\"RWA!F:BZ\"\"),44,0))\"),\"\")","v":""},{"$f":"IFERROR(__xludf.DUMMYFUNCTION(\"iferror(VLOOKUP(B491,IMPORTRANGE(\"\"https://docs.google.com/spreadsheets/d/1Kptv1Yhe55NnKrQfatjnFhSoEKdPJ_02VtssK9GkJPk/edit#gid=0\"\",\"\"RWA!F:BZ\"\"),48,0))\"),\"\")","v":""}]
[null,null,null,{"$f":"IFERROR(__xludf.DUMMYFUNCTION(\"iferror(VLOOKUP(B492,IMPORTRANGE(\"\"https://docs.google.com/spreadsheets/d/1Kptv1Yhe55NnKrQfatjnFhSoEKdPJ_02VtssK9GkJPk/edit#gid=0\"\",\"\"RWA!F:BZ\"\"),44,0))\"),\"\")","v":""},{"$f":"IFERROR(__xludf.DUMMYFUNCTION(\"iferror(VLOOKUP(B492,IMPORTRANGE(\"\"https://docs.google.com/spreadsheets/d/1Kptv1Yhe55NnKrQfatjnFhSoEKdPJ_02VtssK9GkJPk/edit#gid=0\"\",\"\"RWA!F:BZ\"\"),48,0))\"),\"\")","v":""}]
[null,null,null,{"$f":"IFERROR(__xludf.DUMMYFUNCTION(\"iferror(VLOOKUP(B493,IMPORTRANGE(\"\"https://docs.google.com/spreadsheets/d/1Kptv1Yhe55NnKrQfatjnFhSoEKdPJ_02VtssK9GkJPk/edit#gid=0\"\",\"\"RWA!F:BZ\"\"),44,0))\"),\"\")","v":""},{"$f":"IFERROR(__xludf.DUMMYFUNCTION(\"iferror(VLOOKUP(B493,IMPORTRANGE(\"\"https://docs.google.com/spreadsheets/d/1Kptv1Yhe55NnKrQfatjnFhSoEKdPJ_02VtssK9GkJPk/edit#gid=0\"\",\"\"RWA!F:BZ\"\"),48,0))\"),\"\")","v":""}]
[null,null,null,{"$f":"IFERROR(__xludf.DUMMYFUNCTION(\"iferror(VLOOKUP(B494,IMPORTRANGE(\"\"https://docs.google.com/spreadsheets/d/1Kptv1Yhe55NnKrQfatjnFhSoEKdPJ_02VtssK9GkJPk/edit#gid=0\"\",\"\"RWA!F:BZ\"\"),44,0))\"),\"\")","v":""},{"$f":"IFERROR(__xludf.DUMMYFUNCTION(\"iferror(VLOOKUP(B494,IMPORTRANGE(\"\"https://docs.google.com/spreadsheets/d/1Kptv1Yhe55NnKrQfatjnFhSoEKdPJ_02VtssK9GkJPk/edit#gid=0\"\",\"\"RWA!F:BZ\"\"),48,0))\"),\"\")","v":""}]
[null,null,null,{"$f":"IFERROR(__xludf.DUMMYFUNCTION(\"iferror(VLOOKUP(B495,IMPORTRANGE(\"\"https://docs.google.com/spreadsheets/d/1Kptv1Yhe55NnKrQfatjnFhSoEKdPJ_02VtssK9GkJPk/edit#gid=0\"\",\"\"RWA!F:BZ\"\"),44,0))\"),\"\")","v":""},{"$f":"IFERROR(__xludf.DUMMYFUNCTION(\"iferror(VLOOKUP(B495,IMPORTRANGE(\"\"https://docs.google.com/spreadsheets/d/1Kptv1Yhe55NnKrQfatjnFhSoEKdPJ_02VtssK9GkJPk/edit#gid=0\"\",\"\"RWA!F:BZ\"\"),48,0))\"),\"\")","v":""}]
[null,null,null,{"$f":"IFERROR(__xludf.DUMMYFUNCTION(\"iferror(VLOOKUP(B496,IMPORTRANGE(\"\"https://docs.google.com/spreadsheets/d/1Kptv1Yhe55NnKrQfatjnFhSoEKdPJ_02VtssK9GkJPk/edit#gid=0\"\",\"\"RWA!F:BZ\"\"),44,0))\"),\"\")","v":""},{"$f":"IFERROR(__xludf.DUMMYFUNCTION(\"iferror(VLOOKUP(B496,IMPORTRANGE(\"\"https://docs.google.com/spreadsheets/d/1Kptv1Yhe55NnKrQfatjnFhSoEKdPJ_02VtssK9GkJPk/edit#gid=0\"\",\"\"RWA!F:BZ\"\"),48,0))\"),\"\")","v":""}]
[null,null,null,{"$f":"IFERROR(__xludf.DUMMYFUNCTION(\"iferror(VLOOKUP(B497,IMPORTRANGE(\"\"https://docs.google.com/spreadsheets/d/1Kptv1Yhe55NnKrQfatjnFhSoEKdPJ_02VtssK9GkJPk/edit#gid=0\"\",\"\"RWA!F:BZ\"\"),44,0))\"),\"\")","v":""},{"$f":"IFERROR(__xludf.DUMMYFUNCTION(\"iferror(VLOOKUP(B497,IMPORTRANGE(\"\"https://docs.google.com/spreadsheets/d/1Kptv1Yhe55NnKrQfatjnFhSoEKdPJ_02VtssK9GkJPk/edit#gid=0\"\",\"\"RWA!F:BZ\"\"),48,0))\"),\"\")","v":""}]
[null,null,null,{"$f":"IFERROR(__xludf.DUMMYFUNCTION(\"iferror(VLOOKUP(B498,IMPORTRANGE(\"\"https://docs.google.com/spreadsheets/d/1Kptv1Yhe55NnKrQfatjnFhSoEKdPJ_02VtssK9GkJPk/edit#gid=0\"\",\"\"RWA!F:BZ\"\"),44,0))\"),\"\")","v":""},{"$f":"IFERROR(__xludf.DUMMYFUNCTION(\"iferror(VLOOKUP(B498,IMPORTRANGE(\"\"https://docs.google.com/spreadsheets/d/1Kptv1Yhe55NnKrQfatjnFhSoEKdPJ_02VtssK9GkJPk/edit#gid=0\"\",\"\"RWA!F:BZ\"\"),48,0))\"),\"\")","v":""}]
[null,null,null,{"$f":"IFERROR(__xludf.DUMMYFUNCTION(\"iferror(VLOOKUP(B499,IMPORTRANGE(\"\"https://docs.google.com/spreadsheets/d/1Kptv1Yhe55NnKrQfatjnFhSoEKdPJ_02VtssK9GkJPk/edit#gid=0\"\",\"\"RWA!F:BZ\"\"),44,0))\"),\"\")","v":""},{"$f":"IFERROR(__xludf.DUMMYFUNCTION(\"iferror(VLOOKUP(B499,IMPORTRANGE(\"\"https://docs.google.com/spreadsheets/d/1Kptv1Yhe55NnKrQfatjnFhSoEKdPJ_02VtssK9GkJPk/edit#gid=0\"\",\"\"RWA!F:BZ\"\"),48,0))\"),\"\")","v":""}]
[null,null,null,{"$f":"IFERROR(__xludf.DUMMYFUNCTION(\"iferror(VLOOKUP(B500,IMPORTRANGE(\"\"https://docs.google.com/spreadsheets/d/1Kptv1Yhe55NnKrQfatjnFhSoEKdPJ_02VtssK9GkJPk/edit#gid=0\"\",\"\"RWA!F:BZ\"\"),44,0))\"),\"\")","v":""},{"$f":"IFERROR(__xludf.DUMMYFUNCTION(\"iferror(VLOOKUP(B500,IMPORTRANGE(\"\"https://docs.google.com/spreadsheets/d/1Kptv1Yhe55NnKrQfatjnFhSoEKdPJ_02VtssK9GkJPk/edit#gid=0\"\",\"\"RWA!F:BZ\"\"),48,0))\"),\"\")","v":""}]
[null,null,null,{"$f":"IFERROR(__xludf.DUMMYFUNCTION(\"iferror(VLOOKUP(B501,IMPORTRANGE(\"\"https://docs.google.com/spreadsheets/d/1Kptv1Yhe55NnKrQfatjnFhSoEKdPJ_02VtssK9GkJPk/edit#gid=0\"\",\"\"RWA!F:BZ\"\"),44,0))\"),\"\")","v":""},{"$f":"IFERROR(__xludf.DUMMYFUNCTION(\"iferror(VLOOKUP(B501,IMPORTRANGE(\"\"https://docs.google.com/spreadsheets/d/1Kptv1Yhe55NnKrQfatjnFhSoEKdPJ_02VtssK9GkJPk/edit#gid=0\"\",\"\"RWA!F:BZ\"\"),48,0))\"),\"\")","v":""}]
[null,null,null,{"$f":"IFERROR(__xludf.DUMMYFUNCTION(\"iferror(VLOOKUP(B502,IMPORTRANGE(\"\"https://docs.google.com/spreadsheets/d/1Kptv1Yhe55NnKrQfatjnFhSoEKdPJ_02VtssK9GkJPk/edit#gid=0\"\",\"\"RWA!F:BZ\"\"),44,0))\"),\"\")","v":""},{"$f":"IFERROR(__xludf.DUMMYFUNCTION(\"iferror(VLOOKUP(B502,IMPORTRANGE(\"\"https://docs.google.com/spreadsheets/d/1Kptv1Yhe55NnKrQfatjnFhSoEKdPJ_02VtssK9GkJPk/edit#gid=0\"\",\"\"RWA!F:BZ\"\"),48,0))\"),\"\")","v":""}]
[null,null,null,{"$f":"IFERROR(__xludf.DUMMYFUNCTION(\"iferror(VLOOKUP(B503,IMPORTRANGE(\"\"https://docs.google.com/spreadsheets/d/1Kptv1Yhe55NnKrQfatjnFhSoEKdPJ_02VtssK9GkJPk/edit#gid=0\"\",\"\"RWA!F:BZ\"\"),44,0))\"),\"\")","v":""},{"$f":"IFERROR(__xludf.DUMMYFUNCTION(\"iferror(VLOOKUP(B503,IMPORTRANGE(\"\"https://docs.google.com/spreadsheets/d/1Kptv1Yhe55NnKrQfatjnFhSoEKdPJ_02VtssK9GkJPk/edit#gid=0\"\",\"\"RWA!F:BZ\"\"),48,0))\"),\"\")","v":""}]
[null,null,null,{"$f":"IFERROR(__xludf.DUMMYFUNCTION(\"iferror(VLOOKUP(B504,IMPORTRANGE(\"\"https://docs.google.com/spreadsheets/d/1Kptv1Yhe55NnKrQfatjnFhSoEKdPJ_02VtssK9GkJPk/edit#gid=0\"\",\"\"RWA!F:BZ\"\"),44,0))\"),\"\")","v":""},{"$f":"IFERROR(__xludf.DUMMYFUNCTION(\"iferror(VLOOKUP(B504,IMPORTRANGE(\"\"https://docs.google.com/spreadsheets/d/1Kptv1Yhe55NnKrQfatjnFhSoEKdPJ_02VtssK9GkJPk/edit#gid=0\"\",\"\"RWA!F:BZ\"\"),48,0))\"),\"\")","v":""}]
[null,null,null,{"$f":"IFERROR(__xludf.DUMMYFUNCTION(\"iferror(VLOOKUP(B505,IMPORTRANGE(\"\"https://docs.google.com/spreadsheets/d/1Kptv1Yhe55NnKrQfatjnFhSoEKdPJ_02VtssK9GkJPk/edit#gid=0\"\",\"\"RWA!F:BZ\"\"),44,0))\"),\"\")","v":""},{"$f":"IFERROR(__xludf.DUMMYFUNCTION(\"iferror(VLOOKUP(B505,IMPORTRANGE(\"\"https://docs.google.com/spreadsheets/d/1Kptv1Yhe55NnKrQfatjnFhSoEKdPJ_02VtssK9GkJPk/edit#gid=0\"\",\"\"RWA!F:BZ\"\"),48,0))\"),\"\")","v":""}]
[null,null,null,{"$f":"IFERROR(__xludf.DUMMYFUNCTION(\"iferror(VLOOKUP(B506,IMPORTRANGE(\"\"https://docs.google.com/spreadsheets/d/1Kptv1Yhe55NnKrQfatjnFhSoEKdPJ_02VtssK9GkJPk/edit#gid=0\"\",\"\"RWA!F:BZ\"\"),44,0))\"),\"\")","v":""},{"$f":"IFERROR(__xludf.DUMMYFUNCTION(\"iferror(VLOOKUP(B506,IMPORTRANGE(\"\"https://docs.google.com/spreadsheets/d/1Kptv1Yhe55NnKrQfatjnFhSoEKdPJ_02VtssK9GkJPk/edit#gid=0\"\",\"\"RWA!F:BZ\"\"),48,0))\"),\"\")","v":""}]
[null,null,null,{"$f":"IFERROR(__xludf.DUMMYFUNCTION(\"iferror(VLOOKUP(B507,IMPORTRANGE(\"\"https://docs.google.com/spreadsheets/d/1Kptv1Yhe55NnKrQfatjnFhSoEKdPJ_02VtssK9GkJPk/edit#gid=0\"\",\"\"RWA!F:BZ\"\"),44,0))\"),\"\")","v":""},{"$f":"IFERROR(__xludf.DUMMYFUNCTION(\"iferror(VLOOKUP(B507,IMPORTRANGE(\"\"https://docs.google.com/spreadsheets/d/1Kptv1Yhe55NnKrQfatjnFhSoEKdPJ_02VtssK9GkJPk/edit#gid=0\"\",\"\"RWA!F:BZ\"\"),48,0))\"),\"\")","v":""}]
[null,null,null,{"$f":"IFERROR(__xludf.DUMMYFUNCTION(\"iferror(VLOOKUP(B508,IMPORTRANGE(\"\"https://docs.google.com/spreadsheets/d/1Kptv1Yhe55NnKrQfatjnFhSoEKdPJ_02VtssK9GkJPk/edit#gid=0\"\",\"\"RWA!F:BZ\"\"),44,0))\"),\"\")","v":""},{"$f":"IFERROR(__xludf.DUMMYFUNCTION(\"iferror(VLOOKUP(B508,IMPORTRANGE(\"\"https://docs.google.com/spreadsheets/d/1Kptv1Yhe55NnKrQfatjnFhSoEKdPJ_02VtssK9GkJPk/edit#gid=0\"\",\"\"RWA!F:BZ\"\"),48,0))\"),\"\")","v":""}]
[null,null,null,{"$f":"IFERROR(__xludf.DUMMYFUNCTION(\"iferror(VLOOKUP(B509,IMPORTRANGE(\"\"https://docs.google.com/spreadsheets/d/1Kptv1Yhe55NnKrQfatjnFhSoEKdPJ_02VtssK9GkJPk/edit#gid=0\"\",\"\"RWA!F:BZ\"\"),44,0))\"),\"\")","v":""},{"$f":"IFERROR(__xludf.DUMMYFUNCTION(\"iferror(VLOOKUP(B509,IMPORTRANGE(\"\"https://docs.google.com/spreadsheets/d/1Kptv1Yhe55NnKrQfatjnFhSoEKdPJ_02VtssK9GkJPk/edit#gid=0\"\",\"\"RWA!F:BZ\"\"),48,0))\"),\"\")","v":""}]
[null,null,null,{"$f":"IFERROR(__xludf.DUMMYFUNCTION(\"iferror(VLOOKUP(B510,IMPORTRANGE(\"\"https://docs.google.com/spreadsheets/d/1Kptv1Yhe55NnKrQfatjnFhSoEKdPJ_02VtssK9GkJPk/edit#gid=0\"\",\"\"RWA!F:BZ\"\"),44,0))\"),\"\")","v":""},{"$f":"IFERROR(__xludf.DUMMYFUNCTION(\"iferror(VLOOKUP(B510,IMPORTRANGE(\"\"https://docs.google.com/spreadsheets/d/1Kptv1Yhe55NnKrQfatjnFhSoEKdPJ_02VtssK9GkJPk/edit#gid=0\"\",\"\"RWA!F:BZ\"\"),48,0))\"),\"\")","v":""}]
[null,null,null,{"$f":"IFERROR(__xludf.DUMMYFUNCTION(\"iferror(VLOOKUP(B511,IMPORTRANGE(\"\"https://docs.google.com/spreadsheets/d/1Kptv1Yhe55NnKrQfatjnFhSoEKdPJ_02VtssK9GkJPk/edit#gid=0\"\",\"\"RWA!F:BZ\"\"),44,0))\"),\"\")","v":""},{"$f":"IFERROR(__xludf.DUMMYFUNCTION(\"iferror(VLOOKUP(B511,IMPORTRANGE(\"\"https://docs.google.com/spreadsheets/d/1Kptv1Yhe55NnKrQfatjnFhSoEKdPJ_02VtssK9GkJPk/edit#gid=0\"\",\"\"RWA!F:BZ\"\"),48,0))\"),\"\")","v":""}]
[null,null,null,{"$f":"IFERROR(__xludf.DUMMYFUNCTION(\"iferror(VLOOKUP(B512,IMPORTRANGE(\"\"https://docs.google.com/spreadsheets/d/1Kptv1Yhe55NnKrQfatjnFhSoEKdPJ_02VtssK9GkJPk/edit#gid=0\"\",\"\"RWA!F:BZ\"\"),44,0))\"),\"\")","v":""},{"$f":"IFERROR(__xludf.DUMMYFUNCTION(\"iferror(VLOOKUP(B512,IMPORTRANGE(\"\"https://docs.google.com/spreadsheets/d/1Kptv1Yhe55NnKrQfatjnFhSoEKdPJ_02VtssK9GkJPk/edit#gid=0\"\",\"\"RWA!F:BZ\"\"),48,0))\"),\"\")","v":""}]
[null,null,null,{"$f":"IFERROR(__xludf.DUMMYFUNCTION(\"iferror(VLOOKUP(B513,IMPORTRANGE(\"\"https://docs.google.com/spreadsheets/d/1Kptv1Yhe55NnKrQfatjnFhSoEKdPJ_02VtssK9GkJPk/edit#gid=0\"\",\"\"RWA!F:BZ\"\"),44,0))\"),\"\")","v":""},{"$f":"IFERROR(__xludf.DUMMYFUNCTION(\"iferror(VLOOKUP(B513,IMPORTRANGE(\"\"https://docs.google.com/spreadsheets/d/1Kptv1Yhe55NnKrQfatjnFhSoEKdPJ_02VtssK9GkJPk/edit#gid=0\"\",\"\"RWA!F:BZ\"\"),48,0))\"),\"\")","v":""}]
[null,null,null,{"$f":"IFERROR(__xludf.DUMMYFUNCTION(\"iferror(VLOOKUP(B514,IMPORTRANGE(\"\"https://docs.google.com/spreadsheets/d/1Kptv1Yhe55NnKrQfatjnFhSoEKdPJ_02VtssK9GkJPk/edit#gid=0\"\",\"\"RWA!F:BZ\"\"),44,0))\"),\"\")","v":""},{"$f":"IFERROR(__xludf.DUMMYFUNCTION(\"iferror(VLOOKUP(B514,IMPORTRANGE(\"\"https://docs.google.com/spreadsheets/d/1Kptv1Yhe55NnKrQfatjnFhSoEKdPJ_02VtssK9GkJPk/edit#gid=0\"\",\"\"RWA!F:BZ\"\"),48,0))\"),\"\")","v":""}]
[null,null,null,{"$f":"IFERROR(__xludf.DUMMYFUNCTION(\"iferror(VLOOKUP(B515,IMPORTRANGE(\"\"https://docs.google.com/spreadsheets/d/1Kptv1Yhe55NnKrQfatjnFhSoEKdPJ_02VtssK9GkJPk/edit#gid=0\"\",\"\"RWA!F:BZ\"\"),44,0))\"),\"\")","v":""},{"$f":"IFERROR(__xludf.DUMMYFUNCTION(\"iferror(VLOOKUP(B515,IMPORTRANGE(\"\"https://docs.google.com/spreadsheets/d/1Kptv1Yhe55NnKrQfatjnFhSoEKdPJ_02VtssK9GkJPk/edit#gid=0\"\",\"\"RWA!F:BZ\"\"),48,0))\"),\"\")","v":""}]
[null,null,null,{"$f":"IFERROR(__xludf.DUMMYFUNCTION(\"iferror(VLOOKUP(B516,IMPORTRANGE(\"\"https://docs.google.com/spreadsheets/d/1Kptv1Yhe55NnKrQfatjnFhSoEKdPJ_02VtssK9GkJPk/edit#gid=0\"\",\"\"RWA!F:BZ\"\"),44,0))\"),\"\")","v":""},{"$f":"IFERROR(__xludf.DUMMYFUNCTION(\"iferror(VLOOKUP(B516,IMPORTRANGE(\"\"https://docs.google.com/spreadsheets/d/1Kptv1Yhe55NnKrQfatjnFhSoEKdPJ_02VtssK9GkJPk/edit#gid=0\"\",\"\"RWA!F:BZ\"\"),48,0))\"),\"\")","v":""}]
[null,null,null,{"$f":"IFERROR(__xludf.DUMMYFUNCTION(\"iferror(VLOOKUP(B517,IMPORTRANGE(\"\"https://docs.google.com/spreadsheets/d/1Kptv1Yhe55NnKrQfatjnFhSoEKdPJ_02VtssK9GkJPk/edit#gid=0\"\",\"\"RWA!F:BZ\"\"),44,0))\"),\"\")","v":""},{"$f":"IFERROR(__xludf.DUMMYFUNCTION(\"iferror(VLOOKUP(B517,IMPORTRANGE(\"\"https://docs.google.com/spreadsheets/d/1Kptv1Yhe55NnKrQfatjnFhSoEKdPJ_02VtssK9GkJPk/edit#gid=0\"\",\"\"RWA!F:BZ\"\"),48,0))\"),\"\")","v":""}]
[null,null,null,{"$f":"IFERROR(__xludf.DUMMYFUNCTION(\"iferror(VLOOKUP(B518,IMPORTRANGE(\"\"https://docs.google.com/spreadsheets/d/1Kptv1Yhe55NnKrQfatjnFhSoEKdPJ_02VtssK9GkJPk/edit#gid=0\"\",\"\"RWA!F:BZ\"\"),44,0))\"),\"\")","v":""},{"$f":"IFERROR(__xludf.DUMMYFUNCTION(\"iferror(VLOOKUP(B518,IMPORTRANGE(\"\"https://docs.google.com/spreadsheets/d/1Kptv1Yhe55NnKrQfatjnFhSoEKdPJ_02VtssK9GkJPk/edit#gid=0\"\",\"\"RWA!F:BZ\"\"),48,0))\"),\"\")","v":""}]
[null,null,null,{"$f":"IFERROR(__xludf.DUMMYFUNCTION(\"iferror(VLOOKUP(B519,IMPORTRANGE(\"\"https://docs.google.com/spreadsheets/d/1Kptv1Yhe55NnKrQfatjnFhSoEKdPJ_02VtssK9GkJPk/edit#gid=0\"\",\"\"RWA!F:BZ\"\"),44,0))\"),\"\")","v":""},{"$f":"IFERROR(__xludf.DUMMYFUNCTION(\"iferror(VLOOKUP(B519,IMPORTRANGE(\"\"https://docs.google.com/spreadsheets/d/1Kptv1Yhe55NnKrQfatjnFhSoEKdPJ_02VtssK9GkJPk/edit#gid=0\"\",\"\"RWA!F:BZ\"\"),48,0))\"),\"\")","v":""}]
[null,null,null,{"$f":"IFERROR(__xludf.DUMMYFUNCTION(\"iferror(VLOOKUP(B520,IMPORTRANGE(\"\"https://docs.google.com/spreadsheets/d/1Kptv1Yhe55NnKrQfatjnFhSoEKdPJ_02VtssK9GkJPk/edit#gid=0\"\",\"\"RWA!F:BZ\"\"),44,0))\"),\"\")","v":""},{"$f":"IFERROR(__xludf.DUMMYFUNCTION(\"iferror(VLOOKUP(B520,IMPORTRANGE(\"\"https://docs.google.com/spreadsheets/d/1Kptv1Yhe55NnKrQfatjnFhSoEKdPJ_02VtssK9GkJPk/edit#gid=0\"\",\"\"RWA!F:BZ\"\"),48,0))\"),\"\")","v":""}]
[null,null,null,{"$f":"IFERROR(__xludf.DUMMYFUNCTION(\"iferror(VLOOKUP(B521,IMPORTRANGE(\"\"https://docs.google.com/spreadsheets/d/1Kptv1Yhe55NnKrQfatjnFhSoEKdPJ_02VtssK9GkJPk/edit#gid=0\"\",\"\"RWA!F:BZ\"\"),44,0))\"),\"\")","v":""},{"$f":"IFERROR(__xludf.DUMMYFUNCTION(\"iferror(VLOOKUP(B521,IMPORTRANGE(\"\"https://docs.google.com/spreadsheets/d/1Kptv1Yhe55NnKrQfatjnFhSoEKdPJ_02VtssK9GkJPk/edit#gid=0\"\",\"\"RWA!F:BZ\"\"),48,0))\"),\"\")","v":""}]
[null,null,null,{"$f":"IFERROR(__xludf.DUMMYFUNCTION(\"iferror(VLOOKUP(B522,IMPORTRANGE(\"\"https://docs.google.com/spreadsheets/d/1Kptv1Yhe55NnKrQfatjnFhSoEKdPJ_02VtssK9GkJPk/edit#gid=0\"\",\"\"RWA!F:BZ\"\"),44,0))\"),\"\")","v":""},{"$f":"IFERROR(__xludf.DUMMYFUNCTION(\"iferror(VLOOKUP(B522,IMPORTRANGE(\"\"https://docs.google.com/spreadsheets/d/1Kptv1Yhe55NnKrQfatjnFhSoEKdPJ_02VtssK9GkJPk/edit#gid=0\"\",\"\"RWA!F:BZ\"\"),48,0))\"),\"\")","v":""}]
[null,null,null,{"$f":"IFERROR(__xludf.DUMMYFUNCTION(\"iferror(VLOOKUP(B523,IMPORTRANGE(\"\"https://docs.google.com/spreadsheets/d/1Kptv1Yhe55NnKrQfatjnFhSoEKdPJ_02VtssK9GkJPk/edit#gid=0\"\",\"\"RWA!F:BZ\"\"),44,0))\"),\"\")","v":""},{"$f":"IFERROR(__xludf.DUMMYFUNCTION(\"iferror(VLOOKUP(B523,IMPORTRANGE(\"\"https://docs.google.com/spreadsheets/d/1Kptv1Yhe55NnKrQfatjnFhSoEKdPJ_02VtssK9GkJPk/edit#gid=0\"\",\"\"RWA!F:BZ\"\"),48,0))\"),\"\")","v":""}]
[null,null,null,{"$f":"IFERROR(__xludf.DUMMYFUNCTION(\"iferror(VLOOKUP(B524,IMPORTRANGE(\"\"https://docs.google.com/spreadsheets/d/1Kptv1Yhe55NnKrQfatjnFhSoEKdPJ_02VtssK9GkJPk/edit#gid=0\"\",\"\"RWA!F:BZ\"\"),44,0))\"),\"\")","v":""},{"$f":"IFERROR(__xludf.DUMMYFUNCTION(\"iferror(VLOOKUP(B524,IMPORTRANGE(\"\"https://docs.google.com/spreadsheets/d/1Kptv1Yhe55NnKrQfatjnFhSoEKdPJ_02VtssK9GkJPk/edit#gid=0\"\",\"\"RWA!F:BZ\"\"),48,0))\"),\"\")","v":""}]
[null,null,null,{"$f":"IFERROR(__xludf.DUMMYFUNCTION(\"iferror(VLOOKUP(B525,IMPORTRANGE(\"\"https://docs.google.com/spreadsheets/d/1Kptv1Yhe55NnKrQfatjnFhSoEKdPJ_02VtssK9GkJPk/edit#gid=0\"\",\"\"RWA!F:BZ\"\"),44,0))\"),\"\")","v":""},{"$f":"IFERROR(__xludf.DUMMYFUNCTION(\"iferror(VLOOKUP(B525,IMPORTRANGE(\"\"https://docs.google.com/spreadsheets/d/1Kptv1Yhe55NnKrQfatjnFhSoEKdPJ_02VtssK9GkJPk/edit#gid=0\"\",\"\"RWA!F:BZ\"\"),48,0))\"),\"\")","v":""}]
[null,null,null,{"$f":"IFERROR(__xludf.DUMMYFUNCTION(\"iferror(VLOOKUP(B526,IMPORTRANGE(\"\"https://docs.google.com/spreadsheets/d/1Kptv1Yhe55NnKrQfatjnFhSoEKdPJ_02VtssK9GkJPk/edit#gid=0\"\",\"\"RWA!F:BZ\"\"),44,0))\"),\"\")","v":""},{"$f":"IFERROR(__xludf.DUMMYFUNCTION(\"iferror(VLOOKUP(B526,IMPORTRANGE(\"\"https://docs.google.com/spreadsheets/d/1Kptv1Yhe55NnKrQfatjnFhSoEKdPJ_02VtssK9GkJPk/edit#gid=0\"\",\"\"RWA!F:BZ\"\"),48,0))\"),\"\")","v":""}]
[null,null,null,{"$f":"IFERROR(__xludf.DUMMYFUNCTION(\"iferror(VLOOKUP(B527,IMPORTRANGE(\"\"https://docs.google.com/spreadsheets/d/1Kptv1Yhe55NnKrQfatjnFhSoEKdPJ_02VtssK9GkJPk/edit#gid=0\"\",\"\"RWA!F:BZ\"\"),44,0))\"),\"\")","v":""},{"$f":"IFERROR(__xludf.DUMMYFUNCTION(\"iferror(VLOOKUP(B527,IMPORTRANGE(\"\"https://docs.google.com/spreadsheets/d/1Kptv1Yhe55NnKrQfatjnFhSoEKdPJ_02VtssK9GkJPk/edit#gid=0\"\",\"\"RWA!F:BZ\"\"),48,0))\"),\"\")","v":""}]
[null,null,null,{"$f":"IFERROR(__xludf.DUMMYFUNCTION(\"iferror(VLOOKUP(B528,IMPORTRANGE(\"\"https://docs.google.com/spreadsheets/d/1Kptv1Yhe55NnKrQfatjnFhSoEKdPJ_02VtssK9GkJPk/edit#gid=0\"\",\"\"RWA!F:BZ\"\"),44,0))\"),\"\")","v":""},{"$f":"IFERROR(__xludf.DUMMYFUNCTION(\"iferror(VLOOKUP(B528,IMPORTRANGE(\"\"https://docs.google.com/spreadsheets/d/1Kptv1Yhe55NnKrQfatjnFhSoEKdPJ_02VtssK9GkJPk/edit#gid=0\"\",\"\"RWA!F:BZ\"\"),48,0))\"),\"\")","v":""}]
[null,null,null,{"$f":"IFERROR(__xludf.DUMMYFUNCTION(\"iferror(VLOOKUP(B529,IMPORTRANGE(\"\"https://docs.google.com/spreadsheets/d/1Kptv1Yhe55NnKrQfatjnFhSoEKdPJ_02VtssK9GkJPk/edit#gid=0\"\",\"\"RWA!F:BZ\"\"),44,0))\"),\"\")","v":""},{"$f":"IFERROR(__xludf.DUMMYFUNCTION(\"iferror(VLOOKUP(B529,IMPORTRANGE(\"\"https://docs.google.com/spreadsheets/d/1Kptv1Yhe55NnKrQfatjnFhSoEKdPJ_02VtssK9GkJPk/edit#gid=0\"\",\"\"RWA!F:BZ\"\"),48,0))\"),\"\")","v":""}]
[null,null,null,{"$f":"IFERROR(__xludf.DUMMYFUNCTION(\"iferror(VLOOKUP(B530,IMPORTRANGE(\"\"https://docs.google.com/spreadsheets/d/1Kptv1Yhe55NnKrQfatjnFhSoEKdPJ_02VtssK9GkJPk/edit#gid=0\"\",\"\"RWA!F:BZ\"\"),44,0))\"),\"\")","v":""},{"$f":"IFERROR(__xludf.DUMMYFUNCTION(\"iferror(VLOOKUP(B530,IMPORTRANGE(\"\"https://docs.google.com/spreadsheets/d/1Kptv1Yhe55NnKrQfatjnFhSoEKdPJ_02VtssK9GkJPk/edit#gid=0\"\",\"\"RWA!F:BZ\"\"),48,0))\"),\"\")","v":""}]
[null,null,null,{"$f":"IFERROR(__xludf.DUMMYFUNCTION(\"iferror(VLOOKUP(B531,IMPORTRANGE(\"\"https://docs.google.com/spreadsheets/d/1Kptv1Yhe55NnKrQfatjnFhSoEKdPJ_02VtssK9GkJPk/edit#gid=0\"\",\"\"RWA!F:BZ\"\"),44,0))\"),\"\")","v":""},{"$f":"IFERROR(__xludf.DUMMYFUNCTION(\"iferror(VLOOKUP(B531,IMPORTRANGE(\"\"https://docs.google.com/spreadsheets/d/1Kptv1Yhe55NnKrQfatjnFhSoEKdPJ_02VtssK9GkJPk/edit#gid=0\"\",\"\"RWA!F:BZ\"\"),48,0))\"),\"\")","v":""}]
[null,null,null,{"$f":"IFERROR(__xludf.DUMMYFUNCTION(\"iferror(VLOOKUP(B532,IMPORTRANGE(\"\"https://docs.google.com/spreadsheets/d/1Kptv1Yhe55NnKrQfatjnFhSoEKdPJ_02VtssK9GkJPk/edit#gid=0\"\",\"\"RWA!F:BZ\"\"),44,0))\"),\"\")","v":""},{"$f":"IFERROR(__xludf.DUMMYFUNCTION(\"iferror(VLOOKUP(B532,IMPORTRANGE(\"\"https://docs.google.com/spreadsheets/d/1Kptv1Yhe55NnKrQfatjnFhSoEKdPJ_02VtssK9GkJPk/edit#gid=0\"\",\"\"RWA!F:BZ\"\"),48,0))\"),\"\")","v":""}]
[null,null,null,{"$f":"IFERROR(__xludf.DUMMYFUNCTION(\"iferror(VLOOKUP(B533,IMPORTRANGE(\"\"https://docs.google.com/spreadsheets/d/1Kptv1Yhe55NnKrQfatjnFhSoEKdPJ_02VtssK9GkJPk/edit#gid=0\"\",\"\"RWA!F:BZ\"\"),44,0))\"),\"\")","v":""},{"$f":"IFERROR(__xludf.DUMMYFUNCTION(\"iferror(VLOOKUP(B533,IMPORTRANGE(\"\"https://docs.google.com/spreadsheets/d/1Kptv1Yhe55NnKrQfatjnFhSoEKdPJ_02VtssK9GkJPk/edit#gid=0\"\",\"\"RWA!F:BZ\"\"),48,0))\"),\"\")","v":""}]
[null,null,null,{"$f":"IFERROR(__xludf.DUMMYFUNCTION(\"iferror(VLOOKUP(B534,IMPORTRANGE(\"\"https://docs.google.com/spreadsheets/d/1Kptv1Yhe55NnKrQfatjnFhSoEKdPJ_02VtssK9GkJPk/edit#gid=0\"\",\"\"RWA!F:BZ\"\"),44,0))\"),\"\")","v":""},{"$f":"IFERROR(__xludf.DUMMYFUNCTION(\"iferror(VLOOKUP(B534,IMPORTRANGE(\"\"https://docs.google.com/spreadsheets/d/1Kptv1Yhe55NnKrQfatjnFhSoEKdPJ_02VtssK9GkJPk/edit#gid=0\"\",\"\"RWA!F:BZ\"\"),48,0))\"),\"\")","v":""}]
[null,null,null,{"$f":"IFERROR(__xludf.DUMMYFUNCTION(\"iferror(VLOOKUP(B535,IMPORTRANGE(\"\"https://docs.google.com/spreadsheets/d/1Kptv1Yhe55NnKrQfatjnFhSoEKdPJ_02VtssK9GkJPk/edit#gid=0\"\",\"\"RWA!F:BZ\"\"),44,0))\"),\"\")","v":""},{"$f":"IFERROR(__xludf.DUMMYFUNCTION(\"iferror(VLOOKUP(B535,IMPORTRANGE(\"\"https://docs.google.com/spreadsheets/d/1Kptv1Yhe55NnKrQfatjnFhSoEKdPJ_02VtssK9GkJPk/edit#gid=0\"\",\"\"RWA!F:BZ\"\"),48,0))\"),\"\")","v":""}]
[null,null,null,{"$f":"IFERROR(__xludf.DUMMYFUNCTION(\"iferror(VLOOKUP(B536,IMPORTRANGE(\"\"https://docs.google.com/spreadsheets/d/1Kptv1Yhe55NnKrQfatjnFhSoEKdPJ_02VtssK9GkJPk/edit#gid=0\"\",\"\"RWA!F:BZ\"\"),44,0))\"),\"\")","v":""},{"$f":"IFERROR(__xludf.DUMMYFUNCTION(\"iferror(VLOOKUP(B536,IMPORTRANGE(\"\"https://docs.google.com/spreadsheets/d/1Kptv1Yhe55NnKrQfatjnFhSoEKdPJ_02VtssK9GkJPk/edit#gid=0\"\",\"\"RWA!F:BZ\"\"),48,0))\"),\"\")","v":""}]
[null,null,null,{"$f":"IFERROR(__xludf.DUMMYFUNCTION(\"iferror(VLOOKUP(B537,IMPORTRANGE(\"\"https://docs.google.com/spreadsheets/d/1Kptv1Yhe55NnKrQfatjnFhSoEKdPJ_02VtssK9GkJPk/edit#gid=0\"\",\"\"RWA!F:BZ\"\"),44,0))\"),\"\")","v":""},{"$f":"IFERROR(__xludf.DUMMYFUNCTION(\"iferror(VLOOKUP(B537,IMPORTRANGE(\"\"https://docs.google.com/spreadsheets/d/1Kptv1Yhe55NnKrQfatjnFhSoEKdPJ_02VtssK9GkJPk/edit#gid=0\"\",\"\"RWA!F:BZ\"\"),48,0))\"),\"\")","v":""}]
[null,null,null,{"$f":"IFERROR(__xludf.DUMMYFUNCTION(\"iferror(VLOOKUP(B538,IMPORTRANGE(\"\"https://docs.google.com/spreadsheets/d/1Kptv1Yhe55NnKrQfatjnFhSoEKdPJ_02VtssK9GkJPk/edit#gid=0\"\",\"\"RWA!F:BZ\"\"),44,0))\"),\"\")","v":""},{"$f":"IFERROR(__xludf.DUMMYFUNCTION(\"iferror(VLOOKUP(B538,IMPORTRANGE(\"\"https://docs.google.com/spreadsheets/d/1Kptv1Yhe55NnKrQfatjnFhSoEKdPJ_02VtssK9GkJPk/edit#gid=0\"\",\"\"RWA!F:BZ\"\"),48,0))\"),\"\")","v":""}]
[null,null,null,{"$f":"IFERROR(__xludf.DUMMYFUNCTION(\"iferror(VLOOKUP(B539,IMPORTRANGE(\"\"https://docs.google.com/spreadsheets/d/1Kptv1Yhe55NnKrQfatjnFhSoEKdPJ_02VtssK9GkJPk/edit#gid=0\"\",\"\"RWA!F:BZ\"\"),44,0))\"),\"\")","v":""},{"$f":"IFERROR(__xludf.DUMMYFUNCTION(\"iferror(VLOOKUP(B539,IMPORTRANGE(\"\"https://docs.google.com/spreadsheets/d/1Kptv1Yhe55NnKrQfatjnFhSoEKdPJ_02VtssK9GkJPk/edit#gid=0\"\",\"\"RWA!F:BZ\"\"),48,0))\"),\"\")","v":""}]
[null,null,null,{"$f":"IFERROR(__xludf.DUMMYFUNCTION(\"iferror(VLOOKUP(B540,IMPORTRANGE(\"\"https://docs.google.com/spreadsheets/d/1Kptv1Yhe55NnKrQfatjnFhSoEKdPJ_02VtssK9GkJPk/edit#gid=0\"\",\"\"RWA!F:BZ\"\"),44,0))\"),\"\")","v":""},{"$f":"IFERROR(__xludf.DUMMYFUNCTION(\"iferror(VLOOKUP(B540,IMPORTRANGE(\"\"https://docs.google.com/spreadsheets/d/1Kptv1Yhe55NnKrQfatjnFhSoEKdPJ_02VtssK9GkJPk/edit#gid=0\"\",\"\"RWA!F:BZ\"\"),48,0))\"),\"\")","v":""}]
[null,null,null,{"$f":"IFERROR(__xludf.DUMMYFUNCTION(\"iferror(VLOOKUP(B541,IMPORTRANGE(\"\"https://docs.google.com/spreadsheets/d/1Kptv1Yhe55NnKrQfatjnFhSoEKdPJ_02VtssK9GkJPk/edit#gid=0\"\",\"\"RWA!F:BZ\"\"),44,0))\"),\"\")","v":""},{"$f":"IFERROR(__xludf.DUMMYFUNCTION(\"iferror(VLOOKUP(B541,IMPORTRANGE(\"\"https://docs.google.com/spreadsheets/d/1Kptv1Yhe55NnKrQfatjnFhSoEKdPJ_02VtssK9GkJPk/edit#gid=0\"\",\"\"RWA!F:BZ\"\"),48,0))\"),\"\")","v":""}]
[null,null,null,{"$f":"IFERROR(__xludf.DUMMYFUNCTION(\"iferror(VLOOKUP(B542,IMPORTRANGE(\"\"https://docs.google.com/spreadsheets/d/1Kptv1Yhe55NnKrQfatjnFhSoEKdPJ_02VtssK9GkJPk/edit#gid=0\"\",\"\"RWA!F:BZ\"\"),44,0))\"),\"\")","v":""},{"$f":"IFERROR(__xludf.DUMMYFUNCTION(\"iferror(VLOOKUP(B542,IMPORTRANGE(\"\"https://docs.google.com/spreadsheets/d/1Kptv1Yhe55NnKrQfatjnFhSoEKdPJ_02VtssK9GkJPk/edit#gid=0\"\",\"\"RWA!F:BZ\"\"),48,0))\"),\"\")","v":""}]
[null,null,null,{"$f":"IFERROR(__xludf.DUMMYFUNCTION(\"iferror(VLOOKUP(B543,IMPORTRANGE(\"\"https://docs.google.com/spreadsheets/d/1Kptv1Yhe55NnKrQfatjnFhSoEKdPJ_02VtssK9GkJPk/edit#gid=0\"\",\"\"RWA!F:BZ\"\"),44,0))\"),\"\")","v":""},{"$f":"IFERROR(__xludf.DUMMYFUNCTION(\"iferror(VLOOKUP(B543,IMPORTRANGE(\"\"https://docs.google.com/spreadsheets/d/1Kptv1Yhe55NnKrQfatjnFhSoEKdPJ_02VtssK9GkJPk/edit#gid=0\"\",\"\"RWA!F:BZ\"\"),48,0))\"),\"\")","v":""}]
[null,null,null,{"$f":"IFERROR(__xludf.DUMMYFUNCTION(\"iferror(VLOOKUP(B544,IMPORTRANGE(\"\"https://docs.google.com/spreadsheets/d/1Kptv1Yhe55NnKrQfatjnFhSoEKdPJ_02VtssK9GkJPk/edit#gid=0\"\",\"\"RWA!F:BZ\"\"),44,0))\"),\"\")","v":""},{"$f":"IFERROR(__xludf.DUMMYFUNCTION(\"iferror(VLOOKUP(B544,IMPORTRANGE(\"\"https://docs.google.com/spreadsheets/d/1Kptv1Yhe55NnKrQfatjnFhSoEKdPJ_02VtssK9GkJPk/edit#gid=0\"\",\"\"RWA!F:BZ\"\"),48,0))\"),\"\")","v":""}]
[null,null,null,{"$f":"IFERROR(__xludf.DUMMYFUNCTION(\"iferror(VLOOKUP(B545,IMPORTRANGE(\"\"https://docs.google.com/spreadsheets/d/1Kptv1Yhe55NnKrQfatjnFhSoEKdPJ_02VtssK9GkJPk/edit#gid=0\"\",\"\"RWA!F:BZ\"\"),44,0))\"),\"\")","v":""},{"$f":"IFERROR(__xludf.DUMMYFUNCTION(\"iferror(VLOOKUP(B545,IMPORTRANGE(\"\"https://docs.google.com/spreadsheets/d/1Kptv1Yhe55NnKrQfatjnFhSoEKdPJ_02VtssK9GkJPk/edit#gid=0\"\",\"\"RWA!F:BZ\"\"),48,0))\"),\"\")","v":""}]
[null,null,null,{"$f":"IFERROR(__xludf.DUMMYFUNCTION(\"iferror(VLOOKUP(B546,IMPORTRANGE(\"\"https://docs.google.com/spreadsheets/d/1Kptv1Yhe55NnKrQfatjnFhSoEKdPJ_02VtssK9GkJPk/edit#gid=0\"\",\"\"RWA!F:BZ\"\"),44,0))\"),\"\")","v":""},{"$f":"IFERROR(__xludf.DUMMYFUNCTION(\"iferror(VLOOKUP(B546,IMPORTRANGE(\"\"https://docs.google.com/spreadsheets/d/1Kptv1Yhe55NnKrQfatjnFhSoEKdPJ_02VtssK9GkJPk/edit#gid=0\"\",\"\"RWA!F:BZ\"\"),48,0))\"),\"\")","v":""}]
[null,null,null,{"$f":"IFERROR(__xludf.DUMMYFUNCTION(\"iferror(VLOOKUP(B547,IMPORTRANGE(\"\"https://docs.google.com/spreadsheets/d/1Kptv1Yhe55NnKrQfatjnFhSoEKdPJ_02VtssK9GkJPk/edit#gid=0\"\",\"\"RWA!F:BZ\"\"),44,0))\"),\"\")","v":""},{"$f":"IFERROR(__xludf.DUMMYFUNCTION(\"iferror(VLOOKUP(B547,IMPORTRANGE(\"\"https://docs.google.com/spreadsheets/d/1Kptv1Yhe55NnKrQfatjnFhSoEKdPJ_02VtssK9GkJPk/edit#gid=0\"\",\"\"RWA!F:BZ\"\"),48,0))\"),\"\")","v":""}]
[null,null,null,{"$f":"IFERROR(__xludf.DUMMYFUNCTION(\"iferror(VLOOKUP(B548,IMPORTRANGE(\"\"https://docs.google.com/spreadsheets/d/1Kptv1Yhe55NnKrQfatjnFhSoEKdPJ_02VtssK9GkJPk/edit#gid=0\"\",\"\"RWA!F:BZ\"\"),44,0))\"),\"\")","v":""},{"$f":"IFERROR(__xludf.DUMMYFUNCTION(\"iferror(VLOOKUP(B548,IMPORTRANGE(\"\"https://docs.google.com/spreadsheets/d/1Kptv1Yhe55NnKrQfatjnFhSoEKdPJ_02VtssK9GkJPk/edit#gid=0\"\",\"\"RWA!F:BZ\"\"),48,0))\"),\"\")","v":""}]
[null,null,null,{"$f":"IFERROR(__xludf.DUMMYFUNCTION(\"iferror(VLOOKUP(B549,IMPORTRANGE(\"\"https://docs.google.com/spreadsheets/d/1Kptv1Yhe55NnKrQfatjnFhSoEKdPJ_02VtssK9GkJPk/edit#gid=0\"\",\"\"RWA!F:BZ\"\"),44,0))\"),\"\")","v":""},{"$f":"IFERROR(__xludf.DUMMYFUNCTION(\"iferror(VLOOKUP(B549,IMPORTRANGE(\"\"https://docs.google.com/spreadsheets/d/1Kptv1Yhe55NnKrQfatjnFhSoEKdPJ_02VtssK9GkJPk/edit#gid=0\"\",\"\"RWA!F:BZ\"\"),48,0))\"),\"\")","v":""}]
[null,null,null,{"$f":"IFERROR(__xludf.DUMMYFUNCTION(\"iferror(VLOOKUP(B550,IMPORTRANGE(\"\"https://docs.google.com/spreadsheets/d/1Kptv1Yhe55NnKrQfatjnFhSoEKdPJ_02VtssK9GkJPk/edit#gid=0\"\",\"\"RWA!F:BZ\"\"),44,0))\"),\"\")","v":""},{"$f":"IFERROR(__xludf.DUMMYFUNCTION(\"iferror(VLOOKUP(B550,IMPORTRANGE(\"\"https://docs.google.com/spreadsheets/d/1Kptv1Yhe55NnKrQfatjnFhSoEKdPJ_02VtssK9GkJPk/edit#gid=0\"\",\"\"RWA!F:BZ\"\"),48,0))\"),\"\")","v":""}]
[null,null,null,{"$f":"IFERROR(__xludf.DUMMYFUNCTION(\"iferror(VLOOKUP(B551,IMPORTRANGE(\"\"https://docs.google.com/spreadsheets/d/1Kptv1Yhe55NnKrQfatjnFhSoEKdPJ_02VtssK9GkJPk/edit#gid=0\"\",\"\"RWA!F:BZ\"\"),44,0))\"),\"\")","v":""},{"$f":"IFERROR(__xludf.DUMMYFUNCTION(\"iferror(VLOOKUP(B551,IMPORTRANGE(\"\"https://docs.google.com/spreadsheets/d/1Kptv1Yhe55NnKrQfatjnFhSoEKdPJ_02VtssK9GkJPk/edit#gid=0\"\",\"\"RWA!F:BZ\"\"),48,0))\"),\"\")","v":""}]
[null,null,null,{"$f":"IFERROR(__xludf.DUMMYFUNCTION(\"iferror(VLOOKUP(B552,IMPORTRANGE(\"\"https://docs.google.com/spreadsheets/d/1Kptv1Yhe55NnKrQfatjnFhSoEKdPJ_02VtssK9GkJPk/edit#gid=0\"\",\"\"RWA!F:BZ\"\"),44,0))\"),\"\")","v":""},{"$f":"IFERROR(__xludf.DUMMYFUNCTION(\"iferror(VLOOKUP(B552,IMPORTRANGE(\"\"https://docs.google.com/spreadsheets/d/1Kptv1Yhe55NnKrQfatjnFhSoEKdPJ_02VtssK9GkJPk/edit#gid=0\"\",\"\"RWA!F:BZ\"\"),48,0))\"),\"\")","v":""}]
[null,null,null,{"$f":"IFERROR(__xludf.DUMMYFUNCTION(\"iferror(VLOOKUP(B553,IMPORTRANGE(\"\"https://docs.google.com/spreadsheets/d/1Kptv1Yhe55NnKrQfatjnFhSoEKdPJ_02VtssK9GkJPk/edit#gid=0\"\",\"\"RWA!F:BZ\"\"),44,0))\"),\"\")","v":""},{"$f":"IFERROR(__xludf.DUMMYFUNCTION(\"iferror(VLOOKUP(B553,IMPORTRANGE(\"\"https://docs.google.com/spreadsheets/d/1Kptv1Yhe55NnKrQfatjnFhSoEKdPJ_02VtssK9GkJPk/edit#gid=0\"\",\"\"RWA!F:BZ\"\"),48,0))\"),\"\")","v":""}]
[null,null,null,{"$f":"IFERROR(__xludf.DUMMYFUNCTION(\"iferror(VLOOKUP(B554,IMPORTRANGE(\"\"https://docs.google.com/spreadsheets/d/1Kptv1Yhe55NnKrQfatjnFhSoEKdPJ_02VtssK9GkJPk/edit#gid=0\"\",\"\"RWA!F:BZ\"\"),44,0))\"),\"\")","v":""},{"$f":"IFERROR(__xludf.DUMMYFUNCTION(\"iferror(VLOOKUP(B554,IMPORTRANGE(\"\"https://docs.google.com/spreadsheets/d/1Kptv1Yhe55NnKrQfatjnFhSoEKdPJ_02VtssK9GkJPk/edit#gid=0\"\",\"\"RWA!F:BZ\"\"),48,0))\"),\"\")","v":""}]
[null,null,null,{"$f":"IFERROR(__xludf.DUMMYFUNCTION(\"iferror(VLOOKUP(B555,IMPORTRANGE(\"\"https://docs.google.com/spreadsheets/d/1Kptv1Yhe55NnKrQfatjnFhSoEKdPJ_02VtssK9GkJPk/edit#gid=0\"\",\"\"RWA!F:BZ\"\"),44,0))\"),\"\")","v":""},{"$f":"IFERROR(__xludf.DUMMYFUNCTION(\"iferror(VLOOKUP(B555,IMPORTRANGE(\"\"https://docs.google.com/spreadsheets/d/1Kptv1Yhe55NnKrQfatjnFhSoEKdPJ_02VtssK9GkJPk/edit#gid=0\"\",\"\"RWA!F:BZ\"\"),48,0))\"),\"\")","v":""}]
[null,null,null,{"$f":"IFERROR(__xludf.DUMMYFUNCTION(\"iferror(VLOOKUP(B556,IMPORTRANGE(\"\"https://docs.google.com/spreadsheets/d/1Kptv1Yhe55NnKrQfatjnFhSoEKdPJ_02VtssK9GkJPk/edit#gid=0\"\",\"\"RWA!F:BZ\"\"),44,0))\"),\"\")","v":""},{"$f":"IFERROR(__xludf.DUMMYFUNCTION(\"iferror(VLOOKUP(B556,IMPORTRANGE(\"\"https://docs.google.com/spreadsheets/d/1Kptv1Yhe55NnKrQfatjnFhSoEKdPJ_02VtssK9GkJPk/edit#gid=0\"\",\"\"RWA!F:BZ\"\"),48,0))\"),\"\")","v":""}]
[null,null,null,{"$f":"IFERROR(__xludf.DUMMYFUNCTION(\"iferror(VLOOKUP(B557,IMPORTRANGE(\"\"https://docs.google.com/spreadsheets/d/1Kptv1Yhe55NnKrQfatjnFhSoEKdPJ_02VtssK9GkJPk/edit#gid=0\"\",\"\"RWA!F:BZ\"\"),44,0))\"),\"\")","v":""},{"$f":"IFERROR(__xludf.DUMMYFUNCTION(\"iferror(VLOOKUP(B557,IMPORTRANGE(\"\"https://docs.google.com/spreadsheets/d/1Kptv1Yhe55NnKrQfatjnFhSoEKdPJ_02VtssK9GkJPk/edit#gid=0\"\",\"\"RWA!F:BZ\"\"),48,0))\"),\"\")","v":""}]
[null,null,null,{"$f":"IFERROR(__xludf.DUMMYFUNCTION(\"iferror(VLOOKUP(B558,IMPORTRANGE(\"\"https://docs.google.com/spreadsheets/d/1Kptv1Yhe55NnKrQfatjnFhSoEKdPJ_02VtssK9GkJPk/edit#gid=0\"\",\"\"RWA!F:BZ\"\"),44,0))\"),\"\")","v":""},{"$f":"IFERROR(__xludf.DUMMYFUNCTION(\"iferror(VLOOKUP(B558,IMPORTRANGE(\"\"https://docs.google.com/spreadsheets/d/1Kptv1Yhe55NnKrQfatjnFhSoEKdPJ_02VtssK9GkJPk/edit#gid=0\"\",\"\"RWA!F:BZ\"\"),48,0))\"),\"\")","v":""}]
[null,null,null,{"$f":"IFERROR(__xludf.DUMMYFUNCTION(\"iferror(VLOOKUP(B559,IMPORTRANGE(\"\"https://docs.google.com/spreadsheets/d/1Kptv1Yhe55NnKrQfatjnFhSoEKdPJ_02VtssK9GkJPk/edit#gid=0\"\",\"\"RWA!F:BZ\"\"),44,0))\"),\"\")","v":""},{"$f":"IFERROR(__xludf.DUMMYFUNCTION(\"iferror(VLOOKUP(B559,IMPORTRANGE(\"\"https://docs.google.com/spreadsheets/d/1Kptv1Yhe55NnKrQfatjnFhSoEKdPJ_02VtssK9GkJPk/edit#gid=0\"\",\"\"RWA!F:BZ\"\"),48,0))\"),\"\")","v":""}]
[null,null,null,{"$f":"IFERROR(__xludf.DUMMYFUNCTION(\"iferror(VLOOKUP(B560,IMPORTRANGE(\"\"https://docs.google.com/spreadsheets/d/1Kptv1Yhe55NnKrQfatjnFhSoEKdPJ_02VtssK9GkJPk/edit#gid=0\"\",\"\"RWA!F:BZ\"\"),44,0))\"),\"\")","v":""},{"$f":"IFERROR(__xludf.DUMMYFUNCTION(\"iferror(VLOOKUP(B560,IMPORTRANGE(\"\"https://docs.google.com/spreadsheets/d/1Kptv1Yhe55NnKrQfatjnFhSoEKdPJ_02VtssK9GkJPk/edit#gid=0\"\",\"\"RWA!F:BZ\"\"),48,0))\"),\"\")","v":""}]
[null,null,null,{"$f":"IFERROR(__xludf.DUMMYFUNCTION(\"iferror(VLOOKUP(B561,IMPORTRANGE(\"\"https://docs.google.com/spreadsheets/d/1Kptv1Yhe55NnKrQfatjnFhSoEKdPJ_02VtssK9GkJPk/edit#gid=0\"\",\"\"RWA!F:BZ\"\"),44,0))\"),\"\")","v":""},{"$f":"IFERROR(__xludf.DUMMYFUNCTION(\"iferror(VLOOKUP(B561,IMPORTRANGE(\"\"https://docs.google.com/spreadsheets/d/1Kptv1Yhe55NnKrQfatjnFhSoEKdPJ_02VtssK9GkJPk/edit#gid=0\"\",\"\"RWA!F:BZ\"\"),48,0))\"),\"\")","v":""}]
[null,null,null,{"$f":"IFERROR(__xludf.DUMMYFUNCTION(\"iferror(VLOOKUP(B562,IMPORTRANGE(\"\"https://docs.google.com/spreadsheets/d/1Kptv1Yhe55NnKrQfatjnFhSoEKdPJ_02VtssK9GkJPk/edit#gid=0\"\",\"\"RWA!F:BZ\"\"),44,0))\"),\"\")","v":""},{"$f":"IFERROR(__xludf.DUMMYFUNCTION(\"iferror(VLOOKUP(B562,IMPORTRANGE(\"\"https://docs.google.com/spreadsheets/d/1Kptv1Yhe55NnKrQfatjnFhSoEKdPJ_02VtssK9GkJPk/edit#gid=0\"\",\"\"RWA!F:BZ\"\"),48,0))\"),\"\")","v":""}]
[null,null,null,{"$f":"IFERROR(__xludf.DUMMYFUNCTION(\"iferror(VLOOKUP(B563,IMPORTRANGE(\"\"https://docs.google.com/spreadsheets/d/1Kptv1Yhe55NnKrQfatjnFhSoEKdPJ_02VtssK9GkJPk/edit#gid=0\"\",\"\"RWA!F:BZ\"\"),44,0))\"),\"\")","v":""},{"$f":"IFERROR(__xludf.DUMMYFUNCTION(\"iferror(VLOOKUP(B563,IMPORTRANGE(\"\"https://docs.google.com/spreadsheets/d/1Kptv1Yhe55NnKrQfatjnFhSoEKdPJ_02VtssK9GkJPk/edit#gid=0\"\",\"\"RWA!F:BZ\"\"),48,0))\"),\"\")","v":""}]
[null,null,null,{"$f":"IFERROR(__xludf.DUMMYFUNCTION(\"iferror(VLOOKUP(B564,IMPORTRANGE(\"\"https://docs.google.com/spreadsheets/d/1Kptv1Yhe55NnKrQfatjnFhSoEKdPJ_02VtssK9GkJPk/edit#gid=0\"\",\"\"RWA!F:BZ\"\"),44,0))\"),\"\")","v":""},{"$f":"IFERROR(__xludf.DUMMYFUNCTION(\"iferror(VLOOKUP(B564,IMPORTRANGE(\"\"https://docs.google.com/spreadsheets/d/1Kptv1Yhe55NnKrQfatjnFhSoEKdPJ_02VtssK9GkJPk/edit#gid=0\"\",\"\"RWA!F:BZ\"\"),48,0))\"),\"\")","v":""}]
[null,null,null,{"$f":"IFERROR(__xludf.DUMMYFUNCTION(\"iferror(VLOOKUP(B565,IMPORTRANGE(\"\"https://docs.google.com/spreadsheets/d/1Kptv1Yhe55NnKrQfatjnFhSoEKdPJ_02VtssK9GkJPk/edit#gid=0\"\",\"\"RWA!F:BZ\"\"),44,0))\"),\"\")","v":""},{"$f":"IFERROR(__xludf.DUMMYFUNCTION(\"iferror(VLOOKUP(B565,IMPORTRANGE(\"\"https://docs.google.com/spreadsheets/d/1Kptv1Yhe55NnKrQfatjnFhSoEKdPJ_02VtssK9GkJPk/edit#gid=0\"\",\"\"RWA!F:BZ\"\"),48,0))\"),\"\")","v":""}]
[null,null,null,{"$f":"IFERROR(__xludf.DUMMYFUNCTION(\"iferror(VLOOKUP(B566,IMPORTRANGE(\"\"https://docs.google.com/spreadsheets/d/1Kptv1Yhe55NnKrQfatjnFhSoEKdPJ_02VtssK9GkJPk/edit#gid=0\"\",\"\"RWA!F:BZ\"\"),44,0))\"),\"\")","v":""},{"$f":"IFERROR(__xludf.DUMMYFUNCTION(\"iferror(VLOOKUP(B566,IMPORTRANGE(\"\"https://docs.google.com/spreadsheets/d/1Kptv1Yhe55NnKrQfatjnFhSoEKdPJ_02VtssK9GkJPk/edit#gid=0\"\",\"\"RWA!F:BZ\"\"),48,0))\"),\"\")","v":""}]
[null,null,null,{"$f":"IFERROR(__xludf.DUMMYFUNCTION(\"iferror(VLOOKUP(B567,IMPORTRANGE(\"\"https://docs.google.com/spreadsheets/d/1Kptv1Yhe55NnKrQfatjnFhSoEKdPJ_02VtssK9GkJPk/edit#gid=0\"\",\"\"RWA!F:BZ\"\"),44,0))\"),\"\")","v":""},{"$f":"IFERROR(__xludf.DUMMYFUNCTION(\"iferror(VLOOKUP(B567,IMPORTRANGE(\"\"https://docs.google.com/spreadsheets/d/1Kptv1Yhe55NnKrQfatjnFhSoEKdPJ_02VtssK9GkJPk/edit#gid=0\"\",\"\"RWA!F:BZ\"\"),48,0))\"),\"\")","v":""}]
[null,null,null,{"$f":"IFERROR(__xludf.DUMMYFUNCTION(\"iferror(VLOOKUP(B568,IMPORTRANGE(\"\"https://docs.google.com/spreadsheets/d/1Kptv1Yhe55NnKrQfatjnFhSoEKdPJ_02VtssK9GkJPk/edit#gid=0\"\",\"\"RWA!F:BZ\"\"),44,0))\"),\"\")","v":""},{"$f":"IFERROR(__xludf.DUMMYFUNCTION(\"iferror(VLOOKUP(B568,IMPORTRANGE(\"\"https://docs.google.com/spreadsheets/d/1Kptv1Yhe55NnKrQfatjnFhSoEKdPJ_02VtssK9GkJPk/edit#gid=0\"\",\"\"RWA!F:BZ\"\"),48,0))\"),\"\")","v":""}]
[null,null,null,{"$f":"IFERROR(__xludf.DUMMYFUNCTION(\"iferror(VLOOKUP(B569,IMPORTRANGE(\"\"https://docs.google.com/spreadsheets/d/1Kptv1Yhe55NnKrQfatjnFhSoEKdPJ_02VtssK9GkJPk/edit#gid=0\"\",\"\"RWA!F:BZ\"\"),44,0))\"),\"\")","v":""},{"$f":"IFERROR(__xludf.DUMMYFUNCTION(\"iferror(VLOOKUP(B569,IMPORTRANGE(\"\"https://docs.google.com/spreadsheets/d/1Kptv1Yhe55NnKrQfatjnFhSoEKdPJ_02VtssK9GkJPk/edit#gid=0\"\",\"\"RWA!F:BZ\"\"),48,0))\"),\"\")","v":""}]
[null,null,null,{"$f":"IFERROR(__xludf.DUMMYFUNCTION(\"iferror(VLOOKUP(B570,IMPORTRANGE(\"\"https://docs.google.com/spreadsheets/d/1Kptv1Yhe55NnKrQfatjnFhSoEKdPJ_02VtssK9GkJPk/edit#gid=0\"\",\"\"RWA!F:BZ\"\"),44,0))\"),\"\")","v":""},{"$f":"IFERROR(__xludf.DUMMYFUNCTION(\"iferror(VLOOKUP(B570,IMPORTRANGE(\"\"https://docs.google.com/spreadsheets/d/1Kptv1Yhe55NnKrQfatjnFhSoEKdPJ_02VtssK9GkJPk/edit#gid=0\"\",\"\"RWA!F:BZ\"\"),48,0))\"),\"\")","v":""}]
[null,null,null,{"$f":"IFERROR(__xludf.DUMMYFUNCTION(\"iferror(VLOOKUP(B571,IMPORTRANGE(\"\"https://docs.google.com/spreadsheets/d/1Kptv1Yhe55NnKrQfatjnFhSoEKdPJ_02VtssK9GkJPk/edit#gid=0\"\",\"\"RWA!F:BZ\"\"),44,0))\"),\"\")","v":""},{"$f":"IFERROR(__xludf.DUMMYFUNCTION(\"iferror(VLOOKUP(B571,IMPORTRANGE(\"\"https://docs.google.com/spreadsheets/d/1Kptv1Yhe55NnKrQfatjnFhSoEKdPJ_02VtssK9GkJPk/edit#gid=0\"\",\"\"RWA!F:BZ\"\"),48,0))\"),\"\")","v":""}]
[null,null,null,{"$f":"IFERROR(__xludf.DUMMYFUNCTION(\"iferror(VLOOKUP(B572,IMPORTRANGE(\"\"https://docs.google.com/spreadsheets/d/1Kptv1Yhe55NnKrQfatjnFhSoEKdPJ_02VtssK9GkJPk/edit#gid=0\"\",\"\"RWA!F:BZ\"\"),44,0))\"),\"\")","v":""},{"$f":"IFERROR(__xludf.DUMMYFUNCTION(\"iferror(VLOOKUP(B572,IMPORTRANGE(\"\"https://docs.google.com/spreadsheets/d/1Kptv1Yhe55NnKrQfatjnFhSoEKdPJ_02VtssK9GkJPk/edit#gid=0\"\",\"\"RWA!F:BZ\"\"),48,0))\"),\"\")","v":""}]
[null,null,null,{"$f":"IFERROR(__xludf.DUMMYFUNCTION(\"iferror(VLOOKUP(B573,IMPORTRANGE(\"\"https://docs.google.com/spreadsheets/d/1Kptv1Yhe55NnKrQfatjnFhSoEKdPJ_02VtssK9GkJPk/edit#gid=0\"\",\"\"RWA!F:BZ\"\"),44,0))\"),\"\")","v":""},{"$f":"IFERROR(__xludf.DUMMYFUNCTION(\"iferror(VLOOKUP(B573,IMPORTRANGE(\"\"https://docs.google.com/spreadsheets/d/1Kptv1Yhe55NnKrQfatjnFhSoEKdPJ_02VtssK9GkJPk/edit#gid=0\"\",\"\"RWA!F:BZ\"\"),48,0))\"),\"\")","v":""}]
[null,null,null,{"$f":"IFERROR(__xludf.DUMMYFUNCTION(\"iferror(VLOOKUP(B574,IMPORTRANGE(\"\"https://docs.google.com/spreadsheets/d/1Kptv1Yhe55NnKrQfatjnFhSoEKdPJ_02VtssK9GkJPk/edit#gid=0\"\",\"\"RWA!F:BZ\"\"),44,0))\"),\"\")","v":""},{"$f":"IFERROR(__xludf.DUMMYFUNCTION(\"iferror(VLOOKUP(B574,IMPORTRANGE(\"\"https://docs.google.com/spreadsheets/d/1Kptv1Yhe55NnKrQfatjnFhSoEKdPJ_02VtssK9GkJPk/edit#gid=0\"\",\"\"RWA!F:BZ\"\"),48,0))\"),\"\")","v":""}]
[null,null,null,{"$f":"IFERROR(__xludf.DUMMYFUNCTION(\"iferror(VLOOKUP(B575,IMPORTRANGE(\"\"https://docs.google.com/spreadsheets/d/1Kptv1Yhe55NnKrQfatjnFhSoEKdPJ_02VtssK9GkJPk/edit#gid=0\"\",\"\"RWA!F:BZ\"\"),44,0))\"),\"\")","v":""},{"$f":"IFERROR(__xludf.DUMMYFUNCTION(\"iferror(VLOOKUP(B575,IMPORTRANGE(\"\"https://docs.google.com/spreadsheets/d/1Kptv1Yhe55NnKrQfatjnFhSoEKdPJ_02VtssK9GkJPk/edit#gid=0\"\",\"\"RWA!F:BZ\"\"),48,0))\"),\"\")","v":""}]
[null,null,null,{"$f":"IFERROR(__xludf.DUMMYFUNCTION(\"iferror(VLOOKUP(B576,IMPORTRANGE(\"\"https://docs.google.com/spreadsheets/d/1Kptv1Yhe55NnKrQfatjnFhSoEKdPJ_02VtssK9GkJPk/edit#gid=0\"\",\"\"RWA!F:BZ\"\"),44,0))\"),\"\")","v":""},{"$f":"IFERROR(__xludf.DUMMYFUNCTION(\"iferror(VLOOKUP(B576,IMPORTRANGE(\"\"https://docs.google.com/spreadsheets/d/1Kptv1Yhe55NnKrQfatjnFhSoEKdPJ_02VtssK9GkJPk/edit#gid=0\"\",\"\"RWA!F:BZ\"\"),48,0))\"),\"\")","v":""}]
[null,null,null,{"$f":"IFERROR(__xludf.DUMMYFUNCTION(\"iferror(VLOOKUP(B577,IMPORTRANGE(\"\"https://docs.google.com/spreadsheets/d/1Kptv1Yhe55NnKrQfatjnFhSoEKdPJ_02VtssK9GkJPk/edit#gid=0\"\",\"\"RWA!F:BZ\"\"),44,0))\"),\"\")","v":""},{"$f":"IFERROR(__xludf.DUMMYFUNCTION(\"iferror(VLOOKUP(B577,IMPORTRANGE(\"\"https://docs.google.com/spreadsheets/d/1Kptv1Yhe55NnKrQfatjnFhSoEKdPJ_02VtssK9GkJPk/edit#gid=0\"\",\"\"RWA!F:BZ\"\"),48,0))\"),\"\")","v":""}]
[null,null,null,{"$f":"IFERROR(__xludf.DUMMYFUNCTION(\"iferror(VLOOKUP(B578,IMPORTRANGE(\"\"https://docs.google.com/spreadsheets/d/1Kptv1Yhe55NnKrQfatjnFhSoEKdPJ_02VtssK9GkJPk/edit#gid=0\"\",\"\"RWA!F:BZ\"\"),44,0))\"),\"\")","v":""},{"$f":"IFERROR(__xludf.DUMMYFUNCTION(\"iferror(VLOOKUP(B578,IMPORTRANGE(\"\"https://docs.google.com/spreadsheets/d/1Kptv1Yhe55NnKrQfatjnFhSoEKdPJ_02VtssK9GkJPk/edit#gid=0\"\",\"\"RWA!F:BZ\"\"),48,0))\"),\"\")","v":""}]
[null,null,null,{"$f":"IFERROR(__xludf.DUMMYFUNCTION(\"iferror(VLOOKUP(B579,IMPORTRANGE(\"\"https://docs.google.com/spreadsheets/d/1Kptv1Yhe55NnKrQfatjnFhSoEKdPJ_02VtssK9GkJPk/edit#gid=0\"\",\"\"RWA!F:BZ\"\"),44,0))\"),\"\")","v":""},{"$f":"IFERROR(__xludf.DUMMYFUNCTION(\"iferror(VLOOKUP(B579,IMPORTRANGE(\"\"https://docs.google.com/spreadsheets/d/1Kptv1Yhe55NnKrQfatjnFhSoEKdPJ_02VtssK9GkJPk/edit#gid=0\"\",\"\"RWA!F:BZ\"\"),48,0))\"),\"\")","v":""}]
[null,null,null,{"$f":"IFERROR(__xludf.DUMMYFUNCTION(\"iferror(VLOOKUP(B580,IMPORTRANGE(\"\"https://docs.google.com/spreadsheets/d/1Kptv1Yhe55NnKrQfatjnFhSoEKdPJ_02VtssK9GkJPk/edit#gid=0\"\",\"\"RWA!F:BZ\"\"),44,0))\"),\"\")","v":""},{"$f":"IFERROR(__xludf.DUMMYFUNCTION(\"iferror(VLOOKUP(B580,IMPORTRANGE(\"\"https://docs.google.com/spreadsheets/d/1Kptv1Yhe55NnKrQfatjnFhSoEKdPJ_02VtssK9GkJPk/edit#gid=0\"\",\"\"RWA!F:BZ\"\"),48,0))\"),\"\")","v":""}]
[null,null,null,{"$f":"IFERROR(__xludf.DUMMYFUNCTION(\"iferror(VLOOKUP(B581,IMPORTRANGE(\"\"https://docs.google.com/spreadsheets/d/1Kptv1Yhe55NnKrQfatjnFhSoEKdPJ_02VtssK9GkJPk/edit#gid=0\"\",\"\"RWA!F:BZ\"\"),44,0))\"),\"\")","v":""},{"$f":"IFERROR(__xludf.DUMMYFUNCTION(\"iferror(VLOOKUP(B581,IMPORTRANGE(\"\"https://docs.google.com/spreadsheets/d/1Kptv1Yhe55NnKrQfatjnFhSoEKdPJ_02VtssK9GkJPk/edit#gid=0\"\",\"\"RWA!F:BZ\"\"),48,0))\"),\"\")","v":""}]
[null,null,null,{"$f":"IFERROR(__xludf.DUMMYFUNCTION(\"iferror(VLOOKUP(B582,IMPORTRANGE(\"\"https://docs.google.com/spreadsheets/d/1Kptv1Yhe55NnKrQfatjnFhSoEKdPJ_02VtssK9GkJPk/edit#gid=0\"\",\"\"RWA!F:BZ\"\"),44,0))\"),\"\")","v":""},{"$f":"IFERROR(__xludf.DUMMYFUNCTION(\"iferror(VLOOKUP(B582,IMPORTRANGE(\"\"https://docs.google.com/spreadsheets/d/1Kptv1Yhe55NnKrQfatjnFhSoEKdPJ_02VtssK9GkJPk/edit#gid=0\"\",\"\"RWA!F:BZ\"\"),48,0))\"),\"\")","v":""}]
[null,null,null,{"$f":"IFERROR(__xludf.DUMMYFUNCTION(\"iferror(VLOOKUP(B583,IMPORTRANGE(\"\"https://docs.google.com/spreadsheets/d/1Kptv1Yhe55NnKrQfatjnFhSoEKdPJ_02VtssK9GkJPk/edit#gid=0\"\",\"\"RWA!F:BZ\"\"),44,0))\"),\"\")","v":""},{"$f":"IFERROR(__xludf.DUMMYFUNCTION(\"iferror(VLOOKUP(B583,IMPORTRANGE(\"\"https://docs.google.com/spreadsheets/d/1Kptv1Yhe55NnKrQfatjnFhSoEKdPJ_02VtssK9GkJPk/edit#gid=0\"\",\"\"RWA!F:BZ\"\"),48,0))\"),\"\")","v":""}]
[null,null,null,{"$f":"IFERROR(__xludf.DUMMYFUNCTION(\"iferror(VLOOKUP(B584,IMPORTRANGE(\"\"https://docs.google.com/spreadsheets/d/1Kptv1Yhe55NnKrQfatjnFhSoEKdPJ_02VtssK9GkJPk/edit#gid=0\"\",\"\"RWA!F:BZ\"\"),44,0))\"),\"\")","v":""},{"$f":"IFERROR(__xludf.DUMMYFUNCTION(\"iferror(VLOOKUP(B584,IMPORTRANGE(\"\"https://docs.google.com/spreadsheets/d/1Kptv1Yhe55NnKrQfatjnFhSoEKdPJ_02VtssK9GkJPk/edit#gid=0\"\",\"\"RWA!F:BZ\"\"),48,0))\"),\"\")","v":""}]
[null,null,null,{"$f":"IFERROR(__xludf.DUMMYFUNCTION(\"iferror(VLOOKUP(B585,IMPORTRANGE(\"\"https://docs.google.com/spreadsheets/d/1Kptv1Yhe55NnKrQfatjnFhSoEKdPJ_02VtssK9GkJPk/edit#gid=0\"\",\"\"RWA!F:BZ\"\"),44,0))\"),\"\")","v":""},{"$f":"IFERROR(__xludf.DUMMYFUNCTION(\"iferror(VLOOKUP(B585,IMPORTRANGE(\"\"https://docs.google.com/spreadsheets/d/1Kptv1Yhe55NnKrQfatjnFhSoEKdPJ_02VtssK9GkJPk/edit#gid=0\"\",\"\"RWA!F:BZ\"\"),48,0))\"),\"\")","v":""}]
[null,null,null,{"$f":"IFERROR(__xludf.DUMMYFUNCTION(\"iferror(VLOOKUP(B586,IMPORTRANGE(\"\"https://docs.google.com/spreadsheets/d/1Kptv1Yhe55NnKrQfatjnFhSoEKdPJ_02VtssK9GkJPk/edit#gid=0\"\",\"\"RWA!F:BZ\"\"),44,0))\"),\"\")","v":""},{"$f":"IFERROR(__xludf.DUMMYFUNCTION(\"iferror(VLOOKUP(B586,IMPORTRANGE(\"\"https://docs.google.com/spreadsheets/d/1Kptv1Yhe55NnKrQfatjnFhSoEKdPJ_02VtssK9GkJPk/edit#gid=0\"\",\"\"RWA!F:BZ\"\"),48,0))\"),\"\")","v":""}]
[null,null,null,{"$f":"IFERROR(__xludf.DUMMYFUNCTION(\"iferror(VLOOKUP(B587,IMPORTRANGE(\"\"https://docs.google.com/spreadsheets/d/1Kptv1Yhe55NnKrQfatjnFhSoEKdPJ_02VtssK9GkJPk/edit#gid=0\"\",\"\"RWA!F:BZ\"\"),44,0))\"),\"\")","v":""},{"$f":"IFERROR(__xludf.DUMMYFUNCTION(\"iferror(VLOOKUP(B587,IMPORTRANGE(\"\"https://docs.google.com/spreadsheets/d/1Kptv1Yhe55NnKrQfatjnFhSoEKdPJ_02VtssK9GkJPk/edit#gid=0\"\",\"\"RWA!F:BZ\"\"),48,0))\"),\"\")","v":""}]
[null,null,null,{"$f":"IFERROR(__xludf.DUMMYFUNCTION(\"iferror(VLOOKUP(B588,IMPORTRANGE(\"\"https://docs.google.com/spreadsheets/d/1Kptv1Yhe55NnKrQfatjnFhSoEKdPJ_02VtssK9GkJPk/edit#gid=0\"\",\"\"RWA!F:BZ\"\"),44,0))\"),\"\")","v":""},{"$f":"IFERROR(__xludf.DUMMYFUNCTION(\"iferror(VLOOKUP(B588,IMPORTRANGE(\"\"https://docs.google.com/spreadsheets/d/1Kptv1Yhe55NnKrQfatjnFhSoEKdPJ_02VtssK9GkJPk/edit#gid=0\"\",\"\"RWA!F:BZ\"\"),48,0))\"),\"\")","v":""}]
[null,null,null,{"$f":"IFERROR(__xludf.DUMMYFUNCTION(\"iferror(VLOOKUP(B589,IMPORTRANGE(\"\"https://docs.google.com/spreadsheets/d/1Kptv1Yhe55NnKrQfatjnFhSoEKdPJ_02VtssK9GkJPk/edit#gid=0\"\",\"\"RWA!F:BZ\"\"),44,0))\"),\"\")","v":""},{"$f":"IFERROR(__xludf.DUMMYFUNCTION(\"iferror(VLOOKUP(B589,IMPORTRANGE(\"\"https://docs.google.com/spreadsheets/d/1Kptv1Yhe55NnKrQfatjnFhSoEKdPJ_02VtssK9GkJPk/edit#gid=0\"\",\"\"RWA!F:BZ\"\"),48,0))\"),\"\")","v":""}]
[null,null,null,{"$f":"IFERROR(__xludf.DUMMYFUNCTION(\"iferror(VLOOKUP(B590,IMPORTRANGE(\"\"https://docs.google.com/spreadsheets/d/1Kptv1Yhe55NnKrQfatjnFhSoEKdPJ_02VtssK9GkJPk/edit#gid=0\"\",\"\"RWA!F:BZ\"\"),44,0))\"),\"\")","v":""},{"$f":"IFERROR(__xludf.DUMMYFUNCTION(\"iferror(VLOOKUP(B590,IMPORTRANGE(\"\"https://docs.google.com/spreadsheets/d/1Kptv1Yhe55NnKrQfatjnFhSoEKdPJ_02VtssK9GkJPk/edit#gid=0\"\",\"\"RWA!F:BZ\"\"),48,0))\"),\"\")","v":""}]
[null,null,null,{"$f":"IFERROR(__xludf.DUMMYFUNCTION(\"iferror(VLOOKUP(B591,IMPORTRANGE(\"\"https://docs.google.com/spreadsheets/d/1Kptv1Yhe55NnKrQfatjnFhSoEKdPJ_02VtssK9GkJPk/edit#gid=0\"\",\"\"RWA!F:BZ\"\"),44,0))\"),\"\")","v":""},{"$f":"IFERROR(__xludf.DUMMYFUNCTION(\"iferror(VLOOKUP(B591,IMPORTRANGE(\"\"https://docs.google.com/spreadsheets/d/1Kptv1Yhe55NnKrQfatjnFhSoEKdPJ_02VtssK9GkJPk/edit#gid=0\"\",\"\"RWA!F:BZ\"\"),48,0))\"),\"\")","v":""}]
[null,null,null,{"$f":"IFERROR(__xludf.DUMMYFUNCTION(\"iferror(VLOOKUP(B592,IMPORTRANGE(\"\"https://docs.google.com/spreadsheets/d/1Kptv1Yhe55NnKrQfatjnFhSoEKdPJ_02VtssK9GkJPk/edit#gid=0\"\",\"\"RWA!F:BZ\"\"),44,0))\"),\"\")","v":""},{"$f":"IFERROR(__xludf.DUMMYFUNCTION(\"iferror(VLOOKUP(B592,IMPORTRANGE(\"\"https://docs.google.com/spreadsheets/d/1Kptv1Yhe55NnKrQfatjnFhSoEKdPJ_02VtssK9GkJPk/edit#gid=0\"\",\"\"RWA!F:BZ\"\"),48,0))\"),\"\")","v":""}]
[null,null,null,{"$f":"IFERROR(__xludf.DUMMYFUNCTION(\"iferror(VLOOKUP(B593,IMPORTRANGE(\"\"https://docs.google.com/spreadsheets/d/1Kptv1Yhe55NnKrQfatjnFhSoEKdPJ_02VtssK9GkJPk/edit#gid=0\"\",\"\"RWA!F:BZ\"\"),44,0))\"),\"\")","v":""},{"$f":"IFERROR(__xludf.DUMMYFUNCTION(\"iferror(VLOOKUP(B593,IMPORTRANGE(\"\"https://docs.google.com/spreadsheets/d/1Kptv1Yhe55NnKrQfatjnFhSoEKdPJ_02VtssK9GkJPk/edit#gid=0\"\",\"\"RWA!F:BZ\"\"),48,0))\"),\"\")","v":""}]
[null,null,null,{"$f":"IFERROR(__xludf.DUMMYFUNCTION(\"iferror(VLOOKUP(B594,IMPORTRANGE(\"\"https://docs.google.com/spreadsheets/d/1Kptv1Yhe55NnKrQfatjnFhSoEKdPJ_02VtssK9GkJPk/edit#gid=0\"\",\"\"RWA!F:BZ\"\"),44,0))\"),\"\")","v":""},{"$f":"IFERROR(__xludf.DUMMYFUNCTION(\"iferror(VLOOKUP(B594,IMPORTRANGE(\"\"https://docs.google.com/spreadsheets/d/1Kptv1Yhe55NnKrQfatjnFhSoEKdPJ_02VtssK9GkJPk/edit#gid=0\"\",\"\"RWA!F:BZ\"\"),48,0))\"),\"\")","v":""}]
[null,null,null,{"$f":"IFERROR(__xludf.DUMMYFUNCTION(\"iferror(VLOOKUP(B595,IMPORTRANGE(\"\"https://docs.google.com/spreadsheets/d/1Kptv1Yhe55NnKrQfatjnFhSoEKdPJ_02VtssK9GkJPk/edit#gid=0\"\",\"\"RWA!F:BZ\"\"),44,0))\"),\"\")","v":""},{"$f":"IFERROR(__xludf.DUMMYFUNCTION(\"iferror(VLOOKUP(B595,IMPORTRANGE(\"\"https://docs.google.com/spreadsheets/d/1Kptv1Yhe55NnKrQfatjnFhSoEKdPJ_02VtssK9GkJPk/edit#gid=0\"\",\"\"RWA!F:BZ\"\"),48,0))\"),\"\")","v":""}]
[null,null,null,{"$f":"IFERROR(__xludf.DUMMYFUNCTION(\"iferror(VLOOKUP(B596,IMPORTRANGE(\"\"https://docs.google.com/spreadsheets/d/1Kptv1Yhe55NnKrQfatjnFhSoEKdPJ_02VtssK9GkJPk/edit#gid=0\"\",\"\"RWA!F:BZ\"\"),44,0))\"),\"\")","v":""},{"$f":"IFERROR(__xludf.DUMMYFUNCTION(\"iferror(VLOOKUP(B596,IMPORTRANGE(\"\"https://docs.google.com/spreadsheets/d/1Kptv1Yhe55NnKrQfatjnFhSoEKdPJ_02VtssK9GkJPk/edit#gid=0\"\",\"\"RWA!F:BZ\"\"),48,0))\"),\"\")","v":""}]
[null,null,null,{"$f":"IFERROR(__xludf.DUMMYFUNCTION(\"iferror(VLOOKUP(B597,IMPORTRANGE(\"\"https://docs.google.com/spreadsheets/d/1Kptv1Yhe55NnKrQfatjnFhSoEKdPJ_02VtssK9GkJPk/edit#gid=0\"\",\"\"RWA!F:BZ\"\"),44,0))\"),\"\")","v":""},{"$f":"IFERROR(__xludf.DUMMYFUNCTION(\"iferror(VLOOKUP(B597,IMPORTRANGE(\"\"https://docs.google.com/spreadsheets/d/1Kptv1Yhe55NnKrQfatjnFhSoEKdPJ_02VtssK9GkJPk/edit#gid=0\"\",\"\"RWA!F:BZ\"\"),48,0))\"),\"\")","v":""}]
[null,null,null,{"$f":"IFERROR(__xludf.DUMMYFUNCTION(\"iferror(VLOOKUP(B598,IMPORTRANGE(\"\"https://docs.google.com/spreadsheets/d/1Kptv1Yhe55NnKrQfatjnFhSoEKdPJ_02VtssK9GkJPk/edit#gid=0\"\",\"\"RWA!F:BZ\"\"),44,0))\"),\"\")","v":""},{"$f":"IFERROR(__xludf.DUMMYFUNCTION(\"iferror(VLOOKUP(B598,IMPORTRANGE(\"\"https://docs.google.com/spreadsheets/d/1Kptv1Yhe55NnKrQfatjnFhSoEKdPJ_02VtssK9GkJPk/edit#gid=0\"\",\"\"RWA!F:BZ\"\"),48,0))\"),\"\")","v":""}]
[null,null,null,{"$f":"IFERROR(__xludf.DUMMYFUNCTION(\"iferror(VLOOKUP(B599,IMPORTRANGE(\"\"https://docs.google.com/spreadsheets/d/1Kptv1Yhe55NnKrQfatjnFhSoEKdPJ_02VtssK9GkJPk/edit#gid=0\"\",\"\"RWA!F:BZ\"\"),44,0))\"),\"\")","v":""},{"$f":"IFERROR(__xludf.DUMMYFUNCTION(\"iferror(VLOOKUP(B599,IMPORTRANGE(\"\"https://docs.google.com/spreadsheets/d/1Kptv1Yhe55NnKrQfatjnFhSoEKdPJ_02VtssK9GkJPk/edit#gid=0\"\",\"\"RWA!F:BZ\"\"),48,0))\"),\"\")","v":""}]
[null,null,null,{"$f":"IFERROR(__xludf.DUMMYFUNCTION(\"iferror(VLOOKUP(B600,IMPORTRANGE(\"\"https://docs.google.com/spreadsheets/d/1Kptv1Yhe55NnKrQfatjnFhSoEKdPJ_02VtssK9GkJPk/edit#gid=0\"\",\"\"RWA!F:BZ\"\"),44,0))\"),\"\")","v":""},{"$f":"IFERROR(__xludf.DUMMYFUNCTION(\"iferror(VLOOKUP(B600,IMPORTRANGE(\"\"https://docs.google.com/spreadsheets/d/1Kptv1Yhe55NnKrQfatjnFhSoEKdPJ_02VtssK9GkJPk/edit#gid=0\"\",\"\"RWA!F:BZ\"\"),48,0))\"),\"\")","v":""}]
[null,null,null,{"$f":"IFERROR(__xludf.DUMMYFUNCTION(\"iferror(VLOOKUP(B601,IMPORTRANGE(\"\"https://docs.google.com/spreadsheets/d/1Kptv1Yhe55NnKrQfatjnFhSoEKdPJ_02VtssK9GkJPk/edit#gid=0\"\",\"\"RWA!F:BZ\"\"),44,0))\"),\"\")","v":""},{"$f":"IFERROR(__xludf.DUMMYFUNCTION(\"iferror(VLOOKUP(B601,IMPORTRANGE(\"\"https://docs.google.com/spreadsheets/d/1Kptv1Yhe55NnKrQfatjnFhSoEKdPJ_02VtssK9GkJPk/edit#gid=0\"\",\"\"RWA!F:BZ\"\"),48,0))\"),\"\")","v":""}]
[null,null,null,{"$f":"IFERROR(__xludf.DUMMYFUNCTION(\"iferror(VLOOKUP(B602,IMPORTRANGE(\"\"https://docs.google.com/spreadsheets/d/1Kptv1Yhe55NnKrQfatjnFhSoEKdPJ_02VtssK9GkJPk/edit#gid=0\"\",\"\"RWA!F:BZ\"\"),44,0))\"),\"\")","v":""},{"$f":"IFERROR(__xludf.DUMMYFUNCTION(\"iferror(VLOOKUP(B602,IMPORTRANGE(\"\"https://docs.google.com/spreadsheets/d/1Kptv1Yhe55NnKrQfatjnFhSoEKdPJ_02VtssK9GkJPk/edit#gid=0\"\",\"\"RWA!F:BZ\"\"),48,0))\"),\"\")","v":""}]
[null,null,null,{"$f":"IFERROR(__xludf.DUMMYFUNCTION(\"iferror(VLOOKUP(B603,IMPORTRANGE(\"\"https://docs.google.com/spreadsheets/d/1Kptv1Yhe55NnKrQfatjnFhSoEKdPJ_02VtssK9GkJPk/edit#gid=0\"\",\"\"RWA!F:BZ\"\"),44,0))\"),\"\")","v":""},{"$f":"IFERROR(__xludf.DUMMYFUNCTION(\"iferror(VLOOKUP(B603,IMPORTRANGE(\"\"https://docs.google.com/spreadsheets/d/1Kptv1Yhe55NnKrQfatjnFhSoEKdPJ_02VtssK9GkJPk/edit#gid=0\"\",\"\"RWA!F:BZ\"\"),48,0))\"),\"\")","v":""}]
[null,null,null,{"$f":"IFERROR(__xludf.DUMMYFUNCTION(\"iferror(VLOOKUP(B604,IMPORTRANGE(\"\"https://docs.google.com/spreadsheets/d/1Kptv1Yhe55NnKrQfatjnFhSoEKdPJ_02VtssK9GkJPk/edit#gid=0\"\",\"\"RWA!F:BZ\"\"),44,0))\"),\"\")","v":""},{"$f":"IFERROR(__xludf.DUMMYFUNCTION(\"iferror(VLOOKUP(B604,IMPORTRANGE(\"\"https://docs.google.com/spreadsheets/d/1Kptv1Yhe55NnKrQfatjnFhSoEKdPJ_02VtssK9GkJPk/edit#gid=0\"\",\"\"RWA!F:BZ\"\"),48,0))\"),\"\")","v":""}]
[null,null,null,{"$f":"IFERROR(__xludf.DUMMYFUNCTION(\"iferror(VLOOKUP(B605,IMPORTRANGE(\"\"https://docs.google.com/spreadsheets/d/1Kptv1Yhe55NnKrQfatjnFhSoEKdPJ_02VtssK9GkJPk/edit#gid=0\"\",\"\"RWA!F:BZ\"\"),44,0))\"),\"\")","v":""},{"$f":"IFERROR(__xludf.DUMMYFUNCTION(\"iferror(VLOOKUP(B605,IMPORTRANGE(\"\"https://docs.google.com/spreadsheets/d/1Kptv1Yhe55NnKrQfatjnFhSoEKdPJ_02VtssK9GkJPk/edit#gid=0\"\",\"\"RWA!F:BZ\"\"),48,0))\"),\"\")","v":""}]
[null,null,null,{"$f":"IFERROR(__xludf.DUMMYFUNCTION(\"iferror(VLOOKUP(B606,IMPORTRANGE(\"\"https://docs.google.com/spreadsheets/d/1Kptv1Yhe55NnKrQfatjnFhSoEKdPJ_02VtssK9GkJPk/edit#gid=0\"\",\"\"RWA!F:BZ\"\"),44,0))\"),\"\")","v":""},{"$f":"IFERROR(__xludf.DUMMYFUNCTION(\"iferror(VLOOKUP(B606,IMPORTRANGE(\"\"https://docs.google.com/spreadsheets/d/1Kptv1Yhe55NnKrQfatjnFhSoEKdPJ_02VtssK9GkJPk/edit#gid=0\"\",\"\"RWA!F:BZ\"\"),48,0))\"),\"\")","v":""}]
[null,null,null,{"$f":"IFERROR(__xludf.DUMMYFUNCTION(\"iferror(VLOOKUP(B607,IMPORTRANGE(\"\"https://docs.google.com/spreadsheets/d/1Kptv1Yhe55NnKrQfatjnFhSoEKdPJ_02VtssK9GkJPk/edit#gid=0\"\",\"\"RWA!F:BZ\"\"),44,0))\"),\"\")","v":""},{"$f":"IFERROR(__xludf.DUMMYFUNCTION(\"iferror(VLOOKUP(B607,IMPORTRANGE(\"\"https://docs.google.com/spreadsheets/d/1Kptv1Yhe55NnKrQfatjnFhSoEKdPJ_02VtssK9GkJPk/edit#gid=0\"\",\"\"RWA!F:BZ\"\"),48,0))\"),\"\")","v":""}]
[null,null,null,{"$f":"IFERROR(__xludf.DUMMYFUNCTION(\"iferror(VLOOKUP(B608,IMPORTRANGE(\"\"https://docs.google.com/spreadsheets/d/1Kptv1Yhe55NnKrQfatjnFhSoEKdPJ_02VtssK9GkJPk/edit#gid=0\"\",\"\"RWA!F:BZ\"\"),44,0))\"),\"\")","v":""},{"$f":"IFERROR(__xludf.DUMMYFUNCTION(\"iferror(VLOOKUP(B608,IMPORTRANGE(\"\"https://docs.google.com/spreadsheets/d/1Kptv1Yhe55NnKrQfatjnFhSoEKdPJ_02VtssK9GkJPk/edit#gid=0\"\",\"\"RWA!F:BZ\"\"),48,0))\"),\"\")","v":""}]
[null,null,null,{"$f":"IFERROR(__xludf.DUMMYFUNCTION(\"iferror(VLOOKUP(B609,IMPORTRANGE(\"\"https://docs.google.com/spreadsheets/d/1Kptv1Yhe55NnKrQfatjnFhSoEKdPJ_02VtssK9GkJPk/edit#gid=0\"\",\"\"RWA!F:BZ\"\"),44,0))\"),\"\")","v":""},{"$f":"IFERROR(__xludf.DUMMYFUNCTION(\"iferror(VLOOKUP(B609,IMPORTRANGE(\"\"https://docs.google.com/spreadsheets/d/1Kptv1Yhe55NnKrQfatjnFhSoEKdPJ_02VtssK9GkJPk/edit#gid=0\"\",\"\"RWA!F:BZ\"\"),48,0))\"),\"\")","v":""}]
[null,null,null,{"$f":"IFERROR(__xludf.DUMMYFUNCTION(\"iferror(VLOOKUP(B610,IMPORTRANGE(\"\"https://docs.google.com/spreadsheets/d/1Kptv1Yhe55NnKrQfatjnFhSoEKdPJ_02VtssK9GkJPk/edit#gid=0\"\",\"\"RWA!F:BZ\"\"),44,0))\"),\"\")","v":""},{"$f":"IFERROR(__xludf.DUMMYFUNCTION(\"iferror(VLOOKUP(B610,IMPORTRANGE(\"\"https://docs.google.com/spreadsheets/d/1Kptv1Yhe55NnKrQfatjnFhSoEKdPJ_02VtssK9GkJPk/edit#gid=0\"\",\"\"RWA!F:BZ\"\"),48,0))\"),\"\")","v":""}]
[null,null,null,{"$f":"IFERROR(__xludf.DUMMYFUNCTION(\"iferror(VLOOKUP(B611,IMPORTRANGE(\"\"https://docs.google.com/spreadsheets/d/1Kptv1Yhe55NnKrQfatjnFhSoEKdPJ_02VtssK9GkJPk/edit#gid=0\"\",\"\"RWA!F:BZ\"\"),44,0))\"),\"\")","v":""},{"$f":"IFERROR(__xludf.DUMMYFUNCTION(\"iferror(VLOOKUP(B611,IMPORTRANGE(\"\"https://docs.google.com/spreadsheets/d/1Kptv1Yhe55NnKrQfatjnFhSoEKdPJ_02VtssK9GkJPk/edit#gid=0\"\",\"\"RWA!F:BZ\"\"),48,0))\"),\"\")","v":""}]
[null,null,null,{"$f":"IFERROR(__xludf.DUMMYFUNCTION(\"iferror(VLOOKUP(B612,IMPORTRANGE(\"\"https://docs.google.com/spreadsheets/d/1Kptv1Yhe55NnKrQfatjnFhSoEKdPJ_02VtssK9GkJPk/edit#gid=0\"\",\"\"RWA!F:BZ\"\"),44,0))\"),\"\")","v":""},{"$f":"IFERROR(__xludf.DUMMYFUNCTION(\"iferror(VLOOKUP(B612,IMPORTRANGE(\"\"https://docs.google.com/spreadsheets/d/1Kptv1Yhe55NnKrQfatjnFhSoEKdPJ_02VtssK9GkJPk/edit#gid=0\"\",\"\"RWA!F:BZ\"\"),48,0))\"),\"\")","v":""}]
[null,null,null,{"$f":"IFERROR(__xludf.DUMMYFUNCTION(\"iferror(VLOOKUP(B613,IMPORTRANGE(\"\"https://docs.google.com/spreadsheets/d/1Kptv1Yhe55NnKrQfatjnFhSoEKdPJ_02VtssK9GkJPk/edit#gid=0\"\",\"\"RWA!F:BZ\"\"),44,0))\"),\"\")","v":""},{"$f":"IFERROR(__xludf.DUMMYFUNCTION(\"iferror(VLOOKUP(B613,IMPORTRANGE(\"\"https://docs.google.com/spreadsheets/d/1Kptv1Yhe55NnKrQfatjnFhSoEKdPJ_02VtssK9GkJPk/edit#gid=0\"\",\"\"RWA!F:BZ\"\"),48,0))\"),\"\")","v":""}]
[null,null,null,{"$f":"IFERROR(__xludf.DUMMYFUNCTION(\"iferror(VLOOKUP(B614,IMPORTRANGE(\"\"https://docs.google.com/spreadsheets/d/1Kptv1Yhe55NnKrQfatjnFhSoEKdPJ_02VtssK9GkJPk/edit#gid=0\"\",\"\"RWA!F:BZ\"\"),44,0))\"),\"\")","v":""},{"$f":"IFERROR(__xludf.DUMMYFUNCTION(\"iferror(VLOOKUP(B614,IMPORTRANGE(\"\"https://docs.google.com/spreadsheets/d/1Kptv1Yhe55NnKrQfatjnFhSoEKdPJ_02VtssK9GkJPk/edit#gid=0\"\",\"\"RWA!F:BZ\"\"),48,0))\"),\"\")","v":""}]
[null,null,null,{"$f":"IFERROR(__xludf.DUMMYFUNCTION(\"iferror(VLOOKUP(B615,IMPORTRANGE(\"\"https://docs.google.com/spreadsheets/d/1Kptv1Yhe55NnKrQfatjnFhSoEKdPJ_02VtssK9GkJPk/edit#gid=0\"\",\"\"RWA!F:BZ\"\"),44,0))\"),\"\")","v":""},{"$f":"IFERROR(__xludf.DUMMYFUNCTION(\"iferror(VLOOKUP(B615,IMPORTRANGE(\"\"https://docs.google.com/spreadsheets/d/1Kptv1Yhe55NnKrQfatjnFhSoEKdPJ_02VtssK9GkJPk/edit#gid=0\"\",\"\"RWA!F:BZ\"\"),48,0))\"),\"\")","v":""}]
[null,null,null,{"$f":"IFERROR(__xludf.DUMMYFUNCTION(\"iferror(VLOOKUP(B616,IMPORTRANGE(\"\"https://docs.google.com/spreadsheets/d/1Kptv1Yhe55NnKrQfatjnFhSoEKdPJ_02VtssK9GkJPk/edit#gid=0\"\",\"\"RWA!F:BZ\"\"),44,0))\"),\"\")","v":""},{"$f":"IFERROR(__xludf.DUMMYFUNCTION(\"iferror(VLOOKUP(B616,IMPORTRANGE(\"\"https://docs.google.com/spreadsheets/d/1Kptv1Yhe55NnKrQfatjnFhSoEKdPJ_02VtssK9GkJPk/edit#gid=0\"\",\"\"RWA!F:BZ\"\"),48,0))\"),\"\")","v":""}]
[null,null,null,{"$f":"IFERROR(__xludf.DUMMYFUNCTION(\"iferror(VLOOKUP(B617,IMPORTRANGE(\"\"https://docs.google.com/spreadsheets/d/1Kptv1Yhe55NnKrQfatjnFhSoEKdPJ_02VtssK9GkJPk/edit#gid=0\"\",\"\"RWA!F:BZ\"\"),44,0))\"),\"\")","v":""},{"$f":"IFERROR(__xludf.DUMMYFUNCTION(\"iferror(VLOOKUP(B617,IMPORTRANGE(\"\"https://docs.google.com/spreadsheets/d/1Kptv1Yhe55NnKrQfatjnFhSoEKdPJ_02VtssK9GkJPk/edit#gid=0\"\",\"\"RWA!F:BZ\"\"),48,0))\"),\"\")","v":""}]
[null,null,null,{"$f":"IFERROR(__xludf.DUMMYFUNCTION(\"iferror(VLOOKUP(B618,IMPORTRANGE(\"\"https://docs.google.com/spreadsheets/d/1Kptv1Yhe55NnKrQfatjnFhSoEKdPJ_02VtssK9GkJPk/edit#gid=0\"\",\"\"RWA!F:BZ\"\"),44,0))\"),\"\")","v":""},{"$f":"IFERROR(__xludf.DUMMYFUNCTION(\"iferror(VLOOKUP(B618,IMPORTRANGE(\"\"https://docs.google.com/spreadsheets/d/1Kptv1Yhe55NnKrQfatjnFhSoEKdPJ_02VtssK9GkJPk/edit#gid=0\"\",\"\"RWA!F:BZ\"\"),48,0))\"),\"\")","v":""}]
[null,null,null,{"$f":"IFERROR(__xludf.DUMMYFUNCTION(\"iferror(VLOOKUP(B619,IMPORTRANGE(\"\"https://docs.google.com/spreadsheets/d/1Kptv1Yhe55NnKrQfatjnFhSoEKdPJ_02VtssK9GkJPk/edit#gid=0\"\",\"\"RWA!F:BZ\"\"),44,0))\"),\"\")","v":""},{"$f":"IFERROR(__xludf.DUMMYFUNCTION(\"iferror(VLOOKUP(B619,IMPORTRANGE(\"\"https://docs.google.com/spreadsheets/d/1Kptv1Yhe55NnKrQfatjnFhSoEKdPJ_02VtssK9GkJPk/edit#gid=0\"\",\"\"RWA!F:BZ\"\"),48,0))\"),\"\")","v":""}]
[null,null,null,{"$f":"IFERROR(__xludf.DUMMYFUNCTION(\"iferror(VLOOKUP(B620,IMPORTRANGE(\"\"https://docs.google.com/spreadsheets/d/1Kptv1Yhe55NnKrQfatjnFhSoEKdPJ_02VtssK9GkJPk/edit#gid=0\"\",\"\"RWA!F:BZ\"\"),44,0))\"),\"\")","v":""},{"$f":"IFERROR(__xludf.DUMMYFUNCTION(\"iferror(VLOOKUP(B620,IMPORTRANGE(\"\"https://docs.google.com/spreadsheets/d/1Kptv1Yhe55NnKrQfatjnFhSoEKdPJ_02VtssK9GkJPk/edit#gid=0\"\",\"\"RWA!F:BZ\"\"),48,0))\"),\"\")","v":""}]
[null,null,null,{"$f":"IFERROR(__xludf.DUMMYFUNCTION(\"iferror(VLOOKUP(B621,IMPORTRANGE(\"\"https://docs.google.com/spreadsheets/d/1Kptv1Yhe55NnKrQfatjnFhSoEKdPJ_02VtssK9GkJPk/edit#gid=0\"\",\"\"RWA!F:BZ\"\"),44,0))\"),\"\")","v":""},{"$f":"IFERROR(__xludf.DUMMYFUNCTION(\"iferror(VLOOKUP(B621,IMPORTRANGE(\"\"https://docs.google.com/spreadsheets/d/1Kptv1Yhe55NnKrQfatjnFhSoEKdPJ_02VtssK9GkJPk/edit#gid=0\"\",\"\"RWA!F:BZ\"\"),48,0))\"),\"\")","v":""}]
[null,null,null,{"$f":"IFERROR(__xludf.DUMMYFUNCTION(\"iferror(VLOOKUP(B622,IMPORTRANGE(\"\"https://docs.google.com/spreadsheets/d/1Kptv1Yhe55NnKrQfatjnFhSoEKdPJ_02VtssK9GkJPk/edit#gid=0\"\",\"\"RWA!F:BZ\"\"),44,0))\"),\"\")","v":""},{"$f":"IFERROR(__xludf.DUMMYFUNCTION(\"iferror(VLOOKUP(B622,IMPORTRANGE(\"\"https://docs.google.com/spreadsheets/d/1Kptv1Yhe55NnKrQfatjnFhSoEKdPJ_02VtssK9GkJPk/edit#gid=0\"\",\"\"RWA!F:BZ\"\"),48,0))\"),\"\")","v":""}]
[null,null,null,{"$f":"IFERROR(__xludf.DUMMYFUNCTION(\"iferror(VLOOKUP(B623,IMPORTRANGE(\"\"https://docs.google.com/spreadsheets/d/1Kptv1Yhe55NnKrQfatjnFhSoEKdPJ_02VtssK9GkJPk/edit#gid=0\"\",\"\"RWA!F:BZ\"\"),44,0))\"),\"\")","v":""},{"$f":"IFERROR(__xludf.DUMMYFUNCTION(\"iferror(VLOOKUP(B623,IMPORTRANGE(\"\"https://docs.google.com/spreadsheets/d/1Kptv1Yhe55NnKrQfatjnFhSoEKdPJ_02VtssK9GkJPk/edit#gid=0\"\",\"\"RWA!F:BZ\"\"),48,0))\"),\"\")","v":""}]
[null,null,null,{"$f":"IFERROR(__xludf.DUMMYFUNCTION(\"iferror(VLOOKUP(B624,IMPORTRANGE(\"\"https://docs.google.com/spreadsheets/d/1Kptv1Yhe55NnKrQfatjnFhSoEKdPJ_02VtssK9GkJPk/edit#gid=0\"\",\"\"RWA!F:BZ\"\"),44,0))\"),\"\")","v":""},{"$f":"IFERROR(__xludf.DUMMYFUNCTION(\"iferror(VLOOKUP(B624,IMPORTRANGE(\"\"https://docs.google.com/spreadsheets/d/1Kptv1Yhe55NnKrQfatjnFhSoEKdPJ_02VtssK9GkJPk/edit#gid=0\"\",\"\"RWA!F:BZ\"\"),48,0))\"),\"\")","v":""}]
[null,null,null,{"$f":"IFERROR(__xludf.DUMMYFUNCTION(\"iferror(VLOOKUP(B625,IMPORTRANGE(\"\"https://docs.google.com/spreadsheets/d/1Kptv1Yhe55NnKrQfatjnFhSoEKdPJ_02VtssK9GkJPk/edit#gid=0\"\",\"\"RWA!F:BZ\"\"),44,0))\"),\"\")","v":""},{"$f":"IFERROR(__xludf.DUMMYFUNCTION(\"iferror(VLOOKUP(B625,IMPORTRANGE(\"\"https://docs.google.com/spreadsheets/d/1Kptv1Yhe55NnKrQfatjnFhSoEKdPJ_02VtssK9GkJPk/edit#gid=0\"\",\"\"RWA!F:BZ\"\"),48,0))\"),\"\")","v":""}]
[null,null,null,{"$f":"IFERROR(__xludf.DUMMYFUNCTION(\"iferror(VLOOKUP(B626,IMPORTRANGE(\"\"https://docs.google.com/spreadsheets/d/1Kptv1Yhe55NnKrQfatjnFhSoEKdPJ_02VtssK9GkJPk/edit#gid=0\"\",\"\"RWA!F:BZ\"\"),44,0))\"),\"\")","v":""},{"$f":"IFERROR(__xludf.DUMMYFUNCTION(\"iferror(VLOOKUP(B626,IMPORTRANGE(\"\"https://docs.google.com/spreadsheets/d/1Kptv1Yhe55NnKrQfatjnFhSoEKdPJ_02VtssK9GkJPk/edit#gid=0\"\",\"\"RWA!F:BZ\"\"),48,0))\"),\"\")","v":""}]
[null,null,null,{"$f":"IFERROR(__xludf.DUMMYFUNCTION(\"iferror(VLOOKUP(B627,IMPORTRANGE(\"\"https://docs.google.com/spreadsheets/d/1Kptv1Yhe55NnKrQfatjnFhSoEKdPJ_02VtssK9GkJPk/edit#gid=0\"\",\"\"RWA!F:BZ\"\"),44,0))\"),\"\")","v":""},{"$f":"IFERROR(__xludf.DUMMYFUNCTION(\"iferror(VLOOKUP(B627,IMPORTRANGE(\"\"https://docs.google.com/spreadsheets/d/1Kptv1Yhe55NnKrQfatjnFhSoEKdPJ_02VtssK9GkJPk/edit#gid=0\"\",\"\"RWA!F:BZ\"\"),48,0))\"),\"\")","v":""}]
[null,null,null,{"$f":"IFERROR(__xludf.DUMMYFUNCTION(\"iferror(VLOOKUP(B628,IMPORTRANGE(\"\"https://docs.google.com/spreadsheets/d/1Kptv1Yhe55NnKrQfatjnFhSoEKdPJ_02VtssK9GkJPk/edit#gid=0\"\",\"\"RWA!F:BZ\"\"),44,0))\"),\"\")","v":""},{"$f":"IFERROR(__xludf.DUMMYFUNCTION(\"iferror(VLOOKUP(B628,IMPORTRANGE(\"\"https://docs.google.com/spreadsheets/d/1Kptv1Yhe55NnKrQfatjnFhSoEKdPJ_02VtssK9GkJPk/edit#gid=0\"\",\"\"RWA!F:BZ\"\"),48,0))\"),\"\")","v":""}]
[null,null,null,{"$f":"IFERROR(__xludf.DUMMYFUNCTION(\"iferror(VLOOKUP(B629,IMPORTRANGE(\"\"https://docs.google.com/spreadsheets/d/1Kptv1Yhe55NnKrQfatjnFhSoEKdPJ_02VtssK9GkJPk/edit#gid=0\"\",\"\"RWA!F:BZ\"\"),44,0))\"),\"\")","v":""},{"$f":"IFERROR(__xludf.DUMMYFUNCTION(\"iferror(VLOOKUP(B629,IMPORTRANGE(\"\"https://docs.google.com/spreadsheets/d/1Kptv1Yhe55NnKrQfatjnFhSoEKdPJ_02VtssK9GkJPk/edit#gid=0\"\",\"\"RWA!F:BZ\"\"),48,0))\"),\"\")","v":""}]
[null,null,null,{"$f":"IFERROR(__xludf.DUMMYFUNCTION(\"iferror(VLOOKUP(B630,IMPORTRANGE(\"\"https://docs.google.com/spreadsheets/d/1Kptv1Yhe55NnKrQfatjnFhSoEKdPJ_02VtssK9GkJPk/edit#gid=0\"\",\"\"RWA!F:BZ\"\"),44,0))\"),\"\")","v":""},{"$f":"IFERROR(__xludf.DUMMYFUNCTION(\"iferror(VLOOKUP(B630,IMPORTRANGE(\"\"https://docs.google.com/spreadsheets/d/1Kptv1Yhe55NnKrQfatjnFhSoEKdPJ_02VtssK9GkJPk/edit#gid=0\"\",\"\"RWA!F:BZ\"\"),48,0))\"),\"\")","v":""}]
[null,null,null,{"$f":"IFERROR(__xludf.DUMMYFUNCTION(\"iferror(VLOOKUP(B631,IMPORTRANGE(\"\"https://docs.google.com/spreadsheets/d/1Kptv1Yhe55NnKrQfatjnFhSoEKdPJ_02VtssK9GkJPk/edit#gid=0\"\",\"\"RWA!F:BZ\"\"),44,0))\"),\"\")","v":""},{"$f":"IFERROR(__xludf.DUMMYFUNCTION(\"iferror(VLOOKUP(B631,IMPORTRANGE(\"\"https://docs.google.com/spreadsheets/d/1Kptv1Yhe55NnKrQfatjnFhSoEKdPJ_02VtssK9GkJPk/edit#gid=0\"\",\"\"RWA!F:BZ\"\"),48,0))\"),\"\")","v":""}]
[null,null,null,{"$f":"IFERROR(__xludf.DUMMYFUNCTION(\"iferror(VLOOKUP(B632,IMPORTRANGE(\"\"https://docs.google.com/spreadsheets/d/1Kptv1Yhe55NnKrQfatjnFhSoEKdPJ_02VtssK9GkJPk/edit#gid=0\"\",\"\"RWA!F:BZ\"\"),44,0))\"),\"\")","v":""},{"$f":"IFERROR(__xludf.DUMMYFUNCTION(\"iferror(VLOOKUP(B632,IMPORTRANGE(\"\"https://docs.google.com/spreadsheets/d/1Kptv1Yhe55NnKrQfatjnFhSoEKdPJ_02VtssK9GkJPk/edit#gid=0\"\",\"\"RWA!F:BZ\"\"),48,0))\"),\"\")","v":""}]
[null,null,null,{"$f":"IFERROR(__xludf.DUMMYFUNCTION(\"iferror(VLOOKUP(B633,IMPORTRANGE(\"\"https://docs.google.com/spreadsheets/d/1Kptv1Yhe55NnKrQfatjnFhSoEKdPJ_02VtssK9GkJPk/edit#gid=0\"\",\"\"RWA!F:BZ\"\"),44,0))\"),\"\")","v":""},{"$f":"IFERROR(__xludf.DUMMYFUNCTION(\"iferror(VLOOKUP(B633,IMPORTRANGE(\"\"https://docs.google.com/spreadsheets/d/1Kptv1Yhe55NnKrQfatjnFhSoEKdPJ_02VtssK9GkJPk/edit#gid=0\"\",\"\"RWA!F:BZ\"\"),48,0))\"),\"\")","v":""}]
[null,null,null,{"$f":"IFERROR(__xludf.DUMMYFUNCTION(\"iferror(VLOOKUP(B634,IMPORTRANGE(\"\"https://docs.google.com/spreadsheets/d/1Kptv1Yhe55NnKrQfatjnFhSoEKdPJ_02VtssK9GkJPk/edit#gid=0\"\",\"\"RWA!F:BZ\"\"),44,0))\"),\"\")","v":""},{"$f":"IFERROR(__xludf.DUMMYFUNCTION(\"iferror(VLOOKUP(B634,IMPORTRANGE(\"\"https://docs.google.com/spreadsheets/d/1Kptv1Yhe55NnKrQfatjnFhSoEKdPJ_02VtssK9GkJPk/edit#gid=0\"\",\"\"RWA!F:BZ\"\"),48,0))\"),\"\")","v":""}]
[null,null,null,{"$f":"IFERROR(__xludf.DUMMYFUNCTION(\"iferror(VLOOKUP(B635,IMPORTRANGE(\"\"https://docs.google.com/spreadsheets/d/1Kptv1Yhe55NnKrQfatjnFhSoEKdPJ_02VtssK9GkJPk/edit#gid=0\"\",\"\"RWA!F:BZ\"\"),44,0))\"),\"\")","v":""},{"$f":"IFERROR(__xludf.DUMMYFUNCTION(\"iferror(VLOOKUP(B635,IMPORTRANGE(\"\"https://docs.google.com/spreadsheets/d/1Kptv1Yhe55NnKrQfatjnFhSoEKdPJ_02VtssK9GkJPk/edit#gid=0\"\",\"\"RWA!F:BZ\"\"),48,0))\"),\"\")","v":""}]
[null,null,null,{"$f":"IFERROR(__xludf.DUMMYFUNCTION(\"iferror(VLOOKUP(B636,IMPORTRANGE(\"\"https://docs.google.com/spreadsheets/d/1Kptv1Yhe55NnKrQfatjnFhSoEKdPJ_02VtssK9GkJPk/edit#gid=0\"\",\"\"RWA!F:BZ\"\"),44,0))\"),\"\")","v":""},{"$f":"IFERROR(__xludf.DUMMYFUNCTION(\"iferror(VLOOKUP(B636,IMPORTRANGE(\"\"https://docs.google.com/spreadsheets/d/1Kptv1Yhe55NnKrQfatjnFhSoEKdPJ_02VtssK9GkJPk/edit#gid=0\"\",\"\"RWA!F:BZ\"\"),48,0))\"),\"\")","v":""}]
[null,null,null,{"$f":"IFERROR(__xludf.DUMMYFUNCTION(\"iferror(VLOOKUP(B637,IMPORTRANGE(\"\"https://docs.google.com/spreadsheets/d/1Kptv1Yhe55NnKrQfatjnFhSoEKdPJ_02VtssK9GkJPk/edit#gid=0\"\",\"\"RWA!F:BZ\"\"),44,0))\"),\"\")","v":""},{"$f":"IFERROR(__xludf.DUMMYFUNCTION(\"iferror(VLOOKUP(B637,IMPORTRANGE(\"\"https://docs.google.com/spreadsheets/d/1Kptv1Yhe55NnKrQfatjnFhSoEKdPJ_02VtssK9GkJPk/edit#gid=0\"\",\"\"RWA!F:BZ\"\"),48,0))\"),\"\")","v":""}]
[null,null,null,{"$f":"IFERROR(__xludf.DUMMYFUNCTION(\"iferror(VLOOKUP(B638,IMPORTRANGE(\"\"https://docs.google.com/spreadsheets/d/1Kptv1Yhe55NnKrQfatjnFhSoEKdPJ_02VtssK9GkJPk/edit#gid=0\"\",\"\"RWA!F:BZ\"\"),44,0))\"),\"\")","v":""},{"$f":"IFERROR(__xludf.DUMMYFUNCTION(\"iferror(VLOOKUP(B638,IMPORTRANGE(\"\"https://docs.google.com/spreadsheets/d/1Kptv1Yhe55NnKrQfatjnFhSoEKdPJ_02VtssK9GkJPk/edit#gid=0\"\",\"\"RWA!F:BZ\"\"),48,0))\"),\"\")","v":""}]
[null,null,null,{"$f":"IFERROR(__xludf.DUMMYFUNCTION(\"iferror(VLOOKUP(B639,IMPORTRANGE(\"\"https://docs.google.com/spreadsheets/d/1Kptv1Yhe55NnKrQfatjnFhSoEKdPJ_02VtssK9GkJPk/edit#gid=0\"\",\"\"RWA!F:BZ\"\"),44,0))\"),\"\")","v":""},{"$f":"IFERROR(__xludf.DUMMYFUNCTION(\"iferror(VLOOKUP(B639,IMPORTRANGE(\"\"https://docs.google.com/spreadsheets/d/1Kptv1Yhe55NnKrQfatjnFhSoEKdPJ_02VtssK9GkJPk/edit#gid=0\"\",\"\"RWA!F:BZ\"\"),48,0))\"),\"\")","v":""}]
[null,null,null,{"$f":"IFERROR(__xludf.DUMMYFUNCTION(\"iferror(VLOOKUP(B640,IMPORTRANGE(\"\"https://docs.google.com/spreadsheets/d/1Kptv1Yhe55NnKrQfatjnFhSoEKdPJ_02VtssK9GkJPk/edit#gid=0\"\",\"\"RWA!F:BZ\"\"),44,0))\"),\"\")","v":""},{"$f":"IFERROR(__xludf.DUMMYFUNCTION(\"iferror(VLOOKUP(B640,IMPORTRANGE(\"\"https://docs.google.com/spreadsheets/d/1Kptv1Yhe55NnKrQfatjnFhSoEKdPJ_02VtssK9GkJPk/edit#gid=0\"\",\"\"RWA!F:BZ\"\"),48,0))\"),\"\")","v":""}]
[null,null,null,{"$f":"IFERROR(__xludf.DUMMYFUNCTION(\"iferror(VLOOKUP(B641,IMPORTRANGE(\"\"https://docs.google.com/spreadsheets/d/1Kptv1Yhe55NnKrQfatjnFhSoEKdPJ_02VtssK9GkJPk/edit#gid=0\"\",\"\"RWA!F:BZ\"\"),44,0))\"),\"\")","v":""},{"$f":"IFERROR(__xludf.DUMMYFUNCTION(\"iferror(VLOOKUP(B641,IMPORTRANGE(\"\"https://docs.google.com/spreadsheets/d/1Kptv1Yhe55NnKrQfatjnFhSoEKdPJ_02VtssK9GkJPk/edit#gid=0\"\",\"\"RWA!F:BZ\"\"),48,0))\"),\"\")","v":""}]
[null,null,null,{"$f":"IFERROR(__xludf.DUMMYFUNCTION(\"iferror(VLOOKUP(B642,IMPORTRANGE(\"\"https://docs.google.com/spreadsheets/d/1Kptv1Yhe55NnKrQfatjnFhSoEKdPJ_02VtssK9GkJPk/edit#gid=0\"\",\"\"RWA!F:BZ\"\"),44,0))\"),\"\")","v":""},{"$f":"IFERROR(__xludf.DUMMYFUNCTION(\"iferror(VLOOKUP(B642,IMPORTRANGE(\"\"https://docs.google.com/spreadsheets/d/1Kptv1Yhe55NnKrQfatjnFhSoEKdPJ_02VtssK9GkJPk/edit#gid=0\"\",\"\"RWA!F:BZ\"\"),48,0))\"),\"\")","v":""}]
[null,null,null,{"$f":"IFERROR(__xludf.DUMMYFUNCTION(\"iferror(VLOOKUP(B643,IMPORTRANGE(\"\"https://docs.google.com/spreadsheets/d/1Kptv1Yhe55NnKrQfatjnFhSoEKdPJ_02VtssK9GkJPk/edit#gid=0\"\",\"\"RWA!F:BZ\"\"),44,0))\"),\"\")","v":""},{"$f":"IFERROR(__xludf.DUMMYFUNCTION(\"iferror(VLOOKUP(B643,IMPORTRANGE(\"\"https://docs.google.com/spreadsheets/d/1Kptv1Yhe55NnKrQfatjnFhSoEKdPJ_02VtssK9GkJPk/edit#gid=0\"\",\"\"RWA!F:BZ\"\"),48,0))\"),\"\")","v":""}]
[null,null,null,{"$f":"IFERROR(__xludf.DUMMYFUNCTION(\"iferror(VLOOKUP(B644,IMPORTRANGE(\"\"https://docs.google.com/spreadsheets/d/1Kptv1Yhe55NnKrQfatjnFhSoEKdPJ_02VtssK9GkJPk/edit#gid=0\"\",\"\"RWA!F:BZ\"\"),44,0))\"),\"\")","v":""},{"$f":"IFERROR(__xludf.DUMMYFUNCTION(\"iferror(VLOOKUP(B644,IMPORTRANGE(\"\"https://docs.google.com/spreadsheets/d/1Kptv1Yhe55NnKrQfatjnFhSoEKdPJ_02VtssK9GkJPk/edit#gid=0\"\",\"\"RWA!F:BZ\"\"),48,0))\"),\"\")","v":""}]
[null,null,null,{"$f":"IFERROR(__xludf.DUMMYFUNCTION(\"iferror(VLOOKUP(B645,IMPORTRANGE(\"\"https://docs.google.com/spreadsheets/d/1Kptv1Yhe55NnKrQfatjnFhSoEKdPJ_02VtssK9GkJPk/edit#gid=0\"\",\"\"RWA!F:BZ\"\"),44,0))\"),\"\")","v":""},{"$f":"IFERROR(__xludf.DUMMYFUNCTION(\"iferror(VLOOKUP(B645,IMPORTRANGE(\"\"https://docs.google.com/spreadsheets/d/1Kptv1Yhe55NnKrQfatjnFhSoEKdPJ_02VtssK9GkJPk/edit#gid=0\"\",\"\"RWA!F:BZ\"\"),48,0))\"),\"\")","v":""}]
[null,null,null,{"$f":"IFERROR(__xludf.DUMMYFUNCTION(\"iferror(VLOOKUP(B646,IMPORTRANGE(\"\"https://docs.google.com/spreadsheets/d/1Kptv1Yhe55NnKrQfatjnFhSoEKdPJ_02VtssK9GkJPk/edit#gid=0\"\",\"\"RWA!F:BZ\"\"),44,0))\"),\"\")","v":""},{"$f":"IFERROR(__xludf.DUMMYFUNCTION(\"iferror(VLOOKUP(B646,IMPORTRANGE(\"\"https://docs.google.com/spreadsheets/d/1Kptv1Yhe55NnKrQfatjnFhSoEKdPJ_02VtssK9GkJPk/edit#gid=0\"\",\"\"RWA!F:BZ\"\"),48,0))\"),\"\")","v":""}]
[null,null,null,{"$f":"IFERROR(__xludf.DUMMYFUNCTION(\"iferror(VLOOKUP(B647,IMPORTRANGE(\"\"https://docs.google.com/spreadsheets/d/1Kptv1Yhe55NnKrQfatjnFhSoEKdPJ_02VtssK9GkJPk/edit#gid=0\"\",\"\"RWA!F:BZ\"\"),44,0))\"),\"\")","v":""},{"$f":"IFERROR(__xludf.DUMMYFUNCTION(\"iferror(VLOOKUP(B647,IMPORTRANGE(\"\"https://docs.google.com/spreadsheets/d/1Kptv1Yhe55NnKrQfatjnFhSoEKdPJ_02VtssK9GkJPk/edit#gid=0\"\",\"\"RWA!F:BZ\"\"),48,0))\"),\"\")","v":""}]
[null,null,null,{"$f":"IFERROR(__xludf.DUMMYFUNCTION(\"iferror(VLOOKUP(B648,IMPORTRANGE(\"\"https://docs.google.com/spreadsheets/d/1Kptv1Yhe55NnKrQfatjnFhSoEKdPJ_02VtssK9GkJPk/edit#gid=0\"\",\"\"RWA!F:BZ\"\"),44,0))\"),\"\")","v":""},{"$f":"IFERROR(__xludf.DUMMYFUNCTION(\"iferror(VLOOKUP(B648,IMPORTRANGE(\"\"https://docs.google.com/spreadsheets/d/1Kptv1Yhe55NnKrQfatjnFhSoEKdPJ_02VtssK9GkJPk/edit#gid=0\"\",\"\"RWA!F:BZ\"\"),48,0))\"),\"\")","v":""}]
[null,null,null,{"$f":"IFERROR(__xludf.DUMMYFUNCTION(\"iferror(VLOOKUP(B649,IMPORTRANGE(\"\"https://docs.google.com/spreadsheets/d/1Kptv1Yhe55NnKrQfatjnFhSoEKdPJ_02VtssK9GkJPk/edit#gid=0\"\",\"\"RWA!F:BZ\"\"),44,0))\"),\"\")","v":""},{"$f":"IFERROR(__xludf.DUMMYFUNCTION(\"iferror(VLOOKUP(B649,IMPORTRANGE(\"\"https://docs.google.com/spreadsheets/d/1Kptv1Yhe55NnKrQfatjnFhSoEKdPJ_02VtssK9GkJPk/edit#gid=0\"\",\"\"RWA!F:BZ\"\"),48,0))\"),\"\")","v":""}]
[null,null,null,{"$f":"IFERROR(__xludf.DUMMYFUNCTION(\"iferror(VLOOKUP(B650,IMPORTRANGE(\"\"https://docs.google.com/spreadsheets/d/1Kptv1Yhe55NnKrQfatjnFhSoEKdPJ_02VtssK9GkJPk/edit#gid=0\"\",\"\"RWA!F:BZ\"\"),44,0))\"),\"\")","v":""},{"$f":"IFERROR(__xludf.DUMMYFUNCTION(\"iferror(VLOOKUP(B650,IMPORTRANGE(\"\"https://docs.google.com/spreadsheets/d/1Kptv1Yhe55NnKrQfatjnFhSoEKdPJ_02VtssK9GkJPk/edit#gid=0\"\",\"\"RWA!F:BZ\"\"),48,0))\"),\"\")","v":""}]
[null,null,null,{"$f":"IFERROR(__xludf.DUMMYFUNCTION(\"iferror(VLOOKUP(B651,IMPORTRANGE(\"\"https://docs.google.com/spreadsheets/d/1Kptv1Yhe55NnKrQfatjnFhSoEKdPJ_02VtssK9GkJPk/edit#gid=0\"\",\"\"RWA!F:BZ\"\"),44,0))\"),\"\")","v":""},{"$f":"IFERROR(__xludf.DUMMYFUNCTION(\"iferror(VLOOKUP(B651,IMPORTRANGE(\"\"https://docs.google.com/spreadsheets/d/1Kptv1Yhe55NnKrQfatjnFhSoEKdPJ_02VtssK9GkJPk/edit#gid=0\"\",\"\"RWA!F:BZ\"\"),48,0))\"),\"\")","v":""}]
[null,null,null,{"$f":"IFERROR(__xludf.DUMMYFUNCTION(\"iferror(VLOOKUP(B652,IMPORTRANGE(\"\"https://docs.google.com/spreadsheets/d/1Kptv1Yhe55NnKrQfatjnFhSoEKdPJ_02VtssK9GkJPk/edit#gid=0\"\",\"\"RWA!F:BZ\"\"),44,0))\"),\"\")","v":""},{"$f":"IFERROR(__xludf.DUMMYFUNCTION(\"iferror(VLOOKUP(B652,IMPORTRANGE(\"\"https://docs.google.com/spreadsheets/d/1Kptv1Yhe55NnKrQfatjnFhSoEKdPJ_02VtssK9GkJPk/edit#gid=0\"\",\"\"RWA!F:BZ\"\"),48,0))\"),\"\")","v":""}]
[null,null,null,{"$f":"IFERROR(__xludf.DUMMYFUNCTION(\"iferror(VLOOKUP(B653,IMPORTRANGE(\"\"https://docs.google.com/spreadsheets/d/1Kptv1Yhe55NnKrQfatjnFhSoEKdPJ_02VtssK9GkJPk/edit#gid=0\"\",\"\"RWA!F:BZ\"\"),44,0))\"),\"\")","v":""},{"$f":"IFERROR(__xludf.DUMMYFUNCTION(\"iferror(VLOOKUP(B653,IMPORTRANGE(\"\"https://docs.google.com/spreadsheets/d/1Kptv1Yhe55NnKrQfatjnFhSoEKdPJ_02VtssK9GkJPk/edit#gid=0\"\",\"\"RWA!F:BZ\"\"),48,0))\"),\"\")","v":""}]
[null,null,null,{"$f":"IFERROR(__xludf.DUMMYFUNCTION(\"iferror(VLOOKUP(B654,IMPORTRANGE(\"\"https://docs.google.com/spreadsheets/d/1Kptv1Yhe55NnKrQfatjnFhSoEKdPJ_02VtssK9GkJPk/edit#gid=0\"\",\"\"RWA!F:BZ\"\"),44,0))\"),\"\")","v":""},{"$f":"IFERROR(__xludf.DUMMYFUNCTION(\"iferror(VLOOKUP(B654,IMPORTRANGE(\"\"https://docs.google.com/spreadsheets/d/1Kptv1Yhe55NnKrQfatjnFhSoEKdPJ_02VtssK9GkJPk/edit#gid=0\"\",\"\"RWA!F:BZ\"\"),48,0))\"),\"\")","v":""}]
[null,null,null,{"$f":"IFERROR(__xludf.DUMMYFUNCTION(\"iferror(VLOOKUP(B655,IMPORTRANGE(\"\"https://docs.google.com/spreadsheets/d/1Kptv1Yhe55NnKrQfatjnFhSoEKdPJ_02VtssK9GkJPk/edit#gid=0\"\",\"\"RWA!F:BZ\"\"),44,0))\"),\"\")","v":""},{"$f":"IFERROR(__xludf.DUMMYFUNCTION(\"iferror(VLOOKUP(B655,IMPORTRANGE(\"\"https://docs.google.com/spreadsheets/d/1Kptv1Yhe55NnKrQfatjnFhSoEKdPJ_02VtssK9GkJPk/edit#gid=0\"\",\"\"RWA!F:BZ\"\"),48,0))\"),\"\")","v":""}]
[null,null,null,{"$f":"IFERROR(__xludf.DUMMYFUNCTION(\"iferror(VLOOKUP(B656,IMPORTRANGE(\"\"https://docs.google.com/spreadsheets/d/1Kptv1Yhe55NnKrQfatjnFhSoEKdPJ_02VtssK9GkJPk/edit#gid=0\"\",\"\"RWA!F:BZ\"\"),44,0))\"),\"\")","v":""},{"$f":"IFERROR(__xludf.DUMMYFUNCTION(\"iferror(VLOOKUP(B656,IMPORTRANGE(\"\"https://docs.google.com/spreadsheets/d/1Kptv1Yhe55NnKrQfatjnFhSoEKdPJ_02VtssK9GkJPk/edit#gid=0\"\",\"\"RWA!F:BZ\"\"),48,0))\"),\"\")","v":""}]
[null,null,null,{"$f":"IFERROR(__xludf.DUMMYFUNCTION(\"iferror(VLOOKUP(B657,IMPORTRANGE(\"\"https://docs.google.com/spreadsheets/d/1Kptv1Yhe55NnKrQfatjnFhSoEKdPJ_02VtssK9GkJPk/edit#gid=0\"\",\"\"RWA!F:BZ\"\"),44,0))\"),\"\")","v":""},{"$f":"IFERROR(__xludf.DUMMYFUNCTION(\"iferror(VLOOKUP(B657,IMPORTRANGE(\"\"https://docs.google.com/spreadsheets/d/1Kptv1Yhe55NnKrQfatjnFhSoEKdPJ_02VtssK9GkJPk/edit#gid=0\"\",\"\"RWA!F:BZ\"\"),48,0))\"),\"\")","v":""}]
[null,null,null,{"$f":"IFERROR(__xludf.DUMMYFUNCTION(\"iferror(VLOOKUP(B658,IMPORTRANGE(\"\"https://docs.google.com/spreadsheets/d/1Kptv1Yhe55NnKrQfatjnFhSoEKdPJ_02VtssK9GkJPk/edit#gid=0\"\",\"\"RWA!F:BZ\"\"),44,0))\"),\"\")","v":""},{"$f":"IFERROR(__xludf.DUMMYFUNCTION(\"iferror(VLOOKUP(B658,IMPORTRANGE(\"\"https://docs.google.com/spreadsheets/d/1Kptv1Yhe55NnKrQfatjnFhSoEKdPJ_02VtssK9GkJPk/edit#gid=0\"\",\"\"RWA!F:BZ\"\"),48,0))\"),\"\")","v":""}]
[null,null,null,{"$f":"IFERROR(__xludf.DUMMYFUNCTION(\"iferror(VLOOKUP(B659,IMPORTRANGE(\"\"https://docs.google.com/spreadsheets/d/1Kptv1Yhe55NnKrQfatjnFhSoEKdPJ_02VtssK9GkJPk/edit#gid=0\"\",\"\"RWA!F:BZ\"\"),44,0))\"),\"\")","v":""},{"$f":"IFERROR(__xludf.DUMMYFUNCTION(\"iferror(VLOOKUP(B659,IMPORTRANGE(\"\"https://docs.google.com/spreadsheets/d/1Kptv1Yhe55NnKrQfatjnFhSoEKdPJ_02VtssK9GkJPk/edit#gid=0\"\",\"\"RWA!F:BZ\"\"),48,0))\"),\"\")","v":""}]
[null,null,null,{"$f":"IFERROR(__xludf.DUMMYFUNCTION(\"iferror(VLOOKUP(B660,IMPORTRANGE(\"\"https://docs.google.com/spreadsheets/d/1Kptv1Yhe55NnKrQfatjnFhSoEKdPJ_02VtssK9GkJPk/edit#gid=0\"\",\"\"RWA!F:BZ\"\"),44,0))\"),\"\")","v":""},{"$f":"IFERROR(__xludf.DUMMYFUNCTION(\"iferror(VLOOKUP(B660,IMPORTRANGE(\"\"https://docs.google.com/spreadsheets/d/1Kptv1Yhe55NnKrQfatjnFhSoEKdPJ_02VtssK9GkJPk/edit#gid=0\"\",\"\"RWA!F:BZ\"\"),48,0))\"),\"\")","v":""}]
[null,null,null,{"$f":"IFERROR(__xludf.DUMMYFUNCTION(\"iferror(VLOOKUP(B661,IMPORTRANGE(\"\"https://docs.google.com/spreadsheets/d/1Kptv1Yhe55NnKrQfatjnFhSoEKdPJ_02VtssK9GkJPk/edit#gid=0\"\",\"\"RWA!F:BZ\"\"),44,0))\"),\"\")","v":""},{"$f":"IFERROR(__xludf.DUMMYFUNCTION(\"iferror(VLOOKUP(B661,IMPORTRANGE(\"\"https://docs.google.com/spreadsheets/d/1Kptv1Yhe55NnKrQfatjnFhSoEKdPJ_02VtssK9GkJPk/edit#gid=0\"\",\"\"RWA!F:BZ\"\"),48,0))\"),\"\")","v":""}]
[null,null,null,{"$f":"IFERROR(__xludf.DUMMYFUNCTION(\"iferror(VLOOKUP(B662,IMPORTRANGE(\"\"https://docs.google.com/spreadsheets/d/1Kptv1Yhe55NnKrQfatjnFhSoEKdPJ_02VtssK9GkJPk/edit#gid=0\"\",\"\"RWA!F:BZ\"\"),44,0))\"),\"\")","v":""},{"$f":"IFERROR(__xludf.DUMMYFUNCTION(\"iferror(VLOOKUP(B662,IMPORTRANGE(\"\"https://docs.google.com/spreadsheets/d/1Kptv1Yhe55NnKrQfatjnFhSoEKdPJ_02VtssK9GkJPk/edit#gid=0\"\",\"\"RWA!F:BZ\"\"),48,0))\"),\"\")","v":""}]
[null,null,null,{"$f":"IFERROR(__xludf.DUMMYFUNCTION(\"iferror(VLOOKUP(B663,IMPORTRANGE(\"\"https://docs.google.com/spreadsheets/d/1Kptv1Yhe55NnKrQfatjnFhSoEKdPJ_02VtssK9GkJPk/edit#gid=0\"\",\"\"RWA!F:BZ\"\"),44,0))\"),\"\")","v":""},{"$f":"IFERROR(__xludf.DUMMYFUNCTION(\"iferror(VLOOKUP(B663,IMPORTRANGE(\"\"https://docs.google.com/spreadsheets/d/1Kptv1Yhe55NnKrQfatjnFhSoEKdPJ_02VtssK9GkJPk/edit#gid=0\"\",\"\"RWA!F:BZ\"\"),48,0))\"),\"\")","v":""}]
[null,null,null,{"$f":"IFERROR(__xludf.DUMMYFUNCTION(\"iferror(VLOOKUP(B664,IMPORTRANGE(\"\"https://docs.google.com/spreadsheets/d/1Kptv1Yhe55NnKrQfatjnFhSoEKdPJ_02VtssK9GkJPk/edit#gid=0\"\",\"\"RWA!F:BZ\"\"),44,0))\"),\"\")","v":""},{"$f":"IFERROR(__xludf.DUMMYFUNCTION(\"iferror(VLOOKUP(B664,IMPORTRANGE(\"\"https://docs.google.com/spreadsheets/d/1Kptv1Yhe55NnKrQfatjnFhSoEKdPJ_02VtssK9GkJPk/edit#gid=0\"\",\"\"RWA!F:BZ\"\"),48,0))\"),\"\")","v":""}]
[null,null,null,{"$f":"IFERROR(__xludf.DUMMYFUNCTION(\"iferror(VLOOKUP(B665,IMPORTRANGE(\"\"https://docs.google.com/spreadsheets/d/1Kptv1Yhe55NnKrQfatjnFhSoEKdPJ_02VtssK9GkJPk/edit#gid=0\"\",\"\"RWA!F:BZ\"\"),44,0))\"),\"\")","v":""},{"$f":"IFERROR(__xludf.DUMMYFUNCTION(\"iferror(VLOOKUP(B665,IMPORTRANGE(\"\"https://docs.google.com/spreadsheets/d/1Kptv1Yhe55NnKrQfatjnFhSoEKdPJ_02VtssK9GkJPk/edit#gid=0\"\",\"\"RWA!F:BZ\"\"),48,0))\"),\"\")","v":""}]
[null,null,null,{"$f":"IFERROR(__xludf.DUMMYFUNCTION(\"iferror(VLOOKUP(B666,IMPORTRANGE(\"\"https://docs.google.com/spreadsheets/d/1Kptv1Yhe55NnKrQfatjnFhSoEKdPJ_02VtssK9GkJPk/edit#gid=0\"\",\"\"RWA!F:BZ\"\"),44,0))\"),\"\")","v":""},{"$f":"IFERROR(__xludf.DUMMYFUNCTION(\"iferror(VLOOKUP(B666,IMPORTRANGE(\"\"https://docs.google.com/spreadsheets/d/1Kptv1Yhe55NnKrQfatjnFhSoEKdPJ_02VtssK9GkJPk/edit#gid=0\"\",\"\"RWA!F:BZ\"\"),48,0))\"),\"\")","v":""}]
[null,null,null,{"$f":"IFERROR(__xludf.DUMMYFUNCTION(\"iferror(VLOOKUP(B667,IMPORTRANGE(\"\"https://docs.google.com/spreadsheets/d/1Kptv1Yhe55NnKrQfatjnFhSoEKdPJ_02VtssK9GkJPk/edit#gid=0\"\",\"\"RWA!F:BZ\"\"),44,0))\"),\"\")","v":""},{"$f":"IFERROR(__xludf.DUMMYFUNCTION(\"iferror(VLOOKUP(B667,IMPORTRANGE(\"\"https://docs.google.com/spreadsheets/d/1Kptv1Yhe55NnKrQfatjnFhSoEKdPJ_02VtssK9GkJPk/edit#gid=0\"\",\"\"RWA!F:BZ\"\"),48,0))\"),\"\")","v":""}]
[null,null,null,{"$f":"IFERROR(__xludf.DUMMYFUNCTION(\"iferror(VLOOKUP(B668,IMPORTRANGE(\"\"https://docs.google.com/spreadsheets/d/1Kptv1Yhe55NnKrQfatjnFhSoEKdPJ_02VtssK9GkJPk/edit#gid=0\"\",\"\"RWA!F:BZ\"\"),44,0))\"),\"\")","v":""},{"$f":"IFERROR(__xludf.DUMMYFUNCTION(\"iferror(VLOOKUP(B668,IMPORTRANGE(\"\"https://docs.google.com/spreadsheets/d/1Kptv1Yhe55NnKrQfatjnFhSoEKdPJ_02VtssK9GkJPk/edit#gid=0\"\",\"\"RWA!F:BZ\"\"),48,0))\"),\"\")","v":""}]
[null,null,null,{"$f":"IFERROR(__xludf.DUMMYFUNCTION(\"iferror(VLOOKUP(B669,IMPORTRANGE(\"\"https://docs.google.com/spreadsheets/d/1Kptv1Yhe55NnKrQfatjnFhSoEKdPJ_02VtssK9GkJPk/edit#gid=0\"\",\"\"RWA!F:BZ\"\"),44,0))\"),\"\")","v":""},{"$f":"IFERROR(__xludf.DUMMYFUNCTION(\"iferror(VLOOKUP(B669,IMPORTRANGE(\"\"https://docs.google.com/spreadsheets/d/1Kptv1Yhe55NnKrQfatjnFhSoEKdPJ_02VtssK9GkJPk/edit#gid=0\"\",\"\"RWA!F:BZ\"\"),48,0))\"),\"\")","v":""}]
[null,null,null,{"$f":"IFERROR(__xludf.DUMMYFUNCTION(\"iferror(VLOOKUP(B670,IMPORTRANGE(\"\"https://docs.google.com/spreadsheets/d/1Kptv1Yhe55NnKrQfatjnFhSoEKdPJ_02VtssK9GkJPk/edit#gid=0\"\",\"\"RWA!F:BZ\"\"),44,0))\"),\"\")","v":""},{"$f":"IFERROR(__xludf.DUMMYFUNCTION(\"iferror(VLOOKUP(B670,IMPORTRANGE(\"\"https://docs.google.com/spreadsheets/d/1Kptv1Yhe55NnKrQfatjnFhSoEKdPJ_02VtssK9GkJPk/edit#gid=0\"\",\"\"RWA!F:BZ\"\"),48,0))\"),\"\")","v":""}]
[null,null,null,{"$f":"IFERROR(__xludf.DUMMYFUNCTION(\"iferror(VLOOKUP(B671,IMPORTRANGE(\"\"https://docs.google.com/spreadsheets/d/1Kptv1Yhe55NnKrQfatjnFhSoEKdPJ_02VtssK9GkJPk/edit#gid=0\"\",\"\"RWA!F:BZ\"\"),44,0))\"),\"\")","v":""},{"$f":"IFERROR(__xludf.DUMMYFUNCTION(\"iferror(VLOOKUP(B671,IMPORTRANGE(\"\"https://docs.google.com/spreadsheets/d/1Kptv1Yhe55NnKrQfatjnFhSoEKdPJ_02VtssK9GkJPk/edit#gid=0\"\",\"\"RWA!F:BZ\"\"),48,0))\"),\"\")","v":""}]
[null,null,null,{"$f":"IFERROR(__xludf.DUMMYFUNCTION(\"iferror(VLOOKUP(B672,IMPORTRANGE(\"\"https://docs.google.com/spreadsheets/d/1Kptv1Yhe55NnKrQfatjnFhSoEKdPJ_02VtssK9GkJPk/edit#gid=0\"\",\"\"RWA!F:BZ\"\"),44,0))\"),\"\")","v":""},{"$f":"IFERROR(__xludf.DUMMYFUNCTION(\"iferror(VLOOKUP(B672,IMPORTRANGE(\"\"https://docs.google.com/spreadsheets/d/1Kptv1Yhe55NnKrQfatjnFhSoEKdPJ_02VtssK9GkJPk/edit#gid=0\"\",\"\"RWA!F:BZ\"\"),48,0))\"),\"\")","v":""}]
[null,null,null,{"$f":"IFERROR(__xludf.DUMMYFUNCTION(\"iferror(VLOOKUP(B673,IMPORTRANGE(\"\"https://docs.google.com/spreadsheets/d/1Kptv1Yhe55NnKrQfatjnFhSoEKdPJ_02VtssK9GkJPk/edit#gid=0\"\",\"\"RWA!F:BZ\"\"),44,0))\"),\"\")","v":""},{"$f":"IFERROR(__xludf.DUMMYFUNCTION(\"iferror(VLOOKUP(B673,IMPORTRANGE(\"\"https://docs.google.com/spreadsheets/d/1Kptv1Yhe55NnKrQfatjnFhSoEKdPJ_02VtssK9GkJPk/edit#gid=0\"\",\"\"RWA!F:BZ\"\"),48,0))\"),\"\")","v":""}]
[null,null,null,{"$f":"IFERROR(__xludf.DUMMYFUNCTION(\"iferror(VLOOKUP(B674,IMPORTRANGE(\"\"https://docs.google.com/spreadsheets/d/1Kptv1Yhe55NnKrQfatjnFhSoEKdPJ_02VtssK9GkJPk/edit#gid=0\"\",\"\"RWA!F:BZ\"\"),44,0))\"),\"\")","v":""},{"$f":"IFERROR(__xludf.DUMMYFUNCTION(\"iferror(VLOOKUP(B674,IMPORTRANGE(\"\"https://docs.google.com/spreadsheets/d/1Kptv1Yhe55NnKrQfatjnFhSoEKdPJ_02VtssK9GkJPk/edit#gid=0\"\",\"\"RWA!F:BZ\"\"),48,0))\"),\"\")","v":""}]
[null,null,null,{"$f":"IFERROR(__xludf.DUMMYFUNCTION(\"iferror(VLOOKUP(B675,IMPORTRANGE(\"\"https://docs.google.com/spreadsheets/d/1Kptv1Yhe55NnKrQfatjnFhSoEKdPJ_02VtssK9GkJPk/edit#gid=0\"\",\"\"RWA!F:BZ\"\"),44,0))\"),\"\")","v":""},{"$f":"IFERROR(__xludf.DUMMYFUNCTION(\"iferror(VLOOKUP(B675,IMPORTRANGE(\"\"https://docs.google.com/spreadsheets/d/1Kptv1Yhe55NnKrQfatjnFhSoEKdPJ_02VtssK9GkJPk/edit#gid=0\"\",\"\"RWA!F:BZ\"\"),48,0))\"),\"\")","v":""}]
[null,null,null,{"$f":"IFERROR(__xludf.DUMMYFUNCTION(\"iferror(VLOOKUP(B676,IMPORTRANGE(\"\"https://docs.google.com/spreadsheets/d/1Kptv1Yhe55NnKrQfatjnFhSoEKdPJ_02VtssK9GkJPk/edit#gid=0\"\",\"\"RWA!F:BZ\"\"),44,0))\"),\"\")","v":""},{"$f":"IFERROR(__xludf.DUMMYFUNCTION(\"iferror(VLOOKUP(B676,IMPORTRANGE(\"\"https://docs.google.com/spreadsheets/d/1Kptv1Yhe55NnKrQfatjnFhSoEKdPJ_02VtssK9GkJPk/edit#gid=0\"\",\"\"RWA!F:BZ\"\"),48,0))\"),\"\")","v":""}]
[null,null,null,{"$f":"IFERROR(__xludf.DUMMYFUNCTION(\"iferror(VLOOKUP(B677,IMPORTRANGE(\"\"https://docs.google.com/spreadsheets/d/1Kptv1Yhe55NnKrQfatjnFhSoEKdPJ_02VtssK9GkJPk/edit#gid=0\"\",\"\"RWA!F:BZ\"\"),44,0))\"),\"\")","v":""},{"$f":"IFERROR(__xludf.DUMMYFUNCTION(\"iferror(VLOOKUP(B677,IMPORTRANGE(\"\"https://docs.google.com/spreadsheets/d/1Kptv1Yhe55NnKrQfatjnFhSoEKdPJ_02VtssK9GkJPk/edit#gid=0\"\",\"\"RWA!F:BZ\"\"),48,0))\"),\"\")","v":""}]
[null,null,null,{"$f":"IFERROR(__xludf.DUMMYFUNCTION(\"iferror(VLOOKUP(B678,IMPORTRANGE(\"\"https://docs.google.com/spreadsheets/d/1Kptv1Yhe55NnKrQfatjnFhSoEKdPJ_02VtssK9GkJPk/edit#gid=0\"\",\"\"RWA!F:BZ\"\"),44,0))\"),\"\")","v":""},{"$f":"IFERROR(__xludf.DUMMYFUNCTION(\"iferror(VLOOKUP(B678,IMPORTRANGE(\"\"https://docs.google.com/spreadsheets/d/1Kptv1Yhe55NnKrQfatjnFhSoEKdPJ_02VtssK9GkJPk/edit#gid=0\"\",\"\"RWA!F:BZ\"\"),48,0))\"),\"\")","v":""}]
[null,null,null,{"$f":"IFERROR(__xludf.DUMMYFUNCTION(\"iferror(VLOOKUP(B679,IMPORTRANGE(\"\"https://docs.google.com/spreadsheets/d/1Kptv1Yhe55NnKrQfatjnFhSoEKdPJ_02VtssK9GkJPk/edit#gid=0\"\",\"\"RWA!F:BZ\"\"),44,0))\"),\"\")","v":""},{"$f":"IFERROR(__xludf.DUMMYFUNCTION(\"iferror(VLOOKUP(B679,IMPORTRANGE(\"\"https://docs.google.com/spreadsheets/d/1Kptv1Yhe55NnKrQfatjnFhSoEKdPJ_02VtssK9GkJPk/edit#gid=0\"\",\"\"RWA!F:BZ\"\"),48,0))\"),\"\")","v":""}]
[null,null,null,{"$f":"IFERROR(__xludf.DUMMYFUNCTION(\"iferror(VLOOKUP(B680,IMPORTRANGE(\"\"https://docs.google.com/spreadsheets/d/1Kptv1Yhe55NnKrQfatjnFhSoEKdPJ_02VtssK9GkJPk/edit#gid=0\"\",\"\"RWA!F:BZ\"\"),44,0))\"),\"\")","v":""},{"$f":"IFERROR(__xludf.DUMMYFUNCTION(\"iferror(VLOOKUP(B680,IMPORTRANGE(\"\"https://docs.google.com/spreadsheets/d/1Kptv1Yhe55NnKrQfatjnFhSoEKdPJ_02VtssK9GkJPk/edit#gid=0\"\",\"\"RWA!F:BZ\"\"),48,0))\"),\"\")","v":""}]
[null,null,null,{"$f":"IFERROR(__xludf.DUMMYFUNCTION(\"iferror(VLOOKUP(B681,IMPORTRANGE(\"\"https://docs.google.com/spreadsheets/d/1Kptv1Yhe55NnKrQfatjnFhSoEKdPJ_02VtssK9GkJPk/edit#gid=0\"\",\"\"RWA!F:BZ\"\"),44,0))\"),\"\")","v":""},{"$f":"IFERROR(__xludf.DUMMYFUNCTION(\"iferror(VLOOKUP(B681,IMPORTRANGE(\"\"https://docs.google.com/spreadsheets/d/1Kptv1Yhe55NnKrQfatjnFhSoEKdPJ_02VtssK9GkJPk/edit#gid=0\"\",\"\"RWA!F:BZ\"\"),48,0))\"),\"\")","v":""}]
[null,null,null,{"$f":"IFERROR(__xludf.DUMMYFUNCTION(\"iferror(VLOOKUP(B682,IMPORTRANGE(\"\"https://docs.google.com/spreadsheets/d/1Kptv1Yhe55NnKrQfatjnFhSoEKdPJ_02VtssK9GkJPk/edit#gid=0\"\",\"\"RWA!F:BZ\"\"),44,0))\"),\"\")","v":""},{"$f":"IFERROR(__xludf.DUMMYFUNCTION(\"iferror(VLOOKUP(B682,IMPORTRANGE(\"\"https://docs.google.com/spreadsheets/d/1Kptv1Yhe55NnKrQfatjnFhSoEKdPJ_02VtssK9GkJPk/edit#gid=0\"\",\"\"RWA!F:BZ\"\"),48,0))\"),\"\")","v":""}]
[null,null,null,{"$f":"IFERROR(__xludf.DUMMYFUNCTION(\"iferror(VLOOKUP(B683,IMPORTRANGE(\"\"https://docs.google.com/spreadsheets/d/1Kptv1Yhe55NnKrQfatjnFhSoEKdPJ_02VtssK9GkJPk/edit#gid=0\"\",\"\"RWA!F:BZ\"\"),44,0))\"),\"\")","v":""},{"$f":"IFERROR(__xludf.DUMMYFUNCTION(\"iferror(VLOOKUP(B683,IMPORTRANGE(\"\"https://docs.google.com/spreadsheets/d/1Kptv1Yhe55NnKrQfatjnFhSoEKdPJ_02VtssK9GkJPk/edit#gid=0\"\",\"\"RWA!F:BZ\"\"),48,0))\"),\"\")","v":""}]
[null,null,null,{"$f":"IFERROR(__xludf.DUMMYFUNCTION(\"iferror(VLOOKUP(B684,IMPORTRANGE(\"\"https://docs.google.com/spreadsheets/d/1Kptv1Yhe55NnKrQfatjnFhSoEKdPJ_02VtssK9GkJPk/edit#gid=0\"\",\"\"RWA!F:BZ\"\"),44,0))\"),\"\")","v":""},{"$f":"IFERROR(__xludf.DUMMYFUNCTION(\"iferror(VLOOKUP(B684,IMPORTRANGE(\"\"https://docs.google.com/spreadsheets/d/1Kptv1Yhe55NnKrQfatjnFhSoEKdPJ_02VtssK9GkJPk/edit#gid=0\"\",\"\"RWA!F:BZ\"\"),48,0))\"),\"\")","v":""}]
[null,null,null,{"$f":"IFERROR(__xludf.DUMMYFUNCTION(\"iferror(VLOOKUP(B685,IMPORTRANGE(\"\"https://docs.google.com/spreadsheets/d/1Kptv1Yhe55NnKrQfatjnFhSoEKdPJ_02VtssK9GkJPk/edit#gid=0\"\",\"\"RWA!F:BZ\"\"),44,0))\"),\"\")","v":""},{"$f":"IFERROR(__xludf.DUMMYFUNCTION(\"iferror(VLOOKUP(B685,IMPORTRANGE(\"\"https://docs.google.com/spreadsheets/d/1Kptv1Yhe55NnKrQfatjnFhSoEKdPJ_02VtssK9GkJPk/edit#gid=0\"\",\"\"RWA!F:BZ\"\"),48,0))\"),\"\")","v":""}]
[null,null,null,{"$f":"IFERROR(__xludf.DUMMYFUNCTION(\"iferror(VLOOKUP(B686,IMPORTRANGE(\"\"https://docs.google.com/spreadsheets/d/1Kptv1Yhe55NnKrQfatjnFhSoEKdPJ_02VtssK9GkJPk/edit#gid=0\"\",\"\"RWA!F:BZ\"\"),44,0))\"),\"\")","v":""},{"$f":"IFERROR(__xludf.DUMMYFUNCTION(\"iferror(VLOOKUP(B686,IMPORTRANGE(\"\"https://docs.google.com/spreadsheets/d/1Kptv1Yhe55NnKrQfatjnFhSoEKdPJ_02VtssK9GkJPk/edit#gid=0\"\",\"\"RWA!F:BZ\"\"),48,0))\"),\"\")","v":""}]
[null,null,null,{"$f":"IFERROR(__xludf.DUMMYFUNCTION(\"iferror(VLOOKUP(B687,IMPORTRANGE(\"\"https://docs.google.com/spreadsheets/d/1Kptv1Yhe55NnKrQfatjnFhSoEKdPJ_02VtssK9GkJPk/edit#gid=0\"\",\"\"RWA!F:BZ\"\"),44,0))\"),\"\")","v":""},{"$f":"IFERROR(__xludf.DUMMYFUNCTION(\"iferror(VLOOKUP(B687,IMPORTRANGE(\"\"https://docs.google.com/spreadsheets/d/1Kptv1Yhe55NnKrQfatjnFhSoEKdPJ_02VtssK9GkJPk/edit#gid=0\"\",\"\"RWA!F:BZ\"\"),48,0))\"),\"\")","v":""}]
[null,null,null,{"$f":"IFERROR(__xludf.DUMMYFUNCTION(\"iferror(VLOOKUP(B688,IMPORTRANGE(\"\"https://docs.google.com/spreadsheets/d/1Kptv1Yhe55NnKrQfatjnFhSoEKdPJ_02VtssK9GkJPk/edit#gid=0\"\",\"\"RWA!F:BZ\"\"),44,0))\"),\"\")","v":""},{"$f":"IFERROR(__xludf.DUMMYFUNCTION(\"iferror(VLOOKUP(B688,IMPORTRANGE(\"\"https://docs.google.com/spreadsheets/d/1Kptv1Yhe55NnKrQfatjnFhSoEKdPJ_02VtssK9GkJPk/edit#gid=0\"\",\"\"RWA!F:BZ\"\"),48,0))\"),\"\")","v":""}]
[null,null,null,{"$f":"IFERROR(__xludf.DUMMYFUNCTION(\"iferror(VLOOKUP(B689,IMPORTRANGE(\"\"https://docs.google.com/spreadsheets/d/1Kptv1Yhe55NnKrQfatjnFhSoEKdPJ_02VtssK9GkJPk/edit#gid=0\"\",\"\"RWA!F:BZ\"\"),44,0))\"),\"\")","v":""},{"$f":"IFERROR(__xludf.DUMMYFUNCTION(\"iferror(VLOOKUP(B689,IMPORTRANGE(\"\"https://docs.google.com/spreadsheets/d/1Kptv1Yhe55NnKrQfatjnFhSoEKdPJ_02VtssK9GkJPk/edit#gid=0\"\",\"\"RWA!F:BZ\"\"),48,0))\"),\"\")","v":""}]
[null,null,null,{"$f":"IFERROR(__xludf.DUMMYFUNCTION(\"iferror(VLOOKUP(B690,IMPORTRANGE(\"\"https://docs.google.com/spreadsheets/d/1Kptv1Yhe55NnKrQfatjnFhSoEKdPJ_02VtssK9GkJPk/edit#gid=0\"\",\"\"RWA!F:BZ\"\"),44,0))\"),\"\")","v":""},{"$f":"IFERROR(__xludf.DUMMYFUNCTION(\"iferror(VLOOKUP(B690,IMPORTRANGE(\"\"https://docs.google.com/spreadsheets/d/1Kptv1Yhe55NnKrQfatjnFhSoEKdPJ_02VtssK9GkJPk/edit#gid=0\"\",\"\"RWA!F:BZ\"\"),48,0))\"),\"\")","v":""}]
[null,null,null,{"$f":"IFERROR(__xludf.DUMMYFUNCTION(\"iferror(VLOOKUP(B691,IMPORTRANGE(\"\"https://docs.google.com/spreadsheets/d/1Kptv1Yhe55NnKrQfatjnFhSoEKdPJ_02VtssK9GkJPk/edit#gid=0\"\",\"\"RWA!F:BZ\"\"),44,0))\"),\"\")","v":""},{"$f":"IFERROR(__xludf.DUMMYFUNCTION(\"iferror(VLOOKUP(B691,IMPORTRANGE(\"\"https://docs.google.com/spreadsheets/d/1Kptv1Yhe55NnKrQfatjnFhSoEKdPJ_02VtssK9GkJPk/edit#gid=0\"\",\"\"RWA!F:BZ\"\"),48,0))\"),\"\")","v":""}]
[null,null,null,{"$f":"IFERROR(__xludf.DUMMYFUNCTION(\"iferror(VLOOKUP(B692,IMPORTRANGE(\"\"https://docs.google.com/spreadsheets/d/1Kptv1Yhe55NnKrQfatjnFhSoEKdPJ_02VtssK9GkJPk/edit#gid=0\"\",\"\"RWA!F:BZ\"\"),44,0))\"),\"\")","v":""},{"$f":"IFERROR(__xludf.DUMMYFUNCTION(\"iferror(VLOOKUP(B692,IMPORTRANGE(\"\"https://docs.google.com/spreadsheets/d/1Kptv1Yhe55NnKrQfatjnFhSoEKdPJ_02VtssK9GkJPk/edit#gid=0\"\",\"\"RWA!F:BZ\"\"),48,0))\"),\"\")","v":""}]
[null,null,null,{"$f":"IFERROR(__xludf.DUMMYFUNCTION(\"iferror(VLOOKUP(B693,IMPORTRANGE(\"\"https://docs.google.com/spreadsheets/d/1Kptv1Yhe55NnKrQfatjnFhSoEKdPJ_02VtssK9GkJPk/edit#gid=0\"\",\"\"RWA!F:BZ\"\"),44,0))\"),\"\")","v":""},{"$f":"IFERROR(__xludf.DUMMYFUNCTION(\"iferror(VLOOKUP(B693,IMPORTRANGE(\"\"https://docs.google.com/spreadsheets/d/1Kptv1Yhe55NnKrQfatjnFhSoEKdPJ_02VtssK9GkJPk/edit#gid=0\"\",\"\"RWA!F:BZ\"\"),48,0))\"),\"\")","v":""}]
[null,null,null,{"$f":"IFERROR(__xludf.DUMMYFUNCTION(\"iferror(VLOOKUP(B694,IMPORTRANGE(\"\"https://docs.google.com/spreadsheets/d/1Kptv1Yhe55NnKrQfatjnFhSoEKdPJ_02VtssK9GkJPk/edit#gid=0\"\",\"\"RWA!F:BZ\"\"),44,0))\"),\"\")","v":""},{"$f":"IFERROR(__xludf.DUMMYFUNCTION(\"iferror(VLOOKUP(B694,IMPORTRANGE(\"\"https://docs.google.com/spreadsheets/d/1Kptv1Yhe55NnKrQfatjnFhSoEKdPJ_02VtssK9GkJPk/edit#gid=0\"\",\"\"RWA!F:BZ\"\"),48,0))\"),\"\")","v":""}]
[null,null,null,{"$f":"IFERROR(__xludf.DUMMYFUNCTION(\"iferror(VLOOKUP(B695,IMPORTRANGE(\"\"https://docs.google.com/spreadsheets/d/1Kptv1Yhe55NnKrQfatjnFhSoEKdPJ_02VtssK9GkJPk/edit#gid=0\"\",\"\"RWA!F:BZ\"\"),44,0))\"),\"\")","v":""},{"$f":"IFERROR(__xludf.DUMMYFUNCTION(\"iferror(VLOOKUP(B695,IMPORTRANGE(\"\"https://docs.google.com/spreadsheets/d/1Kptv1Yhe55NnKrQfatjnFhSoEKdPJ_02VtssK9GkJPk/edit#gid=0\"\",\"\"RWA!F:BZ\"\"),48,0))\"),\"\")","v":""}]
[null,null,null,{"$f":"IFERROR(__xludf.DUMMYFUNCTION(\"iferror(VLOOKUP(B696,IMPORTRANGE(\"\"https://docs.google.com/spreadsheets/d/1Kptv1Yhe55NnKrQfatjnFhSoEKdPJ_02VtssK9GkJPk/edit#gid=0\"\",\"\"RWA!F:BZ\"\"),44,0))\"),\"\")","v":""},{"$f":"IFERROR(__xludf.DUMMYFUNCTION(\"iferror(VLOOKUP(B696,IMPORTRANGE(\"\"https://docs.google.com/spreadsheets/d/1Kptv1Yhe55NnKrQfatjnFhSoEKdPJ_02VtssK9GkJPk/edit#gid=0\"\",\"\"RWA!F:BZ\"\"),48,0))\"),\"\")","v":""}]
[null,null,null,{"$f":"IFERROR(__xludf.DUMMYFUNCTION(\"iferror(VLOOKUP(B697,IMPORTRANGE(\"\"https://docs.google.com/spreadsheets/d/1Kptv1Yhe55NnKrQfatjnFhSoEKdPJ_02VtssK9GkJPk/edit#gid=0\"\",\"\"RWA!F:BZ\"\"),44,0))\"),\"\")","v":""},{"$f":"IFERROR(__xludf.DUMMYFUNCTION(\"iferror(VLOOKUP(B697,IMPORTRANGE(\"\"https://docs.google.com/spreadsheets/d/1Kptv1Yhe55NnKrQfatjnFhSoEKdPJ_02VtssK9GkJPk/edit#gid=0\"\",\"\"RWA!F:BZ\"\"),48,0))\"),\"\")","v":""}]
[null,null,null,{"$f":"IFERROR(__xludf.DUMMYFUNCTION(\"iferror(VLOOKUP(B698,IMPORTRANGE(\"\"https://docs.google.com/spreadsheets/d/1Kptv1Yhe55NnKrQfatjnFhSoEKdPJ_02VtssK9GkJPk/edit#gid=0\"\",\"\"RWA!F:BZ\"\"),44,0))\"),\"\")","v":""},{"$f":"IFERROR(__xludf.DUMMYFUNCTION(\"iferror(VLOOKUP(B698,IMPORTRANGE(\"\"https://docs.google.com/spreadsheets/d/1Kptv1Yhe55NnKrQfatjnFhSoEKdPJ_02VtssK9GkJPk/edit#gid=0\"\",\"\"RWA!F:BZ\"\"),48,0))\"),\"\")","v":""}]
[null,null,null,{"$f":"IFERROR(__xludf.DUMMYFUNCTION(\"iferror(VLOOKUP(B699,IMPORTRANGE(\"\"https://docs.google.com/spreadsheets/d/1Kptv1Yhe55NnKrQfatjnFhSoEKdPJ_02VtssK9GkJPk/edit#gid=0\"\",\"\"RWA!F:BZ\"\"),44,0))\"),\"\")","v":""},{"$f":"IFERROR(__xludf.DUMMYFUNCTION(\"iferror(VLOOKUP(B699,IMPORTRANGE(\"\"https://docs.google.com/spreadsheets/d/1Kptv1Yhe55NnKrQfatjnFhSoEKdPJ_02VtssK9GkJPk/edit#gid=0\"\",\"\"RWA!F:BZ\"\"),48,0))\"),\"\")","v":""}]
[null,null,null,{"$f":"IFERROR(__xludf.DUMMYFUNCTION(\"iferror(VLOOKUP(B700,IMPORTRANGE(\"\"https://docs.google.com/spreadsheets/d/1Kptv1Yhe55NnKrQfatjnFhSoEKdPJ_02VtssK9GkJPk/edit#gid=0\"\",\"\"RWA!F:BZ\"\"),44,0))\"),\"\")","v":""},{"$f":"IFERROR(__xludf.DUMMYFUNCTION(\"iferror(VLOOKUP(B700,IMPORTRANGE(\"\"https://docs.google.com/spreadsheets/d/1Kptv1Yhe55NnKrQfatjnFhSoEKdPJ_02VtssK9GkJPk/edit#gid=0\"\",\"\"RWA!F:BZ\"\"),48,0))\"),\"\")","v":""}]
[null,null,null,{"$f":"IFERROR(__xludf.DUMMYFUNCTION(\"iferror(VLOOKUP(B701,IMPORTRANGE(\"\"https://docs.google.com/spreadsheets/d/1Kptv1Yhe55NnKrQfatjnFhSoEKdPJ_02VtssK9GkJPk/edit#gid=0\"\",\"\"RWA!F:BZ\"\"),44,0))\"),\"\")","v":""},{"$f":"IFERROR(__xludf.DUMMYFUNCTION(\"iferror(VLOOKUP(B701,IMPORTRANGE(\"\"https://docs.google.com/spreadsheets/d/1Kptv1Yhe55NnKrQfatjnFhSoEKdPJ_02VtssK9GkJPk/edit#gid=0\"\",\"\"RWA!F:BZ\"\"),48,0))\"),\"\")","v":""}]
[null,null,null,{"$f":"IFERROR(__xludf.DUMMYFUNCTION(\"iferror(VLOOKUP(B702,IMPORTRANGE(\"\"https://docs.google.com/spreadsheets/d/1Kptv1Yhe55NnKrQfatjnFhSoEKdPJ_02VtssK9GkJPk/edit#gid=0\"\",\"\"RWA!F:BZ\"\"),44,0))\"),\"\")","v":""},{"$f":"IFERROR(__xludf.DUMMYFUNCTION(\"iferror(VLOOKUP(B702,IMPORTRANGE(\"\"https://docs.google.com/spreadsheets/d/1Kptv1Yhe55NnKrQfatjnFhSoEKdPJ_02VtssK9GkJPk/edit#gid=0\"\",\"\"RWA!F:BZ\"\"),48,0))\"),\"\")","v":""}]
[null,null,null,{"$f":"IFERROR(__xludf.DUMMYFUNCTION(\"iferror(VLOOKUP(B703,IMPORTRANGE(\"\"https://docs.google.com/spreadsheets/d/1Kptv1Yhe55NnKrQfatjnFhSoEKdPJ_02VtssK9GkJPk/edit#gid=0\"\",\"\"RWA!F:BZ\"\"),44,0))\"),\"\")","v":""},{"$f":"IFERROR(__xludf.DUMMYFUNCTION(\"iferror(VLOOKUP(B703,IMPORTRANGE(\"\"https://docs.google.com/spreadsheets/d/1Kptv1Yhe55NnKrQfatjnFhSoEKdPJ_02VtssK9GkJPk/edit#gid=0\"\",\"\"RWA!F:BZ\"\"),48,0))\"),\"\")","v":""}]
[null,null,null,{"$f":"IFERROR(__xludf.DUMMYFUNCTION(\"iferror(VLOOKUP(B704,IMPORTRANGE(\"\"https://docs.google.com/spreadsheets/d/1Kptv1Yhe55NnKrQfatjnFhSoEKdPJ_02VtssK9GkJPk/edit#gid=0\"\",\"\"RWA!F:BZ\"\"),44,0))\"),\"\")","v":""},{"$f":"IFERROR(__xludf.DUMMYFUNCTION(\"iferror(VLOOKUP(B704,IMPORTRANGE(\"\"https://docs.google.com/spreadsheets/d/1Kptv1Yhe55NnKrQfatjnFhSoEKdPJ_02VtssK9GkJPk/edit#gid=0\"\",\"\"RWA!F:BZ\"\"),48,0))\"),\"\")","v":""}]
[null,null,null,{"$f":"IFERROR(__xludf.DUMMYFUNCTION(\"iferror(VLOOKUP(B705,IMPORTRANGE(\"\"https://docs.google.com/spreadsheets/d/1Kptv1Yhe55NnKrQfatjnFhSoEKdPJ_02VtssK9GkJPk/edit#gid=0\"\",\"\"RWA!F:BZ\"\"),44,0))\"),\"\")","v":""},{"$f":"IFERROR(__xludf.DUMMYFUNCTION(\"iferror(VLOOKUP(B705,IMPORTRANGE(\"\"https://docs.google.com/spreadsheets/d/1Kptv1Yhe55NnKrQfatjnFhSoEKdPJ_02VtssK9GkJPk/edit#gid=0\"\",\"\"RWA!F:BZ\"\"),48,0))\"),\"\")","v":""}]
[null,null,null,{"$f":"IFERROR(__xludf.DUMMYFUNCTION(\"iferror(VLOOKUP(B706,IMPORTRANGE(\"\"https://docs.google.com/spreadsheets/d/1Kptv1Yhe55NnKrQfatjnFhSoEKdPJ_02VtssK9GkJPk/edit#gid=0\"\",\"\"RWA!F:BZ\"\"),44,0))\"),\"\")","v":""},{"$f":"IFERROR(__xludf.DUMMYFUNCTION(\"iferror(VLOOKUP(B706,IMPORTRANGE(\"\"https://docs.google.com/spreadsheets/d/1Kptv1Yhe55NnKrQfatjnFhSoEKdPJ_02VtssK9GkJPk/edit#gid=0\"\",\"\"RWA!F:BZ\"\"),48,0))\"),\"\")","v":""}]
[null,null,null,{"$f":"IFERROR(__xludf.DUMMYFUNCTION(\"iferror(VLOOKUP(B707,IMPORTRANGE(\"\"https://docs.google.com/spreadsheets/d/1Kptv1Yhe55NnKrQfatjnFhSoEKdPJ_02VtssK9GkJPk/edit#gid=0\"\",\"\"RWA!F:BZ\"\"),44,0))\"),\"\")","v":""},{"$f":"IFERROR(__xludf.DUMMYFUNCTION(\"iferror(VLOOKUP(B707,IMPORTRANGE(\"\"https://docs.google.com/spreadsheets/d/1Kptv1Yhe55NnKrQfatjnFhSoEKdPJ_02VtssK9GkJPk/edit#gid=0\"\",\"\"RWA!F:BZ\"\"),48,0))\"),\"\")","v":""}]
[null,null,null,{"$f":"IFERROR(__xludf.DUMMYFUNCTION(\"iferror(VLOOKUP(B708,IMPORTRANGE(\"\"https://docs.google.com/spreadsheets/d/1Kptv1Yhe55NnKrQfatjnFhSoEKdPJ_02VtssK9GkJPk/edit#gid=0\"\",\"\"RWA!F:BZ\"\"),44,0))\"),\"\")","v":""},{"$f":"IFERROR(__xludf.DUMMYFUNCTION(\"iferror(VLOOKUP(B708,IMPORTRANGE(\"\"https://docs.google.com/spreadsheets/d/1Kptv1Yhe55NnKrQfatjnFhSoEKdPJ_02VtssK9GkJPk/edit#gid=0\"\",\"\"RWA!F:BZ\"\"),48,0))\"),\"\")","v":""}]
[null,null,null,{"$f":"IFERROR(__xludf.DUMMYFUNCTION(\"iferror(VLOOKUP(B709,IMPORTRANGE(\"\"https://docs.google.com/spreadsheets/d/1Kptv1Yhe55NnKrQfatjnFhSoEKdPJ_02VtssK9GkJPk/edit#gid=0\"\",\"\"RWA!F:BZ\"\"),44,0))\"),\"\")","v":""},{"$f":"IFERROR(__xludf.DUMMYFUNCTION(\"iferror(VLOOKUP(B709,IMPORTRANGE(\"\"https://docs.google.com/spreadsheets/d/1Kptv1Yhe55NnKrQfatjnFhSoEKdPJ_02VtssK9GkJPk/edit#gid=0\"\",\"\"RWA!F:BZ\"\"),48,0))\"),\"\")","v":""}]
[null,null,null,{"$f":"IFERROR(__xludf.DUMMYFUNCTION(\"iferror(VLOOKUP(B710,IMPORTRANGE(\"\"https://docs.google.com/spreadsheets/d/1Kptv1Yhe55NnKrQfatjnFhSoEKdPJ_02VtssK9GkJPk/edit#gid=0\"\",\"\"RWA!F:BZ\"\"),44,0))\"),\"\")","v":""},{"$f":"IFERROR(__xludf.DUMMYFUNCTION(\"iferror(VLOOKUP(B710,IMPORTRANGE(\"\"https://docs.google.com/spreadsheets/d/1Kptv1Yhe55NnKrQfatjnFhSoEKdPJ_02VtssK9GkJPk/edit#gid=0\"\",\"\"RWA!F:BZ\"\"),48,0))\"),\"\")","v":""}]
[null,null,null,{"$f":"IFERROR(__xludf.DUMMYFUNCTION(\"iferror(VLOOKUP(B711,IMPORTRANGE(\"\"https://docs.google.com/spreadsheets/d/1Kptv1Yhe55NnKrQfatjnFhSoEKdPJ_02VtssK9GkJPk/edit#gid=0\"\",\"\"RWA!F:BZ\"\"),44,0))\"),\"\")","v":""},{"$f":"IFERROR(__xludf.DUMMYFUNCTION(\"iferror(VLOOKUP(B711,IMPORTRANGE(\"\"https://docs.google.com/spreadsheets/d/1Kptv1Yhe55NnKrQfatjnFhSoEKdPJ_02VtssK9GkJPk/edit#gid=0\"\",\"\"RWA!F:BZ\"\"),48,0))\"),\"\")","v":""}]
[null,null,null,{"$f":"IFERROR(__xludf.DUMMYFUNCTION(\"iferror(VLOOKUP(B712,IMPORTRANGE(\"\"https://docs.google.com/spreadsheets/d/1Kptv1Yhe55NnKrQfatjnFhSoEKdPJ_02VtssK9GkJPk/edit#gid=0\"\",\"\"RWA!F:BZ\"\"),44,0))\"),\"\")","v":""},{"$f":"IFERROR(__xludf.DUMMYFUNCTION(\"iferror(VLOOKUP(B712,IMPORTRANGE(\"\"https://docs.google.com/spreadsheets/d/1Kptv1Yhe55NnKrQfatjnFhSoEKdPJ_02VtssK9GkJPk/edit#gid=0\"\",\"\"RWA!F:BZ\"\"),48,0))\"),\"\")","v":""}]
[null,null,null,{"$f":"IFERROR(__xludf.DUMMYFUNCTION(\"iferror(VLOOKUP(B713,IMPORTRANGE(\"\"https://docs.google.com/spreadsheets/d/1Kptv1Yhe55NnKrQfatjnFhSoEKdPJ_02VtssK9GkJPk/edit#gid=0\"\",\"\"RWA!F:BZ\"\"),44,0))\"),\"\")","v":""},{"$f":"IFERROR(__xludf.DUMMYFUNCTION(\"iferror(VLOOKUP(B713,IMPORTRANGE(\"\"https://docs.google.com/spreadsheets/d/1Kptv1Yhe55NnKrQfatjnFhSoEKdPJ_02VtssK9GkJPk/edit#gid=0\"\",\"\"RWA!F:BZ\"\"),48,0))\"),\"\")","v":""}]
[null,null,null,{"$f":"IFERROR(__xludf.DUMMYFUNCTION(\"iferror(VLOOKUP(B714,IMPORTRANGE(\"\"https://docs.google.com/spreadsheets/d/1Kptv1Yhe55NnKrQfatjnFhSoEKdPJ_02VtssK9GkJPk/edit#gid=0\"\",\"\"RWA!F:BZ\"\"),44,0))\"),\"\")","v":""},{"$f":"IFERROR(__xludf.DUMMYFUNCTION(\"iferror(VLOOKUP(B714,IMPORTRANGE(\"\"https://docs.google.com/spreadsheets/d/1Kptv1Yhe55NnKrQfatjnFhSoEKdPJ_02VtssK9GkJPk/edit#gid=0\"\",\"\"RWA!F:BZ\"\"),48,0))\"),\"\")","v":""}]
[null,null,null,{"$f":"IFERROR(__xludf.DUMMYFUNCTION(\"iferror(VLOOKUP(B715,IMPORTRANGE(\"\"https://docs.google.com/spreadsheets/d/1Kptv1Yhe55NnKrQfatjnFhSoEKdPJ_02VtssK9GkJPk/edit#gid=0\"\",\"\"RWA!F:BZ\"\"),44,0))\"),\"\")","v":""},{"$f":"IFERROR(__xludf.DUMMYFUNCTION(\"iferror(VLOOKUP(B715,IMPORTRANGE(\"\"https://docs.google.com/spreadsheets/d/1Kptv1Yhe55NnKrQfatjnFhSoEKdPJ_02VtssK9GkJPk/edit#gid=0\"\",\"\"RWA!F:BZ\"\"),48,0))\"),\"\")","v":""}]
[null,null,null,{"$f":"IFERROR(__xludf.DUMMYFUNCTION(\"iferror(VLOOKUP(B716,IMPORTRANGE(\"\"https://docs.google.com/spreadsheets/d/1Kptv1Yhe55NnKrQfatjnFhSoEKdPJ_02VtssK9GkJPk/edit#gid=0\"\",\"\"RWA!F:BZ\"\"),44,0))\"),\"\")","v":""},{"$f":"IFERROR(__xludf.DUMMYFUNCTION(\"iferror(VLOOKUP(B716,IMPORTRANGE(\"\"https://docs.google.com/spreadsheets/d/1Kptv1Yhe55NnKrQfatjnFhSoEKdPJ_02VtssK9GkJPk/edit#gid=0\"\",\"\"RWA!F:BZ\"\"),48,0))\"),\"\")","v":""}]
[null,null,null,{"$f":"IFERROR(__xludf.DUMMYFUNCTION(\"iferror(VLOOKUP(B717,IMPORTRANGE(\"\"https://docs.google.com/spreadsheets/d/1Kptv1Yhe55NnKrQfatjnFhSoEKdPJ_02VtssK9GkJPk/edit#gid=0\"\",\"\"RWA!F:BZ\"\"),44,0))\"),\"\")","v":""},{"$f":"IFERROR(__xludf.DUMMYFUNCTION(\"iferror(VLOOKUP(B717,IMPORTRANGE(\"\"https://docs.google.com/spreadsheets/d/1Kptv1Yhe55NnKrQfatjnFhSoEKdPJ_02VtssK9GkJPk/edit#gid=0\"\",\"\"RWA!F:BZ\"\"),48,0))\"),\"\")","v":""}]
[null,null,null,{"$f":"IFERROR(__xludf.DUMMYFUNCTION(\"iferror(VLOOKUP(B718,IMPORTRANGE(\"\"https://docs.google.com/spreadsheets/d/1Kptv1Yhe55NnKrQfatjnFhSoEKdPJ_02VtssK9GkJPk/edit#gid=0\"\",\"\"RWA!F:BZ\"\"),44,0))\"),\"\")","v":""},{"$f":"IFERROR(__xludf.DUMMYFUNCTION(\"iferror(VLOOKUP(B718,IMPORTRANGE(\"\"https://docs.google.com/spreadsheets/d/1Kptv1Yhe55NnKrQfatjnFhSoEKdPJ_02VtssK9GkJPk/edit#gid=0\"\",\"\"RWA!F:BZ\"\"),48,0))\"),\"\")","v":""}]
[null,null,null,{"$f":"IFERROR(__xludf.DUMMYFUNCTION(\"iferror(VLOOKUP(B719,IMPORTRANGE(\"\"https://docs.google.com/spreadsheets/d/1Kptv1Yhe55NnKrQfatjnFhSoEKdPJ_02VtssK9GkJPk/edit#gid=0\"\",\"\"RWA!F:BZ\"\"),44,0))\"),\"\")","v":""},{"$f":"IFERROR(__xludf.DUMMYFUNCTION(\"iferror(VLOOKUP(B719,IMPORTRANGE(\"\"https://docs.google.com/spreadsheets/d/1Kptv1Yhe55NnKrQfatjnFhSoEKdPJ_02VtssK9GkJPk/edit#gid=0\"\",\"\"RWA!F:BZ\"\"),48,0))\"),\"\")","v":""}]
[null,null,null,{"$f":"IFERROR(__xludf.DUMMYFUNCTION(\"iferror(VLOOKUP(B720,IMPORTRANGE(\"\"https://docs.google.com/spreadsheets/d/1Kptv1Yhe55NnKrQfatjnFhSoEKdPJ_02VtssK9GkJPk/edit#gid=0\"\",\"\"RWA!F:BZ\"\"),44,0))\"),\"\")","v":""},{"$f":"IFERROR(__xludf.DUMMYFUNCTION(\"iferror(VLOOKUP(B720,IMPORTRANGE(\"\"https://docs.google.com/spreadsheets/d/1Kptv1Yhe55NnKrQfatjnFhSoEKdPJ_02VtssK9GkJPk/edit#gid=0\"\",\"\"RWA!F:BZ\"\"),48,0))\"),\"\")","v":""}]
[null,null,null,{"$f":"IFERROR(__xludf.DUMMYFUNCTION(\"iferror(VLOOKUP(B721,IMPORTRANGE(\"\"https://docs.google.com/spreadsheets/d/1Kptv1Yhe55NnKrQfatjnFhSoEKdPJ_02VtssK9GkJPk/edit#gid=0\"\",\"\"RWA!F:BZ\"\"),44,0))\"),\"\")","v":""},{"$f":"IFERROR(__xludf.DUMMYFUNCTION(\"iferror(VLOOKUP(B721,IMPORTRANGE(\"\"https://docs.google.com/spreadsheets/d/1Kptv1Yhe55NnKrQfatjnFhSoEKdPJ_02VtssK9GkJPk/edit#gid=0\"\",\"\"RWA!F:BZ\"\"),48,0))\"),\"\")","v":""}]
[null,null,null,{"$f":"IFERROR(__xludf.DUMMYFUNCTION(\"iferror(VLOOKUP(B722,IMPORTRANGE(\"\"https://docs.google.com/spreadsheets/d/1Kptv1Yhe55NnKrQfatjnFhSoEKdPJ_02VtssK9GkJPk/edit#gid=0\"\",\"\"RWA!F:BZ\"\"),44,0))\"),\"\")","v":""},{"$f":"IFERROR(__xludf.DUMMYFUNCTION(\"iferror(VLOOKUP(B722,IMPORTRANGE(\"\"https://docs.google.com/spreadsheets/d/1Kptv1Yhe55NnKrQfatjnFhSoEKdPJ_02VtssK9GkJPk/edit#gid=0\"\",\"\"RWA!F:BZ\"\"),48,0))\"),\"\")","v":""}]
[null,null,null,{"$f":"IFERROR(__xludf.DUMMYFUNCTION(\"iferror(VLOOKUP(B723,IMPORTRANGE(\"\"https://docs.google.com/spreadsheets/d/1Kptv1Yhe55NnKrQfatjnFhSoEKdPJ_02VtssK9GkJPk/edit#gid=0\"\",\"\"RWA!F:BZ\"\"),44,0))\"),\"\")","v":""},{"$f":"IFERROR(__xludf.DUMMYFUNCTION(\"iferror(VLOOKUP(B723,IMPORTRANGE(\"\"https://docs.google.com/spreadsheets/d/1Kptv1Yhe55NnKrQfatjnFhSoEKdPJ_02VtssK9GkJPk/edit#gid=0\"\",\"\"RWA!F:BZ\"\"),48,0))\"),\"\")","v":""}]
[null,null,null,{"$f":"IFERROR(__xludf.DUMMYFUNCTION(\"iferror(VLOOKUP(B724,IMPORTRANGE(\"\"https://docs.google.com/spreadsheets/d/1Kptv1Yhe55NnKrQfatjnFhSoEKdPJ_02VtssK9GkJPk/edit#gid=0\"\",\"\"RWA!F:BZ\"\"),44,0))\"),\"\")","v":""},{"$f":"IFERROR(__xludf.DUMMYFUNCTION(\"iferror(VLOOKUP(B724,IMPORTRANGE(\"\"https://docs.google.com/spreadsheets/d/1Kptv1Yhe55NnKrQfatjnFhSoEKdPJ_02VtssK9GkJPk/edit#gid=0\"\",\"\"RWA!F:BZ\"\"),48,0))\"),\"\")","v":""}]
[null,null,null,{"$f":"IFERROR(__xludf.DUMMYFUNCTION(\"iferror(VLOOKUP(B725,IMPORTRANGE(\"\"https://docs.google.com/spreadsheets/d/1Kptv1Yhe55NnKrQfatjnFhSoEKdPJ_02VtssK9GkJPk/edit#gid=0\"\",\"\"RWA!F:BZ\"\"),44,0))\"),\"\")","v":""},{"$f":"IFERROR(__xludf.DUMMYFUNCTION(\"iferror(VLOOKUP(B725,IMPORTRANGE(\"\"https://docs.google.com/spreadsheets/d/1Kptv1Yhe55NnKrQfatjnFhSoEKdPJ_02VtssK9GkJPk/edit#gid=0\"\",\"\"RWA!F:BZ\"\"),48,0))\"),\"\")","v":""}]
[null,null,null,{"$f":"IFERROR(__xludf.DUMMYFUNCTION(\"iferror(VLOOKUP(B726,IMPORTRANGE(\"\"https://docs.google.com/spreadsheets/d/1Kptv1Yhe55NnKrQfatjnFhSoEKdPJ_02VtssK9GkJPk/edit#gid=0\"\",\"\"RWA!F:BZ\"\"),44,0))\"),\"\")","v":""},{"$f":"IFERROR(__xludf.DUMMYFUNCTION(\"iferror(VLOOKUP(B726,IMPORTRANGE(\"\"https://docs.google.com/spreadsheets/d/1Kptv1Yhe55NnKrQfatjnFhSoEKdPJ_02VtssK9GkJPk/edit#gid=0\"\",\"\"RWA!F:BZ\"\"),48,0))\"),\"\")","v":""}]
[null,null,null,{"$f":"IFERROR(__xludf.DUMMYFUNCTION(\"iferror(VLOOKUP(B727,IMPORTRANGE(\"\"https://docs.google.com/spreadsheets/d/1Kptv1Yhe55NnKrQfatjnFhSoEKdPJ_02VtssK9GkJPk/edit#gid=0\"\",\"\"RWA!F:BZ\"\"),44,0))\"),\"\")","v":""},{"$f":"IFERROR(__xludf.DUMMYFUNCTION(\"iferror(VLOOKUP(B727,IMPORTRANGE(\"\"https://docs.google.com/spreadsheets/d/1Kptv1Yhe55NnKrQfatjnFhSoEKdPJ_02VtssK9GkJPk/edit#gid=0\"\",\"\"RWA!F:BZ\"\"),48,0))\"),\"\")","v":""}]
[null,null,null,{"$f":"IFERROR(__xludf.DUMMYFUNCTION(\"iferror(VLOOKUP(B728,IMPORTRANGE(\"\"https://docs.google.com/spreadsheets/d/1Kptv1Yhe55NnKrQfatjnFhSoEKdPJ_02VtssK9GkJPk/edit#gid=0\"\",\"\"RWA!F:BZ\"\"),44,0))\"),\"\")","v":""},{"$f":"IFERROR(__xludf.DUMMYFUNCTION(\"iferror(VLOOKUP(B728,IMPORTRANGE(\"\"https://docs.google.com/spreadsheets/d/1Kptv1Yhe55NnKrQfatjnFhSoEKdPJ_02VtssK9GkJPk/edit#gid=0\"\",\"\"RWA!F:BZ\"\"),48,0))\"),\"\")","v":""}]
[null,null,null,{"$f":"IFERROR(__xludf.DUMMYFUNCTION(\"iferror(VLOOKUP(B729,IMPORTRANGE(\"\"https://docs.google.com/spreadsheets/d/1Kptv1Yhe55NnKrQfatjnFhSoEKdPJ_02VtssK9GkJPk/edit#gid=0\"\",\"\"RWA!F:BZ\"\"),44,0))\"),\"\")","v":""},{"$f":"IFERROR(__xludf.DUMMYFUNCTION(\"iferror(VLOOKUP(B729,IMPORTRANGE(\"\"https://docs.google.com/spreadsheets/d/1Kptv1Yhe55NnKrQfatjnFhSoEKdPJ_02VtssK9GkJPk/edit#gid=0\"\",\"\"RWA!F:BZ\"\"),48,0))\"),\"\")","v":""}]
[null,null,null,{"$f":"IFERROR(__xludf.DUMMYFUNCTION(\"iferror(VLOOKUP(B730,IMPORTRANGE(\"\"https://docs.google.com/spreadsheets/d/1Kptv1Yhe55NnKrQfatjnFhSoEKdPJ_02VtssK9GkJPk/edit#gid=0\"\",\"\"RWA!F:BZ\"\"),44,0))\"),\"\")","v":""},{"$f":"IFERROR(__xludf.DUMMYFUNCTION(\"iferror(VLOOKUP(B730,IMPORTRANGE(\"\"https://docs.google.com/spreadsheets/d/1Kptv1Yhe55NnKrQfatjnFhSoEKdPJ_02VtssK9GkJPk/edit#gid=0\"\",\"\"RWA!F:BZ\"\"),48,0))\"),\"\")","v":""}]
[null,null,null,{"$f":"IFERROR(__xludf.DUMMYFUNCTION(\"iferror(VLOOKUP(B731,IMPORTRANGE(\"\"https://docs.google.com/spreadsheets/d/1Kptv1Yhe55NnKrQfatjnFhSoEKdPJ_02VtssK9GkJPk/edit#gid=0\"\",\"\"RWA!F:BZ\"\"),44,0))\"),\"\")","v":""},{"$f":"IFERROR(__xludf.DUMMYFUNCTION(\"iferror(VLOOKUP(B731,IMPORTRANGE(\"\"https://docs.google.com/spreadsheets/d/1Kptv1Yhe55NnKrQfatjnFhSoEKdPJ_02VtssK9GkJPk/edit#gid=0\"\",\"\"RWA!F:BZ\"\"),48,0))\"),\"\")","v":""}]
[null,null,null,{"$f":"IFERROR(__xludf.DUMMYFUNCTION(\"iferror(VLOOKUP(B732,IMPORTRANGE(\"\"https://docs.google.com/spreadsheets/d/1Kptv1Yhe55NnKrQfatjnFhSoEKdPJ_02VtssK9GkJPk/edit#gid=0\"\",\"\"RWA!F:BZ\"\"),44,0))\"),\"\")","v":""},{"$f":"IFERROR(__xludf.DUMMYFUNCTION(\"iferror(VLOOKUP(B732,IMPORTRANGE(\"\"https://docs.google.com/spreadsheets/d/1Kptv1Yhe55NnKrQfatjnFhSoEKdPJ_02VtssK9GkJPk/edit#gid=0\"\",\"\"RWA!F:BZ\"\"),48,0))\"),\"\")","v":""}]
[null,null,null,{"$f":"IFERROR(__xludf.DUMMYFUNCTION(\"iferror(VLOOKUP(B733,IMPORTRANGE(\"\"https://docs.google.com/spreadsheets/d/1Kptv1Yhe55NnKrQfatjnFhSoEKdPJ_02VtssK9GkJPk/edit#gid=0\"\",\"\"RWA!F:BZ\"\"),44,0))\"),\"\")","v":""},{"$f":"IFERROR(__xludf.DUMMYFUNCTION(\"iferror(VLOOKUP(B733,IMPORTRANGE(\"\"https://docs.google.com/spreadsheets/d/1Kptv1Yhe55NnKrQfatjnFhSoEKdPJ_02VtssK9GkJPk/edit#gid=0\"\",\"\"RWA!F:BZ\"\"),48,0))\"),\"\")","v":""}]
[null,null,null,{"$f":"IFERROR(__xludf.DUMMYFUNCTION(\"iferror(VLOOKUP(B734,IMPORTRANGE(\"\"https://docs.google.com/spreadsheets/d/1Kptv1Yhe55NnKrQfatjnFhSoEKdPJ_02VtssK9GkJPk/edit#gid=0\"\",\"\"RWA!F:BZ\"\"),44,0))\"),\"\")","v":""},{"$f":"IFERROR(__xludf.DUMMYFUNCTION(\"iferror(VLOOKUP(B734,IMPORTRANGE(\"\"https://docs.google.com/spreadsheets/d/1Kptv1Yhe55NnKrQfatjnFhSoEKdPJ_02VtssK9GkJPk/edit#gid=0\"\",\"\"RWA!F:BZ\"\"),48,0))\"),\"\")","v":""}]
[null,null,null,{"$f":"IFERROR(__xludf.DUMMYFUNCTION(\"iferror(VLOOKUP(B735,IMPORTRANGE(\"\"https://docs.google.com/spreadsheets/d/1Kptv1Yhe55NnKrQfatjnFhSoEKdPJ_02VtssK9GkJPk/edit#gid=0\"\",\"\"RWA!F:BZ\"\"),44,0))\"),\"\")","v":""},{"$f":"IFERROR(__xludf.DUMMYFUNCTION(\"iferror(VLOOKUP(B735,IMPORTRANGE(\"\"https://docs.google.com/spreadsheets/d/1Kptv1Yhe55NnKrQfatjnFhSoEKdPJ_02VtssK9GkJPk/edit#gid=0\"\",\"\"RWA!F:BZ\"\"),48,0))\"),\"\")","v":""}]
[null,null,null,{"$f":"IFERROR(__xludf.DUMMYFUNCTION(\"iferror(VLOOKUP(B736,IMPORTRANGE(\"\"https://docs.google.com/spreadsheets/d/1Kptv1Yhe55NnKrQfatjnFhSoEKdPJ_02VtssK9GkJPk/edit#gid=0\"\",\"\"RWA!F:BZ\"\"),44,0))\"),\"\")","v":""},{"$f":"IFERROR(__xludf.DUMMYFUNCTION(\"iferror(VLOOKUP(B736,IMPORTRANGE(\"\"https://docs.google.com/spreadsheets/d/1Kptv1Yhe55NnKrQfatjnFhSoEKdPJ_02VtssK9GkJPk/edit#gid=0\"\",\"\"RWA!F:BZ\"\"),48,0))\"),\"\")","v":""}]
[null,null,null,{"$f":"IFERROR(__xludf.DUMMYFUNCTION(\"iferror(VLOOKUP(B737,IMPORTRANGE(\"\"https://docs.google.com/spreadsheets/d/1Kptv1Yhe55NnKrQfatjnFhSoEKdPJ_02VtssK9GkJPk/edit#gid=0\"\",\"\"RWA!F:BZ\"\"),44,0))\"),\"\")","v":""},{"$f":"IFERROR(__xludf.DUMMYFUNCTION(\"iferror(VLOOKUP(B737,IMPORTRANGE(\"\"https://docs.google.com/spreadsheets/d/1Kptv1Yhe55NnKrQfatjnFhSoEKdPJ_02VtssK9GkJPk/edit#gid=0\"\",\"\"RWA!F:BZ\"\"),48,0))\"),\"\")","v":""}]
[null,null,null,{"$f":"IFERROR(__xludf.DUMMYFUNCTION(\"iferror(VLOOKUP(B738,IMPORTRANGE(\"\"https://docs.google.com/spreadsheets/d/1Kptv1Yhe55NnKrQfatjnFhSoEKdPJ_02VtssK9GkJPk/edit#gid=0\"\",\"\"RWA!F:BZ\"\"),44,0))\"),\"\")","v":""},{"$f":"IFERROR(__xludf.DUMMYFUNCTION(\"iferror(VLOOKUP(B738,IMPORTRANGE(\"\"https://docs.google.com/spreadsheets/d/1Kptv1Yhe55NnKrQfatjnFhSoEKdPJ_02VtssK9GkJPk/edit#gid=0\"\",\"\"RWA!F:BZ\"\"),48,0))\"),\"\")","v":""}]
[null,null,null,{"$f":"IFERROR(__xludf.DUMMYFUNCTION(\"iferror(VLOOKUP(B739,IMPORTRANGE(\"\"https://docs.google.com/spreadsheets/d/1Kptv1Yhe55NnKrQfatjnFhSoEKdPJ_02VtssK9GkJPk/edit#gid=0\"\",\"\"RWA!F:BZ\"\"),44,0))\"),\"\")","v":""},{"$f":"IFERROR(__xludf.DUMMYFUNCTION(\"iferror(VLOOKUP(B739,IMPORTRANGE(\"\"https://docs.google.com/spreadsheets/d/1Kptv1Yhe55NnKrQfatjnFhSoEKdPJ_02VtssK9GkJPk/edit#gid=0\"\",\"\"RWA!F:BZ\"\"),48,0))\"),\"\")","v":""}]
[null,null,null,{"$f":"IFERROR(__xludf.DUMMYFUNCTION(\"iferror(VLOOKUP(B740,IMPORTRANGE(\"\"https://docs.google.com/spreadsheets/d/1Kptv1Yhe55NnKrQfatjnFhSoEKdPJ_02VtssK9GkJPk/edit#gid=0\"\",\"\"RWA!F:BZ\"\"),44,0))\"),\"\")","v":""},{"$f":"IFERROR(__xludf.DUMMYFUNCTION(\"iferror(VLOOKUP(B740,IMPORTRANGE(\"\"https://docs.google.com/spreadsheets/d/1Kptv1Yhe55NnKrQfatjnFhSoEKdPJ_02VtssK9GkJPk/edit#gid=0\"\",\"\"RWA!F:BZ\"\"),48,0))\"),\"\")","v":""}]
[null,null,null,{"$f":"IFERROR(__xludf.DUMMYFUNCTION(\"iferror(VLOOKUP(B741,IMPORTRANGE(\"\"https://docs.google.com/spreadsheets/d/1Kptv1Yhe55NnKrQfatjnFhSoEKdPJ_02VtssK9GkJPk/edit#gid=0\"\",\"\"RWA!F:BZ\"\"),44,0))\"),\"\")","v":""},{"$f":"IFERROR(__xludf.DUMMYFUNCTION(\"iferror(VLOOKUP(B741,IMPORTRANGE(\"\"https://docs.google.com/spreadsheets/d/1Kptv1Yhe55NnKrQfatjnFhSoEKdPJ_02VtssK9GkJPk/edit#gid=0\"\",\"\"RWA!F:BZ\"\"),48,0))\"),\"\")","v":""}]
[null,null,null,{"$f":"IFERROR(__xludf.DUMMYFUNCTION(\"iferror(VLOOKUP(B742,IMPORTRANGE(\"\"https://docs.google.com/spreadsheets/d/1Kptv1Yhe55NnKrQfatjnFhSoEKdPJ_02VtssK9GkJPk/edit#gid=0\"\",\"\"RWA!F:BZ\"\"),44,0))\"),\"\")","v":""},{"$f":"IFERROR(__xludf.DUMMYFUNCTION(\"iferror(VLOOKUP(B742,IMPORTRANGE(\"\"https://docs.google.com/spreadsheets/d/1Kptv1Yhe55NnKrQfatjnFhSoEKdPJ_02VtssK9GkJPk/edit#gid=0\"\",\"\"RWA!F:BZ\"\"),48,0))\"),\"\")","v":""}]
[null,null,null,{"$f":"IFERROR(__xludf.DUMMYFUNCTION(\"iferror(VLOOKUP(B743,IMPORTRANGE(\"\"https://docs.google.com/spreadsheets/d/1Kptv1Yhe55NnKrQfatjnFhSoEKdPJ_02VtssK9GkJPk/edit#gid=0\"\",\"\"RWA!F:BZ\"\"),44,0))\"),\"\")","v":""},{"$f":"IFERROR(__xludf.DUMMYFUNCTION(\"iferror(VLOOKUP(B743,IMPORTRANGE(\"\"https://docs.google.com/spreadsheets/d/1Kptv1Yhe55NnKrQfatjnFhSoEKdPJ_02VtssK9GkJPk/edit#gid=0\"\",\"\"RWA!F:BZ\"\"),48,0))\"),\"\")","v":""}]
[null,null,null,{"$f":"IFERROR(__xludf.DUMMYFUNCTION(\"iferror(VLOOKUP(B744,IMPORTRANGE(\"\"https://docs.google.com/spreadsheets/d/1Kptv1Yhe55NnKrQfatjnFhSoEKdPJ_02VtssK9GkJPk/edit#gid=0\"\",\"\"RWA!F:BZ\"\"),44,0))\"),\"\")","v":""},{"$f":"IFERROR(__xludf.DUMMYFUNCTION(\"iferror(VLOOKUP(B744,IMPORTRANGE(\"\"https://docs.google.com/spreadsheets/d/1Kptv1Yhe55NnKrQfatjnFhSoEKdPJ_02VtssK9GkJPk/edit#gid=0\"\",\"\"RWA!F:BZ\"\"),48,0))\"),\"\")","v":""}]
[null,null,null,{"$f":"IFERROR(__xludf.DUMMYFUNCTION(\"iferror(VLOOKUP(B745,IMPORTRANGE(\"\"https://docs.google.com/spreadsheets/d/1Kptv1Yhe55NnKrQfatjnFhSoEKdPJ_02VtssK9GkJPk/edit#gid=0\"\",\"\"RWA!F:BZ\"\"),44,0))\"),\"\")","v":""},{"$f":"IFERROR(__xludf.DUMMYFUNCTION(\"iferror(VLOOKUP(B745,IMPORTRANGE(\"\"https://docs.google.com/spreadsheets/d/1Kptv1Yhe55NnKrQfatjnFhSoEKdPJ_02VtssK9GkJPk/edit#gid=0\"\",\"\"RWA!F:BZ\"\"),48,0))\"),\"\")","v":""}]
[null,null,null,{"$f":"IFERROR(__xludf.DUMMYFUNCTION(\"iferror(VLOOKUP(B746,IMPORTRANGE(\"\"https://docs.google.com/spreadsheets/d/1Kptv1Yhe55NnKrQfatjnFhSoEKdPJ_02VtssK9GkJPk/edit#gid=0\"\",\"\"RWA!F:BZ\"\"),44,0))\"),\"\")","v":""},{"$f":"IFERROR(__xludf.DUMMYFUNCTION(\"iferror(VLOOKUP(B746,IMPORTRANGE(\"\"https://docs.google.com/spreadsheets/d/1Kptv1Yhe55NnKrQfatjnFhSoEKdPJ_02VtssK9GkJPk/edit#gid=0\"\",\"\"RWA!F:BZ\"\"),48,0))\"),\"\")","v":""}]
[null,null,null,{"$f":"IFERROR(__xludf.DUMMYFUNCTION(\"iferror(VLOOKUP(B747,IMPORTRANGE(\"\"https://docs.google.com/spreadsheets/d/1Kptv1Yhe55NnKrQfatjnFhSoEKdPJ_02VtssK9GkJPk/edit#gid=0\"\",\"\"RWA!F:BZ\"\"),44,0))\"),\"\")","v":""},{"$f":"IFERROR(__xludf.DUMMYFUNCTION(\"iferror(VLOOKUP(B747,IMPORTRANGE(\"\"https://docs.google.com/spreadsheets/d/1Kptv1Yhe55NnKrQfatjnFhSoEKdPJ_02VtssK9GkJPk/edit#gid=0\"\",\"\"RWA!F:BZ\"\"),48,0))\"),\"\")","v":""}]
[null,null,null,{"$f":"IFERROR(__xludf.DUMMYFUNCTION(\"iferror(VLOOKUP(B748,IMPORTRANGE(\"\"https://docs.google.com/spreadsheets/d/1Kptv1Yhe55NnKrQfatjnFhSoEKdPJ_02VtssK9GkJPk/edit#gid=0\"\",\"\"RWA!F:BZ\"\"),44,0))\"),\"\")","v":""},{"$f":"IFERROR(__xludf.DUMMYFUNCTION(\"iferror(VLOOKUP(B748,IMPORTRANGE(\"\"https://docs.google.com/spreadsheets/d/1Kptv1Yhe55NnKrQfatjnFhSoEKdPJ_02VtssK9GkJPk/edit#gid=0\"\",\"\"RWA!F:BZ\"\"),48,0))\"),\"\")","v":""}]
[null,null,null,{"$f":"IFERROR(__xludf.DUMMYFUNCTION(\"iferror(VLOOKUP(B749,IMPORTRANGE(\"\"https://docs.google.com/spreadsheets/d/1Kptv1Yhe55NnKrQfatjnFhSoEKdPJ_02VtssK9GkJPk/edit#gid=0\"\",\"\"RWA!F:BZ\"\"),44,0))\"),\"\")","v":""},{"$f":"IFERROR(__xludf.DUMMYFUNCTION(\"iferror(VLOOKUP(B749,IMPORTRANGE(\"\"https://docs.google.com/spreadsheets/d/1Kptv1Yhe55NnKrQfatjnFhSoEKdPJ_02VtssK9GkJPk/edit#gid=0\"\",\"\"RWA!F:BZ\"\"),48,0))\"),\"\")","v":""}]
[null,null,null,{"$f":"IFERROR(__xludf.DUMMYFUNCTION(\"iferror(VLOOKUP(B750,IMPORTRANGE(\"\"https://docs.google.com/spreadsheets/d/1Kptv1Yhe55NnKrQfatjnFhSoEKdPJ_02VtssK9GkJPk/edit#gid=0\"\",\"\"RWA!F:BZ\"\"),44,0))\"),\"\")","v":""},{"$f":"IFERROR(__xludf.DUMMYFUNCTION(\"iferror(VLOOKUP(B750,IMPORTRANGE(\"\"https://docs.google.com/spreadsheets/d/1Kptv1Yhe55NnKrQfatjnFhSoEKdPJ_02VtssK9GkJPk/edit#gid=0\"\",\"\"RWA!F:BZ\"\"),48,0))\"),\"\")","v":""}]
[null,null,null,{"$f":"IFERROR(__xludf.DUMMYFUNCTION(\"iferror(VLOOKUP(B751,IMPORTRANGE(\"\"https://docs.google.com/spreadsheets/d/1Kptv1Yhe55NnKrQfatjnFhSoEKdPJ_02VtssK9GkJPk/edit#gid=0\"\",\"\"RWA!F:BZ\"\"),44,0))\"),\"\")","v":""},{"$f":"IFERROR(__xludf.DUMMYFUNCTION(\"iferror(VLOOKUP(B751,IMPORTRANGE(\"\"https://docs.google.com/spreadsheets/d/1Kptv1Yhe55NnKrQfatjnFhSoEKdPJ_02VtssK9GkJPk/edit#gid=0\"\",\"\"RWA!F:BZ\"\"),48,0))\"),\"\")","v":""}]
[null,null,null,{"$f":"IFERROR(__xludf.DUMMYFUNCTION(\"iferror(VLOOKUP(B752,IMPORTRANGE(\"\"https://docs.google.com/spreadsheets/d/1Kptv1Yhe55NnKrQfatjnFhSoEKdPJ_02VtssK9GkJPk/edit#gid=0\"\",\"\"RWA!F:BZ\"\"),44,0))\"),\"\")","v":""},{"$f":"IFERROR(__xludf.DUMMYFUNCTION(\"iferror(VLOOKUP(B752,IMPORTRANGE(\"\"https://docs.google.com/spreadsheets/d/1Kptv1Yhe55NnKrQfatjnFhSoEKdPJ_02VtssK9GkJPk/edit#gid=0\"\",\"\"RWA!F:BZ\"\"),48,0))\"),\"\")","v":""}]
[null,null,null,{"$f":"IFERROR(__xludf.DUMMYFUNCTION(\"iferror(VLOOKUP(B753,IMPORTRANGE(\"\"https://docs.google.com/spreadsheets/d/1Kptv1Yhe55NnKrQfatjnFhSoEKdPJ_02VtssK9GkJPk/edit#gid=0\"\",\"\"RWA!F:BZ\"\"),44,0))\"),\"\")","v":""},{"$f":"IFERROR(__xludf.DUMMYFUNCTION(\"iferror(VLOOKUP(B753,IMPORTRANGE(\"\"https://docs.google.com/spreadsheets/d/1Kptv1Yhe55NnKrQfatjnFhSoEKdPJ_02VtssK9GkJPk/edit#gid=0\"\",\"\"RWA!F:BZ\"\"),48,0))\"),\"\")","v":""}]
[null,null,null,{"$f":"IFERROR(__xludf.DUMMYFUNCTION(\"iferror(VLOOKUP(B754,IMPORTRANGE(\"\"https://docs.google.com/spreadsheets/d/1Kptv1Yhe55NnKrQfatjnFhSoEKdPJ_02VtssK9GkJPk/edit#gid=0\"\",\"\"RWA!F:BZ\"\"),44,0))\"),\"\")","v":""},{"$f":"IFERROR(__xludf.DUMMYFUNCTION(\"iferror(VLOOKUP(B754,IMPORTRANGE(\"\"https://docs.google.com/spreadsheets/d/1Kptv1Yhe55NnKrQfatjnFhSoEKdPJ_02VtssK9GkJPk/edit#gid=0\"\",\"\"RWA!F:BZ\"\"),48,0))\"),\"\")","v":""}]
[null,null,null,{"$f":"IFERROR(__xludf.DUMMYFUNCTION(\"iferror(VLOOKUP(B755,IMPORTRANGE(\"\"https://docs.google.com/spreadsheets/d/1Kptv1Yhe55NnKrQfatjnFhSoEKdPJ_02VtssK9GkJPk/edit#gid=0\"\",\"\"RWA!F:BZ\"\"),44,0))\"),\"\")","v":""},{"$f":"IFERROR(__xludf.DUMMYFUNCTION(\"iferror(VLOOKUP(B755,IMPORTRANGE(\"\"https://docs.google.com/spreadsheets/d/1Kptv1Yhe55NnKrQfatjnFhSoEKdPJ_02VtssK9GkJPk/edit#gid=0\"\",\"\"RWA!F:BZ\"\"),48,0))\"),\"\")","v":""}]
[null,null,null,{"$f":"IFERROR(__xludf.DUMMYFUNCTION(\"iferror(VLOOKUP(B756,IMPORTRANGE(\"\"https://docs.google.com/spreadsheets/d/1Kptv1Yhe55NnKrQfatjnFhSoEKdPJ_02VtssK9GkJPk/edit#gid=0\"\",\"\"RWA!F:BZ\"\"),44,0))\"),\"\")","v":""},{"$f":"IFERROR(__xludf.DUMMYFUNCTION(\"iferror(VLOOKUP(B756,IMPORTRANGE(\"\"https://docs.google.com/spreadsheets/d/1Kptv1Yhe55NnKrQfatjnFhSoEKdPJ_02VtssK9GkJPk/edit#gid=0\"\",\"\"RWA!F:BZ\"\"),48,0))\"),\"\")","v":""}]
[null,null,null,{"$f":"IFERROR(__xludf.DUMMYFUNCTION(\"iferror(VLOOKUP(B757,IMPORTRANGE(\"\"https://docs.google.com/spreadsheets/d/1Kptv1Yhe55NnKrQfatjnFhSoEKdPJ_02VtssK9GkJPk/edit#gid=0\"\",\"\"RWA!F:BZ\"\"),44,0))\"),\"\")","v":""},{"$f":"IFERROR(__xludf.DUMMYFUNCTION(\"iferror(VLOOKUP(B757,IMPORTRANGE(\"\"https://docs.google.com/spreadsheets/d/1Kptv1Yhe55NnKrQfatjnFhSoEKdPJ_02VtssK9GkJPk/edit#gid=0\"\",\"\"RWA!F:BZ\"\"),48,0))\"),\"\")","v":""}]
[null,null,null,{"$f":"IFERROR(__xludf.DUMMYFUNCTION(\"iferror(VLOOKUP(B758,IMPORTRANGE(\"\"https://docs.google.com/spreadsheets/d/1Kptv1Yhe55NnKrQfatjnFhSoEKdPJ_02VtssK9GkJPk/edit#gid=0\"\",\"\"RWA!F:BZ\"\"),44,0))\"),\"\")","v":""},{"$f":"IFERROR(__xludf.DUMMYFUNCTION(\"iferror(VLOOKUP(B758,IMPORTRANGE(\"\"https://docs.google.com/spreadsheets/d/1Kptv1Yhe55NnKrQfatjnFhSoEKdPJ_02VtssK9GkJPk/edit#gid=0\"\",\"\"RWA!F:BZ\"\"),48,0))\"),\"\")","v":""}]
[null,null,null,{"$f":"IFERROR(__xludf.DUMMYFUNCTION(\"iferror(VLOOKUP(B759,IMPORTRANGE(\"\"https://docs.google.com/spreadsheets/d/1Kptv1Yhe55NnKrQfatjnFhSoEKdPJ_02VtssK9GkJPk/edit#gid=0\"\",\"\"RWA!F:BZ\"\"),44,0))\"),\"\")","v":""},{"$f":"IFERROR(__xludf.DUMMYFUNCTION(\"iferror(VLOOKUP(B759,IMPORTRANGE(\"\"https://docs.google.com/spreadsheets/d/1Kptv1Yhe55NnKrQfatjnFhSoEKdPJ_02VtssK9GkJPk/edit#gid=0\"\",\"\"RWA!F:BZ\"\"),48,0))\"),\"\")","v":""}]
[null,null,null,{"$f":"IFERROR(__xludf.DUMMYFUNCTION(\"iferror(VLOOKUP(B760,IMPORTRANGE(\"\"https://docs.google.com/spreadsheets/d/1Kptv1Yhe55NnKrQfatjnFhSoEKdPJ_02VtssK9GkJPk/edit#gid=0\"\",\"\"RWA!F:BZ\"\"),44,0))\"),\"\")","v":""},{"$f":"IFERROR(__xludf.DUMMYFUNCTION(\"iferror(VLOOKUP(B760,IMPORTRANGE(\"\"https://docs.google.com/spreadsheets/d/1Kptv1Yhe55NnKrQfatjnFhSoEKdPJ_02VtssK9GkJPk/edit#gid=0\"\",\"\"RWA!F:BZ\"\"),48,0))\"),\"\")","v":""}]
[null,null,null,{"$f":"IFERROR(__xludf.DUMMYFUNCTION(\"iferror(VLOOKUP(B761,IMPORTRANGE(\"\"https://docs.google.com/spreadsheets/d/1Kptv1Yhe55NnKrQfatjnFhSoEKdPJ_02VtssK9GkJPk/edit#gid=0\"\",\"\"RWA!F:BZ\"\"),44,0))\"),\"\")","v":""},{"$f":"IFERROR(__xludf.DUMMYFUNCTION(\"iferror(VLOOKUP(B761,IMPORTRANGE(\"\"https://docs.google.com/spreadsheets/d/1Kptv1Yhe55NnKrQfatjnFhSoEKdPJ_02VtssK9GkJPk/edit#gid=0\"\",\"\"RWA!F:BZ\"\"),48,0))\"),\"\")","v":""}]
[null,null,null,{"$f":"IFERROR(__xludf.DUMMYFUNCTION(\"iferror(VLOOKUP(B762,IMPORTRANGE(\"\"https://docs.google.com/spreadsheets/d/1Kptv1Yhe55NnKrQfatjnFhSoEKdPJ_02VtssK9GkJPk/edit#gid=0\"\",\"\"RWA!F:BZ\"\"),44,0))\"),\"\")","v":""},{"$f":"IFERROR(__xludf.DUMMYFUNCTION(\"iferror(VLOOKUP(B762,IMPORTRANGE(\"\"https://docs.google.com/spreadsheets/d/1Kptv1Yhe55NnKrQfatjnFhSoEKdPJ_02VtssK9GkJPk/edit#gid=0\"\",\"\"RWA!F:BZ\"\"),48,0))\"),\"\")","v":""}]
[null,null,null,{"$f":"IFERROR(__xludf.DUMMYFUNCTION(\"iferror(VLOOKUP(B763,IMPORTRANGE(\"\"https://docs.google.com/spreadsheets/d/1Kptv1Yhe55NnKrQfatjnFhSoEKdPJ_02VtssK9GkJPk/edit#gid=0\"\",\"\"RWA!F:BZ\"\"),44,0))\"),\"\")","v":""},{"$f":"IFERROR(__xludf.DUMMYFUNCTION(\"iferror(VLOOKUP(B763,IMPORTRANGE(\"\"https://docs.google.com/spreadsheets/d/1Kptv1Yhe55NnKrQfatjnFhSoEKdPJ_02VtssK9GkJPk/edit#gid=0\"\",\"\"RWA!F:BZ\"\"),48,0))\"),\"\")","v":""}]
[null,null,null,{"$f":"IFERROR(__xludf.DUMMYFUNCTION(\"iferror(VLOOKUP(B764,IMPORTRANGE(\"\"https://docs.google.com/spreadsheets/d/1Kptv1Yhe55NnKrQfatjnFhSoEKdPJ_02VtssK9GkJPk/edit#gid=0\"\",\"\"RWA!F:BZ\"\"),44,0))\"),\"\")","v":""},{"$f":"IFERROR(__xludf.DUMMYFUNCTION(\"iferror(VLOOKUP(B764,IMPORTRANGE(\"\"https://docs.google.com/spreadsheets/d/1Kptv1Yhe55NnKrQfatjnFhSoEKdPJ_02VtssK9GkJPk/edit#gid=0\"\",\"\"RWA!F:BZ\"\"),48,0))\"),\"\")","v":""}]
[null,null,null,{"$f":"IFERROR(__xludf.DUMMYFUNCTION(\"iferror(VLOOKUP(B765,IMPORTRANGE(\"\"https://docs.google.com/spreadsheets/d/1Kptv1Yhe55NnKrQfatjnFhSoEKdPJ_02VtssK9GkJPk/edit#gid=0\"\",\"\"RWA!F:BZ\"\"),44,0))\"),\"\")","v":""},{"$f":"IFERROR(__xludf.DUMMYFUNCTION(\"iferror(VLOOKUP(B765,IMPORTRANGE(\"\"https://docs.google.com/spreadsheets/d/1Kptv1Yhe55NnKrQfatjnFhSoEKdPJ_02VtssK9GkJPk/edit#gid=0\"\",\"\"RWA!F:BZ\"\"),48,0))\"),\"\")","v":""}]
[null,null,null,{"$f":"IFERROR(__xludf.DUMMYFUNCTION(\"iferror(VLOOKUP(B766,IMPORTRANGE(\"\"https://docs.google.com/spreadsheets/d/1Kptv1Yhe55NnKrQfatjnFhSoEKdPJ_02VtssK9GkJPk/edit#gid=0\"\",\"\"RWA!F:BZ\"\"),44,0))\"),\"\")","v":""},{"$f":"IFERROR(__xludf.DUMMYFUNCTION(\"iferror(VLOOKUP(B766,IMPORTRANGE(\"\"https://docs.google.com/spreadsheets/d/1Kptv1Yhe55NnKrQfatjnFhSoEKdPJ_02VtssK9GkJPk/edit#gid=0\"\",\"\"RWA!F:BZ\"\"),48,0))\"),\"\")","v":""}]
[null,null,null,{"$f":"IFERROR(__xludf.DUMMYFUNCTION(\"iferror(VLOOKUP(B767,IMPORTRANGE(\"\"https://docs.google.com/spreadsheets/d/1Kptv1Yhe55NnKrQfatjnFhSoEKdPJ_02VtssK9GkJPk/edit#gid=0\"\",\"\"RWA!F:BZ\"\"),44,0))\"),\"\")","v":""},{"$f":"IFERROR(__xludf.DUMMYFUNCTION(\"iferror(VLOOKUP(B767,IMPORTRANGE(\"\"https://docs.google.com/spreadsheets/d/1Kptv1Yhe55NnKrQfatjnFhSoEKdPJ_02VtssK9GkJPk/edit#gid=0\"\",\"\"RWA!F:BZ\"\"),48,0))\"),\"\")","v":""}]
[null,null,null,{"$f":"IFERROR(__xludf.DUMMYFUNCTION(\"iferror(VLOOKUP(B768,IMPORTRANGE(\"\"https://docs.google.com/spreadsheets/d/1Kptv1Yhe55NnKrQfatjnFhSoEKdPJ_02VtssK9GkJPk/edit#gid=0\"\",\"\"RWA!F:BZ\"\"),44,0))\"),\"\")","v":""},{"$f":"IFERROR(__xludf.DUMMYFUNCTION(\"iferror(VLOOKUP(B768,IMPORTRANGE(\"\"https://docs.google.com/spreadsheets/d/1Kptv1Yhe55NnKrQfatjnFhSoEKdPJ_02VtssK9GkJPk/edit#gid=0\"\",\"\"RWA!F:BZ\"\"),48,0))\"),\"\")","v":""}]
[null,null,null,{"$f":"IFERROR(__xludf.DUMMYFUNCTION(\"iferror(VLOOKUP(B769,IMPORTRANGE(\"\"https://docs.google.com/spreadsheets/d/1Kptv1Yhe55NnKrQfatjnFhSoEKdPJ_02VtssK9GkJPk/edit#gid=0\"\",\"\"RWA!F:BZ\"\"),44,0))\"),\"\")","v":""},{"$f":"IFERROR(__xludf.DUMMYFUNCTION(\"iferror(VLOOKUP(B769,IMPORTRANGE(\"\"https://docs.google.com/spreadsheets/d/1Kptv1Yhe55NnKrQfatjnFhSoEKdPJ_02VtssK9GkJPk/edit#gid=0\"\",\"\"RWA!F:BZ\"\"),48,0))\"),\"\")","v":""}]
[null,null,null,{"$f":"IFERROR(__xludf.DUMMYFUNCTION(\"iferror(VLOOKUP(B770,IMPORTRANGE(\"\"https://docs.google.com/spreadsheets/d/1Kptv1Yhe55NnKrQfatjnFhSoEKdPJ_02VtssK9GkJPk/edit#gid=0\"\",\"\"RWA!F:BZ\"\"),44,0))\"),\"\")","v":""},{"$f":"IFERROR(__xludf.DUMMYFUNCTION(\"iferror(VLOOKUP(B770,IMPORTRANGE(\"\"https://docs.google.com/spreadsheets/d/1Kptv1Yhe55NnKrQfatjnFhSoEKdPJ_02VtssK9GkJPk/edit#gid=0\"\",\"\"RWA!F:BZ\"\"),48,0))\"),\"\")","v":""}]
[null,null,null,{"$f":"IFERROR(__xludf.DUMMYFUNCTION(\"iferror(VLOOKUP(B771,IMPORTRANGE(\"\"https://docs.google.com/spreadsheets/d/1Kptv1Yhe55NnKrQfatjnFhSoEKdPJ_02VtssK9GkJPk/edit#gid=0\"\",\"\"RWA!F:BZ\"\"),44,0))\"),\"\")","v":""},{"$f":"IFERROR(__xludf.DUMMYFUNCTION(\"iferror(VLOOKUP(B771,IMPORTRANGE(\"\"https://docs.google.com/spreadsheets/d/1Kptv1Yhe55NnKrQfatjnFhSoEKdPJ_02VtssK9GkJPk/edit#gid=0\"\",\"\"RWA!F:BZ\"\"),48,0))\"),\"\")","v":""}]
[null,null,null,{"$f":"IFERROR(__xludf.DUMMYFUNCTION(\"iferror(VLOOKUP(B772,IMPORTRANGE(\"\"https://docs.google.com/spreadsheets/d/1Kptv1Yhe55NnKrQfatjnFhSoEKdPJ_02VtssK9GkJPk/edit#gid=0\"\",\"\"RWA!F:BZ\"\"),44,0))\"),\"\")","v":""},{"$f":"IFERROR(__xludf.DUMMYFUNCTION(\"iferror(VLOOKUP(B772,IMPORTRANGE(\"\"https://docs.google.com/spreadsheets/d/1Kptv1Yhe55NnKrQfatjnFhSoEKdPJ_02VtssK9GkJPk/edit#gid=0\"\",\"\"RWA!F:BZ\"\"),48,0))\"),\"\")","v":""}]
[null,null,null,{"$f":"IFERROR(__xludf.DUMMYFUNCTION(\"iferror(VLOOKUP(B773,IMPORTRANGE(\"\"https://docs.google.com/spreadsheets/d/1Kptv1Yhe55NnKrQfatjnFhSoEKdPJ_02VtssK9GkJPk/edit#gid=0\"\",\"\"RWA!F:BZ\"\"),44,0))\"),\"\")","v":""},{"$f":"IFERROR(__xludf.DUMMYFUNCTION(\"iferror(VLOOKUP(B773,IMPORTRANGE(\"\"https://docs.google.com/spreadsheets/d/1Kptv1Yhe55NnKrQfatjnFhSoEKdPJ_02VtssK9GkJPk/edit#gid=0\"\",\"\"RWA!F:BZ\"\"),48,0))\"),\"\")","v":""}]
[null,null,null,{"$f":"IFERROR(__xludf.DUMMYFUNCTION(\"iferror(VLOOKUP(B774,IMPORTRANGE(\"\"https://docs.google.com/spreadsheets/d/1Kptv1Yhe55NnKrQfatjnFhSoEKdPJ_02VtssK9GkJPk/edit#gid=0\"\",\"\"RWA!F:BZ\"\"),44,0))\"),\"\")","v":""},{"$f":"IFERROR(__xludf.DUMMYFUNCTION(\"iferror(VLOOKUP(B774,IMPORTRANGE(\"\"https://docs.google.com/spreadsheets/d/1Kptv1Yhe55NnKrQfatjnFhSoEKdPJ_02VtssK9GkJPk/edit#gid=0\"\",\"\"RWA!F:BZ\"\"),48,0))\"),\"\")","v":""}]
[null,null,null,{"$f":"IFERROR(__xludf.DUMMYFUNCTION(\"iferror(VLOOKUP(B775,IMPORTRANGE(\"\"https://docs.google.com/spreadsheets/d/1Kptv1Yhe55NnKrQfatjnFhSoEKdPJ_02VtssK9GkJPk/edit#gid=0\"\",\"\"RWA!F:BZ\"\"),44,0))\"),\"\")","v":""},{"$f":"IFERROR(__xludf.DUMMYFUNCTION(\"iferror(VLOOKUP(B775,IMPORTRANGE(\"\"https://docs.google.com/spreadsheets/d/1Kptv1Yhe55NnKrQfatjnFhSoEKdPJ_02VtssK9GkJPk/edit#gid=0\"\",\"\"RWA!F:BZ\"\"),48,0))\"),\"\")","v":""}]
[null,null,null,{"$f":"IFERROR(__xludf.DUMMYFUNCTION(\"iferror(VLOOKUP(B776,IMPORTRANGE(\"\"https://docs.google.com/spreadsheets/d/1Kptv1Yhe55NnKrQfatjnFhSoEKdPJ_02VtssK9GkJPk/edit#gid=0\"\",\"\"RWA!F:BZ\"\"),44,0))\"),\"\")","v":""},{"$f":"IFERROR(__xludf.DUMMYFUNCTION(\"iferror(VLOOKUP(B776,IMPORTRANGE(\"\"https://docs.google.com/spreadsheets/d/1Kptv1Yhe55NnKrQfatjnFhSoEKdPJ_02VtssK9GkJPk/edit#gid=0\"\",\"\"RWA!F:BZ\"\"),48,0))\"),\"\")","v":""}]
[null,null,null,{"$f":"IFERROR(__xludf.DUMMYFUNCTION(\"iferror(VLOOKUP(B777,IMPORTRANGE(\"\"https://docs.google.com/spreadsheets/d/1Kptv1Yhe55NnKrQfatjnFhSoEKdPJ_02VtssK9GkJPk/edit#gid=0\"\",\"\"RWA!F:BZ\"\"),44,0))\"),\"\")","v":""},{"$f":"IFERROR(__xludf.DUMMYFUNCTION(\"iferror(VLOOKUP(B777,IMPORTRANGE(\"\"https://docs.google.com/spreadsheets/d/1Kptv1Yhe55NnKrQfatjnFhSoEKdPJ_02VtssK9GkJPk/edit#gid=0\"\",\"\"RWA!F:BZ\"\"),48,0))\"),\"\")","v":""}]
[null,null,null,{"$f":"IFERROR(__xludf.DUMMYFUNCTION(\"iferror(VLOOKUP(B778,IMPORTRANGE(\"\"https://docs.google.com/spreadsheets/d/1Kptv1Yhe55NnKrQfatjnFhSoEKdPJ_02VtssK9GkJPk/edit#gid=0\"\",\"\"RWA!F:BZ\"\"),44,0))\"),\"\")","v":""},{"$f":"IFERROR(__xludf.DUMMYFUNCTION(\"iferror(VLOOKUP(B778,IMPORTRANGE(\"\"https://docs.google.com/spreadsheets/d/1Kptv1Yhe55NnKrQfatjnFhSoEKdPJ_02VtssK9GkJPk/edit#gid=0\"\",\"\"RWA!F:BZ\"\"),48,0))\"),\"\")","v":""}]
[null,null,null,{"$f":"IFERROR(__xludf.DUMMYFUNCTION(\"iferror(VLOOKUP(B779,IMPORTRANGE(\"\"https://docs.google.com/spreadsheets/d/1Kptv1Yhe55NnKrQfatjnFhSoEKdPJ_02VtssK9GkJPk/edit#gid=0\"\",\"\"RWA!F:BZ\"\"),44,0))\"),\"\")","v":""},{"$f":"IFERROR(__xludf.DUMMYFUNCTION(\"iferror(VLOOKUP(B779,IMPORTRANGE(\"\"https://docs.google.com/spreadsheets/d/1Kptv1Yhe55NnKrQfatjnFhSoEKdPJ_02VtssK9GkJPk/edit#gid=0\"\",\"\"RWA!F:BZ\"\"),48,0))\"),\"\")","v":""}]
[null,null,null,{"$f":"IFERROR(__xludf.DUMMYFUNCTION(\"iferror(VLOOKUP(B780,IMPORTRANGE(\"\"https://docs.google.com/spreadsheets/d/1Kptv1Yhe55NnKrQfatjnFhSoEKdPJ_02VtssK9GkJPk/edit#gid=0\"\",\"\"RWA!F:BZ\"\"),44,0))\"),\"\")","v":""},{"$f":"IFERROR(__xludf.DUMMYFUNCTION(\"iferror(VLOOKUP(B780,IMPORTRANGE(\"\"https://docs.google.com/spreadsheets/d/1Kptv1Yhe55NnKrQfatjnFhSoEKdPJ_02VtssK9GkJPk/edit#gid=0\"\",\"\"RWA!F:BZ\"\"),48,0))\"),\"\")","v":""}]
[null,null,null,{"$f":"IFERROR(__xludf.DUMMYFUNCTION(\"iferror(VLOOKUP(B781,IMPORTRANGE(\"\"https://docs.google.com/spreadsheets/d/1Kptv1Yhe55NnKrQfatjnFhSoEKdPJ_02VtssK9GkJPk/edit#gid=0\"\",\"\"RWA!F:BZ\"\"),44,0))\"),\"\")","v":""},{"$f":"IFERROR(__xludf.DUMMYFUNCTION(\"iferror(VLOOKUP(B781,IMPORTRANGE(\"\"https://docs.google.com/spreadsheets/d/1Kptv1Yhe55NnKrQfatjnFhSoEKdPJ_02VtssK9GkJPk/edit#gid=0\"\",\"\"RWA!F:BZ\"\"),48,0))\"),\"\")","v":""}]
[null,null,null,{"$f":"IFERROR(__xludf.DUMMYFUNCTION(\"iferror(VLOOKUP(B782,IMPORTRANGE(\"\"https://docs.google.com/spreadsheets/d/1Kptv1Yhe55NnKrQfatjnFhSoEKdPJ_02VtssK9GkJPk/edit#gid=0\"\",\"\"RWA!F:BZ\"\"),44,0))\"),\"\")","v":""},{"$f":"IFERROR(__xludf.DUMMYFUNCTION(\"iferror(VLOOKUP(B782,IMPORTRANGE(\"\"https://docs.google.com/spreadsheets/d/1Kptv1Yhe55NnKrQfatjnFhSoEKdPJ_02VtssK9GkJPk/edit#gid=0\"\",\"\"RWA!F:BZ\"\"),48,0))\"),\"\")","v":""}]
[null,null,null,{"$f":"IFERROR(__xludf.DUMMYFUNCTION(\"iferror(VLOOKUP(B783,IMPORTRANGE(\"\"https://docs.google.com/spreadsheets/d/1Kptv1Yhe55NnKrQfatjnFhSoEKdPJ_02VtssK9GkJPk/edit#gid=0\"\",\"\"RWA!F:BZ\"\"),44,0))\"),\"\")","v":""},{"$f":"IFERROR(__xludf.DUMMYFUNCTION(\"iferror(VLOOKUP(B783,IMPORTRANGE(\"\"https://docs.google.com/spreadsheets/d/1Kptv1Yhe55NnKrQfatjnFhSoEKdPJ_02VtssK9GkJPk/edit#gid=0\"\",\"\"RWA!F:BZ\"\"),48,0))\"),\"\")","v":""}]
[null,null,null,{"$f":"IFERROR(__xludf.DUMMYFUNCTION(\"iferror(VLOOKUP(B784,IMPORTRANGE(\"\"https://docs.google.com/spreadsheets/d/1Kptv1Yhe55NnKrQfatjnFhSoEKdPJ_02VtssK9GkJPk/edit#gid=0\"\",\"\"RWA!F:BZ\"\"),44,0))\"),\"\")","v":""},{"$f":"IFERROR(__xludf.DUMMYFUNCTION(\"iferror(VLOOKUP(B784,IMPORTRANGE(\"\"https://docs.google.com/spreadsheets/d/1Kptv1Yhe55NnKrQfatjnFhSoEKdPJ_02VtssK9GkJPk/edit#gid=0\"\",\"\"RWA!F:BZ\"\"),48,0))\"),\"\")","v":""}]
[null,null,null,{"$f":"IFERROR(__xludf.DUMMYFUNCTION(\"iferror(VLOOKUP(B785,IMPORTRANGE(\"\"https://docs.google.com/spreadsheets/d/1Kptv1Yhe55NnKrQfatjnFhSoEKdPJ_02VtssK9GkJPk/edit#gid=0\"\",\"\"RWA!F:BZ\"\"),44,0))\"),\"\")","v":""},{"$f":"IFERROR(__xludf.DUMMYFUNCTION(\"iferror(VLOOKUP(B785,IMPORTRANGE(\"\"https://docs.google.com/spreadsheets/d/1Kptv1Yhe55NnKrQfatjnFhSoEKdPJ_02VtssK9GkJPk/edit#gid=0\"\",\"\"RWA!F:BZ\"\"),48,0))\"),\"\")","v":""}]
[null,null,null,{"$f":"IFERROR(__xludf.DUMMYFUNCTION(\"iferror(VLOOKUP(B786,IMPORTRANGE(\"\"https://docs.google.com/spreadsheets/d/1Kptv1Yhe55NnKrQfatjnFhSoEKdPJ_02VtssK9GkJPk/edit#gid=0\"\",\"\"RWA!F:BZ\"\"),44,0))\"),\"\")","v":""},{"$f":"IFERROR(__xludf.DUMMYFUNCTION(\"iferror(VLOOKUP(B786,IMPORTRANGE(\"\"https://docs.google.com/spreadsheets/d/1Kptv1Yhe55NnKrQfatjnFhSoEKdPJ_02VtssK9GkJPk/edit#gid=0\"\",\"\"RWA!F:BZ\"\"),48,0))\"),\"\")","v":""}]
[null,null,null,{"$f":"IFERROR(__xludf.DUMMYFUNCTION(\"iferror(VLOOKUP(B787,IMPORTRANGE(\"\"https://docs.google.com/spreadsheets/d/1Kptv1Yhe55NnKrQfatjnFhSoEKdPJ_02VtssK9GkJPk/edit#gid=0\"\",\"\"RWA!F:BZ\"\"),44,0))\"),\"\")","v":""},{"$f":"IFERROR(__xludf.DUMMYFUNCTION(\"iferror(VLOOKUP(B787,IMPORTRANGE(\"\"https://docs.google.com/spreadsheets/d/1Kptv1Yhe55NnKrQfatjnFhSoEKdPJ_02VtssK9GkJPk/edit#gid=0\"\",\"\"RWA!F:BZ\"\"),48,0))\"),\"\")","v":""}]
[null,null,null,{"$f":"IFERROR(__xludf.DUMMYFUNCTION(\"iferror(VLOOKUP(B788,IMPORTRANGE(\"\"https://docs.google.com/spreadsheets/d/1Kptv1Yhe55NnKrQfatjnFhSoEKdPJ_02VtssK9GkJPk/edit#gid=0\"\",\"\"RWA!F:BZ\"\"),44,0))\"),\"\")","v":""},{"$f":"IFERROR(__xludf.DUMMYFUNCTION(\"iferror(VLOOKUP(B788,IMPORTRANGE(\"\"https://docs.google.com/spreadsheets/d/1Kptv1Yhe55NnKrQfatjnFhSoEKdPJ_02VtssK9GkJPk/edit#gid=0\"\",\"\"RWA!F:BZ\"\"),48,0))\"),\"\")","v":""}]
[null,null,null,{"$f":"IFERROR(__xludf.DUMMYFUNCTION(\"iferror(VLOOKUP(B789,IMPORTRANGE(\"\"https://docs.google.com/spreadsheets/d/1Kptv1Yhe55NnKrQfatjnFhSoEKdPJ_02VtssK9GkJPk/edit#gid=0\"\",\"\"RWA!F:BZ\"\"),44,0))\"),\"\")","v":""},{"$f":"IFERROR(__xludf.DUMMYFUNCTION(\"iferror(VLOOKUP(B789,IMPORTRANGE(\"\"https://docs.google.com/spreadsheets/d/1Kptv1Yhe55NnKrQfatjnFhSoEKdPJ_02VtssK9GkJPk/edit#gid=0\"\",\"\"RWA!F:BZ\"\"),48,0))\"),\"\")","v":""}]
[null,null,null,{"$f":"IFERROR(__xludf.DUMMYFUNCTION(\"iferror(VLOOKUP(B790,IMPORTRANGE(\"\"https://docs.google.com/spreadsheets/d/1Kptv1Yhe55NnKrQfatjnFhSoEKdPJ_02VtssK9GkJPk/edit#gid=0\"\",\"\"RWA!F:BZ\"\"),44,0))\"),\"\")","v":""},{"$f":"IFERROR(__xludf.DUMMYFUNCTION(\"iferror(VLOOKUP(B790,IMPORTRANGE(\"\"https://docs.google.com/spreadsheets/d/1Kptv1Yhe55NnKrQfatjnFhSoEKdPJ_02VtssK9GkJPk/edit#gid=0\"\",\"\"RWA!F:BZ\"\"),48,0))\"),\"\")","v":""}]
[null,null,null,{"$f":"IFERROR(__xludf.DUMMYFUNCTION(\"iferror(VLOOKUP(B791,IMPORTRANGE(\"\"https://docs.google.com/spreadsheets/d/1Kptv1Yhe55NnKrQfatjnFhSoEKdPJ_02VtssK9GkJPk/edit#gid=0\"\",\"\"RWA!F:BZ\"\"),44,0))\"),\"\")","v":""},{"$f":"IFERROR(__xludf.DUMMYFUNCTION(\"iferror(VLOOKUP(B791,IMPORTRANGE(\"\"https://docs.google.com/spreadsheets/d/1Kptv1Yhe55NnKrQfatjnFhSoEKdPJ_02VtssK9GkJPk/edit#gid=0\"\",\"\"RWA!F:BZ\"\"),48,0))\"),\"\")","v":""}]
[null,null,null,{"$f":"IFERROR(__xludf.DUMMYFUNCTION(\"iferror(VLOOKUP(B792,IMPORTRANGE(\"\"https://docs.google.com/spreadsheets/d/1Kptv1Yhe55NnKrQfatjnFhSoEKdPJ_02VtssK9GkJPk/edit#gid=0\"\",\"\"RWA!F:BZ\"\"),44,0))\"),\"\")","v":""},{"$f":"IFERROR(__xludf.DUMMYFUNCTION(\"iferror(VLOOKUP(B792,IMPORTRANGE(\"\"https://docs.google.com/spreadsheets/d/1Kptv1Yhe55NnKrQfatjnFhSoEKdPJ_02VtssK9GkJPk/edit#gid=0\"\",\"\"RWA!F:BZ\"\"),48,0))\"),\"\")","v":""}]
[null,null,null,{"$f":"IFERROR(__xludf.DUMMYFUNCTION(\"iferror(VLOOKUP(B793,IMPORTRANGE(\"\"https://docs.google.com/spreadsheets/d/1Kptv1Yhe55NnKrQfatjnFhSoEKdPJ_02VtssK9GkJPk/edit#gid=0\"\",\"\"RWA!F:BZ\"\"),44,0))\"),\"\")","v":""},{"$f":"IFERROR(__xludf.DUMMYFUNCTION(\"iferror(VLOOKUP(B793,IMPORTRANGE(\"\"https://docs.google.com/spreadsheets/d/1Kptv1Yhe55NnKrQfatjnFhSoEKdPJ_02VtssK9GkJPk/edit#gid=0\"\",\"\"RWA!F:BZ\"\"),48,0))\"),\"\")","v":""}]
[null,null,null,{"$f":"IFERROR(__xludf.DUMMYFUNCTION(\"iferror(VLOOKUP(B794,IMPORTRANGE(\"\"https://docs.google.com/spreadsheets/d/1Kptv1Yhe55NnKrQfatjnFhSoEKdPJ_02VtssK9GkJPk/edit#gid=0\"\",\"\"RWA!F:BZ\"\"),44,0))\"),\"\")","v":""},{"$f":"IFERROR(__xludf.DUMMYFUNCTION(\"iferror(VLOOKUP(B794,IMPORTRANGE(\"\"https://docs.google.com/spreadsheets/d/1Kptv1Yhe55NnKrQfatjnFhSoEKdPJ_02VtssK9GkJPk/edit#gid=0\"\",\"\"RWA!F:BZ\"\"),48,0))\"),\"\")","v":""}]
[null,null,null,{"$f":"IFERROR(__xludf.DUMMYFUNCTION(\"iferror(VLOOKUP(B795,IMPORTRANGE(\"\"https://docs.google.com/spreadsheets/d/1Kptv1Yhe55NnKrQfatjnFhSoEKdPJ_02VtssK9GkJPk/edit#gid=0\"\",\"\"RWA!F:BZ\"\"),44,0))\"),\"\")","v":""},{"$f":"IFERROR(__xludf.DUMMYFUNCTION(\"iferror(VLOOKUP(B795,IMPORTRANGE(\"\"https://docs.google.com/spreadsheets/d/1Kptv1Yhe55NnKrQfatjnFhSoEKdPJ_02VtssK9GkJPk/edit#gid=0\"\",\"\"RWA!F:BZ\"\"),48,0))\"),\"\")","v":""}]
[null,null,null,{"$f":"IFERROR(__xludf.DUMMYFUNCTION(\"iferror(VLOOKUP(B796,IMPORTRANGE(\"\"https://docs.google.com/spreadsheets/d/1Kptv1Yhe55NnKrQfatjnFhSoEKdPJ_02VtssK9GkJPk/edit#gid=0\"\",\"\"RWA!F:BZ\"\"),44,0))\"),\"\")","v":""},{"$f":"IFERROR(__xludf.DUMMYFUNCTION(\"iferror(VLOOKUP(B796,IMPORTRANGE(\"\"https://docs.google.com/spreadsheets/d/1Kptv1Yhe55NnKrQfatjnFhSoEKdPJ_02VtssK9GkJPk/edit#gid=0\"\",\"\"RWA!F:BZ\"\"),48,0))\"),\"\")","v":""}]
[null,null,null,{"$f":"IFERROR(__xludf.DUMMYFUNCTION(\"iferror(VLOOKUP(B797,IMPORTRANGE(\"\"https://docs.google.com/spreadsheets/d/1Kptv1Yhe55NnKrQfatjnFhSoEKdPJ_02VtssK9GkJPk/edit#gid=0\"\",\"\"RWA!F:BZ\"\"),44,0))\"),\"\")","v":""},{"$f":"IFERROR(__xludf.DUMMYFUNCTION(\"iferror(VLOOKUP(B797,IMPORTRANGE(\"\"https://docs.google.com/spreadsheets/d/1Kptv1Yhe55NnKrQfatjnFhSoEKdPJ_02VtssK9GkJPk/edit#gid=0\"\",\"\"RWA!F:BZ\"\"),48,0))\"),\"\")","v":""}]
[null,null,null,{"$f":"IFERROR(__xludf.DUMMYFUNCTION(\"iferror(VLOOKUP(B798,IMPORTRANGE(\"\"https://docs.google.com/spreadsheets/d/1Kptv1Yhe55NnKrQfatjnFhSoEKdPJ_02VtssK9GkJPk/edit#gid=0\"\",\"\"RWA!F:BZ\"\"),44,0))\"),\"\")","v":""},{"$f":"IFERROR(__xludf.DUMMYFUNCTION(\"iferror(VLOOKUP(B798,IMPORTRANGE(\"\"https://docs.google.com/spreadsheets/d/1Kptv1Yhe55NnKrQfatjnFhSoEKdPJ_02VtssK9GkJPk/edit#gid=0\"\",\"\"RWA!F:BZ\"\"),48,0))\"),\"\")","v":""}]
[null,null,null,{"$f":"IFERROR(__xludf.DUMMYFUNCTION(\"iferror(VLOOKUP(B799,IMPORTRANGE(\"\"https://docs.google.com/spreadsheets/d/1Kptv1Yhe55NnKrQfatjnFhSoEKdPJ_02VtssK9GkJPk/edit#gid=0\"\",\"\"RWA!F:BZ\"\"),44,0))\"),\"\")","v":""},{"$f":"IFERROR(__xludf.DUMMYFUNCTION(\"iferror(VLOOKUP(B799,IMPORTRANGE(\"\"https://docs.google.com/spreadsheets/d/1Kptv1Yhe55NnKrQfatjnFhSoEKdPJ_02VtssK9GkJPk/edit#gid=0\"\",\"\"RWA!F:BZ\"\"),48,0))\"),\"\")","v":""}]
[null,null,null,{"$f":"IFERROR(__xludf.DUMMYFUNCTION(\"iferror(VLOOKUP(B800,IMPORTRANGE(\"\"https://docs.google.com/spreadsheets/d/1Kptv1Yhe55NnKrQfatjnFhSoEKdPJ_02VtssK9GkJPk/edit#gid=0\"\",\"\"RWA!F:BZ\"\"),44,0))\"),\"\")","v":""},{"$f":"IFERROR(__xludf.DUMMYFUNCTION(\"iferror(VLOOKUP(B800,IMPORTRANGE(\"\"https://docs.google.com/spreadsheets/d/1Kptv1Yhe55NnKrQfatjnFhSoEKdPJ_02VtssK9GkJPk/edit#gid=0\"\",\"\"RWA!F:BZ\"\"),48,0))\"),\"\")","v":""}]
[null,null,null,{"$f":"IFERROR(__xludf.DUMMYFUNCTION(\"iferror(VLOOKUP(B801,IMPORTRANGE(\"\"https://docs.google.com/spreadsheets/d/1Kptv1Yhe55NnKrQfatjnFhSoEKdPJ_02VtssK9GkJPk/edit#gid=0\"\",\"\"RWA!F:BZ\"\"),44,0))\"),\"\")","v":""},{"$f":"IFERROR(__xludf.DUMMYFUNCTION(\"iferror(VLOOKUP(B801,IMPORTRANGE(\"\"https://docs.google.com/spreadsheets/d/1Kptv1Yhe55NnKrQfatjnFhSoEKdPJ_02VtssK9GkJPk/edit#gid=0\"\",\"\"RWA!F:BZ\"\"),48,0))\"),\"\")","v":""}]
[null,null,null,{"$f":"IFERROR(__xludf.DUMMYFUNCTION(\"iferror(VLOOKUP(B802,IMPORTRANGE(\"\"https://docs.google.com/spreadsheets/d/1Kptv1Yhe55NnKrQfatjnFhSoEKdPJ_02VtssK9GkJPk/edit#gid=0\"\",\"\"RWA!F:BZ\"\"),44,0))\"),\"\")","v":""},{"$f":"IFERROR(__xludf.DUMMYFUNCTION(\"iferror(VLOOKUP(B802,IMPORTRANGE(\"\"https://docs.google.com/spreadsheets/d/1Kptv1Yhe55NnKrQfatjnFhSoEKdPJ_02VtssK9GkJPk/edit#gid=0\"\",\"\"RWA!F:BZ\"\"),48,0))\"),\"\")","v":""}]
[null,null,null,{"$f":"IFERROR(__xludf.DUMMYFUNCTION(\"iferror(VLOOKUP(B803,IMPORTRANGE(\"\"https://docs.google.com/spreadsheets/d/1Kptv1Yhe55NnKrQfatjnFhSoEKdPJ_02VtssK9GkJPk/edit#gid=0\"\",\"\"RWA!F:BZ\"\"),44,0))\"),\"\")","v":""},{"$f":"IFERROR(__xludf.DUMMYFUNCTION(\"iferror(VLOOKUP(B803,IMPORTRANGE(\"\"https://docs.google.com/spreadsheets/d/1Kptv1Yhe55NnKrQfatjnFhSoEKdPJ_02VtssK9GkJPk/edit#gid=0\"\",\"\"RWA!F:BZ\"\"),48,0))\"),\"\")","v":""}]
[null,null,null,{"$f":"IFERROR(__xludf.DUMMYFUNCTION(\"iferror(VLOOKUP(B804,IMPORTRANGE(\"\"https://docs.google.com/spreadsheets/d/1Kptv1Yhe55NnKrQfatjnFhSoEKdPJ_02VtssK9GkJPk/edit#gid=0\"\",\"\"RWA!F:BZ\"\"),44,0))\"),\"\")","v":""},{"$f":"IFERROR(__xludf.DUMMYFUNCTION(\"iferror(VLOOKUP(B804,IMPORTRANGE(\"\"https://docs.google.com/spreadsheets/d/1Kptv1Yhe55NnKrQfatjnFhSoEKdPJ_02VtssK9GkJPk/edit#gid=0\"\",\"\"RWA!F:BZ\"\"),48,0))\"),\"\")","v":""}]
[null,null,null,{"$f":"IFERROR(__xludf.DUMMYFUNCTION(\"iferror(VLOOKUP(B805,IMPORTRANGE(\"\"https://docs.google.com/spreadsheets/d/1Kptv1Yhe55NnKrQfatjnFhSoEKdPJ_02VtssK9GkJPk/edit#gid=0\"\",\"\"RWA!F:BZ\"\"),44,0))\"),\"\")","v":""},{"$f":"IFERROR(__xludf.DUMMYFUNCTION(\"iferror(VLOOKUP(B805,IMPORTRANGE(\"\"https://docs.google.com/spreadsheets/d/1Kptv1Yhe55NnKrQfatjnFhSoEKdPJ_02VtssK9GkJPk/edit#gid=0\"\",\"\"RWA!F:BZ\"\"),48,0))\"),\"\")","v":""}]
[null,null,null,{"$f":"IFERROR(__xludf.DUMMYFUNCTION(\"iferror(VLOOKUP(B806,IMPORTRANGE(\"\"https://docs.google.com/spreadsheets/d/1Kptv1Yhe55NnKrQfatjnFhSoEKdPJ_02VtssK9GkJPk/edit#gid=0\"\",\"\"RWA!F:BZ\"\"),44,0))\"),\"\")","v":""},{"$f":"IFERROR(__xludf.DUMMYFUNCTION(\"iferror(VLOOKUP(B806,IMPORTRANGE(\"\"https://docs.google.com/spreadsheets/d/1Kptv1Yhe55NnKrQfatjnFhSoEKdPJ_02VtssK9GkJPk/edit#gid=0\"\",\"\"RWA!F:BZ\"\"),48,0))\"),\"\")","v":""}]
[null,null,null,{"$f":"IFERROR(__xludf.DUMMYFUNCTION(\"iferror(VLOOKUP(B807,IMPORTRANGE(\"\"https://docs.google.com/spreadsheets/d/1Kptv1Yhe55NnKrQfatjnFhSoEKdPJ_02VtssK9GkJPk/edit#gid=0\"\",\"\"RWA!F:BZ\"\"),44,0))\"),\"\")","v":""},{"$f":"IFERROR(__xludf.DUMMYFUNCTION(\"iferror(VLOOKUP(B807,IMPORTRANGE(\"\"https://docs.google.com/spreadsheets/d/1Kptv1Yhe55NnKrQfatjnFhSoEKdPJ_02VtssK9GkJPk/edit#gid=0\"\",\"\"RWA!F:BZ\"\"),48,0))\"),\"\")","v":""}]
[null,null,null,{"$f":"IFERROR(__xludf.DUMMYFUNCTION(\"iferror(VLOOKUP(B808,IMPORTRANGE(\"\"https://docs.google.com/spreadsheets/d/1Kptv1Yhe55NnKrQfatjnFhSoEKdPJ_02VtssK9GkJPk/edit#gid=0\"\",\"\"RWA!F:BZ\"\"),44,0))\"),\"\")","v":""},{"$f":"IFERROR(__xludf.DUMMYFUNCTION(\"iferror(VLOOKUP(B808,IMPORTRANGE(\"\"https://docs.google.com/spreadsheets/d/1Kptv1Yhe55NnKrQfatjnFhSoEKdPJ_02VtssK9GkJPk/edit#gid=0\"\",\"\"RWA!F:BZ\"\"),48,0))\"),\"\")","v":""}]
[null,null,null,{"$f":"IFERROR(__xludf.DUMMYFUNCTION(\"iferror(VLOOKUP(B809,IMPORTRANGE(\"\"https://docs.google.com/spreadsheets/d/1Kptv1Yhe55NnKrQfatjnFhSoEKdPJ_02VtssK9GkJPk/edit#gid=0\"\",\"\"RWA!F:BZ\"\"),44,0))\"),\"\")","v":""},{"$f":"IFERROR(__xludf.DUMMYFUNCTION(\"iferror(VLOOKUP(B809,IMPORTRANGE(\"\"https://docs.google.com/spreadsheets/d/1Kptv1Yhe55NnKrQfatjnFhSoEKdPJ_02VtssK9GkJPk/edit#gid=0\"\",\"\"RWA!F:BZ\"\"),48,0))\"),\"\")","v":""}]
[null,null,null,{"$f":"IFERROR(__xludf.DUMMYFUNCTION(\"iferror(VLOOKUP(B810,IMPORTRANGE(\"\"https://docs.google.com/spreadsheets/d/1Kptv1Yhe55NnKrQfatjnFhSoEKdPJ_02VtssK9GkJPk/edit#gid=0\"\",\"\"RWA!F:BZ\"\"),44,0))\"),\"\")","v":""},{"$f":"IFERROR(__xludf.DUMMYFUNCTION(\"iferror(VLOOKUP(B810,IMPORTRANGE(\"\"https://docs.google.com/spreadsheets/d/1Kptv1Yhe55NnKrQfatjnFhSoEKdPJ_02VtssK9GkJPk/edit#gid=0\"\",\"\"RWA!F:BZ\"\"),48,0))\"),\"\")","v":""}]
[null,null,null,{"$f":"IFERROR(__xludf.DUMMYFUNCTION(\"iferror(VLOOKUP(B811,IMPORTRANGE(\"\"https://docs.google.com/spreadsheets/d/1Kptv1Yhe55NnKrQfatjnFhSoEKdPJ_02VtssK9GkJPk/edit#gid=0\"\",\"\"RWA!F:BZ\"\"),44,0))\"),\"\")","v":""},{"$f":"IFERROR(__xludf.DUMMYFUNCTION(\"iferror(VLOOKUP(B811,IMPORTRANGE(\"\"https://docs.google.com/spreadsheets/d/1Kptv1Yhe55NnKrQfatjnFhSoEKdPJ_02VtssK9GkJPk/edit#gid=0\"\",\"\"RWA!F:BZ\"\"),48,0))\"),\"\")","v":""}]
[null,null,null,{"$f":"IFERROR(__xludf.DUMMYFUNCTION(\"iferror(VLOOKUP(B812,IMPORTRANGE(\"\"https://docs.google.com/spreadsheets/d/1Kptv1Yhe55NnKrQfatjnFhSoEKdPJ_02VtssK9GkJPk/edit#gid=0\"\",\"\"RWA!F:BZ\"\"),44,0))\"),\"\")","v":""},{"$f":"IFERROR(__xludf.DUMMYFUNCTION(\"iferror(VLOOKUP(B812,IMPORTRANGE(\"\"https://docs.google.com/spreadsheets/d/1Kptv1Yhe55NnKrQfatjnFhSoEKdPJ_02VtssK9GkJPk/edit#gid=0\"\",\"\"RWA!F:BZ\"\"),48,0))\"),\"\")","v":""}]
[null,null,null,{"$f":"IFERROR(__xludf.DUMMYFUNCTION(\"iferror(VLOOKUP(B813,IMPORTRANGE(\"\"https://docs.google.com/spreadsheets/d/1Kptv1Yhe55NnKrQfatjnFhSoEKdPJ_02VtssK9GkJPk/edit#gid=0\"\",\"\"RWA!F:BZ\"\"),44,0))\"),\"\")","v":""},{"$f":"IFERROR(__xludf.DUMMYFUNCTION(\"iferror(VLOOKUP(B813,IMPORTRANGE(\"\"https://docs.google.com/spreadsheets/d/1Kptv1Yhe55NnKrQfatjnFhSoEKdPJ_02VtssK9GkJPk/edit#gid=0\"\",\"\"RWA!F:BZ\"\"),48,0))\"),\"\")","v":""}]
[null,null,null,{"$f":"IFERROR(__xludf.DUMMYFUNCTION(\"iferror(VLOOKUP(B814,IMPORTRANGE(\"\"https://docs.google.com/spreadsheets/d/1Kptv1Yhe55NnKrQfatjnFhSoEKdPJ_02VtssK9GkJPk/edit#gid=0\"\",\"\"RWA!F:BZ\"\"),44,0))\"),\"\")","v":""},{"$f":"IFERROR(__xludf.DUMMYFUNCTION(\"iferror(VLOOKUP(B814,IMPORTRANGE(\"\"https://docs.google.com/spreadsheets/d/1Kptv1Yhe55NnKrQfatjnFhSoEKdPJ_02VtssK9GkJPk/edit#gid=0\"\",\"\"RWA!F:BZ\"\"),48,0))\"),\"\")","v":""}]
[null,null,null,{"$f":"IFERROR(__xludf.DUMMYFUNCTION(\"iferror(VLOOKUP(B815,IMPORTRANGE(\"\"https://docs.google.com/spreadsheets/d/1Kptv1Yhe55NnKrQfatjnFhSoEKdPJ_02VtssK9GkJPk/edit#gid=0\"\",\"\"RWA!F:BZ\"\"),44,0))\"),\"\")","v":""},{"$f":"IFERROR(__xludf.DUMMYFUNCTION(\"iferror(VLOOKUP(B815,IMPORTRANGE(\"\"https://docs.google.com/spreadsheets/d/1Kptv1Yhe55NnKrQfatjnFhSoEKdPJ_02VtssK9GkJPk/edit#gid=0\"\",\"\"RWA!F:BZ\"\"),48,0))\"),\"\")","v":""}]
[null,null,null,{"$f":"IFERROR(__xludf.DUMMYFUNCTION(\"iferror(VLOOKUP(B816,IMPORTRANGE(\"\"https://docs.google.com/spreadsheets/d/1Kptv1Yhe55NnKrQfatjnFhSoEKdPJ_02VtssK9GkJPk/edit#gid=0\"\",\"\"RWA!F:BZ\"\"),44,0))\"),\"\")","v":""},{"$f":"IFERROR(__xludf.DUMMYFUNCTION(\"iferror(VLOOKUP(B816,IMPORTRANGE(\"\"https://docs.google.com/spreadsheets/d/1Kptv1Yhe55NnKrQfatjnFhSoEKdPJ_02VtssK9GkJPk/edit#gid=0\"\",\"\"RWA!F:BZ\"\"),48,0))\"),\"\")","v":""}]
[null,null,null,{"$f":"IFERROR(__xludf.DUMMYFUNCTION(\"iferror(VLOOKUP(B817,IMPORTRANGE(\"\"https://docs.google.com/spreadsheets/d/1Kptv1Yhe55NnKrQfatjnFhSoEKdPJ_02VtssK9GkJPk/edit#gid=0\"\",\"\"RWA!F:BZ\"\"),44,0))\"),\"\")","v":""},{"$f":"IFERROR(__xludf.DUMMYFUNCTION(\"iferror(VLOOKUP(B817,IMPORTRANGE(\"\"https://docs.google.com/spreadsheets/d/1Kptv1Yhe55NnKrQfatjnFhSoEKdPJ_02VtssK9GkJPk/edit#gid=0\"\",\"\"RWA!F:BZ\"\"),48,0))\"),\"\")","v":""}]
[null,null,null,{"$f":"IFERROR(__xludf.DUMMYFUNCTION(\"iferror(VLOOKUP(B818,IMPORTRANGE(\"\"https://docs.google.com/spreadsheets/d/1Kptv1Yhe55NnKrQfatjnFhSoEKdPJ_02VtssK9GkJPk/edit#gid=0\"\",\"\"RWA!F:BZ\"\"),44,0))\"),\"\")","v":""},{"$f":"IFERROR(__xludf.DUMMYFUNCTION(\"iferror(VLOOKUP(B818,IMPORTRANGE(\"\"https://docs.google.com/spreadsheets/d/1Kptv1Yhe55NnKrQfatjnFhSoEKdPJ_02VtssK9GkJPk/edit#gid=0\"\",\"\"RWA!F:BZ\"\"),48,0))\"),\"\")","v":""}]
[null,null,null,{"$f":"IFERROR(__xludf.DUMMYFUNCTION(\"iferror(VLOOKUP(B819,IMPORTRANGE(\"\"https://docs.google.com/spreadsheets/d/1Kptv1Yhe55NnKrQfatjnFhSoEKdPJ_02VtssK9GkJPk/edit#gid=0\"\",\"\"RWA!F:BZ\"\"),44,0))\"),\"\")","v":""},{"$f":"IFERROR(__xludf.DUMMYFUNCTION(\"iferror(VLOOKUP(B819,IMPORTRANGE(\"\"https://docs.google.com/spreadsheets/d/1Kptv1Yhe55NnKrQfatjnFhSoEKdPJ_02VtssK9GkJPk/edit#gid=0\"\",\"\"RWA!F:BZ\"\"),48,0))\"),\"\")","v":""}]
[null,null,null,{"$f":"IFERROR(__xludf.DUMMYFUNCTION(\"iferror(VLOOKUP(B820,IMPORTRANGE(\"\"https://docs.google.com/spreadsheets/d/1Kptv1Yhe55NnKrQfatjnFhSoEKdPJ_02VtssK9GkJPk/edit#gid=0\"\",\"\"RWA!F:BZ\"\"),44,0))\"),\"\")","v":""},{"$f":"IFERROR(__xludf.DUMMYFUNCTION(\"iferror(VLOOKUP(B820,IMPORTRANGE(\"\"https://docs.google.com/spreadsheets/d/1Kptv1Yhe55NnKrQfatjnFhSoEKdPJ_02VtssK9GkJPk/edit#gid=0\"\",\"\"RWA!F:BZ\"\"),48,0))\"),\"\")","v":""}]
[null,null,null,{"$f":"IFERROR(__xludf.DUMMYFUNCTION(\"iferror(VLOOKUP(B821,IMPORTRANGE(\"\"https://docs.google.com/spreadsheets/d/1Kptv1Yhe55NnKrQfatjnFhSoEKdPJ_02VtssK9GkJPk/edit#gid=0\"\",\"\"RWA!F:BZ\"\"),44,0))\"),\"\")","v":""},{"$f":"IFERROR(__xludf.DUMMYFUNCTION(\"iferror(VLOOKUP(B821,IMPORTRANGE(\"\"https://docs.google.com/spreadsheets/d/1Kptv1Yhe55NnKrQfatjnFhSoEKdPJ_02VtssK9GkJPk/edit#gid=0\"\",\"\"RWA!F:BZ\"\"),48,0))\"),\"\")","v":""}]
[null,null,null,{"$f":"IFERROR(__xludf.DUMMYFUNCTION(\"iferror(VLOOKUP(B822,IMPORTRANGE(\"\"https://docs.google.com/spreadsheets/d/1Kptv1Yhe55NnKrQfatjnFhSoEKdPJ_02VtssK9GkJPk/edit#gid=0\"\",\"\"RWA!F:BZ\"\"),44,0))\"),\"\")","v":""},{"$f":"IFERROR(__xludf.DUMMYFUNCTION(\"iferror(VLOOKUP(B822,IMPORTRANGE(\"\"https://docs.google.com/spreadsheets/d/1Kptv1Yhe55NnKrQfatjnFhSoEKdPJ_02VtssK9GkJPk/edit#gid=0\"\",\"\"RWA!F:BZ\"\"),48,0))\"),\"\")","v":""}]
[null,null,null,{"$f":"IFERROR(__xludf.DUMMYFUNCTION(\"iferror(VLOOKUP(B823,IMPORTRANGE(\"\"https://docs.google.com/spreadsheets/d/1Kptv1Yhe55NnKrQfatjnFhSoEKdPJ_02VtssK9GkJPk/edit#gid=0\"\",\"\"RWA!F:BZ\"\"),44,0))\"),\"\")","v":""},{"$f":"IFERROR(__xludf.DUMMYFUNCTION(\"iferror(VLOOKUP(B823,IMPORTRANGE(\"\"https://docs.google.com/spreadsheets/d/1Kptv1Yhe55NnKrQfatjnFhSoEKdPJ_02VtssK9GkJPk/edit#gid=0\"\",\"\"RWA!F:BZ\"\"),48,0))\"),\"\")","v":""}]
[null,null,null,{"$f":"IFERROR(__xludf.DUMMYFUNCTION(\"iferror(VLOOKUP(B824,IMPORTRANGE(\"\"https://docs.google.com/spreadsheets/d/1Kptv1Yhe55NnKrQfatjnFhSoEKdPJ_02VtssK9GkJPk/edit#gid=0\"\",\"\"RWA!F:BZ\"\"),44,0))\"),\"\")","v":""},{"$f":"IFERROR(__xludf.DUMMYFUNCTION(\"iferror(VLOOKUP(B824,IMPORTRANGE(\"\"https://docs.google.com/spreadsheets/d/1Kptv1Yhe55NnKrQfatjnFhSoEKdPJ_02VtssK9GkJPk/edit#gid=0\"\",\"\"RWA!F:BZ\"\"),48,0))\"),\"\")","v":""}]
[null,null,null,{"$f":"IFERROR(__xludf.DUMMYFUNCTION(\"iferror(VLOOKUP(B825,IMPORTRANGE(\"\"https://docs.google.com/spreadsheets/d/1Kptv1Yhe55NnKrQfatjnFhSoEKdPJ_02VtssK9GkJPk/edit#gid=0\"\",\"\"RWA!F:BZ\"\"),44,0))\"),\"\")","v":""},{"$f":"IFERROR(__xludf.DUMMYFUNCTION(\"iferror(VLOOKUP(B825,IMPORTRANGE(\"\"https://docs.google.com/spreadsheets/d/1Kptv1Yhe55NnKrQfatjnFhSoEKdPJ_02VtssK9GkJPk/edit#gid=0\"\",\"\"RWA!F:BZ\"\"),48,0))\"),\"\")","v":""}]
[null,null,null,{"$f":"IFERROR(__xludf.DUMMYFUNCTION(\"iferror(VLOOKUP(B826,IMPORTRANGE(\"\"https://docs.google.com/spreadsheets/d/1Kptv1Yhe55NnKrQfatjnFhSoEKdPJ_02VtssK9GkJPk/edit#gid=0\"\",\"\"RWA!F:BZ\"\"),44,0))\"),\"\")","v":""},{"$f":"IFERROR(__xludf.DUMMYFUNCTION(\"iferror(VLOOKUP(B826,IMPORTRANGE(\"\"https://docs.google.com/spreadsheets/d/1Kptv1Yhe55NnKrQfatjnFhSoEKdPJ_02VtssK9GkJPk/edit#gid=0\"\",\"\"RWA!F:BZ\"\"),48,0))\"),\"\")","v":""}]
[null,null,null,{"$f":"IFERROR(__xludf.DUMMYFUNCTION(\"iferror(VLOOKUP(B827,IMPORTRANGE(\"\"https://docs.google.com/spreadsheets/d/1Kptv1Yhe55NnKrQfatjnFhSoEKdPJ_02VtssK9GkJPk/edit#gid=0\"\",\"\"RWA!F:BZ\"\"),44,0))\"),\"\")","v":""},{"$f":"IFERROR(__xludf.DUMMYFUNCTION(\"iferror(VLOOKUP(B827,IMPORTRANGE(\"\"https://docs.google.com/spreadsheets/d/1Kptv1Yhe55NnKrQfatjnFhSoEKdPJ_02VtssK9GkJPk/edit#gid=0\"\",\"\"RWA!F:BZ\"\"),48,0))\"),\"\")","v":""}]
[null,null,null,{"$f":"IFERROR(__xludf.DUMMYFUNCTION(\"iferror(VLOOKUP(B828,IMPORTRANGE(\"\"https://docs.google.com/spreadsheets/d/1Kptv1Yhe55NnKrQfatjnFhSoEKdPJ_02VtssK9GkJPk/edit#gid=0\"\",\"\"RWA!F:BZ\"\"),44,0))\"),\"\")","v":""},{"$f":"IFERROR(__xludf.DUMMYFUNCTION(\"iferror(VLOOKUP(B828,IMPORTRANGE(\"\"https://docs.google.com/spreadsheets/d/1Kptv1Yhe55NnKrQfatjnFhSoEKdPJ_02VtssK9GkJPk/edit#gid=0\"\",\"\"RWA!F:BZ\"\"),48,0))\"),\"\")","v":""}]
[null,null,null,{"$f":"IFERROR(__xludf.DUMMYFUNCTION(\"iferror(VLOOKUP(B829,IMPORTRANGE(\"\"https://docs.google.com/spreadsheets/d/1Kptv1Yhe55NnKrQfatjnFhSoEKdPJ_02VtssK9GkJPk/edit#gid=0\"\",\"\"RWA!F:BZ\"\"),44,0))\"),\"\")","v":""},{"$f":"IFERROR(__xludf.DUMMYFUNCTION(\"iferror(VLOOKUP(B829,IMPORTRANGE(\"\"https://docs.google.com/spreadsheets/d/1Kptv1Yhe55NnKrQfatjnFhSoEKdPJ_02VtssK9GkJPk/edit#gid=0\"\",\"\"RWA!F:BZ\"\"),48,0))\"),\"\")","v":""}]
[null,null,null,{"$f":"IFERROR(__xludf.DUMMYFUNCTION(\"iferror(VLOOKUP(B830,IMPORTRANGE(\"\"https://docs.google.com/spreadsheets/d/1Kptv1Yhe55NnKrQfatjnFhSoEKdPJ_02VtssK9GkJPk/edit#gid=0\"\",\"\"RWA!F:BZ\"\"),44,0))\"),\"\")","v":""},{"$f":"IFERROR(__xludf.DUMMYFUNCTION(\"iferror(VLOOKUP(B830,IMPORTRANGE(\"\"https://docs.google.com/spreadsheets/d/1Kptv1Yhe55NnKrQfatjnFhSoEKdPJ_02VtssK9GkJPk/edit#gid=0\"\",\"\"RWA!F:BZ\"\"),48,0))\"),\"\")","v":""}]
[null,null,null,{"$f":"IFERROR(__xludf.DUMMYFUNCTION(\"iferror(VLOOKUP(B831,IMPORTRANGE(\"\"https://docs.google.com/spreadsheets/d/1Kptv1Yhe55NnKrQfatjnFhSoEKdPJ_02VtssK9GkJPk/edit#gid=0\"\",\"\"RWA!F:BZ\"\"),44,0))\"),\"\")","v":""},{"$f":"IFERROR(__xludf.DUMMYFUNCTION(\"iferror(VLOOKUP(B831,IMPORTRANGE(\"\"https://docs.google.com/spreadsheets/d/1Kptv1Yhe55NnKrQfatjnFhSoEKdPJ_02VtssK9GkJPk/edit#gid=0\"\",\"\"RWA!F:BZ\"\"),48,0))\"),\"\")","v":""}]
[null,null,null,{"$f":"IFERROR(__xludf.DUMMYFUNCTION(\"iferror(VLOOKUP(B832,IMPORTRANGE(\"\"https://docs.google.com/spreadsheets/d/1Kptv1Yhe55NnKrQfatjnFhSoEKdPJ_02VtssK9GkJPk/edit#gid=0\"\",\"\"RWA!F:BZ\"\"),44,0))\"),\"\")","v":""},{"$f":"IFERROR(__xludf.DUMMYFUNCTION(\"iferror(VLOOKUP(B832,IMPORTRANGE(\"\"https://docs.google.com/spreadsheets/d/1Kptv1Yhe55NnKrQfatjnFhSoEKdPJ_02VtssK9GkJPk/edit#gid=0\"\",\"\"RWA!F:BZ\"\"),48,0))\"),\"\")","v":""}]
[null,null,null,{"$f":"IFERROR(__xludf.DUMMYFUNCTION(\"iferror(VLOOKUP(B833,IMPORTRANGE(\"\"https://docs.google.com/spreadsheets/d/1Kptv1Yhe55NnKrQfatjnFhSoEKdPJ_02VtssK9GkJPk/edit#gid=0\"\",\"\"RWA!F:BZ\"\"),44,0))\"),\"\")","v":""},{"$f":"IFERROR(__xludf.DUMMYFUNCTION(\"iferror(VLOOKUP(B833,IMPORTRANGE(\"\"https://docs.google.com/spreadsheets/d/1Kptv1Yhe55NnKrQfatjnFhSoEKdPJ_02VtssK9GkJPk/edit#gid=0\"\",\"\"RWA!F:BZ\"\"),48,0))\"),\"\")","v":""}]
[null,null,null,{"$f":"IFERROR(__xludf.DUMMYFUNCTION(\"iferror(VLOOKUP(B834,IMPORTRANGE(\"\"https://docs.google.com/spreadsheets/d/1Kptv1Yhe55NnKrQfatjnFhSoEKdPJ_02VtssK9GkJPk/edit#gid=0\"\",\"\"RWA!F:BZ\"\"),44,0))\"),\"\")","v":""},{"$f":"IFERROR(__xludf.DUMMYFUNCTION(\"iferror(VLOOKUP(B834,IMPORTRANGE(\"\"https://docs.google.com/spreadsheets/d/1Kptv1Yhe55NnKrQfatjnFhSoEKdPJ_02VtssK9GkJPk/edit#gid=0\"\",\"\"RWA!F:BZ\"\"),48,0))\"),\"\")","v":""}]
[null,null,null,{"$f":"IFERROR(__xludf.DUMMYFUNCTION(\"iferror(VLOOKUP(B835,IMPORTRANGE(\"\"https://docs.google.com/spreadsheets/d/1Kptv1Yhe55NnKrQfatjnFhSoEKdPJ_02VtssK9GkJPk/edit#gid=0\"\",\"\"RWA!F:BZ\"\"),44,0))\"),\"\")","v":""},{"$f":"IFERROR(__xludf.DUMMYFUNCTION(\"iferror(VLOOKUP(B835,IMPORTRANGE(\"\"https://docs.google.com/spreadsheets/d/1Kptv1Yhe55NnKrQfatjnFhSoEKdPJ_02VtssK9GkJPk/edit#gid=0\"\",\"\"RWA!F:BZ\"\"),48,0))\"),\"\")","v":""}]
[null,null,null,{"$f":"IFERROR(__xludf.DUMMYFUNCTION(\"iferror(VLOOKUP(B836,IMPORTRANGE(\"\"https://docs.google.com/spreadsheets/d/1Kptv1Yhe55NnKrQfatjnFhSoEKdPJ_02VtssK9GkJPk/edit#gid=0\"\",\"\"RWA!F:BZ\"\"),44,0))\"),\"\")","v":""},{"$f":"IFERROR(__xludf.DUMMYFUNCTION(\"iferror(VLOOKUP(B836,IMPORTRANGE(\"\"https://docs.google.com/spreadsheets/d/1Kptv1Yhe55NnKrQfatjnFhSoEKdPJ_02VtssK9GkJPk/edit#gid=0\"\",\"\"RWA!F:BZ\"\"),48,0))\"),\"\")","v":""}]
[null,null,null,{"$f":"IFERROR(__xludf.DUMMYFUNCTION(\"iferror(VLOOKUP(B837,IMPORTRANGE(\"\"https://docs.google.com/spreadsheets/d/1Kptv1Yhe55NnKrQfatjnFhSoEKdPJ_02VtssK9GkJPk/edit#gid=0\"\",\"\"RWA!F:BZ\"\"),44,0))\"),\"\")","v":""},{"$f":"IFERROR(__xludf.DUMMYFUNCTION(\"iferror(VLOOKUP(B837,IMPORTRANGE(\"\"https://docs.google.com/spreadsheets/d/1Kptv1Yhe55NnKrQfatjnFhSoEKdPJ_02VtssK9GkJPk/edit#gid=0\"\",\"\"RWA!F:BZ\"\"),48,0))\"),\"\")","v":""}]
[null,null,null,{"$f":"IFERROR(__xludf.DUMMYFUNCTION(\"iferror(VLOOKUP(B838,IMPORTRANGE(\"\"https://docs.google.com/spreadsheets/d/1Kptv1Yhe55NnKrQfatjnFhSoEKdPJ_02VtssK9GkJPk/edit#gid=0\"\",\"\"RWA!F:BZ\"\"),44,0))\"),\"\")","v":""},{"$f":"IFERROR(__xludf.DUMMYFUNCTION(\"iferror(VLOOKUP(B838,IMPORTRANGE(\"\"https://docs.google.com/spreadsheets/d/1Kptv1Yhe55NnKrQfatjnFhSoEKdPJ_02VtssK9GkJPk/edit#gid=0\"\",\"\"RWA!F:BZ\"\"),48,0))\"),\"\")","v":""}]
[null,null,null,{"$f":"IFERROR(__xludf.DUMMYFUNCTION(\"iferror(VLOOKUP(B839,IMPORTRANGE(\"\"https://docs.google.com/spreadsheets/d/1Kptv1Yhe55NnKrQfatjnFhSoEKdPJ_02VtssK9GkJPk/edit#gid=0\"\",\"\"RWA!F:BZ\"\"),44,0))\"),\"\")","v":""},{"$f":"IFERROR(__xludf.DUMMYFUNCTION(\"iferror(VLOOKUP(B839,IMPORTRANGE(\"\"https://docs.google.com/spreadsheets/d/1Kptv1Yhe55NnKrQfatjnFhSoEKdPJ_02VtssK9GkJPk/edit#gid=0\"\",\"\"RWA!F:BZ\"\"),48,0))\"),\"\")","v":""}]
[null,null,null,{"$f":"IFERROR(__xludf.DUMMYFUNCTION(\"iferror(VLOOKUP(B840,IMPORTRANGE(\"\"https://docs.google.com/spreadsheets/d/1Kptv1Yhe55NnKrQfatjnFhSoEKdPJ_02VtssK9GkJPk/edit#gid=0\"\",\"\"RWA!F:BZ\"\"),44,0))\"),\"\")","v":""},{"$f":"IFERROR(__xludf.DUMMYFUNCTION(\"iferror(VLOOKUP(B840,IMPORTRANGE(\"\"https://docs.google.com/spreadsheets/d/1Kptv1Yhe55NnKrQfatjnFhSoEKdPJ_02VtssK9GkJPk/edit#gid=0\"\",\"\"RWA!F:BZ\"\"),48,0))\"),\"\")","v":""}]
[null,null,null,{"$f":"IFERROR(__xludf.DUMMYFUNCTION(\"iferror(VLOOKUP(B841,IMPORTRANGE(\"\"https://docs.google.com/spreadsheets/d/1Kptv1Yhe55NnKrQfatjnFhSoEKdPJ_02VtssK9GkJPk/edit#gid=0\"\",\"\"RWA!F:BZ\"\"),44,0))\"),\"\")","v":""},{"$f":"IFERROR(__xludf.DUMMYFUNCTION(\"iferror(VLOOKUP(B841,IMPORTRANGE(\"\"https://docs.google.com/spreadsheets/d/1Kptv1Yhe55NnKrQfatjnFhSoEKdPJ_02VtssK9GkJPk/edit#gid=0\"\",\"\"RWA!F:BZ\"\"),48,0))\"),\"\")","v":""}]
[null,null,null,{"$f":"IFERROR(__xludf.DUMMYFUNCTION(\"iferror(VLOOKUP(B842,IMPORTRANGE(\"\"https://docs.google.com/spreadsheets/d/1Kptv1Yhe55NnKrQfatjnFhSoEKdPJ_02VtssK9GkJPk/edit#gid=0\"\",\"\"RWA!F:BZ\"\"),44,0))\"),\"\")","v":""},{"$f":"IFERROR(__xludf.DUMMYFUNCTION(\"iferror(VLOOKUP(B842,IMPORTRANGE(\"\"https://docs.google.com/spreadsheets/d/1Kptv1Yhe55NnKrQfatjnFhSoEKdPJ_02VtssK9GkJPk/edit#gid=0\"\",\"\"RWA!F:BZ\"\"),48,0))\"),\"\")","v":""}]
[null,null,null,{"$f":"IFERROR(__xludf.DUMMYFUNCTION(\"iferror(VLOOKUP(B843,IMPORTRANGE(\"\"https://docs.google.com/spreadsheets/d/1Kptv1Yhe55NnKrQfatjnFhSoEKdPJ_02VtssK9GkJPk/edit#gid=0\"\",\"\"RWA!F:BZ\"\"),44,0))\"),\"\")","v":""},{"$f":"IFERROR(__xludf.DUMMYFUNCTION(\"iferror(VLOOKUP(B843,IMPORTRANGE(\"\"https://docs.google.com/spreadsheets/d/1Kptv1Yhe55NnKrQfatjnFhSoEKdPJ_02VtssK9GkJPk/edit#gid=0\"\",\"\"RWA!F:BZ\"\"),48,0))\"),\"\")","v":""}]
[null,null,null,{"$f":"IFERROR(__xludf.DUMMYFUNCTION(\"iferror(VLOOKUP(B844,IMPORTRANGE(\"\"https://docs.google.com/spreadsheets/d/1Kptv1Yhe55NnKrQfatjnFhSoEKdPJ_02VtssK9GkJPk/edit#gid=0\"\",\"\"RWA!F:BZ\"\"),44,0))\"),\"\")","v":""},{"$f":"IFERROR(__xludf.DUMMYFUNCTION(\"iferror(VLOOKUP(B844,IMPORTRANGE(\"\"https://docs.google.com/spreadsheets/d/1Kptv1Yhe55NnKrQfatjnFhSoEKdPJ_02VtssK9GkJPk/edit#gid=0\"\",\"\"RWA!F:BZ\"\"),48,0))\"),\"\")","v":""}]
[null,null,null,{"$f":"IFERROR(__xludf.DUMMYFUNCTION(\"iferror(VLOOKUP(B845,IMPORTRANGE(\"\"https://docs.google.com/spreadsheets/d/1Kptv1Yhe55NnKrQfatjnFhSoEKdPJ_02VtssK9GkJPk/edit#gid=0\"\",\"\"RWA!F:BZ\"\"),44,0))\"),\"\")","v":""},{"$f":"IFERROR(__xludf.DUMMYFUNCTION(\"iferror(VLOOKUP(B845,IMPORTRANGE(\"\"https://docs.google.com/spreadsheets/d/1Kptv1Yhe55NnKrQfatjnFhSoEKdPJ_02VtssK9GkJPk/edit#gid=0\"\",\"\"RWA!F:BZ\"\"),48,0))\"),\"\")","v":""}]
[null,null,null,{"$f":"IFERROR(__xludf.DUMMYFUNCTION(\"iferror(VLOOKUP(B846,IMPORTRANGE(\"\"https://docs.google.com/spreadsheets/d/1Kptv1Yhe55NnKrQfatjnFhSoEKdPJ_02VtssK9GkJPk/edit#gid=0\"\",\"\"RWA!F:BZ\"\"),44,0))\"),\"\")","v":""},{"$f":"IFERROR(__xludf.DUMMYFUNCTION(\"iferror(VLOOKUP(B846,IMPORTRANGE(\"\"https://docs.google.com/spreadsheets/d/1Kptv1Yhe55NnKrQfatjnFhSoEKdPJ_02VtssK9GkJPk/edit#gid=0\"\",\"\"RWA!F:BZ\"\"),48,0))\"),\"\")","v":""}]
[null,null,null,{"$f":"IFERROR(__xludf.DUMMYFUNCTION(\"iferror(VLOOKUP(B847,IMPORTRANGE(\"\"https://docs.google.com/spreadsheets/d/1Kptv1Yhe55NnKrQfatjnFhSoEKdPJ_02VtssK9GkJPk/edit#gid=0\"\",\"\"RWA!F:BZ\"\"),44,0))\"),\"\")","v":""},{"$f":"IFERROR(__xludf.DUMMYFUNCTION(\"iferror(VLOOKUP(B847,IMPORTRANGE(\"\"https://docs.google.com/spreadsheets/d/1Kptv1Yhe55NnKrQfatjnFhSoEKdPJ_02VtssK9GkJPk/edit#gid=0\"\",\"\"RWA!F:BZ\"\"),48,0))\"),\"\")","v":""}]
[null,null,null,{"$f":"IFERROR(__xludf.DUMMYFUNCTION(\"iferror(VLOOKUP(B848,IMPORTRANGE(\"\"https://docs.google.com/spreadsheets/d/1Kptv1Yhe55NnKrQfatjnFhSoEKdPJ_02VtssK9GkJPk/edit#gid=0\"\",\"\"RWA!F:BZ\"\"),44,0))\"),\"\")","v":""},{"$f":"IFERROR(__xludf.DUMMYFUNCTION(\"iferror(VLOOKUP(B848,IMPORTRANGE(\"\"https://docs.google.com/spreadsheets/d/1Kptv1Yhe55NnKrQfatjnFhSoEKdPJ_02VtssK9GkJPk/edit#gid=0\"\",\"\"RWA!F:BZ\"\"),48,0))\"),\"\")","v":""}]
[null,null,null,{"$f":"IFERROR(__xludf.DUMMYFUNCTION(\"iferror(VLOOKUP(B849,IMPORTRANGE(\"\"https://docs.google.com/spreadsheets/d/1Kptv1Yhe55NnKrQfatjnFhSoEKdPJ_02VtssK9GkJPk/edit#gid=0\"\",\"\"RWA!F:BZ\"\"),44,0))\"),\"\")","v":""},{"$f":"IFERROR(__xludf.DUMMYFUNCTION(\"iferror(VLOOKUP(B849,IMPORTRANGE(\"\"https://docs.google.com/spreadsheets/d/1Kptv1Yhe55NnKrQfatjnFhSoEKdPJ_02VtssK9GkJPk/edit#gid=0\"\",\"\"RWA!F:BZ\"\"),48,0))\"),\"\")","v":""}]
[null,null,null,{"$f":"IFERROR(__xludf.DUMMYFUNCTION(\"iferror(VLOOKUP(B850,IMPORTRANGE(\"\"https://docs.google.com/spreadsheets/d/1Kptv1Yhe55NnKrQfatjnFhSoEKdPJ_02VtssK9GkJPk/edit#gid=0\"\",\"\"RWA!F:BZ\"\"),44,0))\"),\"\")","v":""},{"$f":"IFERROR(__xludf.DUMMYFUNCTION(\"iferror(VLOOKUP(B850,IMPORTRANGE(\"\"https://docs.google.com/spreadsheets/d/1Kptv1Yhe55NnKrQfatjnFhSoEKdPJ_02VtssK9GkJPk/edit#gid=0\"\",\"\"RWA!F:BZ\"\"),48,0))\"),\"\")","v":""}]
[null,null,null,{"$f":"IFERROR(__xludf.DUMMYFUNCTION(\"iferror(VLOOKUP(B851,IMPORTRANGE(\"\"https://docs.google.com/spreadsheets/d/1Kptv1Yhe55NnKrQfatjnFhSoEKdPJ_02VtssK9GkJPk/edit#gid=0\"\",\"\"RWA!F:BZ\"\"),44,0))\"),\"\")","v":""},{"$f":"IFERROR(__xludf.DUMMYFUNCTION(\"iferror(VLOOKUP(B851,IMPORTRANGE(\"\"https://docs.google.com/spreadsheets/d/1Kptv1Yhe55NnKrQfatjnFhSoEKdPJ_02VtssK9GkJPk/edit#gid=0\"\",\"\"RWA!F:BZ\"\"),48,0))\"),\"\")","v":""}]
[null,null,null,{"$f":"IFERROR(__xludf.DUMMYFUNCTION(\"iferror(VLOOKUP(B852,IMPORTRANGE(\"\"https://docs.google.com/spreadsheets/d/1Kptv1Yhe55NnKrQfatjnFhSoEKdPJ_02VtssK9GkJPk/edit#gid=0\"\",\"\"RWA!F:BZ\"\"),44,0))\"),\"\")","v":""},{"$f":"IFERROR(__xludf.DUMMYFUNCTION(\"iferror(VLOOKUP(B852,IMPORTRANGE(\"\"https://docs.google.com/spreadsheets/d/1Kptv1Yhe55NnKrQfatjnFhSoEKdPJ_02VtssK9GkJPk/edit#gid=0\"\",\"\"RWA!F:BZ\"\"),48,0))\"),\"\")","v":""}]
[null,null,null,{"$f":"IFERROR(__xludf.DUMMYFUNCTION(\"iferror(VLOOKUP(B853,IMPORTRANGE(\"\"https://docs.google.com/spreadsheets/d/1Kptv1Yhe55NnKrQfatjnFhSoEKdPJ_02VtssK9GkJPk/edit#gid=0\"\",\"\"RWA!F:BZ\"\"),44,0))\"),\"\")","v":""},{"$f":"IFERROR(__xludf.DUMMYFUNCTION(\"iferror(VLOOKUP(B853,IMPORTRANGE(\"\"https://docs.google.com/spreadsheets/d/1Kptv1Yhe55NnKrQfatjnFhSoEKdPJ_02VtssK9GkJPk/edit#gid=0\"\",\"\"RWA!F:BZ\"\"),48,0))\"),\"\")","v":""}]
[null,null,null,{"$f":"IFERROR(__xludf.DUMMYFUNCTION(\"iferror(VLOOKUP(B854,IMPORTRANGE(\"\"https://docs.google.com/spreadsheets/d/1Kptv1Yhe55NnKrQfatjnFhSoEKdPJ_02VtssK9GkJPk/edit#gid=0\"\",\"\"RWA!F:BZ\"\"),44,0))\"),\"\")","v":""},{"$f":"IFERROR(__xludf.DUMMYFUNCTION(\"iferror(VLOOKUP(B854,IMPORTRANGE(\"\"https://docs.google.com/spreadsheets/d/1Kptv1Yhe55NnKrQfatjnFhSoEKdPJ_02VtssK9GkJPk/edit#gid=0\"\",\"\"RWA!F:BZ\"\"),48,0))\"),\"\")","v":""}]
[null,null,null,{"$f":"IFERROR(__xludf.DUMMYFUNCTION(\"iferror(VLOOKUP(B855,IMPORTRANGE(\"\"https://docs.google.com/spreadsheets/d/1Kptv1Yhe55NnKrQfatjnFhSoEKdPJ_02VtssK9GkJPk/edit#gid=0\"\",\"\"RWA!F:BZ\"\"),44,0))\"),\"\")","v":""},{"$f":"IFERROR(__xludf.DUMMYFUNCTION(\"iferror(VLOOKUP(B855,IMPORTRANGE(\"\"https://docs.google.com/spreadsheets/d/1Kptv1Yhe55NnKrQfatjnFhSoEKdPJ_02VtssK9GkJPk/edit#gid=0\"\",\"\"RWA!F:BZ\"\"),48,0))\"),\"\")","v":""}]
[null,null,null,{"$f":"IFERROR(__xludf.DUMMYFUNCTION(\"iferror(VLOOKUP(B856,IMPORTRANGE(\"\"https://docs.google.com/spreadsheets/d/1Kptv1Yhe55NnKrQfatjnFhSoEKdPJ_02VtssK9GkJPk/edit#gid=0\"\",\"\"RWA!F:BZ\"\"),44,0))\"),\"\")","v":""},{"$f":"IFERROR(__xludf.DUMMYFUNCTION(\"iferror(VLOOKUP(B856,IMPORTRANGE(\"\"https://docs.google.com/spreadsheets/d/1Kptv1Yhe55NnKrQfatjnFhSoEKdPJ_02VtssK9GkJPk/edit#gid=0\"\",\"\"RWA!F:BZ\"\"),48,0))\"),\"\")","v":""}]
[null,null,null,{"$f":"IFERROR(__xludf.DUMMYFUNCTION(\"iferror(VLOOKUP(B857,IMPORTRANGE(\"\"https://docs.google.com/spreadsheets/d/1Kptv1Yhe55NnKrQfatjnFhSoEKdPJ_02VtssK9GkJPk/edit#gid=0\"\",\"\"RWA!F:BZ\"\"),44,0))\"),\"\")","v":""},{"$f":"IFERROR(__xludf.DUMMYFUNCTION(\"iferror(VLOOKUP(B857,IMPORTRANGE(\"\"https://docs.google.com/spreadsheets/d/1Kptv1Yhe55NnKrQfatjnFhSoEKdPJ_02VtssK9GkJPk/edit#gid=0\"\",\"\"RWA!F:BZ\"\"),48,0))\"),\"\")","v":""}]
[null,null,null,{"$f":"IFERROR(__xludf.DUMMYFUNCTION(\"iferror(VLOOKUP(B858,IMPORTRANGE(\"\"https://docs.google.com/spreadsheets/d/1Kptv1Yhe55NnKrQfatjnFhSoEKdPJ_02VtssK9GkJPk/edit#gid=0\"\",\"\"RWA!F:BZ\"\"),44,0))\"),\"\")","v":""},{"$f":"IFERROR(__xludf.DUMMYFUNCTION(\"iferror(VLOOKUP(B858,IMPORTRANGE(\"\"https://docs.google.com/spreadsheets/d/1Kptv1Yhe55NnKrQfatjnFhSoEKdPJ_02VtssK9GkJPk/edit#gid=0\"\",\"\"RWA!F:BZ\"\"),48,0))\"),\"\")","v":""}]
[null,null,null,{"$f":"IFERROR(__xludf.DUMMYFUNCTION(\"iferror(VLOOKUP(B859,IMPORTRANGE(\"\"https://docs.google.com/spreadsheets/d/1Kptv1Yhe55NnKrQfatjnFhSoEKdPJ_02VtssK9GkJPk/edit#gid=0\"\",\"\"RWA!F:BZ\"\"),44,0))\"),\"\")","v":""},{"$f":"IFERROR(__xludf.DUMMYFUNCTION(\"iferror(VLOOKUP(B859,IMPORTRANGE(\"\"https://docs.google.com/spreadsheets/d/1Kptv1Yhe55NnKrQfatjnFhSoEKdPJ_02VtssK9GkJPk/edit#gid=0\"\",\"\"RWA!F:BZ\"\"),48,0))\"),\"\")","v":""}]
[null,null,null,{"$f":"IFERROR(__xludf.DUMMYFUNCTION(\"iferror(VLOOKUP(B860,IMPORTRANGE(\"\"https://docs.google.com/spreadsheets/d/1Kptv1Yhe55NnKrQfatjnFhSoEKdPJ_02VtssK9GkJPk/edit#gid=0\"\",\"\"RWA!F:BZ\"\"),44,0))\"),\"\")","v":""},{"$f":"IFERROR(__xludf.DUMMYFUNCTION(\"iferror(VLOOKUP(B860,IMPORTRANGE(\"\"https://docs.google.com/spreadsheets/d/1Kptv1Yhe55NnKrQfatjnFhSoEKdPJ_02VtssK9GkJPk/edit#gid=0\"\",\"\"RWA!F:BZ\"\"),48,0))\"),\"\")","v":""}]
[null,null,null,{"$f":"IFERROR(__xludf.DUMMYFUNCTION(\"iferror(VLOOKUP(B861,IMPORTRANGE(\"\"https://docs.google.com/spreadsheets/d/1Kptv1Yhe55NnKrQfatjnFhSoEKdPJ_02VtssK9GkJPk/edit#gid=0\"\",\"\"RWA!F:BZ\"\"),44,0))\"),\"\")","v":""},{"$f":"IFERROR(__xludf.DUMMYFUNCTION(\"iferror(VLOOKUP(B861,IMPORTRANGE(\"\"https://docs.google.com/spreadsheets/d/1Kptv1Yhe55NnKrQfatjnFhSoEKdPJ_02VtssK9GkJPk/edit#gid=0\"\",\"\"RWA!F:BZ\"\"),48,0))\"),\"\")","v":""}]
[null,null,null,{"$f":"IFERROR(__xludf.DUMMYFUNCTION(\"iferror(VLOOKUP(B862,IMPORTRANGE(\"\"https://docs.google.com/spreadsheets/d/1Kptv1Yhe55NnKrQfatjnFhSoEKdPJ_02VtssK9GkJPk/edit#gid=0\"\",\"\"RWA!F:BZ\"\"),44,0))\"),\"\")","v":""},{"$f":"IFERROR(__xludf.DUMMYFUNCTION(\"iferror(VLOOKUP(B862,IMPORTRANGE(\"\"https://docs.google.com/spreadsheets/d/1Kptv1Yhe55NnKrQfatjnFhSoEKdPJ_02VtssK9GkJPk/edit#gid=0\"\",\"\"RWA!F:BZ\"\"),48,0))\"),\"\")","v":""}]
[null,null,null,{"$f":"IFERROR(__xludf.DUMMYFUNCTION(\"iferror(VLOOKUP(B863,IMPORTRANGE(\"\"https://docs.google.com/spreadsheets/d/1Kptv1Yhe55NnKrQfatjnFhSoEKdPJ_02VtssK9GkJPk/edit#gid=0\"\",\"\"RWA!F:BZ\"\"),44,0))\"),\"\")","v":""},{"$f":"IFERROR(__xludf.DUMMYFUNCTION(\"iferror(VLOOKUP(B863,IMPORTRANGE(\"\"https://docs.google.com/spreadsheets/d/1Kptv1Yhe55NnKrQfatjnFhSoEKdPJ_02VtssK9GkJPk/edit#gid=0\"\",\"\"RWA!F:BZ\"\"),48,0))\"),\"\")","v":""}]
[null,null,null,{"$f":"IFERROR(__xludf.DUMMYFUNCTION(\"iferror(VLOOKUP(B864,IMPORTRANGE(\"\"https://docs.google.com/spreadsheets/d/1Kptv1Yhe55NnKrQfatjnFhSoEKdPJ_02VtssK9GkJPk/edit#gid=0\"\",\"\"RWA!F:BZ\"\"),44,0))\"),\"\")","v":""},{"$f":"IFERROR(__xludf.DUMMYFUNCTION(\"iferror(VLOOKUP(B864,IMPORTRANGE(\"\"https://docs.google.com/spreadsheets/d/1Kptv1Yhe55NnKrQfatjnFhSoEKdPJ_02VtssK9GkJPk/edit#gid=0\"\",\"\"RWA!F:BZ\"\"),48,0))\"),\"\")","v":""}]
[null,null,null,{"$f":"IFERROR(__xludf.DUMMYFUNCTION(\"iferror(VLOOKUP(B865,IMPORTRANGE(\"\"https://docs.google.com/spreadsheets/d/1Kptv1Yhe55NnKrQfatjnFhSoEKdPJ_02VtssK9GkJPk/edit#gid=0\"\",\"\"RWA!F:BZ\"\"),44,0))\"),\"\")","v":""},{"$f":"IFERROR(__xludf.DUMMYFUNCTION(\"iferror(VLOOKUP(B865,IMPORTRANGE(\"\"https://docs.google.com/spreadsheets/d/1Kptv1Yhe55NnKrQfatjnFhSoEKdPJ_02VtssK9GkJPk/edit#gid=0\"\",\"\"RWA!F:BZ\"\"),48,0))\"),\"\")","v":""}]
[null,null,null,{"$f":"IFERROR(__xludf.DUMMYFUNCTION(\"iferror(VLOOKUP(B866,IMPORTRANGE(\"\"https://docs.google.com/spreadsheets/d/1Kptv1Yhe55NnKrQfatjnFhSoEKdPJ_02VtssK9GkJPk/edit#gid=0\"\",\"\"RWA!F:BZ\"\"),44,0))\"),\"\")","v":""},{"$f":"IFERROR(__xludf.DUMMYFUNCTION(\"iferror(VLOOKUP(B866,IMPORTRANGE(\"\"https://docs.google.com/spreadsheets/d/1Kptv1Yhe55NnKrQfatjnFhSoEKdPJ_02VtssK9GkJPk/edit#gid=0\"\",\"\"RWA!F:BZ\"\"),48,0))\"),\"\")","v":""}]
[null,null,null,{"$f":"IFERROR(__xludf.DUMMYFUNCTION(\"iferror(VLOOKUP(B867,IMPORTRANGE(\"\"https://docs.google.com/spreadsheets/d/1Kptv1Yhe55NnKrQfatjnFhSoEKdPJ_02VtssK9GkJPk/edit#gid=0\"\",\"\"RWA!F:BZ\"\"),44,0))\"),\"\")","v":""},{"$f":"IFERROR(__xludf.DUMMYFUNCTION(\"iferror(VLOOKUP(B867,IMPORTRANGE(\"\"https://docs.google.com/spreadsheets/d/1Kptv1Yhe55NnKrQfatjnFhSoEKdPJ_02VtssK9GkJPk/edit#gid=0\"\",\"\"RWA!F:BZ\"\"),48,0))\"),\"\")","v":""}]
[null,null,null,{"$f":"IFERROR(__xludf.DUMMYFUNCTION(\"iferror(VLOOKUP(B868,IMPORTRANGE(\"\"https://docs.google.com/spreadsheets/d/1Kptv1Yhe55NnKrQfatjnFhSoEKdPJ_02VtssK9GkJPk/edit#gid=0\"\",\"\"RWA!F:BZ\"\"),44,0))\"),\"\")","v":""},{"$f":"IFERROR(__xludf.DUMMYFUNCTION(\"iferror(VLOOKUP(B868,IMPORTRANGE(\"\"https://docs.google.com/spreadsheets/d/1Kptv1Yhe55NnKrQfatjnFhSoEKdPJ_02VtssK9GkJPk/edit#gid=0\"\",\"\"RWA!F:BZ\"\"),48,0))\"),\"\")","v":""}]
[null,null,null,{"$f":"IFERROR(__xludf.DUMMYFUNCTION(\"iferror(VLOOKUP(B869,IMPORTRANGE(\"\"https://docs.google.com/spreadsheets/d/1Kptv1Yhe55NnKrQfatjnFhSoEKdPJ_02VtssK9GkJPk/edit#gid=0\"\",\"\"RWA!F:BZ\"\"),44,0))\"),\"\")","v":""},{"$f":"IFERROR(__xludf.DUMMYFUNCTION(\"iferror(VLOOKUP(B869,IMPORTRANGE(\"\"https://docs.google.com/spreadsheets/d/1Kptv1Yhe55NnKrQfatjnFhSoEKdPJ_02VtssK9GkJPk/edit#gid=0\"\",\"\"RWA!F:BZ\"\"),48,0))\"),\"\")","v":""}]
[null,null,null,{"$f":"IFERROR(__xludf.DUMMYFUNCTION(\"iferror(VLOOKUP(B870,IMPORTRANGE(\"\"https://docs.google.com/spreadsheets/d/1Kptv1Yhe55NnKrQfatjnFhSoEKdPJ_02VtssK9GkJPk/edit#gid=0\"\",\"\"RWA!F:BZ\"\"),44,0))\"),\"\")","v":""},{"$f":"IFERROR(__xludf.DUMMYFUNCTION(\"iferror(VLOOKUP(B870,IMPORTRANGE(\"\"https://docs.google.com/spreadsheets/d/1Kptv1Yhe55NnKrQfatjnFhSoEKdPJ_02VtssK9GkJPk/edit#gid=0\"\",\"\"RWA!F:BZ\"\"),48,0))\"),\"\")","v":""}]
[null,null,null,{"$f":"IFERROR(__xludf.DUMMYFUNCTION(\"iferror(VLOOKUP(B871,IMPORTRANGE(\"\"https://docs.google.com/spreadsheets/d/1Kptv1Yhe55NnKrQfatjnFhSoEKdPJ_02VtssK9GkJPk/edit#gid=0\"\",\"\"RWA!F:BZ\"\"),44,0))\"),\"\")","v":""},{"$f":"IFERROR(__xludf.DUMMYFUNCTION(\"iferror(VLOOKUP(B871,IMPORTRANGE(\"\"https://docs.google.com/spreadsheets/d/1Kptv1Yhe55NnKrQfatjnFhSoEKdPJ_02VtssK9GkJPk/edit#gid=0\"\",\"\"RWA!F:BZ\"\"),48,0))\"),\"\")","v":""}]
[null,null,null,{"$f":"IFERROR(__xludf.DUMMYFUNCTION(\"iferror(VLOOKUP(B872,IMPORTRANGE(\"\"https://docs.google.com/spreadsheets/d/1Kptv1Yhe55NnKrQfatjnFhSoEKdPJ_02VtssK9GkJPk/edit#gid=0\"\",\"\"RWA!F:BZ\"\"),44,0))\"),\"\")","v":""},{"$f":"IFERROR(__xludf.DUMMYFUNCTION(\"iferror(VLOOKUP(B872,IMPORTRANGE(\"\"https://docs.google.com/spreadsheets/d/1Kptv1Yhe55NnKrQfatjnFhSoEKdPJ_02VtssK9GkJPk/edit#gid=0\"\",\"\"RWA!F:BZ\"\"),48,0))\"),\"\")","v":""}]
[null,null,null,{"$f":"IFERROR(__xludf.DUMMYFUNCTION(\"iferror(VLOOKUP(B873,IMPORTRANGE(\"\"https://docs.google.com/spreadsheets/d/1Kptv1Yhe55NnKrQfatjnFhSoEKdPJ_02VtssK9GkJPk/edit#gid=0\"\",\"\"RWA!F:BZ\"\"),44,0))\"),\"\")","v":""},{"$f":"IFERROR(__xludf.DUMMYFUNCTION(\"iferror(VLOOKUP(B873,IMPORTRANGE(\"\"https://docs.google.com/spreadsheets/d/1Kptv1Yhe55NnKrQfatjnFhSoEKdPJ_02VtssK9GkJPk/edit#gid=0\"\",\"\"RWA!F:BZ\"\"),48,0))\"),\"\")","v":""}]
[null,null,null,{"$f":"IFERROR(__xludf.DUMMYFUNCTION(\"iferror(VLOOKUP(B874,IMPORTRANGE(\"\"https://docs.google.com/spreadsheets/d/1Kptv1Yhe55NnKrQfatjnFhSoEKdPJ_02VtssK9GkJPk/edit#gid=0\"\",\"\"RWA!F:BZ\"\"),44,0))\"),\"\")","v":""},{"$f":"IFERROR(__xludf.DUMMYFUNCTION(\"iferror(VLOOKUP(B874,IMPORTRANGE(\"\"https://docs.google.com/spreadsheets/d/1Kptv1Yhe55NnKrQfatjnFhSoEKdPJ_02VtssK9GkJPk/edit#gid=0\"\",\"\"RWA!F:BZ\"\"),48,0))\"),\"\")","v":""}]
[null,null,null,{"$f":"IFERROR(__xludf.DUMMYFUNCTION(\"iferror(VLOOKUP(B875,IMPORTRANGE(\"\"https://docs.google.com/spreadsheets/d/1Kptv1Yhe55NnKrQfatjnFhSoEKdPJ_02VtssK9GkJPk/edit#gid=0\"\",\"\"RWA!F:BZ\"\"),44,0))\"),\"\")","v":""},{"$f":"IFERROR(__xludf.DUMMYFUNCTION(\"iferror(VLOOKUP(B875,IMPORTRANGE(\"\"https://docs.google.com/spreadsheets/d/1Kptv1Yhe55NnKrQfatjnFhSoEKdPJ_02VtssK9GkJPk/edit#gid=0\"\",\"\"RWA!F:BZ\"\"),48,0))\"),\"\")","v":""}]
[null,null,null,{"$f":"IFERROR(__xludf.DUMMYFUNCTION(\"iferror(VLOOKUP(B876,IMPORTRANGE(\"\"https://docs.google.com/spreadsheets/d/1Kptv1Yhe55NnKrQfatjnFhSoEKdPJ_02VtssK9GkJPk/edit#gid=0\"\",\"\"RWA!F:BZ\"\"),44,0))\"),\"\")","v":""},{"$f":"IFERROR(__xludf.DUMMYFUNCTION(\"iferror(VLOOKUP(B876,IMPORTRANGE(\"\"https://docs.google.com/spreadsheets/d/1Kptv1Yhe55NnKrQfatjnFhSoEKdPJ_02VtssK9GkJPk/edit#gid=0\"\",\"\"RWA!F:BZ\"\"),48,0))\"),\"\")","v":""}]
[null,null,null,{"$f":"IFERROR(__xludf.DUMMYFUNCTION(\"iferror(VLOOKUP(B877,IMPORTRANGE(\"\"https://docs.google.com/spreadsheets/d/1Kptv1Yhe55NnKrQfatjnFhSoEKdPJ_02VtssK9GkJPk/edit#gid=0\"\",\"\"RWA!F:BZ\"\"),44,0))\"),\"\")","v":""},{"$f":"IFERROR(__xludf.DUMMYFUNCTION(\"iferror(VLOOKUP(B877,IMPORTRANGE(\"\"https://docs.google.com/spreadsheets/d/1Kptv1Yhe55NnKrQfatjnFhSoEKdPJ_02VtssK9GkJPk/edit#gid=0\"\",\"\"RWA!F:BZ\"\"),48,0))\"),\"\")","v":""}]
[null,null,null,{"$f":"IFERROR(__xludf.DUMMYFUNCTION(\"iferror(VLOOKUP(B878,IMPORTRANGE(\"\"https://docs.google.com/spreadsheets/d/1Kptv1Yhe55NnKrQfatjnFhSoEKdPJ_02VtssK9GkJPk/edit#gid=0\"\",\"\"RWA!F:BZ\"\"),44,0))\"),\"\")","v":""},{"$f":"IFERROR(__xludf.DUMMYFUNCTION(\"iferror(VLOOKUP(B878,IMPORTRANGE(\"\"https://docs.google.com/spreadsheets/d/1Kptv1Yhe55NnKrQfatjnFhSoEKdPJ_02VtssK9GkJPk/edit#gid=0\"\",\"\"RWA!F:BZ\"\"),48,0))\"),\"\")","v":""}]
[null,null,null,{"$f":"IFERROR(__xludf.DUMMYFUNCTION(\"iferror(VLOOKUP(B879,IMPORTRANGE(\"\"https://docs.google.com/spreadsheets/d/1Kptv1Yhe55NnKrQfatjnFhSoEKdPJ_02VtssK9GkJPk/edit#gid=0\"\",\"\"RWA!F:BZ\"\"),44,0))\"),\"\")","v":""},{"$f":"IFERROR(__xludf.DUMMYFUNCTION(\"iferror(VLOOKUP(B879,IMPORTRANGE(\"\"https://docs.google.com/spreadsheets/d/1Kptv1Yhe55NnKrQfatjnFhSoEKdPJ_02VtssK9GkJPk/edit#gid=0\"\",\"\"RWA!F:BZ\"\"),48,0))\"),\"\")","v":""}]
[null,null,null,{"$f":"IFERROR(__xludf.DUMMYFUNCTION(\"iferror(VLOOKUP(B880,IMPORTRANGE(\"\"https://docs.google.com/spreadsheets/d/1Kptv1Yhe55NnKrQfatjnFhSoEKdPJ_02VtssK9GkJPk/edit#gid=0\"\",\"\"RWA!F:BZ\"\"),44,0))\"),\"\")","v":""},{"$f":"IFERROR(__xludf.DUMMYFUNCTION(\"iferror(VLOOKUP(B880,IMPORTRANGE(\"\"https://docs.google.com/spreadsheets/d/1Kptv1Yhe55NnKrQfatjnFhSoEKdPJ_02VtssK9GkJPk/edit#gid=0\"\",\"\"RWA!F:BZ\"\"),48,0))\"),\"\")","v":""}]
[null,null,null,{"$f":"IFERROR(__xludf.DUMMYFUNCTION(\"iferror(VLOOKUP(B881,IMPORTRANGE(\"\"https://docs.google.com/spreadsheets/d/1Kptv1Yhe55NnKrQfatjnFhSoEKdPJ_02VtssK9GkJPk/edit#gid=0\"\",\"\"RWA!F:BZ\"\"),44,0))\"),\"\")","v":""},{"$f":"IFERROR(__xludf.DUMMYFUNCTION(\"iferror(VLOOKUP(B881,IMPORTRANGE(\"\"https://docs.google.com/spreadsheets/d/1Kptv1Yhe55NnKrQfatjnFhSoEKdPJ_02VtssK9GkJPk/edit#gid=0\"\",\"\"RWA!F:BZ\"\"),48,0))\"),\"\")","v":""}]
[null,null,null,{"$f":"IFERROR(__xludf.DUMMYFUNCTION(\"iferror(VLOOKUP(B882,IMPORTRANGE(\"\"https://docs.google.com/spreadsheets/d/1Kptv1Yhe55NnKrQfatjnFhSoEKdPJ_02VtssK9GkJPk/edit#gid=0\"\",\"\"RWA!F:BZ\"\"),44,0))\"),\"\")","v":""},{"$f":"IFERROR(__xludf.DUMMYFUNCTION(\"iferror(VLOOKUP(B882,IMPORTRANGE(\"\"https://docs.google.com/spreadsheets/d/1Kptv1Yhe55NnKrQfatjnFhSoEKdPJ_02VtssK9GkJPk/edit#gid=0\"\",\"\"RWA!F:BZ\"\"),48,0))\"),\"\")","v":""}]
[null,null,null,{"$f":"IFERROR(__xludf.DUMMYFUNCTION(\"iferror(VLOOKUP(B883,IMPORTRANGE(\"\"https://docs.google.com/spreadsheets/d/1Kptv1Yhe55NnKrQfatjnFhSoEKdPJ_02VtssK9GkJPk/edit#gid=0\"\",\"\"RWA!F:BZ\"\"),44,0))\"),\"\")","v":""},{"$f":"IFERROR(__xludf.DUMMYFUNCTION(\"iferror(VLOOKUP(B883,IMPORTRANGE(\"\"https://docs.google.com/spreadsheets/d/1Kptv1Yhe55NnKrQfatjnFhSoEKdPJ_02VtssK9GkJPk/edit#gid=0\"\",\"\"RWA!F:BZ\"\"),48,0))\"),\"\")","v":""}]
[null,null,null,{"$f":"IFERROR(__xludf.DUMMYFUNCTION(\"iferror(VLOOKUP(B884,IMPORTRANGE(\"\"https://docs.google.com/spreadsheets/d/1Kptv1Yhe55NnKrQfatjnFhSoEKdPJ_02VtssK9GkJPk/edit#gid=0\"\",\"\"RWA!F:BZ\"\"),44,0))\"),\"\")","v":""},{"$f":"IFERROR(__xludf.DUMMYFUNCTION(\"iferror(VLOOKUP(B884,IMPORTRANGE(\"\"https://docs.google.com/spreadsheets/d/1Kptv1Yhe55NnKrQfatjnFhSoEKdPJ_02VtssK9GkJPk/edit#gid=0\"\",\"\"RWA!F:BZ\"\"),48,0))\"),\"\")","v":""}]
[null,null,null,{"$f":"IFERROR(__xludf.DUMMYFUNCTION(\"iferror(VLOOKUP(B885,IMPORTRANGE(\"\"https://docs.google.com/spreadsheets/d/1Kptv1Yhe55NnKrQfatjnFhSoEKdPJ_02VtssK9GkJPk/edit#gid=0\"\",\"\"RWA!F:BZ\"\"),44,0))\"),\"\")","v":""},{"$f":"IFERROR(__xludf.DUMMYFUNCTION(\"iferror(VLOOKUP(B885,IMPORTRANGE(\"\"https://docs.google.com/spreadsheets/d/1Kptv1Yhe55NnKrQfatjnFhSoEKdPJ_02VtssK9GkJPk/edit#gid=0\"\",\"\"RWA!F:BZ\"\"),48,0))\"),\"\")","v":""}]
[null,null,null,{"$f":"IFERROR(__xludf.DUMMYFUNCTION(\"iferror(VLOOKUP(B886,IMPORTRANGE(\"\"https://docs.google.com/spreadsheets/d/1Kptv1Yhe55NnKrQfatjnFhSoEKdPJ_02VtssK9GkJPk/edit#gid=0\"\",\"\"RWA!F:BZ\"\"),44,0))\"),\"\")","v":""},{"$f":"IFERROR(__xludf.DUMMYFUNCTION(\"iferror(VLOOKUP(B886,IMPORTRANGE(\"\"https://docs.google.com/spreadsheets/d/1Kptv1Yhe55NnKrQfatjnFhSoEKdPJ_02VtssK9GkJPk/edit#gid=0\"\",\"\"RWA!F:BZ\"\"),48,0))\"),\"\")","v":""}]
[null,null,null,{"$f":"IFERROR(__xludf.DUMMYFUNCTION(\"iferror(VLOOKUP(B887,IMPORTRANGE(\"\"https://docs.google.com/spreadsheets/d/1Kptv1Yhe55NnKrQfatjnFhSoEKdPJ_02VtssK9GkJPk/edit#gid=0\"\",\"\"RWA!F:BZ\"\"),44,0))\"),\"\")","v":""},{"$f":"IFERROR(__xludf.DUMMYFUNCTION(\"iferror(VLOOKUP(B887,IMPORTRANGE(\"\"https://docs.google.com/spreadsheets/d/1Kptv1Yhe55NnKrQfatjnFhSoEKdPJ_02VtssK9GkJPk/edit#gid=0\"\",\"\"RWA!F:BZ\"\"),48,0))\"),\"\")","v":""}]
[null,null,null,{"$f":"IFERROR(__xludf.DUMMYFUNCTION(\"iferror(VLOOKUP(B888,IMPORTRANGE(\"\"https://docs.google.com/spreadsheets/d/1Kptv1Yhe55NnKrQfatjnFhSoEKdPJ_02VtssK9GkJPk/edit#gid=0\"\",\"\"RWA!F:BZ\"\"),44,0))\"),\"\")","v":""},{"$f":"IFERROR(__xludf.DUMMYFUNCTION(\"iferror(VLOOKUP(B888,IMPORTRANGE(\"\"https://docs.google.com/spreadsheets/d/1Kptv1Yhe55NnKrQfatjnFhSoEKdPJ_02VtssK9GkJPk/edit#gid=0\"\",\"\"RWA!F:BZ\"\"),48,0))\"),\"\")","v":""}]
[null,null,null,{"$f":"IFERROR(__xludf.DUMMYFUNCTION(\"iferror(VLOOKUP(B889,IMPORTRANGE(\"\"https://docs.google.com/spreadsheets/d/1Kptv1Yhe55NnKrQfatjnFhSoEKdPJ_02VtssK9GkJPk/edit#gid=0\"\",\"\"RWA!F:BZ\"\"),44,0))\"),\"\")","v":""},{"$f":"IFERROR(__xludf.DUMMYFUNCTION(\"iferror(VLOOKUP(B889,IMPORTRANGE(\"\"https://docs.google.com/spreadsheets/d/1Kptv1Yhe55NnKrQfatjnFhSoEKdPJ_02VtssK9GkJPk/edit#gid=0\"\",\"\"RWA!F:BZ\"\"),48,0))\"),\"\")","v":""}]
[null,null,null,{"$f":"IFERROR(__xludf.DUMMYFUNCTION(\"iferror(VLOOKUP(B890,IMPORTRANGE(\"\"https://docs.google.com/spreadsheets/d/1Kptv1Yhe55NnKrQfatjnFhSoEKdPJ_02VtssK9GkJPk/edit#gid=0\"\",\"\"RWA!F:BZ\"\"),44,0))\"),\"\")","v":""},{"$f":"IFERROR(__xludf.DUMMYFUNCTION(\"iferror(VLOOKUP(B890,IMPORTRANGE(\"\"https://docs.google.com/spreadsheets/d/1Kptv1Yhe55NnKrQfatjnFhSoEKdPJ_02VtssK9GkJPk/edit#gid=0\"\",\"\"RWA!F:BZ\"\"),48,0))\"),\"\")","v":""}]
[null,null,null,{"$f":"IFERROR(__xludf.DUMMYFUNCTION(\"iferror(VLOOKUP(B891,IMPORTRANGE(\"\"https://docs.google.com/spreadsheets/d/1Kptv1Yhe55NnKrQfatjnFhSoEKdPJ_02VtssK9GkJPk/edit#gid=0\"\",\"\"RWA!F:BZ\"\"),44,0))\"),\"\")","v":""},{"$f":"IFERROR(__xludf.DUMMYFUNCTION(\"iferror(VLOOKUP(B891,IMPORTRANGE(\"\"https://docs.google.com/spreadsheets/d/1Kptv1Yhe55NnKrQfatjnFhSoEKdPJ_02VtssK9GkJPk/edit#gid=0\"\",\"\"RWA!F:BZ\"\"),48,0))\"),\"\")","v":""}]
[null,null,null,{"$f":"IFERROR(__xludf.DUMMYFUNCTION(\"iferror(VLOOKUP(B892,IMPORTRANGE(\"\"https://docs.google.com/spreadsheets/d/1Kptv1Yhe55NnKrQfatjnFhSoEKdPJ_02VtssK9GkJPk/edit#gid=0\"\",\"\"RWA!F:BZ\"\"),44,0))\"),\"\")","v":""},{"$f":"IFERROR(__xludf.DUMMYFUNCTION(\"iferror(VLOOKUP(B892,IMPORTRANGE(\"\"https://docs.google.com/spreadsheets/d/1Kptv1Yhe55NnKrQfatjnFhSoEKdPJ_02VtssK9GkJPk/edit#gid=0\"\",\"\"RWA!F:BZ\"\"),48,0))\"),\"\")","v":""}]
[null,null,null,{"$f":"IFERROR(__xludf.DUMMYFUNCTION(\"iferror(VLOOKUP(B893,IMPORTRANGE(\"\"https://docs.google.com/spreadsheets/d/1Kptv1Yhe55NnKrQfatjnFhSoEKdPJ_02VtssK9GkJPk/edit#gid=0\"\",\"\"RWA!F:BZ\"\"),44,0))\"),\"\")","v":""},{"$f":"IFERROR(__xludf.DUMMYFUNCTION(\"iferror(VLOOKUP(B893,IMPORTRANGE(\"\"https://docs.google.com/spreadsheets/d/1Kptv1Yhe55NnKrQfatjnFhSoEKdPJ_02VtssK9GkJPk/edit#gid=0\"\",\"\"RWA!F:BZ\"\"),48,0))\"),\"\")","v":""}]
[null,null,null,{"$f":"IFERROR(__xludf.DUMMYFUNCTION(\"iferror(VLOOKUP(B894,IMPORTRANGE(\"\"https://docs.google.com/spreadsheets/d/1Kptv1Yhe55NnKrQfatjnFhSoEKdPJ_02VtssK9GkJPk/edit#gid=0\"\",\"\"RWA!F:BZ\"\"),44,0))\"),\"\")","v":""},{"$f":"IFERROR(__xludf.DUMMYFUNCTION(\"iferror(VLOOKUP(B894,IMPORTRANGE(\"\"https://docs.google.com/spreadsheets/d/1Kptv1Yhe55NnKrQfatjnFhSoEKdPJ_02VtssK9GkJPk/edit#gid=0\"\",\"\"RWA!F:BZ\"\"),48,0))\"),\"\")","v":""}]
[null,null,null,{"$f":"IFERROR(__xludf.DUMMYFUNCTION(\"iferror(VLOOKUP(B895,IMPORTRANGE(\"\"https://docs.google.com/spreadsheets/d/1Kptv1Yhe55NnKrQfatjnFhSoEKdPJ_02VtssK9GkJPk/edit#gid=0\"\",\"\"RWA!F:BZ\"\"),44,0))\"),\"\")","v":""},{"$f":"IFERROR(__xludf.DUMMYFUNCTION(\"iferror(VLOOKUP(B895,IMPORTRANGE(\"\"https://docs.google.com/spreadsheets/d/1Kptv1Yhe55NnKrQfatjnFhSoEKdPJ_02VtssK9GkJPk/edit#gid=0\"\",\"\"RWA!F:BZ\"\"),48,0))\"),\"\")","v":""}]
[null,null,null,{"$f":"IFERROR(__xludf.DUMMYFUNCTION(\"iferror(VLOOKUP(B896,IMPORTRANGE(\"\"https://docs.google.com/spreadsheets/d/1Kptv1Yhe55NnKrQfatjnFhSoEKdPJ_02VtssK9GkJPk/edit#gid=0\"\",\"\"RWA!F:BZ\"\"),44,0))\"),\"\")","v":""},{"$f":"IFERROR(__xludf.DUMMYFUNCTION(\"iferror(VLOOKUP(B896,IMPORTRANGE(\"\"https://docs.google.com/spreadsheets/d/1Kptv1Yhe55NnKrQfatjnFhSoEKdPJ_02VtssK9GkJPk/edit#gid=0\"\",\"\"RWA!F:BZ\"\"),48,0))\"),\"\")","v":""}]
[null,null,null,{"$f":"IFERROR(__xludf.DUMMYFUNCTION(\"iferror(VLOOKUP(B897,IMPORTRANGE(\"\"https://docs.google.com/spreadsheets/d/1Kptv1Yhe55NnKrQfatjnFhSoEKdPJ_02VtssK9GkJPk/edit#gid=0\"\",\"\"RWA!F:BZ\"\"),44,0))\"),\"\")","v":""},{"$f":"IFERROR(__xludf.DUMMYFUNCTION(\"iferror(VLOOKUP(B897,IMPORTRANGE(\"\"https://docs.google.com/spreadsheets/d/1Kptv1Yhe55NnKrQfatjnFhSoEKdPJ_02VtssK9GkJPk/edit#gid=0\"\",\"\"RWA!F:BZ\"\"),48,0))\"),\"\")","v":""}]
[null,null,null,{"$f":"IFERROR(__xludf.DUMMYFUNCTION(\"iferror(VLOOKUP(B898,IMPORTRANGE(\"\"https://docs.google.com/spreadsheets/d/1Kptv1Yhe55NnKrQfatjnFhSoEKdPJ_02VtssK9GkJPk/edit#gid=0\"\",\"\"RWA!F:BZ\"\"),44,0))\"),\"\")","v":""},{"$f":"IFERROR(__xludf.DUMMYFUNCTION(\"iferror(VLOOKUP(B898,IMPORTRANGE(\"\"https://docs.google.com/spreadsheets/d/1Kptv1Yhe55NnKrQfatjnFhSoEKdPJ_02VtssK9GkJPk/edit#gid=0\"\",\"\"RWA!F:BZ\"\"),48,0))\"),\"\")","v":""}]
[null,null,null,{"$f":"IFERROR(__xludf.DUMMYFUNCTION(\"iferror(VLOOKUP(B899,IMPORTRANGE(\"\"https://docs.google.com/spreadsheets/d/1Kptv1Yhe55NnKrQfatjnFhSoEKdPJ_02VtssK9GkJPk/edit#gid=0\"\",\"\"RWA!F:BZ\"\"),44,0))\"),\"\")","v":""},{"$f":"IFERROR(__xludf.DUMMYFUNCTION(\"iferror(VLOOKUP(B899,IMPORTRANGE(\"\"https://docs.google.com/spreadsheets/d/1Kptv1Yhe55NnKrQfatjnFhSoEKdPJ_02VtssK9GkJPk/edit#gid=0\"\",\"\"RWA!F:BZ\"\"),48,0))\"),\"\")","v":""}]
[null,null,null,{"$f":"IFERROR(__xludf.DUMMYFUNCTION(\"iferror(VLOOKUP(B900,IMPORTRANGE(\"\"https://docs.google.com/spreadsheets/d/1Kptv1Yhe55NnKrQfatjnFhSoEKdPJ_02VtssK9GkJPk/edit#gid=0\"\",\"\"RWA!F:BZ\"\"),44,0))\"),\"\")","v":""},{"$f":"IFERROR(__xludf.DUMMYFUNCTION(\"iferror(VLOOKUP(B900,IMPORTRANGE(\"\"https://docs.google.com/spreadsheets/d/1Kptv1Yhe55NnKrQfatjnFhSoEKdPJ_02VtssK9GkJPk/edit#gid=0\"\",\"\"RWA!F:BZ\"\"),48,0))\"),\"\")","v":""}]
[null,null,null,{"$f":"IFERROR(__xludf.DUMMYFUNCTION(\"iferror(VLOOKUP(B901,IMPORTRANGE(\"\"https://docs.google.com/spreadsheets/d/1Kptv1Yhe55NnKrQfatjnFhSoEKdPJ_02VtssK9GkJPk/edit#gid=0\"\",\"\"RWA!F:BZ\"\"),44,0))\"),\"\")","v":""},{"$f":"IFERROR(__xludf.DUMMYFUNCTION(\"iferror(VLOOKUP(B901,IMPORTRANGE(\"\"https://docs.google.com/spreadsheets/d/1Kptv1Yhe55NnKrQfatjnFhSoEKdPJ_02VtssK9GkJPk/edit#gid=0\"\",\"\"RWA!F:BZ\"\"),48,0))\"),\"\")","v":""}]
[null,null,null,{"$f":"IFERROR(__xludf.DUMMYFUNCTION(\"iferror(VLOOKUP(B902,IMPORTRANGE(\"\"https://docs.google.com/spreadsheets/d/1Kptv1Yhe55NnKrQfatjnFhSoEKdPJ_02VtssK9GkJPk/edit#gid=0\"\",\"\"RWA!F:BZ\"\"),44,0))\"),\"\")","v":""},{"$f":"IFERROR(__xludf.DUMMYFUNCTION(\"iferror(VLOOKUP(B902,IMPORTRANGE(\"\"https://docs.google.com/spreadsheets/d/1Kptv1Yhe55NnKrQfatjnFhSoEKdPJ_02VtssK9GkJPk/edit#gid=0\"\",\"\"RWA!F:BZ\"\"),48,0))\"),\"\")","v":""}]
[null,null,null,{"$f":"IFERROR(__xludf.DUMMYFUNCTION(\"iferror(VLOOKUP(B903,IMPORTRANGE(\"\"https://docs.google.com/spreadsheets/d/1Kptv1Yhe55NnKrQfatjnFhSoEKdPJ_02VtssK9GkJPk/edit#gid=0\"\",\"\"RWA!F:BZ\"\"),44,0))\"),\"\")","v":""},{"$f":"IFERROR(__xludf.DUMMYFUNCTION(\"iferror(VLOOKUP(B903,IMPORTRANGE(\"\"https://docs.google.com/spreadsheets/d/1Kptv1Yhe55NnKrQfatjnFhSoEKdPJ_02VtssK9GkJPk/edit#gid=0\"\",\"\"RWA!F:BZ\"\"),48,0))\"),\"\")","v":""}]
[null,null,null,{"$f":"IFERROR(__xludf.DUMMYFUNCTION(\"iferror(VLOOKUP(B904,IMPORTRANGE(\"\"https://docs.google.com/spreadsheets/d/1Kptv1Yhe55NnKrQfatjnFhSoEKdPJ_02VtssK9GkJPk/edit#gid=0\"\",\"\"RWA!F:BZ\"\"),44,0))\"),\"\")","v":""},{"$f":"IFERROR(__xludf.DUMMYFUNCTION(\"iferror(VLOOKUP(B904,IMPORTRANGE(\"\"https://docs.google.com/spreadsheets/d/1Kptv1Yhe55NnKrQfatjnFhSoEKdPJ_02VtssK9GkJPk/edit#gid=0\"\",\"\"RWA!F:BZ\"\"),48,0))\"),\"\")","v":""}]
[null,null,null,{"$f":"IFERROR(__xludf.DUMMYFUNCTION(\"iferror(VLOOKUP(B905,IMPORTRANGE(\"\"https://docs.google.com/spreadsheets/d/1Kptv1Yhe55NnKrQfatjnFhSoEKdPJ_02VtssK9GkJPk/edit#gid=0\"\",\"\"RWA!F:BZ\"\"),44,0))\"),\"\")","v":""},{"$f":"IFERROR(__xludf.DUMMYFUNCTION(\"iferror(VLOOKUP(B905,IMPORTRANGE(\"\"https://docs.google.com/spreadsheets/d/1Kptv1Yhe55NnKrQfatjnFhSoEKdPJ_02VtssK9GkJPk/edit#gid=0\"\",\"\"RWA!F:BZ\"\"),48,0))\"),\"\")","v":""}]
[null,null,null,{"$f":"IFERROR(__xludf.DUMMYFUNCTION(\"iferror(VLOOKUP(B906,IMPORTRANGE(\"\"https://docs.google.com/spreadsheets/d/1Kptv1Yhe55NnKrQfatjnFhSoEKdPJ_02VtssK9GkJPk/edit#gid=0\"\",\"\"RWA!F:BZ\"\"),44,0))\"),\"\")","v":""},{"$f":"IFERROR(__xludf.DUMMYFUNCTION(\"iferror(VLOOKUP(B906,IMPORTRANGE(\"\"https://docs.google.com/spreadsheets/d/1Kptv1Yhe55NnKrQfatjnFhSoEKdPJ_02VtssK9GkJPk/edit#gid=0\"\",\"\"RWA!F:BZ\"\"),48,0))\"),\"\")","v":""}]
[null,null,null,{"$f":"IFERROR(__xludf.DUMMYFUNCTION(\"iferror(VLOOKUP(B907,IMPORTRANGE(\"\"https://docs.google.com/spreadsheets/d/1Kptv1Yhe55NnKrQfatjnFhSoEKdPJ_02VtssK9GkJPk/edit#gid=0\"\",\"\"RWA!F:BZ\"\"),44,0))\"),\"\")","v":""},{"$f":"IFERROR(__xludf.DUMMYFUNCTION(\"iferror(VLOOKUP(B907,IMPORTRANGE(\"\"https://docs.google.com/spreadsheets/d/1Kptv1Yhe55NnKrQfatjnFhSoEKdPJ_02VtssK9GkJPk/edit#gid=0\"\",\"\"RWA!F:BZ\"\"),48,0))\"),\"\")","v":""}]
[null,null,null,{"$f":"IFERROR(__xludf.DUMMYFUNCTION(\"iferror(VLOOKUP(B908,IMPORTRANGE(\"\"https://docs.google.com/spreadsheets/d/1Kptv1Yhe55NnKrQfatjnFhSoEKdPJ_02VtssK9GkJPk/edit#gid=0\"\",\"\"RWA!F:BZ\"\"),44,0))\"),\"\")","v":""},{"$f":"IFERROR(__xludf.DUMMYFUNCTION(\"iferror(VLOOKUP(B908,IMPORTRANGE(\"\"https://docs.google.com/spreadsheets/d/1Kptv1Yhe55NnKrQfatjnFhSoEKdPJ_02VtssK9GkJPk/edit#gid=0\"\",\"\"RWA!F:BZ\"\"),48,0))\"),\"\")","v":""}]
[null,null,null,{"$f":"IFERROR(__xludf.DUMMYFUNCTION(\"iferror(VLOOKUP(B909,IMPORTRANGE(\"\"https://docs.google.com/spreadsheets/d/1Kptv1Yhe55NnKrQfatjnFhSoEKdPJ_02VtssK9GkJPk/edit#gid=0\"\",\"\"RWA!F:BZ\"\"),44,0))\"),\"\")","v":""},{"$f":"IFERROR(__xludf.DUMMYFUNCTION(\"iferror(VLOOKUP(B909,IMPORTRANGE(\"\"https://docs.google.com/spreadsheets/d/1Kptv1Yhe55NnKrQfatjnFhSoEKdPJ_02VtssK9GkJPk/edit#gid=0\"\",\"\"RWA!F:BZ\"\"),48,0))\"),\"\")","v":""}]
[null,null,null,{"$f":"IFERROR(__xludf.DUMMYFUNCTION(\"iferror(VLOOKUP(B910,IMPORTRANGE(\"\"https://docs.google.com/spreadsheets/d/1Kptv1Yhe55NnKrQfatjnFhSoEKdPJ_02VtssK9GkJPk/edit#gid=0\"\",\"\"RWA!F:BZ\"\"),44,0))\"),\"\")","v":""},{"$f":"IFERROR(__xludf.DUMMYFUNCTION(\"iferror(VLOOKUP(B910,IMPORTRANGE(\"\"https://docs.google.com/spreadsheets/d/1Kptv1Yhe55NnKrQfatjnFhSoEKdPJ_02VtssK9GkJPk/edit#gid=0\"\",\"\"RWA!F:BZ\"\"),48,0))\"),\"\")","v":""}]
[null,null,null,{"$f":"IFERROR(__xludf.DUMMYFUNCTION(\"iferror(VLOOKUP(B911,IMPORTRANGE(\"\"https://docs.google.com/spreadsheets/d/1Kptv1Yhe55NnKrQfatjnFhSoEKdPJ_02VtssK9GkJPk/edit#gid=0\"\",\"\"RWA!F:BZ\"\"),44,0))\"),\"\")","v":""},{"$f":"IFERROR(__xludf.DUMMYFUNCTION(\"iferror(VLOOKUP(B911,IMPORTRANGE(\"\"https://docs.google.com/spreadsheets/d/1Kptv1Yhe55NnKrQfatjnFhSoEKdPJ_02VtssK9GkJPk/edit#gid=0\"\",\"\"RWA!F:BZ\"\"),48,0))\"),\"\")","v":""}]
[null,null,null,{"$f":"IFERROR(__xludf.DUMMYFUNCTION(\"iferror(VLOOKUP(B912,IMPORTRANGE(\"\"https://docs.google.com/spreadsheets/d/1Kptv1Yhe55NnKrQfatjnFhSoEKdPJ_02VtssK9GkJPk/edit#gid=0\"\",\"\"RWA!F:BZ\"\"),44,0))\"),\"\")","v":""},{"$f":"IFERROR(__xludf.DUMMYFUNCTION(\"iferror(VLOOKUP(B912,IMPORTRANGE(\"\"https://docs.google.com/spreadsheets/d/1Kptv1Yhe55NnKrQfatjnFhSoEKdPJ_02VtssK9GkJPk/edit#gid=0\"\",\"\"RWA!F:BZ\"\"),48,0))\"),\"\")","v":""}]
[null,null,null,{"$f":"IFERROR(__xludf.DUMMYFUNCTION(\"iferror(VLOOKUP(B913,IMPORTRANGE(\"\"https://docs.google.com/spreadsheets/d/1Kptv1Yhe55NnKrQfatjnFhSoEKdPJ_02VtssK9GkJPk/edit#gid=0\"\",\"\"RWA!F:BZ\"\"),44,0))\"),\"\")","v":""},{"$f":"IFERROR(__xludf.DUMMYFUNCTION(\"iferror(VLOOKUP(B913,IMPORTRANGE(\"\"https://docs.google.com/spreadsheets/d/1Kptv1Yhe55NnKrQfatjnFhSoEKdPJ_02VtssK9GkJPk/edit#gid=0\"\",\"\"RWA!F:BZ\"\"),48,0))\"),\"\")","v":""}]
[null,null,null,{"$f":"IFERROR(__xludf.DUMMYFUNCTION(\"iferror(VLOOKUP(B914,IMPORTRANGE(\"\"https://docs.google.com/spreadsheets/d/1Kptv1Yhe55NnKrQfatjnFhSoEKdPJ_02VtssK9GkJPk/edit#gid=0\"\",\"\"RWA!F:BZ\"\"),44,0))\"),\"\")","v":""},{"$f":"IFERROR(__xludf.DUMMYFUNCTION(\"iferror(VLOOKUP(B914,IMPORTRANGE(\"\"https://docs.google.com/spreadsheets/d/1Kptv1Yhe55NnKrQfatjnFhSoEKdPJ_02VtssK9GkJPk/edit#gid=0\"\",\"\"RWA!F:BZ\"\"),48,0))\"),\"\")","v":""}]
[null,null,null,{"$f":"IFERROR(__xludf.DUMMYFUNCTION(\"iferror(VLOOKUP(B915,IMPORTRANGE(\"\"https://docs.google.com/spreadsheets/d/1Kptv1Yhe55NnKrQfatjnFhSoEKdPJ_02VtssK9GkJPk/edit#gid=0\"\",\"\"RWA!F:BZ\"\"),44,0))\"),\"\")","v":""},{"$f":"IFERROR(__xludf.DUMMYFUNCTION(\"iferror(VLOOKUP(B915,IMPORTRANGE(\"\"https://docs.google.com/spreadsheets/d/1Kptv1Yhe55NnKrQfatjnFhSoEKdPJ_02VtssK9GkJPk/edit#gid=0\"\",\"\"RWA!F:BZ\"\"),48,0))\"),\"\")","v":""}]
[null,null,null,{"$f":"IFERROR(__xludf.DUMMYFUNCTION(\"iferror(VLOOKUP(B916,IMPORTRANGE(\"\"https://docs.google.com/spreadsheets/d/1Kptv1Yhe55NnKrQfatjnFhSoEKdPJ_02VtssK9GkJPk/edit#gid=0\"\",\"\"RWA!F:BZ\"\"),44,0))\"),\"\")","v":""},{"$f":"IFERROR(__xludf.DUMMYFUNCTION(\"iferror(VLOOKUP(B916,IMPORTRANGE(\"\"https://docs.google.com/spreadsheets/d/1Kptv1Yhe55NnKrQfatjnFhSoEKdPJ_02VtssK9GkJPk/edit#gid=0\"\",\"\"RWA!F:BZ\"\"),48,0))\"),\"\")","v":""}]
[null,null,null,{"$f":"IFERROR(__xludf.DUMMYFUNCTION(\"iferror(VLOOKUP(B917,IMPORTRANGE(\"\"https://docs.google.com/spreadsheets/d/1Kptv1Yhe55NnKrQfatjnFhSoEKdPJ_02VtssK9GkJPk/edit#gid=0\"\",\"\"RWA!F:BZ\"\"),44,0))\"),\"\")","v":""},{"$f":"IFERROR(__xludf.DUMMYFUNCTION(\"iferror(VLOOKUP(B917,IMPORTRANGE(\"\"https://docs.google.com/spreadsheets/d/1Kptv1Yhe55NnKrQfatjnFhSoEKdPJ_02VtssK9GkJPk/edit#gid=0\"\",\"\"RWA!F:BZ\"\"),48,0))\"),\"\")","v":""}]
[null,null,null,{"$f":"IFERROR(__xludf.DUMMYFUNCTION(\"iferror(VLOOKUP(B918,IMPORTRANGE(\"\"https://docs.google.com/spreadsheets/d/1Kptv1Yhe55NnKrQfatjnFhSoEKdPJ_02VtssK9GkJPk/edit#gid=0\"\",\"\"RWA!F:BZ\"\"),44,0))\"),\"\")","v":""},{"$f":"IFERROR(__xludf.DUMMYFUNCTION(\"iferror(VLOOKUP(B918,IMPORTRANGE(\"\"https://docs.google.com/spreadsheets/d/1Kptv1Yhe55NnKrQfatjnFhSoEKdPJ_02VtssK9GkJPk/edit#gid=0\"\",\"\"RWA!F:BZ\"\"),48,0))\"),\"\")","v":""}]
[null,null,null,{"$f":"IFERROR(__xludf.DUMMYFUNCTION(\"iferror(VLOOKUP(B919,IMPORTRANGE(\"\"https://docs.google.com/spreadsheets/d/1Kptv1Yhe55NnKrQfatjnFhSoEKdPJ_02VtssK9GkJPk/edit#gid=0\"\",\"\"RWA!F:BZ\"\"),44,0))\"),\"\")","v":""},{"$f":"IFERROR(__xludf.DUMMYFUNCTION(\"iferror(VLOOKUP(B919,IMPORTRANGE(\"\"https://docs.google.com/spreadsheets/d/1Kptv1Yhe55NnKrQfatjnFhSoEKdPJ_02VtssK9GkJPk/edit#gid=0\"\",\"\"RWA!F:BZ\"\"),48,0))\"),\"\")","v":""}]
[null,null,null,{"$f":"IFERROR(__xludf.DUMMYFUNCTION(\"iferror(VLOOKUP(B920,IMPORTRANGE(\"\"https://docs.google.com/spreadsheets/d/1Kptv1Yhe55NnKrQfatjnFhSoEKdPJ_02VtssK9GkJPk/edit#gid=0\"\",\"\"RWA!F:BZ\"\"),44,0))\"),\"\")","v":""},{"$f":"IFERROR(__xludf.DUMMYFUNCTION(\"iferror(VLOOKUP(B920,IMPORTRANGE(\"\"https://docs.google.com/spreadsheets/d/1Kptv1Yhe55NnKrQfatjnFhSoEKdPJ_02VtssK9GkJPk/edit#gid=0\"\",\"\"RWA!F:BZ\"\"),48,0))\"),\"\")","v":""}]
[null,null,null,{"$f":"IFERROR(__xludf.DUMMYFUNCTION(\"iferror(VLOOKUP(B921,IMPORTRANGE(\"\"https://docs.google.com/spreadsheets/d/1Kptv1Yhe55NnKrQfatjnFhSoEKdPJ_02VtssK9GkJPk/edit#gid=0\"\",\"\"RWA!F:BZ\"\"),44,0))\"),\"\")","v":""},{"$f":"IFERROR(__xludf.DUMMYFUNCTION(\"iferror(VLOOKUP(B921,IMPORTRANGE(\"\"https://docs.google.com/spreadsheets/d/1Kptv1Yhe55NnKrQfatjnFhSoEKdPJ_02VtssK9GkJPk/edit#gid=0\"\",\"\"RWA!F:BZ\"\"),48,0))\"),\"\")","v":""}]
[null,null,null,{"$f":"IFERROR(__xludf.DUMMYFUNCTION(\"iferror(VLOOKUP(B922,IMPORTRANGE(\"\"https://docs.google.com/spreadsheets/d/1Kptv1Yhe55NnKrQfatjnFhSoEKdPJ_02VtssK9GkJPk/edit#gid=0\"\",\"\"RWA!F:BZ\"\"),44,0))\"),\"\")","v":""},{"$f":"IFERROR(__xludf.DUMMYFUNCTION(\"iferror(VLOOKUP(B922,IMPORTRANGE(\"\"https://docs.google.com/spreadsheets/d/1Kptv1Yhe55NnKrQfatjnFhSoEKdPJ_02VtssK9GkJPk/edit#gid=0\"\",\"\"RWA!F:BZ\"\"),48,0))\"),\"\")","v":""}]
[null,null,null,{"$f":"IFERROR(__xludf.DUMMYFUNCTION(\"iferror(VLOOKUP(B923,IMPORTRANGE(\"\"https://docs.google.com/spreadsheets/d/1Kptv1Yhe55NnKrQfatjnFhSoEKdPJ_02VtssK9GkJPk/edit#gid=0\"\",\"\"RWA!F:BZ\"\"),44,0))\"),\"\")","v":""},{"$f":"IFERROR(__xludf.DUMMYFUNCTION(\"iferror(VLOOKUP(B923,IMPORTRANGE(\"\"https://docs.google.com/spreadsheets/d/1Kptv1Yhe55NnKrQfatjnFhSoEKdPJ_02VtssK9GkJPk/edit#gid=0\"\",\"\"RWA!F:BZ\"\"),48,0))\"),\"\")","v":""}]
[null,null,null,{"$f":"IFERROR(__xludf.DUMMYFUNCTION(\"iferror(VLOOKUP(B924,IMPORTRANGE(\"\"https://docs.google.com/spreadsheets/d/1Kptv1Yhe55NnKrQfatjnFhSoEKdPJ_02VtssK9GkJPk/edit#gid=0\"\",\"\"RWA!F:BZ\"\"),44,0))\"),\"\")","v":""},{"$f":"IFERROR(__xludf.DUMMYFUNCTION(\"iferror(VLOOKUP(B924,IMPORTRANGE(\"\"https://docs.google.com/spreadsheets/d/1Kptv1Yhe55NnKrQfatjnFhSoEKdPJ_02VtssK9GkJPk/edit#gid=0\"\",\"\"RWA!F:BZ\"\"),48,0))\"),\"\")","v":""}]
[null,null,null,{"$f":"IFERROR(__xludf.DUMMYFUNCTION(\"iferror(VLOOKUP(B925,IMPORTRANGE(\"\"https://docs.google.com/spreadsheets/d/1Kptv1Yhe55NnKrQfatjnFhSoEKdPJ_02VtssK9GkJPk/edit#gid=0\"\",\"\"RWA!F:BZ\"\"),44,0))\"),\"\")","v":""},{"$f":"IFERROR(__xludf.DUMMYFUNCTION(\"iferror(VLOOKUP(B925,IMPORTRANGE(\"\"https://docs.google.com/spreadsheets/d/1Kptv1Yhe55NnKrQfatjnFhSoEKdPJ_02VtssK9GkJPk/edit#gid=0\"\",\"\"RWA!F:BZ\"\"),48,0))\"),\"\")","v":""}]
[null,null,null,{"$f":"IFERROR(__xludf.DUMMYFUNCTION(\"iferror(VLOOKUP(B926,IMPORTRANGE(\"\"https://docs.google.com/spreadsheets/d/1Kptv1Yhe55NnKrQfatjnFhSoEKdPJ_02VtssK9GkJPk/edit#gid=0\"\",\"\"RWA!F:BZ\"\"),44,0))\"),\"\")","v":""},{"$f":"IFERROR(__xludf.DUMMYFUNCTION(\"iferror(VLOOKUP(B926,IMPORTRANGE(\"\"https://docs.google.com/spreadsheets/d/1Kptv1Yhe55NnKrQfatjnFhSoEKdPJ_02VtssK9GkJPk/edit#gid=0\"\",\"\"RWA!F:BZ\"\"),48,0))\"),\"\")","v":""}]
[null,null,null,{"$f":"IFERROR(__xludf.DUMMYFUNCTION(\"iferror(VLOOKUP(B927,IMPORTRANGE(\"\"https://docs.google.com/spreadsheets/d/1Kptv1Yhe55NnKrQfatjnFhSoEKdPJ_02VtssK9GkJPk/edit#gid=0\"\",\"\"RWA!F:BZ\"\"),44,0))\"),\"\")","v":""},{"$f":"IFERROR(__xludf.DUMMYFUNCTION(\"iferror(VLOOKUP(B927,IMPORTRANGE(\"\"https://docs.google.com/spreadsheets/d/1Kptv1Yhe55NnKrQfatjnFhSoEKdPJ_02VtssK9GkJPk/edit#gid=0\"\",\"\"RWA!F:BZ\"\"),48,0))\"),\"\")","v":""}]
[null,null,null,{"$f":"IFERROR(__xludf.DUMMYFUNCTION(\"iferror(VLOOKUP(B928,IMPORTRANGE(\"\"https://docs.google.com/spreadsheets/d/1Kptv1Yhe55NnKrQfatjnFhSoEKdPJ_02VtssK9GkJPk/edit#gid=0\"\",\"\"RWA!F:BZ\"\"),44,0))\"),\"\")","v":""},{"$f":"IFERROR(__xludf.DUMMYFUNCTION(\"iferror(VLOOKUP(B928,IMPORTRANGE(\"\"https://docs.google.com/spreadsheets/d/1Kptv1Yhe55NnKrQfatjnFhSoEKdPJ_02VtssK9GkJPk/edit#gid=0\"\",\"\"RWA!F:BZ\"\"),48,0))\"),\"\")","v":""}]
[null,null,null,{"$f":"IFERROR(__xludf.DUMMYFUNCTION(\"iferror(VLOOKUP(B929,IMPORTRANGE(\"\"https://docs.google.com/spreadsheets/d/1Kptv1Yhe55NnKrQfatjnFhSoEKdPJ_02VtssK9GkJPk/edit#gid=0\"\",\"\"RWA!F:BZ\"\"),44,0))\"),\"\")","v":""},{"$f":"IFERROR(__xludf.DUMMYFUNCTION(\"iferror(VLOOKUP(B929,IMPORTRANGE(\"\"https://docs.google.com/spreadsheets/d/1Kptv1Yhe55NnKrQfatjnFhSoEKdPJ_02VtssK9GkJPk/edit#gid=0\"\",\"\"RWA!F:BZ\"\"),48,0))\"),\"\")","v":""}]
[null,null,null,{"$f":"IFERROR(__xludf.DUMMYFUNCTION(\"iferror(VLOOKUP(B930,IMPORTRANGE(\"\"https://docs.google.com/spreadsheets/d/1Kptv1Yhe55NnKrQfatjnFhSoEKdPJ_02VtssK9GkJPk/edit#gid=0\"\",\"\"RWA!F:BZ\"\"),44,0))\"),\"\")","v":""},{"$f":"IFERROR(__xludf.DUMMYFUNCTION(\"iferror(VLOOKUP(B930,IMPORTRANGE(\"\"https://docs.google.com/spreadsheets/d/1Kptv1Yhe55NnKrQfatjnFhSoEKdPJ_02VtssK9GkJPk/edit#gid=0\"\",\"\"RWA!F:BZ\"\"),48,0))\"),\"\")","v":""}]
[null,null,null,{"$f":"IFERROR(__xludf.DUMMYFUNCTION(\"iferror(VLOOKUP(B931,IMPORTRANGE(\"\"https://docs.google.com/spreadsheets/d/1Kptv1Yhe55NnKrQfatjnFhSoEKdPJ_02VtssK9GkJPk/edit#gid=0\"\",\"\"RWA!F:BZ\"\"),44,0))\"),\"\")","v":""},{"$f":"IFERROR(__xludf.DUMMYFUNCTION(\"iferror(VLOOKUP(B931,IMPORTRANGE(\"\"https://docs.google.com/spreadsheets/d/1Kptv1Yhe55NnKrQfatjnFhSoEKdPJ_02VtssK9GkJPk/edit#gid=0\"\",\"\"RWA!F:BZ\"\"),48,0))\"),\"\")","v":""}]
[null,null,null,{"$f":"IFERROR(__xludf.DUMMYFUNCTION(\"iferror(VLOOKUP(B932,IMPORTRANGE(\"\"https://docs.google.com/spreadsheets/d/1Kptv1Yhe55NnKrQfatjnFhSoEKdPJ_02VtssK9GkJPk/edit#gid=0\"\",\"\"RWA!F:BZ\"\"),44,0))\"),\"\")","v":""},{"$f":"IFERROR(__xludf.DUMMYFUNCTION(\"iferror(VLOOKUP(B932,IMPORTRANGE(\"\"https://docs.google.com/spreadsheets/d/1Kptv1Yhe55NnKrQfatjnFhSoEKdPJ_02VtssK9GkJPk/edit#gid=0\"\",\"\"RWA!F:BZ\"\"),48,0))\"),\"\")","v":""}]
[null,null,null,{"$f":"IFERROR(__xludf.DUMMYFUNCTION(\"iferror(VLOOKUP(B933,IMPORTRANGE(\"\"https://docs.google.com/spreadsheets/d/1Kptv1Yhe55NnKrQfatjnFhSoEKdPJ_02VtssK9GkJPk/edit#gid=0\"\",\"\"RWA!F:BZ\"\"),44,0))\"),\"\")","v":""},{"$f":"IFERROR(__xludf.DUMMYFUNCTION(\"iferror(VLOOKUP(B933,IMPORTRANGE(\"\"https://docs.google.com/spreadsheets/d/1Kptv1Yhe55NnKrQfatjnFhSoEKdPJ_02VtssK9GkJPk/edit#gid=0\"\",\"\"RWA!F:BZ\"\"),48,0))\"),\"\")","v":""}]
[null,null,null,{"$f":"IFERROR(__xludf.DUMMYFUNCTION(\"iferror(VLOOKUP(B934,IMPORTRANGE(\"\"https://docs.google.com/spreadsheets/d/1Kptv1Yhe55NnKrQfatjnFhSoEKdPJ_02VtssK9GkJPk/edit#gid=0\"\",\"\"RWA!F:BZ\"\"),44,0))\"),\"\")","v":""},{"$f":"IFERROR(__xludf.DUMMYFUNCTION(\"iferror(VLOOKUP(B934,IMPORTRANGE(\"\"https://docs.google.com/spreadsheets/d/1Kptv1Yhe55NnKrQfatjnFhSoEKdPJ_02VtssK9GkJPk/edit#gid=0\"\",\"\"RWA!F:BZ\"\"),48,0))\"),\"\")","v":""}]
[null,null,null,{"$f":"IFERROR(__xludf.DUMMYFUNCTION(\"iferror(VLOOKUP(B935,IMPORTRANGE(\"\"https://docs.google.com/spreadsheets/d/1Kptv1Yhe55NnKrQfatjnFhSoEKdPJ_02VtssK9GkJPk/edit#gid=0\"\",\"\"RWA!F:BZ\"\"),44,0))\"),\"\")","v":""},{"$f":"IFERROR(__xludf.DUMMYFUNCTION(\"iferror(VLOOKUP(B935,IMPORTRANGE(\"\"https://docs.google.com/spreadsheets/d/1Kptv1Yhe55NnKrQfatjnFhSoEKdPJ_02VtssK9GkJPk/edit#gid=0\"\",\"\"RWA!F:BZ\"\"),48,0))\"),\"\")","v":""}]
[null,null,null,{"$f":"IFERROR(__xludf.DUMMYFUNCTION(\"iferror(VLOOKUP(B936,IMPORTRANGE(\"\"https://docs.google.com/spreadsheets/d/1Kptv1Yhe55NnKrQfatjnFhSoEKdPJ_02VtssK9GkJPk/edit#gid=0\"\",\"\"RWA!F:BZ\"\"),44,0))\"),\"\")","v":""},{"$f":"IFERROR(__xludf.DUMMYFUNCTION(\"iferror(VLOOKUP(B936,IMPORTRANGE(\"\"https://docs.google.com/spreadsheets/d/1Kptv1Yhe55NnKrQfatjnFhSoEKdPJ_02VtssK9GkJPk/edit#gid=0\"\",\"\"RWA!F:BZ\"\"),48,0))\"),\"\")","v":""}]
[null,null,null,{"$f":"IFERROR(__xludf.DUMMYFUNCTION(\"iferror(VLOOKUP(B937,IMPORTRANGE(\"\"https://docs.google.com/spreadsheets/d/1Kptv1Yhe55NnKrQfatjnFhSoEKdPJ_02VtssK9GkJPk/edit#gid=0\"\",\"\"RWA!F:BZ\"\"),44,0))\"),\"\")","v":""},{"$f":"IFERROR(__xludf.DUMMYFUNCTION(\"iferror(VLOOKUP(B937,IMPORTRANGE(\"\"https://docs.google.com/spreadsheets/d/1Kptv1Yhe55NnKrQfatjnFhSoEKdPJ_02VtssK9GkJPk/edit#gid=0\"\",\"\"RWA!F:BZ\"\"),48,0))\"),\"\")","v":""}]
[null,null,null,{"$f":"IFERROR(__xludf.DUMMYFUNCTION(\"iferror(VLOOKUP(B938,IMPORTRANGE(\"\"https://docs.google.com/spreadsheets/d/1Kptv1Yhe55NnKrQfatjnFhSoEKdPJ_02VtssK9GkJPk/edit#gid=0\"\",\"\"RWA!F:BZ\"\"),44,0))\"),\"\")","v":""},{"$f":"IFERROR(__xludf.DUMMYFUNCTION(\"iferror(VLOOKUP(B938,IMPORTRANGE(\"\"https://docs.google.com/spreadsheets/d/1Kptv1Yhe55NnKrQfatjnFhSoEKdPJ_02VtssK9GkJPk/edit#gid=0\"\",\"\"RWA!F:BZ\"\"),48,0))\"),\"\")","v":""}]
[null,null,null,{"$f":"IFERROR(__xludf.DUMMYFUNCTION(\"iferror(VLOOKUP(B939,IMPORTRANGE(\"\"https://docs.google.com/spreadsheets/d/1Kptv1Yhe55NnKrQfatjnFhSoEKdPJ_02VtssK9GkJPk/edit#gid=0\"\",\"\"RWA!F:BZ\"\"),44,0))\"),\"\")","v":""},{"$f":"IFERROR(__xludf.DUMMYFUNCTION(\"iferror(VLOOKUP(B939,IMPORTRANGE(\"\"https://docs.google.com/spreadsheets/d/1Kptv1Yhe55NnKrQfatjnFhSoEKdPJ_02VtssK9GkJPk/edit#gid=0\"\",\"\"RWA!F:BZ\"\"),48,0))\"),\"\")","v":""}]
[null,null,null,{"$f":"IFERROR(__xludf.DUMMYFUNCTION(\"iferror(VLOOKUP(B940,IMPORTRANGE(\"\"https://docs.google.com/spreadsheets/d/1Kptv1Yhe55NnKrQfatjnFhSoEKdPJ_02VtssK9GkJPk/edit#gid=0\"\",\"\"RWA!F:BZ\"\"),44,0))\"),\"\")","v":""},{"$f":"IFERROR(__xludf.DUMMYFUNCTION(\"iferror(VLOOKUP(B940,IMPORTRANGE(\"\"https://docs.google.com/spreadsheets/d/1Kptv1Yhe55NnKrQfatjnFhSoEKdPJ_02VtssK9GkJPk/edit#gid=0\"\",\"\"RWA!F:BZ\"\"),48,0))\"),\"\")","v":""}]
[null,null,null,{"$f":"IFERROR(__xludf.DUMMYFUNCTION(\"iferror(VLOOKUP(B941,IMPORTRANGE(\"\"https://docs.google.com/spreadsheets/d/1Kptv1Yhe55NnKrQfatjnFhSoEKdPJ_02VtssK9GkJPk/edit#gid=0\"\",\"\"RWA!F:BZ\"\"),44,0))\"),\"\")","v":""},{"$f":"IFERROR(__xludf.DUMMYFUNCTION(\"iferror(VLOOKUP(B941,IMPORTRANGE(\"\"https://docs.google.com/spreadsheets/d/1Kptv1Yhe55NnKrQfatjnFhSoEKdPJ_02VtssK9GkJPk/edit#gid=0\"\",\"\"RWA!F:BZ\"\"),48,0))\"),\"\")","v":""}]
[null,null,null,{"$f":"IFERROR(__xludf.DUMMYFUNCTION(\"iferror(VLOOKUP(B942,IMPORTRANGE(\"\"https://docs.google.com/spreadsheets/d/1Kptv1Yhe55NnKrQfatjnFhSoEKdPJ_02VtssK9GkJPk/edit#gid=0\"\",\"\"RWA!F:BZ\"\"),44,0))\"),\"\")","v":""},{"$f":"IFERROR(__xludf.DUMMYFUNCTION(\"iferror(VLOOKUP(B942,IMPORTRANGE(\"\"https://docs.google.com/spreadsheets/d/1Kptv1Yhe55NnKrQfatjnFhSoEKdPJ_02VtssK9GkJPk/edit#gid=0\"\",\"\"RWA!F:BZ\"\"),48,0))\"),\"\")","v":""}]
[null,null,null,{"$f":"IFERROR(__xludf.DUMMYFUNCTION(\"iferror(VLOOKUP(B943,IMPORTRANGE(\"\"https://docs.google.com/spreadsheets/d/1Kptv1Yhe55NnKrQfatjnFhSoEKdPJ_02VtssK9GkJPk/edit#gid=0\"\",\"\"RWA!F:BZ\"\"),44,0))\"),\"\")","v":""},{"$f":"IFERROR(__xludf.DUMMYFUNCTION(\"iferror(VLOOKUP(B943,IMPORTRANGE(\"\"https://docs.google.com/spreadsheets/d/1Kptv1Yhe55NnKrQfatjnFhSoEKdPJ_02VtssK9GkJPk/edit#gid=0\"\",\"\"RWA!F:BZ\"\"),48,0))\"),\"\")","v":""}]
[null,null,null,{"$f":"IFERROR(__xludf.DUMMYFUNCTION(\"iferror(VLOOKUP(B944,IMPORTRANGE(\"\"https://docs.google.com/spreadsheets/d/1Kptv1Yhe55NnKrQfatjnFhSoEKdPJ_02VtssK9GkJPk/edit#gid=0\"\",\"\"RWA!F:BZ\"\"),44,0))\"),\"\")","v":""},{"$f":"IFERROR(__xludf.DUMMYFUNCTION(\"iferror(VLOOKUP(B944,IMPORTRANGE(\"\"https://docs.google.com/spreadsheets/d/1Kptv1Yhe55NnKrQfatjnFhSoEKdPJ_02VtssK9GkJPk/edit#gid=0\"\",\"\"RWA!F:BZ\"\"),48,0))\"),\"\")","v":""}]
[null,null,null,{"$f":"IFERROR(__xludf.DUMMYFUNCTION(\"iferror(VLOOKUP(B945,IMPORTRANGE(\"\"https://docs.google.com/spreadsheets/d/1Kptv1Yhe55NnKrQfatjnFhSoEKdPJ_02VtssK9GkJPk/edit#gid=0\"\",\"\"RWA!F:BZ\"\"),44,0))\"),\"\")","v":""},{"$f":"IFERROR(__xludf.DUMMYFUNCTION(\"iferror(VLOOKUP(B945,IMPORTRANGE(\"\"https://docs.google.com/spreadsheets/d/1Kptv1Yhe55NnKrQfatjnFhSoEKdPJ_02VtssK9GkJPk/edit#gid=0\"\",\"\"RWA!F:BZ\"\"),48,0))\"),\"\")","v":""}]
[null,null,null,{"$f":"IFERROR(__xludf.DUMMYFUNCTION(\"iferror(VLOOKUP(B946,IMPORTRANGE(\"\"https://docs.google.com/spreadsheets/d/1Kptv1Yhe55NnKrQfatjnFhSoEKdPJ_02VtssK9GkJPk/edit#gid=0\"\",\"\"RWA!F:BZ\"\"),44,0))\"),\"\")","v":""},{"$f":"IFERROR(__xludf.DUMMYFUNCTION(\"iferror(VLOOKUP(B946,IMPORTRANGE(\"\"https://docs.google.com/spreadsheets/d/1Kptv1Yhe55NnKrQfatjnFhSoEKdPJ_02VtssK9GkJPk/edit#gid=0\"\",\"\"RWA!F:BZ\"\"),48,0))\"),\"\")","v":""}]
[null,null,null,{"$f":"IFERROR(__xludf.DUMMYFUNCTION(\"iferror(VLOOKUP(B947,IMPORTRANGE(\"\"https://docs.google.com/spreadsheets/d/1Kptv1Yhe55NnKrQfatjnFhSoEKdPJ_02VtssK9GkJPk/edit#gid=0\"\",\"\"RWA!F:BZ\"\"),44,0))\"),\"\")","v":""},{"$f":"IFERROR(__xludf.DUMMYFUNCTION(\"iferror(VLOOKUP(B947,IMPORTRANGE(\"\"https://docs.google.com/spreadsheets/d/1Kptv1Yhe55NnKrQfatjnFhSoEKdPJ_02VtssK9GkJPk/edit#gid=0\"\",\"\"RWA!F:BZ\"\"),48,0))\"),\"\")","v":""}]
[null,null,null,{"$f":"IFERROR(__xludf.DUMMYFUNCTION(\"iferror(VLOOKUP(B948,IMPORTRANGE(\"\"https://docs.google.com/spreadsheets/d/1Kptv1Yhe55NnKrQfatjnFhSoEKdPJ_02VtssK9GkJPk/edit#gid=0\"\",\"\"RWA!F:BZ\"\"),44,0))\"),\"\")","v":""},{"$f":"IFERROR(__xludf.DUMMYFUNCTION(\"iferror(VLOOKUP(B948,IMPORTRANGE(\"\"https://docs.google.com/spreadsheets/d/1Kptv1Yhe55NnKrQfatjnFhSoEKdPJ_02VtssK9GkJPk/edit#gid=0\"\",\"\"RWA!F:BZ\"\"),48,0))\"),\"\")","v":""}]
[null,null,null,{"$f":"IFERROR(__xludf.DUMMYFUNCTION(\"iferror(VLOOKUP(B949,IMPORTRANGE(\"\"https://docs.google.com/spreadsheets/d/1Kptv1Yhe55NnKrQfatjnFhSoEKdPJ_02VtssK9GkJPk/edit#gid=0\"\",\"\"RWA!F:BZ\"\"),44,0))\"),\"\")","v":""},{"$f":"IFERROR(__xludf.DUMMYFUNCTION(\"iferror(VLOOKUP(B949,IMPORTRANGE(\"\"https://docs.google.com/spreadsheets/d/1Kptv1Yhe55NnKrQfatjnFhSoEKdPJ_02VtssK9GkJPk/edit#gid=0\"\",\"\"RWA!F:BZ\"\"),48,0))\"),\"\")","v":""}]
[null,null,null,{"$f":"IFERROR(__xludf.DUMMYFUNCTION(\"iferror(VLOOKUP(B950,IMPORTRANGE(\"\"https://docs.google.com/spreadsheets/d/1Kptv1Yhe55NnKrQfatjnFhSoEKdPJ_02VtssK9GkJPk/edit#gid=0\"\",\"\"RWA!F:BZ\"\"),44,0))\"),\"\")","v":""},{"$f":"IFERROR(__xludf.DUMMYFUNCTION(\"iferror(VLOOKUP(B950,IMPORTRANGE(\"\"https://docs.google.com/spreadsheets/d/1Kptv1Yhe55NnKrQfatjnFhSoEKdPJ_02VtssK9GkJPk/edit#gid=0\"\",\"\"RWA!F:BZ\"\"),48,0))\"),\"\")","v":""}]
[null,null,null,{"$f":"IFERROR(__xludf.DUMMYFUNCTION(\"iferror(VLOOKUP(B951,IMPORTRANGE(\"\"https://docs.google.com/spreadsheets/d/1Kptv1Yhe55NnKrQfatjnFhSoEKdPJ_02VtssK9GkJPk/edit#gid=0\"\",\"\"RWA!F:BZ\"\"),44,0))\"),\"\")","v":""},{"$f":"IFERROR(__xludf.DUMMYFUNCTION(\"iferror(VLOOKUP(B951,IMPORTRANGE(\"\"https://docs.google.com/spreadsheets/d/1Kptv1Yhe55NnKrQfatjnFhSoEKdPJ_02VtssK9GkJPk/edit#gid=0\"\",\"\"RWA!F:BZ\"\"),48,0))\"),\"\")","v":""}]
[null,null,null,{"$f":"IFERROR(__xludf.DUMMYFUNCTION(\"iferror(VLOOKUP(B952,IMPORTRANGE(\"\"https://docs.google.com/spreadsheets/d/1Kptv1Yhe55NnKrQfatjnFhSoEKdPJ_02VtssK9GkJPk/edit#gid=0\"\",\"\"RWA!F:BZ\"\"),44,0))\"),\"\")","v":""},{"$f":"IFERROR(__xludf.DUMMYFUNCTION(\"iferror(VLOOKUP(B952,IMPORTRANGE(\"\"https://docs.google.com/spreadsheets/d/1Kptv1Yhe55NnKrQfatjnFhSoEKdPJ_02VtssK9GkJPk/edit#gid=0\"\",\"\"RWA!F:BZ\"\"),48,0))\"),\"\")","v":""}]
[null,null,null,{"$f":"IFERROR(__xludf.DUMMYFUNCTION(\"iferror(VLOOKUP(B953,IMPORTRANGE(\"\"https://docs.google.com/spreadsheets/d/1Kptv1Yhe55NnKrQfatjnFhSoEKdPJ_02VtssK9GkJPk/edit#gid=0\"\",\"\"RWA!F:BZ\"\"),44,0))\"),\"\")","v":""},{"$f":"IFERROR(__xludf.DUMMYFUNCTION(\"iferror(VLOOKUP(B953,IMPORTRANGE(\"\"https://docs.google.com/spreadsheets/d/1Kptv1Yhe55NnKrQfatjnFhSoEKdPJ_02VtssK9GkJPk/edit#gid=0\"\",\"\"RWA!F:BZ\"\"),48,0))\"),\"\")","v":""}]
[null,null,null,{"$f":"IFERROR(__xludf.DUMMYFUNCTION(\"iferror(VLOOKUP(B954,IMPORTRANGE(\"\"https://docs.google.com/spreadsheets/d/1Kptv1Yhe55NnKrQfatjnFhSoEKdPJ_02VtssK9GkJPk/edit#gid=0\"\",\"\"RWA!F:BZ\"\"),44,0))\"),\"\")","v":""},{"$f":"IFERROR(__xludf.DUMMYFUNCTION(\"iferror(VLOOKUP(B954,IMPORTRANGE(\"\"https://docs.google.com/spreadsheets/d/1Kptv1Yhe55NnKrQfatjnFhSoEKdPJ_02VtssK9GkJPk/edit#gid=0\"\",\"\"RWA!F:BZ\"\"),48,0))\"),\"\")","v":""}]
[null,null,null,{"$f":"IFERROR(__xludf.DUMMYFUNCTION(\"iferror(VLOOKUP(B955,IMPORTRANGE(\"\"https://docs.google.com/spreadsheets/d/1Kptv1Yhe55NnKrQfatjnFhSoEKdPJ_02VtssK9GkJPk/edit#gid=0\"\",\"\"RWA!F:BZ\"\"),44,0))\"),\"\")","v":""},{"$f":"IFERROR(__xludf.DUMMYFUNCTION(\"iferror(VLOOKUP(B955,IMPORTRANGE(\"\"https://docs.google.com/spreadsheets/d/1Kptv1Yhe55NnKrQfatjnFhSoEKdPJ_02VtssK9GkJPk/edit#gid=0\"\",\"\"RWA!F:BZ\"\"),48,0))\"),\"\")","v":""}]
[null,null,null,{"$f":"IFERROR(__xludf.DUMMYFUNCTION(\"iferror(VLOOKUP(B956,IMPORTRANGE(\"\"https://docs.google.com/spreadsheets/d/1Kptv1Yhe55NnKrQfatjnFhSoEKdPJ_02VtssK9GkJPk/edit#gid=0\"\",\"\"RWA!F:BZ\"\"),44,0))\"),\"\")","v":""},{"$f":"IFERROR(__xludf.DUMMYFUNCTION(\"iferror(VLOOKUP(B956,IMPORTRANGE(\"\"https://docs.google.com/spreadsheets/d/1Kptv1Yhe55NnKrQfatjnFhSoEKdPJ_02VtssK9GkJPk/edit#gid=0\"\",\"\"RWA!F:BZ\"\"),48,0))\"),\"\")","v":""}]
[null,null,null,{"$f":"IFERROR(__xludf.DUMMYFUNCTION(\"iferror(VLOOKUP(B957,IMPORTRANGE(\"\"https://docs.google.com/spreadsheets/d/1Kptv1Yhe55NnKrQfatjnFhSoEKdPJ_02VtssK9GkJPk/edit#gid=0\"\",\"\"RWA!F:BZ\"\"),44,0))\"),\"\")","v":""},{"$f":"IFERROR(__xludf.DUMMYFUNCTION(\"iferror(VLOOKUP(B957,IMPORTRANGE(\"\"https://docs.google.com/spreadsheets/d/1Kptv1Yhe55NnKrQfatjnFhSoEKdPJ_02VtssK9GkJPk/edit#gid=0\"\",\"\"RWA!F:BZ\"\"),48,0))\"),\"\")","v":""}]
[null,null,null,{"$f":"IFERROR(__xludf.DUMMYFUNCTION(\"iferror(VLOOKUP(B958,IMPORTRANGE(\"\"https://docs.google.com/spreadsheets/d/1Kptv1Yhe55NnKrQfatjnFhSoEKdPJ_02VtssK9GkJPk/edit#gid=0\"\",\"\"RWA!F:BZ\"\"),44,0))\"),\"\")","v":""},{"$f":"IFERROR(__xludf.DUMMYFUNCTION(\"iferror(VLOOKUP(B958,IMPORTRANGE(\"\"https://docs.google.com/spreadsheets/d/1Kptv1Yhe55NnKrQfatjnFhSoEKdPJ_02VtssK9GkJPk/edit#gid=0\"\",\"\"RWA!F:BZ\"\"),48,0))\"),\"\")","v":""}]
[null,null,null,{"$f":"IFERROR(__xludf.DUMMYFUNCTION(\"iferror(VLOOKUP(B959,IMPORTRANGE(\"\"https://docs.google.com/spreadsheets/d/1Kptv1Yhe55NnKrQfatjnFhSoEKdPJ_02VtssK9GkJPk/edit#gid=0\"\",\"\"RWA!F:BZ\"\"),44,0))\"),\"\")","v":""},{"$f":"IFERROR(__xludf.DUMMYFUNCTION(\"iferror(VLOOKUP(B959,IMPORTRANGE(\"\"https://docs.google.com/spreadsheets/d/1Kptv1Yhe55NnKrQfatjnFhSoEKdPJ_02VtssK9GkJPk/edit#gid=0\"\",\"\"RWA!F:BZ\"\"),48,0))\"),\"\")","v":""}]
[null,null,null,{"$f":"IFERROR(__xludf.DUMMYFUNCTION(\"iferror(VLOOKUP(B960,IMPORTRANGE(\"\"https://docs.google.com/spreadsheets/d/1Kptv1Yhe55NnKrQfatjnFhSoEKdPJ_02VtssK9GkJPk/edit#gid=0\"\",\"\"RWA!F:BZ\"\"),44,0))\"),\"\")","v":""},{"$f":"IFERROR(__xludf.DUMMYFUNCTION(\"iferror(VLOOKUP(B960,IMPORTRANGE(\"\"https://docs.google.com/spreadsheets/d/1Kptv1Yhe55NnKrQfatjnFhSoEKdPJ_02VtssK9GkJPk/edit#gid=0\"\",\"\"RWA!F:BZ\"\"),48,0))\"),\"\")","v":""}]
[null,null,null,{"$f":"IFERROR(__xludf.DUMMYFUNCTION(\"iferror(VLOOKUP(B961,IMPORTRANGE(\"\"https://docs.google.com/spreadsheets/d/1Kptv1Yhe55NnKrQfatjnFhSoEKdPJ_02VtssK9GkJPk/edit#gid=0\"\",\"\"RWA!F:BZ\"\"),44,0))\"),\"\")","v":""},{"$f":"IFERROR(__xludf.DUMMYFUNCTION(\"iferror(VLOOKUP(B961,IMPORTRANGE(\"\"https://docs.google.com/spreadsheets/d/1Kptv1Yhe55NnKrQfatjnFhSoEKdPJ_02VtssK9GkJPk/edit#gid=0\"\",\"\"RWA!F:BZ\"\"),48,0))\"),\"\")","v":""}]
[null,null,null,{"$f":"IFERROR(__xludf.DUMMYFUNCTION(\"iferror(VLOOKUP(B962,IMPORTRANGE(\"\"https://docs.google.com/spreadsheets/d/1Kptv1Yhe55NnKrQfatjnFhSoEKdPJ_02VtssK9GkJPk/edit#gid=0\"\",\"\"RWA!F:BZ\"\"),44,0))\"),\"\")","v":""},{"$f":"IFERROR(__xludf.DUMMYFUNCTION(\"iferror(VLOOKUP(B962,IMPORTRANGE(\"\"https://docs.google.com/spreadsheets/d/1Kptv1Yhe55NnKrQfatjnFhSoEKdPJ_02VtssK9GkJPk/edit#gid=0\"\",\"\"RWA!F:BZ\"\"),48,0))\"),\"\")","v":""}]
[null,null,null,{"$f":"IFERROR(__xludf.DUMMYFUNCTION(\"iferror(VLOOKUP(B963,IMPORTRANGE(\"\"https://docs.google.com/spreadsheets/d/1Kptv1Yhe55NnKrQfatjnFhSoEKdPJ_02VtssK9GkJPk/edit#gid=0\"\",\"\"RWA!F:BZ\"\"),44,0))\"),\"\")","v":""},{"$f":"IFERROR(__xludf.DUMMYFUNCTION(\"iferror(VLOOKUP(B963,IMPORTRANGE(\"\"https://docs.google.com/spreadsheets/d/1Kptv1Yhe55NnKrQfatjnFhSoEKdPJ_02VtssK9GkJPk/edit#gid=0\"\",\"\"RWA!F:BZ\"\"),48,0))\"),\"\")","v":""}]
[null,null,null,{"$f":"IFERROR(__xludf.DUMMYFUNCTION(\"iferror(VLOOKUP(B964,IMPORTRANGE(\"\"https://docs.google.com/spreadsheets/d/1Kptv1Yhe55NnKrQfatjnFhSoEKdPJ_02VtssK9GkJPk/edit#gid=0\"\",\"\"RWA!F:BZ\"\"),44,0))\"),\"\")","v":""},{"$f":"IFERROR(__xludf.DUMMYFUNCTION(\"iferror(VLOOKUP(B964,IMPORTRANGE(\"\"https://docs.google.com/spreadsheets/d/1Kptv1Yhe55NnKrQfatjnFhSoEKdPJ_02VtssK9GkJPk/edit#gid=0\"\",\"\"RWA!F:BZ\"\"),48,0))\"),\"\")","v":""}]
[null,null,null,{"$f":"IFERROR(__xludf.DUMMYFUNCTION(\"iferror(VLOOKUP(B965,IMPORTRANGE(\"\"https://docs.google.com/spreadsheets/d/1Kptv1Yhe55NnKrQfatjnFhSoEKdPJ_02VtssK9GkJPk/edit#gid=0\"\",\"\"RWA!F:BZ\"\"),44,0))\"),\"\")","v":""},{"$f":"IFERROR(__xludf.DUMMYFUNCTION(\"iferror(VLOOKUP(B965,IMPORTRANGE(\"\"https://docs.google.com/spreadsheets/d/1Kptv1Yhe55NnKrQfatjnFhSoEKdPJ_02VtssK9GkJPk/edit#gid=0\"\",\"\"RWA!F:BZ\"\"),48,0))\"),\"\")","v":""}]
[null,null,null,{"$f":"IFERROR(__xludf.DUMMYFUNCTION(\"iferror(VLOOKUP(B966,IMPORTRANGE(\"\"https://docs.google.com/spreadsheets/d/1Kptv1Yhe55NnKrQfatjnFhSoEKdPJ_02VtssK9GkJPk/edit#gid=0\"\",\"\"RWA!F:BZ\"\"),44,0))\"),\"\")","v":""},{"$f":"IFERROR(__xludf.DUMMYFUNCTION(\"iferror(VLOOKUP(B966,IMPORTRANGE(\"\"https://docs.google.com/spreadsheets/d/1Kptv1Yhe55NnKrQfatjnFhSoEKdPJ_02VtssK9GkJPk/edit#gid=0\"\",\"\"RWA!F:BZ\"\"),48,0))\"),\"\")","v":""}]
[null,null,null,{"$f":"IFERROR(__xludf.DUMMYFUNCTION(\"iferror(VLOOKUP(B967,IMPORTRANGE(\"\"https://docs.google.com/spreadsheets/d/1Kptv1Yhe55NnKrQfatjnFhSoEKdPJ_02VtssK9GkJPk/edit#gid=0\"\",\"\"RWA!F:BZ\"\"),44,0))\"),\"\")","v":""},{"$f":"IFERROR(__xludf.DUMMYFUNCTION(\"iferror(VLOOKUP(B967,IMPORTRANGE(\"\"https://docs.google.com/spreadsheets/d/1Kptv1Yhe55NnKrQfatjnFhSoEKdPJ_02VtssK9GkJPk/edit#gid=0\"\",\"\"RWA!F:BZ\"\"),48,0))\"),\"\")","v":""}]
[null,null,null,{"$f":"IFERROR(__xludf.DUMMYFUNCTION(\"iferror(VLOOKUP(B968,IMPORTRANGE(\"\"https://docs.google.com/spreadsheets/d/1Kptv1Yhe55NnKrQfatjnFhSoEKdPJ_02VtssK9GkJPk/edit#gid=0\"\",\"\"RWA!F:BZ\"\"),44,0))\"),\"\")","v":""},{"$f":"IFERROR(__xludf.DUMMYFUNCTION(\"iferror(VLOOKUP(B968,IMPORTRANGE(\"\"https://docs.google.com/spreadsheets/d/1Kptv1Yhe55NnKrQfatjnFhSoEKdPJ_02VtssK9GkJPk/edit#gid=0\"\",\"\"RWA!F:BZ\"\"),48,0))\"),\"\")","v":""}]
[null,null,null,{"$f":"IFERROR(__xludf.DUMMYFUNCTION(\"iferror(VLOOKUP(B969,IMPORTRANGE(\"\"https://docs.google.com/spreadsheets/d/1Kptv1Yhe55NnKrQfatjnFhSoEKdPJ_02VtssK9GkJPk/edit#gid=0\"\",\"\"RWA!F:BZ\"\"),44,0))\"),\"\")","v":""},{"$f":"IFERROR(__xludf.DUMMYFUNCTION(\"iferror(VLOOKUP(B969,IMPORTRANGE(\"\"https://docs.google.com/spreadsheets/d/1Kptv1Yhe55NnKrQfatjnFhSoEKdPJ_02VtssK9GkJPk/edit#gid=0\"\",\"\"RWA!F:BZ\"\"),48,0))\"),\"\")","v":""}]
[null,null,null,{"$f":"IFERROR(__xludf.DUMMYFUNCTION(\"iferror(VLOOKUP(B970,IMPORTRANGE(\"\"https://docs.google.com/spreadsheets/d/1Kptv1Yhe55NnKrQfatjnFhSoEKdPJ_02VtssK9GkJPk/edit#gid=0\"\",\"\"RWA!F:BZ\"\"),44,0))\"),\"\")","v":""},{"$f":"IFERROR(__xludf.DUMMYFUNCTION(\"iferror(VLOOKUP(B970,IMPORTRANGE(\"\"https://docs.google.com/spreadsheets/d/1Kptv1Yhe55NnKrQfatjnFhSoEKdPJ_02VtssK9GkJPk/edit#gid=0\"\",\"\"RWA!F:BZ\"\"),48,0))\"),\"\")","v":""}]
[null,null,null,{"$f":"IFERROR(__xludf.DUMMYFUNCTION(\"iferror(VLOOKUP(B971,IMPORTRANGE(\"\"https://docs.google.com/spreadsheets/d/1Kptv1Yhe55NnKrQfatjnFhSoEKdPJ_02VtssK9GkJPk/edit#gid=0\"\",\"\"RWA!F:BZ\"\"),44,0))\"),\"\")","v":""},{"$f":"IFERROR(__xludf.DUMMYFUNCTION(\"iferror(VLOOKUP(B971,IMPORTRANGE(\"\"https://docs.google.com/spreadsheets/d/1Kptv1Yhe55NnKrQfatjnFhSoEKdPJ_02VtssK9GkJPk/edit#gid=0\"\",\"\"RWA!F:BZ\"\"),48,0))\"),\"\")","v":""}]
[null,null,null,{"$f":"IFERROR(__xludf.DUMMYFUNCTION(\"iferror(VLOOKUP(B972,IMPORTRANGE(\"\"https://docs.google.com/spreadsheets/d/1Kptv1Yhe55NnKrQfatjnFhSoEKdPJ_02VtssK9GkJPk/edit#gid=0\"\",\"\"RWA!F:BZ\"\"),44,0))\"),\"\")","v":""},{"$f":"IFERROR(__xludf.DUMMYFUNCTION(\"iferror(VLOOKUP(B972,IMPORTRANGE(\"\"https://docs.google.com/spreadsheets/d/1Kptv1Yhe55NnKrQfatjnFhSoEKdPJ_02VtssK9GkJPk/edit#gid=0\"\",\"\"RWA!F:BZ\"\"),48,0))\"),\"\")","v":""}]
[null,null,null,{"$f":"IFERROR(__xludf.DUMMYFUNCTION(\"iferror(VLOOKUP(B973,IMPORTRANGE(\"\"https://docs.google.com/spreadsheets/d/1Kptv1Yhe55NnKrQfatjnFhSoEKdPJ_02VtssK9GkJPk/edit#gid=0\"\",\"\"RWA!F:BZ\"\"),44,0))\"),\"\")","v":""},{"$f":"IFERROR(__xludf.DUMMYFUNCTION(\"iferror(VLOOKUP(B973,IMPORTRANGE(\"\"https://docs.google.com/spreadsheets/d/1Kptv1Yhe55NnKrQfatjnFhSoEKdPJ_02VtssK9GkJPk/edit#gid=0\"\",\"\"RWA!F:BZ\"\"),48,0))\"),\"\")","v":""}]
[null,null,null,{"$f":"IFERROR(__xludf.DUMMYFUNCTION(\"iferror(VLOOKUP(B974,IMPORTRANGE(\"\"https://docs.google.com/spreadsheets/d/1Kptv1Yhe55NnKrQfatjnFhSoEKdPJ_02VtssK9GkJPk/edit#gid=0\"\",\"\"RWA!F:BZ\"\"),44,0))\"),\"\")","v":""},{"$f":"IFERROR(__xludf.DUMMYFUNCTION(\"iferror(VLOOKUP(B974,IMPORTRANGE(\"\"https://docs.google.com/spreadsheets/d/1Kptv1Yhe55NnKrQfatjnFhSoEKdPJ_02VtssK9GkJPk/edit#gid=0\"\",\"\"RWA!F:BZ\"\"),48,0))\"),\"\")","v":""}]
[null,null,null,{"$f":"IFERROR(__xludf.DUMMYFUNCTION(\"iferror(VLOOKUP(B975,IMPORTRANGE(\"\"https://docs.google.com/spreadsheets/d/1Kptv1Yhe55NnKrQfatjnFhSoEKdPJ_02VtssK9GkJPk/edit#gid=0\"\",\"\"RWA!F:BZ\"\"),44,0))\"),\"\")","v":""},{"$f":"IFERROR(__xludf.DUMMYFUNCTION(\"iferror(VLOOKUP(B975,IMPORTRANGE(\"\"https://docs.google.com/spreadsheets/d/1Kptv1Yhe55NnKrQfatjnFhSoEKdPJ_02VtssK9GkJPk/edit#gid=0\"\",\"\"RWA!F:BZ\"\"),48,0))\"),\"\")","v":""}]
[null,null,null,{"$f":"IFERROR(__xludf.DUMMYFUNCTION(\"iferror(VLOOKUP(B976,IMPORTRANGE(\"\"https://docs.google.com/spreadsheets/d/1Kptv1Yhe55NnKrQfatjnFhSoEKdPJ_02VtssK9GkJPk/edit#gid=0\"\",\"\"RWA!F:BZ\"\"),44,0))\"),\"\")","v":""},{"$f":"IFERROR(__xludf.DUMMYFUNCTION(\"iferror(VLOOKUP(B976,IMPORTRANGE(\"\"https://docs.google.com/spreadsheets/d/1Kptv1Yhe55NnKrQfatjnFhSoEKdPJ_02VtssK9GkJPk/edit#gid=0\"\",\"\"RWA!F:BZ\"\"),48,0))\"),\"\")","v":""}]
[null,null,null,{"$f":"IFERROR(__xludf.DUMMYFUNCTION(\"iferror(VLOOKUP(B977,IMPORTRANGE(\"\"https://docs.google.com/spreadsheets/d/1Kptv1Yhe55NnKrQfatjnFhSoEKdPJ_02VtssK9GkJPk/edit#gid=0\"\",\"\"RWA!F:BZ\"\"),44,0))\"),\"\")","v":""},{"$f":"IFERROR(__xludf.DUMMYFUNCTION(\"iferror(VLOOKUP(B977,IMPORTRANGE(\"\"https://docs.google.com/spreadsheets/d/1Kptv1Yhe55NnKrQfatjnFhSoEKdPJ_02VtssK9GkJPk/edit#gid=0\"\",\"\"RWA!F:BZ\"\"),48,0))\"),\"\")","v":""}]
[null,null,null,{"$f":"IFERROR(__xludf.DUMMYFUNCTION(\"iferror(VLOOKUP(B978,IMPORTRANGE(\"\"https://docs.google.com/spreadsheets/d/1Kptv1Yhe55NnKrQfatjnFhSoEKdPJ_02VtssK9GkJPk/edit#gid=0\"\",\"\"RWA!F:BZ\"\"),44,0))\"),\"\")","v":""},{"$f":"IFERROR(__xludf.DUMMYFUNCTION(\"iferror(VLOOKUP(B978,IMPORTRANGE(\"\"https://docs.google.com/spreadsheets/d/1Kptv1Yhe55NnKrQfatjnFhSoEKdPJ_02VtssK9GkJPk/edit#gid=0\"\",\"\"RWA!F:BZ\"\"),48,0))\"),\"\")","v":""}]
[null,null,null,{"$f":"IFERROR(__xludf.DUMMYFUNCTION(\"iferror(VLOOKUP(B979,IMPORTRANGE(\"\"https://docs.google.com/spreadsheets/d/1Kptv1Yhe55NnKrQfatjnFhSoEKdPJ_02VtssK9GkJPk/edit#gid=0\"\",\"\"RWA!F:BZ\"\"),44,0))\"),\"\")","v":""},{"$f":"IFERROR(__xludf.DUMMYFUNCTION(\"iferror(VLOOKUP(B979,IMPORTRANGE(\"\"https://docs.google.com/spreadsheets/d/1Kptv1Yhe55NnKrQfatjnFhSoEKdPJ_02VtssK9GkJPk/edit#gid=0\"\",\"\"RWA!F:BZ\"\"),48,0))\"),\"\")","v":""}]
[null,null,null,{"$f":"IFERROR(__xludf.DUMMYFUNCTION(\"iferror(VLOOKUP(B980,IMPORTRANGE(\"\"https://docs.google.com/spreadsheets/d/1Kptv1Yhe55NnKrQfatjnFhSoEKdPJ_02VtssK9GkJPk/edit#gid=0\"\",\"\"RWA!F:BZ\"\"),44,0))\"),\"\")","v":""},{"$f":"IFERROR(__xludf.DUMMYFUNCTION(\"iferror(VLOOKUP(B980,IMPORTRANGE(\"\"https://docs.google.com/spreadsheets/d/1Kptv1Yhe55NnKrQfatjnFhSoEKdPJ_02VtssK9GkJPk/edit#gid=0\"\",\"\"RWA!F:BZ\"\"),48,0))\"),\"\")","v":""}]
[null,null,null,{"$f":"IFERROR(__xludf.DUMMYFUNCTION(\"iferror(VLOOKUP(B981,IMPORTRANGE(\"\"https://docs.google.com/spreadsheets/d/1Kptv1Yhe55NnKrQfatjnFhSoEKdPJ_02VtssK9GkJPk/edit#gid=0\"\",\"\"RWA!F:BZ\"\"),44,0))\"),\"\")","v":""},{"$f":"IFERROR(__xludf.DUMMYFUNCTION(\"iferror(VLOOKUP(B981,IMPORTRANGE(\"\"https://docs.google.com/spreadsheets/d/1Kptv1Yhe55NnKrQfatjnFhSoEKdPJ_02VtssK9GkJPk/edit#gid=0\"\",\"\"RWA!F:BZ\"\"),48,0))\"),\"\")","v":""}]
[null,null,null,{"$f":"IFERROR(__xludf.DUMMYFUNCTION(\"iferror(VLOOKUP(B982,IMPORTRANGE(\"\"https://docs.google.com/spreadsheets/d/1Kptv1Yhe55NnKrQfatjnFhSoEKdPJ_02VtssK9GkJPk/edit#gid=0\"\",\"\"RWA!F:BZ\"\"),44,0))\"),\"\")","v":""},{"$f":"IFERROR(__xludf.DUMMYFUNCTION(\"iferror(VLOOKUP(B982,IMPORTRANGE(\"\"https://docs.google.com/spreadsheets/d/1Kptv1Yhe55NnKrQfatjnFhSoEKdPJ_02VtssK9GkJPk/edit#gid=0\"\",\"\"RWA!F:BZ\"\"),48,0))\"),\"\")","v":""}]
[null,null,null,{"$f":"IFERROR(__xludf.DUMMYFUNCTION(\"iferror(VLOOKUP(B983,IMPORTRANGE(\"\"https://docs.google.com/spreadsheets/d/1Kptv1Yhe55NnKrQfatjnFhSoEKdPJ_02VtssK9GkJPk/edit#gid=0\"\",\"\"RWA!F:BZ\"\"),44,0))\"),\"\")","v":""},{"$f":"IFERROR(__xludf.DUMMYFUNCTION(\"iferror(VLOOKUP(B983,IMPORTRANGE(\"\"https://docs.google.com/spreadsheets/d/1Kptv1Yhe55NnKrQfatjnFhSoEKdPJ_02VtssK9GkJPk/edit#gid=0\"\",\"\"RWA!F:BZ\"\"),48,0))\"),\"\")","v":""}]
[null,null,null,{"$f":"IFERROR(__xludf.DUMMYFUNCTION(\"iferror(VLOOKUP(B984,IMPORTRANGE(\"\"https://docs.google.com/spreadsheets/d/1Kptv1Yhe55NnKrQfatjnFhSoEKdPJ_02VtssK9GkJPk/edit#gid=0\"\",\"\"RWA!F:BZ\"\"),44,0))\"),\"\")","v":""},{"$f":"IFERROR(__xludf.DUMMYFUNCTION(\"iferror(VLOOKUP(B984,IMPORTRANGE(\"\"https://docs.google.com/spreadsheets/d/1Kptv1Yhe55NnKrQfatjnFhSoEKdPJ_02VtssK9GkJPk/edit#gid=0\"\",\"\"RWA!F:BZ\"\"),48,0))\"),\"\")","v":""}]
[null,null,null,{"$f":"IFERROR(__xludf.DUMMYFUNCTION(\"iferror(VLOOKUP(B985,IMPORTRANGE(\"\"https://docs.google.com/spreadsheets/d/1Kptv1Yhe55NnKrQfatjnFhSoEKdPJ_02VtssK9GkJPk/edit#gid=0\"\",\"\"RWA!F:BZ\"\"),44,0))\"),\"\")","v":""},{"$f":"IFERROR(__xludf.DUMMYFUNCTION(\"iferror(VLOOKUP(B985,IMPORTRANGE(\"\"https://docs.google.com/spreadsheets/d/1Kptv1Yhe55NnKrQfatjnFhSoEKdPJ_02VtssK9GkJPk/edit#gid=0\"\",\"\"RWA!F:BZ\"\"),48,0))\"),\"\")","v":""}]
[null,null,null,{"$f":"IFERROR(__xludf.DUMMYFUNCTION(\"iferror(VLOOKUP(B986,IMPORTRANGE(\"\"https://docs.google.com/spreadsheets/d/1Kptv1Yhe55NnKrQfatjnFhSoEKdPJ_02VtssK9GkJPk/edit#gid=0\"\",\"\"RWA!F:BZ\"\"),44,0))\"),\"\")","v":""},{"$f":"IFERROR(__xludf.DUMMYFUNCTION(\"iferror(VLOOKUP(B986,IMPORTRANGE(\"\"https://docs.google.com/spreadsheets/d/1Kptv1Yhe55NnKrQfatjnFhSoEKdPJ_02VtssK9GkJPk/edit#gid=0\"\",\"\"RWA!F:BZ\"\"),48,0))\"),\"\")","v":""}]
[null,null,null,{"$f":"IFERROR(__xludf.DUMMYFUNCTION(\"iferror(VLOOKUP(B987,IMPORTRANGE(\"\"https://docs.google.com/spreadsheets/d/1Kptv1Yhe55NnKrQfatjnFhSoEKdPJ_02VtssK9GkJPk/edit#gid=0\"\",\"\"RWA!F:BZ\"\"),44,0))\"),\"\")","v":""},{"$f":"IFERROR(__xludf.DUMMYFUNCTION(\"iferror(VLOOKUP(B987,IMPORTRANGE(\"\"https://docs.google.com/spreadsheets/d/1Kptv1Yhe55NnKrQfatjnFhSoEKdPJ_02VtssK9GkJPk/edit#gid=0\"\",\"\"RWA!F:BZ\"\"),48,0))\"),\"\")","v":""}]
[null,null,null,{"$f":"IFERROR(__xludf.DUMMYFUNCTION(\"iferror(VLOOKUP(B988,IMPORTRANGE(\"\"https://docs.google.com/spreadsheets/d/1Kptv1Yhe55NnKrQfatjnFhSoEKdPJ_02VtssK9GkJPk/edit#gid=0\"\",\"\"RWA!F:BZ\"\"),44,0))\"),\"\")","v":""},{"$f":"IFERROR(__xludf.DUMMYFUNCTION(\"iferror(VLOOKUP(B988,IMPORTRANGE(\"\"https://docs.google.com/spreadsheets/d/1Kptv1Yhe55NnKrQfatjnFhSoEKdPJ_02VtssK9GkJPk/edit#gid=0\"\",\"\"RWA!F:BZ\"\"),48,0))\"),\"\")","v":""}]
[null,null,null,{"$f":"IFERROR(__xludf.DUMMYFUNCTION(\"iferror(VLOOKUP(B989,IMPORTRANGE(\"\"https://docs.google.com/spreadsheets/d/1Kptv1Yhe55NnKrQfatjnFhSoEKdPJ_02VtssK9GkJPk/edit#gid=0\"\",\"\"RWA!F:BZ\"\"),44,0))\"),\"\")","v":""},{"$f":"IFERROR(__xludf.DUMMYFUNCTION(\"iferror(VLOOKUP(B989,IMPORTRANGE(\"\"https://docs.google.com/spreadsheets/d/1Kptv1Yhe55NnKrQfatjnFhSoEKdPJ_02VtssK9GkJPk/edit#gid=0\"\",\"\"RWA!F:BZ\"\"),48,0))\"),\"\")","v":""}]
[null,null,null,{"$f":"IFERROR(__xludf.DUMMYFUNCTION(\"iferror(VLOOKUP(B990,IMPORTRANGE(\"\"https://docs.google.com/spreadsheets/d/1Kptv1Yhe55NnKrQfatjnFhSoEKdPJ_02VtssK9GkJPk/edit#gid=0\"\",\"\"RWA!F:BZ\"\"),44,0))\"),\"\")","v":""},{"$f":"IFERROR(__xludf.DUMMYFUNCTION(\"iferror(VLOOKUP(B990,IMPORTRANGE(\"\"https://docs.google.com/spreadsheets/d/1Kptv1Yhe55NnKrQfatjnFhSoEKdPJ_02VtssK9GkJPk/edit#gid=0\"\",\"\"RWA!F:BZ\"\"),48,0))\"),\"\")","v":""}]
[null,null,null,{"$f":"IFERROR(__xludf.DUMMYFUNCTION(\"iferror(VLOOKUP(B991,IMPORTRANGE(\"\"https://docs.google.com/spreadsheets/d/1Kptv1Yhe55NnKrQfatjnFhSoEKdPJ_02VtssK9GkJPk/edit#gid=0\"\",\"\"RWA!F:BZ\"\"),44,0))\"),\"\")","v":""},{"$f":"IFERROR(__xludf.DUMMYFUNCTION(\"iferror(VLOOKUP(B991,IMPORTRANGE(\"\"https://docs.google.com/spreadsheets/d/1Kptv1Yhe55NnKrQfatjnFhSoEKdPJ_02VtssK9GkJPk/edit#gid=0\"\",\"\"RWA!F:BZ\"\"),48,0))\"),\"\")","v":""}]
[null,null,null,{"$f":"IFERROR(__xludf.DUMMYFUNCTION(\"iferror(VLOOKUP(B992,IMPORTRANGE(\"\"https://docs.google.com/spreadsheets/d/1Kptv1Yhe55NnKrQfatjnFhSoEKdPJ_02VtssK9GkJPk/edit#gid=0\"\",\"\"RWA!F:BZ\"\"),44,0))\"),\"\")","v":""},{"$f":"IFERROR(__xludf.DUMMYFUNCTION(\"iferror(VLOOKUP(B992,IMPORTRANGE(\"\"https://docs.google.com/spreadsheets/d/1Kptv1Yhe55NnKrQfatjnFhSoEKdPJ_02VtssK9GkJPk/edit#gid=0\"\",\"\"RWA!F:BZ\"\"),48,0))\"),\"\")","v":""}]
[null,null,null,{"$f":"IFERROR(__xludf.DUMMYFUNCTION(\"iferror(VLOOKUP(B993,IMPORTRANGE(\"\"https://docs.google.com/spreadsheets/d/1Kptv1Yhe55NnKrQfatjnFhSoEKdPJ_02VtssK9GkJPk/edit#gid=0\"\",\"\"RWA!F:BZ\"\"),44,0))\"),\"\")","v":""},{"$f":"IFERROR(__xludf.DUMMYFUNCTION(\"iferror(VLOOKUP(B993,IMPORTRANGE(\"\"https://docs.google.com/spreadsheets/d/1Kptv1Yhe55NnKrQfatjnFhSoEKdPJ_02VtssK9GkJPk/edit#gid=0\"\",\"\"RWA!F:BZ\"\"),48,0))\"),\"\")","v":""}]
[null,null,null,{"$f":"IFERROR(__xludf.DUMMYFUNCTION(\"iferror(VLOOKUP(B994,IMPORTRANGE(\"\"https://docs.google.com/spreadsheets/d/1Kptv1Yhe55NnKrQfatjnFhSoEKdPJ_02VtssK9GkJPk/edit#gid=0\"\",\"\"RWA!F:BZ\"\"),44,0))\"),\"\")","v":""},{"$f":"IFERROR(__xludf.DUMMYFUNCTION(\"iferror(VLOOKUP(B994,IMPORTRANGE(\"\"https://docs.google.com/spreadsheets/d/1Kptv1Yhe55NnKrQfatjnFhSoEKdPJ_02VtssK9GkJPk/edit#gid=0\"\",\"\"RWA!F:BZ\"\"),48,0))\"),\"\")","v":""}]
[null,null,null,{"$f":"IFERROR(__xludf.DUMMYFUNCTION(\"iferror(VLOOKUP(B995,IMPORTRANGE(\"\"https://docs.google.com/spreadsheets/d/1Kptv1Yhe55NnKrQfatjnFhSoEKdPJ_02VtssK9GkJPk/edit#gid=0\"\",\"\"RWA!F:BZ\"\"),44,0))\"),\"\")","v":""},{"$f":"IFERROR(__xludf.DUMMYFUNCTION(\"iferror(VLOOKUP(B995,IMPORTRANGE(\"\"https://docs.google.com/spreadsheets/d/1Kptv1Yhe55NnKrQfatjnFhSoEKdPJ_02VtssK9GkJPk/edit#gid=0\"\",\"\"RWA!F:BZ\"\"),48,0))\"),\"\")","v":""}]
[null,null,null,{"$f":"IFERROR(__xludf.DUMMYFUNCTION(\"iferror(VLOOKUP(B996,IMPORTRANGE(\"\"https://docs.google.com/spreadsheets/d/1Kptv1Yhe55NnKrQfatjnFhSoEKdPJ_02VtssK9GkJPk/edit#gid=0\"\",\"\"RWA!F:BZ\"\"),44,0))\"),\"\")","v":""},{"$f":"IFERROR(__xludf.DUMMYFUNCTION(\"iferror(VLOOKUP(B996,IMPORTRANGE(\"\"https://docs.google.com/spreadsheets/d/1Kptv1Yhe55NnKrQfatjnFhSoEKdPJ_02VtssK9GkJPk/edit#gid=0\"\",\"\"RWA!F:BZ\"\"),48,0))\"),\"\")","v":""}]
[null,null,null,{"$f":"IFERROR(__xludf.DUMMYFUNCTION(\"iferror(VLOOKUP(B997,IMPORTRANGE(\"\"https://docs.google.com/spreadsheets/d/1Kptv1Yhe55NnKrQfatjnFhSoEKdPJ_02VtssK9GkJPk/edit#gid=0\"\",\"\"RWA!F:BZ\"\"),44,0))\"),\"\")","v":""},{"$f":"IFERROR(__xludf.DUMMYFUNCTION(\"iferror(VLOOKUP(B997,IMPORTRANGE(\"\"https://docs.google.com/spreadsheets/d/1Kptv1Yhe55NnKrQfatjnFhSoEKdPJ_02VtssK9GkJPk/edit#gid=0\"\",\"\"RWA!F:BZ\"\"),48,0))\"),\"\")","v":""}]
[null,null,null,{"$f":"IFERROR(__xludf.DUMMYFUNCTION(\"iferror(VLOOKUP(B998,IMPORTRANGE(\"\"https://docs.google.com/spreadsheets/d/1Kptv1Yhe55NnKrQfatjnFhSoEKdPJ_02VtssK9GkJPk/edit#gid=0\"\",\"\"RWA!F:BZ\"\"),44,0))\"),\"\")","v":""},{"$f":"IFERROR(__xludf.DUMMYFUNCTION(\"iferror(VLOOKUP(B998,IMPORTRANGE(\"\"https://docs.google.com/spreadsheets/d/1Kptv1Yhe55NnKrQfatjnFhSoEKdPJ_02VtssK9GkJPk/edit#gid=0\"\",\"\"RWA!F:BZ\"\"),48,0))\"),\"\")","v":""}]
[null,null,null,{"$f":"IFERROR(__xludf.DUMMYFUNCTION(\"iferror(VLOOKUP(B999,IMPORTRANGE(\"\"https://docs.google.com/spreadsheets/d/1Kptv1Yhe55NnKrQfatjnFhSoEKdPJ_02VtssK9GkJPk/edit#gid=0\"\",\"\"RWA!F:BZ\"\"),44,0))\"),\"\")","v":""},{"$f":"IFERROR(__xludf.DUMMYFUNCTION(\"iferror(VLOOKUP(B999,IMPORTRANGE(\"\"https://docs.google.com/spreadsheets/d/1Kptv1Yhe55NnKrQfatjnFhSoEKdPJ_02VtssK9GkJPk/edit#gid=0\"\",\"\"RWA!F:BZ\"\"),48,0))\"),\"\")","v":""}]
[null,null,null,{"$f":"IFERROR(__xludf.DUMMYFUNCTION(\"iferror(VLOOKUP(B1000,IMPORTRANGE(\"\"https://docs.google.com/spreadsheets/d/1Kptv1Yhe55NnKrQfatjnFhSoEKdPJ_02VtssK9GkJPk/edit#gid=0\"\",\"\"RWA!F:BZ\"\"),44,0))\"),\"\")","v":""},{"$f":"IFERROR(__xludf.DUMMYFUNCTION(\"iferror(VLOOKUP(B1000,IMPORTRANGE(\"\"https://docs.google.com/spreadsheets/d/1Kptv1Yhe55NnKrQfatjnFhSoEKdPJ_02VtssK9GkJPk/edit#gid=0\"\",\"\"RWA!F:BZ\"\"),48,0))\"),\"\")","v":""}]