{"text_format":"2","workbook":"xlsx","n_sheets":2,"sheets":["001 - L (11.7x16.5 In)","002 - A (18x24 In)"],"not_rendered":{"charts":0,"images":0,"macros":0,"external_links":0,"defined_names":0,"comments":0,"pivot_tables":0},"unopened":[],"bounds":{"document_bytes":16777216,"sheet_cells":100000,"run_cost":"one","rows_first":2000,"rows_last":500,"rows_between":2000,"halvings":0,"cell_chars":16384,"cell_head_chars":4096},"cells_cut":0,"cells_raw":0,"read":"whole","date_system":"1900"}

{"sheet":"001 - L (11.7x16.5 In)","index":0,"n_rows":490,"n_cols":5,"rows_kept":490,"cut":false,"hidden":false,"merged":[[489,0,489,2]]}
["S. No","Location","Society Name","No of flats","No of Lifts"]
[1,"Pune","PALM ATLANTIS CHS",410,6]
[2,"Pune","SAKHARE GUARDIAN EASTERN MEADOWS",380,12]
[3,"Pune","VASUDHA ETASHA",137,4]
[4,"Pune","AISHWARYAM HAMARA MHADA D WING",235,2]
[5,"Pune","ANANDTARA WHITEFIELD RESIDENCES",240,8]
[6,"Pune","Mantra insignia",204,6]
[7,"Pune","KASHI KAPADIPURAM PHASE 2",138,8]
[8,"Pune","SKYI FIRST",135,4]
[9,"Pune","SPLENDID RADIANCE CHSL",84,4]
[10,"Pune","SOLITAIRE PALMS - C WING",76,2]
[11,"Pune","GERA'S MISTY WATERS",120,4]
[12,"Pune","THE CLIFF GARDEN",672,12]
[13,"Pune","MAJESTIQUE TOWERS",250,4]
[14,"Pune","SONIGARA PRESIDENCY",248,7]
[15,"Pune","Atlanta 2"]
[16,"Pune","NYATI GARDEN",180,2]
[17,"Pune","PRISTINE PROLIFE PHASE 1",552,20]
[18,"Pune","ROHAN PRATHAMA",300,8]
[19,"Pune","ROYAL PALM",105,5]
[20,"Pune","SAI KRUPA RESIDENCY",117,3]
[21,"Pune","TRINITY GREENS",144,6]
[22,"Pune","PRASUN SARVAM CHS",320,12]
[23,"Pune","ROSE ASTER APARTMENTS",400,10]
[24,"Pune","RIVERDALE PLOT-A",180,3]
[25,"Pune","CHERYL APARTMENTS",184,6]
[26,"Pune","KUNAL BELLEZA",132,7]
[27,"Pune","WONDER FUTURA PHASE 1",118,10]
[28,"Pune","ETASHA",142,4]
[29,"Pune","Mahadkar residency",206,12]
[30,"Pune","Kashi kapadipuram",138,8]
[31,"Pune","SAI CREST",24,3]
[32,"Pune","SIGNATURE HEIGHTS ABCD CHS",144,10]
[33,"Pune","SHREE GANESH IMPERIA CHS",180,8]
[34,"Pune","Signum",106,4]
[35,"Pune","DNV alvira",84,4]
[36,"Pune","Verve residency",140,8]
[37,"Pune","NIRVANA CO-OP HOUSING SOCIETY",572,12]
[38,"Pune","SOBA OPTIMA",192,10]
[39,"Pune","29 GOLD COAST A1 TO A4 CHS LTD",117,10]
[40,"Pune","RAVIKIRAN APARTMENT CONDOMINIUM",242,16]
[41,"Pune","SHREE RAM HILL VIEW",214,7]
[42,"Pune","AYAAN 1 CO-OPERATIVE HOUSING SOCIETY LIMITED",253,8]
[43,"Pune","LA MELOSA",240,8]
[44,"Pune","NAMDEV RAKURI BAUGH CHS",117,5]
[45,"Pune","SHIV NAGARI",242,12]
[46,"Pune","RIVERDALE SUITES",314,5]
[47,"Pune","BLUEBERRY CO-OP HSG SOC",117,6]
[48,"Pune","LA CABANA HS",104,4]
[49,"Pune","ACROPOLIS 2",111,5]
[50,"Pune","18 LATITUDE PHASE 2",98,3]
[51,"Pune","YASHONE INFINITEE",1034,16]
[52,"Pune","KRYSTAL CITY-PEARL",250,4]
[53,"Pune","KRYSTAL CITY SAPPHIRE",200,4]
[54,"Pune","KUKREJA HERITAGE CHSL",179,7]
[55,"Pune","I TREND LIFE 2, B WING",117,2]
[56,"Pune","KOHINOOR JEEVA CO-OP HSG SOCIETY",144,4]
[57,"Pune","VISHWAJEET RESIDENCY CHS",218,7]
[58,"Pune","BA IRIS",220,4]
[59,"Pune","KK MARKS",107,2]
[60,"Pune","ZEN ESTATE - BY MAHALAXMI GROUP",543,14]
[61,"Pune","SHUBHASHREE RESIDENTIAL PHASE 3",224,1]
[62,"Pune","SUNCITY",429,19]
[63,"Pune","MAHALAXMI VIHAR RWA",376,12]
[64,"Pune","ALKASA",450,12]
[65,"Pune","GANGA FLORENTINA CHS",256,8]
[66,"Pune","MAJESTIQUE MANHATTEN PH2",850,6]
[67,"Pune","GLC B3",182,3]
[68,"Pune","SHANKESHWAR CRIMSON CHS LTD",93,4]
[69,"Pune","MANTRA 29 GOLD COAST B & C WING",240,10]
[70,"Pune","BASERA ETERNITY",107,2]
[71,"Pune","DODKE PARK",33,2]
[72,"Pune","EDEN GARDEN CHS",315,24]
[73,"Pune","KUMAR PRIYADARSHAN",213,18]
[74,"Pune","LIFESTYLE MAGNUM COOPERATIVE HOUSING SOCIETY LIMITED",198,6]
[75,"Pune","OPUS 76",278,6]
[76,"Pune","ZINNEA",105,2]
[77,"Pune","PHASE 1 @ TLD",595,20]
[78,"Pune","URBAN NEST CHS",363,10]
[79,"Pune","IVY APARTMENTS",1200,30]
[80,"Pune","SIDDHASHILA MADHUBAN",94,2]
[81,"Pune","HILLSIDE 2 CO-OP HSG SOC LTD",550,11]
[82,"Pune","GOODWILL PALETTE",135,8]
[83,"Pune","SOLITAIR PALMS SOCIETY",250,6]
[84,"Pune","ESSENCIA HEIGHTS CHS",216,7]
[85,"Pune","FLORIDA COUNTY",126,9]
[86,"Pune","SUYOG PERL",84,4]
[87,"Pune","VENKATESH GRAFFITI ELAN",250,6]
[88,"Pune","PUNEVILLE",510,12]
[89,"Pune","PRISTINE GRANDEUR",150,6]
[90,"Pune","SHRADDHA HERITAGE CHS",43,1]
[91,"Pune","EKAIKA SOCIETY",35,2]
[92,"Pune","DYNAMIC OASIS A B WING",176,4]
[93,"Pune","KINGSTON ATLANTIS",180,6]
[94,"Pune","Casa imperia 1nd 2",326,10]
[95,"Pune","ELINA LIVING",500,12]
[96,"Pune","VIVAAN PARK SAHAKARI GRUHRACHANA SANSTHA MARYADIT",291,4]
[97,"Pune","FLAMINGO APT",40,2]
[98,"Pune","SUKHWANI SKYLINE",758,8]
[99,"Pune","SILVER SKYSCAPES CHS",216,3]
[100,"Pune","LAXMI VILAS CHS",209,8]
[101,"Pune","VANASHREE SOCIETY",100,4]
[102,"Pune","GODREJ PRANA CHS",667,24]
[103,"Pune","NYARI EMPIRE",400,14]
[104,"Pune","Manjri greenwoods ph1 nd 2",600,18]
[105,"Pune","THE PEARL",144,8]
[106,"Pune","ALDEA ESPANOLA PHASE 5",197,6]
[107,"Pune","FOREST EDGE CHS LIMITED",156,4]
[108,"Pune","NYATI ELAN CENTRAL 2",336,12]
[109,"Pune","OPTIMA HEIGHT PHASE 2",326,5]
[110,"Pune","MARVEL IDEAL SPACIO",420,16]
[111,"Pune","CITRON CHS",400,4]
[112,"Pune","KRISHNA'S BLESSING",253,8]
[113,"Pune","WOODSVILLE PHASE 2",235,10]
[114,"Pune","MYSTIQUE WONDERS",128,4]
[115,"Pune","ROSE COUNTY APARTMENT CONDOMINIUM",112,10]
[116,"Pune","VTP BELAIR CO-OPERATIVE HOUSING SOCIETY LTD",1403,32]
[117,"Pune","TROODOS HEIGHTS",88,3]
[118,"Pune","THE HORIZON",108,3]
[119,"Pune","GRAND VIEW 7 J BUILDING",150,3]
[120,"Pune","GYANGANGA HOUSING SOCIETY",200,8]
[121,"Pune","SUNDER SANSKRUTI PH1",129,6]
[122,"Pune","SAI ARCADE",88,2]
[123,"Pune","SAARTHI SOUVENIR",245,8]
[124,"Pune","AAROHI CHS",319,10]
[125,"Pune","MANJRI GREENS PH 5",140,4]
[126,"Pune","UNITY PARK CO OP HSG SOC LTD",401,14]
[127,"Pune","GREENLAND COUNTY",500,30]
[128,"Pune","HM ROYAL",621,4]
[129,"Pune","LUNKAD ABODEH",40,2]
[130,"Pune","KOHINOOR REINA CO-OP HOUSING SOCIETY",156,4]
[131,"Pune","SAI MYSTIQUE",329,16]
[132,"Pune","SKYLAND CHS",117,4]
[133,"Pune","VISION RHYTHM CHS",276,4]
[134,"Pune","SAI PLATINUM",153,7]
[135,"Pune","KONARK ELEGANCE",41,3]
[136,"Pune","LUNKAD ZODIAC CHS",119,4]
[137,"Pune","SPARKLE AVENUE",120,3]
[138,"Pune","CENTRAL PARK RESIDENCES",184,6]
[139,"Pune","KATEPURAM PHASE 2",430,10]
[140,"Pune","GANDHARVA EXCELLENCE J WING",94,2]
[141,"Pune","STELLAR HOMES",156,4]
[142,"Pune","SUDATTA SANKUL CO OP HOUSING SOCIETY LTD",254,6]
[143,"Pune","SUYOG ENCLAVE",75,3]
[144,"Pune","WESTBROOK",144,4]
[145,"Pune","REELICON KIAN",160,4]
[146,"Pune","LAKE VISTA",750,25]
[147,"Pune","RAJVEER GALAXY",97,1]
[148,"Pune","SUNFANTACY SOCIETY",228,10]
[149,"Pune","MANTRA MAGIC ABC",284,8]
[150,"Pune","CHANDRANGAN CHS PHASE 7",305,14]
[151,"Pune","GRAND VIEW 7 PHASE 2",121,6]
[152,"Pune","I TREND LIFE",286,6]
[153,"Pune","ORANGE HABITAT",71,6]
[154,"Pune","PARKLAND COOPERATIVE HOUSING SOCIETY",126,3]
[155,"Pune","SPLENDID PARK PRO",376,9]
[156,"Pune","KALPATARU ESTATE PHASE 3",262,3]
[157,"Pune","SAARTHI SIGNOR",129,2]
[158,"Pune","VASCON XOTECH",70,1]
[159,"Pune","CHAITRANGAN CHS",160,7]
[160,"Pune","AMRUT KALASH NAGARI",78,3]
[161,"Pune","AURA COUNTY \"A WING\"",96,2]
[162,"Pune","FOREST CASTLE SOCIETY",150,4]
[163,"Pune","TROPICAL PALMS",70,2]
[164,"Pune","SONESTA APARTMENTS",60,1]
[165,"Pune","GK PALACIO",466,14]
[166,"Pune","38 PARK MAJESTIQUE PHASE 1",204,2]
[167,"Pune","Yashwin orizont",294,14]
[168,"Pune","SAISHA PUNAWALE",111,6]
[169,"Pune","38 PARK MAJESTIQUE WING B,C,E,F",396,4]
[170,"Pune","DREAMS ELINA- A",342,3]
[171,"Pune","FEDERATION OF GANGA BHAGYODAY AND AMRUT GANGA CO-OPERATIVE HOUSING SOCIETY",559,18]
[172,"Pune","DSK SUNDARBAN PLOT C CHSL",108,4]
[173,"Pune","SANKLA EXCLUSIVE VISTA",128,4]
[174,"Pune","MAJESTIQUE MAGNUM",200,5]
[175,"Pune","K K KAIZEN",58,1]
[176,"Pune","ROSE VALLEY CHS",277,13]
[177,"Pune","GK ALLURE 2",153,4]
[178,"Pune","SWASTIK HOME TOWN",134,6]
[179,"Pune","SWAPNALOK HOUSING SOCIETY",282,6]
[180,"Pune","KOHINOOR SAPPHIRE 1",458,18]
[181,"Pune","PARADISE ONE"]
[182,"Pune","PARADISE 1 BY RAMA GROUP",81,5]
[183,"Pune","SAI AAMRAI",110,4]
[184,"Pune","GAGAN RENAISSANCE",132,4]
[185,"Pune","38 PARK MAJESTIQUE",238,4]
[186,"Pune","LANDBREEZE CO-OP HSG SOC LTD",84,2]
[187,"Pune","SAI RAJ HEIGHTS",null,3]
[188,"Pune","GOLDEN TREASURE A WING",84,6]
[189,"Pune","SAPPHIRE TOWERS COOPERATIVE HOUSING SOCIETY LTD\"",150,4]
[190,"Pune","SAI VASTU PARK",100,2]
[191,"Pune","TWIN ARC",121,4]
[192,"Pune","TWIN ARC C WING",122,3]
[193,"Pune","AURA COUNTY",119,2]
[194,"Pune","GAIKWAD MIRO CO OPERATIVE HOUSING SOCIETY LTD",127,3]
[195,"Pune","SHREYA CHS",146,4]
[196,"Pune","18 LATITUDE",135,4]
[197,"Pune","SHINE CITY BCD WING",167,6]
[198,"Pune","SWARAJ COMPLEX",130,5]
[199,"Pune","INDRAMEGH",162,4]
[200,"Pune","MAJESTIQUE OASIS",192,4]
[201,"Pune","DOWNTOWN XENIA",84,2]
[202,"Pune","NYATI ELYSIA C1 ARTEMIS",112,3]
[203,"Pune","TANISH UNNATI CHS",177,6]
[204,"Pune","AAKAR INDIGO CHS",151,4]
[205,"Pune","MAYURI INFINITY",102,8]
[206,"Pune","MANTRA 29 GOLDCOAST",512,9]
[207,"Pune","NIRMAN VIVA CHS",334,11]
[208,"Pune","41 ESTERA CHS",350,10]
[209,"Pune","SIDDHASHILA EIRA",116,6]
[210,"Pune","SHANTAIS DIVINE BLISS D WING CHS LTD",72,2]
[211,"Pune","GOODWILL FABIAN",120,5]
[212,"Pune","FINSWELL WOODS B&D CO-OPERATIVE HOUSING SOCIETY",102,3]
[213,"Pune","PANCHAMRUT KOOL HOMES",196,6]
[214,"Pune","FORTUNE PERFECT D WING",384,6]
[215,"Pune","SKYWAYS SERENO CHS",214,6]
[216,"Pune","GAGAN GARIMA SOCIETY",104,15]
[217,"Pune","RUDRA CO HOUSING SOCIETY",240,8]
[218,"Pune","EASTERLIA",312,13]
[219,"Pune","PREM MANNAT",147,4]
[220,"Pune","OXY ULTIMA",212,6]
[221,"Pune","FRESHIA BUILDING B SAHAKARI GRUHRACHANA SANSTHA MARYADIT",110,2]
[222,"Pune","SHRUSHTI HOMES",141,4]
[223,"Pune","YASHOBHOOMI PHASE 1",1,4]
[224,"Pune","MAJESTIQUE NEST",468,4]
[225,"Pune","GOPI PURAM CHS LTD (ASHOKA MEWS)",319,13]
[226,"Pune","TROPICA CHS",420,12]
[227,"Pune","VISION ACE",192,6]
[228,"Pune","PARK INFINIA PHASE-II",288,12]
[229,"Pune","CASALINO TOWER PHASE LL BUILLDING C& D CO-OP HSG SOC",112,4]
[230,"Pune","WELL WISHERS GROUP, KIARAH TERRAZO",320,7]
[231,"Pune","POLITE HERMITAGE CHS",132,4]
[232,"Pune","IRA CHS LTD",251,6]
[233,"Pune","ARCHANA KOHINOOR GLORY B&C WING SAHAKARI GRUH RACHNA SANSTHA MARYADIT",122,12]
[234,"Pune","GREEN HIVE",210,4]
[235,"Pune","Wisteria",86,4]
[236,"Pune","BERYL APARTMENTS",100,8]
[237,"Pune","RIDDHI SIDDHI PARADISE SOCIETY",142,2]
[238,"Pune","SURYAGANGA CO-OPERATIVE HOUSING SOCIETY LTD",140,6]
[239,"Pune","CELESTIAL CITY PHASE 2 G BUILDING CHS LTD",51,3]
[240,"Pune","YASHONE HINJEWADI CHS",1010,16]
[241,"Pune","KUNAL CRIMSON",80,5]
[242,"Pune","SAHEELS FORTUNE PARK PHASE 2 WING A",20,11]
[243,"Pune","PLATINA PHASE 1 AND 2",84,1]
[244,"Pune","ROYAL GALAXY",94,2]
[245,"Pune","LAXMI HORIZON",80,2]
[246,"Pune","MAJESTIQUE RHYTHM COUNTY A1 & A2 CHSL",220,4]
[247,"Pune","NALANDA NAGARI",98,6]
[248,"Pune","AKSHARDHAM CHS",171,2]
[249,"Pune","KOHINOOR IRIS PARK CHS",90,4]
[250,"Pune","MANTRA MAJESTICA CHS",243,14]
[251,"Pune","RUNWAL SEAGAL",700,18]
[252,"Pune","SHIV ZEN WORLD",300,8]
[253,"Pune","SUKHWANI PACIFIC 2",153,6]
[254,"Pune","ARV NEW TOWN B3",604,2]
[255,"Pune","FUSION TOWER",214,4]
[256,"Pune","URBAN SKYLINE PHASE 1",1,11]
[257,"Pune","SKYSCRAPER CHS LTD",111,3]
[258,"Pune","BHALCHANDRA VATIKA",104,2]
[259,"Pune","ACE AUGUSTA CHS",123,2]
[260,"Pune","Amargeet society",56,2]
[261,"Pune","SHIDHASHILA EELA CHS",624,6]
[262,"Pune","THE SPECTRUM",120,3]
[263,"Pune","SUKHWANI SHIVOM",160,6]
[264,"Pune","PLATINUM TOWER",290,4]
[265,"Pune","NEXUS MERIDIAN",106,2]
[266,"Pune","CALLISTO CHS",180,6]
[267,"Pune","ATULYA NIRMAN",null,4]
[268,"Pune","SHANKESHWAR CRIMSON CHS",93,4]
[269,"Pune","BLUE BELLS",null,3]
[270,"Pune","ULTRA RESIDENCY",110,4]
[271,"Pune","Amrutkalash chs karvenagar",225,8]
[272,"Pune","LEGACY MILLENNIA A BUILDING",112,3]
[273,"Pune","YASH RAVI PARK",334,13]
[274,"Pune","PADMAVILAS APARTMENT CONDOMINIUM",135,6]
[275,"Pune","GUARDIAN CITYSCAPES CHS",380,15]
[276,"Pune","Mantra essence",335,6]
[277,"Pune","HIGHLIFE CHS LTD",80,4]
[278,"Pune","SWARAJ PRIDE CHSL",134,3]
[279,"Pune","YASHWIN SUKHNIWAS",140,8]
[280,"Pune","ICON IMPERIO",181,6]
[281,"Pune","YASHRAJ GREEN CASTLE",306,12]
[282,"Pune","Suraj mahal",75,4]
[283,"Pune","SUNRISE CHS",305,22]
[284,"Pune","SHANTI RESIDENCY CHS",170,2]
[285,"Pune","PAVILLION 79",88,2]
[286,"Pune","SAMPANNA HOMES",220,8]
[287,"Pune","GULMOHAR RESIDENCY",265,10]
[288,"Pune","SHIVSAGAR PLATINUM",129,6]
[289,"Pune","SUYASH SHRUSHTI CHS",188,7]
[290,"Pune","AARYA RESIDENCY",80,2]
[291,"Pune","AERO NEST",164,6]
[292,"Pune","FEDERATION OF EMPIRE ESTATE A,B,C,D AND E TO I ,CO OPERATIVE HOUSING SOCIETY LTD",484,22]
[293,"Pune","Suvarna park",86,4]
[294,"Pune","PADMAVATI HILLS",252,9]
[295,"Pune","SAI CRYSTAL",80,3]
[296,"Pune","SANJUDA COMPLEX (S S DEVELOPERS)",263,9]
[297,"Pune","CHANDRANGAN SWAROOP CO-OP HOUSING SOCIETY",170,6]
[298,"Pune","SAI CANARY CHS",75,4]
[299,"Pune","NISARG DEEP 2",48,2]
[300,"Pune","OZONE SPRINGS",79,2]
[301,"Pune","32 PINEWOOD DRIVE",168,4]
[302,"Pune","SILVER CREST",90,4]
[303,"Pune","ARV new town",604,2]
[304,"Pune","SHIV UNNATI",140,5]
[305,"Pune","WOODS ROYAL B WING",120,5]
[306,"Pune","THE ORCHID",61,2]
[307,"Pune","SHONEST TOWER",400,11]
[308,"Pune","SARITA NAGARI PH 2",240,10]
[309,"Pune","LEGACY LIVA",87,2]
[310,"Pune","BLUE BELLS AURA",100,2]
[311,"Pune","MANTRA GRANDSTAND TRINITY",120,6]
[312,"Pune","JK HILL PARK CHS",343,10]
[313,"Pune","SANSKRUTI PRANGAN",117,2]
[314,"Pune","ISHANA 3",50,1]
[315,"Pune","Bhalchandra vihar",420,6]
[316,"Pune","VENKATESH GRAFFITI C- D WINGS",176,4]
[317,"Pune","MAJESTIQUE NEST C & D WING",null,4]
[318,"Pune","GAYATRREE LANDMARK PHASE 2",124,4]
[319,"Pune","PERIWINKLE CO-OPERATIVE HOUSING SOCIETY LTD",230,4]
[320,"Pune","RIDDHI SIDDHI HEIGHTS COOPERATIVE HOUSING SOC",192,6]
[321,"Pune","SATYAM NIRANJANI",160,8]
[322,"Pune","PRISTINE PACIFIC",400,14]
[323,"Pune","EISHA EMPIRE CHS LTD",216,10]
[324,"Pune","Sai crown imperial b wing",94,5]
[325,"Pune","SUPREME ESTIA",624,3]
[326,"Pune","ROYAL ORANGE COUNTY",344,16]
[327,"Pune","ARISTOLIA CHS",141,6]
[328,"Pune","PRISTINE PRONEXT",155,8]
[329,"Pune","SHASTRI APARTMENTS CHSL",183,4]
[330,"Pune","PRESTIGE PANAROMA",43,4]
[331,"Pune","PRESTIGE PANORAMA",112,4]
[332,"Pune","VASTUSHREE ADRINA CHS, BUILDING B",148,4]
[333,"Pune","24 K SERENO",414,9]
[334,"Pune","RAJYOG CHS",196,6]
[335,"Pune","ACME ALCINA",40,2]
[336,"Pune","VRINDAVAN ELEGANCE COOPERATIVE HOUSING SOCIETY",27,1]
[337,"Pune","VRUNDAVAN RESIDENCY",51,1]
[338,"Pune","MAJESTIQUE AQUA PHASE 3",238,4]
[339,"Pune","THREE JEWELS APARTMENTS",1555,18]
[340,"Pune","SKYI STAR CITY",250,6]
[341,"Pune","PRAYEJA CITY",267,14]
[342,"Pune","KOHINOOR COURTYARD ONE A WING KOHINOOR COURTYARD ONE B WING",null,4]
[343,"Pune","SUN EXOTICA FEDERATION OF CO-OP HOUSING SOCIETIES LTD",391,10]
[344,"Pune","ISHAN NAGARI CHS",154,5]
[345,"Pune","SILVER WOODS",135,4]
[346,"Pune","SHAPOORJI JOYVILLE HINJEWADI",1020,4]
[347,"Pune","SHREE APARTMENT",75,3]
[348,"Pune","EMERALD PARK",300,3]
[349,"Pune","Hazel view",71,2]
[350,"Pune","AURA COUNTY BUILDING C1 CO-OP HSG SOC LTD",96,1]
[351,"Pune","WESTONE C WING COOPERATIVE HOUSING SOCIETY",67,2]
[352,"Pune","COZY HOMES",260,8]
[353,"Pune","GK ALLURE",264,4]
[354,"Pune","BALAJI WHITEFIELD",190,7]
[355,"Pune","V UP-TOWN CO-OP HSG SOC",558,2]
[356,"Pune","KUNDAN ESTATE",152,6]
[357,"Pune","MANTRA INSIGNIA PHASE 2",271,7]
[358,"Pune","GODREJ GREENS",952,16]
[359,"Pune","UMANG HOMES AND PRIMO",436,16]
[360,"Pune","ONE HALLMARK AVENUE CHS",304,17]
[361,"Pune","THE WESTFORD CHS",130,6]
[362,"Pune","BRAMHA EMERALD COUNTY CHS LTD",352,16]
[363,"Pune","SAI AMBIANCE & SAI VISION",400,18]
[364,"Pune","SPLENDID MEADOWS",62,2]
[365,"Pune","GANESH GALAXY RESIDENCY",128,3]
[366,"Pune","DWARKA FLORA RESIDENCY PHASE 1 SOCIETY",236,8]
[367,"Pune","NEA HOMES APARTMENTS (BHANDARI GROUP)",272,9]
[368,"Pune","LAXMI ANGAN",72,9]
[369,"Pune","SUKHWANI GRACIA C WING",86,2]
[370,"Pune","BLUEWOODS CHSL",70,4]
[371,"Pune","THE ORCHARD CO OPERATIVE HOUSING SOCIETY LTD",187,6]
[372,"Pune","KONARK VIRTUE T2",144,3]
[373,"Pune","MICASA MY HOME C WING",96,3]
[374,"Pune","MAPLE WOODZ",397,12]
[375,"Pune","VENKATESH GRAFITTI R&S WING CHS",168,4]
[376,"Pune","MICASA MY HOME G WING",96,2]
[377,"Pune","KINGSTON AURA",700,12]
[378,"Pune","NAVRATNA EXOTICA CHS",176,4]
[379,"Pune","DIVINE DAZZLE",120,2]
[380,"Pune","ALDEA ESPANOLA",null,5]
[381,"Pune","PURANICS ALDEAA PHASE IV",71,6]
[382,"Pune","SHREE RAM LOTUS",160,10]
[383,"Pune","MAJESTIQUE AQUA PHASE 1 CO OPERATIVE HOUSING SOCIETY LTD",750,6]
[384,"Pune","CONCORD PROXIMA",94,5]
[385,"Pune","MY NEST",60,4]
[386,"Pune","SHREERAM KALASH SOCIETY",92,4]
[387,"Pune","SANSKRUTI",191,12]
[388,"Pune","SUYOG LEHAR",278,14]
[389,"Pune","PRISTINE EAST WINDS CHS",88,3]
[390,"Pune","GREEN REPUBLIC",187,4]
[391,"Pune","Green crest",164,3]
[392,"Pune","Chesterfield CHS",1086,28]
[393,"Pune","NYATI WIND CHIMES",200,10]
[394,"Pune","FLYING HEIGHTS",78,4]
[395,"Pune","CASA ABRIGO",146,2]
[396,"Pune","ZEST COUNTY",164,6]
[397,"Pune","PARK VISTA",221,6]
[398,"Pune","DREAM AKRUTI PLOT 3 C, D & E",84,1]
[399,"Pune","KUBERA SANKUL CHS",308,11]
[400,"Pune","AEROPOLIS PHASE 2 CHS",164,10]
[401,"Pune","Castel royal",1086,28]
[402,"Pune","BLOSSOM SOCIETY",237,4]
[403,"Pune","ACROPOLIS CO-OPERATIVE HOUSING SOCIETY",338,20]
[404,"Pune","RAHADKI GREENS",83,4]
[405,"Pune","SILVERNEST",54,5]
[406,"Pune","EMERALD ISLE",56,2]
[407,"Pune","VTP CELESTA CHS",85,2]
[408,"Pune","HAARDHIK IMPULSE HEIGHT",124,2]
[409,"Pune","BLUE BERRY CHS",270,6]
[410,"Pune","MANTRA MOMENT",150,3]
[411,"Pune","RIVER RESIDENCY",94,2]
[412,"Pune","GREEN HIVE B2 BUILDING",70,1]
[413,"Pune","GANDHARVA EXCELLENCE C",72,2]
[414,"Pune","TINSEL COUNTY",470,12]
[415,"Pune","Majestic manhattan",273,6]
[416,"Pune","SHUBH LAKSH RESIDENCY",82,2]
[417,"Pune","EMERALD 4",64,2]
[418,"Pune","RAMA CELESTIAL CITY PHASE 2",575,10]
[419,"Pune","ELENA HOMES",128,3]
[420,"Pune","ELENA HOMES",121,3]
[421,"Pune","RANJAN HEIGHTS",121,3]
[422,"Pune","NAMRATA GLORIA",210,7]
[423,"Pune","DIVINE DAZZLE",114,4]
[424,"Pune","TUCKER AWHO ENCLAVE PHASE 1",144,9]
[425,"Pune","PGD PINNACLE A-WING",51,2]
[426,"Pune","ANUTHAM CHS",64,2]
[427,"Pune","MAJESTIQUE IMPERIA CHS",180,4]
[428,"Pune","D1 SOLACIA"]
[429,"Pune","TARA TARANG",50,3]
[430,"Pune","MAJESTIQUE MEMORIES",410,8]
[431,"Pune","TRANQUILITY CO -OP HSG SOC LTD PHASE 2",132,5]
[432,"Pune","KALPATARU SERENITY",270,8]
[433,"Pune","PARK INFINIA PHASE 3 PART B SAHAKARI GRUHRACHANA SANSTHA MARYADIT",46,3]
[434,"Pune","DREAMVILLE CO-OP HOUSING SOCIETY",175]
[435,"Pune","IVY ESTATE NIA",1149,25]
[436,"Pune","PETHKAR SIYONA",336,12]
[437,"Pune","ROSE MANSION",250,7]
[438,"Pune","ICON TRINITY",322,6]
[439,"Pune","NANCY HOMES",250,6]
[440,"Pune","VISHAL VIVIANA CHS",224,8]
[441,"Pune","DREAMS CASTLE",150,5]
[442,"Pune","GOOWILL CRESCENT",145,6]
[443,"Pune","OLIVE CO-OPERATIVE HOUSING SOCIETY LTD",144,8]
[444,"Pune","SILVER HOMES",142,2]
[445,"Pune","ADI AVENTURE",140,4]
[446,"Pune","PARKLANE URBANJOY",119,2]
[447,"Pune","SUKHWANI GRACIA",112,4]
[448,"Pune","EMERALD PARK B BUILDING",86,3]
[449,"Pune","WEST WOOD ESTATES",85,8]
[450,"Pune","WINDOWS PHASE 4",84,2]
[451,"Pune","SWARAJ VISION",76,3]
[452,"Pune","PARK RIDGE CHS",36,2]
[453,"Pune","DSK VIDYANGARI",192,8]
[454,"Pune","AARAMBH",187,6]
[455,"Pune","HAMY PARK ABCD CO OPERATIVE HOUSING SOCIETY LTD",168,6]
[456,"Pune","SHARVIL COMPLEX - EMPIRE SHELTERS",149,5]
[457,"Pune","EL CASTILLO",130,4]
[458,"Pune","SHREE GANESH VISHWA CHS",122,6]
[459,"Pune","PALAASH 24",115,4]
[460,"Pune","ARCHANA HILL TOWN",114,6]
[461,"Pune","NIRMAAN AASAMANT CO OP HOUSING SOCIETY",104,4]
[462,"Pune","BHONDAVE EMPIRE",103,4]
[463,"Pune","INSPIRA CO-OP HOUSING SOCIETY",101,5]
[464,"Pune","ASHOKA AAGAM",100,4]
[465,"Pune","ESTELLA",95,5]
[466,"Pune","SHIVAM MAJESTICA",88,2]
[467,"Pune","ROYAL GANGA CHS",84,3]
[468,"Pune","KALPAK HOMES",82,4]
[469,"Pune","64 GREEN MEADOWS",78,2]
[470,"Pune","BALAJI BUILDCON",75,4]
[471,"Pune","PHINIX ELINA",75,2]
[472,"Pune","TARANGAN RESIDENCY DHAYARI",75,4]
[473,"Pune","DHARA ICON A WING",73,3]
[474,"Pune","MANTRA MOMENTS B WING",73,4]
[475,"Pune","NISARG AKASH CHS",70,2]
[476,"Pune","ARIHANT PRATHAMESH",63,4]
[477,"Pune","SAI SUNDARAM",63,3]
[478,"Pune","RPS HERITAGE",54,1]
[479,"Pune","APPLE AROMA",50,2]
[480,"Pune","SUGANDHTARA HEIGHTS",50,2]
[481,"Pune","VARDHAMAN ELEGANCE",50,1]
[482,"Pune","SAI GLAMOUR",48,2]
[483,"Pune","DIVINE REVES PHASE 1 WING B SAHAKARI GRUHA RACHNA SANSTHA MARYADIT",47,2]
[484,"Pune","NALINOTTAM RESIDENCY",43,2]
[485,"Pune","THE CREST B2 CO OPERATIVE HOUSING SOCIETY",28,1]
[486,"Pune","KUMBARE HERMITAGE",98,3]
[487,"Pune","HILL VIEW APARTMENT",96,4]
[488,"Pune","PROBO PRIDE CHS LTD",172,6]
["Total",null,null,{"$f":"SUM(D2:D489)","v":103465},{"$f":"SUM(E2:E489)","v":3097}]

{"sheet":"002 - A (18x24 In)","index":1,"n_rows":1000,"n_cols":7,"rows_kept":1000,"cut":false,"hidden":false,"merged":[[131,0,131,1]]}
["RWA Name","Frame Placement","Minimum Order Quantity(No Of Lifts)","Locality","Captive Households (no of flats)","Approx Reach","Avg occupancy of 21-36 year olds/Household (%)"]
["Rose Parade","Left",7,"Kondhawa",220,880,55]
["Rose Parade","Right",7,"Kondhawa",220,880,55]
["Kapil Akhila","Left",6,"Baner",130,520,55]
["Kapil Akhila","Right",6,"Baner",130,520,55]
["Shreewoods","Left",10,"Dhanori",259,1036,50]
["Shreewoods","Right",10,"Dhanori",259,1036,50]
["Sukhwani Scarlett","Right",6,"Wagholi",270,1080,50]
["Atria Chs","Left",5,"Dhanori",384,1536,50]
["Atria Chs","Right",5,"Dhanori",384,1536,50]
["Regency Classic","Left",4,"Baner",174,696,50]
["Regency Classic","Right",4,"Baner",174,696,50]
["LalwaniVastu Chs","Left",5,"Viman Nagar",152,608,50]
["LalwaniVastu Chs","Right",5,"Viman Nagar",152,608,50]
["Life Montage Chsl","Left",10,"Sus",465,1860,50]
["Life Montage Chsl","Right",10,"Sus",465,1860,50]
["Sun Fantasy","Left",3,"Ambegaon",225,900,55]
["Sun Fantasy","Right",2,"Ambegaon",225,900,55]
["Nano Homes","Left",6,"Ravet",331,1324,55]
["Nano Homes","Right",6,"Ravet",331,1324,55]
["Bhalchandra Vatika","Left",1,"Punawale",110,440,55]
["Keystone Hills","Left",2,"Undri",76,304,50]
["Keystone Hills","Right",1,"Undri",76,304,50]
["Sai Velocity Phase One","Left",2,"Bavdhan",153,612,50]
["Sai Velocity Phase One","Right",2,"Bavdhan",153,612,50]
["Dreams Rhythm","Left",3,"Bavdhan",110,440,50]
["Dreams Rhythm","Right",3,"Bavdhan",110,440,50]
["Aspiria chs","Left",4,"Hinjewadi",172,688,55]
["Aspiria chs","Right",4,"Hinjewadi",172,688,55]
["Blueberry","Left",6,"Hadapsar",270,1080,50]
["Blueberry","Right",4,"Hadapsar",270,1080,50]
["Insignia","Left",2,"Wakad",98,392,50]
["Insignia","Right",2,"Wakad",98,392,50]
["Royal Serene","Right",4,"Mahalunge",176,704,55]
["LAXMI DEEP CHSL","Left",5,"Wakad",219,876,55]
["LAXMI DEEP CHSL","Right",5,"Wakad",219,876,55]
["CELESTIA","Left",1,"Baner gaon",36,144,55]
["CELESTIA","Right",1,"Baner gaon",36,144,55]
["High Mont Building A Chs","Left",3,"Hinjewadi",173,692,55]
["High Mont Building A Chs","Right",3,"Hinjewadi",173,692,55]
["High Mont Building B Chs","Left",3,"Hinjewadi",173,692,55]
["High Mont Building B Chs","Right",3,"Hinjewadi",173,692,55]
["High Mont Building C Chs","Left",3,"Hinjewadi",173,692,50]
["High Mont Building C Chs","Right",3,"Hinjewadi",173,692,50]
["Utsav Homes Bhosari","Left",9,"Bhosari",287,1148,50]
["Utsav Homes Bhosari","Right",9,"Bhosari",287,1148,50]
["Tangewala- C","Left",3,"sahakar nagar",66,264,55]
["Tangewala- C","Right",3,"sahakar nagar",66,264,55]
["Gangadham-1","Right",15,"Bibwewadi",406,1624,55]
["Samarth Carina","Left",6,"Thergaon",133,532,55]
["Samarth Carina","Right",6,"Thergaon",133,532,55]
["Alcon Ranaissant","Left",12,"Kharadi",252,1008,55]
["Alcon Ranaissant","Right",12,"Kharadi",252,1008,55]
["Samarth Carina - C,E,F","Left",3,"tathwade",90,360,50]
["Samarth Carina - C,E,F","Right",3,"tathwade",90,360,50]
["Shubhlaksh Residency","Left",2,"Wakad",82,328,50]
["Shubhlaksh Residency","Right",2,"Wakad",82,328,50]
["Kumar Prospera","Left",5,"N/A","N/A","N/A","N/A"]
["Kumar Prospera","Right",6,"N/A","N/A","N/A","N/A"]
["Omega Paradise","Left",7,"Wakad",363,1452,50]
["Omega Paradise","Right",7,"Wakad",363,1452,50]
["Aditi's Ribera","Right",2,"N/A","N/A","N/A","N/A"]
["Pyramide Atlante","Right",6,"N/A","N/A","N/A","N/A"]
["PGD Pinnacle A wing","Left",1,"N/A","N/A","N/A","N/A"]
["PGD Pinnacle A wing","Right",1,"N/A","N/A","N/A","N/A"]
["Ganga Platino","Left",3,"N/A","N/A","N/A","N/A"]
["Ganga Platino","Right",3,"N/A","N/A","N/A","N/A"]
["Twin Palm","Left",2,"N/A","N/A","N/A","N/A"]
["Sonigara Presidency A & B","Left",6,"N/A","N/A","N/A","N/A"]
["Sonigara Presidency A & B","Right",6,"N/A","N/A","N/A","N/A"]
["Ganga Platino STUV","Left",8,"N/A","N/A","N/A","N/A"]
["Ganga Platino STUV","Right",8,"N/A","N/A","N/A","N/A"]
["Signature Heights C wing","Left",2,"N/A","N/A","N/A","N/A"]
["Signature Heights C wing","Right",2,"N/A","N/A","N/A","N/A"]
["Suyog Space","Left",2,"N/A","N/A","N/A","N/A"]
["Suyog Space","Right",2,"N/A","N/A","N/A","N/A"]
["Sukhwani Panorama Ph-2","Left",4,"N/A","N/A","N/A","N/A"]
["Sukhwani Panorama Ph-2","Right",4,"N/A","N/A","N/A","N/A"]
["Sukhwani Panorama ","Left",4,"N/A","N/A","N/A","N/A"]
["Sukhwani Panorama ","Right",4,"N/A","N/A","N/A","N/A"]
["Legacy Bliss","Left",3,"Wakad",117,468,50]
["Legacy Bliss","Right",3,"Wakad",117,468,50]
["Tinsel County","Left",12,"Hinjewadi",400,1600,55]
["Tinsel County","Right",12,"Hinjewadi",400,1600,55]
["Azure B","Left",2,"N/A","N/A","N/A","N/A"]
["Azure B","Right",1,"N/A","N/A","N/A","N/A"]
["Yashwin B","Left",3,"N/A","N/A","N/A","N/A"]
["Yashwin B","Right",3,"N/A","N/A","N/A","N/A"]
["The Cliff Garden","Left",12,"Hinjewadi",672,2688,50]
["The Cliff Garden","Right",12,"Hinjewadi",672,2688,50]
["Rohan Mithila - 3","Left",7,"Viman Nagar",258,1032,55]
["Rohan Mithila - 3","Right",7,"Viman Nagar",258,1032,55]
["Wisdom Park C wing","Left",2,"Pimpri",47,188,50]
["Wisdom Park C wing","Right",2,"Pimpri",47,188,50]
["Wisdom Park D Wing","Left",2,"Pimpri",47,188,50]
["Wisdom Park D Wing","Right",2,"Pimpri",47,188,50]
["Wisdom Park B Wing","Left",1,"Pimpri",47,188,55]
["Wisdom Park B Wing","Right",1,"Pimpri",47,188,55]
["Rejuve Chsl Ltd","Left",9,"N/A","N/A","N/A","N/A"]
["Rejuve Chsl Ltd","Right",9,"N/A","N/A","N/A","N/A"]
["Shriniwas Q homes","Left",2,"N/A","N/A","N/A","N/A"]
["Shriniwas Q homes","Right",2,"N/A","N/A","N/A","N/A"]
["Gurumauli Vihar","Left",1,"N/A","N/A","N/A","N/A"]
["Gurumauli Vihar","Right",1,"N/A","N/A","N/A","N/A"]
["Rohan Ananta ph-3","Left",8,"N/A","N/A","N/A","N/A"]
["Rohan Ananta ph-3","Right",8,"N/A","N/A","N/A","N/A"]
["Nyati Elysia B3 Apollo","Left",2,"N/A","N/A","N/A","N/A"]
["Nyati Elysia B3 Apollo","Right",1,"N/A","N/A","N/A","N/A"]
["Saarthi Signor","Left",6,"N/A","N/A","N/A","N/A"]
["Saarthi Signor","Right",6,"N/A","N/A","N/A","N/A"]
["Lunkad Colonnade","Left",5,"N/A","N/A","N/A","N/A"]
["Lunkad Colonnade","Right",5,"N/A","N/A","N/A","N/A"]
["Aldea Esponala Ph 5","Left",3,"N/A","N/A","N/A","N/A"]
["Aldea Esponala Ph 5","Right",3,"N/A","N/A","N/A","N/A"]
["Rohan ananta B","Left",8,"N/A","N/A","N/A","N/A"]
["Rohan ananta B","Right",8,"N/A","N/A","N/A","N/A"]
["Marvilla Chs","Left",8,"N/A","N/A","N/A","N/A"]
["Marvilla Chs","Right",8,"N/A","N/A","N/A","N/A"]
["Equilife Homes A wing","Left",3,"N/A","N/A","N/A","N/A"]
["Equilife Homes A wing","Right",3,"N/A","N/A","N/A","N/A"]
["Yashwin B wing","Left",3,"N/A","N/A","N/A","N/A"]
["Yashwin B wing","Right",3,"N/A","N/A","N/A","N/A"]
["Ganga Glitz I","Left",1,"N/A","N/A","N/A","N/A"]
["Ganga Glitz I","Right",1,"N/A","N/A","N/A","N/A"]
["Whistling Palms A2","Left",1,"N/A","N/A","N/A","N/A"]
["Ganga Osian Meadows","Left",12,"Thergaon",288,1152,55]
["Ganga Osian Meadows","Right",12,"Thergaon",288,1152,55]
["Kool Homes","Left",3,"Belewadi",129,516,50]
["Kool Homes","Right",3,"Belewadi",129,516,50]
["Rose County Apartment","Left",10,"N/A","N/A","N/A","N/A"]
["Rose County Apartment","Right",10,"N/A","N/A","N/A","N/A"]
["Total",null,{"$f":"SUM(C2:C131)","v":622},{"$f":"IFERROR(__xludf.DUMMYFUNCTION(\"iferror(VLOOKUP(B132,IMPORTRANGE(\"\"https://docs.google.com/spreadsheets/d/1bphtMaJ6lFh0VVWIgQh8ZCOchBZqvj0w5rveiNYcTnM/edit#gid=0\"\",\"\"RWA!F:BZ\"\"),44,0))\"),\"\")","v":""},{"$f":"SUM(E2:E131)","v":15504},{"$f":"SUM(F2:F131)","v":62016},{"$f":"IFERROR(__xludf.DUMMYFUNCTION(\"iferror(VLOOKUP(B132,IMPORTRANGE(\"\"https://docs.google.com/spreadsheets/d/1bphtMaJ6lFh0VVWIgQh8ZCOchBZqvj0w5rveiNYcTnM/edit#gid=0\"\",\"\"RWA!F:BZ\"\"),53,0))\"),\"\")","v":""}]
[null,null,null,{"$f":"IFERROR(__xludf.DUMMYFUNCTION(\"iferror(VLOOKUP(B133,IMPORTRANGE(\"\"https://docs.google.com/spreadsheets/d/1bphtMaJ6lFh0VVWIgQh8ZCOchBZqvj0w5rveiNYcTnM/edit#gid=0\"\",\"\"RWA!F:BZ\"\"),44,0))\"),\"\")","v":""},{"$f":"IFERROR(__xludf.DUMMYFUNCTION(\"iferror(VLOOKUP(B133,IMPORTRANGE(\"\"https://docs.google.com/spreadsheets/d/1bphtMaJ6lFh0VVWIgQh8ZCOchBZqvj0w5rveiNYcTnM/edit#gid=0\"\",\"\"RWA!F:BZ\"\"),48,0))\"),\"\")","v":""},{"$f":"IFERROR(__xludf.DUMMYFUNCTION(\"iferror(VLOOKUP(B133,IMPORTRANGE(\"\"https://docs.google.com/spreadsheets/d/1bphtMaJ6lFh0VVWIgQh8ZCOchBZqvj0w5rveiNYcTnM/edit#gid=0\"\",\"\"RWA!F:BZ\"\"),49,0))\"),\"\")","v":""},{"$f":"IFERROR(__xludf.DUMMYFUNCTION(\"iferror(VLOOKUP(B133,IMPORTRANGE(\"\"https://docs.google.com/spreadsheets/d/1bphtMaJ6lFh0VVWIgQh8ZCOchBZqvj0w5rveiNYcTnM/edit#gid=0\"\",\"\"RWA!F:BZ\"\"),53,0))\"),\"\")","v":""}]
[null,null,null,{"$f":"IFERROR(__xludf.DUMMYFUNCTION(\"iferror(VLOOKUP(B134,IMPORTRANGE(\"\"https://docs.google.com/spreadsheets/d/1bphtMaJ6lFh0VVWIgQh8ZCOchBZqvj0w5rveiNYcTnM/edit#gid=0\"\",\"\"RWA!F:BZ\"\"),44,0))\"),\"\")","v":""},{"$f":"IFERROR(__xludf.DUMMYFUNCTION(\"iferror(VLOOKUP(B134,IMPORTRANGE(\"\"https://docs.google.com/spreadsheets/d/1bphtMaJ6lFh0VVWIgQh8ZCOchBZqvj0w5rveiNYcTnM/edit#gid=0\"\",\"\"RWA!F:BZ\"\"),48,0))\"),\"\")","v":""},{"$f":"IFERROR(__xludf.DUMMYFUNCTION(\"iferror(VLOOKUP(B134,IMPORTRANGE(\"\"https://docs.google.com/spreadsheets/d/1bphtMaJ6lFh0VVWIgQh8ZCOchBZqvj0w5rveiNYcTnM/edit#gid=0\"\",\"\"RWA!F:BZ\"\"),49,0))\"),\"\")","v":""},{"$f":"IFERROR(__xludf.DUMMYFUNCTION(\"iferror(VLOOKUP(B134,IMPORTRANGE(\"\"https://docs.google.com/spreadsheets/d/1bphtMaJ6lFh0VVWIgQh8ZCOchBZqvj0w5rveiNYcTnM/edit#gid=0\"\",\"\"RWA!F:BZ\"\"),53,0))\"),\"\")","v":""}]
[null,null,null,{"$f":"IFERROR(__xludf.DUMMYFUNCTION(\"iferror(VLOOKUP(B135,IMPORTRANGE(\"\"https://docs.google.com/spreadsheets/d/1bphtMaJ6lFh0VVWIgQh8ZCOchBZqvj0w5rveiNYcTnM/edit#gid=0\"\",\"\"RWA!F:BZ\"\"),44,0))\"),\"\")","v":""},{"$f":"IFERROR(__xludf.DUMMYFUNCTION(\"iferror(VLOOKUP(B135,IMPORTRANGE(\"\"https://docs.google.com/spreadsheets/d/1bphtMaJ6lFh0VVWIgQh8ZCOchBZqvj0w5rveiNYcTnM/edit#gid=0\"\",\"\"RWA!F:BZ\"\"),48,0))\"),\"\")","v":""},{"$f":"IFERROR(__xludf.DUMMYFUNCTION(\"iferror(VLOOKUP(B135,IMPORTRANGE(\"\"https://docs.google.com/spreadsheets/d/1bphtMaJ6lFh0VVWIgQh8ZCOchBZqvj0w5rveiNYcTnM/edit#gid=0\"\",\"\"RWA!F:BZ\"\"),49,0))\"),\"\")","v":""},{"$f":"IFERROR(__xludf.DUMMYFUNCTION(\"iferror(VLOOKUP(B135,IMPORTRANGE(\"\"https://docs.google.com/spreadsheets/d/1bphtMaJ6lFh0VVWIgQh8ZCOchBZqvj0w5rveiNYcTnM/edit#gid=0\"\",\"\"RWA!F:BZ\"\"),53,0))\"),\"\")","v":""}]
[null,null,null,{"$f":"IFERROR(__xludf.DUMMYFUNCTION(\"iferror(VLOOKUP(B136,IMPORTRANGE(\"\"https://docs.google.com/spreadsheets/d/1bphtMaJ6lFh0VVWIgQh8ZCOchBZqvj0w5rveiNYcTnM/edit#gid=0\"\",\"\"RWA!F:BZ\"\"),44,0))\"),\"\")","v":""},{"$f":"IFERROR(__xludf.DUMMYFUNCTION(\"iferror(VLOOKUP(B136,IMPORTRANGE(\"\"https://docs.google.com/spreadsheets/d/1bphtMaJ6lFh0VVWIgQh8ZCOchBZqvj0w5rveiNYcTnM/edit#gid=0\"\",\"\"RWA!F:BZ\"\"),48,0))\"),\"\")","v":""},{"$f":"IFERROR(__xludf.DUMMYFUNCTION(\"iferror(VLOOKUP(B136,IMPORTRANGE(\"\"https://docs.google.com/spreadsheets/d/1bphtMaJ6lFh0VVWIgQh8ZCOchBZqvj0w5rveiNYcTnM/edit#gid=0\"\",\"\"RWA!F:BZ\"\"),49,0))\"),\"\")","v":""},{"$f":"IFERROR(__xludf.DUMMYFUNCTION(\"iferror(VLOOKUP(B136,IMPORTRANGE(\"\"https://docs.google.com/spreadsheets/d/1bphtMaJ6lFh0VVWIgQh8ZCOchBZqvj0w5rveiNYcTnM/edit#gid=0\"\",\"\"RWA!F:BZ\"\"),53,0))\"),\"\")","v":""}]
[null,null,null,{"$f":"IFERROR(__xludf.DUMMYFUNCTION(\"iferror(VLOOKUP(B137,IMPORTRANGE(\"\"https://docs.google.com/spreadsheets/d/1bphtMaJ6lFh0VVWIgQh8ZCOchBZqvj0w5rveiNYcTnM/edit#gid=0\"\",\"\"RWA!F:BZ\"\"),44,0))\"),\"\")","v":""},{"$f":"IFERROR(__xludf.DUMMYFUNCTION(\"iferror(VLOOKUP(B137,IMPORTRANGE(\"\"https://docs.google.com/spreadsheets/d/1bphtMaJ6lFh0VVWIgQh8ZCOchBZqvj0w5rveiNYcTnM/edit#gid=0\"\",\"\"RWA!F:BZ\"\"),48,0))\"),\"\")","v":""},{"$f":"IFERROR(__xludf.DUMMYFUNCTION(\"iferror(VLOOKUP(B137,IMPORTRANGE(\"\"https://docs.google.com/spreadsheets/d/1bphtMaJ6lFh0VVWIgQh8ZCOchBZqvj0w5rveiNYcTnM/edit#gid=0\"\",\"\"RWA!F:BZ\"\"),49,0))\"),\"\")","v":""},{"$f":"IFERROR(__xludf.DUMMYFUNCTION(\"iferror(VLOOKUP(B137,IMPORTRANGE(\"\"https://docs.google.com/spreadsheets/d/1bphtMaJ6lFh0VVWIgQh8ZCOchBZqvj0w5rveiNYcTnM/edit#gid=0\"\",\"\"RWA!F:BZ\"\"),53,0))\"),\"\")","v":""}]
[null,null,null,{"$f":"IFERROR(__xludf.DUMMYFUNCTION(\"iferror(VLOOKUP(B138,IMPORTRANGE(\"\"https://docs.google.com/spreadsheets/d/1bphtMaJ6lFh0VVWIgQh8ZCOchBZqvj0w5rveiNYcTnM/edit#gid=0\"\",\"\"RWA!F:BZ\"\"),44,0))\"),\"\")","v":""},{"$f":"IFERROR(__xludf.DUMMYFUNCTION(\"iferror(VLOOKUP(B138,IMPORTRANGE(\"\"https://docs.google.com/spreadsheets/d/1bphtMaJ6lFh0VVWIgQh8ZCOchBZqvj0w5rveiNYcTnM/edit#gid=0\"\",\"\"RWA!F:BZ\"\"),48,0))\"),\"\")","v":""},{"$f":"IFERROR(__xludf.DUMMYFUNCTION(\"iferror(VLOOKUP(B138,IMPORTRANGE(\"\"https://docs.google.com/spreadsheets/d/1bphtMaJ6lFh0VVWIgQh8ZCOchBZqvj0w5rveiNYcTnM/edit#gid=0\"\",\"\"RWA!F:BZ\"\"),49,0))\"),\"\")","v":""},{"$f":"IFERROR(__xludf.DUMMYFUNCTION(\"iferror(VLOOKUP(B138,IMPORTRANGE(\"\"https://docs.google.com/spreadsheets/d/1bphtMaJ6lFh0VVWIgQh8ZCOchBZqvj0w5rveiNYcTnM/edit#gid=0\"\",\"\"RWA!F:BZ\"\"),53,0))\"),\"\")","v":""}]
[null,null,null,{"$f":"IFERROR(__xludf.DUMMYFUNCTION(\"iferror(VLOOKUP(B139,IMPORTRANGE(\"\"https://docs.google.com/spreadsheets/d/1bphtMaJ6lFh0VVWIgQh8ZCOchBZqvj0w5rveiNYcTnM/edit#gid=0\"\",\"\"RWA!F:BZ\"\"),44,0))\"),\"\")","v":""},{"$f":"IFERROR(__xludf.DUMMYFUNCTION(\"iferror(VLOOKUP(B139,IMPORTRANGE(\"\"https://docs.google.com/spreadsheets/d/1bphtMaJ6lFh0VVWIgQh8ZCOchBZqvj0w5rveiNYcTnM/edit#gid=0\"\",\"\"RWA!F:BZ\"\"),48,0))\"),\"\")","v":""},{"$f":"IFERROR(__xludf.DUMMYFUNCTION(\"iferror(VLOOKUP(B139,IMPORTRANGE(\"\"https://docs.google.com/spreadsheets/d/1bphtMaJ6lFh0VVWIgQh8ZCOchBZqvj0w5rveiNYcTnM/edit#gid=0\"\",\"\"RWA!F:BZ\"\"),49,0))\"),\"\")","v":""},{"$f":"IFERROR(__xludf.DUMMYFUNCTION(\"iferror(VLOOKUP(B139,IMPORTRANGE(\"\"https://docs.google.com/spreadsheets/d/1bphtMaJ6lFh0VVWIgQh8ZCOchBZqvj0w5rveiNYcTnM/edit#gid=0\"\",\"\"RWA!F:BZ\"\"),53,0))\"),\"\")","v":""}]
[null,null,null,{"$f":"IFERROR(__xludf.DUMMYFUNCTION(\"iferror(VLOOKUP(B140,IMPORTRANGE(\"\"https://docs.google.com/spreadsheets/d/1bphtMaJ6lFh0VVWIgQh8ZCOchBZqvj0w5rveiNYcTnM/edit#gid=0\"\",\"\"RWA!F:BZ\"\"),44,0))\"),\"\")","v":""},{"$f":"IFERROR(__xludf.DUMMYFUNCTION(\"iferror(VLOOKUP(B140,IMPORTRANGE(\"\"https://docs.google.com/spreadsheets/d/1bphtMaJ6lFh0VVWIgQh8ZCOchBZqvj0w5rveiNYcTnM/edit#gid=0\"\",\"\"RWA!F:BZ\"\"),48,0))\"),\"\")","v":""},{"$f":"IFERROR(__xludf.DUMMYFUNCTION(\"iferror(VLOOKUP(B140,IMPORTRANGE(\"\"https://docs.google.com/spreadsheets/d/1bphtMaJ6lFh0VVWIgQh8ZCOchBZqvj0w5rveiNYcTnM/edit#gid=0\"\",\"\"RWA!F:BZ\"\"),49,0))\"),\"\")","v":""},{"$f":"IFERROR(__xludf.DUMMYFUNCTION(\"iferror(VLOOKUP(B140,IMPORTRANGE(\"\"https://docs.google.com/spreadsheets/d/1bphtMaJ6lFh0VVWIgQh8ZCOchBZqvj0w5rveiNYcTnM/edit#gid=0\"\",\"\"RWA!F:BZ\"\"),53,0))\"),\"\")","v":""}]
[null,null,null,{"$f":"IFERROR(__xludf.DUMMYFUNCTION(\"iferror(VLOOKUP(B141,IMPORTRANGE(\"\"https://docs.google.com/spreadsheets/d/1bphtMaJ6lFh0VVWIgQh8ZCOchBZqvj0w5rveiNYcTnM/edit#gid=0\"\",\"\"RWA!F:BZ\"\"),44,0))\"),\"\")","v":""},{"$f":"IFERROR(__xludf.DUMMYFUNCTION(\"iferror(VLOOKUP(B141,IMPORTRANGE(\"\"https://docs.google.com/spreadsheets/d/1bphtMaJ6lFh0VVWIgQh8ZCOchBZqvj0w5rveiNYcTnM/edit#gid=0\"\",\"\"RWA!F:BZ\"\"),48,0))\"),\"\")","v":""},{"$f":"IFERROR(__xludf.DUMMYFUNCTION(\"iferror(VLOOKUP(B141,IMPORTRANGE(\"\"https://docs.google.com/spreadsheets/d/1bphtMaJ6lFh0VVWIgQh8ZCOchBZqvj0w5rveiNYcTnM/edit#gid=0\"\",\"\"RWA!F:BZ\"\"),49,0))\"),\"\")","v":""},{"$f":"IFERROR(__xludf.DUMMYFUNCTION(\"iferror(VLOOKUP(B141,IMPORTRANGE(\"\"https://docs.google.com/spreadsheets/d/1bphtMaJ6lFh0VVWIgQh8ZCOchBZqvj0w5rveiNYcTnM/edit#gid=0\"\",\"\"RWA!F:BZ\"\"),53,0))\"),\"\")","v":""}]
[null,null,null,{"$f":"IFERROR(__xludf.DUMMYFUNCTION(\"iferror(VLOOKUP(B142,IMPORTRANGE(\"\"https://docs.google.com/spreadsheets/d/1bphtMaJ6lFh0VVWIgQh8ZCOchBZqvj0w5rveiNYcTnM/edit#gid=0\"\",\"\"RWA!F:BZ\"\"),44,0))\"),\"\")","v":""},{"$f":"IFERROR(__xludf.DUMMYFUNCTION(\"iferror(VLOOKUP(B142,IMPORTRANGE(\"\"https://docs.google.com/spreadsheets/d/1bphtMaJ6lFh0VVWIgQh8ZCOchBZqvj0w5rveiNYcTnM/edit#gid=0\"\",\"\"RWA!F:BZ\"\"),48,0))\"),\"\")","v":""},{"$f":"IFERROR(__xludf.DUMMYFUNCTION(\"iferror(VLOOKUP(B142,IMPORTRANGE(\"\"https://docs.google.com/spreadsheets/d/1bphtMaJ6lFh0VVWIgQh8ZCOchBZqvj0w5rveiNYcTnM/edit#gid=0\"\",\"\"RWA!F:BZ\"\"),49,0))\"),\"\")","v":""},{"$f":"IFERROR(__xludf.DUMMYFUNCTION(\"iferror(VLOOKUP(B142,IMPORTRANGE(\"\"https://docs.google.com/spreadsheets/d/1bphtMaJ6lFh0VVWIgQh8ZCOchBZqvj0w5rveiNYcTnM/edit#gid=0\"\",\"\"RWA!F:BZ\"\"),53,0))\"),\"\")","v":""}]
[null,null,null,{"$f":"IFERROR(__xludf.DUMMYFUNCTION(\"iferror(VLOOKUP(B143,IMPORTRANGE(\"\"https://docs.google.com/spreadsheets/d/1bphtMaJ6lFh0VVWIgQh8ZCOchBZqvj0w5rveiNYcTnM/edit#gid=0\"\",\"\"RWA!F:BZ\"\"),44,0))\"),\"\")","v":""},{"$f":"IFERROR(__xludf.DUMMYFUNCTION(\"iferror(VLOOKUP(B143,IMPORTRANGE(\"\"https://docs.google.com/spreadsheets/d/1bphtMaJ6lFh0VVWIgQh8ZCOchBZqvj0w5rveiNYcTnM/edit#gid=0\"\",\"\"RWA!F:BZ\"\"),48,0))\"),\"\")","v":""},{"$f":"IFERROR(__xludf.DUMMYFUNCTION(\"iferror(VLOOKUP(B143,IMPORTRANGE(\"\"https://docs.google.com/spreadsheets/d/1bphtMaJ6lFh0VVWIgQh8ZCOchBZqvj0w5rveiNYcTnM/edit#gid=0\"\",\"\"RWA!F:BZ\"\"),49,0))\"),\"\")","v":""},{"$f":"IFERROR(__xludf.DUMMYFUNCTION(\"iferror(VLOOKUP(B143,IMPORTRANGE(\"\"https://docs.google.com/spreadsheets/d/1bphtMaJ6lFh0VVWIgQh8ZCOchBZqvj0w5rveiNYcTnM/edit#gid=0\"\",\"\"RWA!F:BZ\"\"),53,0))\"),\"\")","v":""}]
[null,null,null,{"$f":"IFERROR(__xludf.DUMMYFUNCTION(\"iferror(VLOOKUP(B144,IMPORTRANGE(\"\"https://docs.google.com/spreadsheets/d/1bphtMaJ6lFh0VVWIgQh8ZCOchBZqvj0w5rveiNYcTnM/edit#gid=0\"\",\"\"RWA!F:BZ\"\"),44,0))\"),\"\")","v":""},{"$f":"IFERROR(__xludf.DUMMYFUNCTION(\"iferror(VLOOKUP(B144,IMPORTRANGE(\"\"https://docs.google.com/spreadsheets/d/1bphtMaJ6lFh0VVWIgQh8ZCOchBZqvj0w5rveiNYcTnM/edit#gid=0\"\",\"\"RWA!F:BZ\"\"),48,0))\"),\"\")","v":""},{"$f":"IFERROR(__xludf.DUMMYFUNCTION(\"iferror(VLOOKUP(B144,IMPORTRANGE(\"\"https://docs.google.com/spreadsheets/d/1bphtMaJ6lFh0VVWIgQh8ZCOchBZqvj0w5rveiNYcTnM/edit#gid=0\"\",\"\"RWA!F:BZ\"\"),49,0))\"),\"\")","v":""},{"$f":"IFERROR(__xludf.DUMMYFUNCTION(\"iferror(VLOOKUP(B144,IMPORTRANGE(\"\"https://docs.google.com/spreadsheets/d/1bphtMaJ6lFh0VVWIgQh8ZCOchBZqvj0w5rveiNYcTnM/edit#gid=0\"\",\"\"RWA!F:BZ\"\"),53,0))\"),\"\")","v":""}]
[null,null,null,{"$f":"IFERROR(__xludf.DUMMYFUNCTION(\"iferror(VLOOKUP(B145,IMPORTRANGE(\"\"https://docs.google.com/spreadsheets/d/1bphtMaJ6lFh0VVWIgQh8ZCOchBZqvj0w5rveiNYcTnM/edit#gid=0\"\",\"\"RWA!F:BZ\"\"),44,0))\"),\"\")","v":""},{"$f":"IFERROR(__xludf.DUMMYFUNCTION(\"iferror(VLOOKUP(B145,IMPORTRANGE(\"\"https://docs.google.com/spreadsheets/d/1bphtMaJ6lFh0VVWIgQh8ZCOchBZqvj0w5rveiNYcTnM/edit#gid=0\"\",\"\"RWA!F:BZ\"\"),48,0))\"),\"\")","v":""},{"$f":"IFERROR(__xludf.DUMMYFUNCTION(\"iferror(VLOOKUP(B145,IMPORTRANGE(\"\"https://docs.google.com/spreadsheets/d/1bphtMaJ6lFh0VVWIgQh8ZCOchBZqvj0w5rveiNYcTnM/edit#gid=0\"\",\"\"RWA!F:BZ\"\"),49,0))\"),\"\")","v":""},{"$f":"IFERROR(__xludf.DUMMYFUNCTION(\"iferror(VLOOKUP(B145,IMPORTRANGE(\"\"https://docs.google.com/spreadsheets/d/1bphtMaJ6lFh0VVWIgQh8ZCOchBZqvj0w5rveiNYcTnM/edit#gid=0\"\",\"\"RWA!F:BZ\"\"),53,0))\"),\"\")","v":""}]
[null,null,null,{"$f":"IFERROR(__xludf.DUMMYFUNCTION(\"iferror(VLOOKUP(B146,IMPORTRANGE(\"\"https://docs.google.com/spreadsheets/d/1bphtMaJ6lFh0VVWIgQh8ZCOchBZqvj0w5rveiNYcTnM/edit#gid=0\"\",\"\"RWA!F:BZ\"\"),44,0))\"),\"\")","v":""},{"$f":"IFERROR(__xludf.DUMMYFUNCTION(\"iferror(VLOOKUP(B146,IMPORTRANGE(\"\"https://docs.google.com/spreadsheets/d/1bphtMaJ6lFh0VVWIgQh8ZCOchBZqvj0w5rveiNYcTnM/edit#gid=0\"\",\"\"RWA!F:BZ\"\"),48,0))\"),\"\")","v":""},{"$f":"IFERROR(__xludf.DUMMYFUNCTION(\"iferror(VLOOKUP(B146,IMPORTRANGE(\"\"https://docs.google.com/spreadsheets/d/1bphtMaJ6lFh0VVWIgQh8ZCOchBZqvj0w5rveiNYcTnM/edit#gid=0\"\",\"\"RWA!F:BZ\"\"),49,0))\"),\"\")","v":""},{"$f":"IFERROR(__xludf.DUMMYFUNCTION(\"iferror(VLOOKUP(B146,IMPORTRANGE(\"\"https://docs.google.com/spreadsheets/d/1bphtMaJ6lFh0VVWIgQh8ZCOchBZqvj0w5rveiNYcTnM/edit#gid=0\"\",\"\"RWA!F:BZ\"\"),53,0))\"),\"\")","v":""}]
[null,null,null,{"$f":"IFERROR(__xludf.DUMMYFUNCTION(\"iferror(VLOOKUP(B147,IMPORTRANGE(\"\"https://docs.google.com/spreadsheets/d/1bphtMaJ6lFh0VVWIgQh8ZCOchBZqvj0w5rveiNYcTnM/edit#gid=0\"\",\"\"RWA!F:BZ\"\"),44,0))\"),\"\")","v":""},{"$f":"IFERROR(__xludf.DUMMYFUNCTION(\"iferror(VLOOKUP(B147,IMPORTRANGE(\"\"https://docs.google.com/spreadsheets/d/1bphtMaJ6lFh0VVWIgQh8ZCOchBZqvj0w5rveiNYcTnM/edit#gid=0\"\",\"\"RWA!F:BZ\"\"),48,0))\"),\"\")","v":""},{"$f":"IFERROR(__xludf.DUMMYFUNCTION(\"iferror(VLOOKUP(B147,IMPORTRANGE(\"\"https://docs.google.com/spreadsheets/d/1bphtMaJ6lFh0VVWIgQh8ZCOchBZqvj0w5rveiNYcTnM/edit#gid=0\"\",\"\"RWA!F:BZ\"\"),49,0))\"),\"\")","v":""},{"$f":"IFERROR(__xludf.DUMMYFUNCTION(\"iferror(VLOOKUP(B147,IMPORTRANGE(\"\"https://docs.google.com/spreadsheets/d/1bphtMaJ6lFh0VVWIgQh8ZCOchBZqvj0w5rveiNYcTnM/edit#gid=0\"\",\"\"RWA!F:BZ\"\"),53,0))\"),\"\")","v":""}]
[null,null,null,{"$f":"IFERROR(__xludf.DUMMYFUNCTION(\"iferror(VLOOKUP(B148,IMPORTRANGE(\"\"https://docs.google.com/spreadsheets/d/1bphtMaJ6lFh0VVWIgQh8ZCOchBZqvj0w5rveiNYcTnM/edit#gid=0\"\",\"\"RWA!F:BZ\"\"),44,0))\"),\"\")","v":""},{"$f":"IFERROR(__xludf.DUMMYFUNCTION(\"iferror(VLOOKUP(B148,IMPORTRANGE(\"\"https://docs.google.com/spreadsheets/d/1bphtMaJ6lFh0VVWIgQh8ZCOchBZqvj0w5rveiNYcTnM/edit#gid=0\"\",\"\"RWA!F:BZ\"\"),48,0))\"),\"\")","v":""},{"$f":"IFERROR(__xludf.DUMMYFUNCTION(\"iferror(VLOOKUP(B148,IMPORTRANGE(\"\"https://docs.google.com/spreadsheets/d/1bphtMaJ6lFh0VVWIgQh8ZCOchBZqvj0w5rveiNYcTnM/edit#gid=0\"\",\"\"RWA!F:BZ\"\"),49,0))\"),\"\")","v":""},{"$f":"IFERROR(__xludf.DUMMYFUNCTION(\"iferror(VLOOKUP(B148,IMPORTRANGE(\"\"https://docs.google.com/spreadsheets/d/1bphtMaJ6lFh0VVWIgQh8ZCOchBZqvj0w5rveiNYcTnM/edit#gid=0\"\",\"\"RWA!F:BZ\"\"),53,0))\"),\"\")","v":""}]
[null,null,null,{"$f":"IFERROR(__xludf.DUMMYFUNCTION(\"iferror(VLOOKUP(B149,IMPORTRANGE(\"\"https://docs.google.com/spreadsheets/d/1bphtMaJ6lFh0VVWIgQh8ZCOchBZqvj0w5rveiNYcTnM/edit#gid=0\"\",\"\"RWA!F:BZ\"\"),44,0))\"),\"\")","v":""},{"$f":"IFERROR(__xludf.DUMMYFUNCTION(\"iferror(VLOOKUP(B149,IMPORTRANGE(\"\"https://docs.google.com/spreadsheets/d/1bphtMaJ6lFh0VVWIgQh8ZCOchBZqvj0w5rveiNYcTnM/edit#gid=0\"\",\"\"RWA!F:BZ\"\"),48,0))\"),\"\")","v":""},{"$f":"IFERROR(__xludf.DUMMYFUNCTION(\"iferror(VLOOKUP(B149,IMPORTRANGE(\"\"https://docs.google.com/spreadsheets/d/1bphtMaJ6lFh0VVWIgQh8ZCOchBZqvj0w5rveiNYcTnM/edit#gid=0\"\",\"\"RWA!F:BZ\"\"),49,0))\"),\"\")","v":""},{"$f":"IFERROR(__xludf.DUMMYFUNCTION(\"iferror(VLOOKUP(B149,IMPORTRANGE(\"\"https://docs.google.com/spreadsheets/d/1bphtMaJ6lFh0VVWIgQh8ZCOchBZqvj0w5rveiNYcTnM/edit#gid=0\"\",\"\"RWA!F:BZ\"\"),53,0))\"),\"\")","v":""}]
[null,null,null,{"$f":"IFERROR(__xludf.DUMMYFUNCTION(\"iferror(VLOOKUP(B150,IMPORTRANGE(\"\"https://docs.google.com/spreadsheets/d/1bphtMaJ6lFh0VVWIgQh8ZCOchBZqvj0w5rveiNYcTnM/edit#gid=0\"\",\"\"RWA!F:BZ\"\"),44,0))\"),\"\")","v":""},{"$f":"IFERROR(__xludf.DUMMYFUNCTION(\"iferror(VLOOKUP(B150,IMPORTRANGE(\"\"https://docs.google.com/spreadsheets/d/1bphtMaJ6lFh0VVWIgQh8ZCOchBZqvj0w5rveiNYcTnM/edit#gid=0\"\",\"\"RWA!F:BZ\"\"),48,0))\"),\"\")","v":""},{"$f":"IFERROR(__xludf.DUMMYFUNCTION(\"iferror(VLOOKUP(B150,IMPORTRANGE(\"\"https://docs.google.com/spreadsheets/d/1bphtMaJ6lFh0VVWIgQh8ZCOchBZqvj0w5rveiNYcTnM/edit#gid=0\"\",\"\"RWA!F:BZ\"\"),49,0))\"),\"\")","v":""},{"$f":"IFERROR(__xludf.DUMMYFUNCTION(\"iferror(VLOOKUP(B150,IMPORTRANGE(\"\"https://docs.google.com/spreadsheets/d/1bphtMaJ6lFh0VVWIgQh8ZCOchBZqvj0w5rveiNYcTnM/edit#gid=0\"\",\"\"RWA!F:BZ\"\"),53,0))\"),\"\")","v":""}]
[null,null,null,{"$f":"IFERROR(__xludf.DUMMYFUNCTION(\"iferror(VLOOKUP(B151,IMPORTRANGE(\"\"https://docs.google.com/spreadsheets/d/1bphtMaJ6lFh0VVWIgQh8ZCOchBZqvj0w5rveiNYcTnM/edit#gid=0\"\",\"\"RWA!F:BZ\"\"),44,0))\"),\"\")","v":""},{"$f":"IFERROR(__xludf.DUMMYFUNCTION(\"iferror(VLOOKUP(B151,IMPORTRANGE(\"\"https://docs.google.com/spreadsheets/d/1bphtMaJ6lFh0VVWIgQh8ZCOchBZqvj0w5rveiNYcTnM/edit#gid=0\"\",\"\"RWA!F:BZ\"\"),48,0))\"),\"\")","v":""},{"$f":"IFERROR(__xludf.DUMMYFUNCTION(\"iferror(VLOOKUP(B151,IMPORTRANGE(\"\"https://docs.google.com/spreadsheets/d/1bphtMaJ6lFh0VVWIgQh8ZCOchBZqvj0w5rveiNYcTnM/edit#gid=0\"\",\"\"RWA!F:BZ\"\"),49,0))\"),\"\")","v":""},{"$f":"IFERROR(__xludf.DUMMYFUNCTION(\"iferror(VLOOKUP(B151,IMPORTRANGE(\"\"https://docs.google.com/spreadsheets/d/1bphtMaJ6lFh0VVWIgQh8ZCOchBZqvj0w5rveiNYcTnM/edit#gid=0\"\",\"\"RWA!F:BZ\"\"),53,0))\"),\"\")","v":""}]
[null,null,null,{"$f":"IFERROR(__xludf.DUMMYFUNCTION(\"iferror(VLOOKUP(B152,IMPORTRANGE(\"\"https://docs.google.com/spreadsheets/d/1bphtMaJ6lFh0VVWIgQh8ZCOchBZqvj0w5rveiNYcTnM/edit#gid=0\"\",\"\"RWA!F:BZ\"\"),44,0))\"),\"\")","v":""},{"$f":"IFERROR(__xludf.DUMMYFUNCTION(\"iferror(VLOOKUP(B152,IMPORTRANGE(\"\"https://docs.google.com/spreadsheets/d/1bphtMaJ6lFh0VVWIgQh8ZCOchBZqvj0w5rveiNYcTnM/edit#gid=0\"\",\"\"RWA!F:BZ\"\"),48,0))\"),\"\")","v":""},{"$f":"IFERROR(__xludf.DUMMYFUNCTION(\"iferror(VLOOKUP(B152,IMPORTRANGE(\"\"https://docs.google.com/spreadsheets/d/1bphtMaJ6lFh0VVWIgQh8ZCOchBZqvj0w5rveiNYcTnM/edit#gid=0\"\",\"\"RWA!F:BZ\"\"),49,0))\"),\"\")","v":""},{"$f":"IFERROR(__xludf.DUMMYFUNCTION(\"iferror(VLOOKUP(B152,IMPORTRANGE(\"\"https://docs.google.com/spreadsheets/d/1bphtMaJ6lFh0VVWIgQh8ZCOchBZqvj0w5rveiNYcTnM/edit#gid=0\"\",\"\"RWA!F:BZ\"\"),53,0))\"),\"\")","v":""}]
[null,null,null,{"$f":"IFERROR(__xludf.DUMMYFUNCTION(\"iferror(VLOOKUP(B153,IMPORTRANGE(\"\"https://docs.google.com/spreadsheets/d/1bphtMaJ6lFh0VVWIgQh8ZCOchBZqvj0w5rveiNYcTnM/edit#gid=0\"\",\"\"RWA!F:BZ\"\"),44,0))\"),\"\")","v":""},{"$f":"IFERROR(__xludf.DUMMYFUNCTION(\"iferror(VLOOKUP(B153,IMPORTRANGE(\"\"https://docs.google.com/spreadsheets/d/1bphtMaJ6lFh0VVWIgQh8ZCOchBZqvj0w5rveiNYcTnM/edit#gid=0\"\",\"\"RWA!F:BZ\"\"),48,0))\"),\"\")","v":""},{"$f":"IFERROR(__xludf.DUMMYFUNCTION(\"iferror(VLOOKUP(B153,IMPORTRANGE(\"\"https://docs.google.com/spreadsheets/d/1bphtMaJ6lFh0VVWIgQh8ZCOchBZqvj0w5rveiNYcTnM/edit#gid=0\"\",\"\"RWA!F:BZ\"\"),49,0))\"),\"\")","v":""},{"$f":"IFERROR(__xludf.DUMMYFUNCTION(\"iferror(VLOOKUP(B153,IMPORTRANGE(\"\"https://docs.google.com/spreadsheets/d/1bphtMaJ6lFh0VVWIgQh8ZCOchBZqvj0w5rveiNYcTnM/edit#gid=0\"\",\"\"RWA!F:BZ\"\"),53,0))\"),\"\")","v":""}]
[null,null,null,{"$f":"IFERROR(__xludf.DUMMYFUNCTION(\"iferror(VLOOKUP(B154,IMPORTRANGE(\"\"https://docs.google.com/spreadsheets/d/1bphtMaJ6lFh0VVWIgQh8ZCOchBZqvj0w5rveiNYcTnM/edit#gid=0\"\",\"\"RWA!F:BZ\"\"),44,0))\"),\"\")","v":""},{"$f":"IFERROR(__xludf.DUMMYFUNCTION(\"iferror(VLOOKUP(B154,IMPORTRANGE(\"\"https://docs.google.com/spreadsheets/d/1bphtMaJ6lFh0VVWIgQh8ZCOchBZqvj0w5rveiNYcTnM/edit#gid=0\"\",\"\"RWA!F:BZ\"\"),48,0))\"),\"\")","v":""},{"$f":"IFERROR(__xludf.DUMMYFUNCTION(\"iferror(VLOOKUP(B154,IMPORTRANGE(\"\"https://docs.google.com/spreadsheets/d/1bphtMaJ6lFh0VVWIgQh8ZCOchBZqvj0w5rveiNYcTnM/edit#gid=0\"\",\"\"RWA!F:BZ\"\"),49,0))\"),\"\")","v":""},{"$f":"IFERROR(__xludf.DUMMYFUNCTION(\"iferror(VLOOKUP(B154,IMPORTRANGE(\"\"https://docs.google.com/spreadsheets/d/1bphtMaJ6lFh0VVWIgQh8ZCOchBZqvj0w5rveiNYcTnM/edit#gid=0\"\",\"\"RWA!F:BZ\"\"),53,0))\"),\"\")","v":""}]
[null,null,null,{"$f":"IFERROR(__xludf.DUMMYFUNCTION(\"iferror(VLOOKUP(B155,IMPORTRANGE(\"\"https://docs.google.com/spreadsheets/d/1bphtMaJ6lFh0VVWIgQh8ZCOchBZqvj0w5rveiNYcTnM/edit#gid=0\"\",\"\"RWA!F:BZ\"\"),44,0))\"),\"\")","v":""},{"$f":"IFERROR(__xludf.DUMMYFUNCTION(\"iferror(VLOOKUP(B155,IMPORTRANGE(\"\"https://docs.google.com/spreadsheets/d/1bphtMaJ6lFh0VVWIgQh8ZCOchBZqvj0w5rveiNYcTnM/edit#gid=0\"\",\"\"RWA!F:BZ\"\"),48,0))\"),\"\")","v":""},{"$f":"IFERROR(__xludf.DUMMYFUNCTION(\"iferror(VLOOKUP(B155,IMPORTRANGE(\"\"https://docs.google.com/spreadsheets/d/1bphtMaJ6lFh0VVWIgQh8ZCOchBZqvj0w5rveiNYcTnM/edit#gid=0\"\",\"\"RWA!F:BZ\"\"),49,0))\"),\"\")","v":""},{"$f":"IFERROR(__xludf.DUMMYFUNCTION(\"iferror(VLOOKUP(B155,IMPORTRANGE(\"\"https://docs.google.com/spreadsheets/d/1bphtMaJ6lFh0VVWIgQh8ZCOchBZqvj0w5rveiNYcTnM/edit#gid=0\"\",\"\"RWA!F:BZ\"\"),53,0))\"),\"\")","v":""}]
[null,null,null,{"$f":"IFERROR(__xludf.DUMMYFUNCTION(\"iferror(VLOOKUP(B156,IMPORTRANGE(\"\"https://docs.google.com/spreadsheets/d/1bphtMaJ6lFh0VVWIgQh8ZCOchBZqvj0w5rveiNYcTnM/edit#gid=0\"\",\"\"RWA!F:BZ\"\"),44,0))\"),\"\")","v":""},{"$f":"IFERROR(__xludf.DUMMYFUNCTION(\"iferror(VLOOKUP(B156,IMPORTRANGE(\"\"https://docs.google.com/spreadsheets/d/1bphtMaJ6lFh0VVWIgQh8ZCOchBZqvj0w5rveiNYcTnM/edit#gid=0\"\",\"\"RWA!F:BZ\"\"),48,0))\"),\"\")","v":""},{"$f":"IFERROR(__xludf.DUMMYFUNCTION(\"iferror(VLOOKUP(B156,IMPORTRANGE(\"\"https://docs.google.com/spreadsheets/d/1bphtMaJ6lFh0VVWIgQh8ZCOchBZqvj0w5rveiNYcTnM/edit#gid=0\"\",\"\"RWA!F:BZ\"\"),49,0))\"),\"\")","v":""},{"$f":"IFERROR(__xludf.DUMMYFUNCTION(\"iferror(VLOOKUP(B156,IMPORTRANGE(\"\"https://docs.google.com/spreadsheets/d/1bphtMaJ6lFh0VVWIgQh8ZCOchBZqvj0w5rveiNYcTnM/edit#gid=0\"\",\"\"RWA!F:BZ\"\"),53,0))\"),\"\")","v":""}]
[null,null,null,{"$f":"IFERROR(__xludf.DUMMYFUNCTION(\"iferror(VLOOKUP(B157,IMPORTRANGE(\"\"https://docs.google.com/spreadsheets/d/1bphtMaJ6lFh0VVWIgQh8ZCOchBZqvj0w5rveiNYcTnM/edit#gid=0\"\",\"\"RWA!F:BZ\"\"),44,0))\"),\"\")","v":""},{"$f":"IFERROR(__xludf.DUMMYFUNCTION(\"iferror(VLOOKUP(B157,IMPORTRANGE(\"\"https://docs.google.com/spreadsheets/d/1bphtMaJ6lFh0VVWIgQh8ZCOchBZqvj0w5rveiNYcTnM/edit#gid=0\"\",\"\"RWA!F:BZ\"\"),48,0))\"),\"\")","v":""},{"$f":"IFERROR(__xludf.DUMMYFUNCTION(\"iferror(VLOOKUP(B157,IMPORTRANGE(\"\"https://docs.google.com/spreadsheets/d/1bphtMaJ6lFh0VVWIgQh8ZCOchBZqvj0w5rveiNYcTnM/edit#gid=0\"\",\"\"RWA!F:BZ\"\"),49,0))\"),\"\")","v":""},{"$f":"IFERROR(__xludf.DUMMYFUNCTION(\"iferror(VLOOKUP(B157,IMPORTRANGE(\"\"https://docs.google.com/spreadsheets/d/1bphtMaJ6lFh0VVWIgQh8ZCOchBZqvj0w5rveiNYcTnM/edit#gid=0\"\",\"\"RWA!F:BZ\"\"),53,0))\"),\"\")","v":""}]
[null,null,null,{"$f":"IFERROR(__xludf.DUMMYFUNCTION(\"iferror(VLOOKUP(B158,IMPORTRANGE(\"\"https://docs.google.com/spreadsheets/d/1bphtMaJ6lFh0VVWIgQh8ZCOchBZqvj0w5rveiNYcTnM/edit#gid=0\"\",\"\"RWA!F:BZ\"\"),44,0))\"),\"\")","v":""},{"$f":"IFERROR(__xludf.DUMMYFUNCTION(\"iferror(VLOOKUP(B158,IMPORTRANGE(\"\"https://docs.google.com/spreadsheets/d/1bphtMaJ6lFh0VVWIgQh8ZCOchBZqvj0w5rveiNYcTnM/edit#gid=0\"\",\"\"RWA!F:BZ\"\"),48,0))\"),\"\")","v":""},{"$f":"IFERROR(__xludf.DUMMYFUNCTION(\"iferror(VLOOKUP(B158,IMPORTRANGE(\"\"https://docs.google.com/spreadsheets/d/1bphtMaJ6lFh0VVWIgQh8ZCOchBZqvj0w5rveiNYcTnM/edit#gid=0\"\",\"\"RWA!F:BZ\"\"),49,0))\"),\"\")","v":""},{"$f":"IFERROR(__xludf.DUMMYFUNCTION(\"iferror(VLOOKUP(B158,IMPORTRANGE(\"\"https://docs.google.com/spreadsheets/d/1bphtMaJ6lFh0VVWIgQh8ZCOchBZqvj0w5rveiNYcTnM/edit#gid=0\"\",\"\"RWA!F:BZ\"\"),53,0))\"),\"\")","v":""}]
[null,null,null,{"$f":"IFERROR(__xludf.DUMMYFUNCTION(\"iferror(VLOOKUP(B159,IMPORTRANGE(\"\"https://docs.google.com/spreadsheets/d/1bphtMaJ6lFh0VVWIgQh8ZCOchBZqvj0w5rveiNYcTnM/edit#gid=0\"\",\"\"RWA!F:BZ\"\"),44,0))\"),\"\")","v":""},{"$f":"IFERROR(__xludf.DUMMYFUNCTION(\"iferror(VLOOKUP(B159,IMPORTRANGE(\"\"https://docs.google.com/spreadsheets/d/1bphtMaJ6lFh0VVWIgQh8ZCOchBZqvj0w5rveiNYcTnM/edit#gid=0\"\",\"\"RWA!F:BZ\"\"),48,0))\"),\"\")","v":""},{"$f":"IFERROR(__xludf.DUMMYFUNCTION(\"iferror(VLOOKUP(B159,IMPORTRANGE(\"\"https://docs.google.com/spreadsheets/d/1bphtMaJ6lFh0VVWIgQh8ZCOchBZqvj0w5rveiNYcTnM/edit#gid=0\"\",\"\"RWA!F:BZ\"\"),49,0))\"),\"\")","v":""},{"$f":"IFERROR(__xludf.DUMMYFUNCTION(\"iferror(VLOOKUP(B159,IMPORTRANGE(\"\"https://docs.google.com/spreadsheets/d/1bphtMaJ6lFh0VVWIgQh8ZCOchBZqvj0w5rveiNYcTnM/edit#gid=0\"\",\"\"RWA!F:BZ\"\"),53,0))\"),\"\")","v":""}]
[null,null,null,{"$f":"IFERROR(__xludf.DUMMYFUNCTION(\"iferror(VLOOKUP(B160,IMPORTRANGE(\"\"https://docs.google.com/spreadsheets/d/1bphtMaJ6lFh0VVWIgQh8ZCOchBZqvj0w5rveiNYcTnM/edit#gid=0\"\",\"\"RWA!F:BZ\"\"),44,0))\"),\"\")","v":""},{"$f":"IFERROR(__xludf.DUMMYFUNCTION(\"iferror(VLOOKUP(B160,IMPORTRANGE(\"\"https://docs.google.com/spreadsheets/d/1bphtMaJ6lFh0VVWIgQh8ZCOchBZqvj0w5rveiNYcTnM/edit#gid=0\"\",\"\"RWA!F:BZ\"\"),48,0))\"),\"\")","v":""},{"$f":"IFERROR(__xludf.DUMMYFUNCTION(\"iferror(VLOOKUP(B160,IMPORTRANGE(\"\"https://docs.google.com/spreadsheets/d/1bphtMaJ6lFh0VVWIgQh8ZCOchBZqvj0w5rveiNYcTnM/edit#gid=0\"\",\"\"RWA!F:BZ\"\"),49,0))\"),\"\")","v":""},{"$f":"IFERROR(__xludf.DUMMYFUNCTION(\"iferror(VLOOKUP(B160,IMPORTRANGE(\"\"https://docs.google.com/spreadsheets/d/1bphtMaJ6lFh0VVWIgQh8ZCOchBZqvj0w5rveiNYcTnM/edit#gid=0\"\",\"\"RWA!F:BZ\"\"),53,0))\"),\"\")","v":""}]
[null,null,null,{"$f":"IFERROR(__xludf.DUMMYFUNCTION(\"iferror(VLOOKUP(B161,IMPORTRANGE(\"\"https://docs.google.com/spreadsheets/d/1bphtMaJ6lFh0VVWIgQh8ZCOchBZqvj0w5rveiNYcTnM/edit#gid=0\"\",\"\"RWA!F:BZ\"\"),44,0))\"),\"\")","v":""},{"$f":"IFERROR(__xludf.DUMMYFUNCTION(\"iferror(VLOOKUP(B161,IMPORTRANGE(\"\"https://docs.google.com/spreadsheets/d/1bphtMaJ6lFh0VVWIgQh8ZCOchBZqvj0w5rveiNYcTnM/edit#gid=0\"\",\"\"RWA!F:BZ\"\"),48,0))\"),\"\")","v":""},{"$f":"IFERROR(__xludf.DUMMYFUNCTION(\"iferror(VLOOKUP(B161,IMPORTRANGE(\"\"https://docs.google.com/spreadsheets/d/1bphtMaJ6lFh0VVWIgQh8ZCOchBZqvj0w5rveiNYcTnM/edit#gid=0\"\",\"\"RWA!F:BZ\"\"),49,0))\"),\"\")","v":""},{"$f":"IFERROR(__xludf.DUMMYFUNCTION(\"iferror(VLOOKUP(B161,IMPORTRANGE(\"\"https://docs.google.com/spreadsheets/d/1bphtMaJ6lFh0VVWIgQh8ZCOchBZqvj0w5rveiNYcTnM/edit#gid=0\"\",\"\"RWA!F:BZ\"\"),53,0))\"),\"\")","v":""}]
[null,null,null,{"$f":"IFERROR(__xludf.DUMMYFUNCTION(\"iferror(VLOOKUP(B162,IMPORTRANGE(\"\"https://docs.google.com/spreadsheets/d/1bphtMaJ6lFh0VVWIgQh8ZCOchBZqvj0w5rveiNYcTnM/edit#gid=0\"\",\"\"RWA!F:BZ\"\"),44,0))\"),\"\")","v":""},{"$f":"IFERROR(__xludf.DUMMYFUNCTION(\"iferror(VLOOKUP(B162,IMPORTRANGE(\"\"https://docs.google.com/spreadsheets/d/1bphtMaJ6lFh0VVWIgQh8ZCOchBZqvj0w5rveiNYcTnM/edit#gid=0\"\",\"\"RWA!F:BZ\"\"),48,0))\"),\"\")","v":""},{"$f":"IFERROR(__xludf.DUMMYFUNCTION(\"iferror(VLOOKUP(B162,IMPORTRANGE(\"\"https://docs.google.com/spreadsheets/d/1bphtMaJ6lFh0VVWIgQh8ZCOchBZqvj0w5rveiNYcTnM/edit#gid=0\"\",\"\"RWA!F:BZ\"\"),49,0))\"),\"\")","v":""},{"$f":"IFERROR(__xludf.DUMMYFUNCTION(\"iferror(VLOOKUP(B162,IMPORTRANGE(\"\"https://docs.google.com/spreadsheets/d/1bphtMaJ6lFh0VVWIgQh8ZCOchBZqvj0w5rveiNYcTnM/edit#gid=0\"\",\"\"RWA!F:BZ\"\"),53,0))\"),\"\")","v":""}]
[null,null,null,{"$f":"IFERROR(__xludf.DUMMYFUNCTION(\"iferror(VLOOKUP(B163,IMPORTRANGE(\"\"https://docs.google.com/spreadsheets/d/1bphtMaJ6lFh0VVWIgQh8ZCOchBZqvj0w5rveiNYcTnM/edit#gid=0\"\",\"\"RWA!F:BZ\"\"),44,0))\"),\"\")","v":""},{"$f":"IFERROR(__xludf.DUMMYFUNCTION(\"iferror(VLOOKUP(B163,IMPORTRANGE(\"\"https://docs.google.com/spreadsheets/d/1bphtMaJ6lFh0VVWIgQh8ZCOchBZqvj0w5rveiNYcTnM/edit#gid=0\"\",\"\"RWA!F:BZ\"\"),48,0))\"),\"\")","v":""},{"$f":"IFERROR(__xludf.DUMMYFUNCTION(\"iferror(VLOOKUP(B163,IMPORTRANGE(\"\"https://docs.google.com/spreadsheets/d/1bphtMaJ6lFh0VVWIgQh8ZCOchBZqvj0w5rveiNYcTnM/edit#gid=0\"\",\"\"RWA!F:BZ\"\"),49,0))\"),\"\")","v":""},{"$f":"IFERROR(__xludf.DUMMYFUNCTION(\"iferror(VLOOKUP(B163,IMPORTRANGE(\"\"https://docs.google.com/spreadsheets/d/1bphtMaJ6lFh0VVWIgQh8ZCOchBZqvj0w5rveiNYcTnM/edit#gid=0\"\",\"\"RWA!F:BZ\"\"),53,0))\"),\"\")","v":""}]
[null,null,null,{"$f":"IFERROR(__xludf.DUMMYFUNCTION(\"iferror(VLOOKUP(B164,IMPORTRANGE(\"\"https://docs.google.com/spreadsheets/d/1bphtMaJ6lFh0VVWIgQh8ZCOchBZqvj0w5rveiNYcTnM/edit#gid=0\"\",\"\"RWA!F:BZ\"\"),44,0))\"),\"\")","v":""},{"$f":"IFERROR(__xludf.DUMMYFUNCTION(\"iferror(VLOOKUP(B164,IMPORTRANGE(\"\"https://docs.google.com/spreadsheets/d/1bphtMaJ6lFh0VVWIgQh8ZCOchBZqvj0w5rveiNYcTnM/edit#gid=0\"\",\"\"RWA!F:BZ\"\"),48,0))\"),\"\")","v":""},{"$f":"IFERROR(__xludf.DUMMYFUNCTION(\"iferror(VLOOKUP(B164,IMPORTRANGE(\"\"https://docs.google.com/spreadsheets/d/1bphtMaJ6lFh0VVWIgQh8ZCOchBZqvj0w5rveiNYcTnM/edit#gid=0\"\",\"\"RWA!F:BZ\"\"),49,0))\"),\"\")","v":""},{"$f":"IFERROR(__xludf.DUMMYFUNCTION(\"iferror(VLOOKUP(B164,IMPORTRANGE(\"\"https://docs.google.com/spreadsheets/d/1bphtMaJ6lFh0VVWIgQh8ZCOchBZqvj0w5rveiNYcTnM/edit#gid=0\"\",\"\"RWA!F:BZ\"\"),53,0))\"),\"\")","v":""}]
[null,null,null,{"$f":"IFERROR(__xludf.DUMMYFUNCTION(\"iferror(VLOOKUP(B165,IMPORTRANGE(\"\"https://docs.google.com/spreadsheets/d/1bphtMaJ6lFh0VVWIgQh8ZCOchBZqvj0w5rveiNYcTnM/edit#gid=0\"\",\"\"RWA!F:BZ\"\"),44,0))\"),\"\")","v":""},{"$f":"IFERROR(__xludf.DUMMYFUNCTION(\"iferror(VLOOKUP(B165,IMPORTRANGE(\"\"https://docs.google.com/spreadsheets/d/1bphtMaJ6lFh0VVWIgQh8ZCOchBZqvj0w5rveiNYcTnM/edit#gid=0\"\",\"\"RWA!F:BZ\"\"),48,0))\"),\"\")","v":""},{"$f":"IFERROR(__xludf.DUMMYFUNCTION(\"iferror(VLOOKUP(B165,IMPORTRANGE(\"\"https://docs.google.com/spreadsheets/d/1bphtMaJ6lFh0VVWIgQh8ZCOchBZqvj0w5rveiNYcTnM/edit#gid=0\"\",\"\"RWA!F:BZ\"\"),49,0))\"),\"\")","v":""},{"$f":"IFERROR(__xludf.DUMMYFUNCTION(\"iferror(VLOOKUP(B165,IMPORTRANGE(\"\"https://docs.google.com/spreadsheets/d/1bphtMaJ6lFh0VVWIgQh8ZCOchBZqvj0w5rveiNYcTnM/edit#gid=0\"\",\"\"RWA!F:BZ\"\"),53,0))\"),\"\")","v":""}]
[null,null,null,{"$f":"IFERROR(__xludf.DUMMYFUNCTION(\"iferror(VLOOKUP(B166,IMPORTRANGE(\"\"https://docs.google.com/spreadsheets/d/1bphtMaJ6lFh0VVWIgQh8ZCOchBZqvj0w5rveiNYcTnM/edit#gid=0\"\",\"\"RWA!F:BZ\"\"),44,0))\"),\"\")","v":""},{"$f":"IFERROR(__xludf.DUMMYFUNCTION(\"iferror(VLOOKUP(B166,IMPORTRANGE(\"\"https://docs.google.com/spreadsheets/d/1bphtMaJ6lFh0VVWIgQh8ZCOchBZqvj0w5rveiNYcTnM/edit#gid=0\"\",\"\"RWA!F:BZ\"\"),48,0))\"),\"\")","v":""},{"$f":"IFERROR(__xludf.DUMMYFUNCTION(\"iferror(VLOOKUP(B166,IMPORTRANGE(\"\"https://docs.google.com/spreadsheets/d/1bphtMaJ6lFh0VVWIgQh8ZCOchBZqvj0w5rveiNYcTnM/edit#gid=0\"\",\"\"RWA!F:BZ\"\"),49,0))\"),\"\")","v":""},{"$f":"IFERROR(__xludf.DUMMYFUNCTION(\"iferror(VLOOKUP(B166,IMPORTRANGE(\"\"https://docs.google.com/spreadsheets/d/1bphtMaJ6lFh0VVWIgQh8ZCOchBZqvj0w5rveiNYcTnM/edit#gid=0\"\",\"\"RWA!F:BZ\"\"),53,0))\"),\"\")","v":""}]
[null,null,null,{"$f":"IFERROR(__xludf.DUMMYFUNCTION(\"iferror(VLOOKUP(B167,IMPORTRANGE(\"\"https://docs.google.com/spreadsheets/d/1bphtMaJ6lFh0VVWIgQh8ZCOchBZqvj0w5rveiNYcTnM/edit#gid=0\"\",\"\"RWA!F:BZ\"\"),44,0))\"),\"\")","v":""},{"$f":"IFERROR(__xludf.DUMMYFUNCTION(\"iferror(VLOOKUP(B167,IMPORTRANGE(\"\"https://docs.google.com/spreadsheets/d/1bphtMaJ6lFh0VVWIgQh8ZCOchBZqvj0w5rveiNYcTnM/edit#gid=0\"\",\"\"RWA!F:BZ\"\"),48,0))\"),\"\")","v":""},{"$f":"IFERROR(__xludf.DUMMYFUNCTION(\"iferror(VLOOKUP(B167,IMPORTRANGE(\"\"https://docs.google.com/spreadsheets/d/1bphtMaJ6lFh0VVWIgQh8ZCOchBZqvj0w5rveiNYcTnM/edit#gid=0\"\",\"\"RWA!F:BZ\"\"),49,0))\"),\"\")","v":""},{"$f":"IFERROR(__xludf.DUMMYFUNCTION(\"iferror(VLOOKUP(B167,IMPORTRANGE(\"\"https://docs.google.com/spreadsheets/d/1bphtMaJ6lFh0VVWIgQh8ZCOchBZqvj0w5rveiNYcTnM/edit#gid=0\"\",\"\"RWA!F:BZ\"\"),53,0))\"),\"\")","v":""}]
[null,null,null,{"$f":"IFERROR(__xludf.DUMMYFUNCTION(\"iferror(VLOOKUP(B168,IMPORTRANGE(\"\"https://docs.google.com/spreadsheets/d/1bphtMaJ6lFh0VVWIgQh8ZCOchBZqvj0w5rveiNYcTnM/edit#gid=0\"\",\"\"RWA!F:BZ\"\"),44,0))\"),\"\")","v":""},{"$f":"IFERROR(__xludf.DUMMYFUNCTION(\"iferror(VLOOKUP(B168,IMPORTRANGE(\"\"https://docs.google.com/spreadsheets/d/1bphtMaJ6lFh0VVWIgQh8ZCOchBZqvj0w5rveiNYcTnM/edit#gid=0\"\",\"\"RWA!F:BZ\"\"),48,0))\"),\"\")","v":""},{"$f":"IFERROR(__xludf.DUMMYFUNCTION(\"iferror(VLOOKUP(B168,IMPORTRANGE(\"\"https://docs.google.com/spreadsheets/d/1bphtMaJ6lFh0VVWIgQh8ZCOchBZqvj0w5rveiNYcTnM/edit#gid=0\"\",\"\"RWA!F:BZ\"\"),49,0))\"),\"\")","v":""},{"$f":"IFERROR(__xludf.DUMMYFUNCTION(\"iferror(VLOOKUP(B168,IMPORTRANGE(\"\"https://docs.google.com/spreadsheets/d/1bphtMaJ6lFh0VVWIgQh8ZCOchBZqvj0w5rveiNYcTnM/edit#gid=0\"\",\"\"RWA!F:BZ\"\"),53,0))\"),\"\")","v":""}]
[null,null,null,{"$f":"IFERROR(__xludf.DUMMYFUNCTION(\"iferror(VLOOKUP(B169,IMPORTRANGE(\"\"https://docs.google.com/spreadsheets/d/1bphtMaJ6lFh0VVWIgQh8ZCOchBZqvj0w5rveiNYcTnM/edit#gid=0\"\",\"\"RWA!F:BZ\"\"),44,0))\"),\"\")","v":""},{"$f":"IFERROR(__xludf.DUMMYFUNCTION(\"iferror(VLOOKUP(B169,IMPORTRANGE(\"\"https://docs.google.com/spreadsheets/d/1bphtMaJ6lFh0VVWIgQh8ZCOchBZqvj0w5rveiNYcTnM/edit#gid=0\"\",\"\"RWA!F:BZ\"\"),48,0))\"),\"\")","v":""},{"$f":"IFERROR(__xludf.DUMMYFUNCTION(\"iferror(VLOOKUP(B169,IMPORTRANGE(\"\"https://docs.google.com/spreadsheets/d/1bphtMaJ6lFh0VVWIgQh8ZCOchBZqvj0w5rveiNYcTnM/edit#gid=0\"\",\"\"RWA!F:BZ\"\"),49,0))\"),\"\")","v":""},{"$f":"IFERROR(__xludf.DUMMYFUNCTION(\"iferror(VLOOKUP(B169,IMPORTRANGE(\"\"https://docs.google.com/spreadsheets/d/1bphtMaJ6lFh0VVWIgQh8ZCOchBZqvj0w5rveiNYcTnM/edit#gid=0\"\",\"\"RWA!F:BZ\"\"),53,0))\"),\"\")","v":""}]
[null,null,null,{"$f":"IFERROR(__xludf.DUMMYFUNCTION(\"iferror(VLOOKUP(B170,IMPORTRANGE(\"\"https://docs.google.com/spreadsheets/d/1bphtMaJ6lFh0VVWIgQh8ZCOchBZqvj0w5rveiNYcTnM/edit#gid=0\"\",\"\"RWA!F:BZ\"\"),44,0))\"),\"\")","v":""},{"$f":"IFERROR(__xludf.DUMMYFUNCTION(\"iferror(VLOOKUP(B170,IMPORTRANGE(\"\"https://docs.google.com/spreadsheets/d/1bphtMaJ6lFh0VVWIgQh8ZCOchBZqvj0w5rveiNYcTnM/edit#gid=0\"\",\"\"RWA!F:BZ\"\"),48,0))\"),\"\")","v":""},{"$f":"IFERROR(__xludf.DUMMYFUNCTION(\"iferror(VLOOKUP(B170,IMPORTRANGE(\"\"https://docs.google.com/spreadsheets/d/1bphtMaJ6lFh0VVWIgQh8ZCOchBZqvj0w5rveiNYcTnM/edit#gid=0\"\",\"\"RWA!F:BZ\"\"),49,0))\"),\"\")","v":""},{"$f":"IFERROR(__xludf.DUMMYFUNCTION(\"iferror(VLOOKUP(B170,IMPORTRANGE(\"\"https://docs.google.com/spreadsheets/d/1bphtMaJ6lFh0VVWIgQh8ZCOchBZqvj0w5rveiNYcTnM/edit#gid=0\"\",\"\"RWA!F:BZ\"\"),53,0))\"),\"\")","v":""}]
[null,null,null,{"$f":"IFERROR(__xludf.DUMMYFUNCTION(\"iferror(VLOOKUP(B171,IMPORTRANGE(\"\"https://docs.google.com/spreadsheets/d/1bphtMaJ6lFh0VVWIgQh8ZCOchBZqvj0w5rveiNYcTnM/edit#gid=0\"\",\"\"RWA!F:BZ\"\"),44,0))\"),\"\")","v":""},{"$f":"IFERROR(__xludf.DUMMYFUNCTION(\"iferror(VLOOKUP(B171,IMPORTRANGE(\"\"https://docs.google.com/spreadsheets/d/1bphtMaJ6lFh0VVWIgQh8ZCOchBZqvj0w5rveiNYcTnM/edit#gid=0\"\",\"\"RWA!F:BZ\"\"),48,0))\"),\"\")","v":""},{"$f":"IFERROR(__xludf.DUMMYFUNCTION(\"iferror(VLOOKUP(B171,IMPORTRANGE(\"\"https://docs.google.com/spreadsheets/d/1bphtMaJ6lFh0VVWIgQh8ZCOchBZqvj0w5rveiNYcTnM/edit#gid=0\"\",\"\"RWA!F:BZ\"\"),49,0))\"),\"\")","v":""},{"$f":"IFERROR(__xludf.DUMMYFUNCTION(\"iferror(VLOOKUP(B171,IMPORTRANGE(\"\"https://docs.google.com/spreadsheets/d/1bphtMaJ6lFh0VVWIgQh8ZCOchBZqvj0w5rveiNYcTnM/edit#gid=0\"\",\"\"RWA!F:BZ\"\"),53,0))\"),\"\")","v":""}]
[null,null,null,{"$f":"IFERROR(__xludf.DUMMYFUNCTION(\"iferror(VLOOKUP(B172,IMPORTRANGE(\"\"https://docs.google.com/spreadsheets/d/1bphtMaJ6lFh0VVWIgQh8ZCOchBZqvj0w5rveiNYcTnM/edit#gid=0\"\",\"\"RWA!F:BZ\"\"),44,0))\"),\"\")","v":""},{"$f":"IFERROR(__xludf.DUMMYFUNCTION(\"iferror(VLOOKUP(B172,IMPORTRANGE(\"\"https://docs.google.com/spreadsheets/d/1bphtMaJ6lFh0VVWIgQh8ZCOchBZqvj0w5rveiNYcTnM/edit#gid=0\"\",\"\"RWA!F:BZ\"\"),48,0))\"),\"\")","v":""},{"$f":"IFERROR(__xludf.DUMMYFUNCTION(\"iferror(VLOOKUP(B172,IMPORTRANGE(\"\"https://docs.google.com/spreadsheets/d/1bphtMaJ6lFh0VVWIgQh8ZCOchBZqvj0w5rveiNYcTnM/edit#gid=0\"\",\"\"RWA!F:BZ\"\"),49,0))\"),\"\")","v":""},{"$f":"IFERROR(__xludf.DUMMYFUNCTION(\"iferror(VLOOKUP(B172,IMPORTRANGE(\"\"https://docs.google.com/spreadsheets/d/1bphtMaJ6lFh0VVWIgQh8ZCOchBZqvj0w5rveiNYcTnM/edit#gid=0\"\",\"\"RWA!F:BZ\"\"),53,0))\"),\"\")","v":""}]
[null,null,null,{"$f":"IFERROR(__xludf.DUMMYFUNCTION(\"iferror(VLOOKUP(B173,IMPORTRANGE(\"\"https://docs.google.com/spreadsheets/d/1bphtMaJ6lFh0VVWIgQh8ZCOchBZqvj0w5rveiNYcTnM/edit#gid=0\"\",\"\"RWA!F:BZ\"\"),44,0))\"),\"\")","v":""},{"$f":"IFERROR(__xludf.DUMMYFUNCTION(\"iferror(VLOOKUP(B173,IMPORTRANGE(\"\"https://docs.google.com/spreadsheets/d/1bphtMaJ6lFh0VVWIgQh8ZCOchBZqvj0w5rveiNYcTnM/edit#gid=0\"\",\"\"RWA!F:BZ\"\"),48,0))\"),\"\")","v":""},{"$f":"IFERROR(__xludf.DUMMYFUNCTION(\"iferror(VLOOKUP(B173,IMPORTRANGE(\"\"https://docs.google.com/spreadsheets/d/1bphtMaJ6lFh0VVWIgQh8ZCOchBZqvj0w5rveiNYcTnM/edit#gid=0\"\",\"\"RWA!F:BZ\"\"),49,0))\"),\"\")","v":""},{"$f":"IFERROR(__xludf.DUMMYFUNCTION(\"iferror(VLOOKUP(B173,IMPORTRANGE(\"\"https://docs.google.com/spreadsheets/d/1bphtMaJ6lFh0VVWIgQh8ZCOchBZqvj0w5rveiNYcTnM/edit#gid=0\"\",\"\"RWA!F:BZ\"\"),53,0))\"),\"\")","v":""}]
[null,null,null,{"$f":"IFERROR(__xludf.DUMMYFUNCTION(\"iferror(VLOOKUP(B174,IMPORTRANGE(\"\"https://docs.google.com/spreadsheets/d/1bphtMaJ6lFh0VVWIgQh8ZCOchBZqvj0w5rveiNYcTnM/edit#gid=0\"\",\"\"RWA!F:BZ\"\"),44,0))\"),\"\")","v":""},{"$f":"IFERROR(__xludf.DUMMYFUNCTION(\"iferror(VLOOKUP(B174,IMPORTRANGE(\"\"https://docs.google.com/spreadsheets/d/1bphtMaJ6lFh0VVWIgQh8ZCOchBZqvj0w5rveiNYcTnM/edit#gid=0\"\",\"\"RWA!F:BZ\"\"),48,0))\"),\"\")","v":""},{"$f":"IFERROR(__xludf.DUMMYFUNCTION(\"iferror(VLOOKUP(B174,IMPORTRANGE(\"\"https://docs.google.com/spreadsheets/d/1bphtMaJ6lFh0VVWIgQh8ZCOchBZqvj0w5rveiNYcTnM/edit#gid=0\"\",\"\"RWA!F:BZ\"\"),49,0))\"),\"\")","v":""},{"$f":"IFERROR(__xludf.DUMMYFUNCTION(\"iferror(VLOOKUP(B174,IMPORTRANGE(\"\"https://docs.google.com/spreadsheets/d/1bphtMaJ6lFh0VVWIgQh8ZCOchBZqvj0w5rveiNYcTnM/edit#gid=0\"\",\"\"RWA!F:BZ\"\"),53,0))\"),\"\")","v":""}]
[null,null,null,{"$f":"IFERROR(__xludf.DUMMYFUNCTION(\"iferror(VLOOKUP(B175,IMPORTRANGE(\"\"https://docs.google.com/spreadsheets/d/1bphtMaJ6lFh0VVWIgQh8ZCOchBZqvj0w5rveiNYcTnM/edit#gid=0\"\",\"\"RWA!F:BZ\"\"),44,0))\"),\"\")","v":""},{"$f":"IFERROR(__xludf.DUMMYFUNCTION(\"iferror(VLOOKUP(B175,IMPORTRANGE(\"\"https://docs.google.com/spreadsheets/d/1bphtMaJ6lFh0VVWIgQh8ZCOchBZqvj0w5rveiNYcTnM/edit#gid=0\"\",\"\"RWA!F:BZ\"\"),48,0))\"),\"\")","v":""},{"$f":"IFERROR(__xludf.DUMMYFUNCTION(\"iferror(VLOOKUP(B175,IMPORTRANGE(\"\"https://docs.google.com/spreadsheets/d/1bphtMaJ6lFh0VVWIgQh8ZCOchBZqvj0w5rveiNYcTnM/edit#gid=0\"\",\"\"RWA!F:BZ\"\"),49,0))\"),\"\")","v":""},{"$f":"IFERROR(__xludf.DUMMYFUNCTION(\"iferror(VLOOKUP(B175,IMPORTRANGE(\"\"https://docs.google.com/spreadsheets/d/1bphtMaJ6lFh0VVWIgQh8ZCOchBZqvj0w5rveiNYcTnM/edit#gid=0\"\",\"\"RWA!F:BZ\"\"),53,0))\"),\"\")","v":""}]
[null,null,null,{"$f":"IFERROR(__xludf.DUMMYFUNCTION(\"iferror(VLOOKUP(B176,IMPORTRANGE(\"\"https://docs.google.com/spreadsheets/d/1bphtMaJ6lFh0VVWIgQh8ZCOchBZqvj0w5rveiNYcTnM/edit#gid=0\"\",\"\"RWA!F:BZ\"\"),44,0))\"),\"\")","v":""},{"$f":"IFERROR(__xludf.DUMMYFUNCTION(\"iferror(VLOOKUP(B176,IMPORTRANGE(\"\"https://docs.google.com/spreadsheets/d/1bphtMaJ6lFh0VVWIgQh8ZCOchBZqvj0w5rveiNYcTnM/edit#gid=0\"\",\"\"RWA!F:BZ\"\"),48,0))\"),\"\")","v":""},{"$f":"IFERROR(__xludf.DUMMYFUNCTION(\"iferror(VLOOKUP(B176,IMPORTRANGE(\"\"https://docs.google.com/spreadsheets/d/1bphtMaJ6lFh0VVWIgQh8ZCOchBZqvj0w5rveiNYcTnM/edit#gid=0\"\",\"\"RWA!F:BZ\"\"),49,0))\"),\"\")","v":""},{"$f":"IFERROR(__xludf.DUMMYFUNCTION(\"iferror(VLOOKUP(B176,IMPORTRANGE(\"\"https://docs.google.com/spreadsheets/d/1bphtMaJ6lFh0VVWIgQh8ZCOchBZqvj0w5rveiNYcTnM/edit#gid=0\"\",\"\"RWA!F:BZ\"\"),53,0))\"),\"\")","v":""}]
[null,null,null,{"$f":"IFERROR(__xludf.DUMMYFUNCTION(\"iferror(VLOOKUP(B177,IMPORTRANGE(\"\"https://docs.google.com/spreadsheets/d/1bphtMaJ6lFh0VVWIgQh8ZCOchBZqvj0w5rveiNYcTnM/edit#gid=0\"\",\"\"RWA!F:BZ\"\"),44,0))\"),\"\")","v":""},{"$f":"IFERROR(__xludf.DUMMYFUNCTION(\"iferror(VLOOKUP(B177,IMPORTRANGE(\"\"https://docs.google.com/spreadsheets/d/1bphtMaJ6lFh0VVWIgQh8ZCOchBZqvj0w5rveiNYcTnM/edit#gid=0\"\",\"\"RWA!F:BZ\"\"),48,0))\"),\"\")","v":""},{"$f":"IFERROR(__xludf.DUMMYFUNCTION(\"iferror(VLOOKUP(B177,IMPORTRANGE(\"\"https://docs.google.com/spreadsheets/d/1bphtMaJ6lFh0VVWIgQh8ZCOchBZqvj0w5rveiNYcTnM/edit#gid=0\"\",\"\"RWA!F:BZ\"\"),49,0))\"),\"\")","v":""},{"$f":"IFERROR(__xludf.DUMMYFUNCTION(\"iferror(VLOOKUP(B177,IMPORTRANGE(\"\"https://docs.google.com/spreadsheets/d/1bphtMaJ6lFh0VVWIgQh8ZCOchBZqvj0w5rveiNYcTnM/edit#gid=0\"\",\"\"RWA!F:BZ\"\"),53,0))\"),\"\")","v":""}]
[null,null,null,{"$f":"IFERROR(__xludf.DUMMYFUNCTION(\"iferror(VLOOKUP(B178,IMPORTRANGE(\"\"https://docs.google.com/spreadsheets/d/1bphtMaJ6lFh0VVWIgQh8ZCOchBZqvj0w5rveiNYcTnM/edit#gid=0\"\",\"\"RWA!F:BZ\"\"),44,0))\"),\"\")","v":""},{"$f":"IFERROR(__xludf.DUMMYFUNCTION(\"iferror(VLOOKUP(B178,IMPORTRANGE(\"\"https://docs.google.com/spreadsheets/d/1bphtMaJ6lFh0VVWIgQh8ZCOchBZqvj0w5rveiNYcTnM/edit#gid=0\"\",\"\"RWA!F:BZ\"\"),48,0))\"),\"\")","v":""},{"$f":"IFERROR(__xludf.DUMMYFUNCTION(\"iferror(VLOOKUP(B178,IMPORTRANGE(\"\"https://docs.google.com/spreadsheets/d/1bphtMaJ6lFh0VVWIgQh8ZCOchBZqvj0w5rveiNYcTnM/edit#gid=0\"\",\"\"RWA!F:BZ\"\"),49,0))\"),\"\")","v":""},{"$f":"IFERROR(__xludf.DUMMYFUNCTION(\"iferror(VLOOKUP(B178,IMPORTRANGE(\"\"https://docs.google.com/spreadsheets/d/1bphtMaJ6lFh0VVWIgQh8ZCOchBZqvj0w5rveiNYcTnM/edit#gid=0\"\",\"\"RWA!F:BZ\"\"),53,0))\"),\"\")","v":""}]
[null,null,null,{"$f":"IFERROR(__xludf.DUMMYFUNCTION(\"iferror(VLOOKUP(B179,IMPORTRANGE(\"\"https://docs.google.com/spreadsheets/d/1bphtMaJ6lFh0VVWIgQh8ZCOchBZqvj0w5rveiNYcTnM/edit#gid=0\"\",\"\"RWA!F:BZ\"\"),44,0))\"),\"\")","v":""},{"$f":"IFERROR(__xludf.DUMMYFUNCTION(\"iferror(VLOOKUP(B179,IMPORTRANGE(\"\"https://docs.google.com/spreadsheets/d/1bphtMaJ6lFh0VVWIgQh8ZCOchBZqvj0w5rveiNYcTnM/edit#gid=0\"\",\"\"RWA!F:BZ\"\"),48,0))\"),\"\")","v":""},{"$f":"IFERROR(__xludf.DUMMYFUNCTION(\"iferror(VLOOKUP(B179,IMPORTRANGE(\"\"https://docs.google.com/spreadsheets/d/1bphtMaJ6lFh0VVWIgQh8ZCOchBZqvj0w5rveiNYcTnM/edit#gid=0\"\",\"\"RWA!F:BZ\"\"),49,0))\"),\"\")","v":""},{"$f":"IFERROR(__xludf.DUMMYFUNCTION(\"iferror(VLOOKUP(B179,IMPORTRANGE(\"\"https://docs.google.com/spreadsheets/d/1bphtMaJ6lFh0VVWIgQh8ZCOchBZqvj0w5rveiNYcTnM/edit#gid=0\"\",\"\"RWA!F:BZ\"\"),53,0))\"),\"\")","v":""}]
[null,null,null,{"$f":"IFERROR(__xludf.DUMMYFUNCTION(\"iferror(VLOOKUP(B180,IMPORTRANGE(\"\"https://docs.google.com/spreadsheets/d/1bphtMaJ6lFh0VVWIgQh8ZCOchBZqvj0w5rveiNYcTnM/edit#gid=0\"\",\"\"RWA!F:BZ\"\"),44,0))\"),\"\")","v":""},{"$f":"IFERROR(__xludf.DUMMYFUNCTION(\"iferror(VLOOKUP(B180,IMPORTRANGE(\"\"https://docs.google.com/spreadsheets/d/1bphtMaJ6lFh0VVWIgQh8ZCOchBZqvj0w5rveiNYcTnM/edit#gid=0\"\",\"\"RWA!F:BZ\"\"),48,0))\"),\"\")","v":""},{"$f":"IFERROR(__xludf.DUMMYFUNCTION(\"iferror(VLOOKUP(B180,IMPORTRANGE(\"\"https://docs.google.com/spreadsheets/d/1bphtMaJ6lFh0VVWIgQh8ZCOchBZqvj0w5rveiNYcTnM/edit#gid=0\"\",\"\"RWA!F:BZ\"\"),49,0))\"),\"\")","v":""},{"$f":"IFERROR(__xludf.DUMMYFUNCTION(\"iferror(VLOOKUP(B180,IMPORTRANGE(\"\"https://docs.google.com/spreadsheets/d/1bphtMaJ6lFh0VVWIgQh8ZCOchBZqvj0w5rveiNYcTnM/edit#gid=0\"\",\"\"RWA!F:BZ\"\"),53,0))\"),\"\")","v":""}]
[null,null,null,{"$f":"IFERROR(__xludf.DUMMYFUNCTION(\"iferror(VLOOKUP(B181,IMPORTRANGE(\"\"https://docs.google.com/spreadsheets/d/1bphtMaJ6lFh0VVWIgQh8ZCOchBZqvj0w5rveiNYcTnM/edit#gid=0\"\",\"\"RWA!F:BZ\"\"),44,0))\"),\"\")","v":""},{"$f":"IFERROR(__xludf.DUMMYFUNCTION(\"iferror(VLOOKUP(B181,IMPORTRANGE(\"\"https://docs.google.com/spreadsheets/d/1bphtMaJ6lFh0VVWIgQh8ZCOchBZqvj0w5rveiNYcTnM/edit#gid=0\"\",\"\"RWA!F:BZ\"\"),48,0))\"),\"\")","v":""},{"$f":"IFERROR(__xludf.DUMMYFUNCTION(\"iferror(VLOOKUP(B181,IMPORTRANGE(\"\"https://docs.google.com/spreadsheets/d/1bphtMaJ6lFh0VVWIgQh8ZCOchBZqvj0w5rveiNYcTnM/edit#gid=0\"\",\"\"RWA!F:BZ\"\"),49,0))\"),\"\")","v":""},{"$f":"IFERROR(__xludf.DUMMYFUNCTION(\"iferror(VLOOKUP(B181,IMPORTRANGE(\"\"https://docs.google.com/spreadsheets/d/1bphtMaJ6lFh0VVWIgQh8ZCOchBZqvj0w5rveiNYcTnM/edit#gid=0\"\",\"\"RWA!F:BZ\"\"),53,0))\"),\"\")","v":""}]
[null,null,null,{"$f":"IFERROR(__xludf.DUMMYFUNCTION(\"iferror(VLOOKUP(B182,IMPORTRANGE(\"\"https://docs.google.com/spreadsheets/d/1bphtMaJ6lFh0VVWIgQh8ZCOchBZqvj0w5rveiNYcTnM/edit#gid=0\"\",\"\"RWA!F:BZ\"\"),44,0))\"),\"\")","v":""},{"$f":"IFERROR(__xludf.DUMMYFUNCTION(\"iferror(VLOOKUP(B182,IMPORTRANGE(\"\"https://docs.google.com/spreadsheets/d/1bphtMaJ6lFh0VVWIgQh8ZCOchBZqvj0w5rveiNYcTnM/edit#gid=0\"\",\"\"RWA!F:BZ\"\"),48,0))\"),\"\")","v":""},{"$f":"IFERROR(__xludf.DUMMYFUNCTION(\"iferror(VLOOKUP(B182,IMPORTRANGE(\"\"https://docs.google.com/spreadsheets/d/1bphtMaJ6lFh0VVWIgQh8ZCOchBZqvj0w5rveiNYcTnM/edit#gid=0\"\",\"\"RWA!F:BZ\"\"),49,0))\"),\"\")","v":""},{"$f":"IFERROR(__xludf.DUMMYFUNCTION(\"iferror(VLOOKUP(B182,IMPORTRANGE(\"\"https://docs.google.com/spreadsheets/d/1bphtMaJ6lFh0VVWIgQh8ZCOchBZqvj0w5rveiNYcTnM/edit#gid=0\"\",\"\"RWA!F:BZ\"\"),53,0))\"),\"\")","v":""}]
[null,null,null,{"$f":"IFERROR(__xludf.DUMMYFUNCTION(\"iferror(VLOOKUP(B183,IMPORTRANGE(\"\"https://docs.google.com/spreadsheets/d/1bphtMaJ6lFh0VVWIgQh8ZCOchBZqvj0w5rveiNYcTnM/edit#gid=0\"\",\"\"RWA!F:BZ\"\"),44,0))\"),\"\")","v":""},{"$f":"IFERROR(__xludf.DUMMYFUNCTION(\"iferror(VLOOKUP(B183,IMPORTRANGE(\"\"https://docs.google.com/spreadsheets/d/1bphtMaJ6lFh0VVWIgQh8ZCOchBZqvj0w5rveiNYcTnM/edit#gid=0\"\",\"\"RWA!F:BZ\"\"),48,0))\"),\"\")","v":""},{"$f":"IFERROR(__xludf.DUMMYFUNCTION(\"iferror(VLOOKUP(B183,IMPORTRANGE(\"\"https://docs.google.com/spreadsheets/d/1bphtMaJ6lFh0VVWIgQh8ZCOchBZqvj0w5rveiNYcTnM/edit#gid=0\"\",\"\"RWA!F:BZ\"\"),49,0))\"),\"\")","v":""},{"$f":"IFERROR(__xludf.DUMMYFUNCTION(\"iferror(VLOOKUP(B183,IMPORTRANGE(\"\"https://docs.google.com/spreadsheets/d/1bphtMaJ6lFh0VVWIgQh8ZCOchBZqvj0w5rveiNYcTnM/edit#gid=0\"\",\"\"RWA!F:BZ\"\"),53,0))\"),\"\")","v":""}]
[null,null,null,{"$f":"IFERROR(__xludf.DUMMYFUNCTION(\"iferror(VLOOKUP(B184,IMPORTRANGE(\"\"https://docs.google.com/spreadsheets/d/1bphtMaJ6lFh0VVWIgQh8ZCOchBZqvj0w5rveiNYcTnM/edit#gid=0\"\",\"\"RWA!F:BZ\"\"),44,0))\"),\"\")","v":""},{"$f":"IFERROR(__xludf.DUMMYFUNCTION(\"iferror(VLOOKUP(B184,IMPORTRANGE(\"\"https://docs.google.com/spreadsheets/d/1bphtMaJ6lFh0VVWIgQh8ZCOchBZqvj0w5rveiNYcTnM/edit#gid=0\"\",\"\"RWA!F:BZ\"\"),48,0))\"),\"\")","v":""},{"$f":"IFERROR(__xludf.DUMMYFUNCTION(\"iferror(VLOOKUP(B184,IMPORTRANGE(\"\"https://docs.google.com/spreadsheets/d/1bphtMaJ6lFh0VVWIgQh8ZCOchBZqvj0w5rveiNYcTnM/edit#gid=0\"\",\"\"RWA!F:BZ\"\"),49,0))\"),\"\")","v":""},{"$f":"IFERROR(__xludf.DUMMYFUNCTION(\"iferror(VLOOKUP(B184,IMPORTRANGE(\"\"https://docs.google.com/spreadsheets/d/1bphtMaJ6lFh0VVWIgQh8ZCOchBZqvj0w5rveiNYcTnM/edit#gid=0\"\",\"\"RWA!F:BZ\"\"),53,0))\"),\"\")","v":""}]
[null,null,null,{"$f":"IFERROR(__xludf.DUMMYFUNCTION(\"iferror(VLOOKUP(B185,IMPORTRANGE(\"\"https://docs.google.com/spreadsheets/d/1bphtMaJ6lFh0VVWIgQh8ZCOchBZqvj0w5rveiNYcTnM/edit#gid=0\"\",\"\"RWA!F:BZ\"\"),44,0))\"),\"\")","v":""},{"$f":"IFERROR(__xludf.DUMMYFUNCTION(\"iferror(VLOOKUP(B185,IMPORTRANGE(\"\"https://docs.google.com/spreadsheets/d/1bphtMaJ6lFh0VVWIgQh8ZCOchBZqvj0w5rveiNYcTnM/edit#gid=0\"\",\"\"RWA!F:BZ\"\"),48,0))\"),\"\")","v":""},{"$f":"IFERROR(__xludf.DUMMYFUNCTION(\"iferror(VLOOKUP(B185,IMPORTRANGE(\"\"https://docs.google.com/spreadsheets/d/1bphtMaJ6lFh0VVWIgQh8ZCOchBZqvj0w5rveiNYcTnM/edit#gid=0\"\",\"\"RWA!F:BZ\"\"),49,0))\"),\"\")","v":""},{"$f":"IFERROR(__xludf.DUMMYFUNCTION(\"iferror(VLOOKUP(B185,IMPORTRANGE(\"\"https://docs.google.com/spreadsheets/d/1bphtMaJ6lFh0VVWIgQh8ZCOchBZqvj0w5rveiNYcTnM/edit#gid=0\"\",\"\"RWA!F:BZ\"\"),53,0))\"),\"\")","v":""}]
[null,null,null,{"$f":"IFERROR(__xludf.DUMMYFUNCTION(\"iferror(VLOOKUP(B186,IMPORTRANGE(\"\"https://docs.google.com/spreadsheets/d/1bphtMaJ6lFh0VVWIgQh8ZCOchBZqvj0w5rveiNYcTnM/edit#gid=0\"\",\"\"RWA!F:BZ\"\"),44,0))\"),\"\")","v":""},{"$f":"IFERROR(__xludf.DUMMYFUNCTION(\"iferror(VLOOKUP(B186,IMPORTRANGE(\"\"https://docs.google.com/spreadsheets/d/1bphtMaJ6lFh0VVWIgQh8ZCOchBZqvj0w5rveiNYcTnM/edit#gid=0\"\",\"\"RWA!F:BZ\"\"),48,0))\"),\"\")","v":""},{"$f":"IFERROR(__xludf.DUMMYFUNCTION(\"iferror(VLOOKUP(B186,IMPORTRANGE(\"\"https://docs.google.com/spreadsheets/d/1bphtMaJ6lFh0VVWIgQh8ZCOchBZqvj0w5rveiNYcTnM/edit#gid=0\"\",\"\"RWA!F:BZ\"\"),49,0))\"),\"\")","v":""},{"$f":"IFERROR(__xludf.DUMMYFUNCTION(\"iferror(VLOOKUP(B186,IMPORTRANGE(\"\"https://docs.google.com/spreadsheets/d/1bphtMaJ6lFh0VVWIgQh8ZCOchBZqvj0w5rveiNYcTnM/edit#gid=0\"\",\"\"RWA!F:BZ\"\"),53,0))\"),\"\")","v":""}]
[null,null,null,{"$f":"IFERROR(__xludf.DUMMYFUNCTION(\"iferror(VLOOKUP(B187,IMPORTRANGE(\"\"https://docs.google.com/spreadsheets/d/1bphtMaJ6lFh0VVWIgQh8ZCOchBZqvj0w5rveiNYcTnM/edit#gid=0\"\",\"\"RWA!F:BZ\"\"),44,0))\"),\"\")","v":""},{"$f":"IFERROR(__xludf.DUMMYFUNCTION(\"iferror(VLOOKUP(B187,IMPORTRANGE(\"\"https://docs.google.com/spreadsheets/d/1bphtMaJ6lFh0VVWIgQh8ZCOchBZqvj0w5rveiNYcTnM/edit#gid=0\"\",\"\"RWA!F:BZ\"\"),48,0))\"),\"\")","v":""},{"$f":"IFERROR(__xludf.DUMMYFUNCTION(\"iferror(VLOOKUP(B187,IMPORTRANGE(\"\"https://docs.google.com/spreadsheets/d/1bphtMaJ6lFh0VVWIgQh8ZCOchBZqvj0w5rveiNYcTnM/edit#gid=0\"\",\"\"RWA!F:BZ\"\"),49,0))\"),\"\")","v":""},{"$f":"IFERROR(__xludf.DUMMYFUNCTION(\"iferror(VLOOKUP(B187,IMPORTRANGE(\"\"https://docs.google.com/spreadsheets/d/1bphtMaJ6lFh0VVWIgQh8ZCOchBZqvj0w5rveiNYcTnM/edit#gid=0\"\",\"\"RWA!F:BZ\"\"),53,0))\"),\"\")","v":""}]
[null,null,null,{"$f":"IFERROR(__xludf.DUMMYFUNCTION(\"iferror(VLOOKUP(B188,IMPORTRANGE(\"\"https://docs.google.com/spreadsheets/d/1bphtMaJ6lFh0VVWIgQh8ZCOchBZqvj0w5rveiNYcTnM/edit#gid=0\"\",\"\"RWA!F:BZ\"\"),44,0))\"),\"\")","v":""},{"$f":"IFERROR(__xludf.DUMMYFUNCTION(\"iferror(VLOOKUP(B188,IMPORTRANGE(\"\"https://docs.google.com/spreadsheets/d/1bphtMaJ6lFh0VVWIgQh8ZCOchBZqvj0w5rveiNYcTnM/edit#gid=0\"\",\"\"RWA!F:BZ\"\"),48,0))\"),\"\")","v":""},{"$f":"IFERROR(__xludf.DUMMYFUNCTION(\"iferror(VLOOKUP(B188,IMPORTRANGE(\"\"https://docs.google.com/spreadsheets/d/1bphtMaJ6lFh0VVWIgQh8ZCOchBZqvj0w5rveiNYcTnM/edit#gid=0\"\",\"\"RWA!F:BZ\"\"),49,0))\"),\"\")","v":""},{"$f":"IFERROR(__xludf.DUMMYFUNCTION(\"iferror(VLOOKUP(B188,IMPORTRANGE(\"\"https://docs.google.com/spreadsheets/d/1bphtMaJ6lFh0VVWIgQh8ZCOchBZqvj0w5rveiNYcTnM/edit#gid=0\"\",\"\"RWA!F:BZ\"\"),53,0))\"),\"\")","v":""}]
[null,null,null,{"$f":"IFERROR(__xludf.DUMMYFUNCTION(\"iferror(VLOOKUP(B189,IMPORTRANGE(\"\"https://docs.google.com/spreadsheets/d/1bphtMaJ6lFh0VVWIgQh8ZCOchBZqvj0w5rveiNYcTnM/edit#gid=0\"\",\"\"RWA!F:BZ\"\"),44,0))\"),\"\")","v":""},{"$f":"IFERROR(__xludf.DUMMYFUNCTION(\"iferror(VLOOKUP(B189,IMPORTRANGE(\"\"https://docs.google.com/spreadsheets/d/1bphtMaJ6lFh0VVWIgQh8ZCOchBZqvj0w5rveiNYcTnM/edit#gid=0\"\",\"\"RWA!F:BZ\"\"),48,0))\"),\"\")","v":""},{"$f":"IFERROR(__xludf.DUMMYFUNCTION(\"iferror(VLOOKUP(B189,IMPORTRANGE(\"\"https://docs.google.com/spreadsheets/d/1bphtMaJ6lFh0VVWIgQh8ZCOchBZqvj0w5rveiNYcTnM/edit#gid=0\"\",\"\"RWA!F:BZ\"\"),49,0))\"),\"\")","v":""},{"$f":"IFERROR(__xludf.DUMMYFUNCTION(\"iferror(VLOOKUP(B189,IMPORTRANGE(\"\"https://docs.google.com/spreadsheets/d/1bphtMaJ6lFh0VVWIgQh8ZCOchBZqvj0w5rveiNYcTnM/edit#gid=0\"\",\"\"RWA!F:BZ\"\"),53,0))\"),\"\")","v":""}]
[null,null,null,{"$f":"IFERROR(__xludf.DUMMYFUNCTION(\"iferror(VLOOKUP(B190,IMPORTRANGE(\"\"https://docs.google.com/spreadsheets/d/1bphtMaJ6lFh0VVWIgQh8ZCOchBZqvj0w5rveiNYcTnM/edit#gid=0\"\",\"\"RWA!F:BZ\"\"),44,0))\"),\"\")","v":""},{"$f":"IFERROR(__xludf.DUMMYFUNCTION(\"iferror(VLOOKUP(B190,IMPORTRANGE(\"\"https://docs.google.com/spreadsheets/d/1bphtMaJ6lFh0VVWIgQh8ZCOchBZqvj0w5rveiNYcTnM/edit#gid=0\"\",\"\"RWA!F:BZ\"\"),48,0))\"),\"\")","v":""},{"$f":"IFERROR(__xludf.DUMMYFUNCTION(\"iferror(VLOOKUP(B190,IMPORTRANGE(\"\"https://docs.google.com/spreadsheets/d/1bphtMaJ6lFh0VVWIgQh8ZCOchBZqvj0w5rveiNYcTnM/edit#gid=0\"\",\"\"RWA!F:BZ\"\"),49,0))\"),\"\")","v":""},{"$f":"IFERROR(__xludf.DUMMYFUNCTION(\"iferror(VLOOKUP(B190,IMPORTRANGE(\"\"https://docs.google.com/spreadsheets/d/1bphtMaJ6lFh0VVWIgQh8ZCOchBZqvj0w5rveiNYcTnM/edit#gid=0\"\",\"\"RWA!F:BZ\"\"),53,0))\"),\"\")","v":""}]
[null,null,null,{"$f":"IFERROR(__xludf.DUMMYFUNCTION(\"iferror(VLOOKUP(B191,IMPORTRANGE(\"\"https://docs.google.com/spreadsheets/d/1bphtMaJ6lFh0VVWIgQh8ZCOchBZqvj0w5rveiNYcTnM/edit#gid=0\"\",\"\"RWA!F:BZ\"\"),44,0))\"),\"\")","v":""},{"$f":"IFERROR(__xludf.DUMMYFUNCTION(\"iferror(VLOOKUP(B191,IMPORTRANGE(\"\"https://docs.google.com/spreadsheets/d/1bphtMaJ6lFh0VVWIgQh8ZCOchBZqvj0w5rveiNYcTnM/edit#gid=0\"\",\"\"RWA!F:BZ\"\"),48,0))\"),\"\")","v":""},{"$f":"IFERROR(__xludf.DUMMYFUNCTION(\"iferror(VLOOKUP(B191,IMPORTRANGE(\"\"https://docs.google.com/spreadsheets/d/1bphtMaJ6lFh0VVWIgQh8ZCOchBZqvj0w5rveiNYcTnM/edit#gid=0\"\",\"\"RWA!F:BZ\"\"),49,0))\"),\"\")","v":""},{"$f":"IFERROR(__xludf.DUMMYFUNCTION(\"iferror(VLOOKUP(B191,IMPORTRANGE(\"\"https://docs.google.com/spreadsheets/d/1bphtMaJ6lFh0VVWIgQh8ZCOchBZqvj0w5rveiNYcTnM/edit#gid=0\"\",\"\"RWA!F:BZ\"\"),53,0))\"),\"\")","v":""}]
[null,null,null,{"$f":"IFERROR(__xludf.DUMMYFUNCTION(\"iferror(VLOOKUP(B192,IMPORTRANGE(\"\"https://docs.google.com/spreadsheets/d/1bphtMaJ6lFh0VVWIgQh8ZCOchBZqvj0w5rveiNYcTnM/edit#gid=0\"\",\"\"RWA!F:BZ\"\"),44,0))\"),\"\")","v":""},{"$f":"IFERROR(__xludf.DUMMYFUNCTION(\"iferror(VLOOKUP(B192,IMPORTRANGE(\"\"https://docs.google.com/spreadsheets/d/1bphtMaJ6lFh0VVWIgQh8ZCOchBZqvj0w5rveiNYcTnM/edit#gid=0\"\",\"\"RWA!F:BZ\"\"),48,0))\"),\"\")","v":""},{"$f":"IFERROR(__xludf.DUMMYFUNCTION(\"iferror(VLOOKUP(B192,IMPORTRANGE(\"\"https://docs.google.com/spreadsheets/d/1bphtMaJ6lFh0VVWIgQh8ZCOchBZqvj0w5rveiNYcTnM/edit#gid=0\"\",\"\"RWA!F:BZ\"\"),49,0))\"),\"\")","v":""},{"$f":"IFERROR(__xludf.DUMMYFUNCTION(\"iferror(VLOOKUP(B192,IMPORTRANGE(\"\"https://docs.google.com/spreadsheets/d/1bphtMaJ6lFh0VVWIgQh8ZCOchBZqvj0w5rveiNYcTnM/edit#gid=0\"\",\"\"RWA!F:BZ\"\"),53,0))\"),\"\")","v":""}]
[null,null,null,{"$f":"IFERROR(__xludf.DUMMYFUNCTION(\"iferror(VLOOKUP(B193,IMPORTRANGE(\"\"https://docs.google.com/spreadsheets/d/1bphtMaJ6lFh0VVWIgQh8ZCOchBZqvj0w5rveiNYcTnM/edit#gid=0\"\",\"\"RWA!F:BZ\"\"),44,0))\"),\"\")","v":""},{"$f":"IFERROR(__xludf.DUMMYFUNCTION(\"iferror(VLOOKUP(B193,IMPORTRANGE(\"\"https://docs.google.com/spreadsheets/d/1bphtMaJ6lFh0VVWIgQh8ZCOchBZqvj0w5rveiNYcTnM/edit#gid=0\"\",\"\"RWA!F:BZ\"\"),48,0))\"),\"\")","v":""},{"$f":"IFERROR(__xludf.DUMMYFUNCTION(\"iferror(VLOOKUP(B193,IMPORTRANGE(\"\"https://docs.google.com/spreadsheets/d/1bphtMaJ6lFh0VVWIgQh8ZCOchBZqvj0w5rveiNYcTnM/edit#gid=0\"\",\"\"RWA!F:BZ\"\"),49,0))\"),\"\")","v":""},{"$f":"IFERROR(__xludf.DUMMYFUNCTION(\"iferror(VLOOKUP(B193,IMPORTRANGE(\"\"https://docs.google.com/spreadsheets/d/1bphtMaJ6lFh0VVWIgQh8ZCOchBZqvj0w5rveiNYcTnM/edit#gid=0\"\",\"\"RWA!F:BZ\"\"),53,0))\"),\"\")","v":""}]
[null,null,null,{"$f":"IFERROR(__xludf.DUMMYFUNCTION(\"iferror(VLOOKUP(B194,IMPORTRANGE(\"\"https://docs.google.com/spreadsheets/d/1bphtMaJ6lFh0VVWIgQh8ZCOchBZqvj0w5rveiNYcTnM/edit#gid=0\"\",\"\"RWA!F:BZ\"\"),44,0))\"),\"\")","v":""},{"$f":"IFERROR(__xludf.DUMMYFUNCTION(\"iferror(VLOOKUP(B194,IMPORTRANGE(\"\"https://docs.google.com/spreadsheets/d/1bphtMaJ6lFh0VVWIgQh8ZCOchBZqvj0w5rveiNYcTnM/edit#gid=0\"\",\"\"RWA!F:BZ\"\"),48,0))\"),\"\")","v":""},{"$f":"IFERROR(__xludf.DUMMYFUNCTION(\"iferror(VLOOKUP(B194,IMPORTRANGE(\"\"https://docs.google.com/spreadsheets/d/1bphtMaJ6lFh0VVWIgQh8ZCOchBZqvj0w5rveiNYcTnM/edit#gid=0\"\",\"\"RWA!F:BZ\"\"),49,0))\"),\"\")","v":""},{"$f":"IFERROR(__xludf.DUMMYFUNCTION(\"iferror(VLOOKUP(B194,IMPORTRANGE(\"\"https://docs.google.com/spreadsheets/d/1bphtMaJ6lFh0VVWIgQh8ZCOchBZqvj0w5rveiNYcTnM/edit#gid=0\"\",\"\"RWA!F:BZ\"\"),53,0))\"),\"\")","v":""}]
[null,null,null,{"$f":"IFERROR(__xludf.DUMMYFUNCTION(\"iferror(VLOOKUP(B195,IMPORTRANGE(\"\"https://docs.google.com/spreadsheets/d/1bphtMaJ6lFh0VVWIgQh8ZCOchBZqvj0w5rveiNYcTnM/edit#gid=0\"\",\"\"RWA!F:BZ\"\"),44,0))\"),\"\")","v":""},{"$f":"IFERROR(__xludf.DUMMYFUNCTION(\"iferror(VLOOKUP(B195,IMPORTRANGE(\"\"https://docs.google.com/spreadsheets/d/1bphtMaJ6lFh0VVWIgQh8ZCOchBZqvj0w5rveiNYcTnM/edit#gid=0\"\",\"\"RWA!F:BZ\"\"),48,0))\"),\"\")","v":""},{"$f":"IFERROR(__xludf.DUMMYFUNCTION(\"iferror(VLOOKUP(B195,IMPORTRANGE(\"\"https://docs.google.com/spreadsheets/d/1bphtMaJ6lFh0VVWIgQh8ZCOchBZqvj0w5rveiNYcTnM/edit#gid=0\"\",\"\"RWA!F:BZ\"\"),49,0))\"),\"\")","v":""},{"$f":"IFERROR(__xludf.DUMMYFUNCTION(\"iferror(VLOOKUP(B195,IMPORTRANGE(\"\"https://docs.google.com/spreadsheets/d/1bphtMaJ6lFh0VVWIgQh8ZCOchBZqvj0w5rveiNYcTnM/edit#gid=0\"\",\"\"RWA!F:BZ\"\"),53,0))\"),\"\")","v":""}]
[null,null,null,{"$f":"IFERROR(__xludf.DUMMYFUNCTION(\"iferror(VLOOKUP(B196,IMPORTRANGE(\"\"https://docs.google.com/spreadsheets/d/1bphtMaJ6lFh0VVWIgQh8ZCOchBZqvj0w5rveiNYcTnM/edit#gid=0\"\",\"\"RWA!F:BZ\"\"),44,0))\"),\"\")","v":""},{"$f":"IFERROR(__xludf.DUMMYFUNCTION(\"iferror(VLOOKUP(B196,IMPORTRANGE(\"\"https://docs.google.com/spreadsheets/d/1bphtMaJ6lFh0VVWIgQh8ZCOchBZqvj0w5rveiNYcTnM/edit#gid=0\"\",\"\"RWA!F:BZ\"\"),48,0))\"),\"\")","v":""},{"$f":"IFERROR(__xludf.DUMMYFUNCTION(\"iferror(VLOOKUP(B196,IMPORTRANGE(\"\"https://docs.google.com/spreadsheets/d/1bphtMaJ6lFh0VVWIgQh8ZCOchBZqvj0w5rveiNYcTnM/edit#gid=0\"\",\"\"RWA!F:BZ\"\"),49,0))\"),\"\")","v":""},{"$f":"IFERROR(__xludf.DUMMYFUNCTION(\"iferror(VLOOKUP(B196,IMPORTRANGE(\"\"https://docs.google.com/spreadsheets/d/1bphtMaJ6lFh0VVWIgQh8ZCOchBZqvj0w5rveiNYcTnM/edit#gid=0\"\",\"\"RWA!F:BZ\"\"),53,0))\"),\"\")","v":""}]
[null,null,null,{"$f":"IFERROR(__xludf.DUMMYFUNCTION(\"iferror(VLOOKUP(B197,IMPORTRANGE(\"\"https://docs.google.com/spreadsheets/d/1bphtMaJ6lFh0VVWIgQh8ZCOchBZqvj0w5rveiNYcTnM/edit#gid=0\"\",\"\"RWA!F:BZ\"\"),44,0))\"),\"\")","v":""},{"$f":"IFERROR(__xludf.DUMMYFUNCTION(\"iferror(VLOOKUP(B197,IMPORTRANGE(\"\"https://docs.google.com/spreadsheets/d/1bphtMaJ6lFh0VVWIgQh8ZCOchBZqvj0w5rveiNYcTnM/edit#gid=0\"\",\"\"RWA!F:BZ\"\"),48,0))\"),\"\")","v":""},{"$f":"IFERROR(__xludf.DUMMYFUNCTION(\"iferror(VLOOKUP(B197,IMPORTRANGE(\"\"https://docs.google.com/spreadsheets/d/1bphtMaJ6lFh0VVWIgQh8ZCOchBZqvj0w5rveiNYcTnM/edit#gid=0\"\",\"\"RWA!F:BZ\"\"),49,0))\"),\"\")","v":""},{"$f":"IFERROR(__xludf.DUMMYFUNCTION(\"iferror(VLOOKUP(B197,IMPORTRANGE(\"\"https://docs.google.com/spreadsheets/d/1bphtMaJ6lFh0VVWIgQh8ZCOchBZqvj0w5rveiNYcTnM/edit#gid=0\"\",\"\"RWA!F:BZ\"\"),53,0))\"),\"\")","v":""}]
[null,null,null,{"$f":"IFERROR(__xludf.DUMMYFUNCTION(\"iferror(VLOOKUP(B198,IMPORTRANGE(\"\"https://docs.google.com/spreadsheets/d/1bphtMaJ6lFh0VVWIgQh8ZCOchBZqvj0w5rveiNYcTnM/edit#gid=0\"\",\"\"RWA!F:BZ\"\"),44,0))\"),\"\")","v":""},{"$f":"IFERROR(__xludf.DUMMYFUNCTION(\"iferror(VLOOKUP(B198,IMPORTRANGE(\"\"https://docs.google.com/spreadsheets/d/1bphtMaJ6lFh0VVWIgQh8ZCOchBZqvj0w5rveiNYcTnM/edit#gid=0\"\",\"\"RWA!F:BZ\"\"),48,0))\"),\"\")","v":""},{"$f":"IFERROR(__xludf.DUMMYFUNCTION(\"iferror(VLOOKUP(B198,IMPORTRANGE(\"\"https://docs.google.com/spreadsheets/d/1bphtMaJ6lFh0VVWIgQh8ZCOchBZqvj0w5rveiNYcTnM/edit#gid=0\"\",\"\"RWA!F:BZ\"\"),49,0))\"),\"\")","v":""},{"$f":"IFERROR(__xludf.DUMMYFUNCTION(\"iferror(VLOOKUP(B198,IMPORTRANGE(\"\"https://docs.google.com/spreadsheets/d/1bphtMaJ6lFh0VVWIgQh8ZCOchBZqvj0w5rveiNYcTnM/edit#gid=0\"\",\"\"RWA!F:BZ\"\"),53,0))\"),\"\")","v":""}]
[null,null,null,{"$f":"IFERROR(__xludf.DUMMYFUNCTION(\"iferror(VLOOKUP(B199,IMPORTRANGE(\"\"https://docs.google.com/spreadsheets/d/1bphtMaJ6lFh0VVWIgQh8ZCOchBZqvj0w5rveiNYcTnM/edit#gid=0\"\",\"\"RWA!F:BZ\"\"),44,0))\"),\"\")","v":""},{"$f":"IFERROR(__xludf.DUMMYFUNCTION(\"iferror(VLOOKUP(B199,IMPORTRANGE(\"\"https://docs.google.com/spreadsheets/d/1bphtMaJ6lFh0VVWIgQh8ZCOchBZqvj0w5rveiNYcTnM/edit#gid=0\"\",\"\"RWA!F:BZ\"\"),48,0))\"),\"\")","v":""},{"$f":"IFERROR(__xludf.DUMMYFUNCTION(\"iferror(VLOOKUP(B199,IMPORTRANGE(\"\"https://docs.google.com/spreadsheets/d/1bphtMaJ6lFh0VVWIgQh8ZCOchBZqvj0w5rveiNYcTnM/edit#gid=0\"\",\"\"RWA!F:BZ\"\"),49,0))\"),\"\")","v":""},{"$f":"IFERROR(__xludf.DUMMYFUNCTION(\"iferror(VLOOKUP(B199,IMPORTRANGE(\"\"https://docs.google.com/spreadsheets/d/1bphtMaJ6lFh0VVWIgQh8ZCOchBZqvj0w5rveiNYcTnM/edit#gid=0\"\",\"\"RWA!F:BZ\"\"),53,0))\"),\"\")","v":""}]
[null,null,null,{"$f":"IFERROR(__xludf.DUMMYFUNCTION(\"iferror(VLOOKUP(B200,IMPORTRANGE(\"\"https://docs.google.com/spreadsheets/d/1bphtMaJ6lFh0VVWIgQh8ZCOchBZqvj0w5rveiNYcTnM/edit#gid=0\"\",\"\"RWA!F:BZ\"\"),44,0))\"),\"\")","v":""},{"$f":"IFERROR(__xludf.DUMMYFUNCTION(\"iferror(VLOOKUP(B200,IMPORTRANGE(\"\"https://docs.google.com/spreadsheets/d/1bphtMaJ6lFh0VVWIgQh8ZCOchBZqvj0w5rveiNYcTnM/edit#gid=0\"\",\"\"RWA!F:BZ\"\"),48,0))\"),\"\")","v":""},{"$f":"IFERROR(__xludf.DUMMYFUNCTION(\"iferror(VLOOKUP(B200,IMPORTRANGE(\"\"https://docs.google.com/spreadsheets/d/1bphtMaJ6lFh0VVWIgQh8ZCOchBZqvj0w5rveiNYcTnM/edit#gid=0\"\",\"\"RWA!F:BZ\"\"),49,0))\"),\"\")","v":""},{"$f":"IFERROR(__xludf.DUMMYFUNCTION(\"iferror(VLOOKUP(B200,IMPORTRANGE(\"\"https://docs.google.com/spreadsheets/d/1bphtMaJ6lFh0VVWIgQh8ZCOchBZqvj0w5rveiNYcTnM/edit#gid=0\"\",\"\"RWA!F:BZ\"\"),53,0))\"),\"\")","v":""}]
[null,null,null,{"$f":"IFERROR(__xludf.DUMMYFUNCTION(\"iferror(VLOOKUP(B201,IMPORTRANGE(\"\"https://docs.google.com/spreadsheets/d/1bphtMaJ6lFh0VVWIgQh8ZCOchBZqvj0w5rveiNYcTnM/edit#gid=0\"\",\"\"RWA!F:BZ\"\"),44,0))\"),\"\")","v":""},{"$f":"IFERROR(__xludf.DUMMYFUNCTION(\"iferror(VLOOKUP(B201,IMPORTRANGE(\"\"https://docs.google.com/spreadsheets/d/1bphtMaJ6lFh0VVWIgQh8ZCOchBZqvj0w5rveiNYcTnM/edit#gid=0\"\",\"\"RWA!F:BZ\"\"),48,0))\"),\"\")","v":""},{"$f":"IFERROR(__xludf.DUMMYFUNCTION(\"iferror(VLOOKUP(B201,IMPORTRANGE(\"\"https://docs.google.com/spreadsheets/d/1bphtMaJ6lFh0VVWIgQh8ZCOchBZqvj0w5rveiNYcTnM/edit#gid=0\"\",\"\"RWA!F:BZ\"\"),49,0))\"),\"\")","v":""},{"$f":"IFERROR(__xludf.DUMMYFUNCTION(\"iferror(VLOOKUP(B201,IMPORTRANGE(\"\"https://docs.google.com/spreadsheets/d/1bphtMaJ6lFh0VVWIgQh8ZCOchBZqvj0w5rveiNYcTnM/edit#gid=0\"\",\"\"RWA!F:BZ\"\"),53,0))\"),\"\")","v":""}]
[null,null,null,{"$f":"IFERROR(__xludf.DUMMYFUNCTION(\"iferror(VLOOKUP(B202,IMPORTRANGE(\"\"https://docs.google.com/spreadsheets/d/1bphtMaJ6lFh0VVWIgQh8ZCOchBZqvj0w5rveiNYcTnM/edit#gid=0\"\",\"\"RWA!F:BZ\"\"),44,0))\"),\"\")","v":""},{"$f":"IFERROR(__xludf.DUMMYFUNCTION(\"iferror(VLOOKUP(B202,IMPORTRANGE(\"\"https://docs.google.com/spreadsheets/d/1bphtMaJ6lFh0VVWIgQh8ZCOchBZqvj0w5rveiNYcTnM/edit#gid=0\"\",\"\"RWA!F:BZ\"\"),48,0))\"),\"\")","v":""},{"$f":"IFERROR(__xludf.DUMMYFUNCTION(\"iferror(VLOOKUP(B202,IMPORTRANGE(\"\"https://docs.google.com/spreadsheets/d/1bphtMaJ6lFh0VVWIgQh8ZCOchBZqvj0w5rveiNYcTnM/edit#gid=0\"\",\"\"RWA!F:BZ\"\"),49,0))\"),\"\")","v":""},{"$f":"IFERROR(__xludf.DUMMYFUNCTION(\"iferror(VLOOKUP(B202,IMPORTRANGE(\"\"https://docs.google.com/spreadsheets/d/1bphtMaJ6lFh0VVWIgQh8ZCOchBZqvj0w5rveiNYcTnM/edit#gid=0\"\",\"\"RWA!F:BZ\"\"),53,0))\"),\"\")","v":""}]
[null,null,null,{"$f":"IFERROR(__xludf.DUMMYFUNCTION(\"iferror(VLOOKUP(B203,IMPORTRANGE(\"\"https://docs.google.com/spreadsheets/d/1bphtMaJ6lFh0VVWIgQh8ZCOchBZqvj0w5rveiNYcTnM/edit#gid=0\"\",\"\"RWA!F:BZ\"\"),44,0))\"),\"\")","v":""},{"$f":"IFERROR(__xludf.DUMMYFUNCTION(\"iferror(VLOOKUP(B203,IMPORTRANGE(\"\"https://docs.google.com/spreadsheets/d/1bphtMaJ6lFh0VVWIgQh8ZCOchBZqvj0w5rveiNYcTnM/edit#gid=0\"\",\"\"RWA!F:BZ\"\"),48,0))\"),\"\")","v":""},{"$f":"IFERROR(__xludf.DUMMYFUNCTION(\"iferror(VLOOKUP(B203,IMPORTRANGE(\"\"https://docs.google.com/spreadsheets/d/1bphtMaJ6lFh0VVWIgQh8ZCOchBZqvj0w5rveiNYcTnM/edit#gid=0\"\",\"\"RWA!F:BZ\"\"),49,0))\"),\"\")","v":""},{"$f":"IFERROR(__xludf.DUMMYFUNCTION(\"iferror(VLOOKUP(B203,IMPORTRANGE(\"\"https://docs.google.com/spreadsheets/d/1bphtMaJ6lFh0VVWIgQh8ZCOchBZqvj0w5rveiNYcTnM/edit#gid=0\"\",\"\"RWA!F:BZ\"\"),53,0))\"),\"\")","v":""}]
[null,null,null,{"$f":"IFERROR(__xludf.DUMMYFUNCTION(\"iferror(VLOOKUP(B204,IMPORTRANGE(\"\"https://docs.google.com/spreadsheets/d/1bphtMaJ6lFh0VVWIgQh8ZCOchBZqvj0w5rveiNYcTnM/edit#gid=0\"\",\"\"RWA!F:BZ\"\"),44,0))\"),\"\")","v":""},{"$f":"IFERROR(__xludf.DUMMYFUNCTION(\"iferror(VLOOKUP(B204,IMPORTRANGE(\"\"https://docs.google.com/spreadsheets/d/1bphtMaJ6lFh0VVWIgQh8ZCOchBZqvj0w5rveiNYcTnM/edit#gid=0\"\",\"\"RWA!F:BZ\"\"),48,0))\"),\"\")","v":""},{"$f":"IFERROR(__xludf.DUMMYFUNCTION(\"iferror(VLOOKUP(B204,IMPORTRANGE(\"\"https://docs.google.com/spreadsheets/d/1bphtMaJ6lFh0VVWIgQh8ZCOchBZqvj0w5rveiNYcTnM/edit#gid=0\"\",\"\"RWA!F:BZ\"\"),49,0))\"),\"\")","v":""},{"$f":"IFERROR(__xludf.DUMMYFUNCTION(\"iferror(VLOOKUP(B204,IMPORTRANGE(\"\"https://docs.google.com/spreadsheets/d/1bphtMaJ6lFh0VVWIgQh8ZCOchBZqvj0w5rveiNYcTnM/edit#gid=0\"\",\"\"RWA!F:BZ\"\"),53,0))\"),\"\")","v":""}]
[null,null,null,{"$f":"IFERROR(__xludf.DUMMYFUNCTION(\"iferror(VLOOKUP(B205,IMPORTRANGE(\"\"https://docs.google.com/spreadsheets/d/1bphtMaJ6lFh0VVWIgQh8ZCOchBZqvj0w5rveiNYcTnM/edit#gid=0\"\",\"\"RWA!F:BZ\"\"),44,0))\"),\"\")","v":""},{"$f":"IFERROR(__xludf.DUMMYFUNCTION(\"iferror(VLOOKUP(B205,IMPORTRANGE(\"\"https://docs.google.com/spreadsheets/d/1bphtMaJ6lFh0VVWIgQh8ZCOchBZqvj0w5rveiNYcTnM/edit#gid=0\"\",\"\"RWA!F:BZ\"\"),48,0))\"),\"\")","v":""},{"$f":"IFERROR(__xludf.DUMMYFUNCTION(\"iferror(VLOOKUP(B205,IMPORTRANGE(\"\"https://docs.google.com/spreadsheets/d/1bphtMaJ6lFh0VVWIgQh8ZCOchBZqvj0w5rveiNYcTnM/edit#gid=0\"\",\"\"RWA!F:BZ\"\"),49,0))\"),\"\")","v":""},{"$f":"IFERROR(__xludf.DUMMYFUNCTION(\"iferror(VLOOKUP(B205,IMPORTRANGE(\"\"https://docs.google.com/spreadsheets/d/1bphtMaJ6lFh0VVWIgQh8ZCOchBZqvj0w5rveiNYcTnM/edit#gid=0\"\",\"\"RWA!F:BZ\"\"),53,0))\"),\"\")","v":""}]
[null,null,null,{"$f":"IFERROR(__xludf.DUMMYFUNCTION(\"iferror(VLOOKUP(B206,IMPORTRANGE(\"\"https://docs.google.com/spreadsheets/d/1bphtMaJ6lFh0VVWIgQh8ZCOchBZqvj0w5rveiNYcTnM/edit#gid=0\"\",\"\"RWA!F:BZ\"\"),44,0))\"),\"\")","v":""},{"$f":"IFERROR(__xludf.DUMMYFUNCTION(\"iferror(VLOOKUP(B206,IMPORTRANGE(\"\"https://docs.google.com/spreadsheets/d/1bphtMaJ6lFh0VVWIgQh8ZCOchBZqvj0w5rveiNYcTnM/edit#gid=0\"\",\"\"RWA!F:BZ\"\"),48,0))\"),\"\")","v":""},{"$f":"IFERROR(__xludf.DUMMYFUNCTION(\"iferror(VLOOKUP(B206,IMPORTRANGE(\"\"https://docs.google.com/spreadsheets/d/1bphtMaJ6lFh0VVWIgQh8ZCOchBZqvj0w5rveiNYcTnM/edit#gid=0\"\",\"\"RWA!F:BZ\"\"),49,0))\"),\"\")","v":""},{"$f":"IFERROR(__xludf.DUMMYFUNCTION(\"iferror(VLOOKUP(B206,IMPORTRANGE(\"\"https://docs.google.com/spreadsheets/d/1bphtMaJ6lFh0VVWIgQh8ZCOchBZqvj0w5rveiNYcTnM/edit#gid=0\"\",\"\"RWA!F:BZ\"\"),53,0))\"),\"\")","v":""}]
[null,null,null,{"$f":"IFERROR(__xludf.DUMMYFUNCTION(\"iferror(VLOOKUP(B207,IMPORTRANGE(\"\"https://docs.google.com/spreadsheets/d/1bphtMaJ6lFh0VVWIgQh8ZCOchBZqvj0w5rveiNYcTnM/edit#gid=0\"\",\"\"RWA!F:BZ\"\"),44,0))\"),\"\")","v":""},{"$f":"IFERROR(__xludf.DUMMYFUNCTION(\"iferror(VLOOKUP(B207,IMPORTRANGE(\"\"https://docs.google.com/spreadsheets/d/1bphtMaJ6lFh0VVWIgQh8ZCOchBZqvj0w5rveiNYcTnM/edit#gid=0\"\",\"\"RWA!F:BZ\"\"),48,0))\"),\"\")","v":""},{"$f":"IFERROR(__xludf.DUMMYFUNCTION(\"iferror(VLOOKUP(B207,IMPORTRANGE(\"\"https://docs.google.com/spreadsheets/d/1bphtMaJ6lFh0VVWIgQh8ZCOchBZqvj0w5rveiNYcTnM/edit#gid=0\"\",\"\"RWA!F:BZ\"\"),49,0))\"),\"\")","v":""},{"$f":"IFERROR(__xludf.DUMMYFUNCTION(\"iferror(VLOOKUP(B207,IMPORTRANGE(\"\"https://docs.google.com/spreadsheets/d/1bphtMaJ6lFh0VVWIgQh8ZCOchBZqvj0w5rveiNYcTnM/edit#gid=0\"\",\"\"RWA!F:BZ\"\"),53,0))\"),\"\")","v":""}]
[null,null,null,{"$f":"IFERROR(__xludf.DUMMYFUNCTION(\"iferror(VLOOKUP(B208,IMPORTRANGE(\"\"https://docs.google.com/spreadsheets/d/1bphtMaJ6lFh0VVWIgQh8ZCOchBZqvj0w5rveiNYcTnM/edit#gid=0\"\",\"\"RWA!F:BZ\"\"),44,0))\"),\"\")","v":""},{"$f":"IFERROR(__xludf.DUMMYFUNCTION(\"iferror(VLOOKUP(B208,IMPORTRANGE(\"\"https://docs.google.com/spreadsheets/d/1bphtMaJ6lFh0VVWIgQh8ZCOchBZqvj0w5rveiNYcTnM/edit#gid=0\"\",\"\"RWA!F:BZ\"\"),48,0))\"),\"\")","v":""},{"$f":"IFERROR(__xludf.DUMMYFUNCTION(\"iferror(VLOOKUP(B208,IMPORTRANGE(\"\"https://docs.google.com/spreadsheets/d/1bphtMaJ6lFh0VVWIgQh8ZCOchBZqvj0w5rveiNYcTnM/edit#gid=0\"\",\"\"RWA!F:BZ\"\"),49,0))\"),\"\")","v":""},{"$f":"IFERROR(__xludf.DUMMYFUNCTION(\"iferror(VLOOKUP(B208,IMPORTRANGE(\"\"https://docs.google.com/spreadsheets/d/1bphtMaJ6lFh0VVWIgQh8ZCOchBZqvj0w5rveiNYcTnM/edit#gid=0\"\",\"\"RWA!F:BZ\"\"),53,0))\"),\"\")","v":""}]
[null,null,null,{"$f":"IFERROR(__xludf.DUMMYFUNCTION(\"iferror(VLOOKUP(B209,IMPORTRANGE(\"\"https://docs.google.com/spreadsheets/d/1bphtMaJ6lFh0VVWIgQh8ZCOchBZqvj0w5rveiNYcTnM/edit#gid=0\"\",\"\"RWA!F:BZ\"\"),44,0))\"),\"\")","v":""},{"$f":"IFERROR(__xludf.DUMMYFUNCTION(\"iferror(VLOOKUP(B209,IMPORTRANGE(\"\"https://docs.google.com/spreadsheets/d/1bphtMaJ6lFh0VVWIgQh8ZCOchBZqvj0w5rveiNYcTnM/edit#gid=0\"\",\"\"RWA!F:BZ\"\"),48,0))\"),\"\")","v":""},{"$f":"IFERROR(__xludf.DUMMYFUNCTION(\"iferror(VLOOKUP(B209,IMPORTRANGE(\"\"https://docs.google.com/spreadsheets/d/1bphtMaJ6lFh0VVWIgQh8ZCOchBZqvj0w5rveiNYcTnM/edit#gid=0\"\",\"\"RWA!F:BZ\"\"),49,0))\"),\"\")","v":""},{"$f":"IFERROR(__xludf.DUMMYFUNCTION(\"iferror(VLOOKUP(B209,IMPORTRANGE(\"\"https://docs.google.com/spreadsheets/d/1bphtMaJ6lFh0VVWIgQh8ZCOchBZqvj0w5rveiNYcTnM/edit#gid=0\"\",\"\"RWA!F:BZ\"\"),53,0))\"),\"\")","v":""}]
[null,null,null,{"$f":"IFERROR(__xludf.DUMMYFUNCTION(\"iferror(VLOOKUP(B210,IMPORTRANGE(\"\"https://docs.google.com/spreadsheets/d/1bphtMaJ6lFh0VVWIgQh8ZCOchBZqvj0w5rveiNYcTnM/edit#gid=0\"\",\"\"RWA!F:BZ\"\"),44,0))\"),\"\")","v":""},{"$f":"IFERROR(__xludf.DUMMYFUNCTION(\"iferror(VLOOKUP(B210,IMPORTRANGE(\"\"https://docs.google.com/spreadsheets/d/1bphtMaJ6lFh0VVWIgQh8ZCOchBZqvj0w5rveiNYcTnM/edit#gid=0\"\",\"\"RWA!F:BZ\"\"),48,0))\"),\"\")","v":""},{"$f":"IFERROR(__xludf.DUMMYFUNCTION(\"iferror(VLOOKUP(B210,IMPORTRANGE(\"\"https://docs.google.com/spreadsheets/d/1bphtMaJ6lFh0VVWIgQh8ZCOchBZqvj0w5rveiNYcTnM/edit#gid=0\"\",\"\"RWA!F:BZ\"\"),49,0))\"),\"\")","v":""},{"$f":"IFERROR(__xludf.DUMMYFUNCTION(\"iferror(VLOOKUP(B210,IMPORTRANGE(\"\"https://docs.google.com/spreadsheets/d/1bphtMaJ6lFh0VVWIgQh8ZCOchBZqvj0w5rveiNYcTnM/edit#gid=0\"\",\"\"RWA!F:BZ\"\"),53,0))\"),\"\")","v":""}]
[null,null,null,{"$f":"IFERROR(__xludf.DUMMYFUNCTION(\"iferror(VLOOKUP(B211,IMPORTRANGE(\"\"https://docs.google.com/spreadsheets/d/1bphtMaJ6lFh0VVWIgQh8ZCOchBZqvj0w5rveiNYcTnM/edit#gid=0\"\",\"\"RWA!F:BZ\"\"),44,0))\"),\"\")","v":""},{"$f":"IFERROR(__xludf.DUMMYFUNCTION(\"iferror(VLOOKUP(B211,IMPORTRANGE(\"\"https://docs.google.com/spreadsheets/d/1bphtMaJ6lFh0VVWIgQh8ZCOchBZqvj0w5rveiNYcTnM/edit#gid=0\"\",\"\"RWA!F:BZ\"\"),48,0))\"),\"\")","v":""},{"$f":"IFERROR(__xludf.DUMMYFUNCTION(\"iferror(VLOOKUP(B211,IMPORTRANGE(\"\"https://docs.google.com/spreadsheets/d/1bphtMaJ6lFh0VVWIgQh8ZCOchBZqvj0w5rveiNYcTnM/edit#gid=0\"\",\"\"RWA!F:BZ\"\"),49,0))\"),\"\")","v":""},{"$f":"IFERROR(__xludf.DUMMYFUNCTION(\"iferror(VLOOKUP(B211,IMPORTRANGE(\"\"https://docs.google.com/spreadsheets/d/1bphtMaJ6lFh0VVWIgQh8ZCOchBZqvj0w5rveiNYcTnM/edit#gid=0\"\",\"\"RWA!F:BZ\"\"),53,0))\"),\"\")","v":""}]
[null,null,null,{"$f":"IFERROR(__xludf.DUMMYFUNCTION(\"iferror(VLOOKUP(B212,IMPORTRANGE(\"\"https://docs.google.com/spreadsheets/d/1bphtMaJ6lFh0VVWIgQh8ZCOchBZqvj0w5rveiNYcTnM/edit#gid=0\"\",\"\"RWA!F:BZ\"\"),44,0))\"),\"\")","v":""},{"$f":"IFERROR(__xludf.DUMMYFUNCTION(\"iferror(VLOOKUP(B212,IMPORTRANGE(\"\"https://docs.google.com/spreadsheets/d/1bphtMaJ6lFh0VVWIgQh8ZCOchBZqvj0w5rveiNYcTnM/edit#gid=0\"\",\"\"RWA!F:BZ\"\"),48,0))\"),\"\")","v":""},{"$f":"IFERROR(__xludf.DUMMYFUNCTION(\"iferror(VLOOKUP(B212,IMPORTRANGE(\"\"https://docs.google.com/spreadsheets/d/1bphtMaJ6lFh0VVWIgQh8ZCOchBZqvj0w5rveiNYcTnM/edit#gid=0\"\",\"\"RWA!F:BZ\"\"),49,0))\"),\"\")","v":""},{"$f":"IFERROR(__xludf.DUMMYFUNCTION(\"iferror(VLOOKUP(B212,IMPORTRANGE(\"\"https://docs.google.com/spreadsheets/d/1bphtMaJ6lFh0VVWIgQh8ZCOchBZqvj0w5rveiNYcTnM/edit#gid=0\"\",\"\"RWA!F:BZ\"\"),53,0))\"),\"\")","v":""}]
[null,null,null,{"$f":"IFERROR(__xludf.DUMMYFUNCTION(\"iferror(VLOOKUP(B213,IMPORTRANGE(\"\"https://docs.google.com/spreadsheets/d/1bphtMaJ6lFh0VVWIgQh8ZCOchBZqvj0w5rveiNYcTnM/edit#gid=0\"\",\"\"RWA!F:BZ\"\"),44,0))\"),\"\")","v":""},{"$f":"IFERROR(__xludf.DUMMYFUNCTION(\"iferror(VLOOKUP(B213,IMPORTRANGE(\"\"https://docs.google.com/spreadsheets/d/1bphtMaJ6lFh0VVWIgQh8ZCOchBZqvj0w5rveiNYcTnM/edit#gid=0\"\",\"\"RWA!F:BZ\"\"),48,0))\"),\"\")","v":""},{"$f":"IFERROR(__xludf.DUMMYFUNCTION(\"iferror(VLOOKUP(B213,IMPORTRANGE(\"\"https://docs.google.com/spreadsheets/d/1bphtMaJ6lFh0VVWIgQh8ZCOchBZqvj0w5rveiNYcTnM/edit#gid=0\"\",\"\"RWA!F:BZ\"\"),49,0))\"),\"\")","v":""},{"$f":"IFERROR(__xludf.DUMMYFUNCTION(\"iferror(VLOOKUP(B213,IMPORTRANGE(\"\"https://docs.google.com/spreadsheets/d/1bphtMaJ6lFh0VVWIgQh8ZCOchBZqvj0w5rveiNYcTnM/edit#gid=0\"\",\"\"RWA!F:BZ\"\"),53,0))\"),\"\")","v":""}]
[null,null,null,{"$f":"IFERROR(__xludf.DUMMYFUNCTION(\"iferror(VLOOKUP(B214,IMPORTRANGE(\"\"https://docs.google.com/spreadsheets/d/1bphtMaJ6lFh0VVWIgQh8ZCOchBZqvj0w5rveiNYcTnM/edit#gid=0\"\",\"\"RWA!F:BZ\"\"),44,0))\"),\"\")","v":""},{"$f":"IFERROR(__xludf.DUMMYFUNCTION(\"iferror(VLOOKUP(B214,IMPORTRANGE(\"\"https://docs.google.com/spreadsheets/d/1bphtMaJ6lFh0VVWIgQh8ZCOchBZqvj0w5rveiNYcTnM/edit#gid=0\"\",\"\"RWA!F:BZ\"\"),48,0))\"),\"\")","v":""},{"$f":"IFERROR(__xludf.DUMMYFUNCTION(\"iferror(VLOOKUP(B214,IMPORTRANGE(\"\"https://docs.google.com/spreadsheets/d/1bphtMaJ6lFh0VVWIgQh8ZCOchBZqvj0w5rveiNYcTnM/edit#gid=0\"\",\"\"RWA!F:BZ\"\"),49,0))\"),\"\")","v":""},{"$f":"IFERROR(__xludf.DUMMYFUNCTION(\"iferror(VLOOKUP(B214,IMPORTRANGE(\"\"https://docs.google.com/spreadsheets/d/1bphtMaJ6lFh0VVWIgQh8ZCOchBZqvj0w5rveiNYcTnM/edit#gid=0\"\",\"\"RWA!F:BZ\"\"),53,0))\"),\"\")","v":""}]
[null,null,null,{"$f":"IFERROR(__xludf.DUMMYFUNCTION(\"iferror(VLOOKUP(B215,IMPORTRANGE(\"\"https://docs.google.com/spreadsheets/d/1bphtMaJ6lFh0VVWIgQh8ZCOchBZqvj0w5rveiNYcTnM/edit#gid=0\"\",\"\"RWA!F:BZ\"\"),44,0))\"),\"\")","v":""},{"$f":"IFERROR(__xludf.DUMMYFUNCTION(\"iferror(VLOOKUP(B215,IMPORTRANGE(\"\"https://docs.google.com/spreadsheets/d/1bphtMaJ6lFh0VVWIgQh8ZCOchBZqvj0w5rveiNYcTnM/edit#gid=0\"\",\"\"RWA!F:BZ\"\"),48,0))\"),\"\")","v":""},{"$f":"IFERROR(__xludf.DUMMYFUNCTION(\"iferror(VLOOKUP(B215,IMPORTRANGE(\"\"https://docs.google.com/spreadsheets/d/1bphtMaJ6lFh0VVWIgQh8ZCOchBZqvj0w5rveiNYcTnM/edit#gid=0\"\",\"\"RWA!F:BZ\"\"),49,0))\"),\"\")","v":""},{"$f":"IFERROR(__xludf.DUMMYFUNCTION(\"iferror(VLOOKUP(B215,IMPORTRANGE(\"\"https://docs.google.com/spreadsheets/d/1bphtMaJ6lFh0VVWIgQh8ZCOchBZqvj0w5rveiNYcTnM/edit#gid=0\"\",\"\"RWA!F:BZ\"\"),53,0))\"),\"\")","v":""}]
[null,null,null,{"$f":"IFERROR(__xludf.DUMMYFUNCTION(\"iferror(VLOOKUP(B216,IMPORTRANGE(\"\"https://docs.google.com/spreadsheets/d/1bphtMaJ6lFh0VVWIgQh8ZCOchBZqvj0w5rveiNYcTnM/edit#gid=0\"\",\"\"RWA!F:BZ\"\"),44,0))\"),\"\")","v":""},{"$f":"IFERROR(__xludf.DUMMYFUNCTION(\"iferror(VLOOKUP(B216,IMPORTRANGE(\"\"https://docs.google.com/spreadsheets/d/1bphtMaJ6lFh0VVWIgQh8ZCOchBZqvj0w5rveiNYcTnM/edit#gid=0\"\",\"\"RWA!F:BZ\"\"),48,0))\"),\"\")","v":""},{"$f":"IFERROR(__xludf.DUMMYFUNCTION(\"iferror(VLOOKUP(B216,IMPORTRANGE(\"\"https://docs.google.com/spreadsheets/d/1bphtMaJ6lFh0VVWIgQh8ZCOchBZqvj0w5rveiNYcTnM/edit#gid=0\"\",\"\"RWA!F:BZ\"\"),49,0))\"),\"\")","v":""},{"$f":"IFERROR(__xludf.DUMMYFUNCTION(\"iferror(VLOOKUP(B216,IMPORTRANGE(\"\"https://docs.google.com/spreadsheets/d/1bphtMaJ6lFh0VVWIgQh8ZCOchBZqvj0w5rveiNYcTnM/edit#gid=0\"\",\"\"RWA!F:BZ\"\"),53,0))\"),\"\")","v":""}]
[null,null,null,{"$f":"IFERROR(__xludf.DUMMYFUNCTION(\"iferror(VLOOKUP(B217,IMPORTRANGE(\"\"https://docs.google.com/spreadsheets/d/1bphtMaJ6lFh0VVWIgQh8ZCOchBZqvj0w5rveiNYcTnM/edit#gid=0\"\",\"\"RWA!F:BZ\"\"),44,0))\"),\"\")","v":""},{"$f":"IFERROR(__xludf.DUMMYFUNCTION(\"iferror(VLOOKUP(B217,IMPORTRANGE(\"\"https://docs.google.com/spreadsheets/d/1bphtMaJ6lFh0VVWIgQh8ZCOchBZqvj0w5rveiNYcTnM/edit#gid=0\"\",\"\"RWA!F:BZ\"\"),48,0))\"),\"\")","v":""},{"$f":"IFERROR(__xludf.DUMMYFUNCTION(\"iferror(VLOOKUP(B217,IMPORTRANGE(\"\"https://docs.google.com/spreadsheets/d/1bphtMaJ6lFh0VVWIgQh8ZCOchBZqvj0w5rveiNYcTnM/edit#gid=0\"\",\"\"RWA!F:BZ\"\"),49,0))\"),\"\")","v":""},{"$f":"IFERROR(__xludf.DUMMYFUNCTION(\"iferror(VLOOKUP(B217,IMPORTRANGE(\"\"https://docs.google.com/spreadsheets/d/1bphtMaJ6lFh0VVWIgQh8ZCOchBZqvj0w5rveiNYcTnM/edit#gid=0\"\",\"\"RWA!F:BZ\"\"),53,0))\"),\"\")","v":""}]
[null,null,null,{"$f":"IFERROR(__xludf.DUMMYFUNCTION(\"iferror(VLOOKUP(B218,IMPORTRANGE(\"\"https://docs.google.com/spreadsheets/d/1bphtMaJ6lFh0VVWIgQh8ZCOchBZqvj0w5rveiNYcTnM/edit#gid=0\"\",\"\"RWA!F:BZ\"\"),44,0))\"),\"\")","v":""},{"$f":"IFERROR(__xludf.DUMMYFUNCTION(\"iferror(VLOOKUP(B218,IMPORTRANGE(\"\"https://docs.google.com/spreadsheets/d/1bphtMaJ6lFh0VVWIgQh8ZCOchBZqvj0w5rveiNYcTnM/edit#gid=0\"\",\"\"RWA!F:BZ\"\"),48,0))\"),\"\")","v":""},{"$f":"IFERROR(__xludf.DUMMYFUNCTION(\"iferror(VLOOKUP(B218,IMPORTRANGE(\"\"https://docs.google.com/spreadsheets/d/1bphtMaJ6lFh0VVWIgQh8ZCOchBZqvj0w5rveiNYcTnM/edit#gid=0\"\",\"\"RWA!F:BZ\"\"),49,0))\"),\"\")","v":""},{"$f":"IFERROR(__xludf.DUMMYFUNCTION(\"iferror(VLOOKUP(B218,IMPORTRANGE(\"\"https://docs.google.com/spreadsheets/d/1bphtMaJ6lFh0VVWIgQh8ZCOchBZqvj0w5rveiNYcTnM/edit#gid=0\"\",\"\"RWA!F:BZ\"\"),53,0))\"),\"\")","v":""}]
[null,null,null,{"$f":"IFERROR(__xludf.DUMMYFUNCTION(\"iferror(VLOOKUP(B219,IMPORTRANGE(\"\"https://docs.google.com/spreadsheets/d/1bphtMaJ6lFh0VVWIgQh8ZCOchBZqvj0w5rveiNYcTnM/edit#gid=0\"\",\"\"RWA!F:BZ\"\"),44,0))\"),\"\")","v":""},{"$f":"IFERROR(__xludf.DUMMYFUNCTION(\"iferror(VLOOKUP(B219,IMPORTRANGE(\"\"https://docs.google.com/spreadsheets/d/1bphtMaJ6lFh0VVWIgQh8ZCOchBZqvj0w5rveiNYcTnM/edit#gid=0\"\",\"\"RWA!F:BZ\"\"),48,0))\"),\"\")","v":""},{"$f":"IFERROR(__xludf.DUMMYFUNCTION(\"iferror(VLOOKUP(B219,IMPORTRANGE(\"\"https://docs.google.com/spreadsheets/d/1bphtMaJ6lFh0VVWIgQh8ZCOchBZqvj0w5rveiNYcTnM/edit#gid=0\"\",\"\"RWA!F:BZ\"\"),49,0))\"),\"\")","v":""},{"$f":"IFERROR(__xludf.DUMMYFUNCTION(\"iferror(VLOOKUP(B219,IMPORTRANGE(\"\"https://docs.google.com/spreadsheets/d/1bphtMaJ6lFh0VVWIgQh8ZCOchBZqvj0w5rveiNYcTnM/edit#gid=0\"\",\"\"RWA!F:BZ\"\"),53,0))\"),\"\")","v":""}]
[null,null,null,{"$f":"IFERROR(__xludf.DUMMYFUNCTION(\"iferror(VLOOKUP(B220,IMPORTRANGE(\"\"https://docs.google.com/spreadsheets/d/1bphtMaJ6lFh0VVWIgQh8ZCOchBZqvj0w5rveiNYcTnM/edit#gid=0\"\",\"\"RWA!F:BZ\"\"),44,0))\"),\"\")","v":""},{"$f":"IFERROR(__xludf.DUMMYFUNCTION(\"iferror(VLOOKUP(B220,IMPORTRANGE(\"\"https://docs.google.com/spreadsheets/d/1bphtMaJ6lFh0VVWIgQh8ZCOchBZqvj0w5rveiNYcTnM/edit#gid=0\"\",\"\"RWA!F:BZ\"\"),48,0))\"),\"\")","v":""},{"$f":"IFERROR(__xludf.DUMMYFUNCTION(\"iferror(VLOOKUP(B220,IMPORTRANGE(\"\"https://docs.google.com/spreadsheets/d/1bphtMaJ6lFh0VVWIgQh8ZCOchBZqvj0w5rveiNYcTnM/edit#gid=0\"\",\"\"RWA!F:BZ\"\"),49,0))\"),\"\")","v":""},{"$f":"IFERROR(__xludf.DUMMYFUNCTION(\"iferror(VLOOKUP(B220,IMPORTRANGE(\"\"https://docs.google.com/spreadsheets/d/1bphtMaJ6lFh0VVWIgQh8ZCOchBZqvj0w5rveiNYcTnM/edit#gid=0\"\",\"\"RWA!F:BZ\"\"),53,0))\"),\"\")","v":""}]
[null,null,null,{"$f":"IFERROR(__xludf.DUMMYFUNCTION(\"iferror(VLOOKUP(B221,IMPORTRANGE(\"\"https://docs.google.com/spreadsheets/d/1bphtMaJ6lFh0VVWIgQh8ZCOchBZqvj0w5rveiNYcTnM/edit#gid=0\"\",\"\"RWA!F:BZ\"\"),44,0))\"),\"\")","v":""},{"$f":"IFERROR(__xludf.DUMMYFUNCTION(\"iferror(VLOOKUP(B221,IMPORTRANGE(\"\"https://docs.google.com/spreadsheets/d/1bphtMaJ6lFh0VVWIgQh8ZCOchBZqvj0w5rveiNYcTnM/edit#gid=0\"\",\"\"RWA!F:BZ\"\"),48,0))\"),\"\")","v":""},{"$f":"IFERROR(__xludf.DUMMYFUNCTION(\"iferror(VLOOKUP(B221,IMPORTRANGE(\"\"https://docs.google.com/spreadsheets/d/1bphtMaJ6lFh0VVWIgQh8ZCOchBZqvj0w5rveiNYcTnM/edit#gid=0\"\",\"\"RWA!F:BZ\"\"),49,0))\"),\"\")","v":""},{"$f":"IFERROR(__xludf.DUMMYFUNCTION(\"iferror(VLOOKUP(B221,IMPORTRANGE(\"\"https://docs.google.com/spreadsheets/d/1bphtMaJ6lFh0VVWIgQh8ZCOchBZqvj0w5rveiNYcTnM/edit#gid=0\"\",\"\"RWA!F:BZ\"\"),53,0))\"),\"\")","v":""}]
[null,null,null,{"$f":"IFERROR(__xludf.DUMMYFUNCTION(\"iferror(VLOOKUP(B222,IMPORTRANGE(\"\"https://docs.google.com/spreadsheets/d/1bphtMaJ6lFh0VVWIgQh8ZCOchBZqvj0w5rveiNYcTnM/edit#gid=0\"\",\"\"RWA!F:BZ\"\"),44,0))\"),\"\")","v":""},{"$f":"IFERROR(__xludf.DUMMYFUNCTION(\"iferror(VLOOKUP(B222,IMPORTRANGE(\"\"https://docs.google.com/spreadsheets/d/1bphtMaJ6lFh0VVWIgQh8ZCOchBZqvj0w5rveiNYcTnM/edit#gid=0\"\",\"\"RWA!F:BZ\"\"),48,0))\"),\"\")","v":""},{"$f":"IFERROR(__xludf.DUMMYFUNCTION(\"iferror(VLOOKUP(B222,IMPORTRANGE(\"\"https://docs.google.com/spreadsheets/d/1bphtMaJ6lFh0VVWIgQh8ZCOchBZqvj0w5rveiNYcTnM/edit#gid=0\"\",\"\"RWA!F:BZ\"\"),49,0))\"),\"\")","v":""},{"$f":"IFERROR(__xludf.DUMMYFUNCTION(\"iferror(VLOOKUP(B222,IMPORTRANGE(\"\"https://docs.google.com/spreadsheets/d/1bphtMaJ6lFh0VVWIgQh8ZCOchBZqvj0w5rveiNYcTnM/edit#gid=0\"\",\"\"RWA!F:BZ\"\"),53,0))\"),\"\")","v":""}]
[null,null,null,{"$f":"IFERROR(__xludf.DUMMYFUNCTION(\"iferror(VLOOKUP(B223,IMPORTRANGE(\"\"https://docs.google.com/spreadsheets/d/1bphtMaJ6lFh0VVWIgQh8ZCOchBZqvj0w5rveiNYcTnM/edit#gid=0\"\",\"\"RWA!F:BZ\"\"),44,0))\"),\"\")","v":""},{"$f":"IFERROR(__xludf.DUMMYFUNCTION(\"iferror(VLOOKUP(B223,IMPORTRANGE(\"\"https://docs.google.com/spreadsheets/d/1bphtMaJ6lFh0VVWIgQh8ZCOchBZqvj0w5rveiNYcTnM/edit#gid=0\"\",\"\"RWA!F:BZ\"\"),48,0))\"),\"\")","v":""},{"$f":"IFERROR(__xludf.DUMMYFUNCTION(\"iferror(VLOOKUP(B223,IMPORTRANGE(\"\"https://docs.google.com/spreadsheets/d/1bphtMaJ6lFh0VVWIgQh8ZCOchBZqvj0w5rveiNYcTnM/edit#gid=0\"\",\"\"RWA!F:BZ\"\"),49,0))\"),\"\")","v":""},{"$f":"IFERROR(__xludf.DUMMYFUNCTION(\"iferror(VLOOKUP(B223,IMPORTRANGE(\"\"https://docs.google.com/spreadsheets/d/1bphtMaJ6lFh0VVWIgQh8ZCOchBZqvj0w5rveiNYcTnM/edit#gid=0\"\",\"\"RWA!F:BZ\"\"),53,0))\"),\"\")","v":""}]
[null,null,null,{"$f":"IFERROR(__xludf.DUMMYFUNCTION(\"iferror(VLOOKUP(B224,IMPORTRANGE(\"\"https://docs.google.com/spreadsheets/d/1bphtMaJ6lFh0VVWIgQh8ZCOchBZqvj0w5rveiNYcTnM/edit#gid=0\"\",\"\"RWA!F:BZ\"\"),44,0))\"),\"\")","v":""},{"$f":"IFERROR(__xludf.DUMMYFUNCTION(\"iferror(VLOOKUP(B224,IMPORTRANGE(\"\"https://docs.google.com/spreadsheets/d/1bphtMaJ6lFh0VVWIgQh8ZCOchBZqvj0w5rveiNYcTnM/edit#gid=0\"\",\"\"RWA!F:BZ\"\"),48,0))\"),\"\")","v":""},{"$f":"IFERROR(__xludf.DUMMYFUNCTION(\"iferror(VLOOKUP(B224,IMPORTRANGE(\"\"https://docs.google.com/spreadsheets/d/1bphtMaJ6lFh0VVWIgQh8ZCOchBZqvj0w5rveiNYcTnM/edit#gid=0\"\",\"\"RWA!F:BZ\"\"),49,0))\"),\"\")","v":""},{"$f":"IFERROR(__xludf.DUMMYFUNCTION(\"iferror(VLOOKUP(B224,IMPORTRANGE(\"\"https://docs.google.com/spreadsheets/d/1bphtMaJ6lFh0VVWIgQh8ZCOchBZqvj0w5rveiNYcTnM/edit#gid=0\"\",\"\"RWA!F:BZ\"\"),53,0))\"),\"\")","v":""}]
[null,null,null,{"$f":"IFERROR(__xludf.DUMMYFUNCTION(\"iferror(VLOOKUP(B225,IMPORTRANGE(\"\"https://docs.google.com/spreadsheets/d/1bphtMaJ6lFh0VVWIgQh8ZCOchBZqvj0w5rveiNYcTnM/edit#gid=0\"\",\"\"RWA!F:BZ\"\"),44,0))\"),\"\")","v":""},{"$f":"IFERROR(__xludf.DUMMYFUNCTION(\"iferror(VLOOKUP(B225,IMPORTRANGE(\"\"https://docs.google.com/spreadsheets/d/1bphtMaJ6lFh0VVWIgQh8ZCOchBZqvj0w5rveiNYcTnM/edit#gid=0\"\",\"\"RWA!F:BZ\"\"),48,0))\"),\"\")","v":""},{"$f":"IFERROR(__xludf.DUMMYFUNCTION(\"iferror(VLOOKUP(B225,IMPORTRANGE(\"\"https://docs.google.com/spreadsheets/d/1bphtMaJ6lFh0VVWIgQh8ZCOchBZqvj0w5rveiNYcTnM/edit#gid=0\"\",\"\"RWA!F:BZ\"\"),49,0))\"),\"\")","v":""},{"$f":"IFERROR(__xludf.DUMMYFUNCTION(\"iferror(VLOOKUP(B225,IMPORTRANGE(\"\"https://docs.google.com/spreadsheets/d/1bphtMaJ6lFh0VVWIgQh8ZCOchBZqvj0w5rveiNYcTnM/edit#gid=0\"\",\"\"RWA!F:BZ\"\"),53,0))\"),\"\")","v":""}]
[null,null,null,{"$f":"IFERROR(__xludf.DUMMYFUNCTION(\"iferror(VLOOKUP(B226,IMPORTRANGE(\"\"https://docs.google.com/spreadsheets/d/1bphtMaJ6lFh0VVWIgQh8ZCOchBZqvj0w5rveiNYcTnM/edit#gid=0\"\",\"\"RWA!F:BZ\"\"),44,0))\"),\"\")","v":""},{"$f":"IFERROR(__xludf.DUMMYFUNCTION(\"iferror(VLOOKUP(B226,IMPORTRANGE(\"\"https://docs.google.com/spreadsheets/d/1bphtMaJ6lFh0VVWIgQh8ZCOchBZqvj0w5rveiNYcTnM/edit#gid=0\"\",\"\"RWA!F:BZ\"\"),48,0))\"),\"\")","v":""},{"$f":"IFERROR(__xludf.DUMMYFUNCTION(\"iferror(VLOOKUP(B226,IMPORTRANGE(\"\"https://docs.google.com/spreadsheets/d/1bphtMaJ6lFh0VVWIgQh8ZCOchBZqvj0w5rveiNYcTnM/edit#gid=0\"\",\"\"RWA!F:BZ\"\"),49,0))\"),\"\")","v":""},{"$f":"IFERROR(__xludf.DUMMYFUNCTION(\"iferror(VLOOKUP(B226,IMPORTRANGE(\"\"https://docs.google.com/spreadsheets/d/1bphtMaJ6lFh0VVWIgQh8ZCOchBZqvj0w5rveiNYcTnM/edit#gid=0\"\",\"\"RWA!F:BZ\"\"),53,0))\"),\"\")","v":""}]
[null,null,null,{"$f":"IFERROR(__xludf.DUMMYFUNCTION(\"iferror(VLOOKUP(B227,IMPORTRANGE(\"\"https://docs.google.com/spreadsheets/d/1bphtMaJ6lFh0VVWIgQh8ZCOchBZqvj0w5rveiNYcTnM/edit#gid=0\"\",\"\"RWA!F:BZ\"\"),44,0))\"),\"\")","v":""},{"$f":"IFERROR(__xludf.DUMMYFUNCTION(\"iferror(VLOOKUP(B227,IMPORTRANGE(\"\"https://docs.google.com/spreadsheets/d/1bphtMaJ6lFh0VVWIgQh8ZCOchBZqvj0w5rveiNYcTnM/edit#gid=0\"\",\"\"RWA!F:BZ\"\"),48,0))\"),\"\")","v":""},{"$f":"IFERROR(__xludf.DUMMYFUNCTION(\"iferror(VLOOKUP(B227,IMPORTRANGE(\"\"https://docs.google.com/spreadsheets/d/1bphtMaJ6lFh0VVWIgQh8ZCOchBZqvj0w5rveiNYcTnM/edit#gid=0\"\",\"\"RWA!F:BZ\"\"),49,0))\"),\"\")","v":""},{"$f":"IFERROR(__xludf.DUMMYFUNCTION(\"iferror(VLOOKUP(B227,IMPORTRANGE(\"\"https://docs.google.com/spreadsheets/d/1bphtMaJ6lFh0VVWIgQh8ZCOchBZqvj0w5rveiNYcTnM/edit#gid=0\"\",\"\"RWA!F:BZ\"\"),53,0))\"),\"\")","v":""}]
[null,null,null,{"$f":"IFERROR(__xludf.DUMMYFUNCTION(\"iferror(VLOOKUP(B228,IMPORTRANGE(\"\"https://docs.google.com/spreadsheets/d/1bphtMaJ6lFh0VVWIgQh8ZCOchBZqvj0w5rveiNYcTnM/edit#gid=0\"\",\"\"RWA!F:BZ\"\"),44,0))\"),\"\")","v":""},{"$f":"IFERROR(__xludf.DUMMYFUNCTION(\"iferror(VLOOKUP(B228,IMPORTRANGE(\"\"https://docs.google.com/spreadsheets/d/1bphtMaJ6lFh0VVWIgQh8ZCOchBZqvj0w5rveiNYcTnM/edit#gid=0\"\",\"\"RWA!F:BZ\"\"),48,0))\"),\"\")","v":""},{"$f":"IFERROR(__xludf.DUMMYFUNCTION(\"iferror(VLOOKUP(B228,IMPORTRANGE(\"\"https://docs.google.com/spreadsheets/d/1bphtMaJ6lFh0VVWIgQh8ZCOchBZqvj0w5rveiNYcTnM/edit#gid=0\"\",\"\"RWA!F:BZ\"\"),49,0))\"),\"\")","v":""},{"$f":"IFERROR(__xludf.DUMMYFUNCTION(\"iferror(VLOOKUP(B228,IMPORTRANGE(\"\"https://docs.google.com/spreadsheets/d/1bphtMaJ6lFh0VVWIgQh8ZCOchBZqvj0w5rveiNYcTnM/edit#gid=0\"\",\"\"RWA!F:BZ\"\"),53,0))\"),\"\")","v":""}]
[null,null,null,{"$f":"IFERROR(__xludf.DUMMYFUNCTION(\"iferror(VLOOKUP(B229,IMPORTRANGE(\"\"https://docs.google.com/spreadsheets/d/1bphtMaJ6lFh0VVWIgQh8ZCOchBZqvj0w5rveiNYcTnM/edit#gid=0\"\",\"\"RWA!F:BZ\"\"),44,0))\"),\"\")","v":""},{"$f":"IFERROR(__xludf.DUMMYFUNCTION(\"iferror(VLOOKUP(B229,IMPORTRANGE(\"\"https://docs.google.com/spreadsheets/d/1bphtMaJ6lFh0VVWIgQh8ZCOchBZqvj0w5rveiNYcTnM/edit#gid=0\"\",\"\"RWA!F:BZ\"\"),48,0))\"),\"\")","v":""},{"$f":"IFERROR(__xludf.DUMMYFUNCTION(\"iferror(VLOOKUP(B229,IMPORTRANGE(\"\"https://docs.google.com/spreadsheets/d/1bphtMaJ6lFh0VVWIgQh8ZCOchBZqvj0w5rveiNYcTnM/edit#gid=0\"\",\"\"RWA!F:BZ\"\"),49,0))\"),\"\")","v":""},{"$f":"IFERROR(__xludf.DUMMYFUNCTION(\"iferror(VLOOKUP(B229,IMPORTRANGE(\"\"https://docs.google.com/spreadsheets/d/1bphtMaJ6lFh0VVWIgQh8ZCOchBZqvj0w5rveiNYcTnM/edit#gid=0\"\",\"\"RWA!F:BZ\"\"),53,0))\"),\"\")","v":""}]
[null,null,null,{"$f":"IFERROR(__xludf.DUMMYFUNCTION(\"iferror(VLOOKUP(B230,IMPORTRANGE(\"\"https://docs.google.com/spreadsheets/d/1bphtMaJ6lFh0VVWIgQh8ZCOchBZqvj0w5rveiNYcTnM/edit#gid=0\"\",\"\"RWA!F:BZ\"\"),44,0))\"),\"\")","v":""},{"$f":"IFERROR(__xludf.DUMMYFUNCTION(\"iferror(VLOOKUP(B230,IMPORTRANGE(\"\"https://docs.google.com/spreadsheets/d/1bphtMaJ6lFh0VVWIgQh8ZCOchBZqvj0w5rveiNYcTnM/edit#gid=0\"\",\"\"RWA!F:BZ\"\"),48,0))\"),\"\")","v":""},{"$f":"IFERROR(__xludf.DUMMYFUNCTION(\"iferror(VLOOKUP(B230,IMPORTRANGE(\"\"https://docs.google.com/spreadsheets/d/1bphtMaJ6lFh0VVWIgQh8ZCOchBZqvj0w5rveiNYcTnM/edit#gid=0\"\",\"\"RWA!F:BZ\"\"),49,0))\"),\"\")","v":""},{"$f":"IFERROR(__xludf.DUMMYFUNCTION(\"iferror(VLOOKUP(B230,IMPORTRANGE(\"\"https://docs.google.com/spreadsheets/d/1bphtMaJ6lFh0VVWIgQh8ZCOchBZqvj0w5rveiNYcTnM/edit#gid=0\"\",\"\"RWA!F:BZ\"\"),53,0))\"),\"\")","v":""}]
[null,null,null,{"$f":"IFERROR(__xludf.DUMMYFUNCTION(\"iferror(VLOOKUP(B231,IMPORTRANGE(\"\"https://docs.google.com/spreadsheets/d/1bphtMaJ6lFh0VVWIgQh8ZCOchBZqvj0w5rveiNYcTnM/edit#gid=0\"\",\"\"RWA!F:BZ\"\"),44,0))\"),\"\")","v":""},{"$f":"IFERROR(__xludf.DUMMYFUNCTION(\"iferror(VLOOKUP(B231,IMPORTRANGE(\"\"https://docs.google.com/spreadsheets/d/1bphtMaJ6lFh0VVWIgQh8ZCOchBZqvj0w5rveiNYcTnM/edit#gid=0\"\",\"\"RWA!F:BZ\"\"),48,0))\"),\"\")","v":""},{"$f":"IFERROR(__xludf.DUMMYFUNCTION(\"iferror(VLOOKUP(B231,IMPORTRANGE(\"\"https://docs.google.com/spreadsheets/d/1bphtMaJ6lFh0VVWIgQh8ZCOchBZqvj0w5rveiNYcTnM/edit#gid=0\"\",\"\"RWA!F:BZ\"\"),49,0))\"),\"\")","v":""},{"$f":"IFERROR(__xludf.DUMMYFUNCTION(\"iferror(VLOOKUP(B231,IMPORTRANGE(\"\"https://docs.google.com/spreadsheets/d/1bphtMaJ6lFh0VVWIgQh8ZCOchBZqvj0w5rveiNYcTnM/edit#gid=0\"\",\"\"RWA!F:BZ\"\"),53,0))\"),\"\")","v":""}]
[null,null,null,{"$f":"IFERROR(__xludf.DUMMYFUNCTION(\"iferror(VLOOKUP(B232,IMPORTRANGE(\"\"https://docs.google.com/spreadsheets/d/1bphtMaJ6lFh0VVWIgQh8ZCOchBZqvj0w5rveiNYcTnM/edit#gid=0\"\",\"\"RWA!F:BZ\"\"),44,0))\"),\"\")","v":""},{"$f":"IFERROR(__xludf.DUMMYFUNCTION(\"iferror(VLOOKUP(B232,IMPORTRANGE(\"\"https://docs.google.com/spreadsheets/d/1bphtMaJ6lFh0VVWIgQh8ZCOchBZqvj0w5rveiNYcTnM/edit#gid=0\"\",\"\"RWA!F:BZ\"\"),48,0))\"),\"\")","v":""},{"$f":"IFERROR(__xludf.DUMMYFUNCTION(\"iferror(VLOOKUP(B232,IMPORTRANGE(\"\"https://docs.google.com/spreadsheets/d/1bphtMaJ6lFh0VVWIgQh8ZCOchBZqvj0w5rveiNYcTnM/edit#gid=0\"\",\"\"RWA!F:BZ\"\"),49,0))\"),\"\")","v":""},{"$f":"IFERROR(__xludf.DUMMYFUNCTION(\"iferror(VLOOKUP(B232,IMPORTRANGE(\"\"https://docs.google.com/spreadsheets/d/1bphtMaJ6lFh0VVWIgQh8ZCOchBZqvj0w5rveiNYcTnM/edit#gid=0\"\",\"\"RWA!F:BZ\"\"),53,0))\"),\"\")","v":""}]
[null,null,null,{"$f":"IFERROR(__xludf.DUMMYFUNCTION(\"iferror(VLOOKUP(B233,IMPORTRANGE(\"\"https://docs.google.com/spreadsheets/d/1bphtMaJ6lFh0VVWIgQh8ZCOchBZqvj0w5rveiNYcTnM/edit#gid=0\"\",\"\"RWA!F:BZ\"\"),44,0))\"),\"\")","v":""},{"$f":"IFERROR(__xludf.DUMMYFUNCTION(\"iferror(VLOOKUP(B233,IMPORTRANGE(\"\"https://docs.google.com/spreadsheets/d/1bphtMaJ6lFh0VVWIgQh8ZCOchBZqvj0w5rveiNYcTnM/edit#gid=0\"\",\"\"RWA!F:BZ\"\"),48,0))\"),\"\")","v":""},{"$f":"IFERROR(__xludf.DUMMYFUNCTION(\"iferror(VLOOKUP(B233,IMPORTRANGE(\"\"https://docs.google.com/spreadsheets/d/1bphtMaJ6lFh0VVWIgQh8ZCOchBZqvj0w5rveiNYcTnM/edit#gid=0\"\",\"\"RWA!F:BZ\"\"),49,0))\"),\"\")","v":""},{"$f":"IFERROR(__xludf.DUMMYFUNCTION(\"iferror(VLOOKUP(B233,IMPORTRANGE(\"\"https://docs.google.com/spreadsheets/d/1bphtMaJ6lFh0VVWIgQh8ZCOchBZqvj0w5rveiNYcTnM/edit#gid=0\"\",\"\"RWA!F:BZ\"\"),53,0))\"),\"\")","v":""}]
[null,null,null,{"$f":"IFERROR(__xludf.DUMMYFUNCTION(\"iferror(VLOOKUP(B234,IMPORTRANGE(\"\"https://docs.google.com/spreadsheets/d/1bphtMaJ6lFh0VVWIgQh8ZCOchBZqvj0w5rveiNYcTnM/edit#gid=0\"\",\"\"RWA!F:BZ\"\"),44,0))\"),\"\")","v":""},{"$f":"IFERROR(__xludf.DUMMYFUNCTION(\"iferror(VLOOKUP(B234,IMPORTRANGE(\"\"https://docs.google.com/spreadsheets/d/1bphtMaJ6lFh0VVWIgQh8ZCOchBZqvj0w5rveiNYcTnM/edit#gid=0\"\",\"\"RWA!F:BZ\"\"),48,0))\"),\"\")","v":""},{"$f":"IFERROR(__xludf.DUMMYFUNCTION(\"iferror(VLOOKUP(B234,IMPORTRANGE(\"\"https://docs.google.com/spreadsheets/d/1bphtMaJ6lFh0VVWIgQh8ZCOchBZqvj0w5rveiNYcTnM/edit#gid=0\"\",\"\"RWA!F:BZ\"\"),49,0))\"),\"\")","v":""},{"$f":"IFERROR(__xludf.DUMMYFUNCTION(\"iferror(VLOOKUP(B234,IMPORTRANGE(\"\"https://docs.google.com/spreadsheets/d/1bphtMaJ6lFh0VVWIgQh8ZCOchBZqvj0w5rveiNYcTnM/edit#gid=0\"\",\"\"RWA!F:BZ\"\"),53,0))\"),\"\")","v":""}]
[null,null,null,{"$f":"IFERROR(__xludf.DUMMYFUNCTION(\"iferror(VLOOKUP(B235,IMPORTRANGE(\"\"https://docs.google.com/spreadsheets/d/1bphtMaJ6lFh0VVWIgQh8ZCOchBZqvj0w5rveiNYcTnM/edit#gid=0\"\",\"\"RWA!F:BZ\"\"),44,0))\"),\"\")","v":""},{"$f":"IFERROR(__xludf.DUMMYFUNCTION(\"iferror(VLOOKUP(B235,IMPORTRANGE(\"\"https://docs.google.com/spreadsheets/d/1bphtMaJ6lFh0VVWIgQh8ZCOchBZqvj0w5rveiNYcTnM/edit#gid=0\"\",\"\"RWA!F:BZ\"\"),48,0))\"),\"\")","v":""},{"$f":"IFERROR(__xludf.DUMMYFUNCTION(\"iferror(VLOOKUP(B235,IMPORTRANGE(\"\"https://docs.google.com/spreadsheets/d/1bphtMaJ6lFh0VVWIgQh8ZCOchBZqvj0w5rveiNYcTnM/edit#gid=0\"\",\"\"RWA!F:BZ\"\"),49,0))\"),\"\")","v":""},{"$f":"IFERROR(__xludf.DUMMYFUNCTION(\"iferror(VLOOKUP(B235,IMPORTRANGE(\"\"https://docs.google.com/spreadsheets/d/1bphtMaJ6lFh0VVWIgQh8ZCOchBZqvj0w5rveiNYcTnM/edit#gid=0\"\",\"\"RWA!F:BZ\"\"),53,0))\"),\"\")","v":""}]
[null,null,null,{"$f":"IFERROR(__xludf.DUMMYFUNCTION(\"iferror(VLOOKUP(B236,IMPORTRANGE(\"\"https://docs.google.com/spreadsheets/d/1bphtMaJ6lFh0VVWIgQh8ZCOchBZqvj0w5rveiNYcTnM/edit#gid=0\"\",\"\"RWA!F:BZ\"\"),44,0))\"),\"\")","v":""},{"$f":"IFERROR(__xludf.DUMMYFUNCTION(\"iferror(VLOOKUP(B236,IMPORTRANGE(\"\"https://docs.google.com/spreadsheets/d/1bphtMaJ6lFh0VVWIgQh8ZCOchBZqvj0w5rveiNYcTnM/edit#gid=0\"\",\"\"RWA!F:BZ\"\"),48,0))\"),\"\")","v":""},{"$f":"IFERROR(__xludf.DUMMYFUNCTION(\"iferror(VLOOKUP(B236,IMPORTRANGE(\"\"https://docs.google.com/spreadsheets/d/1bphtMaJ6lFh0VVWIgQh8ZCOchBZqvj0w5rveiNYcTnM/edit#gid=0\"\",\"\"RWA!F:BZ\"\"),49,0))\"),\"\")","v":""},{"$f":"IFERROR(__xludf.DUMMYFUNCTION(\"iferror(VLOOKUP(B236,IMPORTRANGE(\"\"https://docs.google.com/spreadsheets/d/1bphtMaJ6lFh0VVWIgQh8ZCOchBZqvj0w5rveiNYcTnM/edit#gid=0\"\",\"\"RWA!F:BZ\"\"),53,0))\"),\"\")","v":""}]
[null,null,null,{"$f":"IFERROR(__xludf.DUMMYFUNCTION(\"iferror(VLOOKUP(B237,IMPORTRANGE(\"\"https://docs.google.com/spreadsheets/d/1bphtMaJ6lFh0VVWIgQh8ZCOchBZqvj0w5rveiNYcTnM/edit#gid=0\"\",\"\"RWA!F:BZ\"\"),44,0))\"),\"\")","v":""},{"$f":"IFERROR(__xludf.DUMMYFUNCTION(\"iferror(VLOOKUP(B237,IMPORTRANGE(\"\"https://docs.google.com/spreadsheets/d/1bphtMaJ6lFh0VVWIgQh8ZCOchBZqvj0w5rveiNYcTnM/edit#gid=0\"\",\"\"RWA!F:BZ\"\"),48,0))\"),\"\")","v":""},{"$f":"IFERROR(__xludf.DUMMYFUNCTION(\"iferror(VLOOKUP(B237,IMPORTRANGE(\"\"https://docs.google.com/spreadsheets/d/1bphtMaJ6lFh0VVWIgQh8ZCOchBZqvj0w5rveiNYcTnM/edit#gid=0\"\",\"\"RWA!F:BZ\"\"),49,0))\"),\"\")","v":""},{"$f":"IFERROR(__xludf.DUMMYFUNCTION(\"iferror(VLOOKUP(B237,IMPORTRANGE(\"\"https://docs.google.com/spreadsheets/d/1bphtMaJ6lFh0VVWIgQh8ZCOchBZqvj0w5rveiNYcTnM/edit#gid=0\"\",\"\"RWA!F:BZ\"\"),53,0))\"),\"\")","v":""}]
[null,null,null,{"$f":"IFERROR(__xludf.DUMMYFUNCTION(\"iferror(VLOOKUP(B238,IMPORTRANGE(\"\"https://docs.google.com/spreadsheets/d/1bphtMaJ6lFh0VVWIgQh8ZCOchBZqvj0w5rveiNYcTnM/edit#gid=0\"\",\"\"RWA!F:BZ\"\"),44,0))\"),\"\")","v":""},{"$f":"IFERROR(__xludf.DUMMYFUNCTION(\"iferror(VLOOKUP(B238,IMPORTRANGE(\"\"https://docs.google.com/spreadsheets/d/1bphtMaJ6lFh0VVWIgQh8ZCOchBZqvj0w5rveiNYcTnM/edit#gid=0\"\",\"\"RWA!F:BZ\"\"),48,0))\"),\"\")","v":""},{"$f":"IFERROR(__xludf.DUMMYFUNCTION(\"iferror(VLOOKUP(B238,IMPORTRANGE(\"\"https://docs.google.com/spreadsheets/d/1bphtMaJ6lFh0VVWIgQh8ZCOchBZqvj0w5rveiNYcTnM/edit#gid=0\"\",\"\"RWA!F:BZ\"\"),49,0))\"),\"\")","v":""},{"$f":"IFERROR(__xludf.DUMMYFUNCTION(\"iferror(VLOOKUP(B238,IMPORTRANGE(\"\"https://docs.google.com/spreadsheets/d/1bphtMaJ6lFh0VVWIgQh8ZCOchBZqvj0w5rveiNYcTnM/edit#gid=0\"\",\"\"RWA!F:BZ\"\"),53,0))\"),\"\")","v":""}]
[null,null,null,{"$f":"IFERROR(__xludf.DUMMYFUNCTION(\"iferror(VLOOKUP(B239,IMPORTRANGE(\"\"https://docs.google.com/spreadsheets/d/1bphtMaJ6lFh0VVWIgQh8ZCOchBZqvj0w5rveiNYcTnM/edit#gid=0\"\",\"\"RWA!F:BZ\"\"),44,0))\"),\"\")","v":""},{"$f":"IFERROR(__xludf.DUMMYFUNCTION(\"iferror(VLOOKUP(B239,IMPORTRANGE(\"\"https://docs.google.com/spreadsheets/d/1bphtMaJ6lFh0VVWIgQh8ZCOchBZqvj0w5rveiNYcTnM/edit#gid=0\"\",\"\"RWA!F:BZ\"\"),48,0))\"),\"\")","v":""},{"$f":"IFERROR(__xludf.DUMMYFUNCTION(\"iferror(VLOOKUP(B239,IMPORTRANGE(\"\"https://docs.google.com/spreadsheets/d/1bphtMaJ6lFh0VVWIgQh8ZCOchBZqvj0w5rveiNYcTnM/edit#gid=0\"\",\"\"RWA!F:BZ\"\"),49,0))\"),\"\")","v":""},{"$f":"IFERROR(__xludf.DUMMYFUNCTION(\"iferror(VLOOKUP(B239,IMPORTRANGE(\"\"https://docs.google.com/spreadsheets/d/1bphtMaJ6lFh0VVWIgQh8ZCOchBZqvj0w5rveiNYcTnM/edit#gid=0\"\",\"\"RWA!F:BZ\"\"),53,0))\"),\"\")","v":""}]
[null,null,null,{"$f":"IFERROR(__xludf.DUMMYFUNCTION(\"iferror(VLOOKUP(B240,IMPORTRANGE(\"\"https://docs.google.com/spreadsheets/d/1bphtMaJ6lFh0VVWIgQh8ZCOchBZqvj0w5rveiNYcTnM/edit#gid=0\"\",\"\"RWA!F:BZ\"\"),44,0))\"),\"\")","v":""},{"$f":"IFERROR(__xludf.DUMMYFUNCTION(\"iferror(VLOOKUP(B240,IMPORTRANGE(\"\"https://docs.google.com/spreadsheets/d/1bphtMaJ6lFh0VVWIgQh8ZCOchBZqvj0w5rveiNYcTnM/edit#gid=0\"\",\"\"RWA!F:BZ\"\"),48,0))\"),\"\")","v":""},{"$f":"IFERROR(__xludf.DUMMYFUNCTION(\"iferror(VLOOKUP(B240,IMPORTRANGE(\"\"https://docs.google.com/spreadsheets/d/1bphtMaJ6lFh0VVWIgQh8ZCOchBZqvj0w5rveiNYcTnM/edit#gid=0\"\",\"\"RWA!F:BZ\"\"),49,0))\"),\"\")","v":""},{"$f":"IFERROR(__xludf.DUMMYFUNCTION(\"iferror(VLOOKUP(B240,IMPORTRANGE(\"\"https://docs.google.com/spreadsheets/d/1bphtMaJ6lFh0VVWIgQh8ZCOchBZqvj0w5rveiNYcTnM/edit#gid=0\"\",\"\"RWA!F:BZ\"\"),53,0))\"),\"\")","v":""}]
[null,null,null,{"$f":"IFERROR(__xludf.DUMMYFUNCTION(\"iferror(VLOOKUP(B241,IMPORTRANGE(\"\"https://docs.google.com/spreadsheets/d/1bphtMaJ6lFh0VVWIgQh8ZCOchBZqvj0w5rveiNYcTnM/edit#gid=0\"\",\"\"RWA!F:BZ\"\"),44,0))\"),\"\")","v":""},{"$f":"IFERROR(__xludf.DUMMYFUNCTION(\"iferror(VLOOKUP(B241,IMPORTRANGE(\"\"https://docs.google.com/spreadsheets/d/1bphtMaJ6lFh0VVWIgQh8ZCOchBZqvj0w5rveiNYcTnM/edit#gid=0\"\",\"\"RWA!F:BZ\"\"),48,0))\"),\"\")","v":""},{"$f":"IFERROR(__xludf.DUMMYFUNCTION(\"iferror(VLOOKUP(B241,IMPORTRANGE(\"\"https://docs.google.com/spreadsheets/d/1bphtMaJ6lFh0VVWIgQh8ZCOchBZqvj0w5rveiNYcTnM/edit#gid=0\"\",\"\"RWA!F:BZ\"\"),49,0))\"),\"\")","v":""},{"$f":"IFERROR(__xludf.DUMMYFUNCTION(\"iferror(VLOOKUP(B241,IMPORTRANGE(\"\"https://docs.google.com/spreadsheets/d/1bphtMaJ6lFh0VVWIgQh8ZCOchBZqvj0w5rveiNYcTnM/edit#gid=0\"\",\"\"RWA!F:BZ\"\"),53,0))\"),\"\")","v":""}]
[null,null,null,{"$f":"IFERROR(__xludf.DUMMYFUNCTION(\"iferror(VLOOKUP(B242,IMPORTRANGE(\"\"https://docs.google.com/spreadsheets/d/1bphtMaJ6lFh0VVWIgQh8ZCOchBZqvj0w5rveiNYcTnM/edit#gid=0\"\",\"\"RWA!F:BZ\"\"),44,0))\"),\"\")","v":""},{"$f":"IFERROR(__xludf.DUMMYFUNCTION(\"iferror(VLOOKUP(B242,IMPORTRANGE(\"\"https://docs.google.com/spreadsheets/d/1bphtMaJ6lFh0VVWIgQh8ZCOchBZqvj0w5rveiNYcTnM/edit#gid=0\"\",\"\"RWA!F:BZ\"\"),48,0))\"),\"\")","v":""},{"$f":"IFERROR(__xludf.DUMMYFUNCTION(\"iferror(VLOOKUP(B242,IMPORTRANGE(\"\"https://docs.google.com/spreadsheets/d/1bphtMaJ6lFh0VVWIgQh8ZCOchBZqvj0w5rveiNYcTnM/edit#gid=0\"\",\"\"RWA!F:BZ\"\"),49,0))\"),\"\")","v":""},{"$f":"IFERROR(__xludf.DUMMYFUNCTION(\"iferror(VLOOKUP(B242,IMPORTRANGE(\"\"https://docs.google.com/spreadsheets/d/1bphtMaJ6lFh0VVWIgQh8ZCOchBZqvj0w5rveiNYcTnM/edit#gid=0\"\",\"\"RWA!F:BZ\"\"),53,0))\"),\"\")","v":""}]
[null,null,null,{"$f":"IFERROR(__xludf.DUMMYFUNCTION(\"iferror(VLOOKUP(B243,IMPORTRANGE(\"\"https://docs.google.com/spreadsheets/d/1bphtMaJ6lFh0VVWIgQh8ZCOchBZqvj0w5rveiNYcTnM/edit#gid=0\"\",\"\"RWA!F:BZ\"\"),44,0))\"),\"\")","v":""},{"$f":"IFERROR(__xludf.DUMMYFUNCTION(\"iferror(VLOOKUP(B243,IMPORTRANGE(\"\"https://docs.google.com/spreadsheets/d/1bphtMaJ6lFh0VVWIgQh8ZCOchBZqvj0w5rveiNYcTnM/edit#gid=0\"\",\"\"RWA!F:BZ\"\"),48,0))\"),\"\")","v":""},{"$f":"IFERROR(__xludf.DUMMYFUNCTION(\"iferror(VLOOKUP(B243,IMPORTRANGE(\"\"https://docs.google.com/spreadsheets/d/1bphtMaJ6lFh0VVWIgQh8ZCOchBZqvj0w5rveiNYcTnM/edit#gid=0\"\",\"\"RWA!F:BZ\"\"),49,0))\"),\"\")","v":""},{"$f":"IFERROR(__xludf.DUMMYFUNCTION(\"iferror(VLOOKUP(B243,IMPORTRANGE(\"\"https://docs.google.com/spreadsheets/d/1bphtMaJ6lFh0VVWIgQh8ZCOchBZqvj0w5rveiNYcTnM/edit#gid=0\"\",\"\"RWA!F:BZ\"\"),53,0))\"),\"\")","v":""}]
[null,null,null,{"$f":"IFERROR(__xludf.DUMMYFUNCTION(\"iferror(VLOOKUP(B244,IMPORTRANGE(\"\"https://docs.google.com/spreadsheets/d/1bphtMaJ6lFh0VVWIgQh8ZCOchBZqvj0w5rveiNYcTnM/edit#gid=0\"\",\"\"RWA!F:BZ\"\"),44,0))\"),\"\")","v":""},{"$f":"IFERROR(__xludf.DUMMYFUNCTION(\"iferror(VLOOKUP(B244,IMPORTRANGE(\"\"https://docs.google.com/spreadsheets/d/1bphtMaJ6lFh0VVWIgQh8ZCOchBZqvj0w5rveiNYcTnM/edit#gid=0\"\",\"\"RWA!F:BZ\"\"),48,0))\"),\"\")","v":""},{"$f":"IFERROR(__xludf.DUMMYFUNCTION(\"iferror(VLOOKUP(B244,IMPORTRANGE(\"\"https://docs.google.com/spreadsheets/d/1bphtMaJ6lFh0VVWIgQh8ZCOchBZqvj0w5rveiNYcTnM/edit#gid=0\"\",\"\"RWA!F:BZ\"\"),49,0))\"),\"\")","v":""},{"$f":"IFERROR(__xludf.DUMMYFUNCTION(\"iferror(VLOOKUP(B244,IMPORTRANGE(\"\"https://docs.google.com/spreadsheets/d/1bphtMaJ6lFh0VVWIgQh8ZCOchBZqvj0w5rveiNYcTnM/edit#gid=0\"\",\"\"RWA!F:BZ\"\"),53,0))\"),\"\")","v":""}]
[null,null,null,{"$f":"IFERROR(__xludf.DUMMYFUNCTION(\"iferror(VLOOKUP(B245,IMPORTRANGE(\"\"https://docs.google.com/spreadsheets/d/1bphtMaJ6lFh0VVWIgQh8ZCOchBZqvj0w5rveiNYcTnM/edit#gid=0\"\",\"\"RWA!F:BZ\"\"),44,0))\"),\"\")","v":""},{"$f":"IFERROR(__xludf.DUMMYFUNCTION(\"iferror(VLOOKUP(B245,IMPORTRANGE(\"\"https://docs.google.com/spreadsheets/d/1bphtMaJ6lFh0VVWIgQh8ZCOchBZqvj0w5rveiNYcTnM/edit#gid=0\"\",\"\"RWA!F:BZ\"\"),48,0))\"),\"\")","v":""},{"$f":"IFERROR(__xludf.DUMMYFUNCTION(\"iferror(VLOOKUP(B245,IMPORTRANGE(\"\"https://docs.google.com/spreadsheets/d/1bphtMaJ6lFh0VVWIgQh8ZCOchBZqvj0w5rveiNYcTnM/edit#gid=0\"\",\"\"RWA!F:BZ\"\"),49,0))\"),\"\")","v":""},{"$f":"IFERROR(__xludf.DUMMYFUNCTION(\"iferror(VLOOKUP(B245,IMPORTRANGE(\"\"https://docs.google.com/spreadsheets/d/1bphtMaJ6lFh0VVWIgQh8ZCOchBZqvj0w5rveiNYcTnM/edit#gid=0\"\",\"\"RWA!F:BZ\"\"),53,0))\"),\"\")","v":""}]
[null,null,null,{"$f":"IFERROR(__xludf.DUMMYFUNCTION(\"iferror(VLOOKUP(B246,IMPORTRANGE(\"\"https://docs.google.com/spreadsheets/d/1bphtMaJ6lFh0VVWIgQh8ZCOchBZqvj0w5rveiNYcTnM/edit#gid=0\"\",\"\"RWA!F:BZ\"\"),44,0))\"),\"\")","v":""},{"$f":"IFERROR(__xludf.DUMMYFUNCTION(\"iferror(VLOOKUP(B246,IMPORTRANGE(\"\"https://docs.google.com/spreadsheets/d/1bphtMaJ6lFh0VVWIgQh8ZCOchBZqvj0w5rveiNYcTnM/edit#gid=0\"\",\"\"RWA!F:BZ\"\"),48,0))\"),\"\")","v":""},{"$f":"IFERROR(__xludf.DUMMYFUNCTION(\"iferror(VLOOKUP(B246,IMPORTRANGE(\"\"https://docs.google.com/spreadsheets/d/1bphtMaJ6lFh0VVWIgQh8ZCOchBZqvj0w5rveiNYcTnM/edit#gid=0\"\",\"\"RWA!F:BZ\"\"),49,0))\"),\"\")","v":""},{"$f":"IFERROR(__xludf.DUMMYFUNCTION(\"iferror(VLOOKUP(B246,IMPORTRANGE(\"\"https://docs.google.com/spreadsheets/d/1bphtMaJ6lFh0VVWIgQh8ZCOchBZqvj0w5rveiNYcTnM/edit#gid=0\"\",\"\"RWA!F:BZ\"\"),53,0))\"),\"\")","v":""}]
[null,null,null,{"$f":"IFERROR(__xludf.DUMMYFUNCTION(\"iferror(VLOOKUP(B247,IMPORTRANGE(\"\"https://docs.google.com/spreadsheets/d/1bphtMaJ6lFh0VVWIgQh8ZCOchBZqvj0w5rveiNYcTnM/edit#gid=0\"\",\"\"RWA!F:BZ\"\"),44,0))\"),\"\")","v":""},{"$f":"IFERROR(__xludf.DUMMYFUNCTION(\"iferror(VLOOKUP(B247,IMPORTRANGE(\"\"https://docs.google.com/spreadsheets/d/1bphtMaJ6lFh0VVWIgQh8ZCOchBZqvj0w5rveiNYcTnM/edit#gid=0\"\",\"\"RWA!F:BZ\"\"),48,0))\"),\"\")","v":""},{"$f":"IFERROR(__xludf.DUMMYFUNCTION(\"iferror(VLOOKUP(B247,IMPORTRANGE(\"\"https://docs.google.com/spreadsheets/d/1bphtMaJ6lFh0VVWIgQh8ZCOchBZqvj0w5rveiNYcTnM/edit#gid=0\"\",\"\"RWA!F:BZ\"\"),49,0))\"),\"\")","v":""},{"$f":"IFERROR(__xludf.DUMMYFUNCTION(\"iferror(VLOOKUP(B247,IMPORTRANGE(\"\"https://docs.google.com/spreadsheets/d/1bphtMaJ6lFh0VVWIgQh8ZCOchBZqvj0w5rveiNYcTnM/edit#gid=0\"\",\"\"RWA!F:BZ\"\"),53,0))\"),\"\")","v":""}]
[null,null,null,{"$f":"IFERROR(__xludf.DUMMYFUNCTION(\"iferror(VLOOKUP(B248,IMPORTRANGE(\"\"https://docs.google.com/spreadsheets/d/1bphtMaJ6lFh0VVWIgQh8ZCOchBZqvj0w5rveiNYcTnM/edit#gid=0\"\",\"\"RWA!F:BZ\"\"),44,0))\"),\"\")","v":""},{"$f":"IFERROR(__xludf.DUMMYFUNCTION(\"iferror(VLOOKUP(B248,IMPORTRANGE(\"\"https://docs.google.com/spreadsheets/d/1bphtMaJ6lFh0VVWIgQh8ZCOchBZqvj0w5rveiNYcTnM/edit#gid=0\"\",\"\"RWA!F:BZ\"\"),48,0))\"),\"\")","v":""},{"$f":"IFERROR(__xludf.DUMMYFUNCTION(\"iferror(VLOOKUP(B248,IMPORTRANGE(\"\"https://docs.google.com/spreadsheets/d/1bphtMaJ6lFh0VVWIgQh8ZCOchBZqvj0w5rveiNYcTnM/edit#gid=0\"\",\"\"RWA!F:BZ\"\"),49,0))\"),\"\")","v":""},{"$f":"IFERROR(__xludf.DUMMYFUNCTION(\"iferror(VLOOKUP(B248,IMPORTRANGE(\"\"https://docs.google.com/spreadsheets/d/1bphtMaJ6lFh0VVWIgQh8ZCOchBZqvj0w5rveiNYcTnM/edit#gid=0\"\",\"\"RWA!F:BZ\"\"),53,0))\"),\"\")","v":""}]
[null,null,null,{"$f":"IFERROR(__xludf.DUMMYFUNCTION(\"iferror(VLOOKUP(B249,IMPORTRANGE(\"\"https://docs.google.com/spreadsheets/d/1bphtMaJ6lFh0VVWIgQh8ZCOchBZqvj0w5rveiNYcTnM/edit#gid=0\"\",\"\"RWA!F:BZ\"\"),44,0))\"),\"\")","v":""},{"$f":"IFERROR(__xludf.DUMMYFUNCTION(\"iferror(VLOOKUP(B249,IMPORTRANGE(\"\"https://docs.google.com/spreadsheets/d/1bphtMaJ6lFh0VVWIgQh8ZCOchBZqvj0w5rveiNYcTnM/edit#gid=0\"\",\"\"RWA!F:BZ\"\"),48,0))\"),\"\")","v":""},{"$f":"IFERROR(__xludf.DUMMYFUNCTION(\"iferror(VLOOKUP(B249,IMPORTRANGE(\"\"https://docs.google.com/spreadsheets/d/1bphtMaJ6lFh0VVWIgQh8ZCOchBZqvj0w5rveiNYcTnM/edit#gid=0\"\",\"\"RWA!F:BZ\"\"),49,0))\"),\"\")","v":""},{"$f":"IFERROR(__xludf.DUMMYFUNCTION(\"iferror(VLOOKUP(B249,IMPORTRANGE(\"\"https://docs.google.com/spreadsheets/d/1bphtMaJ6lFh0VVWIgQh8ZCOchBZqvj0w5rveiNYcTnM/edit#gid=0\"\",\"\"RWA!F:BZ\"\"),53,0))\"),\"\")","v":""}]
[null,null,null,{"$f":"IFERROR(__xludf.DUMMYFUNCTION(\"iferror(VLOOKUP(B250,IMPORTRANGE(\"\"https://docs.google.com/spreadsheets/d/1bphtMaJ6lFh0VVWIgQh8ZCOchBZqvj0w5rveiNYcTnM/edit#gid=0\"\",\"\"RWA!F:BZ\"\"),44,0))\"),\"\")","v":""},{"$f":"IFERROR(__xludf.DUMMYFUNCTION(\"iferror(VLOOKUP(B250,IMPORTRANGE(\"\"https://docs.google.com/spreadsheets/d/1bphtMaJ6lFh0VVWIgQh8ZCOchBZqvj0w5rveiNYcTnM/edit#gid=0\"\",\"\"RWA!F:BZ\"\"),48,0))\"),\"\")","v":""},{"$f":"IFERROR(__xludf.DUMMYFUNCTION(\"iferror(VLOOKUP(B250,IMPORTRANGE(\"\"https://docs.google.com/spreadsheets/d/1bphtMaJ6lFh0VVWIgQh8ZCOchBZqvj0w5rveiNYcTnM/edit#gid=0\"\",\"\"RWA!F:BZ\"\"),49,0))\"),\"\")","v":""},{"$f":"IFERROR(__xludf.DUMMYFUNCTION(\"iferror(VLOOKUP(B250,IMPORTRANGE(\"\"https://docs.google.com/spreadsheets/d/1bphtMaJ6lFh0VVWIgQh8ZCOchBZqvj0w5rveiNYcTnM/edit#gid=0\"\",\"\"RWA!F:BZ\"\"),53,0))\"),\"\")","v":""}]
[null,null,null,{"$f":"IFERROR(__xludf.DUMMYFUNCTION(\"iferror(VLOOKUP(B251,IMPORTRANGE(\"\"https://docs.google.com/spreadsheets/d/1bphtMaJ6lFh0VVWIgQh8ZCOchBZqvj0w5rveiNYcTnM/edit#gid=0\"\",\"\"RWA!F:BZ\"\"),44,0))\"),\"\")","v":""},{"$f":"IFERROR(__xludf.DUMMYFUNCTION(\"iferror(VLOOKUP(B251,IMPORTRANGE(\"\"https://docs.google.com/spreadsheets/d/1bphtMaJ6lFh0VVWIgQh8ZCOchBZqvj0w5rveiNYcTnM/edit#gid=0\"\",\"\"RWA!F:BZ\"\"),48,0))\"),\"\")","v":""},{"$f":"IFERROR(__xludf.DUMMYFUNCTION(\"iferror(VLOOKUP(B251,IMPORTRANGE(\"\"https://docs.google.com/spreadsheets/d/1bphtMaJ6lFh0VVWIgQh8ZCOchBZqvj0w5rveiNYcTnM/edit#gid=0\"\",\"\"RWA!F:BZ\"\"),49,0))\"),\"\")","v":""},{"$f":"IFERROR(__xludf.DUMMYFUNCTION(\"iferror(VLOOKUP(B251,IMPORTRANGE(\"\"https://docs.google.com/spreadsheets/d/1bphtMaJ6lFh0VVWIgQh8ZCOchBZqvj0w5rveiNYcTnM/edit#gid=0\"\",\"\"RWA!F:BZ\"\"),53,0))\"),\"\")","v":""}]
[null,null,null,{"$f":"IFERROR(__xludf.DUMMYFUNCTION(\"iferror(VLOOKUP(B252,IMPORTRANGE(\"\"https://docs.google.com/spreadsheets/d/1bphtMaJ6lFh0VVWIgQh8ZCOchBZqvj0w5rveiNYcTnM/edit#gid=0\"\",\"\"RWA!F:BZ\"\"),44,0))\"),\"\")","v":""},{"$f":"IFERROR(__xludf.DUMMYFUNCTION(\"iferror(VLOOKUP(B252,IMPORTRANGE(\"\"https://docs.google.com/spreadsheets/d/1bphtMaJ6lFh0VVWIgQh8ZCOchBZqvj0w5rveiNYcTnM/edit#gid=0\"\",\"\"RWA!F:BZ\"\"),48,0))\"),\"\")","v":""},{"$f":"IFERROR(__xludf.DUMMYFUNCTION(\"iferror(VLOOKUP(B252,IMPORTRANGE(\"\"https://docs.google.com/spreadsheets/d/1bphtMaJ6lFh0VVWIgQh8ZCOchBZqvj0w5rveiNYcTnM/edit#gid=0\"\",\"\"RWA!F:BZ\"\"),49,0))\"),\"\")","v":""},{"$f":"IFERROR(__xludf.DUMMYFUNCTION(\"iferror(VLOOKUP(B252,IMPORTRANGE(\"\"https://docs.google.com/spreadsheets/d/1bphtMaJ6lFh0VVWIgQh8ZCOchBZqvj0w5rveiNYcTnM/edit#gid=0\"\",\"\"RWA!F:BZ\"\"),53,0))\"),\"\")","v":""}]
[null,null,null,{"$f":"IFERROR(__xludf.DUMMYFUNCTION(\"iferror(VLOOKUP(B253,IMPORTRANGE(\"\"https://docs.google.com/spreadsheets/d/1bphtMaJ6lFh0VVWIgQh8ZCOchBZqvj0w5rveiNYcTnM/edit#gid=0\"\",\"\"RWA!F:BZ\"\"),44,0))\"),\"\")","v":""},{"$f":"IFERROR(__xludf.DUMMYFUNCTION(\"iferror(VLOOKUP(B253,IMPORTRANGE(\"\"https://docs.google.com/spreadsheets/d/1bphtMaJ6lFh0VVWIgQh8ZCOchBZqvj0w5rveiNYcTnM/edit#gid=0\"\",\"\"RWA!F:BZ\"\"),48,0))\"),\"\")","v":""},{"$f":"IFERROR(__xludf.DUMMYFUNCTION(\"iferror(VLOOKUP(B253,IMPORTRANGE(\"\"https://docs.google.com/spreadsheets/d/1bphtMaJ6lFh0VVWIgQh8ZCOchBZqvj0w5rveiNYcTnM/edit#gid=0\"\",\"\"RWA!F:BZ\"\"),49,0))\"),\"\")","v":""},{"$f":"IFERROR(__xludf.DUMMYFUNCTION(\"iferror(VLOOKUP(B253,IMPORTRANGE(\"\"https://docs.google.com/spreadsheets/d/1bphtMaJ6lFh0VVWIgQh8ZCOchBZqvj0w5rveiNYcTnM/edit#gid=0\"\",\"\"RWA!F:BZ\"\"),53,0))\"),\"\")","v":""}]
[null,null,null,{"$f":"IFERROR(__xludf.DUMMYFUNCTION(\"iferror(VLOOKUP(B254,IMPORTRANGE(\"\"https://docs.google.com/spreadsheets/d/1bphtMaJ6lFh0VVWIgQh8ZCOchBZqvj0w5rveiNYcTnM/edit#gid=0\"\",\"\"RWA!F:BZ\"\"),44,0))\"),\"\")","v":""},{"$f":"IFERROR(__xludf.DUMMYFUNCTION(\"iferror(VLOOKUP(B254,IMPORTRANGE(\"\"https://docs.google.com/spreadsheets/d/1bphtMaJ6lFh0VVWIgQh8ZCOchBZqvj0w5rveiNYcTnM/edit#gid=0\"\",\"\"RWA!F:BZ\"\"),48,0))\"),\"\")","v":""},{"$f":"IFERROR(__xludf.DUMMYFUNCTION(\"iferror(VLOOKUP(B254,IMPORTRANGE(\"\"https://docs.google.com/spreadsheets/d/1bphtMaJ6lFh0VVWIgQh8ZCOchBZqvj0w5rveiNYcTnM/edit#gid=0\"\",\"\"RWA!F:BZ\"\"),49,0))\"),\"\")","v":""},{"$f":"IFERROR(__xludf.DUMMYFUNCTION(\"iferror(VLOOKUP(B254,IMPORTRANGE(\"\"https://docs.google.com/spreadsheets/d/1bphtMaJ6lFh0VVWIgQh8ZCOchBZqvj0w5rveiNYcTnM/edit#gid=0\"\",\"\"RWA!F:BZ\"\"),53,0))\"),\"\")","v":""}]
[null,null,null,{"$f":"IFERROR(__xludf.DUMMYFUNCTION(\"iferror(VLOOKUP(B255,IMPORTRANGE(\"\"https://docs.google.com/spreadsheets/d/1bphtMaJ6lFh0VVWIgQh8ZCOchBZqvj0w5rveiNYcTnM/edit#gid=0\"\",\"\"RWA!F:BZ\"\"),44,0))\"),\"\")","v":""},{"$f":"IFERROR(__xludf.DUMMYFUNCTION(\"iferror(VLOOKUP(B255,IMPORTRANGE(\"\"https://docs.google.com/spreadsheets/d/1bphtMaJ6lFh0VVWIgQh8ZCOchBZqvj0w5rveiNYcTnM/edit#gid=0\"\",\"\"RWA!F:BZ\"\"),48,0))\"),\"\")","v":""},{"$f":"IFERROR(__xludf.DUMMYFUNCTION(\"iferror(VLOOKUP(B255,IMPORTRANGE(\"\"https://docs.google.com/spreadsheets/d/1bphtMaJ6lFh0VVWIgQh8ZCOchBZqvj0w5rveiNYcTnM/edit#gid=0\"\",\"\"RWA!F:BZ\"\"),49,0))\"),\"\")","v":""},{"$f":"IFERROR(__xludf.DUMMYFUNCTION(\"iferror(VLOOKUP(B255,IMPORTRANGE(\"\"https://docs.google.com/spreadsheets/d/1bphtMaJ6lFh0VVWIgQh8ZCOchBZqvj0w5rveiNYcTnM/edit#gid=0\"\",\"\"RWA!F:BZ\"\"),53,0))\"),\"\")","v":""}]
[null,null,null,{"$f":"IFERROR(__xludf.DUMMYFUNCTION(\"iferror(VLOOKUP(B256,IMPORTRANGE(\"\"https://docs.google.com/spreadsheets/d/1bphtMaJ6lFh0VVWIgQh8ZCOchBZqvj0w5rveiNYcTnM/edit#gid=0\"\",\"\"RWA!F:BZ\"\"),44,0))\"),\"\")","v":""},{"$f":"IFERROR(__xludf.DUMMYFUNCTION(\"iferror(VLOOKUP(B256,IMPORTRANGE(\"\"https://docs.google.com/spreadsheets/d/1bphtMaJ6lFh0VVWIgQh8ZCOchBZqvj0w5rveiNYcTnM/edit#gid=0\"\",\"\"RWA!F:BZ\"\"),48,0))\"),\"\")","v":""},{"$f":"IFERROR(__xludf.DUMMYFUNCTION(\"iferror(VLOOKUP(B256,IMPORTRANGE(\"\"https://docs.google.com/spreadsheets/d/1bphtMaJ6lFh0VVWIgQh8ZCOchBZqvj0w5rveiNYcTnM/edit#gid=0\"\",\"\"RWA!F:BZ\"\"),49,0))\"),\"\")","v":""},{"$f":"IFERROR(__xludf.DUMMYFUNCTION(\"iferror(VLOOKUP(B256,IMPORTRANGE(\"\"https://docs.google.com/spreadsheets/d/1bphtMaJ6lFh0VVWIgQh8ZCOchBZqvj0w5rveiNYcTnM/edit#gid=0\"\",\"\"RWA!F:BZ\"\"),53,0))\"),\"\")","v":""}]
[null,null,null,{"$f":"IFERROR(__xludf.DUMMYFUNCTION(\"iferror(VLOOKUP(B257,IMPORTRANGE(\"\"https://docs.google.com/spreadsheets/d/1bphtMaJ6lFh0VVWIgQh8ZCOchBZqvj0w5rveiNYcTnM/edit#gid=0\"\",\"\"RWA!F:BZ\"\"),44,0))\"),\"\")","v":""},{"$f":"IFERROR(__xludf.DUMMYFUNCTION(\"iferror(VLOOKUP(B257,IMPORTRANGE(\"\"https://docs.google.com/spreadsheets/d/1bphtMaJ6lFh0VVWIgQh8ZCOchBZqvj0w5rveiNYcTnM/edit#gid=0\"\",\"\"RWA!F:BZ\"\"),48,0))\"),\"\")","v":""},{"$f":"IFERROR(__xludf.DUMMYFUNCTION(\"iferror(VLOOKUP(B257,IMPORTRANGE(\"\"https://docs.google.com/spreadsheets/d/1bphtMaJ6lFh0VVWIgQh8ZCOchBZqvj0w5rveiNYcTnM/edit#gid=0\"\",\"\"RWA!F:BZ\"\"),49,0))\"),\"\")","v":""},{"$f":"IFERROR(__xludf.DUMMYFUNCTION(\"iferror(VLOOKUP(B257,IMPORTRANGE(\"\"https://docs.google.com/spreadsheets/d/1bphtMaJ6lFh0VVWIgQh8ZCOchBZqvj0w5rveiNYcTnM/edit#gid=0\"\",\"\"RWA!F:BZ\"\"),53,0))\"),\"\")","v":""}]
[null,null,null,{"$f":"IFERROR(__xludf.DUMMYFUNCTION(\"iferror(VLOOKUP(B258,IMPORTRANGE(\"\"https://docs.google.com/spreadsheets/d/1bphtMaJ6lFh0VVWIgQh8ZCOchBZqvj0w5rveiNYcTnM/edit#gid=0\"\",\"\"RWA!F:BZ\"\"),44,0))\"),\"\")","v":""},{"$f":"IFERROR(__xludf.DUMMYFUNCTION(\"iferror(VLOOKUP(B258,IMPORTRANGE(\"\"https://docs.google.com/spreadsheets/d/1bphtMaJ6lFh0VVWIgQh8ZCOchBZqvj0w5rveiNYcTnM/edit#gid=0\"\",\"\"RWA!F:BZ\"\"),48,0))\"),\"\")","v":""},{"$f":"IFERROR(__xludf.DUMMYFUNCTION(\"iferror(VLOOKUP(B258,IMPORTRANGE(\"\"https://docs.google.com/spreadsheets/d/1bphtMaJ6lFh0VVWIgQh8ZCOchBZqvj0w5rveiNYcTnM/edit#gid=0\"\",\"\"RWA!F:BZ\"\"),49,0))\"),\"\")","v":""},{"$f":"IFERROR(__xludf.DUMMYFUNCTION(\"iferror(VLOOKUP(B258,IMPORTRANGE(\"\"https://docs.google.com/spreadsheets/d/1bphtMaJ6lFh0VVWIgQh8ZCOchBZqvj0w5rveiNYcTnM/edit#gid=0\"\",\"\"RWA!F:BZ\"\"),53,0))\"),\"\")","v":""}]
[null,null,null,{"$f":"IFERROR(__xludf.DUMMYFUNCTION(\"iferror(VLOOKUP(B259,IMPORTRANGE(\"\"https://docs.google.com/spreadsheets/d/1bphtMaJ6lFh0VVWIgQh8ZCOchBZqvj0w5rveiNYcTnM/edit#gid=0\"\",\"\"RWA!F:BZ\"\"),44,0))\"),\"\")","v":""},{"$f":"IFERROR(__xludf.DUMMYFUNCTION(\"iferror(VLOOKUP(B259,IMPORTRANGE(\"\"https://docs.google.com/spreadsheets/d/1bphtMaJ6lFh0VVWIgQh8ZCOchBZqvj0w5rveiNYcTnM/edit#gid=0\"\",\"\"RWA!F:BZ\"\"),48,0))\"),\"\")","v":""},{"$f":"IFERROR(__xludf.DUMMYFUNCTION(\"iferror(VLOOKUP(B259,IMPORTRANGE(\"\"https://docs.google.com/spreadsheets/d/1bphtMaJ6lFh0VVWIgQh8ZCOchBZqvj0w5rveiNYcTnM/edit#gid=0\"\",\"\"RWA!F:BZ\"\"),49,0))\"),\"\")","v":""},{"$f":"IFERROR(__xludf.DUMMYFUNCTION(\"iferror(VLOOKUP(B259,IMPORTRANGE(\"\"https://docs.google.com/spreadsheets/d/1bphtMaJ6lFh0VVWIgQh8ZCOchBZqvj0w5rveiNYcTnM/edit#gid=0\"\",\"\"RWA!F:BZ\"\"),53,0))\"),\"\")","v":""}]
[null,null,null,{"$f":"IFERROR(__xludf.DUMMYFUNCTION(\"iferror(VLOOKUP(B260,IMPORTRANGE(\"\"https://docs.google.com/spreadsheets/d/1bphtMaJ6lFh0VVWIgQh8ZCOchBZqvj0w5rveiNYcTnM/edit#gid=0\"\",\"\"RWA!F:BZ\"\"),44,0))\"),\"\")","v":""},{"$f":"IFERROR(__xludf.DUMMYFUNCTION(\"iferror(VLOOKUP(B260,IMPORTRANGE(\"\"https://docs.google.com/spreadsheets/d/1bphtMaJ6lFh0VVWIgQh8ZCOchBZqvj0w5rveiNYcTnM/edit#gid=0\"\",\"\"RWA!F:BZ\"\"),48,0))\"),\"\")","v":""},{"$f":"IFERROR(__xludf.DUMMYFUNCTION(\"iferror(VLOOKUP(B260,IMPORTRANGE(\"\"https://docs.google.com/spreadsheets/d/1bphtMaJ6lFh0VVWIgQh8ZCOchBZqvj0w5rveiNYcTnM/edit#gid=0\"\",\"\"RWA!F:BZ\"\"),49,0))\"),\"\")","v":""},{"$f":"IFERROR(__xludf.DUMMYFUNCTION(\"iferror(VLOOKUP(B260,IMPORTRANGE(\"\"https://docs.google.com/spreadsheets/d/1bphtMaJ6lFh0VVWIgQh8ZCOchBZqvj0w5rveiNYcTnM/edit#gid=0\"\",\"\"RWA!F:BZ\"\"),53,0))\"),\"\")","v":""}]
[null,null,null,{"$f":"IFERROR(__xludf.DUMMYFUNCTION(\"iferror(VLOOKUP(B261,IMPORTRANGE(\"\"https://docs.google.com/spreadsheets/d/1bphtMaJ6lFh0VVWIgQh8ZCOchBZqvj0w5rveiNYcTnM/edit#gid=0\"\",\"\"RWA!F:BZ\"\"),44,0))\"),\"\")","v":""},{"$f":"IFERROR(__xludf.DUMMYFUNCTION(\"iferror(VLOOKUP(B261,IMPORTRANGE(\"\"https://docs.google.com/spreadsheets/d/1bphtMaJ6lFh0VVWIgQh8ZCOchBZqvj0w5rveiNYcTnM/edit#gid=0\"\",\"\"RWA!F:BZ\"\"),48,0))\"),\"\")","v":""},{"$f":"IFERROR(__xludf.DUMMYFUNCTION(\"iferror(VLOOKUP(B261,IMPORTRANGE(\"\"https://docs.google.com/spreadsheets/d/1bphtMaJ6lFh0VVWIgQh8ZCOchBZqvj0w5rveiNYcTnM/edit#gid=0\"\",\"\"RWA!F:BZ\"\"),49,0))\"),\"\")","v":""},{"$f":"IFERROR(__xludf.DUMMYFUNCTION(\"iferror(VLOOKUP(B261,IMPORTRANGE(\"\"https://docs.google.com/spreadsheets/d/1bphtMaJ6lFh0VVWIgQh8ZCOchBZqvj0w5rveiNYcTnM/edit#gid=0\"\",\"\"RWA!F:BZ\"\"),53,0))\"),\"\")","v":""}]
[null,null,null,{"$f":"IFERROR(__xludf.DUMMYFUNCTION(\"iferror(VLOOKUP(B262,IMPORTRANGE(\"\"https://docs.google.com/spreadsheets/d/1bphtMaJ6lFh0VVWIgQh8ZCOchBZqvj0w5rveiNYcTnM/edit#gid=0\"\",\"\"RWA!F:BZ\"\"),44,0))\"),\"\")","v":""},{"$f":"IFERROR(__xludf.DUMMYFUNCTION(\"iferror(VLOOKUP(B262,IMPORTRANGE(\"\"https://docs.google.com/spreadsheets/d/1bphtMaJ6lFh0VVWIgQh8ZCOchBZqvj0w5rveiNYcTnM/edit#gid=0\"\",\"\"RWA!F:BZ\"\"),48,0))\"),\"\")","v":""},{"$f":"IFERROR(__xludf.DUMMYFUNCTION(\"iferror(VLOOKUP(B262,IMPORTRANGE(\"\"https://docs.google.com/spreadsheets/d/1bphtMaJ6lFh0VVWIgQh8ZCOchBZqvj0w5rveiNYcTnM/edit#gid=0\"\",\"\"RWA!F:BZ\"\"),49,0))\"),\"\")","v":""},{"$f":"IFERROR(__xludf.DUMMYFUNCTION(\"iferror(VLOOKUP(B262,IMPORTRANGE(\"\"https://docs.google.com/spreadsheets/d/1bphtMaJ6lFh0VVWIgQh8ZCOchBZqvj0w5rveiNYcTnM/edit#gid=0\"\",\"\"RWA!F:BZ\"\"),53,0))\"),\"\")","v":""}]
[null,null,null,{"$f":"IFERROR(__xludf.DUMMYFUNCTION(\"iferror(VLOOKUP(B263,IMPORTRANGE(\"\"https://docs.google.com/spreadsheets/d/1bphtMaJ6lFh0VVWIgQh8ZCOchBZqvj0w5rveiNYcTnM/edit#gid=0\"\",\"\"RWA!F:BZ\"\"),44,0))\"),\"\")","v":""},{"$f":"IFERROR(__xludf.DUMMYFUNCTION(\"iferror(VLOOKUP(B263,IMPORTRANGE(\"\"https://docs.google.com/spreadsheets/d/1bphtMaJ6lFh0VVWIgQh8ZCOchBZqvj0w5rveiNYcTnM/edit#gid=0\"\",\"\"RWA!F:BZ\"\"),48,0))\"),\"\")","v":""},{"$f":"IFERROR(__xludf.DUMMYFUNCTION(\"iferror(VLOOKUP(B263,IMPORTRANGE(\"\"https://docs.google.com/spreadsheets/d/1bphtMaJ6lFh0VVWIgQh8ZCOchBZqvj0w5rveiNYcTnM/edit#gid=0\"\",\"\"RWA!F:BZ\"\"),49,0))\"),\"\")","v":""},{"$f":"IFERROR(__xludf.DUMMYFUNCTION(\"iferror(VLOOKUP(B263,IMPORTRANGE(\"\"https://docs.google.com/spreadsheets/d/1bphtMaJ6lFh0VVWIgQh8ZCOchBZqvj0w5rveiNYcTnM/edit#gid=0\"\",\"\"RWA!F:BZ\"\"),53,0))\"),\"\")","v":""}]
[null,null,null,{"$f":"IFERROR(__xludf.DUMMYFUNCTION(\"iferror(VLOOKUP(B264,IMPORTRANGE(\"\"https://docs.google.com/spreadsheets/d/1bphtMaJ6lFh0VVWIgQh8ZCOchBZqvj0w5rveiNYcTnM/edit#gid=0\"\",\"\"RWA!F:BZ\"\"),44,0))\"),\"\")","v":""},{"$f":"IFERROR(__xludf.DUMMYFUNCTION(\"iferror(VLOOKUP(B264,IMPORTRANGE(\"\"https://docs.google.com/spreadsheets/d/1bphtMaJ6lFh0VVWIgQh8ZCOchBZqvj0w5rveiNYcTnM/edit#gid=0\"\",\"\"RWA!F:BZ\"\"),48,0))\"),\"\")","v":""},{"$f":"IFERROR(__xludf.DUMMYFUNCTION(\"iferror(VLOOKUP(B264,IMPORTRANGE(\"\"https://docs.google.com/spreadsheets/d/1bphtMaJ6lFh0VVWIgQh8ZCOchBZqvj0w5rveiNYcTnM/edit#gid=0\"\",\"\"RWA!F:BZ\"\"),49,0))\"),\"\")","v":""},{"$f":"IFERROR(__xludf.DUMMYFUNCTION(\"iferror(VLOOKUP(B264,IMPORTRANGE(\"\"https://docs.google.com/spreadsheets/d/1bphtMaJ6lFh0VVWIgQh8ZCOchBZqvj0w5rveiNYcTnM/edit#gid=0\"\",\"\"RWA!F:BZ\"\"),53,0))\"),\"\")","v":""}]
[null,null,null,{"$f":"IFERROR(__xludf.DUMMYFUNCTION(\"iferror(VLOOKUP(B265,IMPORTRANGE(\"\"https://docs.google.com/spreadsheets/d/1bphtMaJ6lFh0VVWIgQh8ZCOchBZqvj0w5rveiNYcTnM/edit#gid=0\"\",\"\"RWA!F:BZ\"\"),44,0))\"),\"\")","v":""},{"$f":"IFERROR(__xludf.DUMMYFUNCTION(\"iferror(VLOOKUP(B265,IMPORTRANGE(\"\"https://docs.google.com/spreadsheets/d/1bphtMaJ6lFh0VVWIgQh8ZCOchBZqvj0w5rveiNYcTnM/edit#gid=0\"\",\"\"RWA!F:BZ\"\"),48,0))\"),\"\")","v":""},{"$f":"IFERROR(__xludf.DUMMYFUNCTION(\"iferror(VLOOKUP(B265,IMPORTRANGE(\"\"https://docs.google.com/spreadsheets/d/1bphtMaJ6lFh0VVWIgQh8ZCOchBZqvj0w5rveiNYcTnM/edit#gid=0\"\",\"\"RWA!F:BZ\"\"),49,0))\"),\"\")","v":""},{"$f":"IFERROR(__xludf.DUMMYFUNCTION(\"iferror(VLOOKUP(B265,IMPORTRANGE(\"\"https://docs.google.com/spreadsheets/d/1bphtMaJ6lFh0VVWIgQh8ZCOchBZqvj0w5rveiNYcTnM/edit#gid=0\"\",\"\"RWA!F:BZ\"\"),53,0))\"),\"\")","v":""}]
[null,null,null,{"$f":"IFERROR(__xludf.DUMMYFUNCTION(\"iferror(VLOOKUP(B266,IMPORTRANGE(\"\"https://docs.google.com/spreadsheets/d/1bphtMaJ6lFh0VVWIgQh8ZCOchBZqvj0w5rveiNYcTnM/edit#gid=0\"\",\"\"RWA!F:BZ\"\"),44,0))\"),\"\")","v":""},{"$f":"IFERROR(__xludf.DUMMYFUNCTION(\"iferror(VLOOKUP(B266,IMPORTRANGE(\"\"https://docs.google.com/spreadsheets/d/1bphtMaJ6lFh0VVWIgQh8ZCOchBZqvj0w5rveiNYcTnM/edit#gid=0\"\",\"\"RWA!F:BZ\"\"),48,0))\"),\"\")","v":""},{"$f":"IFERROR(__xludf.DUMMYFUNCTION(\"iferror(VLOOKUP(B266,IMPORTRANGE(\"\"https://docs.google.com/spreadsheets/d/1bphtMaJ6lFh0VVWIgQh8ZCOchBZqvj0w5rveiNYcTnM/edit#gid=0\"\",\"\"RWA!F:BZ\"\"),49,0))\"),\"\")","v":""},{"$f":"IFERROR(__xludf.DUMMYFUNCTION(\"iferror(VLOOKUP(B266,IMPORTRANGE(\"\"https://docs.google.com/spreadsheets/d/1bphtMaJ6lFh0VVWIgQh8ZCOchBZqvj0w5rveiNYcTnM/edit#gid=0\"\",\"\"RWA!F:BZ\"\"),53,0))\"),\"\")","v":""}]
[null,null,null,{"$f":"IFERROR(__xludf.DUMMYFUNCTION(\"iferror(VLOOKUP(B267,IMPORTRANGE(\"\"https://docs.google.com/spreadsheets/d/1bphtMaJ6lFh0VVWIgQh8ZCOchBZqvj0w5rveiNYcTnM/edit#gid=0\"\",\"\"RWA!F:BZ\"\"),44,0))\"),\"\")","v":""},{"$f":"IFERROR(__xludf.DUMMYFUNCTION(\"iferror(VLOOKUP(B267,IMPORTRANGE(\"\"https://docs.google.com/spreadsheets/d/1bphtMaJ6lFh0VVWIgQh8ZCOchBZqvj0w5rveiNYcTnM/edit#gid=0\"\",\"\"RWA!F:BZ\"\"),48,0))\"),\"\")","v":""},{"$f":"IFERROR(__xludf.DUMMYFUNCTION(\"iferror(VLOOKUP(B267,IMPORTRANGE(\"\"https://docs.google.com/spreadsheets/d/1bphtMaJ6lFh0VVWIgQh8ZCOchBZqvj0w5rveiNYcTnM/edit#gid=0\"\",\"\"RWA!F:BZ\"\"),49,0))\"),\"\")","v":""},{"$f":"IFERROR(__xludf.DUMMYFUNCTION(\"iferror(VLOOKUP(B267,IMPORTRANGE(\"\"https://docs.google.com/spreadsheets/d/1bphtMaJ6lFh0VVWIgQh8ZCOchBZqvj0w5rveiNYcTnM/edit#gid=0\"\",\"\"RWA!F:BZ\"\"),53,0))\"),\"\")","v":""}]
[null,null,null,{"$f":"IFERROR(__xludf.DUMMYFUNCTION(\"iferror(VLOOKUP(B268,IMPORTRANGE(\"\"https://docs.google.com/spreadsheets/d/1bphtMaJ6lFh0VVWIgQh8ZCOchBZqvj0w5rveiNYcTnM/edit#gid=0\"\",\"\"RWA!F:BZ\"\"),44,0))\"),\"\")","v":""},{"$f":"IFERROR(__xludf.DUMMYFUNCTION(\"iferror(VLOOKUP(B268,IMPORTRANGE(\"\"https://docs.google.com/spreadsheets/d/1bphtMaJ6lFh0VVWIgQh8ZCOchBZqvj0w5rveiNYcTnM/edit#gid=0\"\",\"\"RWA!F:BZ\"\"),48,0))\"),\"\")","v":""},{"$f":"IFERROR(__xludf.DUMMYFUNCTION(\"iferror(VLOOKUP(B268,IMPORTRANGE(\"\"https://docs.google.com/spreadsheets/d/1bphtMaJ6lFh0VVWIgQh8ZCOchBZqvj0w5rveiNYcTnM/edit#gid=0\"\",\"\"RWA!F:BZ\"\"),49,0))\"),\"\")","v":""},{"$f":"IFERROR(__xludf.DUMMYFUNCTION(\"iferror(VLOOKUP(B268,IMPORTRANGE(\"\"https://docs.google.com/spreadsheets/d/1bphtMaJ6lFh0VVWIgQh8ZCOchBZqvj0w5rveiNYcTnM/edit#gid=0\"\",\"\"RWA!F:BZ\"\"),53,0))\"),\"\")","v":""}]
[null,null,null,{"$f":"IFERROR(__xludf.DUMMYFUNCTION(\"iferror(VLOOKUP(B269,IMPORTRANGE(\"\"https://docs.google.com/spreadsheets/d/1bphtMaJ6lFh0VVWIgQh8ZCOchBZqvj0w5rveiNYcTnM/edit#gid=0\"\",\"\"RWA!F:BZ\"\"),44,0))\"),\"\")","v":""},{"$f":"IFERROR(__xludf.DUMMYFUNCTION(\"iferror(VLOOKUP(B269,IMPORTRANGE(\"\"https://docs.google.com/spreadsheets/d/1bphtMaJ6lFh0VVWIgQh8ZCOchBZqvj0w5rveiNYcTnM/edit#gid=0\"\",\"\"RWA!F:BZ\"\"),48,0))\"),\"\")","v":""},{"$f":"IFERROR(__xludf.DUMMYFUNCTION(\"iferror(VLOOKUP(B269,IMPORTRANGE(\"\"https://docs.google.com/spreadsheets/d/1bphtMaJ6lFh0VVWIgQh8ZCOchBZqvj0w5rveiNYcTnM/edit#gid=0\"\",\"\"RWA!F:BZ\"\"),49,0))\"),\"\")","v":""},{"$f":"IFERROR(__xludf.DUMMYFUNCTION(\"iferror(VLOOKUP(B269,IMPORTRANGE(\"\"https://docs.google.com/spreadsheets/d/1bphtMaJ6lFh0VVWIgQh8ZCOchBZqvj0w5rveiNYcTnM/edit#gid=0\"\",\"\"RWA!F:BZ\"\"),53,0))\"),\"\")","v":""}]
[null,null,null,{"$f":"IFERROR(__xludf.DUMMYFUNCTION(\"iferror(VLOOKUP(B270,IMPORTRANGE(\"\"https://docs.google.com/spreadsheets/d/1bphtMaJ6lFh0VVWIgQh8ZCOchBZqvj0w5rveiNYcTnM/edit#gid=0\"\",\"\"RWA!F:BZ\"\"),44,0))\"),\"\")","v":""},{"$f":"IFERROR(__xludf.DUMMYFUNCTION(\"iferror(VLOOKUP(B270,IMPORTRANGE(\"\"https://docs.google.com/spreadsheets/d/1bphtMaJ6lFh0VVWIgQh8ZCOchBZqvj0w5rveiNYcTnM/edit#gid=0\"\",\"\"RWA!F:BZ\"\"),48,0))\"),\"\")","v":""},{"$f":"IFERROR(__xludf.DUMMYFUNCTION(\"iferror(VLOOKUP(B270,IMPORTRANGE(\"\"https://docs.google.com/spreadsheets/d/1bphtMaJ6lFh0VVWIgQh8ZCOchBZqvj0w5rveiNYcTnM/edit#gid=0\"\",\"\"RWA!F:BZ\"\"),49,0))\"),\"\")","v":""},{"$f":"IFERROR(__xludf.DUMMYFUNCTION(\"iferror(VLOOKUP(B270,IMPORTRANGE(\"\"https://docs.google.com/spreadsheets/d/1bphtMaJ6lFh0VVWIgQh8ZCOchBZqvj0w5rveiNYcTnM/edit#gid=0\"\",\"\"RWA!F:BZ\"\"),53,0))\"),\"\")","v":""}]
[null,null,null,{"$f":"IFERROR(__xludf.DUMMYFUNCTION(\"iferror(VLOOKUP(B271,IMPORTRANGE(\"\"https://docs.google.com/spreadsheets/d/1bphtMaJ6lFh0VVWIgQh8ZCOchBZqvj0w5rveiNYcTnM/edit#gid=0\"\",\"\"RWA!F:BZ\"\"),44,0))\"),\"\")","v":""},{"$f":"IFERROR(__xludf.DUMMYFUNCTION(\"iferror(VLOOKUP(B271,IMPORTRANGE(\"\"https://docs.google.com/spreadsheets/d/1bphtMaJ6lFh0VVWIgQh8ZCOchBZqvj0w5rveiNYcTnM/edit#gid=0\"\",\"\"RWA!F:BZ\"\"),48,0))\"),\"\")","v":""},{"$f":"IFERROR(__xludf.DUMMYFUNCTION(\"iferror(VLOOKUP(B271,IMPORTRANGE(\"\"https://docs.google.com/spreadsheets/d/1bphtMaJ6lFh0VVWIgQh8ZCOchBZqvj0w5rveiNYcTnM/edit#gid=0\"\",\"\"RWA!F:BZ\"\"),49,0))\"),\"\")","v":""},{"$f":"IFERROR(__xludf.DUMMYFUNCTION(\"iferror(VLOOKUP(B271,IMPORTRANGE(\"\"https://docs.google.com/spreadsheets/d/1bphtMaJ6lFh0VVWIgQh8ZCOchBZqvj0w5rveiNYcTnM/edit#gid=0\"\",\"\"RWA!F:BZ\"\"),53,0))\"),\"\")","v":""}]
[null,null,null,{"$f":"IFERROR(__xludf.DUMMYFUNCTION(\"iferror(VLOOKUP(B272,IMPORTRANGE(\"\"https://docs.google.com/spreadsheets/d/1bphtMaJ6lFh0VVWIgQh8ZCOchBZqvj0w5rveiNYcTnM/edit#gid=0\"\",\"\"RWA!F:BZ\"\"),44,0))\"),\"\")","v":""},{"$f":"IFERROR(__xludf.DUMMYFUNCTION(\"iferror(VLOOKUP(B272,IMPORTRANGE(\"\"https://docs.google.com/spreadsheets/d/1bphtMaJ6lFh0VVWIgQh8ZCOchBZqvj0w5rveiNYcTnM/edit#gid=0\"\",\"\"RWA!F:BZ\"\"),48,0))\"),\"\")","v":""},{"$f":"IFERROR(__xludf.DUMMYFUNCTION(\"iferror(VLOOKUP(B272,IMPORTRANGE(\"\"https://docs.google.com/spreadsheets/d/1bphtMaJ6lFh0VVWIgQh8ZCOchBZqvj0w5rveiNYcTnM/edit#gid=0\"\",\"\"RWA!F:BZ\"\"),49,0))\"),\"\")","v":""},{"$f":"IFERROR(__xludf.DUMMYFUNCTION(\"iferror(VLOOKUP(B272,IMPORTRANGE(\"\"https://docs.google.com/spreadsheets/d/1bphtMaJ6lFh0VVWIgQh8ZCOchBZqvj0w5rveiNYcTnM/edit#gid=0\"\",\"\"RWA!F:BZ\"\"),53,0))\"),\"\")","v":""}]
[null,null,null,{"$f":"IFERROR(__xludf.DUMMYFUNCTION(\"iferror(VLOOKUP(B273,IMPORTRANGE(\"\"https://docs.google.com/spreadsheets/d/1bphtMaJ6lFh0VVWIgQh8ZCOchBZqvj0w5rveiNYcTnM/edit#gid=0\"\",\"\"RWA!F:BZ\"\"),44,0))\"),\"\")","v":""},{"$f":"IFERROR(__xludf.DUMMYFUNCTION(\"iferror(VLOOKUP(B273,IMPORTRANGE(\"\"https://docs.google.com/spreadsheets/d/1bphtMaJ6lFh0VVWIgQh8ZCOchBZqvj0w5rveiNYcTnM/edit#gid=0\"\",\"\"RWA!F:BZ\"\"),48,0))\"),\"\")","v":""},{"$f":"IFERROR(__xludf.DUMMYFUNCTION(\"iferror(VLOOKUP(B273,IMPORTRANGE(\"\"https://docs.google.com/spreadsheets/d/1bphtMaJ6lFh0VVWIgQh8ZCOchBZqvj0w5rveiNYcTnM/edit#gid=0\"\",\"\"RWA!F:BZ\"\"),49,0))\"),\"\")","v":""},{"$f":"IFERROR(__xludf.DUMMYFUNCTION(\"iferror(VLOOKUP(B273,IMPORTRANGE(\"\"https://docs.google.com/spreadsheets/d/1bphtMaJ6lFh0VVWIgQh8ZCOchBZqvj0w5rveiNYcTnM/edit#gid=0\"\",\"\"RWA!F:BZ\"\"),53,0))\"),\"\")","v":""}]
[null,null,null,{"$f":"IFERROR(__xludf.DUMMYFUNCTION(\"iferror(VLOOKUP(B274,IMPORTRANGE(\"\"https://docs.google.com/spreadsheets/d/1bphtMaJ6lFh0VVWIgQh8ZCOchBZqvj0w5rveiNYcTnM/edit#gid=0\"\",\"\"RWA!F:BZ\"\"),44,0))\"),\"\")","v":""},{"$f":"IFERROR(__xludf.DUMMYFUNCTION(\"iferror(VLOOKUP(B274,IMPORTRANGE(\"\"https://docs.google.com/spreadsheets/d/1bphtMaJ6lFh0VVWIgQh8ZCOchBZqvj0w5rveiNYcTnM/edit#gid=0\"\",\"\"RWA!F:BZ\"\"),48,0))\"),\"\")","v":""},{"$f":"IFERROR(__xludf.DUMMYFUNCTION(\"iferror(VLOOKUP(B274,IMPORTRANGE(\"\"https://docs.google.com/spreadsheets/d/1bphtMaJ6lFh0VVWIgQh8ZCOchBZqvj0w5rveiNYcTnM/edit#gid=0\"\",\"\"RWA!F:BZ\"\"),49,0))\"),\"\")","v":""},{"$f":"IFERROR(__xludf.DUMMYFUNCTION(\"iferror(VLOOKUP(B274,IMPORTRANGE(\"\"https://docs.google.com/spreadsheets/d/1bphtMaJ6lFh0VVWIgQh8ZCOchBZqvj0w5rveiNYcTnM/edit#gid=0\"\",\"\"RWA!F:BZ\"\"),53,0))\"),\"\")","v":""}]
[null,null,null,{"$f":"IFERROR(__xludf.DUMMYFUNCTION(\"iferror(VLOOKUP(B275,IMPORTRANGE(\"\"https://docs.google.com/spreadsheets/d/1bphtMaJ6lFh0VVWIgQh8ZCOchBZqvj0w5rveiNYcTnM/edit#gid=0\"\",\"\"RWA!F:BZ\"\"),44,0))\"),\"\")","v":""},{"$f":"IFERROR(__xludf.DUMMYFUNCTION(\"iferror(VLOOKUP(B275,IMPORTRANGE(\"\"https://docs.google.com/spreadsheets/d/1bphtMaJ6lFh0VVWIgQh8ZCOchBZqvj0w5rveiNYcTnM/edit#gid=0\"\",\"\"RWA!F:BZ\"\"),48,0))\"),\"\")","v":""},{"$f":"IFERROR(__xludf.DUMMYFUNCTION(\"iferror(VLOOKUP(B275,IMPORTRANGE(\"\"https://docs.google.com/spreadsheets/d/1bphtMaJ6lFh0VVWIgQh8ZCOchBZqvj0w5rveiNYcTnM/edit#gid=0\"\",\"\"RWA!F:BZ\"\"),49,0))\"),\"\")","v":""},{"$f":"IFERROR(__xludf.DUMMYFUNCTION(\"iferror(VLOOKUP(B275,IMPORTRANGE(\"\"https://docs.google.com/spreadsheets/d/1bphtMaJ6lFh0VVWIgQh8ZCOchBZqvj0w5rveiNYcTnM/edit#gid=0\"\",\"\"RWA!F:BZ\"\"),53,0))\"),\"\")","v":""}]
[null,null,null,{"$f":"IFERROR(__xludf.DUMMYFUNCTION(\"iferror(VLOOKUP(B276,IMPORTRANGE(\"\"https://docs.google.com/spreadsheets/d/1bphtMaJ6lFh0VVWIgQh8ZCOchBZqvj0w5rveiNYcTnM/edit#gid=0\"\",\"\"RWA!F:BZ\"\"),44,0))\"),\"\")","v":""},{"$f":"IFERROR(__xludf.DUMMYFUNCTION(\"iferror(VLOOKUP(B276,IMPORTRANGE(\"\"https://docs.google.com/spreadsheets/d/1bphtMaJ6lFh0VVWIgQh8ZCOchBZqvj0w5rveiNYcTnM/edit#gid=0\"\",\"\"RWA!F:BZ\"\"),48,0))\"),\"\")","v":""},{"$f":"IFERROR(__xludf.DUMMYFUNCTION(\"iferror(VLOOKUP(B276,IMPORTRANGE(\"\"https://docs.google.com/spreadsheets/d/1bphtMaJ6lFh0VVWIgQh8ZCOchBZqvj0w5rveiNYcTnM/edit#gid=0\"\",\"\"RWA!F:BZ\"\"),49,0))\"),\"\")","v":""},{"$f":"IFERROR(__xludf.DUMMYFUNCTION(\"iferror(VLOOKUP(B276,IMPORTRANGE(\"\"https://docs.google.com/spreadsheets/d/1bphtMaJ6lFh0VVWIgQh8ZCOchBZqvj0w5rveiNYcTnM/edit#gid=0\"\",\"\"RWA!F:BZ\"\"),53,0))\"),\"\")","v":""}]
[null,null,null,{"$f":"IFERROR(__xludf.DUMMYFUNCTION(\"iferror(VLOOKUP(B277,IMPORTRANGE(\"\"https://docs.google.com/spreadsheets/d/1bphtMaJ6lFh0VVWIgQh8ZCOchBZqvj0w5rveiNYcTnM/edit#gid=0\"\",\"\"RWA!F:BZ\"\"),44,0))\"),\"\")","v":""},{"$f":"IFERROR(__xludf.DUMMYFUNCTION(\"iferror(VLOOKUP(B277,IMPORTRANGE(\"\"https://docs.google.com/spreadsheets/d/1bphtMaJ6lFh0VVWIgQh8ZCOchBZqvj0w5rveiNYcTnM/edit#gid=0\"\",\"\"RWA!F:BZ\"\"),48,0))\"),\"\")","v":""},{"$f":"IFERROR(__xludf.DUMMYFUNCTION(\"iferror(VLOOKUP(B277,IMPORTRANGE(\"\"https://docs.google.com/spreadsheets/d/1bphtMaJ6lFh0VVWIgQh8ZCOchBZqvj0w5rveiNYcTnM/edit#gid=0\"\",\"\"RWA!F:BZ\"\"),49,0))\"),\"\")","v":""},{"$f":"IFERROR(__xludf.DUMMYFUNCTION(\"iferror(VLOOKUP(B277,IMPORTRANGE(\"\"https://docs.google.com/spreadsheets/d/1bphtMaJ6lFh0VVWIgQh8ZCOchBZqvj0w5rveiNYcTnM/edit#gid=0\"\",\"\"RWA!F:BZ\"\"),53,0))\"),\"\")","v":""}]
[null,null,null,{"$f":"IFERROR(__xludf.DUMMYFUNCTION(\"iferror(VLOOKUP(B278,IMPORTRANGE(\"\"https://docs.google.com/spreadsheets/d/1bphtMaJ6lFh0VVWIgQh8ZCOchBZqvj0w5rveiNYcTnM/edit#gid=0\"\",\"\"RWA!F:BZ\"\"),44,0))\"),\"\")","v":""},{"$f":"IFERROR(__xludf.DUMMYFUNCTION(\"iferror(VLOOKUP(B278,IMPORTRANGE(\"\"https://docs.google.com/spreadsheets/d/1bphtMaJ6lFh0VVWIgQh8ZCOchBZqvj0w5rveiNYcTnM/edit#gid=0\"\",\"\"RWA!F:BZ\"\"),48,0))\"),\"\")","v":""},{"$f":"IFERROR(__xludf.DUMMYFUNCTION(\"iferror(VLOOKUP(B278,IMPORTRANGE(\"\"https://docs.google.com/spreadsheets/d/1bphtMaJ6lFh0VVWIgQh8ZCOchBZqvj0w5rveiNYcTnM/edit#gid=0\"\",\"\"RWA!F:BZ\"\"),49,0))\"),\"\")","v":""},{"$f":"IFERROR(__xludf.DUMMYFUNCTION(\"iferror(VLOOKUP(B278,IMPORTRANGE(\"\"https://docs.google.com/spreadsheets/d/1bphtMaJ6lFh0VVWIgQh8ZCOchBZqvj0w5rveiNYcTnM/edit#gid=0\"\",\"\"RWA!F:BZ\"\"),53,0))\"),\"\")","v":""}]
[null,null,null,{"$f":"IFERROR(__xludf.DUMMYFUNCTION(\"iferror(VLOOKUP(B279,IMPORTRANGE(\"\"https://docs.google.com/spreadsheets/d/1bphtMaJ6lFh0VVWIgQh8ZCOchBZqvj0w5rveiNYcTnM/edit#gid=0\"\",\"\"RWA!F:BZ\"\"),44,0))\"),\"\")","v":""},{"$f":"IFERROR(__xludf.DUMMYFUNCTION(\"iferror(VLOOKUP(B279,IMPORTRANGE(\"\"https://docs.google.com/spreadsheets/d/1bphtMaJ6lFh0VVWIgQh8ZCOchBZqvj0w5rveiNYcTnM/edit#gid=0\"\",\"\"RWA!F:BZ\"\"),48,0))\"),\"\")","v":""},{"$f":"IFERROR(__xludf.DUMMYFUNCTION(\"iferror(VLOOKUP(B279,IMPORTRANGE(\"\"https://docs.google.com/spreadsheets/d/1bphtMaJ6lFh0VVWIgQh8ZCOchBZqvj0w5rveiNYcTnM/edit#gid=0\"\",\"\"RWA!F:BZ\"\"),49,0))\"),\"\")","v":""},{"$f":"IFERROR(__xludf.DUMMYFUNCTION(\"iferror(VLOOKUP(B279,IMPORTRANGE(\"\"https://docs.google.com/spreadsheets/d/1bphtMaJ6lFh0VVWIgQh8ZCOchBZqvj0w5rveiNYcTnM/edit#gid=0\"\",\"\"RWA!F:BZ\"\"),53,0))\"),\"\")","v":""}]
[null,null,null,{"$f":"IFERROR(__xludf.DUMMYFUNCTION(\"iferror(VLOOKUP(B280,IMPORTRANGE(\"\"https://docs.google.com/spreadsheets/d/1bphtMaJ6lFh0VVWIgQh8ZCOchBZqvj0w5rveiNYcTnM/edit#gid=0\"\",\"\"RWA!F:BZ\"\"),44,0))\"),\"\")","v":""},{"$f":"IFERROR(__xludf.DUMMYFUNCTION(\"iferror(VLOOKUP(B280,IMPORTRANGE(\"\"https://docs.google.com/spreadsheets/d/1bphtMaJ6lFh0VVWIgQh8ZCOchBZqvj0w5rveiNYcTnM/edit#gid=0\"\",\"\"RWA!F:BZ\"\"),48,0))\"),\"\")","v":""},{"$f":"IFERROR(__xludf.DUMMYFUNCTION(\"iferror(VLOOKUP(B280,IMPORTRANGE(\"\"https://docs.google.com/spreadsheets/d/1bphtMaJ6lFh0VVWIgQh8ZCOchBZqvj0w5rveiNYcTnM/edit#gid=0\"\",\"\"RWA!F:BZ\"\"),49,0))\"),\"\")","v":""},{"$f":"IFERROR(__xludf.DUMMYFUNCTION(\"iferror(VLOOKUP(B280,IMPORTRANGE(\"\"https://docs.google.com/spreadsheets/d/1bphtMaJ6lFh0VVWIgQh8ZCOchBZqvj0w5rveiNYcTnM/edit#gid=0\"\",\"\"RWA!F:BZ\"\"),53,0))\"),\"\")","v":""}]
[null,null,null,{"$f":"IFERROR(__xludf.DUMMYFUNCTION(\"iferror(VLOOKUP(B281,IMPORTRANGE(\"\"https://docs.google.com/spreadsheets/d/1bphtMaJ6lFh0VVWIgQh8ZCOchBZqvj0w5rveiNYcTnM/edit#gid=0\"\",\"\"RWA!F:BZ\"\"),44,0))\"),\"\")","v":""},{"$f":"IFERROR(__xludf.DUMMYFUNCTION(\"iferror(VLOOKUP(B281,IMPORTRANGE(\"\"https://docs.google.com/spreadsheets/d/1bphtMaJ6lFh0VVWIgQh8ZCOchBZqvj0w5rveiNYcTnM/edit#gid=0\"\",\"\"RWA!F:BZ\"\"),48,0))\"),\"\")","v":""},{"$f":"IFERROR(__xludf.DUMMYFUNCTION(\"iferror(VLOOKUP(B281,IMPORTRANGE(\"\"https://docs.google.com/spreadsheets/d/1bphtMaJ6lFh0VVWIgQh8ZCOchBZqvj0w5rveiNYcTnM/edit#gid=0\"\",\"\"RWA!F:BZ\"\"),49,0))\"),\"\")","v":""},{"$f":"IFERROR(__xludf.DUMMYFUNCTION(\"iferror(VLOOKUP(B281,IMPORTRANGE(\"\"https://docs.google.com/spreadsheets/d/1bphtMaJ6lFh0VVWIgQh8ZCOchBZqvj0w5rveiNYcTnM/edit#gid=0\"\",\"\"RWA!F:BZ\"\"),53,0))\"),\"\")","v":""}]
[null,null,null,{"$f":"IFERROR(__xludf.DUMMYFUNCTION(\"iferror(VLOOKUP(B282,IMPORTRANGE(\"\"https://docs.google.com/spreadsheets/d/1bphtMaJ6lFh0VVWIgQh8ZCOchBZqvj0w5rveiNYcTnM/edit#gid=0\"\",\"\"RWA!F:BZ\"\"),44,0))\"),\"\")","v":""},{"$f":"IFERROR(__xludf.DUMMYFUNCTION(\"iferror(VLOOKUP(B282,IMPORTRANGE(\"\"https://docs.google.com/spreadsheets/d/1bphtMaJ6lFh0VVWIgQh8ZCOchBZqvj0w5rveiNYcTnM/edit#gid=0\"\",\"\"RWA!F:BZ\"\"),48,0))\"),\"\")","v":""},{"$f":"IFERROR(__xludf.DUMMYFUNCTION(\"iferror(VLOOKUP(B282,IMPORTRANGE(\"\"https://docs.google.com/spreadsheets/d/1bphtMaJ6lFh0VVWIgQh8ZCOchBZqvj0w5rveiNYcTnM/edit#gid=0\"\",\"\"RWA!F:BZ\"\"),49,0))\"),\"\")","v":""},{"$f":"IFERROR(__xludf.DUMMYFUNCTION(\"iferror(VLOOKUP(B282,IMPORTRANGE(\"\"https://docs.google.com/spreadsheets/d/1bphtMaJ6lFh0VVWIgQh8ZCOchBZqvj0w5rveiNYcTnM/edit#gid=0\"\",\"\"RWA!F:BZ\"\"),53,0))\"),\"\")","v":""}]
[null,null,null,{"$f":"IFERROR(__xludf.DUMMYFUNCTION(\"iferror(VLOOKUP(B283,IMPORTRANGE(\"\"https://docs.google.com/spreadsheets/d/1bphtMaJ6lFh0VVWIgQh8ZCOchBZqvj0w5rveiNYcTnM/edit#gid=0\"\",\"\"RWA!F:BZ\"\"),44,0))\"),\"\")","v":""},{"$f":"IFERROR(__xludf.DUMMYFUNCTION(\"iferror(VLOOKUP(B283,IMPORTRANGE(\"\"https://docs.google.com/spreadsheets/d/1bphtMaJ6lFh0VVWIgQh8ZCOchBZqvj0w5rveiNYcTnM/edit#gid=0\"\",\"\"RWA!F:BZ\"\"),48,0))\"),\"\")","v":""},{"$f":"IFERROR(__xludf.DUMMYFUNCTION(\"iferror(VLOOKUP(B283,IMPORTRANGE(\"\"https://docs.google.com/spreadsheets/d/1bphtMaJ6lFh0VVWIgQh8ZCOchBZqvj0w5rveiNYcTnM/edit#gid=0\"\",\"\"RWA!F:BZ\"\"),49,0))\"),\"\")","v":""},{"$f":"IFERROR(__xludf.DUMMYFUNCTION(\"iferror(VLOOKUP(B283,IMPORTRANGE(\"\"https://docs.google.com/spreadsheets/d/1bphtMaJ6lFh0VVWIgQh8ZCOchBZqvj0w5rveiNYcTnM/edit#gid=0\"\",\"\"RWA!F:BZ\"\"),53,0))\"),\"\")","v":""}]
[null,null,null,{"$f":"IFERROR(__xludf.DUMMYFUNCTION(\"iferror(VLOOKUP(B284,IMPORTRANGE(\"\"https://docs.google.com/spreadsheets/d/1bphtMaJ6lFh0VVWIgQh8ZCOchBZqvj0w5rveiNYcTnM/edit#gid=0\"\",\"\"RWA!F:BZ\"\"),44,0))\"),\"\")","v":""},{"$f":"IFERROR(__xludf.DUMMYFUNCTION(\"iferror(VLOOKUP(B284,IMPORTRANGE(\"\"https://docs.google.com/spreadsheets/d/1bphtMaJ6lFh0VVWIgQh8ZCOchBZqvj0w5rveiNYcTnM/edit#gid=0\"\",\"\"RWA!F:BZ\"\"),48,0))\"),\"\")","v":""},{"$f":"IFERROR(__xludf.DUMMYFUNCTION(\"iferror(VLOOKUP(B284,IMPORTRANGE(\"\"https://docs.google.com/spreadsheets/d/1bphtMaJ6lFh0VVWIgQh8ZCOchBZqvj0w5rveiNYcTnM/edit#gid=0\"\",\"\"RWA!F:BZ\"\"),49,0))\"),\"\")","v":""},{"$f":"IFERROR(__xludf.DUMMYFUNCTION(\"iferror(VLOOKUP(B284,IMPORTRANGE(\"\"https://docs.google.com/spreadsheets/d/1bphtMaJ6lFh0VVWIgQh8ZCOchBZqvj0w5rveiNYcTnM/edit#gid=0\"\",\"\"RWA!F:BZ\"\"),53,0))\"),\"\")","v":""}]
[null,null,null,{"$f":"IFERROR(__xludf.DUMMYFUNCTION(\"iferror(VLOOKUP(B285,IMPORTRANGE(\"\"https://docs.google.com/spreadsheets/d/1bphtMaJ6lFh0VVWIgQh8ZCOchBZqvj0w5rveiNYcTnM/edit#gid=0\"\",\"\"RWA!F:BZ\"\"),44,0))\"),\"\")","v":""},{"$f":"IFERROR(__xludf.DUMMYFUNCTION(\"iferror(VLOOKUP(B285,IMPORTRANGE(\"\"https://docs.google.com/spreadsheets/d/1bphtMaJ6lFh0VVWIgQh8ZCOchBZqvj0w5rveiNYcTnM/edit#gid=0\"\",\"\"RWA!F:BZ\"\"),48,0))\"),\"\")","v":""},{"$f":"IFERROR(__xludf.DUMMYFUNCTION(\"iferror(VLOOKUP(B285,IMPORTRANGE(\"\"https://docs.google.com/spreadsheets/d/1bphtMaJ6lFh0VVWIgQh8ZCOchBZqvj0w5rveiNYcTnM/edit#gid=0\"\",\"\"RWA!F:BZ\"\"),49,0))\"),\"\")","v":""},{"$f":"IFERROR(__xludf.DUMMYFUNCTION(\"iferror(VLOOKUP(B285,IMPORTRANGE(\"\"https://docs.google.com/spreadsheets/d/1bphtMaJ6lFh0VVWIgQh8ZCOchBZqvj0w5rveiNYcTnM/edit#gid=0\"\",\"\"RWA!F:BZ\"\"),53,0))\"),\"\")","v":""}]
[null,null,null,{"$f":"IFERROR(__xludf.DUMMYFUNCTION(\"iferror(VLOOKUP(B286,IMPORTRANGE(\"\"https://docs.google.com/spreadsheets/d/1bphtMaJ6lFh0VVWIgQh8ZCOchBZqvj0w5rveiNYcTnM/edit#gid=0\"\",\"\"RWA!F:BZ\"\"),44,0))\"),\"\")","v":""},{"$f":"IFERROR(__xludf.DUMMYFUNCTION(\"iferror(VLOOKUP(B286,IMPORTRANGE(\"\"https://docs.google.com/spreadsheets/d/1bphtMaJ6lFh0VVWIgQh8ZCOchBZqvj0w5rveiNYcTnM/edit#gid=0\"\",\"\"RWA!F:BZ\"\"),48,0))\"),\"\")","v":""},{"$f":"IFERROR(__xludf.DUMMYFUNCTION(\"iferror(VLOOKUP(B286,IMPORTRANGE(\"\"https://docs.google.com/spreadsheets/d/1bphtMaJ6lFh0VVWIgQh8ZCOchBZqvj0w5rveiNYcTnM/edit#gid=0\"\",\"\"RWA!F:BZ\"\"),49,0))\"),\"\")","v":""},{"$f":"IFERROR(__xludf.DUMMYFUNCTION(\"iferror(VLOOKUP(B286,IMPORTRANGE(\"\"https://docs.google.com/spreadsheets/d/1bphtMaJ6lFh0VVWIgQh8ZCOchBZqvj0w5rveiNYcTnM/edit#gid=0\"\",\"\"RWA!F:BZ\"\"),53,0))\"),\"\")","v":""}]
[null,null,null,{"$f":"IFERROR(__xludf.DUMMYFUNCTION(\"iferror(VLOOKUP(B287,IMPORTRANGE(\"\"https://docs.google.com/spreadsheets/d/1bphtMaJ6lFh0VVWIgQh8ZCOchBZqvj0w5rveiNYcTnM/edit#gid=0\"\",\"\"RWA!F:BZ\"\"),44,0))\"),\"\")","v":""},{"$f":"IFERROR(__xludf.DUMMYFUNCTION(\"iferror(VLOOKUP(B287,IMPORTRANGE(\"\"https://docs.google.com/spreadsheets/d/1bphtMaJ6lFh0VVWIgQh8ZCOchBZqvj0w5rveiNYcTnM/edit#gid=0\"\",\"\"RWA!F:BZ\"\"),48,0))\"),\"\")","v":""},{"$f":"IFERROR(__xludf.DUMMYFUNCTION(\"iferror(VLOOKUP(B287,IMPORTRANGE(\"\"https://docs.google.com/spreadsheets/d/1bphtMaJ6lFh0VVWIgQh8ZCOchBZqvj0w5rveiNYcTnM/edit#gid=0\"\",\"\"RWA!F:BZ\"\"),49,0))\"),\"\")","v":""},{"$f":"IFERROR(__xludf.DUMMYFUNCTION(\"iferror(VLOOKUP(B287,IMPORTRANGE(\"\"https://docs.google.com/spreadsheets/d/1bphtMaJ6lFh0VVWIgQh8ZCOchBZqvj0w5rveiNYcTnM/edit#gid=0\"\",\"\"RWA!F:BZ\"\"),53,0))\"),\"\")","v":""}]
[null,null,null,{"$f":"IFERROR(__xludf.DUMMYFUNCTION(\"iferror(VLOOKUP(B288,IMPORTRANGE(\"\"https://docs.google.com/spreadsheets/d/1bphtMaJ6lFh0VVWIgQh8ZCOchBZqvj0w5rveiNYcTnM/edit#gid=0\"\",\"\"RWA!F:BZ\"\"),44,0))\"),\"\")","v":""},{"$f":"IFERROR(__xludf.DUMMYFUNCTION(\"iferror(VLOOKUP(B288,IMPORTRANGE(\"\"https://docs.google.com/spreadsheets/d/1bphtMaJ6lFh0VVWIgQh8ZCOchBZqvj0w5rveiNYcTnM/edit#gid=0\"\",\"\"RWA!F:BZ\"\"),48,0))\"),\"\")","v":""},{"$f":"IFERROR(__xludf.DUMMYFUNCTION(\"iferror(VLOOKUP(B288,IMPORTRANGE(\"\"https://docs.google.com/spreadsheets/d/1bphtMaJ6lFh0VVWIgQh8ZCOchBZqvj0w5rveiNYcTnM/edit#gid=0\"\",\"\"RWA!F:BZ\"\"),49,0))\"),\"\")","v":""},{"$f":"IFERROR(__xludf.DUMMYFUNCTION(\"iferror(VLOOKUP(B288,IMPORTRANGE(\"\"https://docs.google.com/spreadsheets/d/1bphtMaJ6lFh0VVWIgQh8ZCOchBZqvj0w5rveiNYcTnM/edit#gid=0\"\",\"\"RWA!F:BZ\"\"),53,0))\"),\"\")","v":""}]
[null,null,null,{"$f":"IFERROR(__xludf.DUMMYFUNCTION(\"iferror(VLOOKUP(B289,IMPORTRANGE(\"\"https://docs.google.com/spreadsheets/d/1bphtMaJ6lFh0VVWIgQh8ZCOchBZqvj0w5rveiNYcTnM/edit#gid=0\"\",\"\"RWA!F:BZ\"\"),44,0))\"),\"\")","v":""},{"$f":"IFERROR(__xludf.DUMMYFUNCTION(\"iferror(VLOOKUP(B289,IMPORTRANGE(\"\"https://docs.google.com/spreadsheets/d/1bphtMaJ6lFh0VVWIgQh8ZCOchBZqvj0w5rveiNYcTnM/edit#gid=0\"\",\"\"RWA!F:BZ\"\"),48,0))\"),\"\")","v":""},{"$f":"IFERROR(__xludf.DUMMYFUNCTION(\"iferror(VLOOKUP(B289,IMPORTRANGE(\"\"https://docs.google.com/spreadsheets/d/1bphtMaJ6lFh0VVWIgQh8ZCOchBZqvj0w5rveiNYcTnM/edit#gid=0\"\",\"\"RWA!F:BZ\"\"),49,0))\"),\"\")","v":""},{"$f":"IFERROR(__xludf.DUMMYFUNCTION(\"iferror(VLOOKUP(B289,IMPORTRANGE(\"\"https://docs.google.com/spreadsheets/d/1bphtMaJ6lFh0VVWIgQh8ZCOchBZqvj0w5rveiNYcTnM/edit#gid=0\"\",\"\"RWA!F:BZ\"\"),53,0))\"),\"\")","v":""}]
[null,null,null,{"$f":"IFERROR(__xludf.DUMMYFUNCTION(\"iferror(VLOOKUP(B290,IMPORTRANGE(\"\"https://docs.google.com/spreadsheets/d/1bphtMaJ6lFh0VVWIgQh8ZCOchBZqvj0w5rveiNYcTnM/edit#gid=0\"\",\"\"RWA!F:BZ\"\"),44,0))\"),\"\")","v":""},{"$f":"IFERROR(__xludf.DUMMYFUNCTION(\"iferror(VLOOKUP(B290,IMPORTRANGE(\"\"https://docs.google.com/spreadsheets/d/1bphtMaJ6lFh0VVWIgQh8ZCOchBZqvj0w5rveiNYcTnM/edit#gid=0\"\",\"\"RWA!F:BZ\"\"),48,0))\"),\"\")","v":""},{"$f":"IFERROR(__xludf.DUMMYFUNCTION(\"iferror(VLOOKUP(B290,IMPORTRANGE(\"\"https://docs.google.com/spreadsheets/d/1bphtMaJ6lFh0VVWIgQh8ZCOchBZqvj0w5rveiNYcTnM/edit#gid=0\"\",\"\"RWA!F:BZ\"\"),49,0))\"),\"\")","v":""},{"$f":"IFERROR(__xludf.DUMMYFUNCTION(\"iferror(VLOOKUP(B290,IMPORTRANGE(\"\"https://docs.google.com/spreadsheets/d/1bphtMaJ6lFh0VVWIgQh8ZCOchBZqvj0w5rveiNYcTnM/edit#gid=0\"\",\"\"RWA!F:BZ\"\"),53,0))\"),\"\")","v":""}]
[null,null,null,{"$f":"IFERROR(__xludf.DUMMYFUNCTION(\"iferror(VLOOKUP(B291,IMPORTRANGE(\"\"https://docs.google.com/spreadsheets/d/1bphtMaJ6lFh0VVWIgQh8ZCOchBZqvj0w5rveiNYcTnM/edit#gid=0\"\",\"\"RWA!F:BZ\"\"),44,0))\"),\"\")","v":""},{"$f":"IFERROR(__xludf.DUMMYFUNCTION(\"iferror(VLOOKUP(B291,IMPORTRANGE(\"\"https://docs.google.com/spreadsheets/d/1bphtMaJ6lFh0VVWIgQh8ZCOchBZqvj0w5rveiNYcTnM/edit#gid=0\"\",\"\"RWA!F:BZ\"\"),48,0))\"),\"\")","v":""},{"$f":"IFERROR(__xludf.DUMMYFUNCTION(\"iferror(VLOOKUP(B291,IMPORTRANGE(\"\"https://docs.google.com/spreadsheets/d/1bphtMaJ6lFh0VVWIgQh8ZCOchBZqvj0w5rveiNYcTnM/edit#gid=0\"\",\"\"RWA!F:BZ\"\"),49,0))\"),\"\")","v":""},{"$f":"IFERROR(__xludf.DUMMYFUNCTION(\"iferror(VLOOKUP(B291,IMPORTRANGE(\"\"https://docs.google.com/spreadsheets/d/1bphtMaJ6lFh0VVWIgQh8ZCOchBZqvj0w5rveiNYcTnM/edit#gid=0\"\",\"\"RWA!F:BZ\"\"),53,0))\"),\"\")","v":""}]
[null,null,null,{"$f":"IFERROR(__xludf.DUMMYFUNCTION(\"iferror(VLOOKUP(B292,IMPORTRANGE(\"\"https://docs.google.com/spreadsheets/d/1bphtMaJ6lFh0VVWIgQh8ZCOchBZqvj0w5rveiNYcTnM/edit#gid=0\"\",\"\"RWA!F:BZ\"\"),44,0))\"),\"\")","v":""},{"$f":"IFERROR(__xludf.DUMMYFUNCTION(\"iferror(VLOOKUP(B292,IMPORTRANGE(\"\"https://docs.google.com/spreadsheets/d/1bphtMaJ6lFh0VVWIgQh8ZCOchBZqvj0w5rveiNYcTnM/edit#gid=0\"\",\"\"RWA!F:BZ\"\"),48,0))\"),\"\")","v":""},{"$f":"IFERROR(__xludf.DUMMYFUNCTION(\"iferror(VLOOKUP(B292,IMPORTRANGE(\"\"https://docs.google.com/spreadsheets/d/1bphtMaJ6lFh0VVWIgQh8ZCOchBZqvj0w5rveiNYcTnM/edit#gid=0\"\",\"\"RWA!F:BZ\"\"),49,0))\"),\"\")","v":""},{"$f":"IFERROR(__xludf.DUMMYFUNCTION(\"iferror(VLOOKUP(B292,IMPORTRANGE(\"\"https://docs.google.com/spreadsheets/d/1bphtMaJ6lFh0VVWIgQh8ZCOchBZqvj0w5rveiNYcTnM/edit#gid=0\"\",\"\"RWA!F:BZ\"\"),53,0))\"),\"\")","v":""}]
[null,null,null,{"$f":"IFERROR(__xludf.DUMMYFUNCTION(\"iferror(VLOOKUP(B293,IMPORTRANGE(\"\"https://docs.google.com/spreadsheets/d/1bphtMaJ6lFh0VVWIgQh8ZCOchBZqvj0w5rveiNYcTnM/edit#gid=0\"\",\"\"RWA!F:BZ\"\"),44,0))\"),\"\")","v":""},{"$f":"IFERROR(__xludf.DUMMYFUNCTION(\"iferror(VLOOKUP(B293,IMPORTRANGE(\"\"https://docs.google.com/spreadsheets/d/1bphtMaJ6lFh0VVWIgQh8ZCOchBZqvj0w5rveiNYcTnM/edit#gid=0\"\",\"\"RWA!F:BZ\"\"),48,0))\"),\"\")","v":""},{"$f":"IFERROR(__xludf.DUMMYFUNCTION(\"iferror(VLOOKUP(B293,IMPORTRANGE(\"\"https://docs.google.com/spreadsheets/d/1bphtMaJ6lFh0VVWIgQh8ZCOchBZqvj0w5rveiNYcTnM/edit#gid=0\"\",\"\"RWA!F:BZ\"\"),49,0))\"),\"\")","v":""},{"$f":"IFERROR(__xludf.DUMMYFUNCTION(\"iferror(VLOOKUP(B293,IMPORTRANGE(\"\"https://docs.google.com/spreadsheets/d/1bphtMaJ6lFh0VVWIgQh8ZCOchBZqvj0w5rveiNYcTnM/edit#gid=0\"\",\"\"RWA!F:BZ\"\"),53,0))\"),\"\")","v":""}]
[null,null,null,{"$f":"IFERROR(__xludf.DUMMYFUNCTION(\"iferror(VLOOKUP(B294,IMPORTRANGE(\"\"https://docs.google.com/spreadsheets/d/1bphtMaJ6lFh0VVWIgQh8ZCOchBZqvj0w5rveiNYcTnM/edit#gid=0\"\",\"\"RWA!F:BZ\"\"),44,0))\"),\"\")","v":""},{"$f":"IFERROR(__xludf.DUMMYFUNCTION(\"iferror(VLOOKUP(B294,IMPORTRANGE(\"\"https://docs.google.com/spreadsheets/d/1bphtMaJ6lFh0VVWIgQh8ZCOchBZqvj0w5rveiNYcTnM/edit#gid=0\"\",\"\"RWA!F:BZ\"\"),48,0))\"),\"\")","v":""},{"$f":"IFERROR(__xludf.DUMMYFUNCTION(\"iferror(VLOOKUP(B294,IMPORTRANGE(\"\"https://docs.google.com/spreadsheets/d/1bphtMaJ6lFh0VVWIgQh8ZCOchBZqvj0w5rveiNYcTnM/edit#gid=0\"\",\"\"RWA!F:BZ\"\"),49,0))\"),\"\")","v":""},{"$f":"IFERROR(__xludf.DUMMYFUNCTION(\"iferror(VLOOKUP(B294,IMPORTRANGE(\"\"https://docs.google.com/spreadsheets/d/1bphtMaJ6lFh0VVWIgQh8ZCOchBZqvj0w5rveiNYcTnM/edit#gid=0\"\",\"\"RWA!F:BZ\"\"),53,0))\"),\"\")","v":""}]
[null,null,null,{"$f":"IFERROR(__xludf.DUMMYFUNCTION(\"iferror(VLOOKUP(B295,IMPORTRANGE(\"\"https://docs.google.com/spreadsheets/d/1bphtMaJ6lFh0VVWIgQh8ZCOchBZqvj0w5rveiNYcTnM/edit#gid=0\"\",\"\"RWA!F:BZ\"\"),44,0))\"),\"\")","v":""},{"$f":"IFERROR(__xludf.DUMMYFUNCTION(\"iferror(VLOOKUP(B295,IMPORTRANGE(\"\"https://docs.google.com/spreadsheets/d/1bphtMaJ6lFh0VVWIgQh8ZCOchBZqvj0w5rveiNYcTnM/edit#gid=0\"\",\"\"RWA!F:BZ\"\"),48,0))\"),\"\")","v":""},{"$f":"IFERROR(__xludf.DUMMYFUNCTION(\"iferror(VLOOKUP(B295,IMPORTRANGE(\"\"https://docs.google.com/spreadsheets/d/1bphtMaJ6lFh0VVWIgQh8ZCOchBZqvj0w5rveiNYcTnM/edit#gid=0\"\",\"\"RWA!F:BZ\"\"),49,0))\"),\"\")","v":""},{"$f":"IFERROR(__xludf.DUMMYFUNCTION(\"iferror(VLOOKUP(B295,IMPORTRANGE(\"\"https://docs.google.com/spreadsheets/d/1bphtMaJ6lFh0VVWIgQh8ZCOchBZqvj0w5rveiNYcTnM/edit#gid=0\"\",\"\"RWA!F:BZ\"\"),53,0))\"),\"\")","v":""}]
[null,null,null,{"$f":"IFERROR(__xludf.DUMMYFUNCTION(\"iferror(VLOOKUP(B296,IMPORTRANGE(\"\"https://docs.google.com/spreadsheets/d/1bphtMaJ6lFh0VVWIgQh8ZCOchBZqvj0w5rveiNYcTnM/edit#gid=0\"\",\"\"RWA!F:BZ\"\"),44,0))\"),\"\")","v":""},{"$f":"IFERROR(__xludf.DUMMYFUNCTION(\"iferror(VLOOKUP(B296,IMPORTRANGE(\"\"https://docs.google.com/spreadsheets/d/1bphtMaJ6lFh0VVWIgQh8ZCOchBZqvj0w5rveiNYcTnM/edit#gid=0\"\",\"\"RWA!F:BZ\"\"),48,0))\"),\"\")","v":""},{"$f":"IFERROR(__xludf.DUMMYFUNCTION(\"iferror(VLOOKUP(B296,IMPORTRANGE(\"\"https://docs.google.com/spreadsheets/d/1bphtMaJ6lFh0VVWIgQh8ZCOchBZqvj0w5rveiNYcTnM/edit#gid=0\"\",\"\"RWA!F:BZ\"\"),49,0))\"),\"\")","v":""},{"$f":"IFERROR(__xludf.DUMMYFUNCTION(\"iferror(VLOOKUP(B296,IMPORTRANGE(\"\"https://docs.google.com/spreadsheets/d/1bphtMaJ6lFh0VVWIgQh8ZCOchBZqvj0w5rveiNYcTnM/edit#gid=0\"\",\"\"RWA!F:BZ\"\"),53,0))\"),\"\")","v":""}]
[null,null,null,{"$f":"IFERROR(__xludf.DUMMYFUNCTION(\"iferror(VLOOKUP(B297,IMPORTRANGE(\"\"https://docs.google.com/spreadsheets/d/1bphtMaJ6lFh0VVWIgQh8ZCOchBZqvj0w5rveiNYcTnM/edit#gid=0\"\",\"\"RWA!F:BZ\"\"),44,0))\"),\"\")","v":""},{"$f":"IFERROR(__xludf.DUMMYFUNCTION(\"iferror(VLOOKUP(B297,IMPORTRANGE(\"\"https://docs.google.com/spreadsheets/d/1bphtMaJ6lFh0VVWIgQh8ZCOchBZqvj0w5rveiNYcTnM/edit#gid=0\"\",\"\"RWA!F:BZ\"\"),48,0))\"),\"\")","v":""},{"$f":"IFERROR(__xludf.DUMMYFUNCTION(\"iferror(VLOOKUP(B297,IMPORTRANGE(\"\"https://docs.google.com/spreadsheets/d/1bphtMaJ6lFh0VVWIgQh8ZCOchBZqvj0w5rveiNYcTnM/edit#gid=0\"\",\"\"RWA!F:BZ\"\"),49,0))\"),\"\")","v":""},{"$f":"IFERROR(__xludf.DUMMYFUNCTION(\"iferror(VLOOKUP(B297,IMPORTRANGE(\"\"https://docs.google.com/spreadsheets/d/1bphtMaJ6lFh0VVWIgQh8ZCOchBZqvj0w5rveiNYcTnM/edit#gid=0\"\",\"\"RWA!F:BZ\"\"),53,0))\"),\"\")","v":""}]
[null,null,null,{"$f":"IFERROR(__xludf.DUMMYFUNCTION(\"iferror(VLOOKUP(B298,IMPORTRANGE(\"\"https://docs.google.com/spreadsheets/d/1bphtMaJ6lFh0VVWIgQh8ZCOchBZqvj0w5rveiNYcTnM/edit#gid=0\"\",\"\"RWA!F:BZ\"\"),44,0))\"),\"\")","v":""},{"$f":"IFERROR(__xludf.DUMMYFUNCTION(\"iferror(VLOOKUP(B298,IMPORTRANGE(\"\"https://docs.google.com/spreadsheets/d/1bphtMaJ6lFh0VVWIgQh8ZCOchBZqvj0w5rveiNYcTnM/edit#gid=0\"\",\"\"RWA!F:BZ\"\"),48,0))\"),\"\")","v":""},{"$f":"IFERROR(__xludf.DUMMYFUNCTION(\"iferror(VLOOKUP(B298,IMPORTRANGE(\"\"https://docs.google.com/spreadsheets/d/1bphtMaJ6lFh0VVWIgQh8ZCOchBZqvj0w5rveiNYcTnM/edit#gid=0\"\",\"\"RWA!F:BZ\"\"),49,0))\"),\"\")","v":""},{"$f":"IFERROR(__xludf.DUMMYFUNCTION(\"iferror(VLOOKUP(B298,IMPORTRANGE(\"\"https://docs.google.com/spreadsheets/d/1bphtMaJ6lFh0VVWIgQh8ZCOchBZqvj0w5rveiNYcTnM/edit#gid=0\"\",\"\"RWA!F:BZ\"\"),53,0))\"),\"\")","v":""}]
[null,null,null,{"$f":"IFERROR(__xludf.DUMMYFUNCTION(\"iferror(VLOOKUP(B299,IMPORTRANGE(\"\"https://docs.google.com/spreadsheets/d/1bphtMaJ6lFh0VVWIgQh8ZCOchBZqvj0w5rveiNYcTnM/edit#gid=0\"\",\"\"RWA!F:BZ\"\"),44,0))\"),\"\")","v":""},{"$f":"IFERROR(__xludf.DUMMYFUNCTION(\"iferror(VLOOKUP(B299,IMPORTRANGE(\"\"https://docs.google.com/spreadsheets/d/1bphtMaJ6lFh0VVWIgQh8ZCOchBZqvj0w5rveiNYcTnM/edit#gid=0\"\",\"\"RWA!F:BZ\"\"),48,0))\"),\"\")","v":""},{"$f":"IFERROR(__xludf.DUMMYFUNCTION(\"iferror(VLOOKUP(B299,IMPORTRANGE(\"\"https://docs.google.com/spreadsheets/d/1bphtMaJ6lFh0VVWIgQh8ZCOchBZqvj0w5rveiNYcTnM/edit#gid=0\"\",\"\"RWA!F:BZ\"\"),49,0))\"),\"\")","v":""},{"$f":"IFERROR(__xludf.DUMMYFUNCTION(\"iferror(VLOOKUP(B299,IMPORTRANGE(\"\"https://docs.google.com/spreadsheets/d/1bphtMaJ6lFh0VVWIgQh8ZCOchBZqvj0w5rveiNYcTnM/edit#gid=0\"\",\"\"RWA!F:BZ\"\"),53,0))\"),\"\")","v":""}]
[null,null,null,{"$f":"IFERROR(__xludf.DUMMYFUNCTION(\"iferror(VLOOKUP(B300,IMPORTRANGE(\"\"https://docs.google.com/spreadsheets/d/1bphtMaJ6lFh0VVWIgQh8ZCOchBZqvj0w5rveiNYcTnM/edit#gid=0\"\",\"\"RWA!F:BZ\"\"),44,0))\"),\"\")","v":""},{"$f":"IFERROR(__xludf.DUMMYFUNCTION(\"iferror(VLOOKUP(B300,IMPORTRANGE(\"\"https://docs.google.com/spreadsheets/d/1bphtMaJ6lFh0VVWIgQh8ZCOchBZqvj0w5rveiNYcTnM/edit#gid=0\"\",\"\"RWA!F:BZ\"\"),48,0))\"),\"\")","v":""},{"$f":"IFERROR(__xludf.DUMMYFUNCTION(\"iferror(VLOOKUP(B300,IMPORTRANGE(\"\"https://docs.google.com/spreadsheets/d/1bphtMaJ6lFh0VVWIgQh8ZCOchBZqvj0w5rveiNYcTnM/edit#gid=0\"\",\"\"RWA!F:BZ\"\"),49,0))\"),\"\")","v":""},{"$f":"IFERROR(__xludf.DUMMYFUNCTION(\"iferror(VLOOKUP(B300,IMPORTRANGE(\"\"https://docs.google.com/spreadsheets/d/1bphtMaJ6lFh0VVWIgQh8ZCOchBZqvj0w5rveiNYcTnM/edit#gid=0\"\",\"\"RWA!F:BZ\"\"),53,0))\"),\"\")","v":""}]
[null,null,null,{"$f":"IFERROR(__xludf.DUMMYFUNCTION(\"iferror(VLOOKUP(B301,IMPORTRANGE(\"\"https://docs.google.com/spreadsheets/d/1bphtMaJ6lFh0VVWIgQh8ZCOchBZqvj0w5rveiNYcTnM/edit#gid=0\"\",\"\"RWA!F:BZ\"\"),44,0))\"),\"\")","v":""},{"$f":"IFERROR(__xludf.DUMMYFUNCTION(\"iferror(VLOOKUP(B301,IMPORTRANGE(\"\"https://docs.google.com/spreadsheets/d/1bphtMaJ6lFh0VVWIgQh8ZCOchBZqvj0w5rveiNYcTnM/edit#gid=0\"\",\"\"RWA!F:BZ\"\"),48,0))\"),\"\")","v":""},{"$f":"IFERROR(__xludf.DUMMYFUNCTION(\"iferror(VLOOKUP(B301,IMPORTRANGE(\"\"https://docs.google.com/spreadsheets/d/1bphtMaJ6lFh0VVWIgQh8ZCOchBZqvj0w5rveiNYcTnM/edit#gid=0\"\",\"\"RWA!F:BZ\"\"),49,0))\"),\"\")","v":""},{"$f":"IFERROR(__xludf.DUMMYFUNCTION(\"iferror(VLOOKUP(B301,IMPORTRANGE(\"\"https://docs.google.com/spreadsheets/d/1bphtMaJ6lFh0VVWIgQh8ZCOchBZqvj0w5rveiNYcTnM/edit#gid=0\"\",\"\"RWA!F:BZ\"\"),53,0))\"),\"\")","v":""}]
[null,null,null,{"$f":"IFERROR(__xludf.DUMMYFUNCTION(\"iferror(VLOOKUP(B302,IMPORTRANGE(\"\"https://docs.google.com/spreadsheets/d/1bphtMaJ6lFh0VVWIgQh8ZCOchBZqvj0w5rveiNYcTnM/edit#gid=0\"\",\"\"RWA!F:BZ\"\"),44,0))\"),\"\")","v":""},{"$f":"IFERROR(__xludf.DUMMYFUNCTION(\"iferror(VLOOKUP(B302,IMPORTRANGE(\"\"https://docs.google.com/spreadsheets/d/1bphtMaJ6lFh0VVWIgQh8ZCOchBZqvj0w5rveiNYcTnM/edit#gid=0\"\",\"\"RWA!F:BZ\"\"),48,0))\"),\"\")","v":""},{"$f":"IFERROR(__xludf.DUMMYFUNCTION(\"iferror(VLOOKUP(B302,IMPORTRANGE(\"\"https://docs.google.com/spreadsheets/d/1bphtMaJ6lFh0VVWIgQh8ZCOchBZqvj0w5rveiNYcTnM/edit#gid=0\"\",\"\"RWA!F:BZ\"\"),49,0))\"),\"\")","v":""},{"$f":"IFERROR(__xludf.DUMMYFUNCTION(\"iferror(VLOOKUP(B302,IMPORTRANGE(\"\"https://docs.google.com/spreadsheets/d/1bphtMaJ6lFh0VVWIgQh8ZCOchBZqvj0w5rveiNYcTnM/edit#gid=0\"\",\"\"RWA!F:BZ\"\"),53,0))\"),\"\")","v":""}]
[null,null,null,{"$f":"IFERROR(__xludf.DUMMYFUNCTION(\"iferror(VLOOKUP(B303,IMPORTRANGE(\"\"https://docs.google.com/spreadsheets/d/1bphtMaJ6lFh0VVWIgQh8ZCOchBZqvj0w5rveiNYcTnM/edit#gid=0\"\",\"\"RWA!F:BZ\"\"),44,0))\"),\"\")","v":""},{"$f":"IFERROR(__xludf.DUMMYFUNCTION(\"iferror(VLOOKUP(B303,IMPORTRANGE(\"\"https://docs.google.com/spreadsheets/d/1bphtMaJ6lFh0VVWIgQh8ZCOchBZqvj0w5rveiNYcTnM/edit#gid=0\"\",\"\"RWA!F:BZ\"\"),48,0))\"),\"\")","v":""},{"$f":"IFERROR(__xludf.DUMMYFUNCTION(\"iferror(VLOOKUP(B303,IMPORTRANGE(\"\"https://docs.google.com/spreadsheets/d/1bphtMaJ6lFh0VVWIgQh8ZCOchBZqvj0w5rveiNYcTnM/edit#gid=0\"\",\"\"RWA!F:BZ\"\"),49,0))\"),\"\")","v":""},{"$f":"IFERROR(__xludf.DUMMYFUNCTION(\"iferror(VLOOKUP(B303,IMPORTRANGE(\"\"https://docs.google.com/spreadsheets/d/1bphtMaJ6lFh0VVWIgQh8ZCOchBZqvj0w5rveiNYcTnM/edit#gid=0\"\",\"\"RWA!F:BZ\"\"),53,0))\"),\"\")","v":""}]
[null,null,null,{"$f":"IFERROR(__xludf.DUMMYFUNCTION(\"iferror(VLOOKUP(B304,IMPORTRANGE(\"\"https://docs.google.com/spreadsheets/d/1bphtMaJ6lFh0VVWIgQh8ZCOchBZqvj0w5rveiNYcTnM/edit#gid=0\"\",\"\"RWA!F:BZ\"\"),44,0))\"),\"\")","v":""},{"$f":"IFERROR(__xludf.DUMMYFUNCTION(\"iferror(VLOOKUP(B304,IMPORTRANGE(\"\"https://docs.google.com/spreadsheets/d/1bphtMaJ6lFh0VVWIgQh8ZCOchBZqvj0w5rveiNYcTnM/edit#gid=0\"\",\"\"RWA!F:BZ\"\"),48,0))\"),\"\")","v":""},{"$f":"IFERROR(__xludf.DUMMYFUNCTION(\"iferror(VLOOKUP(B304,IMPORTRANGE(\"\"https://docs.google.com/spreadsheets/d/1bphtMaJ6lFh0VVWIgQh8ZCOchBZqvj0w5rveiNYcTnM/edit#gid=0\"\",\"\"RWA!F:BZ\"\"),49,0))\"),\"\")","v":""},{"$f":"IFERROR(__xludf.DUMMYFUNCTION(\"iferror(VLOOKUP(B304,IMPORTRANGE(\"\"https://docs.google.com/spreadsheets/d/1bphtMaJ6lFh0VVWIgQh8ZCOchBZqvj0w5rveiNYcTnM/edit#gid=0\"\",\"\"RWA!F:BZ\"\"),53,0))\"),\"\")","v":""}]
[null,null,null,{"$f":"IFERROR(__xludf.DUMMYFUNCTION(\"iferror(VLOOKUP(B305,IMPORTRANGE(\"\"https://docs.google.com/spreadsheets/d/1bphtMaJ6lFh0VVWIgQh8ZCOchBZqvj0w5rveiNYcTnM/edit#gid=0\"\",\"\"RWA!F:BZ\"\"),44,0))\"),\"\")","v":""},{"$f":"IFERROR(__xludf.DUMMYFUNCTION(\"iferror(VLOOKUP(B305,IMPORTRANGE(\"\"https://docs.google.com/spreadsheets/d/1bphtMaJ6lFh0VVWIgQh8ZCOchBZqvj0w5rveiNYcTnM/edit#gid=0\"\",\"\"RWA!F:BZ\"\"),48,0))\"),\"\")","v":""},{"$f":"IFERROR(__xludf.DUMMYFUNCTION(\"iferror(VLOOKUP(B305,IMPORTRANGE(\"\"https://docs.google.com/spreadsheets/d/1bphtMaJ6lFh0VVWIgQh8ZCOchBZqvj0w5rveiNYcTnM/edit#gid=0\"\",\"\"RWA!F:BZ\"\"),49,0))\"),\"\")","v":""},{"$f":"IFERROR(__xludf.DUMMYFUNCTION(\"iferror(VLOOKUP(B305,IMPORTRANGE(\"\"https://docs.google.com/spreadsheets/d/1bphtMaJ6lFh0VVWIgQh8ZCOchBZqvj0w5rveiNYcTnM/edit#gid=0\"\",\"\"RWA!F:BZ\"\"),53,0))\"),\"\")","v":""}]
[null,null,null,{"$f":"IFERROR(__xludf.DUMMYFUNCTION(\"iferror(VLOOKUP(B306,IMPORTRANGE(\"\"https://docs.google.com/spreadsheets/d/1bphtMaJ6lFh0VVWIgQh8ZCOchBZqvj0w5rveiNYcTnM/edit#gid=0\"\",\"\"RWA!F:BZ\"\"),44,0))\"),\"\")","v":""},{"$f":"IFERROR(__xludf.DUMMYFUNCTION(\"iferror(VLOOKUP(B306,IMPORTRANGE(\"\"https://docs.google.com/spreadsheets/d/1bphtMaJ6lFh0VVWIgQh8ZCOchBZqvj0w5rveiNYcTnM/edit#gid=0\"\",\"\"RWA!F:BZ\"\"),48,0))\"),\"\")","v":""},{"$f":"IFERROR(__xludf.DUMMYFUNCTION(\"iferror(VLOOKUP(B306,IMPORTRANGE(\"\"https://docs.google.com/spreadsheets/d/1bphtMaJ6lFh0VVWIgQh8ZCOchBZqvj0w5rveiNYcTnM/edit#gid=0\"\",\"\"RWA!F:BZ\"\"),49,0))\"),\"\")","v":""},{"$f":"IFERROR(__xludf.DUMMYFUNCTION(\"iferror(VLOOKUP(B306,IMPORTRANGE(\"\"https://docs.google.com/spreadsheets/d/1bphtMaJ6lFh0VVWIgQh8ZCOchBZqvj0w5rveiNYcTnM/edit#gid=0\"\",\"\"RWA!F:BZ\"\"),53,0))\"),\"\")","v":""}]
[null,null,null,{"$f":"IFERROR(__xludf.DUMMYFUNCTION(\"iferror(VLOOKUP(B307,IMPORTRANGE(\"\"https://docs.google.com/spreadsheets/d/1bphtMaJ6lFh0VVWIgQh8ZCOchBZqvj0w5rveiNYcTnM/edit#gid=0\"\",\"\"RWA!F:BZ\"\"),44,0))\"),\"\")","v":""},{"$f":"IFERROR(__xludf.DUMMYFUNCTION(\"iferror(VLOOKUP(B307,IMPORTRANGE(\"\"https://docs.google.com/spreadsheets/d/1bphtMaJ6lFh0VVWIgQh8ZCOchBZqvj0w5rveiNYcTnM/edit#gid=0\"\",\"\"RWA!F:BZ\"\"),48,0))\"),\"\")","v":""},{"$f":"IFERROR(__xludf.DUMMYFUNCTION(\"iferror(VLOOKUP(B307,IMPORTRANGE(\"\"https://docs.google.com/spreadsheets/d/1bphtMaJ6lFh0VVWIgQh8ZCOchBZqvj0w5rveiNYcTnM/edit#gid=0\"\",\"\"RWA!F:BZ\"\"),49,0))\"),\"\")","v":""},{"$f":"IFERROR(__xludf.DUMMYFUNCTION(\"iferror(VLOOKUP(B307,IMPORTRANGE(\"\"https://docs.google.com/spreadsheets/d/1bphtMaJ6lFh0VVWIgQh8ZCOchBZqvj0w5rveiNYcTnM/edit#gid=0\"\",\"\"RWA!F:BZ\"\"),53,0))\"),\"\")","v":""}]
[null,null,null,{"$f":"IFERROR(__xludf.DUMMYFUNCTION(\"iferror(VLOOKUP(B308,IMPORTRANGE(\"\"https://docs.google.com/spreadsheets/d/1bphtMaJ6lFh0VVWIgQh8ZCOchBZqvj0w5rveiNYcTnM/edit#gid=0\"\",\"\"RWA!F:BZ\"\"),44,0))\"),\"\")","v":""},{"$f":"IFERROR(__xludf.DUMMYFUNCTION(\"iferror(VLOOKUP(B308,IMPORTRANGE(\"\"https://docs.google.com/spreadsheets/d/1bphtMaJ6lFh0VVWIgQh8ZCOchBZqvj0w5rveiNYcTnM/edit#gid=0\"\",\"\"RWA!F:BZ\"\"),48,0))\"),\"\")","v":""},{"$f":"IFERROR(__xludf.DUMMYFUNCTION(\"iferror(VLOOKUP(B308,IMPORTRANGE(\"\"https://docs.google.com/spreadsheets/d/1bphtMaJ6lFh0VVWIgQh8ZCOchBZqvj0w5rveiNYcTnM/edit#gid=0\"\",\"\"RWA!F:BZ\"\"),49,0))\"),\"\")","v":""},{"$f":"IFERROR(__xludf.DUMMYFUNCTION(\"iferror(VLOOKUP(B308,IMPORTRANGE(\"\"https://docs.google.com/spreadsheets/d/1bphtMaJ6lFh0VVWIgQh8ZCOchBZqvj0w5rveiNYcTnM/edit#gid=0\"\",\"\"RWA!F:BZ\"\"),53,0))\"),\"\")","v":""}]
[null,null,null,{"$f":"IFERROR(__xludf.DUMMYFUNCTION(\"iferror(VLOOKUP(B309,IMPORTRANGE(\"\"https://docs.google.com/spreadsheets/d/1bphtMaJ6lFh0VVWIgQh8ZCOchBZqvj0w5rveiNYcTnM/edit#gid=0\"\",\"\"RWA!F:BZ\"\"),44,0))\"),\"\")","v":""},{"$f":"IFERROR(__xludf.DUMMYFUNCTION(\"iferror(VLOOKUP(B309,IMPORTRANGE(\"\"https://docs.google.com/spreadsheets/d/1bphtMaJ6lFh0VVWIgQh8ZCOchBZqvj0w5rveiNYcTnM/edit#gid=0\"\",\"\"RWA!F:BZ\"\"),48,0))\"),\"\")","v":""},{"$f":"IFERROR(__xludf.DUMMYFUNCTION(\"iferror(VLOOKUP(B309,IMPORTRANGE(\"\"https://docs.google.com/spreadsheets/d/1bphtMaJ6lFh0VVWIgQh8ZCOchBZqvj0w5rveiNYcTnM/edit#gid=0\"\",\"\"RWA!F:BZ\"\"),49,0))\"),\"\")","v":""},{"$f":"IFERROR(__xludf.DUMMYFUNCTION(\"iferror(VLOOKUP(B309,IMPORTRANGE(\"\"https://docs.google.com/spreadsheets/d/1bphtMaJ6lFh0VVWIgQh8ZCOchBZqvj0w5rveiNYcTnM/edit#gid=0\"\",\"\"RWA!F:BZ\"\"),53,0))\"),\"\")","v":""}]
[null,null,null,{"$f":"IFERROR(__xludf.DUMMYFUNCTION(\"iferror(VLOOKUP(B310,IMPORTRANGE(\"\"https://docs.google.com/spreadsheets/d/1bphtMaJ6lFh0VVWIgQh8ZCOchBZqvj0w5rveiNYcTnM/edit#gid=0\"\",\"\"RWA!F:BZ\"\"),44,0))\"),\"\")","v":""},{"$f":"IFERROR(__xludf.DUMMYFUNCTION(\"iferror(VLOOKUP(B310,IMPORTRANGE(\"\"https://docs.google.com/spreadsheets/d/1bphtMaJ6lFh0VVWIgQh8ZCOchBZqvj0w5rveiNYcTnM/edit#gid=0\"\",\"\"RWA!F:BZ\"\"),48,0))\"),\"\")","v":""},{"$f":"IFERROR(__xludf.DUMMYFUNCTION(\"iferror(VLOOKUP(B310,IMPORTRANGE(\"\"https://docs.google.com/spreadsheets/d/1bphtMaJ6lFh0VVWIgQh8ZCOchBZqvj0w5rveiNYcTnM/edit#gid=0\"\",\"\"RWA!F:BZ\"\"),49,0))\"),\"\")","v":""},{"$f":"IFERROR(__xludf.DUMMYFUNCTION(\"iferror(VLOOKUP(B310,IMPORTRANGE(\"\"https://docs.google.com/spreadsheets/d/1bphtMaJ6lFh0VVWIgQh8ZCOchBZqvj0w5rveiNYcTnM/edit#gid=0\"\",\"\"RWA!F:BZ\"\"),53,0))\"),\"\")","v":""}]
[null,null,null,{"$f":"IFERROR(__xludf.DUMMYFUNCTION(\"iferror(VLOOKUP(B311,IMPORTRANGE(\"\"https://docs.google.com/spreadsheets/d/1bphtMaJ6lFh0VVWIgQh8ZCOchBZqvj0w5rveiNYcTnM/edit#gid=0\"\",\"\"RWA!F:BZ\"\"),44,0))\"),\"\")","v":""},{"$f":"IFERROR(__xludf.DUMMYFUNCTION(\"iferror(VLOOKUP(B311,IMPORTRANGE(\"\"https://docs.google.com/spreadsheets/d/1bphtMaJ6lFh0VVWIgQh8ZCOchBZqvj0w5rveiNYcTnM/edit#gid=0\"\",\"\"RWA!F:BZ\"\"),48,0))\"),\"\")","v":""},{"$f":"IFERROR(__xludf.DUMMYFUNCTION(\"iferror(VLOOKUP(B311,IMPORTRANGE(\"\"https://docs.google.com/spreadsheets/d/1bphtMaJ6lFh0VVWIgQh8ZCOchBZqvj0w5rveiNYcTnM/edit#gid=0\"\",\"\"RWA!F:BZ\"\"),49,0))\"),\"\")","v":""},{"$f":"IFERROR(__xludf.DUMMYFUNCTION(\"iferror(VLOOKUP(B311,IMPORTRANGE(\"\"https://docs.google.com/spreadsheets/d/1bphtMaJ6lFh0VVWIgQh8ZCOchBZqvj0w5rveiNYcTnM/edit#gid=0\"\",\"\"RWA!F:BZ\"\"),53,0))\"),\"\")","v":""}]
[null,null,null,{"$f":"IFERROR(__xludf.DUMMYFUNCTION(\"iferror(VLOOKUP(B312,IMPORTRANGE(\"\"https://docs.google.com/spreadsheets/d/1bphtMaJ6lFh0VVWIgQh8ZCOchBZqvj0w5rveiNYcTnM/edit#gid=0\"\",\"\"RWA!F:BZ\"\"),44,0))\"),\"\")","v":""},{"$f":"IFERROR(__xludf.DUMMYFUNCTION(\"iferror(VLOOKUP(B312,IMPORTRANGE(\"\"https://docs.google.com/spreadsheets/d/1bphtMaJ6lFh0VVWIgQh8ZCOchBZqvj0w5rveiNYcTnM/edit#gid=0\"\",\"\"RWA!F:BZ\"\"),48,0))\"),\"\")","v":""},{"$f":"IFERROR(__xludf.DUMMYFUNCTION(\"iferror(VLOOKUP(B312,IMPORTRANGE(\"\"https://docs.google.com/spreadsheets/d/1bphtMaJ6lFh0VVWIgQh8ZCOchBZqvj0w5rveiNYcTnM/edit#gid=0\"\",\"\"RWA!F:BZ\"\"),49,0))\"),\"\")","v":""},{"$f":"IFERROR(__xludf.DUMMYFUNCTION(\"iferror(VLOOKUP(B312,IMPORTRANGE(\"\"https://docs.google.com/spreadsheets/d/1bphtMaJ6lFh0VVWIgQh8ZCOchBZqvj0w5rveiNYcTnM/edit#gid=0\"\",\"\"RWA!F:BZ\"\"),53,0))\"),\"\")","v":""}]
[null,null,null,{"$f":"IFERROR(__xludf.DUMMYFUNCTION(\"iferror(VLOOKUP(B313,IMPORTRANGE(\"\"https://docs.google.com/spreadsheets/d/1bphtMaJ6lFh0VVWIgQh8ZCOchBZqvj0w5rveiNYcTnM/edit#gid=0\"\",\"\"RWA!F:BZ\"\"),44,0))\"),\"\")","v":""},{"$f":"IFERROR(__xludf.DUMMYFUNCTION(\"iferror(VLOOKUP(B313,IMPORTRANGE(\"\"https://docs.google.com/spreadsheets/d/1bphtMaJ6lFh0VVWIgQh8ZCOchBZqvj0w5rveiNYcTnM/edit#gid=0\"\",\"\"RWA!F:BZ\"\"),48,0))\"),\"\")","v":""},{"$f":"IFERROR(__xludf.DUMMYFUNCTION(\"iferror(VLOOKUP(B313,IMPORTRANGE(\"\"https://docs.google.com/spreadsheets/d/1bphtMaJ6lFh0VVWIgQh8ZCOchBZqvj0w5rveiNYcTnM/edit#gid=0\"\",\"\"RWA!F:BZ\"\"),49,0))\"),\"\")","v":""},{"$f":"IFERROR(__xludf.DUMMYFUNCTION(\"iferror(VLOOKUP(B313,IMPORTRANGE(\"\"https://docs.google.com/spreadsheets/d/1bphtMaJ6lFh0VVWIgQh8ZCOchBZqvj0w5rveiNYcTnM/edit#gid=0\"\",\"\"RWA!F:BZ\"\"),53,0))\"),\"\")","v":""}]
[null,null,null,{"$f":"IFERROR(__xludf.DUMMYFUNCTION(\"iferror(VLOOKUP(B314,IMPORTRANGE(\"\"https://docs.google.com/spreadsheets/d/1bphtMaJ6lFh0VVWIgQh8ZCOchBZqvj0w5rveiNYcTnM/edit#gid=0\"\",\"\"RWA!F:BZ\"\"),44,0))\"),\"\")","v":""},{"$f":"IFERROR(__xludf.DUMMYFUNCTION(\"iferror(VLOOKUP(B314,IMPORTRANGE(\"\"https://docs.google.com/spreadsheets/d/1bphtMaJ6lFh0VVWIgQh8ZCOchBZqvj0w5rveiNYcTnM/edit#gid=0\"\",\"\"RWA!F:BZ\"\"),48,0))\"),\"\")","v":""},{"$f":"IFERROR(__xludf.DUMMYFUNCTION(\"iferror(VLOOKUP(B314,IMPORTRANGE(\"\"https://docs.google.com/spreadsheets/d/1bphtMaJ6lFh0VVWIgQh8ZCOchBZqvj0w5rveiNYcTnM/edit#gid=0\"\",\"\"RWA!F:BZ\"\"),49,0))\"),\"\")","v":""},{"$f":"IFERROR(__xludf.DUMMYFUNCTION(\"iferror(VLOOKUP(B314,IMPORTRANGE(\"\"https://docs.google.com/spreadsheets/d/1bphtMaJ6lFh0VVWIgQh8ZCOchBZqvj0w5rveiNYcTnM/edit#gid=0\"\",\"\"RWA!F:BZ\"\"),53,0))\"),\"\")","v":""}]
[null,null,null,{"$f":"IFERROR(__xludf.DUMMYFUNCTION(\"iferror(VLOOKUP(B315,IMPORTRANGE(\"\"https://docs.google.com/spreadsheets/d/1bphtMaJ6lFh0VVWIgQh8ZCOchBZqvj0w5rveiNYcTnM/edit#gid=0\"\",\"\"RWA!F:BZ\"\"),44,0))\"),\"\")","v":""},{"$f":"IFERROR(__xludf.DUMMYFUNCTION(\"iferror(VLOOKUP(B315,IMPORTRANGE(\"\"https://docs.google.com/spreadsheets/d/1bphtMaJ6lFh0VVWIgQh8ZCOchBZqvj0w5rveiNYcTnM/edit#gid=0\"\",\"\"RWA!F:BZ\"\"),48,0))\"),\"\")","v":""},{"$f":"IFERROR(__xludf.DUMMYFUNCTION(\"iferror(VLOOKUP(B315,IMPORTRANGE(\"\"https://docs.google.com/spreadsheets/d/1bphtMaJ6lFh0VVWIgQh8ZCOchBZqvj0w5rveiNYcTnM/edit#gid=0\"\",\"\"RWA!F:BZ\"\"),49,0))\"),\"\")","v":""},{"$f":"IFERROR(__xludf.DUMMYFUNCTION(\"iferror(VLOOKUP(B315,IMPORTRANGE(\"\"https://docs.google.com/spreadsheets/d/1bphtMaJ6lFh0VVWIgQh8ZCOchBZqvj0w5rveiNYcTnM/edit#gid=0\"\",\"\"RWA!F:BZ\"\"),53,0))\"),\"\")","v":""}]
[null,null,null,{"$f":"IFERROR(__xludf.DUMMYFUNCTION(\"iferror(VLOOKUP(B316,IMPORTRANGE(\"\"https://docs.google.com/spreadsheets/d/1bphtMaJ6lFh0VVWIgQh8ZCOchBZqvj0w5rveiNYcTnM/edit#gid=0\"\",\"\"RWA!F:BZ\"\"),44,0))\"),\"\")","v":""},{"$f":"IFERROR(__xludf.DUMMYFUNCTION(\"iferror(VLOOKUP(B316,IMPORTRANGE(\"\"https://docs.google.com/spreadsheets/d/1bphtMaJ6lFh0VVWIgQh8ZCOchBZqvj0w5rveiNYcTnM/edit#gid=0\"\",\"\"RWA!F:BZ\"\"),48,0))\"),\"\")","v":""},{"$f":"IFERROR(__xludf.DUMMYFUNCTION(\"iferror(VLOOKUP(B316,IMPORTRANGE(\"\"https://docs.google.com/spreadsheets/d/1bphtMaJ6lFh0VVWIgQh8ZCOchBZqvj0w5rveiNYcTnM/edit#gid=0\"\",\"\"RWA!F:BZ\"\"),49,0))\"),\"\")","v":""},{"$f":"IFERROR(__xludf.DUMMYFUNCTION(\"iferror(VLOOKUP(B316,IMPORTRANGE(\"\"https://docs.google.com/spreadsheets/d/1bphtMaJ6lFh0VVWIgQh8ZCOchBZqvj0w5rveiNYcTnM/edit#gid=0\"\",\"\"RWA!F:BZ\"\"),53,0))\"),\"\")","v":""}]
[null,null,null,{"$f":"IFERROR(__xludf.DUMMYFUNCTION(\"iferror(VLOOKUP(B317,IMPORTRANGE(\"\"https://docs.google.com/spreadsheets/d/1bphtMaJ6lFh0VVWIgQh8ZCOchBZqvj0w5rveiNYcTnM/edit#gid=0\"\",\"\"RWA!F:BZ\"\"),44,0))\"),\"\")","v":""},{"$f":"IFERROR(__xludf.DUMMYFUNCTION(\"iferror(VLOOKUP(B317,IMPORTRANGE(\"\"https://docs.google.com/spreadsheets/d/1bphtMaJ6lFh0VVWIgQh8ZCOchBZqvj0w5rveiNYcTnM/edit#gid=0\"\",\"\"RWA!F:BZ\"\"),48,0))\"),\"\")","v":""},{"$f":"IFERROR(__xludf.DUMMYFUNCTION(\"iferror(VLOOKUP(B317,IMPORTRANGE(\"\"https://docs.google.com/spreadsheets/d/1bphtMaJ6lFh0VVWIgQh8ZCOchBZqvj0w5rveiNYcTnM/edit#gid=0\"\",\"\"RWA!F:BZ\"\"),49,0))\"),\"\")","v":""},{"$f":"IFERROR(__xludf.DUMMYFUNCTION(\"iferror(VLOOKUP(B317,IMPORTRANGE(\"\"https://docs.google.com/spreadsheets/d/1bphtMaJ6lFh0VVWIgQh8ZCOchBZqvj0w5rveiNYcTnM/edit#gid=0\"\",\"\"RWA!F:BZ\"\"),53,0))\"),\"\")","v":""}]
[null,null,null,{"$f":"IFERROR(__xludf.DUMMYFUNCTION(\"iferror(VLOOKUP(B318,IMPORTRANGE(\"\"https://docs.google.com/spreadsheets/d/1bphtMaJ6lFh0VVWIgQh8ZCOchBZqvj0w5rveiNYcTnM/edit#gid=0\"\",\"\"RWA!F:BZ\"\"),44,0))\"),\"\")","v":""},{"$f":"IFERROR(__xludf.DUMMYFUNCTION(\"iferror(VLOOKUP(B318,IMPORTRANGE(\"\"https://docs.google.com/spreadsheets/d/1bphtMaJ6lFh0VVWIgQh8ZCOchBZqvj0w5rveiNYcTnM/edit#gid=0\"\",\"\"RWA!F:BZ\"\"),48,0))\"),\"\")","v":""},{"$f":"IFERROR(__xludf.DUMMYFUNCTION(\"iferror(VLOOKUP(B318,IMPORTRANGE(\"\"https://docs.google.com/spreadsheets/d/1bphtMaJ6lFh0VVWIgQh8ZCOchBZqvj0w5rveiNYcTnM/edit#gid=0\"\",\"\"RWA!F:BZ\"\"),49,0))\"),\"\")","v":""},{"$f":"IFERROR(__xludf.DUMMYFUNCTION(\"iferror(VLOOKUP(B318,IMPORTRANGE(\"\"https://docs.google.com/spreadsheets/d/1bphtMaJ6lFh0VVWIgQh8ZCOchBZqvj0w5rveiNYcTnM/edit#gid=0\"\",\"\"RWA!F:BZ\"\"),53,0))\"),\"\")","v":""}]
[null,null,null,{"$f":"IFERROR(__xludf.DUMMYFUNCTION(\"iferror(VLOOKUP(B319,IMPORTRANGE(\"\"https://docs.google.com/spreadsheets/d/1bphtMaJ6lFh0VVWIgQh8ZCOchBZqvj0w5rveiNYcTnM/edit#gid=0\"\",\"\"RWA!F:BZ\"\"),44,0))\"),\"\")","v":""},{"$f":"IFERROR(__xludf.DUMMYFUNCTION(\"iferror(VLOOKUP(B319,IMPORTRANGE(\"\"https://docs.google.com/spreadsheets/d/1bphtMaJ6lFh0VVWIgQh8ZCOchBZqvj0w5rveiNYcTnM/edit#gid=0\"\",\"\"RWA!F:BZ\"\"),48,0))\"),\"\")","v":""},{"$f":"IFERROR(__xludf.DUMMYFUNCTION(\"iferror(VLOOKUP(B319,IMPORTRANGE(\"\"https://docs.google.com/spreadsheets/d/1bphtMaJ6lFh0VVWIgQh8ZCOchBZqvj0w5rveiNYcTnM/edit#gid=0\"\",\"\"RWA!F:BZ\"\"),49,0))\"),\"\")","v":""},{"$f":"IFERROR(__xludf.DUMMYFUNCTION(\"iferror(VLOOKUP(B319,IMPORTRANGE(\"\"https://docs.google.com/spreadsheets/d/1bphtMaJ6lFh0VVWIgQh8ZCOchBZqvj0w5rveiNYcTnM/edit#gid=0\"\",\"\"RWA!F:BZ\"\"),53,0))\"),\"\")","v":""}]
[null,null,null,{"$f":"IFERROR(__xludf.DUMMYFUNCTION(\"iferror(VLOOKUP(B320,IMPORTRANGE(\"\"https://docs.google.com/spreadsheets/d/1bphtMaJ6lFh0VVWIgQh8ZCOchBZqvj0w5rveiNYcTnM/edit#gid=0\"\",\"\"RWA!F:BZ\"\"),44,0))\"),\"\")","v":""},{"$f":"IFERROR(__xludf.DUMMYFUNCTION(\"iferror(VLOOKUP(B320,IMPORTRANGE(\"\"https://docs.google.com/spreadsheets/d/1bphtMaJ6lFh0VVWIgQh8ZCOchBZqvj0w5rveiNYcTnM/edit#gid=0\"\",\"\"RWA!F:BZ\"\"),48,0))\"),\"\")","v":""},{"$f":"IFERROR(__xludf.DUMMYFUNCTION(\"iferror(VLOOKUP(B320,IMPORTRANGE(\"\"https://docs.google.com/spreadsheets/d/1bphtMaJ6lFh0VVWIgQh8ZCOchBZqvj0w5rveiNYcTnM/edit#gid=0\"\",\"\"RWA!F:BZ\"\"),49,0))\"),\"\")","v":""},{"$f":"IFERROR(__xludf.DUMMYFUNCTION(\"iferror(VLOOKUP(B320,IMPORTRANGE(\"\"https://docs.google.com/spreadsheets/d/1bphtMaJ6lFh0VVWIgQh8ZCOchBZqvj0w5rveiNYcTnM/edit#gid=0\"\",\"\"RWA!F:BZ\"\"),53,0))\"),\"\")","v":""}]
[null,null,null,{"$f":"IFERROR(__xludf.DUMMYFUNCTION(\"iferror(VLOOKUP(B321,IMPORTRANGE(\"\"https://docs.google.com/spreadsheets/d/1bphtMaJ6lFh0VVWIgQh8ZCOchBZqvj0w5rveiNYcTnM/edit#gid=0\"\",\"\"RWA!F:BZ\"\"),44,0))\"),\"\")","v":""},{"$f":"IFERROR(__xludf.DUMMYFUNCTION(\"iferror(VLOOKUP(B321,IMPORTRANGE(\"\"https://docs.google.com/spreadsheets/d/1bphtMaJ6lFh0VVWIgQh8ZCOchBZqvj0w5rveiNYcTnM/edit#gid=0\"\",\"\"RWA!F:BZ\"\"),48,0))\"),\"\")","v":""},{"$f":"IFERROR(__xludf.DUMMYFUNCTION(\"iferror(VLOOKUP(B321,IMPORTRANGE(\"\"https://docs.google.com/spreadsheets/d/1bphtMaJ6lFh0VVWIgQh8ZCOchBZqvj0w5rveiNYcTnM/edit#gid=0\"\",\"\"RWA!F:BZ\"\"),49,0))\"),\"\")","v":""},{"$f":"IFERROR(__xludf.DUMMYFUNCTION(\"iferror(VLOOKUP(B321,IMPORTRANGE(\"\"https://docs.google.com/spreadsheets/d/1bphtMaJ6lFh0VVWIgQh8ZCOchBZqvj0w5rveiNYcTnM/edit#gid=0\"\",\"\"RWA!F:BZ\"\"),53,0))\"),\"\")","v":""}]
[null,null,null,{"$f":"IFERROR(__xludf.DUMMYFUNCTION(\"iferror(VLOOKUP(B322,IMPORTRANGE(\"\"https://docs.google.com/spreadsheets/d/1bphtMaJ6lFh0VVWIgQh8ZCOchBZqvj0w5rveiNYcTnM/edit#gid=0\"\",\"\"RWA!F:BZ\"\"),44,0))\"),\"\")","v":""},{"$f":"IFERROR(__xludf.DUMMYFUNCTION(\"iferror(VLOOKUP(B322,IMPORTRANGE(\"\"https://docs.google.com/spreadsheets/d/1bphtMaJ6lFh0VVWIgQh8ZCOchBZqvj0w5rveiNYcTnM/edit#gid=0\"\",\"\"RWA!F:BZ\"\"),48,0))\"),\"\")","v":""},{"$f":"IFERROR(__xludf.DUMMYFUNCTION(\"iferror(VLOOKUP(B322,IMPORTRANGE(\"\"https://docs.google.com/spreadsheets/d/1bphtMaJ6lFh0VVWIgQh8ZCOchBZqvj0w5rveiNYcTnM/edit#gid=0\"\",\"\"RWA!F:BZ\"\"),49,0))\"),\"\")","v":""},{"$f":"IFERROR(__xludf.DUMMYFUNCTION(\"iferror(VLOOKUP(B322,IMPORTRANGE(\"\"https://docs.google.com/spreadsheets/d/1bphtMaJ6lFh0VVWIgQh8ZCOchBZqvj0w5rveiNYcTnM/edit#gid=0\"\",\"\"RWA!F:BZ\"\"),53,0))\"),\"\")","v":""}]
[null,null,null,{"$f":"IFERROR(__xludf.DUMMYFUNCTION(\"iferror(VLOOKUP(B323,IMPORTRANGE(\"\"https://docs.google.com/spreadsheets/d/1bphtMaJ6lFh0VVWIgQh8ZCOchBZqvj0w5rveiNYcTnM/edit#gid=0\"\",\"\"RWA!F:BZ\"\"),44,0))\"),\"\")","v":""},{"$f":"IFERROR(__xludf.DUMMYFUNCTION(\"iferror(VLOOKUP(B323,IMPORTRANGE(\"\"https://docs.google.com/spreadsheets/d/1bphtMaJ6lFh0VVWIgQh8ZCOchBZqvj0w5rveiNYcTnM/edit#gid=0\"\",\"\"RWA!F:BZ\"\"),48,0))\"),\"\")","v":""},{"$f":"IFERROR(__xludf.DUMMYFUNCTION(\"iferror(VLOOKUP(B323,IMPORTRANGE(\"\"https://docs.google.com/spreadsheets/d/1bphtMaJ6lFh0VVWIgQh8ZCOchBZqvj0w5rveiNYcTnM/edit#gid=0\"\",\"\"RWA!F:BZ\"\"),49,0))\"),\"\")","v":""},{"$f":"IFERROR(__xludf.DUMMYFUNCTION(\"iferror(VLOOKUP(B323,IMPORTRANGE(\"\"https://docs.google.com/spreadsheets/d/1bphtMaJ6lFh0VVWIgQh8ZCOchBZqvj0w5rveiNYcTnM/edit#gid=0\"\",\"\"RWA!F:BZ\"\"),53,0))\"),\"\")","v":""}]
[null,null,null,{"$f":"IFERROR(__xludf.DUMMYFUNCTION(\"iferror(VLOOKUP(B324,IMPORTRANGE(\"\"https://docs.google.com/spreadsheets/d/1bphtMaJ6lFh0VVWIgQh8ZCOchBZqvj0w5rveiNYcTnM/edit#gid=0\"\",\"\"RWA!F:BZ\"\"),44,0))\"),\"\")","v":""},{"$f":"IFERROR(__xludf.DUMMYFUNCTION(\"iferror(VLOOKUP(B324,IMPORTRANGE(\"\"https://docs.google.com/spreadsheets/d/1bphtMaJ6lFh0VVWIgQh8ZCOchBZqvj0w5rveiNYcTnM/edit#gid=0\"\",\"\"RWA!F:BZ\"\"),48,0))\"),\"\")","v":""},{"$f":"IFERROR(__xludf.DUMMYFUNCTION(\"iferror(VLOOKUP(B324,IMPORTRANGE(\"\"https://docs.google.com/spreadsheets/d/1bphtMaJ6lFh0VVWIgQh8ZCOchBZqvj0w5rveiNYcTnM/edit#gid=0\"\",\"\"RWA!F:BZ\"\"),49,0))\"),\"\")","v":""},{"$f":"IFERROR(__xludf.DUMMYFUNCTION(\"iferror(VLOOKUP(B324,IMPORTRANGE(\"\"https://docs.google.com/spreadsheets/d/1bphtMaJ6lFh0VVWIgQh8ZCOchBZqvj0w5rveiNYcTnM/edit#gid=0\"\",\"\"RWA!F:BZ\"\"),53,0))\"),\"\")","v":""}]
[null,null,null,{"$f":"IFERROR(__xludf.DUMMYFUNCTION(\"iferror(VLOOKUP(B325,IMPORTRANGE(\"\"https://docs.google.com/spreadsheets/d/1bphtMaJ6lFh0VVWIgQh8ZCOchBZqvj0w5rveiNYcTnM/edit#gid=0\"\",\"\"RWA!F:BZ\"\"),44,0))\"),\"\")","v":""},{"$f":"IFERROR(__xludf.DUMMYFUNCTION(\"iferror(VLOOKUP(B325,IMPORTRANGE(\"\"https://docs.google.com/spreadsheets/d/1bphtMaJ6lFh0VVWIgQh8ZCOchBZqvj0w5rveiNYcTnM/edit#gid=0\"\",\"\"RWA!F:BZ\"\"),48,0))\"),\"\")","v":""},{"$f":"IFERROR(__xludf.DUMMYFUNCTION(\"iferror(VLOOKUP(B325,IMPORTRANGE(\"\"https://docs.google.com/spreadsheets/d/1bphtMaJ6lFh0VVWIgQh8ZCOchBZqvj0w5rveiNYcTnM/edit#gid=0\"\",\"\"RWA!F:BZ\"\"),49,0))\"),\"\")","v":""},{"$f":"IFERROR(__xludf.DUMMYFUNCTION(\"iferror(VLOOKUP(B325,IMPORTRANGE(\"\"https://docs.google.com/spreadsheets/d/1bphtMaJ6lFh0VVWIgQh8ZCOchBZqvj0w5rveiNYcTnM/edit#gid=0\"\",\"\"RWA!F:BZ\"\"),53,0))\"),\"\")","v":""}]
[null,null,null,{"$f":"IFERROR(__xludf.DUMMYFUNCTION(\"iferror(VLOOKUP(B326,IMPORTRANGE(\"\"https://docs.google.com/spreadsheets/d/1bphtMaJ6lFh0VVWIgQh8ZCOchBZqvj0w5rveiNYcTnM/edit#gid=0\"\",\"\"RWA!F:BZ\"\"),44,0))\"),\"\")","v":""},{"$f":"IFERROR(__xludf.DUMMYFUNCTION(\"iferror(VLOOKUP(B326,IMPORTRANGE(\"\"https://docs.google.com/spreadsheets/d/1bphtMaJ6lFh0VVWIgQh8ZCOchBZqvj0w5rveiNYcTnM/edit#gid=0\"\",\"\"RWA!F:BZ\"\"),48,0))\"),\"\")","v":""},{"$f":"IFERROR(__xludf.DUMMYFUNCTION(\"iferror(VLOOKUP(B326,IMPORTRANGE(\"\"https://docs.google.com/spreadsheets/d/1bphtMaJ6lFh0VVWIgQh8ZCOchBZqvj0w5rveiNYcTnM/edit#gid=0\"\",\"\"RWA!F:BZ\"\"),49,0))\"),\"\")","v":""},{"$f":"IFERROR(__xludf.DUMMYFUNCTION(\"iferror(VLOOKUP(B326,IMPORTRANGE(\"\"https://docs.google.com/spreadsheets/d/1bphtMaJ6lFh0VVWIgQh8ZCOchBZqvj0w5rveiNYcTnM/edit#gid=0\"\",\"\"RWA!F:BZ\"\"),53,0))\"),\"\")","v":""}]
[null,null,null,{"$f":"IFERROR(__xludf.DUMMYFUNCTION(\"iferror(VLOOKUP(B327,IMPORTRANGE(\"\"https://docs.google.com/spreadsheets/d/1bphtMaJ6lFh0VVWIgQh8ZCOchBZqvj0w5rveiNYcTnM/edit#gid=0\"\",\"\"RWA!F:BZ\"\"),44,0))\"),\"\")","v":""},{"$f":"IFERROR(__xludf.DUMMYFUNCTION(\"iferror(VLOOKUP(B327,IMPORTRANGE(\"\"https://docs.google.com/spreadsheets/d/1bphtMaJ6lFh0VVWIgQh8ZCOchBZqvj0w5rveiNYcTnM/edit#gid=0\"\",\"\"RWA!F:BZ\"\"),48,0))\"),\"\")","v":""},{"$f":"IFERROR(__xludf.DUMMYFUNCTION(\"iferror(VLOOKUP(B327,IMPORTRANGE(\"\"https://docs.google.com/spreadsheets/d/1bphtMaJ6lFh0VVWIgQh8ZCOchBZqvj0w5rveiNYcTnM/edit#gid=0\"\",\"\"RWA!F:BZ\"\"),49,0))\"),\"\")","v":""},{"$f":"IFERROR(__xludf.DUMMYFUNCTION(\"iferror(VLOOKUP(B327,IMPORTRANGE(\"\"https://docs.google.com/spreadsheets/d/1bphtMaJ6lFh0VVWIgQh8ZCOchBZqvj0w5rveiNYcTnM/edit#gid=0\"\",\"\"RWA!F:BZ\"\"),53,0))\"),\"\")","v":""}]
[null,null,null,{"$f":"IFERROR(__xludf.DUMMYFUNCTION(\"iferror(VLOOKUP(B328,IMPORTRANGE(\"\"https://docs.google.com/spreadsheets/d/1bphtMaJ6lFh0VVWIgQh8ZCOchBZqvj0w5rveiNYcTnM/edit#gid=0\"\",\"\"RWA!F:BZ\"\"),44,0))\"),\"\")","v":""},{"$f":"IFERROR(__xludf.DUMMYFUNCTION(\"iferror(VLOOKUP(B328,IMPORTRANGE(\"\"https://docs.google.com/spreadsheets/d/1bphtMaJ6lFh0VVWIgQh8ZCOchBZqvj0w5rveiNYcTnM/edit#gid=0\"\",\"\"RWA!F:BZ\"\"),48,0))\"),\"\")","v":""},{"$f":"IFERROR(__xludf.DUMMYFUNCTION(\"iferror(VLOOKUP(B328,IMPORTRANGE(\"\"https://docs.google.com/spreadsheets/d/1bphtMaJ6lFh0VVWIgQh8ZCOchBZqvj0w5rveiNYcTnM/edit#gid=0\"\",\"\"RWA!F:BZ\"\"),49,0))\"),\"\")","v":""},{"$f":"IFERROR(__xludf.DUMMYFUNCTION(\"iferror(VLOOKUP(B328,IMPORTRANGE(\"\"https://docs.google.com/spreadsheets/d/1bphtMaJ6lFh0VVWIgQh8ZCOchBZqvj0w5rveiNYcTnM/edit#gid=0\"\",\"\"RWA!F:BZ\"\"),53,0))\"),\"\")","v":""}]
[null,null,null,{"$f":"IFERROR(__xludf.DUMMYFUNCTION(\"iferror(VLOOKUP(B329,IMPORTRANGE(\"\"https://docs.google.com/spreadsheets/d/1bphtMaJ6lFh0VVWIgQh8ZCOchBZqvj0w5rveiNYcTnM/edit#gid=0\"\",\"\"RWA!F:BZ\"\"),44,0))\"),\"\")","v":""},{"$f":"IFERROR(__xludf.DUMMYFUNCTION(\"iferror(VLOOKUP(B329,IMPORTRANGE(\"\"https://docs.google.com/spreadsheets/d/1bphtMaJ6lFh0VVWIgQh8ZCOchBZqvj0w5rveiNYcTnM/edit#gid=0\"\",\"\"RWA!F:BZ\"\"),48,0))\"),\"\")","v":""},{"$f":"IFERROR(__xludf.DUMMYFUNCTION(\"iferror(VLOOKUP(B329,IMPORTRANGE(\"\"https://docs.google.com/spreadsheets/d/1bphtMaJ6lFh0VVWIgQh8ZCOchBZqvj0w5rveiNYcTnM/edit#gid=0\"\",\"\"RWA!F:BZ\"\"),49,0))\"),\"\")","v":""},{"$f":"IFERROR(__xludf.DUMMYFUNCTION(\"iferror(VLOOKUP(B329,IMPORTRANGE(\"\"https://docs.google.com/spreadsheets/d/1bphtMaJ6lFh0VVWIgQh8ZCOchBZqvj0w5rveiNYcTnM/edit#gid=0\"\",\"\"RWA!F:BZ\"\"),53,0))\"),\"\")","v":""}]
[null,null,null,{"$f":"IFERROR(__xludf.DUMMYFUNCTION(\"iferror(VLOOKUP(B330,IMPORTRANGE(\"\"https://docs.google.com/spreadsheets/d/1bphtMaJ6lFh0VVWIgQh8ZCOchBZqvj0w5rveiNYcTnM/edit#gid=0\"\",\"\"RWA!F:BZ\"\"),44,0))\"),\"\")","v":""},{"$f":"IFERROR(__xludf.DUMMYFUNCTION(\"iferror(VLOOKUP(B330,IMPORTRANGE(\"\"https://docs.google.com/spreadsheets/d/1bphtMaJ6lFh0VVWIgQh8ZCOchBZqvj0w5rveiNYcTnM/edit#gid=0\"\",\"\"RWA!F:BZ\"\"),48,0))\"),\"\")","v":""},{"$f":"IFERROR(__xludf.DUMMYFUNCTION(\"iferror(VLOOKUP(B330,IMPORTRANGE(\"\"https://docs.google.com/spreadsheets/d/1bphtMaJ6lFh0VVWIgQh8ZCOchBZqvj0w5rveiNYcTnM/edit#gid=0\"\",\"\"RWA!F:BZ\"\"),49,0))\"),\"\")","v":""},{"$f":"IFERROR(__xludf.DUMMYFUNCTION(\"iferror(VLOOKUP(B330,IMPORTRANGE(\"\"https://docs.google.com/spreadsheets/d/1bphtMaJ6lFh0VVWIgQh8ZCOchBZqvj0w5rveiNYcTnM/edit#gid=0\"\",\"\"RWA!F:BZ\"\"),53,0))\"),\"\")","v":""}]
[null,null,null,{"$f":"IFERROR(__xludf.DUMMYFUNCTION(\"iferror(VLOOKUP(B331,IMPORTRANGE(\"\"https://docs.google.com/spreadsheets/d/1bphtMaJ6lFh0VVWIgQh8ZCOchBZqvj0w5rveiNYcTnM/edit#gid=0\"\",\"\"RWA!F:BZ\"\"),44,0))\"),\"\")","v":""},{"$f":"IFERROR(__xludf.DUMMYFUNCTION(\"iferror(VLOOKUP(B331,IMPORTRANGE(\"\"https://docs.google.com/spreadsheets/d/1bphtMaJ6lFh0VVWIgQh8ZCOchBZqvj0w5rveiNYcTnM/edit#gid=0\"\",\"\"RWA!F:BZ\"\"),48,0))\"),\"\")","v":""},{"$f":"IFERROR(__xludf.DUMMYFUNCTION(\"iferror(VLOOKUP(B331,IMPORTRANGE(\"\"https://docs.google.com/spreadsheets/d/1bphtMaJ6lFh0VVWIgQh8ZCOchBZqvj0w5rveiNYcTnM/edit#gid=0\"\",\"\"RWA!F:BZ\"\"),49,0))\"),\"\")","v":""},{"$f":"IFERROR(__xludf.DUMMYFUNCTION(\"iferror(VLOOKUP(B331,IMPORTRANGE(\"\"https://docs.google.com/spreadsheets/d/1bphtMaJ6lFh0VVWIgQh8ZCOchBZqvj0w5rveiNYcTnM/edit#gid=0\"\",\"\"RWA!F:BZ\"\"),53,0))\"),\"\")","v":""}]
[null,null,null,{"$f":"IFERROR(__xludf.DUMMYFUNCTION(\"iferror(VLOOKUP(B332,IMPORTRANGE(\"\"https://docs.google.com/spreadsheets/d/1bphtMaJ6lFh0VVWIgQh8ZCOchBZqvj0w5rveiNYcTnM/edit#gid=0\"\",\"\"RWA!F:BZ\"\"),44,0))\"),\"\")","v":""},{"$f":"IFERROR(__xludf.DUMMYFUNCTION(\"iferror(VLOOKUP(B332,IMPORTRANGE(\"\"https://docs.google.com/spreadsheets/d/1bphtMaJ6lFh0VVWIgQh8ZCOchBZqvj0w5rveiNYcTnM/edit#gid=0\"\",\"\"RWA!F:BZ\"\"),48,0))\"),\"\")","v":""},{"$f":"IFERROR(__xludf.DUMMYFUNCTION(\"iferror(VLOOKUP(B332,IMPORTRANGE(\"\"https://docs.google.com/spreadsheets/d/1bphtMaJ6lFh0VVWIgQh8ZCOchBZqvj0w5rveiNYcTnM/edit#gid=0\"\",\"\"RWA!F:BZ\"\"),49,0))\"),\"\")","v":""},{"$f":"IFERROR(__xludf.DUMMYFUNCTION(\"iferror(VLOOKUP(B332,IMPORTRANGE(\"\"https://docs.google.com/spreadsheets/d/1bphtMaJ6lFh0VVWIgQh8ZCOchBZqvj0w5rveiNYcTnM/edit#gid=0\"\",\"\"RWA!F:BZ\"\"),53,0))\"),\"\")","v":""}]
[null,null,null,{"$f":"IFERROR(__xludf.DUMMYFUNCTION(\"iferror(VLOOKUP(B333,IMPORTRANGE(\"\"https://docs.google.com/spreadsheets/d/1bphtMaJ6lFh0VVWIgQh8ZCOchBZqvj0w5rveiNYcTnM/edit#gid=0\"\",\"\"RWA!F:BZ\"\"),44,0))\"),\"\")","v":""},{"$f":"IFERROR(__xludf.DUMMYFUNCTION(\"iferror(VLOOKUP(B333,IMPORTRANGE(\"\"https://docs.google.com/spreadsheets/d/1bphtMaJ6lFh0VVWIgQh8ZCOchBZqvj0w5rveiNYcTnM/edit#gid=0\"\",\"\"RWA!F:BZ\"\"),48,0))\"),\"\")","v":""},{"$f":"IFERROR(__xludf.DUMMYFUNCTION(\"iferror(VLOOKUP(B333,IMPORTRANGE(\"\"https://docs.google.com/spreadsheets/d/1bphtMaJ6lFh0VVWIgQh8ZCOchBZqvj0w5rveiNYcTnM/edit#gid=0\"\",\"\"RWA!F:BZ\"\"),49,0))\"),\"\")","v":""},{"$f":"IFERROR(__xludf.DUMMYFUNCTION(\"iferror(VLOOKUP(B333,IMPORTRANGE(\"\"https://docs.google.com/spreadsheets/d/1bphtMaJ6lFh0VVWIgQh8ZCOchBZqvj0w5rveiNYcTnM/edit#gid=0\"\",\"\"RWA!F:BZ\"\"),53,0))\"),\"\")","v":""}]
[null,null,null,{"$f":"IFERROR(__xludf.DUMMYFUNCTION(\"iferror(VLOOKUP(B334,IMPORTRANGE(\"\"https://docs.google.com/spreadsheets/d/1bphtMaJ6lFh0VVWIgQh8ZCOchBZqvj0w5rveiNYcTnM/edit#gid=0\"\",\"\"RWA!F:BZ\"\"),44,0))\"),\"\")","v":""},{"$f":"IFERROR(__xludf.DUMMYFUNCTION(\"iferror(VLOOKUP(B334,IMPORTRANGE(\"\"https://docs.google.com/spreadsheets/d/1bphtMaJ6lFh0VVWIgQh8ZCOchBZqvj0w5rveiNYcTnM/edit#gid=0\"\",\"\"RWA!F:BZ\"\"),48,0))\"),\"\")","v":""},{"$f":"IFERROR(__xludf.DUMMYFUNCTION(\"iferror(VLOOKUP(B334,IMPORTRANGE(\"\"https://docs.google.com/spreadsheets/d/1bphtMaJ6lFh0VVWIgQh8ZCOchBZqvj0w5rveiNYcTnM/edit#gid=0\"\",\"\"RWA!F:BZ\"\"),49,0))\"),\"\")","v":""},{"$f":"IFERROR(__xludf.DUMMYFUNCTION(\"iferror(VLOOKUP(B334,IMPORTRANGE(\"\"https://docs.google.com/spreadsheets/d/1bphtMaJ6lFh0VVWIgQh8ZCOchBZqvj0w5rveiNYcTnM/edit#gid=0\"\",\"\"RWA!F:BZ\"\"),53,0))\"),\"\")","v":""}]
[null,null,null,{"$f":"IFERROR(__xludf.DUMMYFUNCTION(\"iferror(VLOOKUP(B335,IMPORTRANGE(\"\"https://docs.google.com/spreadsheets/d/1bphtMaJ6lFh0VVWIgQh8ZCOchBZqvj0w5rveiNYcTnM/edit#gid=0\"\",\"\"RWA!F:BZ\"\"),44,0))\"),\"\")","v":""},{"$f":"IFERROR(__xludf.DUMMYFUNCTION(\"iferror(VLOOKUP(B335,IMPORTRANGE(\"\"https://docs.google.com/spreadsheets/d/1bphtMaJ6lFh0VVWIgQh8ZCOchBZqvj0w5rveiNYcTnM/edit#gid=0\"\",\"\"RWA!F:BZ\"\"),48,0))\"),\"\")","v":""},{"$f":"IFERROR(__xludf.DUMMYFUNCTION(\"iferror(VLOOKUP(B335,IMPORTRANGE(\"\"https://docs.google.com/spreadsheets/d/1bphtMaJ6lFh0VVWIgQh8ZCOchBZqvj0w5rveiNYcTnM/edit#gid=0\"\",\"\"RWA!F:BZ\"\"),49,0))\"),\"\")","v":""},{"$f":"IFERROR(__xludf.DUMMYFUNCTION(\"iferror(VLOOKUP(B335,IMPORTRANGE(\"\"https://docs.google.com/spreadsheets/d/1bphtMaJ6lFh0VVWIgQh8ZCOchBZqvj0w5rveiNYcTnM/edit#gid=0\"\",\"\"RWA!F:BZ\"\"),53,0))\"),\"\")","v":""}]
[null,null,null,{"$f":"IFERROR(__xludf.DUMMYFUNCTION(\"iferror(VLOOKUP(B336,IMPORTRANGE(\"\"https://docs.google.com/spreadsheets/d/1bphtMaJ6lFh0VVWIgQh8ZCOchBZqvj0w5rveiNYcTnM/edit#gid=0\"\",\"\"RWA!F:BZ\"\"),44,0))\"),\"\")","v":""},{"$f":"IFERROR(__xludf.DUMMYFUNCTION(\"iferror(VLOOKUP(B336,IMPORTRANGE(\"\"https://docs.google.com/spreadsheets/d/1bphtMaJ6lFh0VVWIgQh8ZCOchBZqvj0w5rveiNYcTnM/edit#gid=0\"\",\"\"RWA!F:BZ\"\"),48,0))\"),\"\")","v":""},{"$f":"IFERROR(__xludf.DUMMYFUNCTION(\"iferror(VLOOKUP(B336,IMPORTRANGE(\"\"https://docs.google.com/spreadsheets/d/1bphtMaJ6lFh0VVWIgQh8ZCOchBZqvj0w5rveiNYcTnM/edit#gid=0\"\",\"\"RWA!F:BZ\"\"),49,0))\"),\"\")","v":""},{"$f":"IFERROR(__xludf.DUMMYFUNCTION(\"iferror(VLOOKUP(B336,IMPORTRANGE(\"\"https://docs.google.com/spreadsheets/d/1bphtMaJ6lFh0VVWIgQh8ZCOchBZqvj0w5rveiNYcTnM/edit#gid=0\"\",\"\"RWA!F:BZ\"\"),53,0))\"),\"\")","v":""}]
[null,null,null,{"$f":"IFERROR(__xludf.DUMMYFUNCTION(\"iferror(VLOOKUP(B337,IMPORTRANGE(\"\"https://docs.google.com/spreadsheets/d/1bphtMaJ6lFh0VVWIgQh8ZCOchBZqvj0w5rveiNYcTnM/edit#gid=0\"\",\"\"RWA!F:BZ\"\"),44,0))\"),\"\")","v":""},{"$f":"IFERROR(__xludf.DUMMYFUNCTION(\"iferror(VLOOKUP(B337,IMPORTRANGE(\"\"https://docs.google.com/spreadsheets/d/1bphtMaJ6lFh0VVWIgQh8ZCOchBZqvj0w5rveiNYcTnM/edit#gid=0\"\",\"\"RWA!F:BZ\"\"),48,0))\"),\"\")","v":""},{"$f":"IFERROR(__xludf.DUMMYFUNCTION(\"iferror(VLOOKUP(B337,IMPORTRANGE(\"\"https://docs.google.com/spreadsheets/d/1bphtMaJ6lFh0VVWIgQh8ZCOchBZqvj0w5rveiNYcTnM/edit#gid=0\"\",\"\"RWA!F:BZ\"\"),49,0))\"),\"\")","v":""},{"$f":"IFERROR(__xludf.DUMMYFUNCTION(\"iferror(VLOOKUP(B337,IMPORTRANGE(\"\"https://docs.google.com/spreadsheets/d/1bphtMaJ6lFh0VVWIgQh8ZCOchBZqvj0w5rveiNYcTnM/edit#gid=0\"\",\"\"RWA!F:BZ\"\"),53,0))\"),\"\")","v":""}]
[null,null,null,{"$f":"IFERROR(__xludf.DUMMYFUNCTION(\"iferror(VLOOKUP(B338,IMPORTRANGE(\"\"https://docs.google.com/spreadsheets/d/1bphtMaJ6lFh0VVWIgQh8ZCOchBZqvj0w5rveiNYcTnM/edit#gid=0\"\",\"\"RWA!F:BZ\"\"),44,0))\"),\"\")","v":""},{"$f":"IFERROR(__xludf.DUMMYFUNCTION(\"iferror(VLOOKUP(B338,IMPORTRANGE(\"\"https://docs.google.com/spreadsheets/d/1bphtMaJ6lFh0VVWIgQh8ZCOchBZqvj0w5rveiNYcTnM/edit#gid=0\"\",\"\"RWA!F:BZ\"\"),48,0))\"),\"\")","v":""},{"$f":"IFERROR(__xludf.DUMMYFUNCTION(\"iferror(VLOOKUP(B338,IMPORTRANGE(\"\"https://docs.google.com/spreadsheets/d/1bphtMaJ6lFh0VVWIgQh8ZCOchBZqvj0w5rveiNYcTnM/edit#gid=0\"\",\"\"RWA!F:BZ\"\"),49,0))\"),\"\")","v":""},{"$f":"IFERROR(__xludf.DUMMYFUNCTION(\"iferror(VLOOKUP(B338,IMPORTRANGE(\"\"https://docs.google.com/spreadsheets/d/1bphtMaJ6lFh0VVWIgQh8ZCOchBZqvj0w5rveiNYcTnM/edit#gid=0\"\",\"\"RWA!F:BZ\"\"),53,0))\"),\"\")","v":""}]
[null,null,null,{"$f":"IFERROR(__xludf.DUMMYFUNCTION(\"iferror(VLOOKUP(B339,IMPORTRANGE(\"\"https://docs.google.com/spreadsheets/d/1bphtMaJ6lFh0VVWIgQh8ZCOchBZqvj0w5rveiNYcTnM/edit#gid=0\"\",\"\"RWA!F:BZ\"\"),44,0))\"),\"\")","v":""},{"$f":"IFERROR(__xludf.DUMMYFUNCTION(\"iferror(VLOOKUP(B339,IMPORTRANGE(\"\"https://docs.google.com/spreadsheets/d/1bphtMaJ6lFh0VVWIgQh8ZCOchBZqvj0w5rveiNYcTnM/edit#gid=0\"\",\"\"RWA!F:BZ\"\"),48,0))\"),\"\")","v":""},{"$f":"IFERROR(__xludf.DUMMYFUNCTION(\"iferror(VLOOKUP(B339,IMPORTRANGE(\"\"https://docs.google.com/spreadsheets/d/1bphtMaJ6lFh0VVWIgQh8ZCOchBZqvj0w5rveiNYcTnM/edit#gid=0\"\",\"\"RWA!F:BZ\"\"),49,0))\"),\"\")","v":""},{"$f":"IFERROR(__xludf.DUMMYFUNCTION(\"iferror(VLOOKUP(B339,IMPORTRANGE(\"\"https://docs.google.com/spreadsheets/d/1bphtMaJ6lFh0VVWIgQh8ZCOchBZqvj0w5rveiNYcTnM/edit#gid=0\"\",\"\"RWA!F:BZ\"\"),53,0))\"),\"\")","v":""}]
[null,null,null,{"$f":"IFERROR(__xludf.DUMMYFUNCTION(\"iferror(VLOOKUP(B340,IMPORTRANGE(\"\"https://docs.google.com/spreadsheets/d/1bphtMaJ6lFh0VVWIgQh8ZCOchBZqvj0w5rveiNYcTnM/edit#gid=0\"\",\"\"RWA!F:BZ\"\"),44,0))\"),\"\")","v":""},{"$f":"IFERROR(__xludf.DUMMYFUNCTION(\"iferror(VLOOKUP(B340,IMPORTRANGE(\"\"https://docs.google.com/spreadsheets/d/1bphtMaJ6lFh0VVWIgQh8ZCOchBZqvj0w5rveiNYcTnM/edit#gid=0\"\",\"\"RWA!F:BZ\"\"),48,0))\"),\"\")","v":""},{"$f":"IFERROR(__xludf.DUMMYFUNCTION(\"iferror(VLOOKUP(B340,IMPORTRANGE(\"\"https://docs.google.com/spreadsheets/d/1bphtMaJ6lFh0VVWIgQh8ZCOchBZqvj0w5rveiNYcTnM/edit#gid=0\"\",\"\"RWA!F:BZ\"\"),49,0))\"),\"\")","v":""},{"$f":"IFERROR(__xludf.DUMMYFUNCTION(\"iferror(VLOOKUP(B340,IMPORTRANGE(\"\"https://docs.google.com/spreadsheets/d/1bphtMaJ6lFh0VVWIgQh8ZCOchBZqvj0w5rveiNYcTnM/edit#gid=0\"\",\"\"RWA!F:BZ\"\"),53,0))\"),\"\")","v":""}]
[null,null,null,{"$f":"IFERROR(__xludf.DUMMYFUNCTION(\"iferror(VLOOKUP(B341,IMPORTRANGE(\"\"https://docs.google.com/spreadsheets/d/1bphtMaJ6lFh0VVWIgQh8ZCOchBZqvj0w5rveiNYcTnM/edit#gid=0\"\",\"\"RWA!F:BZ\"\"),44,0))\"),\"\")","v":""},{"$f":"IFERROR(__xludf.DUMMYFUNCTION(\"iferror(VLOOKUP(B341,IMPORTRANGE(\"\"https://docs.google.com/spreadsheets/d/1bphtMaJ6lFh0VVWIgQh8ZCOchBZqvj0w5rveiNYcTnM/edit#gid=0\"\",\"\"RWA!F:BZ\"\"),48,0))\"),\"\")","v":""},{"$f":"IFERROR(__xludf.DUMMYFUNCTION(\"iferror(VLOOKUP(B341,IMPORTRANGE(\"\"https://docs.google.com/spreadsheets/d/1bphtMaJ6lFh0VVWIgQh8ZCOchBZqvj0w5rveiNYcTnM/edit#gid=0\"\",\"\"RWA!F:BZ\"\"),49,0))\"),\"\")","v":""},{"$f":"IFERROR(__xludf.DUMMYFUNCTION(\"iferror(VLOOKUP(B341,IMPORTRANGE(\"\"https://docs.google.com/spreadsheets/d/1bphtMaJ6lFh0VVWIgQh8ZCOchBZqvj0w5rveiNYcTnM/edit#gid=0\"\",\"\"RWA!F:BZ\"\"),53,0))\"),\"\")","v":""}]
[null,null,null,{"$f":"IFERROR(__xludf.DUMMYFUNCTION(\"iferror(VLOOKUP(B342,IMPORTRANGE(\"\"https://docs.google.com/spreadsheets/d/1bphtMaJ6lFh0VVWIgQh8ZCOchBZqvj0w5rveiNYcTnM/edit#gid=0\"\",\"\"RWA!F:BZ\"\"),44,0))\"),\"\")","v":""},{"$f":"IFERROR(__xludf.DUMMYFUNCTION(\"iferror(VLOOKUP(B342,IMPORTRANGE(\"\"https://docs.google.com/spreadsheets/d/1bphtMaJ6lFh0VVWIgQh8ZCOchBZqvj0w5rveiNYcTnM/edit#gid=0\"\",\"\"RWA!F:BZ\"\"),48,0))\"),\"\")","v":""},{"$f":"IFERROR(__xludf.DUMMYFUNCTION(\"iferror(VLOOKUP(B342,IMPORTRANGE(\"\"https://docs.google.com/spreadsheets/d/1bphtMaJ6lFh0VVWIgQh8ZCOchBZqvj0w5rveiNYcTnM/edit#gid=0\"\",\"\"RWA!F:BZ\"\"),49,0))\"),\"\")","v":""},{"$f":"IFERROR(__xludf.DUMMYFUNCTION(\"iferror(VLOOKUP(B342,IMPORTRANGE(\"\"https://docs.google.com/spreadsheets/d/1bphtMaJ6lFh0VVWIgQh8ZCOchBZqvj0w5rveiNYcTnM/edit#gid=0\"\",\"\"RWA!F:BZ\"\"),53,0))\"),\"\")","v":""}]
[null,null,null,{"$f":"IFERROR(__xludf.DUMMYFUNCTION(\"iferror(VLOOKUP(B343,IMPORTRANGE(\"\"https://docs.google.com/spreadsheets/d/1bphtMaJ6lFh0VVWIgQh8ZCOchBZqvj0w5rveiNYcTnM/edit#gid=0\"\",\"\"RWA!F:BZ\"\"),44,0))\"),\"\")","v":""},{"$f":"IFERROR(__xludf.DUMMYFUNCTION(\"iferror(VLOOKUP(B343,IMPORTRANGE(\"\"https://docs.google.com/spreadsheets/d/1bphtMaJ6lFh0VVWIgQh8ZCOchBZqvj0w5rveiNYcTnM/edit#gid=0\"\",\"\"RWA!F:BZ\"\"),48,0))\"),\"\")","v":""},{"$f":"IFERROR(__xludf.DUMMYFUNCTION(\"iferror(VLOOKUP(B343,IMPORTRANGE(\"\"https://docs.google.com/spreadsheets/d/1bphtMaJ6lFh0VVWIgQh8ZCOchBZqvj0w5rveiNYcTnM/edit#gid=0\"\",\"\"RWA!F:BZ\"\"),49,0))\"),\"\")","v":""},{"$f":"IFERROR(__xludf.DUMMYFUNCTION(\"iferror(VLOOKUP(B343,IMPORTRANGE(\"\"https://docs.google.com/spreadsheets/d/1bphtMaJ6lFh0VVWIgQh8ZCOchBZqvj0w5rveiNYcTnM/edit#gid=0\"\",\"\"RWA!F:BZ\"\"),53,0))\"),\"\")","v":""}]
[null,null,null,{"$f":"IFERROR(__xludf.DUMMYFUNCTION(\"iferror(VLOOKUP(B344,IMPORTRANGE(\"\"https://docs.google.com/spreadsheets/d/1bphtMaJ6lFh0VVWIgQh8ZCOchBZqvj0w5rveiNYcTnM/edit#gid=0\"\",\"\"RWA!F:BZ\"\"),44,0))\"),\"\")","v":""},{"$f":"IFERROR(__xludf.DUMMYFUNCTION(\"iferror(VLOOKUP(B344,IMPORTRANGE(\"\"https://docs.google.com/spreadsheets/d/1bphtMaJ6lFh0VVWIgQh8ZCOchBZqvj0w5rveiNYcTnM/edit#gid=0\"\",\"\"RWA!F:BZ\"\"),48,0))\"),\"\")","v":""},{"$f":"IFERROR(__xludf.DUMMYFUNCTION(\"iferror(VLOOKUP(B344,IMPORTRANGE(\"\"https://docs.google.com/spreadsheets/d/1bphtMaJ6lFh0VVWIgQh8ZCOchBZqvj0w5rveiNYcTnM/edit#gid=0\"\",\"\"RWA!F:BZ\"\"),49,0))\"),\"\")","v":""},{"$f":"IFERROR(__xludf.DUMMYFUNCTION(\"iferror(VLOOKUP(B344,IMPORTRANGE(\"\"https://docs.google.com/spreadsheets/d/1bphtMaJ6lFh0VVWIgQh8ZCOchBZqvj0w5rveiNYcTnM/edit#gid=0\"\",\"\"RWA!F:BZ\"\"),53,0))\"),\"\")","v":""}]
[null,null,null,{"$f":"IFERROR(__xludf.DUMMYFUNCTION(\"iferror(VLOOKUP(B345,IMPORTRANGE(\"\"https://docs.google.com/spreadsheets/d/1bphtMaJ6lFh0VVWIgQh8ZCOchBZqvj0w5rveiNYcTnM/edit#gid=0\"\",\"\"RWA!F:BZ\"\"),44,0))\"),\"\")","v":""},{"$f":"IFERROR(__xludf.DUMMYFUNCTION(\"iferror(VLOOKUP(B345,IMPORTRANGE(\"\"https://docs.google.com/spreadsheets/d/1bphtMaJ6lFh0VVWIgQh8ZCOchBZqvj0w5rveiNYcTnM/edit#gid=0\"\",\"\"RWA!F:BZ\"\"),48,0))\"),\"\")","v":""},{"$f":"IFERROR(__xludf.DUMMYFUNCTION(\"iferror(VLOOKUP(B345,IMPORTRANGE(\"\"https://docs.google.com/spreadsheets/d/1bphtMaJ6lFh0VVWIgQh8ZCOchBZqvj0w5rveiNYcTnM/edit#gid=0\"\",\"\"RWA!F:BZ\"\"),49,0))\"),\"\")","v":""},{"$f":"IFERROR(__xludf.DUMMYFUNCTION(\"iferror(VLOOKUP(B345,IMPORTRANGE(\"\"https://docs.google.com/spreadsheets/d/1bphtMaJ6lFh0VVWIgQh8ZCOchBZqvj0w5rveiNYcTnM/edit#gid=0\"\",\"\"RWA!F:BZ\"\"),53,0))\"),\"\")","v":""}]
[null,null,null,{"$f":"IFERROR(__xludf.DUMMYFUNCTION(\"iferror(VLOOKUP(B346,IMPORTRANGE(\"\"https://docs.google.com/spreadsheets/d/1bphtMaJ6lFh0VVWIgQh8ZCOchBZqvj0w5rveiNYcTnM/edit#gid=0\"\",\"\"RWA!F:BZ\"\"),44,0))\"),\"\")","v":""},{"$f":"IFERROR(__xludf.DUMMYFUNCTION(\"iferror(VLOOKUP(B346,IMPORTRANGE(\"\"https://docs.google.com/spreadsheets/d/1bphtMaJ6lFh0VVWIgQh8ZCOchBZqvj0w5rveiNYcTnM/edit#gid=0\"\",\"\"RWA!F:BZ\"\"),48,0))\"),\"\")","v":""},{"$f":"IFERROR(__xludf.DUMMYFUNCTION(\"iferror(VLOOKUP(B346,IMPORTRANGE(\"\"https://docs.google.com/spreadsheets/d/1bphtMaJ6lFh0VVWIgQh8ZCOchBZqvj0w5rveiNYcTnM/edit#gid=0\"\",\"\"RWA!F:BZ\"\"),49,0))\"),\"\")","v":""},{"$f":"IFERROR(__xludf.DUMMYFUNCTION(\"iferror(VLOOKUP(B346,IMPORTRANGE(\"\"https://docs.google.com/spreadsheets/d/1bphtMaJ6lFh0VVWIgQh8ZCOchBZqvj0w5rveiNYcTnM/edit#gid=0\"\",\"\"RWA!F:BZ\"\"),53,0))\"),\"\")","v":""}]
[null,null,null,{"$f":"IFERROR(__xludf.DUMMYFUNCTION(\"iferror(VLOOKUP(B347,IMPORTRANGE(\"\"https://docs.google.com/spreadsheets/d/1bphtMaJ6lFh0VVWIgQh8ZCOchBZqvj0w5rveiNYcTnM/edit#gid=0\"\",\"\"RWA!F:BZ\"\"),44,0))\"),\"\")","v":""},{"$f":"IFERROR(__xludf.DUMMYFUNCTION(\"iferror(VLOOKUP(B347,IMPORTRANGE(\"\"https://docs.google.com/spreadsheets/d/1bphtMaJ6lFh0VVWIgQh8ZCOchBZqvj0w5rveiNYcTnM/edit#gid=0\"\",\"\"RWA!F:BZ\"\"),48,0))\"),\"\")","v":""},{"$f":"IFERROR(__xludf.DUMMYFUNCTION(\"iferror(VLOOKUP(B347,IMPORTRANGE(\"\"https://docs.google.com/spreadsheets/d/1bphtMaJ6lFh0VVWIgQh8ZCOchBZqvj0w5rveiNYcTnM/edit#gid=0\"\",\"\"RWA!F:BZ\"\"),49,0))\"),\"\")","v":""},{"$f":"IFERROR(__xludf.DUMMYFUNCTION(\"iferror(VLOOKUP(B347,IMPORTRANGE(\"\"https://docs.google.com/spreadsheets/d/1bphtMaJ6lFh0VVWIgQh8ZCOchBZqvj0w5rveiNYcTnM/edit#gid=0\"\",\"\"RWA!F:BZ\"\"),53,0))\"),\"\")","v":""}]
[null,null,null,{"$f":"IFERROR(__xludf.DUMMYFUNCTION(\"iferror(VLOOKUP(B348,IMPORTRANGE(\"\"https://docs.google.com/spreadsheets/d/1bphtMaJ6lFh0VVWIgQh8ZCOchBZqvj0w5rveiNYcTnM/edit#gid=0\"\",\"\"RWA!F:BZ\"\"),44,0))\"),\"\")","v":""},{"$f":"IFERROR(__xludf.DUMMYFUNCTION(\"iferror(VLOOKUP(B348,IMPORTRANGE(\"\"https://docs.google.com/spreadsheets/d/1bphtMaJ6lFh0VVWIgQh8ZCOchBZqvj0w5rveiNYcTnM/edit#gid=0\"\",\"\"RWA!F:BZ\"\"),48,0))\"),\"\")","v":""},{"$f":"IFERROR(__xludf.DUMMYFUNCTION(\"iferror(VLOOKUP(B348,IMPORTRANGE(\"\"https://docs.google.com/spreadsheets/d/1bphtMaJ6lFh0VVWIgQh8ZCOchBZqvj0w5rveiNYcTnM/edit#gid=0\"\",\"\"RWA!F:BZ\"\"),49,0))\"),\"\")","v":""},{"$f":"IFERROR(__xludf.DUMMYFUNCTION(\"iferror(VLOOKUP(B348,IMPORTRANGE(\"\"https://docs.google.com/spreadsheets/d/1bphtMaJ6lFh0VVWIgQh8ZCOchBZqvj0w5rveiNYcTnM/edit#gid=0\"\",\"\"RWA!F:BZ\"\"),53,0))\"),\"\")","v":""}]
[null,null,null,{"$f":"IFERROR(__xludf.DUMMYFUNCTION(\"iferror(VLOOKUP(B349,IMPORTRANGE(\"\"https://docs.google.com/spreadsheets/d/1bphtMaJ6lFh0VVWIgQh8ZCOchBZqvj0w5rveiNYcTnM/edit#gid=0\"\",\"\"RWA!F:BZ\"\"),44,0))\"),\"\")","v":""},{"$f":"IFERROR(__xludf.DUMMYFUNCTION(\"iferror(VLOOKUP(B349,IMPORTRANGE(\"\"https://docs.google.com/spreadsheets/d/1bphtMaJ6lFh0VVWIgQh8ZCOchBZqvj0w5rveiNYcTnM/edit#gid=0\"\",\"\"RWA!F:BZ\"\"),48,0))\"),\"\")","v":""},{"$f":"IFERROR(__xludf.DUMMYFUNCTION(\"iferror(VLOOKUP(B349,IMPORTRANGE(\"\"https://docs.google.com/spreadsheets/d/1bphtMaJ6lFh0VVWIgQh8ZCOchBZqvj0w5rveiNYcTnM/edit#gid=0\"\",\"\"RWA!F:BZ\"\"),49,0))\"),\"\")","v":""},{"$f":"IFERROR(__xludf.DUMMYFUNCTION(\"iferror(VLOOKUP(B349,IMPORTRANGE(\"\"https://docs.google.com/spreadsheets/d/1bphtMaJ6lFh0VVWIgQh8ZCOchBZqvj0w5rveiNYcTnM/edit#gid=0\"\",\"\"RWA!F:BZ\"\"),53,0))\"),\"\")","v":""}]
[null,null,null,{"$f":"IFERROR(__xludf.DUMMYFUNCTION(\"iferror(VLOOKUP(B350,IMPORTRANGE(\"\"https://docs.google.com/spreadsheets/d/1bphtMaJ6lFh0VVWIgQh8ZCOchBZqvj0w5rveiNYcTnM/edit#gid=0\"\",\"\"RWA!F:BZ\"\"),44,0))\"),\"\")","v":""},{"$f":"IFERROR(__xludf.DUMMYFUNCTION(\"iferror(VLOOKUP(B350,IMPORTRANGE(\"\"https://docs.google.com/spreadsheets/d/1bphtMaJ6lFh0VVWIgQh8ZCOchBZqvj0w5rveiNYcTnM/edit#gid=0\"\",\"\"RWA!F:BZ\"\"),48,0))\"),\"\")","v":""},{"$f":"IFERROR(__xludf.DUMMYFUNCTION(\"iferror(VLOOKUP(B350,IMPORTRANGE(\"\"https://docs.google.com/spreadsheets/d/1bphtMaJ6lFh0VVWIgQh8ZCOchBZqvj0w5rveiNYcTnM/edit#gid=0\"\",\"\"RWA!F:BZ\"\"),49,0))\"),\"\")","v":""},{"$f":"IFERROR(__xludf.DUMMYFUNCTION(\"iferror(VLOOKUP(B350,IMPORTRANGE(\"\"https://docs.google.com/spreadsheets/d/1bphtMaJ6lFh0VVWIgQh8ZCOchBZqvj0w5rveiNYcTnM/edit#gid=0\"\",\"\"RWA!F:BZ\"\"),53,0))\"),\"\")","v":""}]
[null,null,null,{"$f":"IFERROR(__xludf.DUMMYFUNCTION(\"iferror(VLOOKUP(B351,IMPORTRANGE(\"\"https://docs.google.com/spreadsheets/d/1bphtMaJ6lFh0VVWIgQh8ZCOchBZqvj0w5rveiNYcTnM/edit#gid=0\"\",\"\"RWA!F:BZ\"\"),44,0))\"),\"\")","v":""},{"$f":"IFERROR(__xludf.DUMMYFUNCTION(\"iferror(VLOOKUP(B351,IMPORTRANGE(\"\"https://docs.google.com/spreadsheets/d/1bphtMaJ6lFh0VVWIgQh8ZCOchBZqvj0w5rveiNYcTnM/edit#gid=0\"\",\"\"RWA!F:BZ\"\"),48,0))\"),\"\")","v":""},{"$f":"IFERROR(__xludf.DUMMYFUNCTION(\"iferror(VLOOKUP(B351,IMPORTRANGE(\"\"https://docs.google.com/spreadsheets/d/1bphtMaJ6lFh0VVWIgQh8ZCOchBZqvj0w5rveiNYcTnM/edit#gid=0\"\",\"\"RWA!F:BZ\"\"),49,0))\"),\"\")","v":""},{"$f":"IFERROR(__xludf.DUMMYFUNCTION(\"iferror(VLOOKUP(B351,IMPORTRANGE(\"\"https://docs.google.com/spreadsheets/d/1bphtMaJ6lFh0VVWIgQh8ZCOchBZqvj0w5rveiNYcTnM/edit#gid=0\"\",\"\"RWA!F:BZ\"\"),53,0))\"),\"\")","v":""}]
[null,null,null,{"$f":"IFERROR(__xludf.DUMMYFUNCTION(\"iferror(VLOOKUP(B352,IMPORTRANGE(\"\"https://docs.google.com/spreadsheets/d/1bphtMaJ6lFh0VVWIgQh8ZCOchBZqvj0w5rveiNYcTnM/edit#gid=0\"\",\"\"RWA!F:BZ\"\"),44,0))\"),\"\")","v":""},{"$f":"IFERROR(__xludf.DUMMYFUNCTION(\"iferror(VLOOKUP(B352,IMPORTRANGE(\"\"https://docs.google.com/spreadsheets/d/1bphtMaJ6lFh0VVWIgQh8ZCOchBZqvj0w5rveiNYcTnM/edit#gid=0\"\",\"\"RWA!F:BZ\"\"),48,0))\"),\"\")","v":""},{"$f":"IFERROR(__xludf.DUMMYFUNCTION(\"iferror(VLOOKUP(B352,IMPORTRANGE(\"\"https://docs.google.com/spreadsheets/d/1bphtMaJ6lFh0VVWIgQh8ZCOchBZqvj0w5rveiNYcTnM/edit#gid=0\"\",\"\"RWA!F:BZ\"\"),49,0))\"),\"\")","v":""},{"$f":"IFERROR(__xludf.DUMMYFUNCTION(\"iferror(VLOOKUP(B352,IMPORTRANGE(\"\"https://docs.google.com/spreadsheets/d/1bphtMaJ6lFh0VVWIgQh8ZCOchBZqvj0w5rveiNYcTnM/edit#gid=0\"\",\"\"RWA!F:BZ\"\"),53,0))\"),\"\")","v":""}]
[null,null,null,{"$f":"IFERROR(__xludf.DUMMYFUNCTION(\"iferror(VLOOKUP(B353,IMPORTRANGE(\"\"https://docs.google.com/spreadsheets/d/1bphtMaJ6lFh0VVWIgQh8ZCOchBZqvj0w5rveiNYcTnM/edit#gid=0\"\",\"\"RWA!F:BZ\"\"),44,0))\"),\"\")","v":""},{"$f":"IFERROR(__xludf.DUMMYFUNCTION(\"iferror(VLOOKUP(B353,IMPORTRANGE(\"\"https://docs.google.com/spreadsheets/d/1bphtMaJ6lFh0VVWIgQh8ZCOchBZqvj0w5rveiNYcTnM/edit#gid=0\"\",\"\"RWA!F:BZ\"\"),48,0))\"),\"\")","v":""},{"$f":"IFERROR(__xludf.DUMMYFUNCTION(\"iferror(VLOOKUP(B353,IMPORTRANGE(\"\"https://docs.google.com/spreadsheets/d/1bphtMaJ6lFh0VVWIgQh8ZCOchBZqvj0w5rveiNYcTnM/edit#gid=0\"\",\"\"RWA!F:BZ\"\"),49,0))\"),\"\")","v":""},{"$f":"IFERROR(__xludf.DUMMYFUNCTION(\"iferror(VLOOKUP(B353,IMPORTRANGE(\"\"https://docs.google.com/spreadsheets/d/1bphtMaJ6lFh0VVWIgQh8ZCOchBZqvj0w5rveiNYcTnM/edit#gid=0\"\",\"\"RWA!F:BZ\"\"),53,0))\"),\"\")","v":""}]
[null,null,null,{"$f":"IFERROR(__xludf.DUMMYFUNCTION(\"iferror(VLOOKUP(B354,IMPORTRANGE(\"\"https://docs.google.com/spreadsheets/d/1bphtMaJ6lFh0VVWIgQh8ZCOchBZqvj0w5rveiNYcTnM/edit#gid=0\"\",\"\"RWA!F:BZ\"\"),44,0))\"),\"\")","v":""},{"$f":"IFERROR(__xludf.DUMMYFUNCTION(\"iferror(VLOOKUP(B354,IMPORTRANGE(\"\"https://docs.google.com/spreadsheets/d/1bphtMaJ6lFh0VVWIgQh8ZCOchBZqvj0w5rveiNYcTnM/edit#gid=0\"\",\"\"RWA!F:BZ\"\"),48,0))\"),\"\")","v":""},{"$f":"IFERROR(__xludf.DUMMYFUNCTION(\"iferror(VLOOKUP(B354,IMPORTRANGE(\"\"https://docs.google.com/spreadsheets/d/1bphtMaJ6lFh0VVWIgQh8ZCOchBZqvj0w5rveiNYcTnM/edit#gid=0\"\",\"\"RWA!F:BZ\"\"),49,0))\"),\"\")","v":""},{"$f":"IFERROR(__xludf.DUMMYFUNCTION(\"iferror(VLOOKUP(B354,IMPORTRANGE(\"\"https://docs.google.com/spreadsheets/d/1bphtMaJ6lFh0VVWIgQh8ZCOchBZqvj0w5rveiNYcTnM/edit#gid=0\"\",\"\"RWA!F:BZ\"\"),53,0))\"),\"\")","v":""}]
[null,null,null,{"$f":"IFERROR(__xludf.DUMMYFUNCTION(\"iferror(VLOOKUP(B355,IMPORTRANGE(\"\"https://docs.google.com/spreadsheets/d/1bphtMaJ6lFh0VVWIgQh8ZCOchBZqvj0w5rveiNYcTnM/edit#gid=0\"\",\"\"RWA!F:BZ\"\"),44,0))\"),\"\")","v":""},{"$f":"IFERROR(__xludf.DUMMYFUNCTION(\"iferror(VLOOKUP(B355,IMPORTRANGE(\"\"https://docs.google.com/spreadsheets/d/1bphtMaJ6lFh0VVWIgQh8ZCOchBZqvj0w5rveiNYcTnM/edit#gid=0\"\",\"\"RWA!F:BZ\"\"),48,0))\"),\"\")","v":""},{"$f":"IFERROR(__xludf.DUMMYFUNCTION(\"iferror(VLOOKUP(B355,IMPORTRANGE(\"\"https://docs.google.com/spreadsheets/d/1bphtMaJ6lFh0VVWIgQh8ZCOchBZqvj0w5rveiNYcTnM/edit#gid=0\"\",\"\"RWA!F:BZ\"\"),49,0))\"),\"\")","v":""},{"$f":"IFERROR(__xludf.DUMMYFUNCTION(\"iferror(VLOOKUP(B355,IMPORTRANGE(\"\"https://docs.google.com/spreadsheets/d/1bphtMaJ6lFh0VVWIgQh8ZCOchBZqvj0w5rveiNYcTnM/edit#gid=0\"\",\"\"RWA!F:BZ\"\"),53,0))\"),\"\")","v":""}]
[null,null,null,{"$f":"IFERROR(__xludf.DUMMYFUNCTION(\"iferror(VLOOKUP(B356,IMPORTRANGE(\"\"https://docs.google.com/spreadsheets/d/1bphtMaJ6lFh0VVWIgQh8ZCOchBZqvj0w5rveiNYcTnM/edit#gid=0\"\",\"\"RWA!F:BZ\"\"),44,0))\"),\"\")","v":""},{"$f":"IFERROR(__xludf.DUMMYFUNCTION(\"iferror(VLOOKUP(B356,IMPORTRANGE(\"\"https://docs.google.com/spreadsheets/d/1bphtMaJ6lFh0VVWIgQh8ZCOchBZqvj0w5rveiNYcTnM/edit#gid=0\"\",\"\"RWA!F:BZ\"\"),48,0))\"),\"\")","v":""},{"$f":"IFERROR(__xludf.DUMMYFUNCTION(\"iferror(VLOOKUP(B356,IMPORTRANGE(\"\"https://docs.google.com/spreadsheets/d/1bphtMaJ6lFh0VVWIgQh8ZCOchBZqvj0w5rveiNYcTnM/edit#gid=0\"\",\"\"RWA!F:BZ\"\"),49,0))\"),\"\")","v":""},{"$f":"IFERROR(__xludf.DUMMYFUNCTION(\"iferror(VLOOKUP(B356,IMPORTRANGE(\"\"https://docs.google.com/spreadsheets/d/1bphtMaJ6lFh0VVWIgQh8ZCOchBZqvj0w5rveiNYcTnM/edit#gid=0\"\",\"\"RWA!F:BZ\"\"),53,0))\"),\"\")","v":""}]
[null,null,null,{"$f":"IFERROR(__xludf.DUMMYFUNCTION(\"iferror(VLOOKUP(B357,IMPORTRANGE(\"\"https://docs.google.com/spreadsheets/d/1bphtMaJ6lFh0VVWIgQh8ZCOchBZqvj0w5rveiNYcTnM/edit#gid=0\"\",\"\"RWA!F:BZ\"\"),44,0))\"),\"\")","v":""},{"$f":"IFERROR(__xludf.DUMMYFUNCTION(\"iferror(VLOOKUP(B357,IMPORTRANGE(\"\"https://docs.google.com/spreadsheets/d/1bphtMaJ6lFh0VVWIgQh8ZCOchBZqvj0w5rveiNYcTnM/edit#gid=0\"\",\"\"RWA!F:BZ\"\"),48,0))\"),\"\")","v":""},{"$f":"IFERROR(__xludf.DUMMYFUNCTION(\"iferror(VLOOKUP(B357,IMPORTRANGE(\"\"https://docs.google.com/spreadsheets/d/1bphtMaJ6lFh0VVWIgQh8ZCOchBZqvj0w5rveiNYcTnM/edit#gid=0\"\",\"\"RWA!F:BZ\"\"),49,0))\"),\"\")","v":""},{"$f":"IFERROR(__xludf.DUMMYFUNCTION(\"iferror(VLOOKUP(B357,IMPORTRANGE(\"\"https://docs.google.com/spreadsheets/d/1bphtMaJ6lFh0VVWIgQh8ZCOchBZqvj0w5rveiNYcTnM/edit#gid=0\"\",\"\"RWA!F:BZ\"\"),53,0))\"),\"\")","v":""}]
[null,null,null,{"$f":"IFERROR(__xludf.DUMMYFUNCTION(\"iferror(VLOOKUP(B358,IMPORTRANGE(\"\"https://docs.google.com/spreadsheets/d/1bphtMaJ6lFh0VVWIgQh8ZCOchBZqvj0w5rveiNYcTnM/edit#gid=0\"\",\"\"RWA!F:BZ\"\"),44,0))\"),\"\")","v":""},{"$f":"IFERROR(__xludf.DUMMYFUNCTION(\"iferror(VLOOKUP(B358,IMPORTRANGE(\"\"https://docs.google.com/spreadsheets/d/1bphtMaJ6lFh0VVWIgQh8ZCOchBZqvj0w5rveiNYcTnM/edit#gid=0\"\",\"\"RWA!F:BZ\"\"),48,0))\"),\"\")","v":""},{"$f":"IFERROR(__xludf.DUMMYFUNCTION(\"iferror(VLOOKUP(B358,IMPORTRANGE(\"\"https://docs.google.com/spreadsheets/d/1bphtMaJ6lFh0VVWIgQh8ZCOchBZqvj0w5rveiNYcTnM/edit#gid=0\"\",\"\"RWA!F:BZ\"\"),49,0))\"),\"\")","v":""},{"$f":"IFERROR(__xludf.DUMMYFUNCTION(\"iferror(VLOOKUP(B358,IMPORTRANGE(\"\"https://docs.google.com/spreadsheets/d/1bphtMaJ6lFh0VVWIgQh8ZCOchBZqvj0w5rveiNYcTnM/edit#gid=0\"\",\"\"RWA!F:BZ\"\"),53,0))\"),\"\")","v":""}]
[null,null,null,{"$f":"IFERROR(__xludf.DUMMYFUNCTION(\"iferror(VLOOKUP(B359,IMPORTRANGE(\"\"https://docs.google.com/spreadsheets/d/1bphtMaJ6lFh0VVWIgQh8ZCOchBZqvj0w5rveiNYcTnM/edit#gid=0\"\",\"\"RWA!F:BZ\"\"),44,0))\"),\"\")","v":""},{"$f":"IFERROR(__xludf.DUMMYFUNCTION(\"iferror(VLOOKUP(B359,IMPORTRANGE(\"\"https://docs.google.com/spreadsheets/d/1bphtMaJ6lFh0VVWIgQh8ZCOchBZqvj0w5rveiNYcTnM/edit#gid=0\"\",\"\"RWA!F:BZ\"\"),48,0))\"),\"\")","v":""},{"$f":"IFERROR(__xludf.DUMMYFUNCTION(\"iferror(VLOOKUP(B359,IMPORTRANGE(\"\"https://docs.google.com/spreadsheets/d/1bphtMaJ6lFh0VVWIgQh8ZCOchBZqvj0w5rveiNYcTnM/edit#gid=0\"\",\"\"RWA!F:BZ\"\"),49,0))\"),\"\")","v":""},{"$f":"IFERROR(__xludf.DUMMYFUNCTION(\"iferror(VLOOKUP(B359,IMPORTRANGE(\"\"https://docs.google.com/spreadsheets/d/1bphtMaJ6lFh0VVWIgQh8ZCOchBZqvj0w5rveiNYcTnM/edit#gid=0\"\",\"\"RWA!F:BZ\"\"),53,0))\"),\"\")","v":""}]
[null,null,null,{"$f":"IFERROR(__xludf.DUMMYFUNCTION(\"iferror(VLOOKUP(B360,IMPORTRANGE(\"\"https://docs.google.com/spreadsheets/d/1bphtMaJ6lFh0VVWIgQh8ZCOchBZqvj0w5rveiNYcTnM/edit#gid=0\"\",\"\"RWA!F:BZ\"\"),44,0))\"),\"\")","v":""},{"$f":"IFERROR(__xludf.DUMMYFUNCTION(\"iferror(VLOOKUP(B360,IMPORTRANGE(\"\"https://docs.google.com/spreadsheets/d/1bphtMaJ6lFh0VVWIgQh8ZCOchBZqvj0w5rveiNYcTnM/edit#gid=0\"\",\"\"RWA!F:BZ\"\"),48,0))\"),\"\")","v":""},{"$f":"IFERROR(__xludf.DUMMYFUNCTION(\"iferror(VLOOKUP(B360,IMPORTRANGE(\"\"https://docs.google.com/spreadsheets/d/1bphtMaJ6lFh0VVWIgQh8ZCOchBZqvj0w5rveiNYcTnM/edit#gid=0\"\",\"\"RWA!F:BZ\"\"),49,0))\"),\"\")","v":""},{"$f":"IFERROR(__xludf.DUMMYFUNCTION(\"iferror(VLOOKUP(B360,IMPORTRANGE(\"\"https://docs.google.com/spreadsheets/d/1bphtMaJ6lFh0VVWIgQh8ZCOchBZqvj0w5rveiNYcTnM/edit#gid=0\"\",\"\"RWA!F:BZ\"\"),53,0))\"),\"\")","v":""}]
[null,null,null,{"$f":"IFERROR(__xludf.DUMMYFUNCTION(\"iferror(VLOOKUP(B361,IMPORTRANGE(\"\"https://docs.google.com/spreadsheets/d/1bphtMaJ6lFh0VVWIgQh8ZCOchBZqvj0w5rveiNYcTnM/edit#gid=0\"\",\"\"RWA!F:BZ\"\"),44,0))\"),\"\")","v":""},{"$f":"IFERROR(__xludf.DUMMYFUNCTION(\"iferror(VLOOKUP(B361,IMPORTRANGE(\"\"https://docs.google.com/spreadsheets/d/1bphtMaJ6lFh0VVWIgQh8ZCOchBZqvj0w5rveiNYcTnM/edit#gid=0\"\",\"\"RWA!F:BZ\"\"),48,0))\"),\"\")","v":""},{"$f":"IFERROR(__xludf.DUMMYFUNCTION(\"iferror(VLOOKUP(B361,IMPORTRANGE(\"\"https://docs.google.com/spreadsheets/d/1bphtMaJ6lFh0VVWIgQh8ZCOchBZqvj0w5rveiNYcTnM/edit#gid=0\"\",\"\"RWA!F:BZ\"\"),49,0))\"),\"\")","v":""},{"$f":"IFERROR(__xludf.DUMMYFUNCTION(\"iferror(VLOOKUP(B361,IMPORTRANGE(\"\"https://docs.google.com/spreadsheets/d/1bphtMaJ6lFh0VVWIgQh8ZCOchBZqvj0w5rveiNYcTnM/edit#gid=0\"\",\"\"RWA!F:BZ\"\"),53,0))\"),\"\")","v":""}]
[null,null,null,{"$f":"IFERROR(__xludf.DUMMYFUNCTION(\"iferror(VLOOKUP(B362,IMPORTRANGE(\"\"https://docs.google.com/spreadsheets/d/1bphtMaJ6lFh0VVWIgQh8ZCOchBZqvj0w5rveiNYcTnM/edit#gid=0\"\",\"\"RWA!F:BZ\"\"),44,0))\"),\"\")","v":""},{"$f":"IFERROR(__xludf.DUMMYFUNCTION(\"iferror(VLOOKUP(B362,IMPORTRANGE(\"\"https://docs.google.com/spreadsheets/d/1bphtMaJ6lFh0VVWIgQh8ZCOchBZqvj0w5rveiNYcTnM/edit#gid=0\"\",\"\"RWA!F:BZ\"\"),48,0))\"),\"\")","v":""},{"$f":"IFERROR(__xludf.DUMMYFUNCTION(\"iferror(VLOOKUP(B362,IMPORTRANGE(\"\"https://docs.google.com/spreadsheets/d/1bphtMaJ6lFh0VVWIgQh8ZCOchBZqvj0w5rveiNYcTnM/edit#gid=0\"\",\"\"RWA!F:BZ\"\"),49,0))\"),\"\")","v":""},{"$f":"IFERROR(__xludf.DUMMYFUNCTION(\"iferror(VLOOKUP(B362,IMPORTRANGE(\"\"https://docs.google.com/spreadsheets/d/1bphtMaJ6lFh0VVWIgQh8ZCOchBZqvj0w5rveiNYcTnM/edit#gid=0\"\",\"\"RWA!F:BZ\"\"),53,0))\"),\"\")","v":""}]
[null,null,null,{"$f":"IFERROR(__xludf.DUMMYFUNCTION(\"iferror(VLOOKUP(B363,IMPORTRANGE(\"\"https://docs.google.com/spreadsheets/d/1bphtMaJ6lFh0VVWIgQh8ZCOchBZqvj0w5rveiNYcTnM/edit#gid=0\"\",\"\"RWA!F:BZ\"\"),44,0))\"),\"\")","v":""},{"$f":"IFERROR(__xludf.DUMMYFUNCTION(\"iferror(VLOOKUP(B363,IMPORTRANGE(\"\"https://docs.google.com/spreadsheets/d/1bphtMaJ6lFh0VVWIgQh8ZCOchBZqvj0w5rveiNYcTnM/edit#gid=0\"\",\"\"RWA!F:BZ\"\"),48,0))\"),\"\")","v":""},{"$f":"IFERROR(__xludf.DUMMYFUNCTION(\"iferror(VLOOKUP(B363,IMPORTRANGE(\"\"https://docs.google.com/spreadsheets/d/1bphtMaJ6lFh0VVWIgQh8ZCOchBZqvj0w5rveiNYcTnM/edit#gid=0\"\",\"\"RWA!F:BZ\"\"),49,0))\"),\"\")","v":""},{"$f":"IFERROR(__xludf.DUMMYFUNCTION(\"iferror(VLOOKUP(B363,IMPORTRANGE(\"\"https://docs.google.com/spreadsheets/d/1bphtMaJ6lFh0VVWIgQh8ZCOchBZqvj0w5rveiNYcTnM/edit#gid=0\"\",\"\"RWA!F:BZ\"\"),53,0))\"),\"\")","v":""}]
[null,null,null,{"$f":"IFERROR(__xludf.DUMMYFUNCTION(\"iferror(VLOOKUP(B364,IMPORTRANGE(\"\"https://docs.google.com/spreadsheets/d/1bphtMaJ6lFh0VVWIgQh8ZCOchBZqvj0w5rveiNYcTnM/edit#gid=0\"\",\"\"RWA!F:BZ\"\"),44,0))\"),\"\")","v":""},{"$f":"IFERROR(__xludf.DUMMYFUNCTION(\"iferror(VLOOKUP(B364,IMPORTRANGE(\"\"https://docs.google.com/spreadsheets/d/1bphtMaJ6lFh0VVWIgQh8ZCOchBZqvj0w5rveiNYcTnM/edit#gid=0\"\",\"\"RWA!F:BZ\"\"),48,0))\"),\"\")","v":""},{"$f":"IFERROR(__xludf.DUMMYFUNCTION(\"iferror(VLOOKUP(B364,IMPORTRANGE(\"\"https://docs.google.com/spreadsheets/d/1bphtMaJ6lFh0VVWIgQh8ZCOchBZqvj0w5rveiNYcTnM/edit#gid=0\"\",\"\"RWA!F:BZ\"\"),49,0))\"),\"\")","v":""},{"$f":"IFERROR(__xludf.DUMMYFUNCTION(\"iferror(VLOOKUP(B364,IMPORTRANGE(\"\"https://docs.google.com/spreadsheets/d/1bphtMaJ6lFh0VVWIgQh8ZCOchBZqvj0w5rveiNYcTnM/edit#gid=0\"\",\"\"RWA!F:BZ\"\"),53,0))\"),\"\")","v":""}]
[null,null,null,{"$f":"IFERROR(__xludf.DUMMYFUNCTION(\"iferror(VLOOKUP(B365,IMPORTRANGE(\"\"https://docs.google.com/spreadsheets/d/1bphtMaJ6lFh0VVWIgQh8ZCOchBZqvj0w5rveiNYcTnM/edit#gid=0\"\",\"\"RWA!F:BZ\"\"),44,0))\"),\"\")","v":""},{"$f":"IFERROR(__xludf.DUMMYFUNCTION(\"iferror(VLOOKUP(B365,IMPORTRANGE(\"\"https://docs.google.com/spreadsheets/d/1bphtMaJ6lFh0VVWIgQh8ZCOchBZqvj0w5rveiNYcTnM/edit#gid=0\"\",\"\"RWA!F:BZ\"\"),48,0))\"),\"\")","v":""},{"$f":"IFERROR(__xludf.DUMMYFUNCTION(\"iferror(VLOOKUP(B365,IMPORTRANGE(\"\"https://docs.google.com/spreadsheets/d/1bphtMaJ6lFh0VVWIgQh8ZCOchBZqvj0w5rveiNYcTnM/edit#gid=0\"\",\"\"RWA!F:BZ\"\"),49,0))\"),\"\")","v":""},{"$f":"IFERROR(__xludf.DUMMYFUNCTION(\"iferror(VLOOKUP(B365,IMPORTRANGE(\"\"https://docs.google.com/spreadsheets/d/1bphtMaJ6lFh0VVWIgQh8ZCOchBZqvj0w5rveiNYcTnM/edit#gid=0\"\",\"\"RWA!F:BZ\"\"),53,0))\"),\"\")","v":""}]
[null,null,null,{"$f":"IFERROR(__xludf.DUMMYFUNCTION(\"iferror(VLOOKUP(B366,IMPORTRANGE(\"\"https://docs.google.com/spreadsheets/d/1bphtMaJ6lFh0VVWIgQh8ZCOchBZqvj0w5rveiNYcTnM/edit#gid=0\"\",\"\"RWA!F:BZ\"\"),44,0))\"),\"\")","v":""},{"$f":"IFERROR(__xludf.DUMMYFUNCTION(\"iferror(VLOOKUP(B366,IMPORTRANGE(\"\"https://docs.google.com/spreadsheets/d/1bphtMaJ6lFh0VVWIgQh8ZCOchBZqvj0w5rveiNYcTnM/edit#gid=0\"\",\"\"RWA!F:BZ\"\"),48,0))\"),\"\")","v":""},{"$f":"IFERROR(__xludf.DUMMYFUNCTION(\"iferror(VLOOKUP(B366,IMPORTRANGE(\"\"https://docs.google.com/spreadsheets/d/1bphtMaJ6lFh0VVWIgQh8ZCOchBZqvj0w5rveiNYcTnM/edit#gid=0\"\",\"\"RWA!F:BZ\"\"),49,0))\"),\"\")","v":""},{"$f":"IFERROR(__xludf.DUMMYFUNCTION(\"iferror(VLOOKUP(B366,IMPORTRANGE(\"\"https://docs.google.com/spreadsheets/d/1bphtMaJ6lFh0VVWIgQh8ZCOchBZqvj0w5rveiNYcTnM/edit#gid=0\"\",\"\"RWA!F:BZ\"\"),53,0))\"),\"\")","v":""}]
[null,null,null,{"$f":"IFERROR(__xludf.DUMMYFUNCTION(\"iferror(VLOOKUP(B367,IMPORTRANGE(\"\"https://docs.google.com/spreadsheets/d/1bphtMaJ6lFh0VVWIgQh8ZCOchBZqvj0w5rveiNYcTnM/edit#gid=0\"\",\"\"RWA!F:BZ\"\"),44,0))\"),\"\")","v":""},{"$f":"IFERROR(__xludf.DUMMYFUNCTION(\"iferror(VLOOKUP(B367,IMPORTRANGE(\"\"https://docs.google.com/spreadsheets/d/1bphtMaJ6lFh0VVWIgQh8ZCOchBZqvj0w5rveiNYcTnM/edit#gid=0\"\",\"\"RWA!F:BZ\"\"),48,0))\"),\"\")","v":""},{"$f":"IFERROR(__xludf.DUMMYFUNCTION(\"iferror(VLOOKUP(B367,IMPORTRANGE(\"\"https://docs.google.com/spreadsheets/d/1bphtMaJ6lFh0VVWIgQh8ZCOchBZqvj0w5rveiNYcTnM/edit#gid=0\"\",\"\"RWA!F:BZ\"\"),49,0))\"),\"\")","v":""},{"$f":"IFERROR(__xludf.DUMMYFUNCTION(\"iferror(VLOOKUP(B367,IMPORTRANGE(\"\"https://docs.google.com/spreadsheets/d/1bphtMaJ6lFh0VVWIgQh8ZCOchBZqvj0w5rveiNYcTnM/edit#gid=0\"\",\"\"RWA!F:BZ\"\"),53,0))\"),\"\")","v":""}]
[null,null,null,{"$f":"IFERROR(__xludf.DUMMYFUNCTION(\"iferror(VLOOKUP(B368,IMPORTRANGE(\"\"https://docs.google.com/spreadsheets/d/1bphtMaJ6lFh0VVWIgQh8ZCOchBZqvj0w5rveiNYcTnM/edit#gid=0\"\",\"\"RWA!F:BZ\"\"),44,0))\"),\"\")","v":""},{"$f":"IFERROR(__xludf.DUMMYFUNCTION(\"iferror(VLOOKUP(B368,IMPORTRANGE(\"\"https://docs.google.com/spreadsheets/d/1bphtMaJ6lFh0VVWIgQh8ZCOchBZqvj0w5rveiNYcTnM/edit#gid=0\"\",\"\"RWA!F:BZ\"\"),48,0))\"),\"\")","v":""},{"$f":"IFERROR(__xludf.DUMMYFUNCTION(\"iferror(VLOOKUP(B368,IMPORTRANGE(\"\"https://docs.google.com/spreadsheets/d/1bphtMaJ6lFh0VVWIgQh8ZCOchBZqvj0w5rveiNYcTnM/edit#gid=0\"\",\"\"RWA!F:BZ\"\"),49,0))\"),\"\")","v":""},{"$f":"IFERROR(__xludf.DUMMYFUNCTION(\"iferror(VLOOKUP(B368,IMPORTRANGE(\"\"https://docs.google.com/spreadsheets/d/1bphtMaJ6lFh0VVWIgQh8ZCOchBZqvj0w5rveiNYcTnM/edit#gid=0\"\",\"\"RWA!F:BZ\"\"),53,0))\"),\"\")","v":""}]
[null,null,null,{"$f":"IFERROR(__xludf.DUMMYFUNCTION(\"iferror(VLOOKUP(B369,IMPORTRANGE(\"\"https://docs.google.com/spreadsheets/d/1bphtMaJ6lFh0VVWIgQh8ZCOchBZqvj0w5rveiNYcTnM/edit#gid=0\"\",\"\"RWA!F:BZ\"\"),44,0))\"),\"\")","v":""},{"$f":"IFERROR(__xludf.DUMMYFUNCTION(\"iferror(VLOOKUP(B369,IMPORTRANGE(\"\"https://docs.google.com/spreadsheets/d/1bphtMaJ6lFh0VVWIgQh8ZCOchBZqvj0w5rveiNYcTnM/edit#gid=0\"\",\"\"RWA!F:BZ\"\"),48,0))\"),\"\")","v":""},{"$f":"IFERROR(__xludf.DUMMYFUNCTION(\"iferror(VLOOKUP(B369,IMPORTRANGE(\"\"https://docs.google.com/spreadsheets/d/1bphtMaJ6lFh0VVWIgQh8ZCOchBZqvj0w5rveiNYcTnM/edit#gid=0\"\",\"\"RWA!F:BZ\"\"),49,0))\"),\"\")","v":""},{"$f":"IFERROR(__xludf.DUMMYFUNCTION(\"iferror(VLOOKUP(B369,IMPORTRANGE(\"\"https://docs.google.com/spreadsheets/d/1bphtMaJ6lFh0VVWIgQh8ZCOchBZqvj0w5rveiNYcTnM/edit#gid=0\"\",\"\"RWA!F:BZ\"\"),53,0))\"),\"\")","v":""}]
[null,null,null,{"$f":"IFERROR(__xludf.DUMMYFUNCTION(\"iferror(VLOOKUP(B370,IMPORTRANGE(\"\"https://docs.google.com/spreadsheets/d/1bphtMaJ6lFh0VVWIgQh8ZCOchBZqvj0w5rveiNYcTnM/edit#gid=0\"\",\"\"RWA!F:BZ\"\"),44,0))\"),\"\")","v":""},{"$f":"IFERROR(__xludf.DUMMYFUNCTION(\"iferror(VLOOKUP(B370,IMPORTRANGE(\"\"https://docs.google.com/spreadsheets/d/1bphtMaJ6lFh0VVWIgQh8ZCOchBZqvj0w5rveiNYcTnM/edit#gid=0\"\",\"\"RWA!F:BZ\"\"),48,0))\"),\"\")","v":""},{"$f":"IFERROR(__xludf.DUMMYFUNCTION(\"iferror(VLOOKUP(B370,IMPORTRANGE(\"\"https://docs.google.com/spreadsheets/d/1bphtMaJ6lFh0VVWIgQh8ZCOchBZqvj0w5rveiNYcTnM/edit#gid=0\"\",\"\"RWA!F:BZ\"\"),49,0))\"),\"\")","v":""},{"$f":"IFERROR(__xludf.DUMMYFUNCTION(\"iferror(VLOOKUP(B370,IMPORTRANGE(\"\"https://docs.google.com/spreadsheets/d/1bphtMaJ6lFh0VVWIgQh8ZCOchBZqvj0w5rveiNYcTnM/edit#gid=0\"\",\"\"RWA!F:BZ\"\"),53,0))\"),\"\")","v":""}]
[null,null,null,{"$f":"IFERROR(__xludf.DUMMYFUNCTION(\"iferror(VLOOKUP(B371,IMPORTRANGE(\"\"https://docs.google.com/spreadsheets/d/1bphtMaJ6lFh0VVWIgQh8ZCOchBZqvj0w5rveiNYcTnM/edit#gid=0\"\",\"\"RWA!F:BZ\"\"),44,0))\"),\"\")","v":""},{"$f":"IFERROR(__xludf.DUMMYFUNCTION(\"iferror(VLOOKUP(B371,IMPORTRANGE(\"\"https://docs.google.com/spreadsheets/d/1bphtMaJ6lFh0VVWIgQh8ZCOchBZqvj0w5rveiNYcTnM/edit#gid=0\"\",\"\"RWA!F:BZ\"\"),48,0))\"),\"\")","v":""},{"$f":"IFERROR(__xludf.DUMMYFUNCTION(\"iferror(VLOOKUP(B371,IMPORTRANGE(\"\"https://docs.google.com/spreadsheets/d/1bphtMaJ6lFh0VVWIgQh8ZCOchBZqvj0w5rveiNYcTnM/edit#gid=0\"\",\"\"RWA!F:BZ\"\"),49,0))\"),\"\")","v":""},{"$f":"IFERROR(__xludf.DUMMYFUNCTION(\"iferror(VLOOKUP(B371,IMPORTRANGE(\"\"https://docs.google.com/spreadsheets/d/1bphtMaJ6lFh0VVWIgQh8ZCOchBZqvj0w5rveiNYcTnM/edit#gid=0\"\",\"\"RWA!F:BZ\"\"),53,0))\"),\"\")","v":""}]
[null,null,null,{"$f":"IFERROR(__xludf.DUMMYFUNCTION(\"iferror(VLOOKUP(B372,IMPORTRANGE(\"\"https://docs.google.com/spreadsheets/d/1bphtMaJ6lFh0VVWIgQh8ZCOchBZqvj0w5rveiNYcTnM/edit#gid=0\"\",\"\"RWA!F:BZ\"\"),44,0))\"),\"\")","v":""},{"$f":"IFERROR(__xludf.DUMMYFUNCTION(\"iferror(VLOOKUP(B372,IMPORTRANGE(\"\"https://docs.google.com/spreadsheets/d/1bphtMaJ6lFh0VVWIgQh8ZCOchBZqvj0w5rveiNYcTnM/edit#gid=0\"\",\"\"RWA!F:BZ\"\"),48,0))\"),\"\")","v":""},{"$f":"IFERROR(__xludf.DUMMYFUNCTION(\"iferror(VLOOKUP(B372,IMPORTRANGE(\"\"https://docs.google.com/spreadsheets/d/1bphtMaJ6lFh0VVWIgQh8ZCOchBZqvj0w5rveiNYcTnM/edit#gid=0\"\",\"\"RWA!F:BZ\"\"),49,0))\"),\"\")","v":""},{"$f":"IFERROR(__xludf.DUMMYFUNCTION(\"iferror(VLOOKUP(B372,IMPORTRANGE(\"\"https://docs.google.com/spreadsheets/d/1bphtMaJ6lFh0VVWIgQh8ZCOchBZqvj0w5rveiNYcTnM/edit#gid=0\"\",\"\"RWA!F:BZ\"\"),53,0))\"),\"\")","v":""}]
[null,null,null,{"$f":"IFERROR(__xludf.DUMMYFUNCTION(\"iferror(VLOOKUP(B373,IMPORTRANGE(\"\"https://docs.google.com/spreadsheets/d/1bphtMaJ6lFh0VVWIgQh8ZCOchBZqvj0w5rveiNYcTnM/edit#gid=0\"\",\"\"RWA!F:BZ\"\"),44,0))\"),\"\")","v":""},{"$f":"IFERROR(__xludf.DUMMYFUNCTION(\"iferror(VLOOKUP(B373,IMPORTRANGE(\"\"https://docs.google.com/spreadsheets/d/1bphtMaJ6lFh0VVWIgQh8ZCOchBZqvj0w5rveiNYcTnM/edit#gid=0\"\",\"\"RWA!F:BZ\"\"),48,0))\"),\"\")","v":""},{"$f":"IFERROR(__xludf.DUMMYFUNCTION(\"iferror(VLOOKUP(B373,IMPORTRANGE(\"\"https://docs.google.com/spreadsheets/d/1bphtMaJ6lFh0VVWIgQh8ZCOchBZqvj0w5rveiNYcTnM/edit#gid=0\"\",\"\"RWA!F:BZ\"\"),49,0))\"),\"\")","v":""},{"$f":"IFERROR(__xludf.DUMMYFUNCTION(\"iferror(VLOOKUP(B373,IMPORTRANGE(\"\"https://docs.google.com/spreadsheets/d/1bphtMaJ6lFh0VVWIgQh8ZCOchBZqvj0w5rveiNYcTnM/edit#gid=0\"\",\"\"RWA!F:BZ\"\"),53,0))\"),\"\")","v":""}]
[null,null,null,{"$f":"IFERROR(__xludf.DUMMYFUNCTION(\"iferror(VLOOKUP(B374,IMPORTRANGE(\"\"https://docs.google.com/spreadsheets/d/1bphtMaJ6lFh0VVWIgQh8ZCOchBZqvj0w5rveiNYcTnM/edit#gid=0\"\",\"\"RWA!F:BZ\"\"),44,0))\"),\"\")","v":""},{"$f":"IFERROR(__xludf.DUMMYFUNCTION(\"iferror(VLOOKUP(B374,IMPORTRANGE(\"\"https://docs.google.com/spreadsheets/d/1bphtMaJ6lFh0VVWIgQh8ZCOchBZqvj0w5rveiNYcTnM/edit#gid=0\"\",\"\"RWA!F:BZ\"\"),48,0))\"),\"\")","v":""},{"$f":"IFERROR(__xludf.DUMMYFUNCTION(\"iferror(VLOOKUP(B374,IMPORTRANGE(\"\"https://docs.google.com/spreadsheets/d/1bphtMaJ6lFh0VVWIgQh8ZCOchBZqvj0w5rveiNYcTnM/edit#gid=0\"\",\"\"RWA!F:BZ\"\"),49,0))\"),\"\")","v":""},{"$f":"IFERROR(__xludf.DUMMYFUNCTION(\"iferror(VLOOKUP(B374,IMPORTRANGE(\"\"https://docs.google.com/spreadsheets/d/1bphtMaJ6lFh0VVWIgQh8ZCOchBZqvj0w5rveiNYcTnM/edit#gid=0\"\",\"\"RWA!F:BZ\"\"),53,0))\"),\"\")","v":""}]
[null,null,null,{"$f":"IFERROR(__xludf.DUMMYFUNCTION(\"iferror(VLOOKUP(B375,IMPORTRANGE(\"\"https://docs.google.com/spreadsheets/d/1bphtMaJ6lFh0VVWIgQh8ZCOchBZqvj0w5rveiNYcTnM/edit#gid=0\"\",\"\"RWA!F:BZ\"\"),44,0))\"),\"\")","v":""},{"$f":"IFERROR(__xludf.DUMMYFUNCTION(\"iferror(VLOOKUP(B375,IMPORTRANGE(\"\"https://docs.google.com/spreadsheets/d/1bphtMaJ6lFh0VVWIgQh8ZCOchBZqvj0w5rveiNYcTnM/edit#gid=0\"\",\"\"RWA!F:BZ\"\"),48,0))\"),\"\")","v":""},{"$f":"IFERROR(__xludf.DUMMYFUNCTION(\"iferror(VLOOKUP(B375,IMPORTRANGE(\"\"https://docs.google.com/spreadsheets/d/1bphtMaJ6lFh0VVWIgQh8ZCOchBZqvj0w5rveiNYcTnM/edit#gid=0\"\",\"\"RWA!F:BZ\"\"),49,0))\"),\"\")","v":""},{"$f":"IFERROR(__xludf.DUMMYFUNCTION(\"iferror(VLOOKUP(B375,IMPORTRANGE(\"\"https://docs.google.com/spreadsheets/d/1bphtMaJ6lFh0VVWIgQh8ZCOchBZqvj0w5rveiNYcTnM/edit#gid=0\"\",\"\"RWA!F:BZ\"\"),53,0))\"),\"\")","v":""}]
[null,null,null,{"$f":"IFERROR(__xludf.DUMMYFUNCTION(\"iferror(VLOOKUP(B376,IMPORTRANGE(\"\"https://docs.google.com/spreadsheets/d/1bphtMaJ6lFh0VVWIgQh8ZCOchBZqvj0w5rveiNYcTnM/edit#gid=0\"\",\"\"RWA!F:BZ\"\"),44,0))\"),\"\")","v":""},{"$f":"IFERROR(__xludf.DUMMYFUNCTION(\"iferror(VLOOKUP(B376,IMPORTRANGE(\"\"https://docs.google.com/spreadsheets/d/1bphtMaJ6lFh0VVWIgQh8ZCOchBZqvj0w5rveiNYcTnM/edit#gid=0\"\",\"\"RWA!F:BZ\"\"),48,0))\"),\"\")","v":""},{"$f":"IFERROR(__xludf.DUMMYFUNCTION(\"iferror(VLOOKUP(B376,IMPORTRANGE(\"\"https://docs.google.com/spreadsheets/d/1bphtMaJ6lFh0VVWIgQh8ZCOchBZqvj0w5rveiNYcTnM/edit#gid=0\"\",\"\"RWA!F:BZ\"\"),49,0))\"),\"\")","v":""},{"$f":"IFERROR(__xludf.DUMMYFUNCTION(\"iferror(VLOOKUP(B376,IMPORTRANGE(\"\"https://docs.google.com/spreadsheets/d/1bphtMaJ6lFh0VVWIgQh8ZCOchBZqvj0w5rveiNYcTnM/edit#gid=0\"\",\"\"RWA!F:BZ\"\"),53,0))\"),\"\")","v":""}]
[null,null,null,{"$f":"IFERROR(__xludf.DUMMYFUNCTION(\"iferror(VLOOKUP(B377,IMPORTRANGE(\"\"https://docs.google.com/spreadsheets/d/1bphtMaJ6lFh0VVWIgQh8ZCOchBZqvj0w5rveiNYcTnM/edit#gid=0\"\",\"\"RWA!F:BZ\"\"),44,0))\"),\"\")","v":""},{"$f":"IFERROR(__xludf.DUMMYFUNCTION(\"iferror(VLOOKUP(B377,IMPORTRANGE(\"\"https://docs.google.com/spreadsheets/d/1bphtMaJ6lFh0VVWIgQh8ZCOchBZqvj0w5rveiNYcTnM/edit#gid=0\"\",\"\"RWA!F:BZ\"\"),48,0))\"),\"\")","v":""},{"$f":"IFERROR(__xludf.DUMMYFUNCTION(\"iferror(VLOOKUP(B377,IMPORTRANGE(\"\"https://docs.google.com/spreadsheets/d/1bphtMaJ6lFh0VVWIgQh8ZCOchBZqvj0w5rveiNYcTnM/edit#gid=0\"\",\"\"RWA!F:BZ\"\"),49,0))\"),\"\")","v":""},{"$f":"IFERROR(__xludf.DUMMYFUNCTION(\"iferror(VLOOKUP(B377,IMPORTRANGE(\"\"https://docs.google.com/spreadsheets/d/1bphtMaJ6lFh0VVWIgQh8ZCOchBZqvj0w5rveiNYcTnM/edit#gid=0\"\",\"\"RWA!F:BZ\"\"),53,0))\"),\"\")","v":""}]
[null,null,null,{"$f":"IFERROR(__xludf.DUMMYFUNCTION(\"iferror(VLOOKUP(B378,IMPORTRANGE(\"\"https://docs.google.com/spreadsheets/d/1bphtMaJ6lFh0VVWIgQh8ZCOchBZqvj0w5rveiNYcTnM/edit#gid=0\"\",\"\"RWA!F:BZ\"\"),44,0))\"),\"\")","v":""},{"$f":"IFERROR(__xludf.DUMMYFUNCTION(\"iferror(VLOOKUP(B378,IMPORTRANGE(\"\"https://docs.google.com/spreadsheets/d/1bphtMaJ6lFh0VVWIgQh8ZCOchBZqvj0w5rveiNYcTnM/edit#gid=0\"\",\"\"RWA!F:BZ\"\"),48,0))\"),\"\")","v":""},{"$f":"IFERROR(__xludf.DUMMYFUNCTION(\"iferror(VLOOKUP(B378,IMPORTRANGE(\"\"https://docs.google.com/spreadsheets/d/1bphtMaJ6lFh0VVWIgQh8ZCOchBZqvj0w5rveiNYcTnM/edit#gid=0\"\",\"\"RWA!F:BZ\"\"),49,0))\"),\"\")","v":""},{"$f":"IFERROR(__xludf.DUMMYFUNCTION(\"iferror(VLOOKUP(B378,IMPORTRANGE(\"\"https://docs.google.com/spreadsheets/d/1bphtMaJ6lFh0VVWIgQh8ZCOchBZqvj0w5rveiNYcTnM/edit#gid=0\"\",\"\"RWA!F:BZ\"\"),53,0))\"),\"\")","v":""}]
[null,null,null,{"$f":"IFERROR(__xludf.DUMMYFUNCTION(\"iferror(VLOOKUP(B379,IMPORTRANGE(\"\"https://docs.google.com/spreadsheets/d/1bphtMaJ6lFh0VVWIgQh8ZCOchBZqvj0w5rveiNYcTnM/edit#gid=0\"\",\"\"RWA!F:BZ\"\"),44,0))\"),\"\")","v":""},{"$f":"IFERROR(__xludf.DUMMYFUNCTION(\"iferror(VLOOKUP(B379,IMPORTRANGE(\"\"https://docs.google.com/spreadsheets/d/1bphtMaJ6lFh0VVWIgQh8ZCOchBZqvj0w5rveiNYcTnM/edit#gid=0\"\",\"\"RWA!F:BZ\"\"),48,0))\"),\"\")","v":""},{"$f":"IFERROR(__xludf.DUMMYFUNCTION(\"iferror(VLOOKUP(B379,IMPORTRANGE(\"\"https://docs.google.com/spreadsheets/d/1bphtMaJ6lFh0VVWIgQh8ZCOchBZqvj0w5rveiNYcTnM/edit#gid=0\"\",\"\"RWA!F:BZ\"\"),49,0))\"),\"\")","v":""},{"$f":"IFERROR(__xludf.DUMMYFUNCTION(\"iferror(VLOOKUP(B379,IMPORTRANGE(\"\"https://docs.google.com/spreadsheets/d/1bphtMaJ6lFh0VVWIgQh8ZCOchBZqvj0w5rveiNYcTnM/edit#gid=0\"\",\"\"RWA!F:BZ\"\"),53,0))\"),\"\")","v":""}]
[null,null,null,{"$f":"IFERROR(__xludf.DUMMYFUNCTION(\"iferror(VLOOKUP(B380,IMPORTRANGE(\"\"https://docs.google.com/spreadsheets/d/1bphtMaJ6lFh0VVWIgQh8ZCOchBZqvj0w5rveiNYcTnM/edit#gid=0\"\",\"\"RWA!F:BZ\"\"),44,0))\"),\"\")","v":""},{"$f":"IFERROR(__xludf.DUMMYFUNCTION(\"iferror(VLOOKUP(B380,IMPORTRANGE(\"\"https://docs.google.com/spreadsheets/d/1bphtMaJ6lFh0VVWIgQh8ZCOchBZqvj0w5rveiNYcTnM/edit#gid=0\"\",\"\"RWA!F:BZ\"\"),48,0))\"),\"\")","v":""},{"$f":"IFERROR(__xludf.DUMMYFUNCTION(\"iferror(VLOOKUP(B380,IMPORTRANGE(\"\"https://docs.google.com/spreadsheets/d/1bphtMaJ6lFh0VVWIgQh8ZCOchBZqvj0w5rveiNYcTnM/edit#gid=0\"\",\"\"RWA!F:BZ\"\"),49,0))\"),\"\")","v":""},{"$f":"IFERROR(__xludf.DUMMYFUNCTION(\"iferror(VLOOKUP(B380,IMPORTRANGE(\"\"https://docs.google.com/spreadsheets/d/1bphtMaJ6lFh0VVWIgQh8ZCOchBZqvj0w5rveiNYcTnM/edit#gid=0\"\",\"\"RWA!F:BZ\"\"),53,0))\"),\"\")","v":""}]
[null,null,null,{"$f":"IFERROR(__xludf.DUMMYFUNCTION(\"iferror(VLOOKUP(B381,IMPORTRANGE(\"\"https://docs.google.com/spreadsheets/d/1bphtMaJ6lFh0VVWIgQh8ZCOchBZqvj0w5rveiNYcTnM/edit#gid=0\"\",\"\"RWA!F:BZ\"\"),44,0))\"),\"\")","v":""},{"$f":"IFERROR(__xludf.DUMMYFUNCTION(\"iferror(VLOOKUP(B381,IMPORTRANGE(\"\"https://docs.google.com/spreadsheets/d/1bphtMaJ6lFh0VVWIgQh8ZCOchBZqvj0w5rveiNYcTnM/edit#gid=0\"\",\"\"RWA!F:BZ\"\"),48,0))\"),\"\")","v":""},{"$f":"IFERROR(__xludf.DUMMYFUNCTION(\"iferror(VLOOKUP(B381,IMPORTRANGE(\"\"https://docs.google.com/spreadsheets/d/1bphtMaJ6lFh0VVWIgQh8ZCOchBZqvj0w5rveiNYcTnM/edit#gid=0\"\",\"\"RWA!F:BZ\"\"),49,0))\"),\"\")","v":""},{"$f":"IFERROR(__xludf.DUMMYFUNCTION(\"iferror(VLOOKUP(B381,IMPORTRANGE(\"\"https://docs.google.com/spreadsheets/d/1bphtMaJ6lFh0VVWIgQh8ZCOchBZqvj0w5rveiNYcTnM/edit#gid=0\"\",\"\"RWA!F:BZ\"\"),53,0))\"),\"\")","v":""}]
[null,null,null,{"$f":"IFERROR(__xludf.DUMMYFUNCTION(\"iferror(VLOOKUP(B382,IMPORTRANGE(\"\"https://docs.google.com/spreadsheets/d/1bphtMaJ6lFh0VVWIgQh8ZCOchBZqvj0w5rveiNYcTnM/edit#gid=0\"\",\"\"RWA!F:BZ\"\"),44,0))\"),\"\")","v":""},{"$f":"IFERROR(__xludf.DUMMYFUNCTION(\"iferror(VLOOKUP(B382,IMPORTRANGE(\"\"https://docs.google.com/spreadsheets/d/1bphtMaJ6lFh0VVWIgQh8ZCOchBZqvj0w5rveiNYcTnM/edit#gid=0\"\",\"\"RWA!F:BZ\"\"),48,0))\"),\"\")","v":""},{"$f":"IFERROR(__xludf.DUMMYFUNCTION(\"iferror(VLOOKUP(B382,IMPORTRANGE(\"\"https://docs.google.com/spreadsheets/d/1bphtMaJ6lFh0VVWIgQh8ZCOchBZqvj0w5rveiNYcTnM/edit#gid=0\"\",\"\"RWA!F:BZ\"\"),49,0))\"),\"\")","v":""},{"$f":"IFERROR(__xludf.DUMMYFUNCTION(\"iferror(VLOOKUP(B382,IMPORTRANGE(\"\"https://docs.google.com/spreadsheets/d/1bphtMaJ6lFh0VVWIgQh8ZCOchBZqvj0w5rveiNYcTnM/edit#gid=0\"\",\"\"RWA!F:BZ\"\"),53,0))\"),\"\")","v":""}]
[null,null,null,{"$f":"IFERROR(__xludf.DUMMYFUNCTION(\"iferror(VLOOKUP(B383,IMPORTRANGE(\"\"https://docs.google.com/spreadsheets/d/1bphtMaJ6lFh0VVWIgQh8ZCOchBZqvj0w5rveiNYcTnM/edit#gid=0\"\",\"\"RWA!F:BZ\"\"),44,0))\"),\"\")","v":""},{"$f":"IFERROR(__xludf.DUMMYFUNCTION(\"iferror(VLOOKUP(B383,IMPORTRANGE(\"\"https://docs.google.com/spreadsheets/d/1bphtMaJ6lFh0VVWIgQh8ZCOchBZqvj0w5rveiNYcTnM/edit#gid=0\"\",\"\"RWA!F:BZ\"\"),48,0))\"),\"\")","v":""},{"$f":"IFERROR(__xludf.DUMMYFUNCTION(\"iferror(VLOOKUP(B383,IMPORTRANGE(\"\"https://docs.google.com/spreadsheets/d/1bphtMaJ6lFh0VVWIgQh8ZCOchBZqvj0w5rveiNYcTnM/edit#gid=0\"\",\"\"RWA!F:BZ\"\"),49,0))\"),\"\")","v":""},{"$f":"IFERROR(__xludf.DUMMYFUNCTION(\"iferror(VLOOKUP(B383,IMPORTRANGE(\"\"https://docs.google.com/spreadsheets/d/1bphtMaJ6lFh0VVWIgQh8ZCOchBZqvj0w5rveiNYcTnM/edit#gid=0\"\",\"\"RWA!F:BZ\"\"),53,0))\"),\"\")","v":""}]
[null,null,null,{"$f":"IFERROR(__xludf.DUMMYFUNCTION(\"iferror(VLOOKUP(B384,IMPORTRANGE(\"\"https://docs.google.com/spreadsheets/d/1bphtMaJ6lFh0VVWIgQh8ZCOchBZqvj0w5rveiNYcTnM/edit#gid=0\"\",\"\"RWA!F:BZ\"\"),44,0))\"),\"\")","v":""},{"$f":"IFERROR(__xludf.DUMMYFUNCTION(\"iferror(VLOOKUP(B384,IMPORTRANGE(\"\"https://docs.google.com/spreadsheets/d/1bphtMaJ6lFh0VVWIgQh8ZCOchBZqvj0w5rveiNYcTnM/edit#gid=0\"\",\"\"RWA!F:BZ\"\"),48,0))\"),\"\")","v":""},{"$f":"IFERROR(__xludf.DUMMYFUNCTION(\"iferror(VLOOKUP(B384,IMPORTRANGE(\"\"https://docs.google.com/spreadsheets/d/1bphtMaJ6lFh0VVWIgQh8ZCOchBZqvj0w5rveiNYcTnM/edit#gid=0\"\",\"\"RWA!F:BZ\"\"),49,0))\"),\"\")","v":""},{"$f":"IFERROR(__xludf.DUMMYFUNCTION(\"iferror(VLOOKUP(B384,IMPORTRANGE(\"\"https://docs.google.com/spreadsheets/d/1bphtMaJ6lFh0VVWIgQh8ZCOchBZqvj0w5rveiNYcTnM/edit#gid=0\"\",\"\"RWA!F:BZ\"\"),53,0))\"),\"\")","v":""}]
[null,null,null,{"$f":"IFERROR(__xludf.DUMMYFUNCTION(\"iferror(VLOOKUP(B385,IMPORTRANGE(\"\"https://docs.google.com/spreadsheets/d/1bphtMaJ6lFh0VVWIgQh8ZCOchBZqvj0w5rveiNYcTnM/edit#gid=0\"\",\"\"RWA!F:BZ\"\"),44,0))\"),\"\")","v":""},{"$f":"IFERROR(__xludf.DUMMYFUNCTION(\"iferror(VLOOKUP(B385,IMPORTRANGE(\"\"https://docs.google.com/spreadsheets/d/1bphtMaJ6lFh0VVWIgQh8ZCOchBZqvj0w5rveiNYcTnM/edit#gid=0\"\",\"\"RWA!F:BZ\"\"),48,0))\"),\"\")","v":""},{"$f":"IFERROR(__xludf.DUMMYFUNCTION(\"iferror(VLOOKUP(B385,IMPORTRANGE(\"\"https://docs.google.com/spreadsheets/d/1bphtMaJ6lFh0VVWIgQh8ZCOchBZqvj0w5rveiNYcTnM/edit#gid=0\"\",\"\"RWA!F:BZ\"\"),49,0))\"),\"\")","v":""},{"$f":"IFERROR(__xludf.DUMMYFUNCTION(\"iferror(VLOOKUP(B385,IMPORTRANGE(\"\"https://docs.google.com/spreadsheets/d/1bphtMaJ6lFh0VVWIgQh8ZCOchBZqvj0w5rveiNYcTnM/edit#gid=0\"\",\"\"RWA!F:BZ\"\"),53,0))\"),\"\")","v":""}]
[null,null,null,{"$f":"IFERROR(__xludf.DUMMYFUNCTION(\"iferror(VLOOKUP(B386,IMPORTRANGE(\"\"https://docs.google.com/spreadsheets/d/1bphtMaJ6lFh0VVWIgQh8ZCOchBZqvj0w5rveiNYcTnM/edit#gid=0\"\",\"\"RWA!F:BZ\"\"),44,0))\"),\"\")","v":""},{"$f":"IFERROR(__xludf.DUMMYFUNCTION(\"iferror(VLOOKUP(B386,IMPORTRANGE(\"\"https://docs.google.com/spreadsheets/d/1bphtMaJ6lFh0VVWIgQh8ZCOchBZqvj0w5rveiNYcTnM/edit#gid=0\"\",\"\"RWA!F:BZ\"\"),48,0))\"),\"\")","v":""},{"$f":"IFERROR(__xludf.DUMMYFUNCTION(\"iferror(VLOOKUP(B386,IMPORTRANGE(\"\"https://docs.google.com/spreadsheets/d/1bphtMaJ6lFh0VVWIgQh8ZCOchBZqvj0w5rveiNYcTnM/edit#gid=0\"\",\"\"RWA!F:BZ\"\"),49,0))\"),\"\")","v":""},{"$f":"IFERROR(__xludf.DUMMYFUNCTION(\"iferror(VLOOKUP(B386,IMPORTRANGE(\"\"https://docs.google.com/spreadsheets/d/1bphtMaJ6lFh0VVWIgQh8ZCOchBZqvj0w5rveiNYcTnM/edit#gid=0\"\",\"\"RWA!F:BZ\"\"),53,0))\"),\"\")","v":""}]
[null,null,null,{"$f":"IFERROR(__xludf.DUMMYFUNCTION(\"iferror(VLOOKUP(B387,IMPORTRANGE(\"\"https://docs.google.com/spreadsheets/d/1bphtMaJ6lFh0VVWIgQh8ZCOchBZqvj0w5rveiNYcTnM/edit#gid=0\"\",\"\"RWA!F:BZ\"\"),44,0))\"),\"\")","v":""},{"$f":"IFERROR(__xludf.DUMMYFUNCTION(\"iferror(VLOOKUP(B387,IMPORTRANGE(\"\"https://docs.google.com/spreadsheets/d/1bphtMaJ6lFh0VVWIgQh8ZCOchBZqvj0w5rveiNYcTnM/edit#gid=0\"\",\"\"RWA!F:BZ\"\"),48,0))\"),\"\")","v":""},{"$f":"IFERROR(__xludf.DUMMYFUNCTION(\"iferror(VLOOKUP(B387,IMPORTRANGE(\"\"https://docs.google.com/spreadsheets/d/1bphtMaJ6lFh0VVWIgQh8ZCOchBZqvj0w5rveiNYcTnM/edit#gid=0\"\",\"\"RWA!F:BZ\"\"),49,0))\"),\"\")","v":""},{"$f":"IFERROR(__xludf.DUMMYFUNCTION(\"iferror(VLOOKUP(B387,IMPORTRANGE(\"\"https://docs.google.com/spreadsheets/d/1bphtMaJ6lFh0VVWIgQh8ZCOchBZqvj0w5rveiNYcTnM/edit#gid=0\"\",\"\"RWA!F:BZ\"\"),53,0))\"),\"\")","v":""}]
[null,null,null,{"$f":"IFERROR(__xludf.DUMMYFUNCTION(\"iferror(VLOOKUP(B388,IMPORTRANGE(\"\"https://docs.google.com/spreadsheets/d/1bphtMaJ6lFh0VVWIgQh8ZCOchBZqvj0w5rveiNYcTnM/edit#gid=0\"\",\"\"RWA!F:BZ\"\"),44,0))\"),\"\")","v":""},{"$f":"IFERROR(__xludf.DUMMYFUNCTION(\"iferror(VLOOKUP(B388,IMPORTRANGE(\"\"https://docs.google.com/spreadsheets/d/1bphtMaJ6lFh0VVWIgQh8ZCOchBZqvj0w5rveiNYcTnM/edit#gid=0\"\",\"\"RWA!F:BZ\"\"),48,0))\"),\"\")","v":""},{"$f":"IFERROR(__xludf.DUMMYFUNCTION(\"iferror(VLOOKUP(B388,IMPORTRANGE(\"\"https://docs.google.com/spreadsheets/d/1bphtMaJ6lFh0VVWIgQh8ZCOchBZqvj0w5rveiNYcTnM/edit#gid=0\"\",\"\"RWA!F:BZ\"\"),49,0))\"),\"\")","v":""},{"$f":"IFERROR(__xludf.DUMMYFUNCTION(\"iferror(VLOOKUP(B388,IMPORTRANGE(\"\"https://docs.google.com/spreadsheets/d/1bphtMaJ6lFh0VVWIgQh8ZCOchBZqvj0w5rveiNYcTnM/edit#gid=0\"\",\"\"RWA!F:BZ\"\"),53,0))\"),\"\")","v":""}]
[null,null,null,{"$f":"IFERROR(__xludf.DUMMYFUNCTION(\"iferror(VLOOKUP(B389,IMPORTRANGE(\"\"https://docs.google.com/spreadsheets/d/1bphtMaJ6lFh0VVWIgQh8ZCOchBZqvj0w5rveiNYcTnM/edit#gid=0\"\",\"\"RWA!F:BZ\"\"),44,0))\"),\"\")","v":""},{"$f":"IFERROR(__xludf.DUMMYFUNCTION(\"iferror(VLOOKUP(B389,IMPORTRANGE(\"\"https://docs.google.com/spreadsheets/d/1bphtMaJ6lFh0VVWIgQh8ZCOchBZqvj0w5rveiNYcTnM/edit#gid=0\"\",\"\"RWA!F:BZ\"\"),48,0))\"),\"\")","v":""},{"$f":"IFERROR(__xludf.DUMMYFUNCTION(\"iferror(VLOOKUP(B389,IMPORTRANGE(\"\"https://docs.google.com/spreadsheets/d/1bphtMaJ6lFh0VVWIgQh8ZCOchBZqvj0w5rveiNYcTnM/edit#gid=0\"\",\"\"RWA!F:BZ\"\"),49,0))\"),\"\")","v":""},{"$f":"IFERROR(__xludf.DUMMYFUNCTION(\"iferror(VLOOKUP(B389,IMPORTRANGE(\"\"https://docs.google.com/spreadsheets/d/1bphtMaJ6lFh0VVWIgQh8ZCOchBZqvj0w5rveiNYcTnM/edit#gid=0\"\",\"\"RWA!F:BZ\"\"),53,0))\"),\"\")","v":""}]
[null,null,null,{"$f":"IFERROR(__xludf.DUMMYFUNCTION(\"iferror(VLOOKUP(B390,IMPORTRANGE(\"\"https://docs.google.com/spreadsheets/d/1bphtMaJ6lFh0VVWIgQh8ZCOchBZqvj0w5rveiNYcTnM/edit#gid=0\"\",\"\"RWA!F:BZ\"\"),44,0))\"),\"\")","v":""},{"$f":"IFERROR(__xludf.DUMMYFUNCTION(\"iferror(VLOOKUP(B390,IMPORTRANGE(\"\"https://docs.google.com/spreadsheets/d/1bphtMaJ6lFh0VVWIgQh8ZCOchBZqvj0w5rveiNYcTnM/edit#gid=0\"\",\"\"RWA!F:BZ\"\"),48,0))\"),\"\")","v":""},{"$f":"IFERROR(__xludf.DUMMYFUNCTION(\"iferror(VLOOKUP(B390,IMPORTRANGE(\"\"https://docs.google.com/spreadsheets/d/1bphtMaJ6lFh0VVWIgQh8ZCOchBZqvj0w5rveiNYcTnM/edit#gid=0\"\",\"\"RWA!F:BZ\"\"),49,0))\"),\"\")","v":""},{"$f":"IFERROR(__xludf.DUMMYFUNCTION(\"iferror(VLOOKUP(B390,IMPORTRANGE(\"\"https://docs.google.com/spreadsheets/d/1bphtMaJ6lFh0VVWIgQh8ZCOchBZqvj0w5rveiNYcTnM/edit#gid=0\"\",\"\"RWA!F:BZ\"\"),53,0))\"),\"\")","v":""}]
[null,null,null,{"$f":"IFERROR(__xludf.DUMMYFUNCTION(\"iferror(VLOOKUP(B391,IMPORTRANGE(\"\"https://docs.google.com/spreadsheets/d/1bphtMaJ6lFh0VVWIgQh8ZCOchBZqvj0w5rveiNYcTnM/edit#gid=0\"\",\"\"RWA!F:BZ\"\"),44,0))\"),\"\")","v":""},{"$f":"IFERROR(__xludf.DUMMYFUNCTION(\"iferror(VLOOKUP(B391,IMPORTRANGE(\"\"https://docs.google.com/spreadsheets/d/1bphtMaJ6lFh0VVWIgQh8ZCOchBZqvj0w5rveiNYcTnM/edit#gid=0\"\",\"\"RWA!F:BZ\"\"),48,0))\"),\"\")","v":""},{"$f":"IFERROR(__xludf.DUMMYFUNCTION(\"iferror(VLOOKUP(B391,IMPORTRANGE(\"\"https://docs.google.com/spreadsheets/d/1bphtMaJ6lFh0VVWIgQh8ZCOchBZqvj0w5rveiNYcTnM/edit#gid=0\"\",\"\"RWA!F:BZ\"\"),49,0))\"),\"\")","v":""},{"$f":"IFERROR(__xludf.DUMMYFUNCTION(\"iferror(VLOOKUP(B391,IMPORTRANGE(\"\"https://docs.google.com/spreadsheets/d/1bphtMaJ6lFh0VVWIgQh8ZCOchBZqvj0w5rveiNYcTnM/edit#gid=0\"\",\"\"RWA!F:BZ\"\"),53,0))\"),\"\")","v":""}]
[null,null,null,{"$f":"IFERROR(__xludf.DUMMYFUNCTION(\"iferror(VLOOKUP(B392,IMPORTRANGE(\"\"https://docs.google.com/spreadsheets/d/1bphtMaJ6lFh0VVWIgQh8ZCOchBZqvj0w5rveiNYcTnM/edit#gid=0\"\",\"\"RWA!F:BZ\"\"),44,0))\"),\"\")","v":""},{"$f":"IFERROR(__xludf.DUMMYFUNCTION(\"iferror(VLOOKUP(B392,IMPORTRANGE(\"\"https://docs.google.com/spreadsheets/d/1bphtMaJ6lFh0VVWIgQh8ZCOchBZqvj0w5rveiNYcTnM/edit#gid=0\"\",\"\"RWA!F:BZ\"\"),48,0))\"),\"\")","v":""},{"$f":"IFERROR(__xludf.DUMMYFUNCTION(\"iferror(VLOOKUP(B392,IMPORTRANGE(\"\"https://docs.google.com/spreadsheets/d/1bphtMaJ6lFh0VVWIgQh8ZCOchBZqvj0w5rveiNYcTnM/edit#gid=0\"\",\"\"RWA!F:BZ\"\"),49,0))\"),\"\")","v":""},{"$f":"IFERROR(__xludf.DUMMYFUNCTION(\"iferror(VLOOKUP(B392,IMPORTRANGE(\"\"https://docs.google.com/spreadsheets/d/1bphtMaJ6lFh0VVWIgQh8ZCOchBZqvj0w5rveiNYcTnM/edit#gid=0\"\",\"\"RWA!F:BZ\"\"),53,0))\"),\"\")","v":""}]
[null,null,null,{"$f":"IFERROR(__xludf.DUMMYFUNCTION(\"iferror(VLOOKUP(B393,IMPORTRANGE(\"\"https://docs.google.com/spreadsheets/d/1bphtMaJ6lFh0VVWIgQh8ZCOchBZqvj0w5rveiNYcTnM/edit#gid=0\"\",\"\"RWA!F:BZ\"\"),44,0))\"),\"\")","v":""},{"$f":"IFERROR(__xludf.DUMMYFUNCTION(\"iferror(VLOOKUP(B393,IMPORTRANGE(\"\"https://docs.google.com/spreadsheets/d/1bphtMaJ6lFh0VVWIgQh8ZCOchBZqvj0w5rveiNYcTnM/edit#gid=0\"\",\"\"RWA!F:BZ\"\"),48,0))\"),\"\")","v":""},{"$f":"IFERROR(__xludf.DUMMYFUNCTION(\"iferror(VLOOKUP(B393,IMPORTRANGE(\"\"https://docs.google.com/spreadsheets/d/1bphtMaJ6lFh0VVWIgQh8ZCOchBZqvj0w5rveiNYcTnM/edit#gid=0\"\",\"\"RWA!F:BZ\"\"),49,0))\"),\"\")","v":""},{"$f":"IFERROR(__xludf.DUMMYFUNCTION(\"iferror(VLOOKUP(B393,IMPORTRANGE(\"\"https://docs.google.com/spreadsheets/d/1bphtMaJ6lFh0VVWIgQh8ZCOchBZqvj0w5rveiNYcTnM/edit#gid=0\"\",\"\"RWA!F:BZ\"\"),53,0))\"),\"\")","v":""}]
[null,null,null,{"$f":"IFERROR(__xludf.DUMMYFUNCTION(\"iferror(VLOOKUP(B394,IMPORTRANGE(\"\"https://docs.google.com/spreadsheets/d/1bphtMaJ6lFh0VVWIgQh8ZCOchBZqvj0w5rveiNYcTnM/edit#gid=0\"\",\"\"RWA!F:BZ\"\"),44,0))\"),\"\")","v":""},{"$f":"IFERROR(__xludf.DUMMYFUNCTION(\"iferror(VLOOKUP(B394,IMPORTRANGE(\"\"https://docs.google.com/spreadsheets/d/1bphtMaJ6lFh0VVWIgQh8ZCOchBZqvj0w5rveiNYcTnM/edit#gid=0\"\",\"\"RWA!F:BZ\"\"),48,0))\"),\"\")","v":""},{"$f":"IFERROR(__xludf.DUMMYFUNCTION(\"iferror(VLOOKUP(B394,IMPORTRANGE(\"\"https://docs.google.com/spreadsheets/d/1bphtMaJ6lFh0VVWIgQh8ZCOchBZqvj0w5rveiNYcTnM/edit#gid=0\"\",\"\"RWA!F:BZ\"\"),49,0))\"),\"\")","v":""},{"$f":"IFERROR(__xludf.DUMMYFUNCTION(\"iferror(VLOOKUP(B394,IMPORTRANGE(\"\"https://docs.google.com/spreadsheets/d/1bphtMaJ6lFh0VVWIgQh8ZCOchBZqvj0w5rveiNYcTnM/edit#gid=0\"\",\"\"RWA!F:BZ\"\"),53,0))\"),\"\")","v":""}]
[null,null,null,{"$f":"IFERROR(__xludf.DUMMYFUNCTION(\"iferror(VLOOKUP(B395,IMPORTRANGE(\"\"https://docs.google.com/spreadsheets/d/1bphtMaJ6lFh0VVWIgQh8ZCOchBZqvj0w5rveiNYcTnM/edit#gid=0\"\",\"\"RWA!F:BZ\"\"),44,0))\"),\"\")","v":""},{"$f":"IFERROR(__xludf.DUMMYFUNCTION(\"iferror(VLOOKUP(B395,IMPORTRANGE(\"\"https://docs.google.com/spreadsheets/d/1bphtMaJ6lFh0VVWIgQh8ZCOchBZqvj0w5rveiNYcTnM/edit#gid=0\"\",\"\"RWA!F:BZ\"\"),48,0))\"),\"\")","v":""},{"$f":"IFERROR(__xludf.DUMMYFUNCTION(\"iferror(VLOOKUP(B395,IMPORTRANGE(\"\"https://docs.google.com/spreadsheets/d/1bphtMaJ6lFh0VVWIgQh8ZCOchBZqvj0w5rveiNYcTnM/edit#gid=0\"\",\"\"RWA!F:BZ\"\"),49,0))\"),\"\")","v":""},{"$f":"IFERROR(__xludf.DUMMYFUNCTION(\"iferror(VLOOKUP(B395,IMPORTRANGE(\"\"https://docs.google.com/spreadsheets/d/1bphtMaJ6lFh0VVWIgQh8ZCOchBZqvj0w5rveiNYcTnM/edit#gid=0\"\",\"\"RWA!F:BZ\"\"),53,0))\"),\"\")","v":""}]
[null,null,null,{"$f":"IFERROR(__xludf.DUMMYFUNCTION(\"iferror(VLOOKUP(B396,IMPORTRANGE(\"\"https://docs.google.com/spreadsheets/d/1bphtMaJ6lFh0VVWIgQh8ZCOchBZqvj0w5rveiNYcTnM/edit#gid=0\"\",\"\"RWA!F:BZ\"\"),44,0))\"),\"\")","v":""},{"$f":"IFERROR(__xludf.DUMMYFUNCTION(\"iferror(VLOOKUP(B396,IMPORTRANGE(\"\"https://docs.google.com/spreadsheets/d/1bphtMaJ6lFh0VVWIgQh8ZCOchBZqvj0w5rveiNYcTnM/edit#gid=0\"\",\"\"RWA!F:BZ\"\"),48,0))\"),\"\")","v":""},{"$f":"IFERROR(__xludf.DUMMYFUNCTION(\"iferror(VLOOKUP(B396,IMPORTRANGE(\"\"https://docs.google.com/spreadsheets/d/1bphtMaJ6lFh0VVWIgQh8ZCOchBZqvj0w5rveiNYcTnM/edit#gid=0\"\",\"\"RWA!F:BZ\"\"),49,0))\"),\"\")","v":""},{"$f":"IFERROR(__xludf.DUMMYFUNCTION(\"iferror(VLOOKUP(B396,IMPORTRANGE(\"\"https://docs.google.com/spreadsheets/d/1bphtMaJ6lFh0VVWIgQh8ZCOchBZqvj0w5rveiNYcTnM/edit#gid=0\"\",\"\"RWA!F:BZ\"\"),53,0))\"),\"\")","v":""}]
[null,null,null,{"$f":"IFERROR(__xludf.DUMMYFUNCTION(\"iferror(VLOOKUP(B397,IMPORTRANGE(\"\"https://docs.google.com/spreadsheets/d/1bphtMaJ6lFh0VVWIgQh8ZCOchBZqvj0w5rveiNYcTnM/edit#gid=0\"\",\"\"RWA!F:BZ\"\"),44,0))\"),\"\")","v":""},{"$f":"IFERROR(__xludf.DUMMYFUNCTION(\"iferror(VLOOKUP(B397,IMPORTRANGE(\"\"https://docs.google.com/spreadsheets/d/1bphtMaJ6lFh0VVWIgQh8ZCOchBZqvj0w5rveiNYcTnM/edit#gid=0\"\",\"\"RWA!F:BZ\"\"),48,0))\"),\"\")","v":""},{"$f":"IFERROR(__xludf.DUMMYFUNCTION(\"iferror(VLOOKUP(B397,IMPORTRANGE(\"\"https://docs.google.com/spreadsheets/d/1bphtMaJ6lFh0VVWIgQh8ZCOchBZqvj0w5rveiNYcTnM/edit#gid=0\"\",\"\"RWA!F:BZ\"\"),49,0))\"),\"\")","v":""},{"$f":"IFERROR(__xludf.DUMMYFUNCTION(\"iferror(VLOOKUP(B397,IMPORTRANGE(\"\"https://docs.google.com/spreadsheets/d/1bphtMaJ6lFh0VVWIgQh8ZCOchBZqvj0w5rveiNYcTnM/edit#gid=0\"\",\"\"RWA!F:BZ\"\"),53,0))\"),\"\")","v":""}]
[null,null,null,{"$f":"IFERROR(__xludf.DUMMYFUNCTION(\"iferror(VLOOKUP(B398,IMPORTRANGE(\"\"https://docs.google.com/spreadsheets/d/1bphtMaJ6lFh0VVWIgQh8ZCOchBZqvj0w5rveiNYcTnM/edit#gid=0\"\",\"\"RWA!F:BZ\"\"),44,0))\"),\"\")","v":""},{"$f":"IFERROR(__xludf.DUMMYFUNCTION(\"iferror(VLOOKUP(B398,IMPORTRANGE(\"\"https://docs.google.com/spreadsheets/d/1bphtMaJ6lFh0VVWIgQh8ZCOchBZqvj0w5rveiNYcTnM/edit#gid=0\"\",\"\"RWA!F:BZ\"\"),48,0))\"),\"\")","v":""},{"$f":"IFERROR(__xludf.DUMMYFUNCTION(\"iferror(VLOOKUP(B398,IMPORTRANGE(\"\"https://docs.google.com/spreadsheets/d/1bphtMaJ6lFh0VVWIgQh8ZCOchBZqvj0w5rveiNYcTnM/edit#gid=0\"\",\"\"RWA!F:BZ\"\"),49,0))\"),\"\")","v":""},{"$f":"IFERROR(__xludf.DUMMYFUNCTION(\"iferror(VLOOKUP(B398,IMPORTRANGE(\"\"https://docs.google.com/spreadsheets/d/1bphtMaJ6lFh0VVWIgQh8ZCOchBZqvj0w5rveiNYcTnM/edit#gid=0\"\",\"\"RWA!F:BZ\"\"),53,0))\"),\"\")","v":""}]
[null,null,null,{"$f":"IFERROR(__xludf.DUMMYFUNCTION(\"iferror(VLOOKUP(B399,IMPORTRANGE(\"\"https://docs.google.com/spreadsheets/d/1bphtMaJ6lFh0VVWIgQh8ZCOchBZqvj0w5rveiNYcTnM/edit#gid=0\"\",\"\"RWA!F:BZ\"\"),44,0))\"),\"\")","v":""},{"$f":"IFERROR(__xludf.DUMMYFUNCTION(\"iferror(VLOOKUP(B399,IMPORTRANGE(\"\"https://docs.google.com/spreadsheets/d/1bphtMaJ6lFh0VVWIgQh8ZCOchBZqvj0w5rveiNYcTnM/edit#gid=0\"\",\"\"RWA!F:BZ\"\"),48,0))\"),\"\")","v":""},{"$f":"IFERROR(__xludf.DUMMYFUNCTION(\"iferror(VLOOKUP(B399,IMPORTRANGE(\"\"https://docs.google.com/spreadsheets/d/1bphtMaJ6lFh0VVWIgQh8ZCOchBZqvj0w5rveiNYcTnM/edit#gid=0\"\",\"\"RWA!F:BZ\"\"),49,0))\"),\"\")","v":""},{"$f":"IFERROR(__xludf.DUMMYFUNCTION(\"iferror(VLOOKUP(B399,IMPORTRANGE(\"\"https://docs.google.com/spreadsheets/d/1bphtMaJ6lFh0VVWIgQh8ZCOchBZqvj0w5rveiNYcTnM/edit#gid=0\"\",\"\"RWA!F:BZ\"\"),53,0))\"),\"\")","v":""}]
[null,null,null,{"$f":"IFERROR(__xludf.DUMMYFUNCTION(\"iferror(VLOOKUP(B400,IMPORTRANGE(\"\"https://docs.google.com/spreadsheets/d/1bphtMaJ6lFh0VVWIgQh8ZCOchBZqvj0w5rveiNYcTnM/edit#gid=0\"\",\"\"RWA!F:BZ\"\"),44,0))\"),\"\")","v":""},{"$f":"IFERROR(__xludf.DUMMYFUNCTION(\"iferror(VLOOKUP(B400,IMPORTRANGE(\"\"https://docs.google.com/spreadsheets/d/1bphtMaJ6lFh0VVWIgQh8ZCOchBZqvj0w5rveiNYcTnM/edit#gid=0\"\",\"\"RWA!F:BZ\"\"),48,0))\"),\"\")","v":""},{"$f":"IFERROR(__xludf.DUMMYFUNCTION(\"iferror(VLOOKUP(B400,IMPORTRANGE(\"\"https://docs.google.com/spreadsheets/d/1bphtMaJ6lFh0VVWIgQh8ZCOchBZqvj0w5rveiNYcTnM/edit#gid=0\"\",\"\"RWA!F:BZ\"\"),49,0))\"),\"\")","v":""},{"$f":"IFERROR(__xludf.DUMMYFUNCTION(\"iferror(VLOOKUP(B400,IMPORTRANGE(\"\"https://docs.google.com/spreadsheets/d/1bphtMaJ6lFh0VVWIgQh8ZCOchBZqvj0w5rveiNYcTnM/edit#gid=0\"\",\"\"RWA!F:BZ\"\"),53,0))\"),\"\")","v":""}]
[null,null,null,{"$f":"IFERROR(__xludf.DUMMYFUNCTION(\"iferror(VLOOKUP(B401,IMPORTRANGE(\"\"https://docs.google.com/spreadsheets/d/1bphtMaJ6lFh0VVWIgQh8ZCOchBZqvj0w5rveiNYcTnM/edit#gid=0\"\",\"\"RWA!F:BZ\"\"),44,0))\"),\"\")","v":""},{"$f":"IFERROR(__xludf.DUMMYFUNCTION(\"iferror(VLOOKUP(B401,IMPORTRANGE(\"\"https://docs.google.com/spreadsheets/d/1bphtMaJ6lFh0VVWIgQh8ZCOchBZqvj0w5rveiNYcTnM/edit#gid=0\"\",\"\"RWA!F:BZ\"\"),48,0))\"),\"\")","v":""},{"$f":"IFERROR(__xludf.DUMMYFUNCTION(\"iferror(VLOOKUP(B401,IMPORTRANGE(\"\"https://docs.google.com/spreadsheets/d/1bphtMaJ6lFh0VVWIgQh8ZCOchBZqvj0w5rveiNYcTnM/edit#gid=0\"\",\"\"RWA!F:BZ\"\"),49,0))\"),\"\")","v":""},{"$f":"IFERROR(__xludf.DUMMYFUNCTION(\"iferror(VLOOKUP(B401,IMPORTRANGE(\"\"https://docs.google.com/spreadsheets/d/1bphtMaJ6lFh0VVWIgQh8ZCOchBZqvj0w5rveiNYcTnM/edit#gid=0\"\",\"\"RWA!F:BZ\"\"),53,0))\"),\"\")","v":""}]
[null,null,null,{"$f":"IFERROR(__xludf.DUMMYFUNCTION(\"iferror(VLOOKUP(B402,IMPORTRANGE(\"\"https://docs.google.com/spreadsheets/d/1bphtMaJ6lFh0VVWIgQh8ZCOchBZqvj0w5rveiNYcTnM/edit#gid=0\"\",\"\"RWA!F:BZ\"\"),44,0))\"),\"\")","v":""},{"$f":"IFERROR(__xludf.DUMMYFUNCTION(\"iferror(VLOOKUP(B402,IMPORTRANGE(\"\"https://docs.google.com/spreadsheets/d/1bphtMaJ6lFh0VVWIgQh8ZCOchBZqvj0w5rveiNYcTnM/edit#gid=0\"\",\"\"RWA!F:BZ\"\"),48,0))\"),\"\")","v":""},{"$f":"IFERROR(__xludf.DUMMYFUNCTION(\"iferror(VLOOKUP(B402,IMPORTRANGE(\"\"https://docs.google.com/spreadsheets/d/1bphtMaJ6lFh0VVWIgQh8ZCOchBZqvj0w5rveiNYcTnM/edit#gid=0\"\",\"\"RWA!F:BZ\"\"),49,0))\"),\"\")","v":""},{"$f":"IFERROR(__xludf.DUMMYFUNCTION(\"iferror(VLOOKUP(B402,IMPORTRANGE(\"\"https://docs.google.com/spreadsheets/d/1bphtMaJ6lFh0VVWIgQh8ZCOchBZqvj0w5rveiNYcTnM/edit#gid=0\"\",\"\"RWA!F:BZ\"\"),53,0))\"),\"\")","v":""}]
[null,null,null,{"$f":"IFERROR(__xludf.DUMMYFUNCTION(\"iferror(VLOOKUP(B403,IMPORTRANGE(\"\"https://docs.google.com/spreadsheets/d/1bphtMaJ6lFh0VVWIgQh8ZCOchBZqvj0w5rveiNYcTnM/edit#gid=0\"\",\"\"RWA!F:BZ\"\"),44,0))\"),\"\")","v":""},{"$f":"IFERROR(__xludf.DUMMYFUNCTION(\"iferror(VLOOKUP(B403,IMPORTRANGE(\"\"https://docs.google.com/spreadsheets/d/1bphtMaJ6lFh0VVWIgQh8ZCOchBZqvj0w5rveiNYcTnM/edit#gid=0\"\",\"\"RWA!F:BZ\"\"),48,0))\"),\"\")","v":""},{"$f":"IFERROR(__xludf.DUMMYFUNCTION(\"iferror(VLOOKUP(B403,IMPORTRANGE(\"\"https://docs.google.com/spreadsheets/d/1bphtMaJ6lFh0VVWIgQh8ZCOchBZqvj0w5rveiNYcTnM/edit#gid=0\"\",\"\"RWA!F:BZ\"\"),49,0))\"),\"\")","v":""},{"$f":"IFERROR(__xludf.DUMMYFUNCTION(\"iferror(VLOOKUP(B403,IMPORTRANGE(\"\"https://docs.google.com/spreadsheets/d/1bphtMaJ6lFh0VVWIgQh8ZCOchBZqvj0w5rveiNYcTnM/edit#gid=0\"\",\"\"RWA!F:BZ\"\"),53,0))\"),\"\")","v":""}]
[null,null,null,{"$f":"IFERROR(__xludf.DUMMYFUNCTION(\"iferror(VLOOKUP(B404,IMPORTRANGE(\"\"https://docs.google.com/spreadsheets/d/1bphtMaJ6lFh0VVWIgQh8ZCOchBZqvj0w5rveiNYcTnM/edit#gid=0\"\",\"\"RWA!F:BZ\"\"),44,0))\"),\"\")","v":""},{"$f":"IFERROR(__xludf.DUMMYFUNCTION(\"iferror(VLOOKUP(B404,IMPORTRANGE(\"\"https://docs.google.com/spreadsheets/d/1bphtMaJ6lFh0VVWIgQh8ZCOchBZqvj0w5rveiNYcTnM/edit#gid=0\"\",\"\"RWA!F:BZ\"\"),48,0))\"),\"\")","v":""},{"$f":"IFERROR(__xludf.DUMMYFUNCTION(\"iferror(VLOOKUP(B404,IMPORTRANGE(\"\"https://docs.google.com/spreadsheets/d/1bphtMaJ6lFh0VVWIgQh8ZCOchBZqvj0w5rveiNYcTnM/edit#gid=0\"\",\"\"RWA!F:BZ\"\"),49,0))\"),\"\")","v":""},{"$f":"IFERROR(__xludf.DUMMYFUNCTION(\"iferror(VLOOKUP(B404,IMPORTRANGE(\"\"https://docs.google.com/spreadsheets/d/1bphtMaJ6lFh0VVWIgQh8ZCOchBZqvj0w5rveiNYcTnM/edit#gid=0\"\",\"\"RWA!F:BZ\"\"),53,0))\"),\"\")","v":""}]
[null,null,null,{"$f":"IFERROR(__xludf.DUMMYFUNCTION(\"iferror(VLOOKUP(B405,IMPORTRANGE(\"\"https://docs.google.com/spreadsheets/d/1bphtMaJ6lFh0VVWIgQh8ZCOchBZqvj0w5rveiNYcTnM/edit#gid=0\"\",\"\"RWA!F:BZ\"\"),44,0))\"),\"\")","v":""},{"$f":"IFERROR(__xludf.DUMMYFUNCTION(\"iferror(VLOOKUP(B405,IMPORTRANGE(\"\"https://docs.google.com/spreadsheets/d/1bphtMaJ6lFh0VVWIgQh8ZCOchBZqvj0w5rveiNYcTnM/edit#gid=0\"\",\"\"RWA!F:BZ\"\"),48,0))\"),\"\")","v":""},{"$f":"IFERROR(__xludf.DUMMYFUNCTION(\"iferror(VLOOKUP(B405,IMPORTRANGE(\"\"https://docs.google.com/spreadsheets/d/1bphtMaJ6lFh0VVWIgQh8ZCOchBZqvj0w5rveiNYcTnM/edit#gid=0\"\",\"\"RWA!F:BZ\"\"),49,0))\"),\"\")","v":""},{"$f":"IFERROR(__xludf.DUMMYFUNCTION(\"iferror(VLOOKUP(B405,IMPORTRANGE(\"\"https://docs.google.com/spreadsheets/d/1bphtMaJ6lFh0VVWIgQh8ZCOchBZqvj0w5rveiNYcTnM/edit#gid=0\"\",\"\"RWA!F:BZ\"\"),53,0))\"),\"\")","v":""}]
[null,null,null,{"$f":"IFERROR(__xludf.DUMMYFUNCTION(\"iferror(VLOOKUP(B406,IMPORTRANGE(\"\"https://docs.google.com/spreadsheets/d/1bphtMaJ6lFh0VVWIgQh8ZCOchBZqvj0w5rveiNYcTnM/edit#gid=0\"\",\"\"RWA!F:BZ\"\"),44,0))\"),\"\")","v":""},{"$f":"IFERROR(__xludf.DUMMYFUNCTION(\"iferror(VLOOKUP(B406,IMPORTRANGE(\"\"https://docs.google.com/spreadsheets/d/1bphtMaJ6lFh0VVWIgQh8ZCOchBZqvj0w5rveiNYcTnM/edit#gid=0\"\",\"\"RWA!F:BZ\"\"),48,0))\"),\"\")","v":""},{"$f":"IFERROR(__xludf.DUMMYFUNCTION(\"iferror(VLOOKUP(B406,IMPORTRANGE(\"\"https://docs.google.com/spreadsheets/d/1bphtMaJ6lFh0VVWIgQh8ZCOchBZqvj0w5rveiNYcTnM/edit#gid=0\"\",\"\"RWA!F:BZ\"\"),49,0))\"),\"\")","v":""},{"$f":"IFERROR(__xludf.DUMMYFUNCTION(\"iferror(VLOOKUP(B406,IMPORTRANGE(\"\"https://docs.google.com/spreadsheets/d/1bphtMaJ6lFh0VVWIgQh8ZCOchBZqvj0w5rveiNYcTnM/edit#gid=0\"\",\"\"RWA!F:BZ\"\"),53,0))\"),\"\")","v":""}]
[null,null,null,{"$f":"IFERROR(__xludf.DUMMYFUNCTION(\"iferror(VLOOKUP(B407,IMPORTRANGE(\"\"https://docs.google.com/spreadsheets/d/1bphtMaJ6lFh0VVWIgQh8ZCOchBZqvj0w5rveiNYcTnM/edit#gid=0\"\",\"\"RWA!F:BZ\"\"),44,0))\"),\"\")","v":""},{"$f":"IFERROR(__xludf.DUMMYFUNCTION(\"iferror(VLOOKUP(B407,IMPORTRANGE(\"\"https://docs.google.com/spreadsheets/d/1bphtMaJ6lFh0VVWIgQh8ZCOchBZqvj0w5rveiNYcTnM/edit#gid=0\"\",\"\"RWA!F:BZ\"\"),48,0))\"),\"\")","v":""},{"$f":"IFERROR(__xludf.DUMMYFUNCTION(\"iferror(VLOOKUP(B407,IMPORTRANGE(\"\"https://docs.google.com/spreadsheets/d/1bphtMaJ6lFh0VVWIgQh8ZCOchBZqvj0w5rveiNYcTnM/edit#gid=0\"\",\"\"RWA!F:BZ\"\"),49,0))\"),\"\")","v":""},{"$f":"IFERROR(__xludf.DUMMYFUNCTION(\"iferror(VLOOKUP(B407,IMPORTRANGE(\"\"https://docs.google.com/spreadsheets/d/1bphtMaJ6lFh0VVWIgQh8ZCOchBZqvj0w5rveiNYcTnM/edit#gid=0\"\",\"\"RWA!F:BZ\"\"),53,0))\"),\"\")","v":""}]
[null,null,null,{"$f":"IFERROR(__xludf.DUMMYFUNCTION(\"iferror(VLOOKUP(B408,IMPORTRANGE(\"\"https://docs.google.com/spreadsheets/d/1bphtMaJ6lFh0VVWIgQh8ZCOchBZqvj0w5rveiNYcTnM/edit#gid=0\"\",\"\"RWA!F:BZ\"\"),44,0))\"),\"\")","v":""},{"$f":"IFERROR(__xludf.DUMMYFUNCTION(\"iferror(VLOOKUP(B408,IMPORTRANGE(\"\"https://docs.google.com/spreadsheets/d/1bphtMaJ6lFh0VVWIgQh8ZCOchBZqvj0w5rveiNYcTnM/edit#gid=0\"\",\"\"RWA!F:BZ\"\"),48,0))\"),\"\")","v":""},{"$f":"IFERROR(__xludf.DUMMYFUNCTION(\"iferror(VLOOKUP(B408,IMPORTRANGE(\"\"https://docs.google.com/spreadsheets/d/1bphtMaJ6lFh0VVWIgQh8ZCOchBZqvj0w5rveiNYcTnM/edit#gid=0\"\",\"\"RWA!F:BZ\"\"),49,0))\"),\"\")","v":""},{"$f":"IFERROR(__xludf.DUMMYFUNCTION(\"iferror(VLOOKUP(B408,IMPORTRANGE(\"\"https://docs.google.com/spreadsheets/d/1bphtMaJ6lFh0VVWIgQh8ZCOchBZqvj0w5rveiNYcTnM/edit#gid=0\"\",\"\"RWA!F:BZ\"\"),53,0))\"),\"\")","v":""}]
[null,null,null,{"$f":"IFERROR(__xludf.DUMMYFUNCTION(\"iferror(VLOOKUP(B409,IMPORTRANGE(\"\"https://docs.google.com/spreadsheets/d/1bphtMaJ6lFh0VVWIgQh8ZCOchBZqvj0w5rveiNYcTnM/edit#gid=0\"\",\"\"RWA!F:BZ\"\"),44,0))\"),\"\")","v":""},{"$f":"IFERROR(__xludf.DUMMYFUNCTION(\"iferror(VLOOKUP(B409,IMPORTRANGE(\"\"https://docs.google.com/spreadsheets/d/1bphtMaJ6lFh0VVWIgQh8ZCOchBZqvj0w5rveiNYcTnM/edit#gid=0\"\",\"\"RWA!F:BZ\"\"),48,0))\"),\"\")","v":""},{"$f":"IFERROR(__xludf.DUMMYFUNCTION(\"iferror(VLOOKUP(B409,IMPORTRANGE(\"\"https://docs.google.com/spreadsheets/d/1bphtMaJ6lFh0VVWIgQh8ZCOchBZqvj0w5rveiNYcTnM/edit#gid=0\"\",\"\"RWA!F:BZ\"\"),49,0))\"),\"\")","v":""},{"$f":"IFERROR(__xludf.DUMMYFUNCTION(\"iferror(VLOOKUP(B409,IMPORTRANGE(\"\"https://docs.google.com/spreadsheets/d/1bphtMaJ6lFh0VVWIgQh8ZCOchBZqvj0w5rveiNYcTnM/edit#gid=0\"\",\"\"RWA!F:BZ\"\"),53,0))\"),\"\")","v":""}]
[null,null,null,{"$f":"IFERROR(__xludf.DUMMYFUNCTION(\"iferror(VLOOKUP(B410,IMPORTRANGE(\"\"https://docs.google.com/spreadsheets/d/1bphtMaJ6lFh0VVWIgQh8ZCOchBZqvj0w5rveiNYcTnM/edit#gid=0\"\",\"\"RWA!F:BZ\"\"),44,0))\"),\"\")","v":""},{"$f":"IFERROR(__xludf.DUMMYFUNCTION(\"iferror(VLOOKUP(B410,IMPORTRANGE(\"\"https://docs.google.com/spreadsheets/d/1bphtMaJ6lFh0VVWIgQh8ZCOchBZqvj0w5rveiNYcTnM/edit#gid=0\"\",\"\"RWA!F:BZ\"\"),48,0))\"),\"\")","v":""},{"$f":"IFERROR(__xludf.DUMMYFUNCTION(\"iferror(VLOOKUP(B410,IMPORTRANGE(\"\"https://docs.google.com/spreadsheets/d/1bphtMaJ6lFh0VVWIgQh8ZCOchBZqvj0w5rveiNYcTnM/edit#gid=0\"\",\"\"RWA!F:BZ\"\"),49,0))\"),\"\")","v":""},{"$f":"IFERROR(__xludf.DUMMYFUNCTION(\"iferror(VLOOKUP(B410,IMPORTRANGE(\"\"https://docs.google.com/spreadsheets/d/1bphtMaJ6lFh0VVWIgQh8ZCOchBZqvj0w5rveiNYcTnM/edit#gid=0\"\",\"\"RWA!F:BZ\"\"),53,0))\"),\"\")","v":""}]
[null,null,null,{"$f":"IFERROR(__xludf.DUMMYFUNCTION(\"iferror(VLOOKUP(B411,IMPORTRANGE(\"\"https://docs.google.com/spreadsheets/d/1bphtMaJ6lFh0VVWIgQh8ZCOchBZqvj0w5rveiNYcTnM/edit#gid=0\"\",\"\"RWA!F:BZ\"\"),44,0))\"),\"\")","v":""},{"$f":"IFERROR(__xludf.DUMMYFUNCTION(\"iferror(VLOOKUP(B411,IMPORTRANGE(\"\"https://docs.google.com/spreadsheets/d/1bphtMaJ6lFh0VVWIgQh8ZCOchBZqvj0w5rveiNYcTnM/edit#gid=0\"\",\"\"RWA!F:BZ\"\"),48,0))\"),\"\")","v":""},{"$f":"IFERROR(__xludf.DUMMYFUNCTION(\"iferror(VLOOKUP(B411,IMPORTRANGE(\"\"https://docs.google.com/spreadsheets/d/1bphtMaJ6lFh0VVWIgQh8ZCOchBZqvj0w5rveiNYcTnM/edit#gid=0\"\",\"\"RWA!F:BZ\"\"),49,0))\"),\"\")","v":""},{"$f":"IFERROR(__xludf.DUMMYFUNCTION(\"iferror(VLOOKUP(B411,IMPORTRANGE(\"\"https://docs.google.com/spreadsheets/d/1bphtMaJ6lFh0VVWIgQh8ZCOchBZqvj0w5rveiNYcTnM/edit#gid=0\"\",\"\"RWA!F:BZ\"\"),53,0))\"),\"\")","v":""}]
[null,null,null,{"$f":"IFERROR(__xludf.DUMMYFUNCTION(\"iferror(VLOOKUP(B412,IMPORTRANGE(\"\"https://docs.google.com/spreadsheets/d/1bphtMaJ6lFh0VVWIgQh8ZCOchBZqvj0w5rveiNYcTnM/edit#gid=0\"\",\"\"RWA!F:BZ\"\"),44,0))\"),\"\")","v":""},{"$f":"IFERROR(__xludf.DUMMYFUNCTION(\"iferror(VLOOKUP(B412,IMPORTRANGE(\"\"https://docs.google.com/spreadsheets/d/1bphtMaJ6lFh0VVWIgQh8ZCOchBZqvj0w5rveiNYcTnM/edit#gid=0\"\",\"\"RWA!F:BZ\"\"),48,0))\"),\"\")","v":""},{"$f":"IFERROR(__xludf.DUMMYFUNCTION(\"iferror(VLOOKUP(B412,IMPORTRANGE(\"\"https://docs.google.com/spreadsheets/d/1bphtMaJ6lFh0VVWIgQh8ZCOchBZqvj0w5rveiNYcTnM/edit#gid=0\"\",\"\"RWA!F:BZ\"\"),49,0))\"),\"\")","v":""},{"$f":"IFERROR(__xludf.DUMMYFUNCTION(\"iferror(VLOOKUP(B412,IMPORTRANGE(\"\"https://docs.google.com/spreadsheets/d/1bphtMaJ6lFh0VVWIgQh8ZCOchBZqvj0w5rveiNYcTnM/edit#gid=0\"\",\"\"RWA!F:BZ\"\"),53,0))\"),\"\")","v":""}]
[null,null,null,{"$f":"IFERROR(__xludf.DUMMYFUNCTION(\"iferror(VLOOKUP(B413,IMPORTRANGE(\"\"https://docs.google.com/spreadsheets/d/1bphtMaJ6lFh0VVWIgQh8ZCOchBZqvj0w5rveiNYcTnM/edit#gid=0\"\",\"\"RWA!F:BZ\"\"),44,0))\"),\"\")","v":""},{"$f":"IFERROR(__xludf.DUMMYFUNCTION(\"iferror(VLOOKUP(B413,IMPORTRANGE(\"\"https://docs.google.com/spreadsheets/d/1bphtMaJ6lFh0VVWIgQh8ZCOchBZqvj0w5rveiNYcTnM/edit#gid=0\"\",\"\"RWA!F:BZ\"\"),48,0))\"),\"\")","v":""},{"$f":"IFERROR(__xludf.DUMMYFUNCTION(\"iferror(VLOOKUP(B413,IMPORTRANGE(\"\"https://docs.google.com/spreadsheets/d/1bphtMaJ6lFh0VVWIgQh8ZCOchBZqvj0w5rveiNYcTnM/edit#gid=0\"\",\"\"RWA!F:BZ\"\"),49,0))\"),\"\")","v":""},{"$f":"IFERROR(__xludf.DUMMYFUNCTION(\"iferror(VLOOKUP(B413,IMPORTRANGE(\"\"https://docs.google.com/spreadsheets/d/1bphtMaJ6lFh0VVWIgQh8ZCOchBZqvj0w5rveiNYcTnM/edit#gid=0\"\",\"\"RWA!F:BZ\"\"),53,0))\"),\"\")","v":""}]
[null,null,null,{"$f":"IFERROR(__xludf.DUMMYFUNCTION(\"iferror(VLOOKUP(B414,IMPORTRANGE(\"\"https://docs.google.com/spreadsheets/d/1bphtMaJ6lFh0VVWIgQh8ZCOchBZqvj0w5rveiNYcTnM/edit#gid=0\"\",\"\"RWA!F:BZ\"\"),44,0))\"),\"\")","v":""},{"$f":"IFERROR(__xludf.DUMMYFUNCTION(\"iferror(VLOOKUP(B414,IMPORTRANGE(\"\"https://docs.google.com/spreadsheets/d/1bphtMaJ6lFh0VVWIgQh8ZCOchBZqvj0w5rveiNYcTnM/edit#gid=0\"\",\"\"RWA!F:BZ\"\"),48,0))\"),\"\")","v":""},{"$f":"IFERROR(__xludf.DUMMYFUNCTION(\"iferror(VLOOKUP(B414,IMPORTRANGE(\"\"https://docs.google.com/spreadsheets/d/1bphtMaJ6lFh0VVWIgQh8ZCOchBZqvj0w5rveiNYcTnM/edit#gid=0\"\",\"\"RWA!F:BZ\"\"),49,0))\"),\"\")","v":""},{"$f":"IFERROR(__xludf.DUMMYFUNCTION(\"iferror(VLOOKUP(B414,IMPORTRANGE(\"\"https://docs.google.com/spreadsheets/d/1bphtMaJ6lFh0VVWIgQh8ZCOchBZqvj0w5rveiNYcTnM/edit#gid=0\"\",\"\"RWA!F:BZ\"\"),53,0))\"),\"\")","v":""}]
[null,null,null,{"$f":"IFERROR(__xludf.DUMMYFUNCTION(\"iferror(VLOOKUP(B415,IMPORTRANGE(\"\"https://docs.google.com/spreadsheets/d/1bphtMaJ6lFh0VVWIgQh8ZCOchBZqvj0w5rveiNYcTnM/edit#gid=0\"\",\"\"RWA!F:BZ\"\"),44,0))\"),\"\")","v":""},{"$f":"IFERROR(__xludf.DUMMYFUNCTION(\"iferror(VLOOKUP(B415,IMPORTRANGE(\"\"https://docs.google.com/spreadsheets/d/1bphtMaJ6lFh0VVWIgQh8ZCOchBZqvj0w5rveiNYcTnM/edit#gid=0\"\",\"\"RWA!F:BZ\"\"),48,0))\"),\"\")","v":""},{"$f":"IFERROR(__xludf.DUMMYFUNCTION(\"iferror(VLOOKUP(B415,IMPORTRANGE(\"\"https://docs.google.com/spreadsheets/d/1bphtMaJ6lFh0VVWIgQh8ZCOchBZqvj0w5rveiNYcTnM/edit#gid=0\"\",\"\"RWA!F:BZ\"\"),49,0))\"),\"\")","v":""},{"$f":"IFERROR(__xludf.DUMMYFUNCTION(\"iferror(VLOOKUP(B415,IMPORTRANGE(\"\"https://docs.google.com/spreadsheets/d/1bphtMaJ6lFh0VVWIgQh8ZCOchBZqvj0w5rveiNYcTnM/edit#gid=0\"\",\"\"RWA!F:BZ\"\"),53,0))\"),\"\")","v":""}]
[null,null,null,{"$f":"IFERROR(__xludf.DUMMYFUNCTION(\"iferror(VLOOKUP(B416,IMPORTRANGE(\"\"https://docs.google.com/spreadsheets/d/1bphtMaJ6lFh0VVWIgQh8ZCOchBZqvj0w5rveiNYcTnM/edit#gid=0\"\",\"\"RWA!F:BZ\"\"),44,0))\"),\"\")","v":""},{"$f":"IFERROR(__xludf.DUMMYFUNCTION(\"iferror(VLOOKUP(B416,IMPORTRANGE(\"\"https://docs.google.com/spreadsheets/d/1bphtMaJ6lFh0VVWIgQh8ZCOchBZqvj0w5rveiNYcTnM/edit#gid=0\"\",\"\"RWA!F:BZ\"\"),48,0))\"),\"\")","v":""},{"$f":"IFERROR(__xludf.DUMMYFUNCTION(\"iferror(VLOOKUP(B416,IMPORTRANGE(\"\"https://docs.google.com/spreadsheets/d/1bphtMaJ6lFh0VVWIgQh8ZCOchBZqvj0w5rveiNYcTnM/edit#gid=0\"\",\"\"RWA!F:BZ\"\"),49,0))\"),\"\")","v":""},{"$f":"IFERROR(__xludf.DUMMYFUNCTION(\"iferror(VLOOKUP(B416,IMPORTRANGE(\"\"https://docs.google.com/spreadsheets/d/1bphtMaJ6lFh0VVWIgQh8ZCOchBZqvj0w5rveiNYcTnM/edit#gid=0\"\",\"\"RWA!F:BZ\"\"),53,0))\"),\"\")","v":""}]
[null,null,null,{"$f":"IFERROR(__xludf.DUMMYFUNCTION(\"iferror(VLOOKUP(B417,IMPORTRANGE(\"\"https://docs.google.com/spreadsheets/d/1bphtMaJ6lFh0VVWIgQh8ZCOchBZqvj0w5rveiNYcTnM/edit#gid=0\"\",\"\"RWA!F:BZ\"\"),44,0))\"),\"\")","v":""},{"$f":"IFERROR(__xludf.DUMMYFUNCTION(\"iferror(VLOOKUP(B417,IMPORTRANGE(\"\"https://docs.google.com/spreadsheets/d/1bphtMaJ6lFh0VVWIgQh8ZCOchBZqvj0w5rveiNYcTnM/edit#gid=0\"\",\"\"RWA!F:BZ\"\"),48,0))\"),\"\")","v":""},{"$f":"IFERROR(__xludf.DUMMYFUNCTION(\"iferror(VLOOKUP(B417,IMPORTRANGE(\"\"https://docs.google.com/spreadsheets/d/1bphtMaJ6lFh0VVWIgQh8ZCOchBZqvj0w5rveiNYcTnM/edit#gid=0\"\",\"\"RWA!F:BZ\"\"),49,0))\"),\"\")","v":""},{"$f":"IFERROR(__xludf.DUMMYFUNCTION(\"iferror(VLOOKUP(B417,IMPORTRANGE(\"\"https://docs.google.com/spreadsheets/d/1bphtMaJ6lFh0VVWIgQh8ZCOchBZqvj0w5rveiNYcTnM/edit#gid=0\"\",\"\"RWA!F:BZ\"\"),53,0))\"),\"\")","v":""}]
[null,null,null,{"$f":"IFERROR(__xludf.DUMMYFUNCTION(\"iferror(VLOOKUP(B418,IMPORTRANGE(\"\"https://docs.google.com/spreadsheets/d/1bphtMaJ6lFh0VVWIgQh8ZCOchBZqvj0w5rveiNYcTnM/edit#gid=0\"\",\"\"RWA!F:BZ\"\"),44,0))\"),\"\")","v":""},{"$f":"IFERROR(__xludf.DUMMYFUNCTION(\"iferror(VLOOKUP(B418,IMPORTRANGE(\"\"https://docs.google.com/spreadsheets/d/1bphtMaJ6lFh0VVWIgQh8ZCOchBZqvj0w5rveiNYcTnM/edit#gid=0\"\",\"\"RWA!F:BZ\"\"),48,0))\"),\"\")","v":""},{"$f":"IFERROR(__xludf.DUMMYFUNCTION(\"iferror(VLOOKUP(B418,IMPORTRANGE(\"\"https://docs.google.com/spreadsheets/d/1bphtMaJ6lFh0VVWIgQh8ZCOchBZqvj0w5rveiNYcTnM/edit#gid=0\"\",\"\"RWA!F:BZ\"\"),49,0))\"),\"\")","v":""},{"$f":"IFERROR(__xludf.DUMMYFUNCTION(\"iferror(VLOOKUP(B418,IMPORTRANGE(\"\"https://docs.google.com/spreadsheets/d/1bphtMaJ6lFh0VVWIgQh8ZCOchBZqvj0w5rveiNYcTnM/edit#gid=0\"\",\"\"RWA!F:BZ\"\"),53,0))\"),\"\")","v":""}]
[null,null,null,{"$f":"IFERROR(__xludf.DUMMYFUNCTION(\"iferror(VLOOKUP(B419,IMPORTRANGE(\"\"https://docs.google.com/spreadsheets/d/1bphtMaJ6lFh0VVWIgQh8ZCOchBZqvj0w5rveiNYcTnM/edit#gid=0\"\",\"\"RWA!F:BZ\"\"),44,0))\"),\"\")","v":""},{"$f":"IFERROR(__xludf.DUMMYFUNCTION(\"iferror(VLOOKUP(B419,IMPORTRANGE(\"\"https://docs.google.com/spreadsheets/d/1bphtMaJ6lFh0VVWIgQh8ZCOchBZqvj0w5rveiNYcTnM/edit#gid=0\"\",\"\"RWA!F:BZ\"\"),48,0))\"),\"\")","v":""},{"$f":"IFERROR(__xludf.DUMMYFUNCTION(\"iferror(VLOOKUP(B419,IMPORTRANGE(\"\"https://docs.google.com/spreadsheets/d/1bphtMaJ6lFh0VVWIgQh8ZCOchBZqvj0w5rveiNYcTnM/edit#gid=0\"\",\"\"RWA!F:BZ\"\"),49,0))\"),\"\")","v":""},{"$f":"IFERROR(__xludf.DUMMYFUNCTION(\"iferror(VLOOKUP(B419,IMPORTRANGE(\"\"https://docs.google.com/spreadsheets/d/1bphtMaJ6lFh0VVWIgQh8ZCOchBZqvj0w5rveiNYcTnM/edit#gid=0\"\",\"\"RWA!F:BZ\"\"),53,0))\"),\"\")","v":""}]
[null,null,null,{"$f":"IFERROR(__xludf.DUMMYFUNCTION(\"iferror(VLOOKUP(B420,IMPORTRANGE(\"\"https://docs.google.com/spreadsheets/d/1bphtMaJ6lFh0VVWIgQh8ZCOchBZqvj0w5rveiNYcTnM/edit#gid=0\"\",\"\"RWA!F:BZ\"\"),44,0))\"),\"\")","v":""},{"$f":"IFERROR(__xludf.DUMMYFUNCTION(\"iferror(VLOOKUP(B420,IMPORTRANGE(\"\"https://docs.google.com/spreadsheets/d/1bphtMaJ6lFh0VVWIgQh8ZCOchBZqvj0w5rveiNYcTnM/edit#gid=0\"\",\"\"RWA!F:BZ\"\"),48,0))\"),\"\")","v":""},{"$f":"IFERROR(__xludf.DUMMYFUNCTION(\"iferror(VLOOKUP(B420,IMPORTRANGE(\"\"https://docs.google.com/spreadsheets/d/1bphtMaJ6lFh0VVWIgQh8ZCOchBZqvj0w5rveiNYcTnM/edit#gid=0\"\",\"\"RWA!F:BZ\"\"),49,0))\"),\"\")","v":""},{"$f":"IFERROR(__xludf.DUMMYFUNCTION(\"iferror(VLOOKUP(B420,IMPORTRANGE(\"\"https://docs.google.com/spreadsheets/d/1bphtMaJ6lFh0VVWIgQh8ZCOchBZqvj0w5rveiNYcTnM/edit#gid=0\"\",\"\"RWA!F:BZ\"\"),53,0))\"),\"\")","v":""}]
[null,null,null,{"$f":"IFERROR(__xludf.DUMMYFUNCTION(\"iferror(VLOOKUP(B421,IMPORTRANGE(\"\"https://docs.google.com/spreadsheets/d/1bphtMaJ6lFh0VVWIgQh8ZCOchBZqvj0w5rveiNYcTnM/edit#gid=0\"\",\"\"RWA!F:BZ\"\"),44,0))\"),\"\")","v":""},{"$f":"IFERROR(__xludf.DUMMYFUNCTION(\"iferror(VLOOKUP(B421,IMPORTRANGE(\"\"https://docs.google.com/spreadsheets/d/1bphtMaJ6lFh0VVWIgQh8ZCOchBZqvj0w5rveiNYcTnM/edit#gid=0\"\",\"\"RWA!F:BZ\"\"),48,0))\"),\"\")","v":""},{"$f":"IFERROR(__xludf.DUMMYFUNCTION(\"iferror(VLOOKUP(B421,IMPORTRANGE(\"\"https://docs.google.com/spreadsheets/d/1bphtMaJ6lFh0VVWIgQh8ZCOchBZqvj0w5rveiNYcTnM/edit#gid=0\"\",\"\"RWA!F:BZ\"\"),49,0))\"),\"\")","v":""},{"$f":"IFERROR(__xludf.DUMMYFUNCTION(\"iferror(VLOOKUP(B421,IMPORTRANGE(\"\"https://docs.google.com/spreadsheets/d/1bphtMaJ6lFh0VVWIgQh8ZCOchBZqvj0w5rveiNYcTnM/edit#gid=0\"\",\"\"RWA!F:BZ\"\"),53,0))\"),\"\")","v":""}]
[null,null,null,{"$f":"IFERROR(__xludf.DUMMYFUNCTION(\"iferror(VLOOKUP(B422,IMPORTRANGE(\"\"https://docs.google.com/spreadsheets/d/1bphtMaJ6lFh0VVWIgQh8ZCOchBZqvj0w5rveiNYcTnM/edit#gid=0\"\",\"\"RWA!F:BZ\"\"),44,0))\"),\"\")","v":""},{"$f":"IFERROR(__xludf.DUMMYFUNCTION(\"iferror(VLOOKUP(B422,IMPORTRANGE(\"\"https://docs.google.com/spreadsheets/d/1bphtMaJ6lFh0VVWIgQh8ZCOchBZqvj0w5rveiNYcTnM/edit#gid=0\"\",\"\"RWA!F:BZ\"\"),48,0))\"),\"\")","v":""},{"$f":"IFERROR(__xludf.DUMMYFUNCTION(\"iferror(VLOOKUP(B422,IMPORTRANGE(\"\"https://docs.google.com/spreadsheets/d/1bphtMaJ6lFh0VVWIgQh8ZCOchBZqvj0w5rveiNYcTnM/edit#gid=0\"\",\"\"RWA!F:BZ\"\"),49,0))\"),\"\")","v":""},{"$f":"IFERROR(__xludf.DUMMYFUNCTION(\"iferror(VLOOKUP(B422,IMPORTRANGE(\"\"https://docs.google.com/spreadsheets/d/1bphtMaJ6lFh0VVWIgQh8ZCOchBZqvj0w5rveiNYcTnM/edit#gid=0\"\",\"\"RWA!F:BZ\"\"),53,0))\"),\"\")","v":""}]
[null,null,null,{"$f":"IFERROR(__xludf.DUMMYFUNCTION(\"iferror(VLOOKUP(B423,IMPORTRANGE(\"\"https://docs.google.com/spreadsheets/d/1bphtMaJ6lFh0VVWIgQh8ZCOchBZqvj0w5rveiNYcTnM/edit#gid=0\"\",\"\"RWA!F:BZ\"\"),44,0))\"),\"\")","v":""},{"$f":"IFERROR(__xludf.DUMMYFUNCTION(\"iferror(VLOOKUP(B423,IMPORTRANGE(\"\"https://docs.google.com/spreadsheets/d/1bphtMaJ6lFh0VVWIgQh8ZCOchBZqvj0w5rveiNYcTnM/edit#gid=0\"\",\"\"RWA!F:BZ\"\"),48,0))\"),\"\")","v":""},{"$f":"IFERROR(__xludf.DUMMYFUNCTION(\"iferror(VLOOKUP(B423,IMPORTRANGE(\"\"https://docs.google.com/spreadsheets/d/1bphtMaJ6lFh0VVWIgQh8ZCOchBZqvj0w5rveiNYcTnM/edit#gid=0\"\",\"\"RWA!F:BZ\"\"),49,0))\"),\"\")","v":""},{"$f":"IFERROR(__xludf.DUMMYFUNCTION(\"iferror(VLOOKUP(B423,IMPORTRANGE(\"\"https://docs.google.com/spreadsheets/d/1bphtMaJ6lFh0VVWIgQh8ZCOchBZqvj0w5rveiNYcTnM/edit#gid=0\"\",\"\"RWA!F:BZ\"\"),53,0))\"),\"\")","v":""}]
[null,null,null,{"$f":"IFERROR(__xludf.DUMMYFUNCTION(\"iferror(VLOOKUP(B424,IMPORTRANGE(\"\"https://docs.google.com/spreadsheets/d/1bphtMaJ6lFh0VVWIgQh8ZCOchBZqvj0w5rveiNYcTnM/edit#gid=0\"\",\"\"RWA!F:BZ\"\"),44,0))\"),\"\")","v":""},{"$f":"IFERROR(__xludf.DUMMYFUNCTION(\"iferror(VLOOKUP(B424,IMPORTRANGE(\"\"https://docs.google.com/spreadsheets/d/1bphtMaJ6lFh0VVWIgQh8ZCOchBZqvj0w5rveiNYcTnM/edit#gid=0\"\",\"\"RWA!F:BZ\"\"),48,0))\"),\"\")","v":""},{"$f":"IFERROR(__xludf.DUMMYFUNCTION(\"iferror(VLOOKUP(B424,IMPORTRANGE(\"\"https://docs.google.com/spreadsheets/d/1bphtMaJ6lFh0VVWIgQh8ZCOchBZqvj0w5rveiNYcTnM/edit#gid=0\"\",\"\"RWA!F:BZ\"\"),49,0))\"),\"\")","v":""},{"$f":"IFERROR(__xludf.DUMMYFUNCTION(\"iferror(VLOOKUP(B424,IMPORTRANGE(\"\"https://docs.google.com/spreadsheets/d/1bphtMaJ6lFh0VVWIgQh8ZCOchBZqvj0w5rveiNYcTnM/edit#gid=0\"\",\"\"RWA!F:BZ\"\"),53,0))\"),\"\")","v":""}]
[null,null,null,{"$f":"IFERROR(__xludf.DUMMYFUNCTION(\"iferror(VLOOKUP(B425,IMPORTRANGE(\"\"https://docs.google.com/spreadsheets/d/1bphtMaJ6lFh0VVWIgQh8ZCOchBZqvj0w5rveiNYcTnM/edit#gid=0\"\",\"\"RWA!F:BZ\"\"),44,0))\"),\"\")","v":""},{"$f":"IFERROR(__xludf.DUMMYFUNCTION(\"iferror(VLOOKUP(B425,IMPORTRANGE(\"\"https://docs.google.com/spreadsheets/d/1bphtMaJ6lFh0VVWIgQh8ZCOchBZqvj0w5rveiNYcTnM/edit#gid=0\"\",\"\"RWA!F:BZ\"\"),48,0))\"),\"\")","v":""},{"$f":"IFERROR(__xludf.DUMMYFUNCTION(\"iferror(VLOOKUP(B425,IMPORTRANGE(\"\"https://docs.google.com/spreadsheets/d/1bphtMaJ6lFh0VVWIgQh8ZCOchBZqvj0w5rveiNYcTnM/edit#gid=0\"\",\"\"RWA!F:BZ\"\"),49,0))\"),\"\")","v":""},{"$f":"IFERROR(__xludf.DUMMYFUNCTION(\"iferror(VLOOKUP(B425,IMPORTRANGE(\"\"https://docs.google.com/spreadsheets/d/1bphtMaJ6lFh0VVWIgQh8ZCOchBZqvj0w5rveiNYcTnM/edit#gid=0\"\",\"\"RWA!F:BZ\"\"),53,0))\"),\"\")","v":""}]
[null,null,null,{"$f":"IFERROR(__xludf.DUMMYFUNCTION(\"iferror(VLOOKUP(B426,IMPORTRANGE(\"\"https://docs.google.com/spreadsheets/d/1bphtMaJ6lFh0VVWIgQh8ZCOchBZqvj0w5rveiNYcTnM/edit#gid=0\"\",\"\"RWA!F:BZ\"\"),44,0))\"),\"\")","v":""},{"$f":"IFERROR(__xludf.DUMMYFUNCTION(\"iferror(VLOOKUP(B426,IMPORTRANGE(\"\"https://docs.google.com/spreadsheets/d/1bphtMaJ6lFh0VVWIgQh8ZCOchBZqvj0w5rveiNYcTnM/edit#gid=0\"\",\"\"RWA!F:BZ\"\"),48,0))\"),\"\")","v":""},{"$f":"IFERROR(__xludf.DUMMYFUNCTION(\"iferror(VLOOKUP(B426,IMPORTRANGE(\"\"https://docs.google.com/spreadsheets/d/1bphtMaJ6lFh0VVWIgQh8ZCOchBZqvj0w5rveiNYcTnM/edit#gid=0\"\",\"\"RWA!F:BZ\"\"),49,0))\"),\"\")","v":""},{"$f":"IFERROR(__xludf.DUMMYFUNCTION(\"iferror(VLOOKUP(B426,IMPORTRANGE(\"\"https://docs.google.com/spreadsheets/d/1bphtMaJ6lFh0VVWIgQh8ZCOchBZqvj0w5rveiNYcTnM/edit#gid=0\"\",\"\"RWA!F:BZ\"\"),53,0))\"),\"\")","v":""}]
[null,null,null,{"$f":"IFERROR(__xludf.DUMMYFUNCTION(\"iferror(VLOOKUP(B427,IMPORTRANGE(\"\"https://docs.google.com/spreadsheets/d/1bphtMaJ6lFh0VVWIgQh8ZCOchBZqvj0w5rveiNYcTnM/edit#gid=0\"\",\"\"RWA!F:BZ\"\"),44,0))\"),\"\")","v":""},{"$f":"IFERROR(__xludf.DUMMYFUNCTION(\"iferror(VLOOKUP(B427,IMPORTRANGE(\"\"https://docs.google.com/spreadsheets/d/1bphtMaJ6lFh0VVWIgQh8ZCOchBZqvj0w5rveiNYcTnM/edit#gid=0\"\",\"\"RWA!F:BZ\"\"),48,0))\"),\"\")","v":""},{"$f":"IFERROR(__xludf.DUMMYFUNCTION(\"iferror(VLOOKUP(B427,IMPORTRANGE(\"\"https://docs.google.com/spreadsheets/d/1bphtMaJ6lFh0VVWIgQh8ZCOchBZqvj0w5rveiNYcTnM/edit#gid=0\"\",\"\"RWA!F:BZ\"\"),49,0))\"),\"\")","v":""},{"$f":"IFERROR(__xludf.DUMMYFUNCTION(\"iferror(VLOOKUP(B427,IMPORTRANGE(\"\"https://docs.google.com/spreadsheets/d/1bphtMaJ6lFh0VVWIgQh8ZCOchBZqvj0w5rveiNYcTnM/edit#gid=0\"\",\"\"RWA!F:BZ\"\"),53,0))\"),\"\")","v":""}]
[null,null,null,{"$f":"IFERROR(__xludf.DUMMYFUNCTION(\"iferror(VLOOKUP(B428,IMPORTRANGE(\"\"https://docs.google.com/spreadsheets/d/1bphtMaJ6lFh0VVWIgQh8ZCOchBZqvj0w5rveiNYcTnM/edit#gid=0\"\",\"\"RWA!F:BZ\"\"),44,0))\"),\"\")","v":""},{"$f":"IFERROR(__xludf.DUMMYFUNCTION(\"iferror(VLOOKUP(B428,IMPORTRANGE(\"\"https://docs.google.com/spreadsheets/d/1bphtMaJ6lFh0VVWIgQh8ZCOchBZqvj0w5rveiNYcTnM/edit#gid=0\"\",\"\"RWA!F:BZ\"\"),48,0))\"),\"\")","v":""},{"$f":"IFERROR(__xludf.DUMMYFUNCTION(\"iferror(VLOOKUP(B428,IMPORTRANGE(\"\"https://docs.google.com/spreadsheets/d/1bphtMaJ6lFh0VVWIgQh8ZCOchBZqvj0w5rveiNYcTnM/edit#gid=0\"\",\"\"RWA!F:BZ\"\"),49,0))\"),\"\")","v":""},{"$f":"IFERROR(__xludf.DUMMYFUNCTION(\"iferror(VLOOKUP(B428,IMPORTRANGE(\"\"https://docs.google.com/spreadsheets/d/1bphtMaJ6lFh0VVWIgQh8ZCOchBZqvj0w5rveiNYcTnM/edit#gid=0\"\",\"\"RWA!F:BZ\"\"),53,0))\"),\"\")","v":""}]
[null,null,null,{"$f":"IFERROR(__xludf.DUMMYFUNCTION(\"iferror(VLOOKUP(B429,IMPORTRANGE(\"\"https://docs.google.com/spreadsheets/d/1bphtMaJ6lFh0VVWIgQh8ZCOchBZqvj0w5rveiNYcTnM/edit#gid=0\"\",\"\"RWA!F:BZ\"\"),44,0))\"),\"\")","v":""},{"$f":"IFERROR(__xludf.DUMMYFUNCTION(\"iferror(VLOOKUP(B429,IMPORTRANGE(\"\"https://docs.google.com/spreadsheets/d/1bphtMaJ6lFh0VVWIgQh8ZCOchBZqvj0w5rveiNYcTnM/edit#gid=0\"\",\"\"RWA!F:BZ\"\"),48,0))\"),\"\")","v":""},{"$f":"IFERROR(__xludf.DUMMYFUNCTION(\"iferror(VLOOKUP(B429,IMPORTRANGE(\"\"https://docs.google.com/spreadsheets/d/1bphtMaJ6lFh0VVWIgQh8ZCOchBZqvj0w5rveiNYcTnM/edit#gid=0\"\",\"\"RWA!F:BZ\"\"),49,0))\"),\"\")","v":""},{"$f":"IFERROR(__xludf.DUMMYFUNCTION(\"iferror(VLOOKUP(B429,IMPORTRANGE(\"\"https://docs.google.com/spreadsheets/d/1bphtMaJ6lFh0VVWIgQh8ZCOchBZqvj0w5rveiNYcTnM/edit#gid=0\"\",\"\"RWA!F:BZ\"\"),53,0))\"),\"\")","v":""}]
[null,null,null,{"$f":"IFERROR(__xludf.DUMMYFUNCTION(\"iferror(VLOOKUP(B430,IMPORTRANGE(\"\"https://docs.google.com/spreadsheets/d/1bphtMaJ6lFh0VVWIgQh8ZCOchBZqvj0w5rveiNYcTnM/edit#gid=0\"\",\"\"RWA!F:BZ\"\"),44,0))\"),\"\")","v":""},{"$f":"IFERROR(__xludf.DUMMYFUNCTION(\"iferror(VLOOKUP(B430,IMPORTRANGE(\"\"https://docs.google.com/spreadsheets/d/1bphtMaJ6lFh0VVWIgQh8ZCOchBZqvj0w5rveiNYcTnM/edit#gid=0\"\",\"\"RWA!F:BZ\"\"),48,0))\"),\"\")","v":""},{"$f":"IFERROR(__xludf.DUMMYFUNCTION(\"iferror(VLOOKUP(B430,IMPORTRANGE(\"\"https://docs.google.com/spreadsheets/d/1bphtMaJ6lFh0VVWIgQh8ZCOchBZqvj0w5rveiNYcTnM/edit#gid=0\"\",\"\"RWA!F:BZ\"\"),49,0))\"),\"\")","v":""},{"$f":"IFERROR(__xludf.DUMMYFUNCTION(\"iferror(VLOOKUP(B430,IMPORTRANGE(\"\"https://docs.google.com/spreadsheets/d/1bphtMaJ6lFh0VVWIgQh8ZCOchBZqvj0w5rveiNYcTnM/edit#gid=0\"\",\"\"RWA!F:BZ\"\"),53,0))\"),\"\")","v":""}]
[null,null,null,{"$f":"IFERROR(__xludf.DUMMYFUNCTION(\"iferror(VLOOKUP(B431,IMPORTRANGE(\"\"https://docs.google.com/spreadsheets/d/1bphtMaJ6lFh0VVWIgQh8ZCOchBZqvj0w5rveiNYcTnM/edit#gid=0\"\",\"\"RWA!F:BZ\"\"),44,0))\"),\"\")","v":""},{"$f":"IFERROR(__xludf.DUMMYFUNCTION(\"iferror(VLOOKUP(B431,IMPORTRANGE(\"\"https://docs.google.com/spreadsheets/d/1bphtMaJ6lFh0VVWIgQh8ZCOchBZqvj0w5rveiNYcTnM/edit#gid=0\"\",\"\"RWA!F:BZ\"\"),48,0))\"),\"\")","v":""},{"$f":"IFERROR(__xludf.DUMMYFUNCTION(\"iferror(VLOOKUP(B431,IMPORTRANGE(\"\"https://docs.google.com/spreadsheets/d/1bphtMaJ6lFh0VVWIgQh8ZCOchBZqvj0w5rveiNYcTnM/edit#gid=0\"\",\"\"RWA!F:BZ\"\"),49,0))\"),\"\")","v":""},{"$f":"IFERROR(__xludf.DUMMYFUNCTION(\"iferror(VLOOKUP(B431,IMPORTRANGE(\"\"https://docs.google.com/spreadsheets/d/1bphtMaJ6lFh0VVWIgQh8ZCOchBZqvj0w5rveiNYcTnM/edit#gid=0\"\",\"\"RWA!F:BZ\"\"),53,0))\"),\"\")","v":""}]
[null,null,null,{"$f":"IFERROR(__xludf.DUMMYFUNCTION(\"iferror(VLOOKUP(B432,IMPORTRANGE(\"\"https://docs.google.com/spreadsheets/d/1bphtMaJ6lFh0VVWIgQh8ZCOchBZqvj0w5rveiNYcTnM/edit#gid=0\"\",\"\"RWA!F:BZ\"\"),44,0))\"),\"\")","v":""},{"$f":"IFERROR(__xludf.DUMMYFUNCTION(\"iferror(VLOOKUP(B432,IMPORTRANGE(\"\"https://docs.google.com/spreadsheets/d/1bphtMaJ6lFh0VVWIgQh8ZCOchBZqvj0w5rveiNYcTnM/edit#gid=0\"\",\"\"RWA!F:BZ\"\"),48,0))\"),\"\")","v":""},{"$f":"IFERROR(__xludf.DUMMYFUNCTION(\"iferror(VLOOKUP(B432,IMPORTRANGE(\"\"https://docs.google.com/spreadsheets/d/1bphtMaJ6lFh0VVWIgQh8ZCOchBZqvj0w5rveiNYcTnM/edit#gid=0\"\",\"\"RWA!F:BZ\"\"),49,0))\"),\"\")","v":""},{"$f":"IFERROR(__xludf.DUMMYFUNCTION(\"iferror(VLOOKUP(B432,IMPORTRANGE(\"\"https://docs.google.com/spreadsheets/d/1bphtMaJ6lFh0VVWIgQh8ZCOchBZqvj0w5rveiNYcTnM/edit#gid=0\"\",\"\"RWA!F:BZ\"\"),53,0))\"),\"\")","v":""}]
[null,null,null,{"$f":"IFERROR(__xludf.DUMMYFUNCTION(\"iferror(VLOOKUP(B433,IMPORTRANGE(\"\"https://docs.google.com/spreadsheets/d/1bphtMaJ6lFh0VVWIgQh8ZCOchBZqvj0w5rveiNYcTnM/edit#gid=0\"\",\"\"RWA!F:BZ\"\"),44,0))\"),\"\")","v":""},{"$f":"IFERROR(__xludf.DUMMYFUNCTION(\"iferror(VLOOKUP(B433,IMPORTRANGE(\"\"https://docs.google.com/spreadsheets/d/1bphtMaJ6lFh0VVWIgQh8ZCOchBZqvj0w5rveiNYcTnM/edit#gid=0\"\",\"\"RWA!F:BZ\"\"),48,0))\"),\"\")","v":""},{"$f":"IFERROR(__xludf.DUMMYFUNCTION(\"iferror(VLOOKUP(B433,IMPORTRANGE(\"\"https://docs.google.com/spreadsheets/d/1bphtMaJ6lFh0VVWIgQh8ZCOchBZqvj0w5rveiNYcTnM/edit#gid=0\"\",\"\"RWA!F:BZ\"\"),49,0))\"),\"\")","v":""},{"$f":"IFERROR(__xludf.DUMMYFUNCTION(\"iferror(VLOOKUP(B433,IMPORTRANGE(\"\"https://docs.google.com/spreadsheets/d/1bphtMaJ6lFh0VVWIgQh8ZCOchBZqvj0w5rveiNYcTnM/edit#gid=0\"\",\"\"RWA!F:BZ\"\"),53,0))\"),\"\")","v":""}]
[null,null,null,{"$f":"IFERROR(__xludf.DUMMYFUNCTION(\"iferror(VLOOKUP(B434,IMPORTRANGE(\"\"https://docs.google.com/spreadsheets/d/1bphtMaJ6lFh0VVWIgQh8ZCOchBZqvj0w5rveiNYcTnM/edit#gid=0\"\",\"\"RWA!F:BZ\"\"),44,0))\"),\"\")","v":""},{"$f":"IFERROR(__xludf.DUMMYFUNCTION(\"iferror(VLOOKUP(B434,IMPORTRANGE(\"\"https://docs.google.com/spreadsheets/d/1bphtMaJ6lFh0VVWIgQh8ZCOchBZqvj0w5rveiNYcTnM/edit#gid=0\"\",\"\"RWA!F:BZ\"\"),48,0))\"),\"\")","v":""},{"$f":"IFERROR(__xludf.DUMMYFUNCTION(\"iferror(VLOOKUP(B434,IMPORTRANGE(\"\"https://docs.google.com/spreadsheets/d/1bphtMaJ6lFh0VVWIgQh8ZCOchBZqvj0w5rveiNYcTnM/edit#gid=0\"\",\"\"RWA!F:BZ\"\"),49,0))\"),\"\")","v":""},{"$f":"IFERROR(__xludf.DUMMYFUNCTION(\"iferror(VLOOKUP(B434,IMPORTRANGE(\"\"https://docs.google.com/spreadsheets/d/1bphtMaJ6lFh0VVWIgQh8ZCOchBZqvj0w5rveiNYcTnM/edit#gid=0\"\",\"\"RWA!F:BZ\"\"),53,0))\"),\"\")","v":""}]
[null,null,null,{"$f":"IFERROR(__xludf.DUMMYFUNCTION(\"iferror(VLOOKUP(B435,IMPORTRANGE(\"\"https://docs.google.com/spreadsheets/d/1bphtMaJ6lFh0VVWIgQh8ZCOchBZqvj0w5rveiNYcTnM/edit#gid=0\"\",\"\"RWA!F:BZ\"\"),44,0))\"),\"\")","v":""},{"$f":"IFERROR(__xludf.DUMMYFUNCTION(\"iferror(VLOOKUP(B435,IMPORTRANGE(\"\"https://docs.google.com/spreadsheets/d/1bphtMaJ6lFh0VVWIgQh8ZCOchBZqvj0w5rveiNYcTnM/edit#gid=0\"\",\"\"RWA!F:BZ\"\"),48,0))\"),\"\")","v":""},{"$f":"IFERROR(__xludf.DUMMYFUNCTION(\"iferror(VLOOKUP(B435,IMPORTRANGE(\"\"https://docs.google.com/spreadsheets/d/1bphtMaJ6lFh0VVWIgQh8ZCOchBZqvj0w5rveiNYcTnM/edit#gid=0\"\",\"\"RWA!F:BZ\"\"),49,0))\"),\"\")","v":""},{"$f":"IFERROR(__xludf.DUMMYFUNCTION(\"iferror(VLOOKUP(B435,IMPORTRANGE(\"\"https://docs.google.com/spreadsheets/d/1bphtMaJ6lFh0VVWIgQh8ZCOchBZqvj0w5rveiNYcTnM/edit#gid=0\"\",\"\"RWA!F:BZ\"\"),53,0))\"),\"\")","v":""}]
[null,null,null,{"$f":"IFERROR(__xludf.DUMMYFUNCTION(\"iferror(VLOOKUP(B436,IMPORTRANGE(\"\"https://docs.google.com/spreadsheets/d/1bphtMaJ6lFh0VVWIgQh8ZCOchBZqvj0w5rveiNYcTnM/edit#gid=0\"\",\"\"RWA!F:BZ\"\"),44,0))\"),\"\")","v":""},{"$f":"IFERROR(__xludf.DUMMYFUNCTION(\"iferror(VLOOKUP(B436,IMPORTRANGE(\"\"https://docs.google.com/spreadsheets/d/1bphtMaJ6lFh0VVWIgQh8ZCOchBZqvj0w5rveiNYcTnM/edit#gid=0\"\",\"\"RWA!F:BZ\"\"),48,0))\"),\"\")","v":""},{"$f":"IFERROR(__xludf.DUMMYFUNCTION(\"iferror(VLOOKUP(B436,IMPORTRANGE(\"\"https://docs.google.com/spreadsheets/d/1bphtMaJ6lFh0VVWIgQh8ZCOchBZqvj0w5rveiNYcTnM/edit#gid=0\"\",\"\"RWA!F:BZ\"\"),49,0))\"),\"\")","v":""},{"$f":"IFERROR(__xludf.DUMMYFUNCTION(\"iferror(VLOOKUP(B436,IMPORTRANGE(\"\"https://docs.google.com/spreadsheets/d/1bphtMaJ6lFh0VVWIgQh8ZCOchBZqvj0w5rveiNYcTnM/edit#gid=0\"\",\"\"RWA!F:BZ\"\"),53,0))\"),\"\")","v":""}]
[null,null,null,{"$f":"IFERROR(__xludf.DUMMYFUNCTION(\"iferror(VLOOKUP(B437,IMPORTRANGE(\"\"https://docs.google.com/spreadsheets/d/1bphtMaJ6lFh0VVWIgQh8ZCOchBZqvj0w5rveiNYcTnM/edit#gid=0\"\",\"\"RWA!F:BZ\"\"),44,0))\"),\"\")","v":""},{"$f":"IFERROR(__xludf.DUMMYFUNCTION(\"iferror(VLOOKUP(B437,IMPORTRANGE(\"\"https://docs.google.com/spreadsheets/d/1bphtMaJ6lFh0VVWIgQh8ZCOchBZqvj0w5rveiNYcTnM/edit#gid=0\"\",\"\"RWA!F:BZ\"\"),48,0))\"),\"\")","v":""},{"$f":"IFERROR(__xludf.DUMMYFUNCTION(\"iferror(VLOOKUP(B437,IMPORTRANGE(\"\"https://docs.google.com/spreadsheets/d/1bphtMaJ6lFh0VVWIgQh8ZCOchBZqvj0w5rveiNYcTnM/edit#gid=0\"\",\"\"RWA!F:BZ\"\"),49,0))\"),\"\")","v":""},{"$f":"IFERROR(__xludf.DUMMYFUNCTION(\"iferror(VLOOKUP(B437,IMPORTRANGE(\"\"https://docs.google.com/spreadsheets/d/1bphtMaJ6lFh0VVWIgQh8ZCOchBZqvj0w5rveiNYcTnM/edit#gid=0\"\",\"\"RWA!F:BZ\"\"),53,0))\"),\"\")","v":""}]
[null,null,null,{"$f":"IFERROR(__xludf.DUMMYFUNCTION(\"iferror(VLOOKUP(B438,IMPORTRANGE(\"\"https://docs.google.com/spreadsheets/d/1bphtMaJ6lFh0VVWIgQh8ZCOchBZqvj0w5rveiNYcTnM/edit#gid=0\"\",\"\"RWA!F:BZ\"\"),44,0))\"),\"\")","v":""},{"$f":"IFERROR(__xludf.DUMMYFUNCTION(\"iferror(VLOOKUP(B438,IMPORTRANGE(\"\"https://docs.google.com/spreadsheets/d/1bphtMaJ6lFh0VVWIgQh8ZCOchBZqvj0w5rveiNYcTnM/edit#gid=0\"\",\"\"RWA!F:BZ\"\"),48,0))\"),\"\")","v":""},{"$f":"IFERROR(__xludf.DUMMYFUNCTION(\"iferror(VLOOKUP(B438,IMPORTRANGE(\"\"https://docs.google.com/spreadsheets/d/1bphtMaJ6lFh0VVWIgQh8ZCOchBZqvj0w5rveiNYcTnM/edit#gid=0\"\",\"\"RWA!F:BZ\"\"),49,0))\"),\"\")","v":""},{"$f":"IFERROR(__xludf.DUMMYFUNCTION(\"iferror(VLOOKUP(B438,IMPORTRANGE(\"\"https://docs.google.com/spreadsheets/d/1bphtMaJ6lFh0VVWIgQh8ZCOchBZqvj0w5rveiNYcTnM/edit#gid=0\"\",\"\"RWA!F:BZ\"\"),53,0))\"),\"\")","v":""}]
[null,null,null,{"$f":"IFERROR(__xludf.DUMMYFUNCTION(\"iferror(VLOOKUP(B439,IMPORTRANGE(\"\"https://docs.google.com/spreadsheets/d/1bphtMaJ6lFh0VVWIgQh8ZCOchBZqvj0w5rveiNYcTnM/edit#gid=0\"\",\"\"RWA!F:BZ\"\"),44,0))\"),\"\")","v":""},{"$f":"IFERROR(__xludf.DUMMYFUNCTION(\"iferror(VLOOKUP(B439,IMPORTRANGE(\"\"https://docs.google.com/spreadsheets/d/1bphtMaJ6lFh0VVWIgQh8ZCOchBZqvj0w5rveiNYcTnM/edit#gid=0\"\",\"\"RWA!F:BZ\"\"),48,0))\"),\"\")","v":""},{"$f":"IFERROR(__xludf.DUMMYFUNCTION(\"iferror(VLOOKUP(B439,IMPORTRANGE(\"\"https://docs.google.com/spreadsheets/d/1bphtMaJ6lFh0VVWIgQh8ZCOchBZqvj0w5rveiNYcTnM/edit#gid=0\"\",\"\"RWA!F:BZ\"\"),49,0))\"),\"\")","v":""},{"$f":"IFERROR(__xludf.DUMMYFUNCTION(\"iferror(VLOOKUP(B439,IMPORTRANGE(\"\"https://docs.google.com/spreadsheets/d/1bphtMaJ6lFh0VVWIgQh8ZCOchBZqvj0w5rveiNYcTnM/edit#gid=0\"\",\"\"RWA!F:BZ\"\"),53,0))\"),\"\")","v":""}]
[null,null,null,{"$f":"IFERROR(__xludf.DUMMYFUNCTION(\"iferror(VLOOKUP(B440,IMPORTRANGE(\"\"https://docs.google.com/spreadsheets/d/1bphtMaJ6lFh0VVWIgQh8ZCOchBZqvj0w5rveiNYcTnM/edit#gid=0\"\",\"\"RWA!F:BZ\"\"),44,0))\"),\"\")","v":""},{"$f":"IFERROR(__xludf.DUMMYFUNCTION(\"iferror(VLOOKUP(B440,IMPORTRANGE(\"\"https://docs.google.com/spreadsheets/d/1bphtMaJ6lFh0VVWIgQh8ZCOchBZqvj0w5rveiNYcTnM/edit#gid=0\"\",\"\"RWA!F:BZ\"\"),48,0))\"),\"\")","v":""},{"$f":"IFERROR(__xludf.DUMMYFUNCTION(\"iferror(VLOOKUP(B440,IMPORTRANGE(\"\"https://docs.google.com/spreadsheets/d/1bphtMaJ6lFh0VVWIgQh8ZCOchBZqvj0w5rveiNYcTnM/edit#gid=0\"\",\"\"RWA!F:BZ\"\"),49,0))\"),\"\")","v":""},{"$f":"IFERROR(__xludf.DUMMYFUNCTION(\"iferror(VLOOKUP(B440,IMPORTRANGE(\"\"https://docs.google.com/spreadsheets/d/1bphtMaJ6lFh0VVWIgQh8ZCOchBZqvj0w5rveiNYcTnM/edit#gid=0\"\",\"\"RWA!F:BZ\"\"),53,0))\"),\"\")","v":""}]
[null,null,null,{"$f":"IFERROR(__xludf.DUMMYFUNCTION(\"iferror(VLOOKUP(B441,IMPORTRANGE(\"\"https://docs.google.com/spreadsheets/d/1bphtMaJ6lFh0VVWIgQh8ZCOchBZqvj0w5rveiNYcTnM/edit#gid=0\"\",\"\"RWA!F:BZ\"\"),44,0))\"),\"\")","v":""},{"$f":"IFERROR(__xludf.DUMMYFUNCTION(\"iferror(VLOOKUP(B441,IMPORTRANGE(\"\"https://docs.google.com/spreadsheets/d/1bphtMaJ6lFh0VVWIgQh8ZCOchBZqvj0w5rveiNYcTnM/edit#gid=0\"\",\"\"RWA!F:BZ\"\"),48,0))\"),\"\")","v":""},{"$f":"IFERROR(__xludf.DUMMYFUNCTION(\"iferror(VLOOKUP(B441,IMPORTRANGE(\"\"https://docs.google.com/spreadsheets/d/1bphtMaJ6lFh0VVWIgQh8ZCOchBZqvj0w5rveiNYcTnM/edit#gid=0\"\",\"\"RWA!F:BZ\"\"),49,0))\"),\"\")","v":""},{"$f":"IFERROR(__xludf.DUMMYFUNCTION(\"iferror(VLOOKUP(B441,IMPORTRANGE(\"\"https://docs.google.com/spreadsheets/d/1bphtMaJ6lFh0VVWIgQh8ZCOchBZqvj0w5rveiNYcTnM/edit#gid=0\"\",\"\"RWA!F:BZ\"\"),53,0))\"),\"\")","v":""}]
[null,null,null,{"$f":"IFERROR(__xludf.DUMMYFUNCTION(\"iferror(VLOOKUP(B442,IMPORTRANGE(\"\"https://docs.google.com/spreadsheets/d/1bphtMaJ6lFh0VVWIgQh8ZCOchBZqvj0w5rveiNYcTnM/edit#gid=0\"\",\"\"RWA!F:BZ\"\"),44,0))\"),\"\")","v":""},{"$f":"IFERROR(__xludf.DUMMYFUNCTION(\"iferror(VLOOKUP(B442,IMPORTRANGE(\"\"https://docs.google.com/spreadsheets/d/1bphtMaJ6lFh0VVWIgQh8ZCOchBZqvj0w5rveiNYcTnM/edit#gid=0\"\",\"\"RWA!F:BZ\"\"),48,0))\"),\"\")","v":""},{"$f":"IFERROR(__xludf.DUMMYFUNCTION(\"iferror(VLOOKUP(B442,IMPORTRANGE(\"\"https://docs.google.com/spreadsheets/d/1bphtMaJ6lFh0VVWIgQh8ZCOchBZqvj0w5rveiNYcTnM/edit#gid=0\"\",\"\"RWA!F:BZ\"\"),49,0))\"),\"\")","v":""},{"$f":"IFERROR(__xludf.DUMMYFUNCTION(\"iferror(VLOOKUP(B442,IMPORTRANGE(\"\"https://docs.google.com/spreadsheets/d/1bphtMaJ6lFh0VVWIgQh8ZCOchBZqvj0w5rveiNYcTnM/edit#gid=0\"\",\"\"RWA!F:BZ\"\"),53,0))\"),\"\")","v":""}]
[null,null,null,{"$f":"IFERROR(__xludf.DUMMYFUNCTION(\"iferror(VLOOKUP(B443,IMPORTRANGE(\"\"https://docs.google.com/spreadsheets/d/1bphtMaJ6lFh0VVWIgQh8ZCOchBZqvj0w5rveiNYcTnM/edit#gid=0\"\",\"\"RWA!F:BZ\"\"),44,0))\"),\"\")","v":""},{"$f":"IFERROR(__xludf.DUMMYFUNCTION(\"iferror(VLOOKUP(B443,IMPORTRANGE(\"\"https://docs.google.com/spreadsheets/d/1bphtMaJ6lFh0VVWIgQh8ZCOchBZqvj0w5rveiNYcTnM/edit#gid=0\"\",\"\"RWA!F:BZ\"\"),48,0))\"),\"\")","v":""},{"$f":"IFERROR(__xludf.DUMMYFUNCTION(\"iferror(VLOOKUP(B443,IMPORTRANGE(\"\"https://docs.google.com/spreadsheets/d/1bphtMaJ6lFh0VVWIgQh8ZCOchBZqvj0w5rveiNYcTnM/edit#gid=0\"\",\"\"RWA!F:BZ\"\"),49,0))\"),\"\")","v":""},{"$f":"IFERROR(__xludf.DUMMYFUNCTION(\"iferror(VLOOKUP(B443,IMPORTRANGE(\"\"https://docs.google.com/spreadsheets/d/1bphtMaJ6lFh0VVWIgQh8ZCOchBZqvj0w5rveiNYcTnM/edit#gid=0\"\",\"\"RWA!F:BZ\"\"),53,0))\"),\"\")","v":""}]
[null,null,null,{"$f":"IFERROR(__xludf.DUMMYFUNCTION(\"iferror(VLOOKUP(B444,IMPORTRANGE(\"\"https://docs.google.com/spreadsheets/d/1bphtMaJ6lFh0VVWIgQh8ZCOchBZqvj0w5rveiNYcTnM/edit#gid=0\"\",\"\"RWA!F:BZ\"\"),44,0))\"),\"\")","v":""},{"$f":"IFERROR(__xludf.DUMMYFUNCTION(\"iferror(VLOOKUP(B444,IMPORTRANGE(\"\"https://docs.google.com/spreadsheets/d/1bphtMaJ6lFh0VVWIgQh8ZCOchBZqvj0w5rveiNYcTnM/edit#gid=0\"\",\"\"RWA!F:BZ\"\"),48,0))\"),\"\")","v":""},{"$f":"IFERROR(__xludf.DUMMYFUNCTION(\"iferror(VLOOKUP(B444,IMPORTRANGE(\"\"https://docs.google.com/spreadsheets/d/1bphtMaJ6lFh0VVWIgQh8ZCOchBZqvj0w5rveiNYcTnM/edit#gid=0\"\",\"\"RWA!F:BZ\"\"),49,0))\"),\"\")","v":""},{"$f":"IFERROR(__xludf.DUMMYFUNCTION(\"iferror(VLOOKUP(B444,IMPORTRANGE(\"\"https://docs.google.com/spreadsheets/d/1bphtMaJ6lFh0VVWIgQh8ZCOchBZqvj0w5rveiNYcTnM/edit#gid=0\"\",\"\"RWA!F:BZ\"\"),53,0))\"),\"\")","v":""}]
[null,null,null,{"$f":"IFERROR(__xludf.DUMMYFUNCTION(\"iferror(VLOOKUP(B445,IMPORTRANGE(\"\"https://docs.google.com/spreadsheets/d/1bphtMaJ6lFh0VVWIgQh8ZCOchBZqvj0w5rveiNYcTnM/edit#gid=0\"\",\"\"RWA!F:BZ\"\"),44,0))\"),\"\")","v":""},{"$f":"IFERROR(__xludf.DUMMYFUNCTION(\"iferror(VLOOKUP(B445,IMPORTRANGE(\"\"https://docs.google.com/spreadsheets/d/1bphtMaJ6lFh0VVWIgQh8ZCOchBZqvj0w5rveiNYcTnM/edit#gid=0\"\",\"\"RWA!F:BZ\"\"),48,0))\"),\"\")","v":""},{"$f":"IFERROR(__xludf.DUMMYFUNCTION(\"iferror(VLOOKUP(B445,IMPORTRANGE(\"\"https://docs.google.com/spreadsheets/d/1bphtMaJ6lFh0VVWIgQh8ZCOchBZqvj0w5rveiNYcTnM/edit#gid=0\"\",\"\"RWA!F:BZ\"\"),49,0))\"),\"\")","v":""},{"$f":"IFERROR(__xludf.DUMMYFUNCTION(\"iferror(VLOOKUP(B445,IMPORTRANGE(\"\"https://docs.google.com/spreadsheets/d/1bphtMaJ6lFh0VVWIgQh8ZCOchBZqvj0w5rveiNYcTnM/edit#gid=0\"\",\"\"RWA!F:BZ\"\"),53,0))\"),\"\")","v":""}]
[null,null,null,{"$f":"IFERROR(__xludf.DUMMYFUNCTION(\"iferror(VLOOKUP(B446,IMPORTRANGE(\"\"https://docs.google.com/spreadsheets/d/1bphtMaJ6lFh0VVWIgQh8ZCOchBZqvj0w5rveiNYcTnM/edit#gid=0\"\",\"\"RWA!F:BZ\"\"),44,0))\"),\"\")","v":""},{"$f":"IFERROR(__xludf.DUMMYFUNCTION(\"iferror(VLOOKUP(B446,IMPORTRANGE(\"\"https://docs.google.com/spreadsheets/d/1bphtMaJ6lFh0VVWIgQh8ZCOchBZqvj0w5rveiNYcTnM/edit#gid=0\"\",\"\"RWA!F:BZ\"\"),48,0))\"),\"\")","v":""},{"$f":"IFERROR(__xludf.DUMMYFUNCTION(\"iferror(VLOOKUP(B446,IMPORTRANGE(\"\"https://docs.google.com/spreadsheets/d/1bphtMaJ6lFh0VVWIgQh8ZCOchBZqvj0w5rveiNYcTnM/edit#gid=0\"\",\"\"RWA!F:BZ\"\"),49,0))\"),\"\")","v":""},{"$f":"IFERROR(__xludf.DUMMYFUNCTION(\"iferror(VLOOKUP(B446,IMPORTRANGE(\"\"https://docs.google.com/spreadsheets/d/1bphtMaJ6lFh0VVWIgQh8ZCOchBZqvj0w5rveiNYcTnM/edit#gid=0\"\",\"\"RWA!F:BZ\"\"),53,0))\"),\"\")","v":""}]
[null,null,null,{"$f":"IFERROR(__xludf.DUMMYFUNCTION(\"iferror(VLOOKUP(B447,IMPORTRANGE(\"\"https://docs.google.com/spreadsheets/d/1bphtMaJ6lFh0VVWIgQh8ZCOchBZqvj0w5rveiNYcTnM/edit#gid=0\"\",\"\"RWA!F:BZ\"\"),44,0))\"),\"\")","v":""},{"$f":"IFERROR(__xludf.DUMMYFUNCTION(\"iferror(VLOOKUP(B447,IMPORTRANGE(\"\"https://docs.google.com/spreadsheets/d/1bphtMaJ6lFh0VVWIgQh8ZCOchBZqvj0w5rveiNYcTnM/edit#gid=0\"\",\"\"RWA!F:BZ\"\"),48,0))\"),\"\")","v":""},{"$f":"IFERROR(__xludf.DUMMYFUNCTION(\"iferror(VLOOKUP(B447,IMPORTRANGE(\"\"https://docs.google.com/spreadsheets/d/1bphtMaJ6lFh0VVWIgQh8ZCOchBZqvj0w5rveiNYcTnM/edit#gid=0\"\",\"\"RWA!F:BZ\"\"),49,0))\"),\"\")","v":""},{"$f":"IFERROR(__xludf.DUMMYFUNCTION(\"iferror(VLOOKUP(B447,IMPORTRANGE(\"\"https://docs.google.com/spreadsheets/d/1bphtMaJ6lFh0VVWIgQh8ZCOchBZqvj0w5rveiNYcTnM/edit#gid=0\"\",\"\"RWA!F:BZ\"\"),53,0))\"),\"\")","v":""}]
[null,null,null,{"$f":"IFERROR(__xludf.DUMMYFUNCTION(\"iferror(VLOOKUP(B448,IMPORTRANGE(\"\"https://docs.google.com/spreadsheets/d/1bphtMaJ6lFh0VVWIgQh8ZCOchBZqvj0w5rveiNYcTnM/edit#gid=0\"\",\"\"RWA!F:BZ\"\"),44,0))\"),\"\")","v":""},{"$f":"IFERROR(__xludf.DUMMYFUNCTION(\"iferror(VLOOKUP(B448,IMPORTRANGE(\"\"https://docs.google.com/spreadsheets/d/1bphtMaJ6lFh0VVWIgQh8ZCOchBZqvj0w5rveiNYcTnM/edit#gid=0\"\",\"\"RWA!F:BZ\"\"),48,0))\"),\"\")","v":""},{"$f":"IFERROR(__xludf.DUMMYFUNCTION(\"iferror(VLOOKUP(B448,IMPORTRANGE(\"\"https://docs.google.com/spreadsheets/d/1bphtMaJ6lFh0VVWIgQh8ZCOchBZqvj0w5rveiNYcTnM/edit#gid=0\"\",\"\"RWA!F:BZ\"\"),49,0))\"),\"\")","v":""},{"$f":"IFERROR(__xludf.DUMMYFUNCTION(\"iferror(VLOOKUP(B448,IMPORTRANGE(\"\"https://docs.google.com/spreadsheets/d/1bphtMaJ6lFh0VVWIgQh8ZCOchBZqvj0w5rveiNYcTnM/edit#gid=0\"\",\"\"RWA!F:BZ\"\"),53,0))\"),\"\")","v":""}]
[null,null,null,{"$f":"IFERROR(__xludf.DUMMYFUNCTION(\"iferror(VLOOKUP(B449,IMPORTRANGE(\"\"https://docs.google.com/spreadsheets/d/1bphtMaJ6lFh0VVWIgQh8ZCOchBZqvj0w5rveiNYcTnM/edit#gid=0\"\",\"\"RWA!F:BZ\"\"),44,0))\"),\"\")","v":""},{"$f":"IFERROR(__xludf.DUMMYFUNCTION(\"iferror(VLOOKUP(B449,IMPORTRANGE(\"\"https://docs.google.com/spreadsheets/d/1bphtMaJ6lFh0VVWIgQh8ZCOchBZqvj0w5rveiNYcTnM/edit#gid=0\"\",\"\"RWA!F:BZ\"\"),48,0))\"),\"\")","v":""},{"$f":"IFERROR(__xludf.DUMMYFUNCTION(\"iferror(VLOOKUP(B449,IMPORTRANGE(\"\"https://docs.google.com/spreadsheets/d/1bphtMaJ6lFh0VVWIgQh8ZCOchBZqvj0w5rveiNYcTnM/edit#gid=0\"\",\"\"RWA!F:BZ\"\"),49,0))\"),\"\")","v":""},{"$f":"IFERROR(__xludf.DUMMYFUNCTION(\"iferror(VLOOKUP(B449,IMPORTRANGE(\"\"https://docs.google.com/spreadsheets/d/1bphtMaJ6lFh0VVWIgQh8ZCOchBZqvj0w5rveiNYcTnM/edit#gid=0\"\",\"\"RWA!F:BZ\"\"),53,0))\"),\"\")","v":""}]
[null,null,null,{"$f":"IFERROR(__xludf.DUMMYFUNCTION(\"iferror(VLOOKUP(B450,IMPORTRANGE(\"\"https://docs.google.com/spreadsheets/d/1bphtMaJ6lFh0VVWIgQh8ZCOchBZqvj0w5rveiNYcTnM/edit#gid=0\"\",\"\"RWA!F:BZ\"\"),44,0))\"),\"\")","v":""},{"$f":"IFERROR(__xludf.DUMMYFUNCTION(\"iferror(VLOOKUP(B450,IMPORTRANGE(\"\"https://docs.google.com/spreadsheets/d/1bphtMaJ6lFh0VVWIgQh8ZCOchBZqvj0w5rveiNYcTnM/edit#gid=0\"\",\"\"RWA!F:BZ\"\"),48,0))\"),\"\")","v":""},{"$f":"IFERROR(__xludf.DUMMYFUNCTION(\"iferror(VLOOKUP(B450,IMPORTRANGE(\"\"https://docs.google.com/spreadsheets/d/1bphtMaJ6lFh0VVWIgQh8ZCOchBZqvj0w5rveiNYcTnM/edit#gid=0\"\",\"\"RWA!F:BZ\"\"),49,0))\"),\"\")","v":""},{"$f":"IFERROR(__xludf.DUMMYFUNCTION(\"iferror(VLOOKUP(B450,IMPORTRANGE(\"\"https://docs.google.com/spreadsheets/d/1bphtMaJ6lFh0VVWIgQh8ZCOchBZqvj0w5rveiNYcTnM/edit#gid=0\"\",\"\"RWA!F:BZ\"\"),53,0))\"),\"\")","v":""}]
[null,null,null,{"$f":"IFERROR(__xludf.DUMMYFUNCTION(\"iferror(VLOOKUP(B451,IMPORTRANGE(\"\"https://docs.google.com/spreadsheets/d/1bphtMaJ6lFh0VVWIgQh8ZCOchBZqvj0w5rveiNYcTnM/edit#gid=0\"\",\"\"RWA!F:BZ\"\"),44,0))\"),\"\")","v":""},{"$f":"IFERROR(__xludf.DUMMYFUNCTION(\"iferror(VLOOKUP(B451,IMPORTRANGE(\"\"https://docs.google.com/spreadsheets/d/1bphtMaJ6lFh0VVWIgQh8ZCOchBZqvj0w5rveiNYcTnM/edit#gid=0\"\",\"\"RWA!F:BZ\"\"),48,0))\"),\"\")","v":""},{"$f":"IFERROR(__xludf.DUMMYFUNCTION(\"iferror(VLOOKUP(B451,IMPORTRANGE(\"\"https://docs.google.com/spreadsheets/d/1bphtMaJ6lFh0VVWIgQh8ZCOchBZqvj0w5rveiNYcTnM/edit#gid=0\"\",\"\"RWA!F:BZ\"\"),49,0))\"),\"\")","v":""},{"$f":"IFERROR(__xludf.DUMMYFUNCTION(\"iferror(VLOOKUP(B451,IMPORTRANGE(\"\"https://docs.google.com/spreadsheets/d/1bphtMaJ6lFh0VVWIgQh8ZCOchBZqvj0w5rveiNYcTnM/edit#gid=0\"\",\"\"RWA!F:BZ\"\"),53,0))\"),\"\")","v":""}]
[null,null,null,{"$f":"IFERROR(__xludf.DUMMYFUNCTION(\"iferror(VLOOKUP(B452,IMPORTRANGE(\"\"https://docs.google.com/spreadsheets/d/1bphtMaJ6lFh0VVWIgQh8ZCOchBZqvj0w5rveiNYcTnM/edit#gid=0\"\",\"\"RWA!F:BZ\"\"),44,0))\"),\"\")","v":""},{"$f":"IFERROR(__xludf.DUMMYFUNCTION(\"iferror(VLOOKUP(B452,IMPORTRANGE(\"\"https://docs.google.com/spreadsheets/d/1bphtMaJ6lFh0VVWIgQh8ZCOchBZqvj0w5rveiNYcTnM/edit#gid=0\"\",\"\"RWA!F:BZ\"\"),48,0))\"),\"\")","v":""},{"$f":"IFERROR(__xludf.DUMMYFUNCTION(\"iferror(VLOOKUP(B452,IMPORTRANGE(\"\"https://docs.google.com/spreadsheets/d/1bphtMaJ6lFh0VVWIgQh8ZCOchBZqvj0w5rveiNYcTnM/edit#gid=0\"\",\"\"RWA!F:BZ\"\"),49,0))\"),\"\")","v":""},{"$f":"IFERROR(__xludf.DUMMYFUNCTION(\"iferror(VLOOKUP(B452,IMPORTRANGE(\"\"https://docs.google.com/spreadsheets/d/1bphtMaJ6lFh0VVWIgQh8ZCOchBZqvj0w5rveiNYcTnM/edit#gid=0\"\",\"\"RWA!F:BZ\"\"),53,0))\"),\"\")","v":""}]
[null,null,null,{"$f":"IFERROR(__xludf.DUMMYFUNCTION(\"iferror(VLOOKUP(B453,IMPORTRANGE(\"\"https://docs.google.com/spreadsheets/d/1bphtMaJ6lFh0VVWIgQh8ZCOchBZqvj0w5rveiNYcTnM/edit#gid=0\"\",\"\"RWA!F:BZ\"\"),44,0))\"),\"\")","v":""},{"$f":"IFERROR(__xludf.DUMMYFUNCTION(\"iferror(VLOOKUP(B453,IMPORTRANGE(\"\"https://docs.google.com/spreadsheets/d/1bphtMaJ6lFh0VVWIgQh8ZCOchBZqvj0w5rveiNYcTnM/edit#gid=0\"\",\"\"RWA!F:BZ\"\"),48,0))\"),\"\")","v":""},{"$f":"IFERROR(__xludf.DUMMYFUNCTION(\"iferror(VLOOKUP(B453,IMPORTRANGE(\"\"https://docs.google.com/spreadsheets/d/1bphtMaJ6lFh0VVWIgQh8ZCOchBZqvj0w5rveiNYcTnM/edit#gid=0\"\",\"\"RWA!F:BZ\"\"),49,0))\"),\"\")","v":""},{"$f":"IFERROR(__xludf.DUMMYFUNCTION(\"iferror(VLOOKUP(B453,IMPORTRANGE(\"\"https://docs.google.com/spreadsheets/d/1bphtMaJ6lFh0VVWIgQh8ZCOchBZqvj0w5rveiNYcTnM/edit#gid=0\"\",\"\"RWA!F:BZ\"\"),53,0))\"),\"\")","v":""}]
[null,null,null,{"$f":"IFERROR(__xludf.DUMMYFUNCTION(\"iferror(VLOOKUP(B454,IMPORTRANGE(\"\"https://docs.google.com/spreadsheets/d/1bphtMaJ6lFh0VVWIgQh8ZCOchBZqvj0w5rveiNYcTnM/edit#gid=0\"\",\"\"RWA!F:BZ\"\"),44,0))\"),\"\")","v":""},{"$f":"IFERROR(__xludf.DUMMYFUNCTION(\"iferror(VLOOKUP(B454,IMPORTRANGE(\"\"https://docs.google.com/spreadsheets/d/1bphtMaJ6lFh0VVWIgQh8ZCOchBZqvj0w5rveiNYcTnM/edit#gid=0\"\",\"\"RWA!F:BZ\"\"),48,0))\"),\"\")","v":""},{"$f":"IFERROR(__xludf.DUMMYFUNCTION(\"iferror(VLOOKUP(B454,IMPORTRANGE(\"\"https://docs.google.com/spreadsheets/d/1bphtMaJ6lFh0VVWIgQh8ZCOchBZqvj0w5rveiNYcTnM/edit#gid=0\"\",\"\"RWA!F:BZ\"\"),49,0))\"),\"\")","v":""},{"$f":"IFERROR(__xludf.DUMMYFUNCTION(\"iferror(VLOOKUP(B454,IMPORTRANGE(\"\"https://docs.google.com/spreadsheets/d/1bphtMaJ6lFh0VVWIgQh8ZCOchBZqvj0w5rveiNYcTnM/edit#gid=0\"\",\"\"RWA!F:BZ\"\"),53,0))\"),\"\")","v":""}]
[null,null,null,{"$f":"IFERROR(__xludf.DUMMYFUNCTION(\"iferror(VLOOKUP(B455,IMPORTRANGE(\"\"https://docs.google.com/spreadsheets/d/1bphtMaJ6lFh0VVWIgQh8ZCOchBZqvj0w5rveiNYcTnM/edit#gid=0\"\",\"\"RWA!F:BZ\"\"),44,0))\"),\"\")","v":""},{"$f":"IFERROR(__xludf.DUMMYFUNCTION(\"iferror(VLOOKUP(B455,IMPORTRANGE(\"\"https://docs.google.com/spreadsheets/d/1bphtMaJ6lFh0VVWIgQh8ZCOchBZqvj0w5rveiNYcTnM/edit#gid=0\"\",\"\"RWA!F:BZ\"\"),48,0))\"),\"\")","v":""},{"$f":"IFERROR(__xludf.DUMMYFUNCTION(\"iferror(VLOOKUP(B455,IMPORTRANGE(\"\"https://docs.google.com/spreadsheets/d/1bphtMaJ6lFh0VVWIgQh8ZCOchBZqvj0w5rveiNYcTnM/edit#gid=0\"\",\"\"RWA!F:BZ\"\"),49,0))\"),\"\")","v":""},{"$f":"IFERROR(__xludf.DUMMYFUNCTION(\"iferror(VLOOKUP(B455,IMPORTRANGE(\"\"https://docs.google.com/spreadsheets/d/1bphtMaJ6lFh0VVWIgQh8ZCOchBZqvj0w5rveiNYcTnM/edit#gid=0\"\",\"\"RWA!F:BZ\"\"),53,0))\"),\"\")","v":""}]
[null,null,null,{"$f":"IFERROR(__xludf.DUMMYFUNCTION(\"iferror(VLOOKUP(B456,IMPORTRANGE(\"\"https://docs.google.com/spreadsheets/d/1bphtMaJ6lFh0VVWIgQh8ZCOchBZqvj0w5rveiNYcTnM/edit#gid=0\"\",\"\"RWA!F:BZ\"\"),44,0))\"),\"\")","v":""},{"$f":"IFERROR(__xludf.DUMMYFUNCTION(\"iferror(VLOOKUP(B456,IMPORTRANGE(\"\"https://docs.google.com/spreadsheets/d/1bphtMaJ6lFh0VVWIgQh8ZCOchBZqvj0w5rveiNYcTnM/edit#gid=0\"\",\"\"RWA!F:BZ\"\"),48,0))\"),\"\")","v":""},{"$f":"IFERROR(__xludf.DUMMYFUNCTION(\"iferror(VLOOKUP(B456,IMPORTRANGE(\"\"https://docs.google.com/spreadsheets/d/1bphtMaJ6lFh0VVWIgQh8ZCOchBZqvj0w5rveiNYcTnM/edit#gid=0\"\",\"\"RWA!F:BZ\"\"),49,0))\"),\"\")","v":""},{"$f":"IFERROR(__xludf.DUMMYFUNCTION(\"iferror(VLOOKUP(B456,IMPORTRANGE(\"\"https://docs.google.com/spreadsheets/d/1bphtMaJ6lFh0VVWIgQh8ZCOchBZqvj0w5rveiNYcTnM/edit#gid=0\"\",\"\"RWA!F:BZ\"\"),53,0))\"),\"\")","v":""}]
[null,null,null,{"$f":"IFERROR(__xludf.DUMMYFUNCTION(\"iferror(VLOOKUP(B457,IMPORTRANGE(\"\"https://docs.google.com/spreadsheets/d/1bphtMaJ6lFh0VVWIgQh8ZCOchBZqvj0w5rveiNYcTnM/edit#gid=0\"\",\"\"RWA!F:BZ\"\"),44,0))\"),\"\")","v":""},{"$f":"IFERROR(__xludf.DUMMYFUNCTION(\"iferror(VLOOKUP(B457,IMPORTRANGE(\"\"https://docs.google.com/spreadsheets/d/1bphtMaJ6lFh0VVWIgQh8ZCOchBZqvj0w5rveiNYcTnM/edit#gid=0\"\",\"\"RWA!F:BZ\"\"),48,0))\"),\"\")","v":""},{"$f":"IFERROR(__xludf.DUMMYFUNCTION(\"iferror(VLOOKUP(B457,IMPORTRANGE(\"\"https://docs.google.com/spreadsheets/d/1bphtMaJ6lFh0VVWIgQh8ZCOchBZqvj0w5rveiNYcTnM/edit#gid=0\"\",\"\"RWA!F:BZ\"\"),49,0))\"),\"\")","v":""},{"$f":"IFERROR(__xludf.DUMMYFUNCTION(\"iferror(VLOOKUP(B457,IMPORTRANGE(\"\"https://docs.google.com/spreadsheets/d/1bphtMaJ6lFh0VVWIgQh8ZCOchBZqvj0w5rveiNYcTnM/edit#gid=0\"\",\"\"RWA!F:BZ\"\"),53,0))\"),\"\")","v":""}]
[null,null,null,{"$f":"IFERROR(__xludf.DUMMYFUNCTION(\"iferror(VLOOKUP(B458,IMPORTRANGE(\"\"https://docs.google.com/spreadsheets/d/1bphtMaJ6lFh0VVWIgQh8ZCOchBZqvj0w5rveiNYcTnM/edit#gid=0\"\",\"\"RWA!F:BZ\"\"),44,0))\"),\"\")","v":""},{"$f":"IFERROR(__xludf.DUMMYFUNCTION(\"iferror(VLOOKUP(B458,IMPORTRANGE(\"\"https://docs.google.com/spreadsheets/d/1bphtMaJ6lFh0VVWIgQh8ZCOchBZqvj0w5rveiNYcTnM/edit#gid=0\"\",\"\"RWA!F:BZ\"\"),48,0))\"),\"\")","v":""},{"$f":"IFERROR(__xludf.DUMMYFUNCTION(\"iferror(VLOOKUP(B458,IMPORTRANGE(\"\"https://docs.google.com/spreadsheets/d/1bphtMaJ6lFh0VVWIgQh8ZCOchBZqvj0w5rveiNYcTnM/edit#gid=0\"\",\"\"RWA!F:BZ\"\"),49,0))\"),\"\")","v":""},{"$f":"IFERROR(__xludf.DUMMYFUNCTION(\"iferror(VLOOKUP(B458,IMPORTRANGE(\"\"https://docs.google.com/spreadsheets/d/1bphtMaJ6lFh0VVWIgQh8ZCOchBZqvj0w5rveiNYcTnM/edit#gid=0\"\",\"\"RWA!F:BZ\"\"),53,0))\"),\"\")","v":""}]
[null,null,null,{"$f":"IFERROR(__xludf.DUMMYFUNCTION(\"iferror(VLOOKUP(B459,IMPORTRANGE(\"\"https://docs.google.com/spreadsheets/d/1bphtMaJ6lFh0VVWIgQh8ZCOchBZqvj0w5rveiNYcTnM/edit#gid=0\"\",\"\"RWA!F:BZ\"\"),44,0))\"),\"\")","v":""},{"$f":"IFERROR(__xludf.DUMMYFUNCTION(\"iferror(VLOOKUP(B459,IMPORTRANGE(\"\"https://docs.google.com/spreadsheets/d/1bphtMaJ6lFh0VVWIgQh8ZCOchBZqvj0w5rveiNYcTnM/edit#gid=0\"\",\"\"RWA!F:BZ\"\"),48,0))\"),\"\")","v":""},{"$f":"IFERROR(__xludf.DUMMYFUNCTION(\"iferror(VLOOKUP(B459,IMPORTRANGE(\"\"https://docs.google.com/spreadsheets/d/1bphtMaJ6lFh0VVWIgQh8ZCOchBZqvj0w5rveiNYcTnM/edit#gid=0\"\",\"\"RWA!F:BZ\"\"),49,0))\"),\"\")","v":""},{"$f":"IFERROR(__xludf.DUMMYFUNCTION(\"iferror(VLOOKUP(B459,IMPORTRANGE(\"\"https://docs.google.com/spreadsheets/d/1bphtMaJ6lFh0VVWIgQh8ZCOchBZqvj0w5rveiNYcTnM/edit#gid=0\"\",\"\"RWA!F:BZ\"\"),53,0))\"),\"\")","v":""}]
[null,null,null,{"$f":"IFERROR(__xludf.DUMMYFUNCTION(\"iferror(VLOOKUP(B460,IMPORTRANGE(\"\"https://docs.google.com/spreadsheets/d/1bphtMaJ6lFh0VVWIgQh8ZCOchBZqvj0w5rveiNYcTnM/edit#gid=0\"\",\"\"RWA!F:BZ\"\"),44,0))\"),\"\")","v":""},{"$f":"IFERROR(__xludf.DUMMYFUNCTION(\"iferror(VLOOKUP(B460,IMPORTRANGE(\"\"https://docs.google.com/spreadsheets/d/1bphtMaJ6lFh0VVWIgQh8ZCOchBZqvj0w5rveiNYcTnM/edit#gid=0\"\",\"\"RWA!F:BZ\"\"),48,0))\"),\"\")","v":""},{"$f":"IFERROR(__xludf.DUMMYFUNCTION(\"iferror(VLOOKUP(B460,IMPORTRANGE(\"\"https://docs.google.com/spreadsheets/d/1bphtMaJ6lFh0VVWIgQh8ZCOchBZqvj0w5rveiNYcTnM/edit#gid=0\"\",\"\"RWA!F:BZ\"\"),49,0))\"),\"\")","v":""},{"$f":"IFERROR(__xludf.DUMMYFUNCTION(\"iferror(VLOOKUP(B460,IMPORTRANGE(\"\"https://docs.google.com/spreadsheets/d/1bphtMaJ6lFh0VVWIgQh8ZCOchBZqvj0w5rveiNYcTnM/edit#gid=0\"\",\"\"RWA!F:BZ\"\"),53,0))\"),\"\")","v":""}]
[null,null,null,{"$f":"IFERROR(__xludf.DUMMYFUNCTION(\"iferror(VLOOKUP(B461,IMPORTRANGE(\"\"https://docs.google.com/spreadsheets/d/1bphtMaJ6lFh0VVWIgQh8ZCOchBZqvj0w5rveiNYcTnM/edit#gid=0\"\",\"\"RWA!F:BZ\"\"),44,0))\"),\"\")","v":""},{"$f":"IFERROR(__xludf.DUMMYFUNCTION(\"iferror(VLOOKUP(B461,IMPORTRANGE(\"\"https://docs.google.com/spreadsheets/d/1bphtMaJ6lFh0VVWIgQh8ZCOchBZqvj0w5rveiNYcTnM/edit#gid=0\"\",\"\"RWA!F:BZ\"\"),48,0))\"),\"\")","v":""},{"$f":"IFERROR(__xludf.DUMMYFUNCTION(\"iferror(VLOOKUP(B461,IMPORTRANGE(\"\"https://docs.google.com/spreadsheets/d/1bphtMaJ6lFh0VVWIgQh8ZCOchBZqvj0w5rveiNYcTnM/edit#gid=0\"\",\"\"RWA!F:BZ\"\"),49,0))\"),\"\")","v":""},{"$f":"IFERROR(__xludf.DUMMYFUNCTION(\"iferror(VLOOKUP(B461,IMPORTRANGE(\"\"https://docs.google.com/spreadsheets/d/1bphtMaJ6lFh0VVWIgQh8ZCOchBZqvj0w5rveiNYcTnM/edit#gid=0\"\",\"\"RWA!F:BZ\"\"),53,0))\"),\"\")","v":""}]
[null,null,null,{"$f":"IFERROR(__xludf.DUMMYFUNCTION(\"iferror(VLOOKUP(B462,IMPORTRANGE(\"\"https://docs.google.com/spreadsheets/d/1bphtMaJ6lFh0VVWIgQh8ZCOchBZqvj0w5rveiNYcTnM/edit#gid=0\"\",\"\"RWA!F:BZ\"\"),44,0))\"),\"\")","v":""},{"$f":"IFERROR(__xludf.DUMMYFUNCTION(\"iferror(VLOOKUP(B462,IMPORTRANGE(\"\"https://docs.google.com/spreadsheets/d/1bphtMaJ6lFh0VVWIgQh8ZCOchBZqvj0w5rveiNYcTnM/edit#gid=0\"\",\"\"RWA!F:BZ\"\"),48,0))\"),\"\")","v":""},{"$f":"IFERROR(__xludf.DUMMYFUNCTION(\"iferror(VLOOKUP(B462,IMPORTRANGE(\"\"https://docs.google.com/spreadsheets/d/1bphtMaJ6lFh0VVWIgQh8ZCOchBZqvj0w5rveiNYcTnM/edit#gid=0\"\",\"\"RWA!F:BZ\"\"),49,0))\"),\"\")","v":""},{"$f":"IFERROR(__xludf.DUMMYFUNCTION(\"iferror(VLOOKUP(B462,IMPORTRANGE(\"\"https://docs.google.com/spreadsheets/d/1bphtMaJ6lFh0VVWIgQh8ZCOchBZqvj0w5rveiNYcTnM/edit#gid=0\"\",\"\"RWA!F:BZ\"\"),53,0))\"),\"\")","v":""}]
[null,null,null,{"$f":"IFERROR(__xludf.DUMMYFUNCTION(\"iferror(VLOOKUP(B463,IMPORTRANGE(\"\"https://docs.google.com/spreadsheets/d/1bphtMaJ6lFh0VVWIgQh8ZCOchBZqvj0w5rveiNYcTnM/edit#gid=0\"\",\"\"RWA!F:BZ\"\"),44,0))\"),\"\")","v":""},{"$f":"IFERROR(__xludf.DUMMYFUNCTION(\"iferror(VLOOKUP(B463,IMPORTRANGE(\"\"https://docs.google.com/spreadsheets/d/1bphtMaJ6lFh0VVWIgQh8ZCOchBZqvj0w5rveiNYcTnM/edit#gid=0\"\",\"\"RWA!F:BZ\"\"),48,0))\"),\"\")","v":""},{"$f":"IFERROR(__xludf.DUMMYFUNCTION(\"iferror(VLOOKUP(B463,IMPORTRANGE(\"\"https://docs.google.com/spreadsheets/d/1bphtMaJ6lFh0VVWIgQh8ZCOchBZqvj0w5rveiNYcTnM/edit#gid=0\"\",\"\"RWA!F:BZ\"\"),49,0))\"),\"\")","v":""},{"$f":"IFERROR(__xludf.DUMMYFUNCTION(\"iferror(VLOOKUP(B463,IMPORTRANGE(\"\"https://docs.google.com/spreadsheets/d/1bphtMaJ6lFh0VVWIgQh8ZCOchBZqvj0w5rveiNYcTnM/edit#gid=0\"\",\"\"RWA!F:BZ\"\"),53,0))\"),\"\")","v":""}]
[null,null,null,{"$f":"IFERROR(__xludf.DUMMYFUNCTION(\"iferror(VLOOKUP(B464,IMPORTRANGE(\"\"https://docs.google.com/spreadsheets/d/1bphtMaJ6lFh0VVWIgQh8ZCOchBZqvj0w5rveiNYcTnM/edit#gid=0\"\",\"\"RWA!F:BZ\"\"),44,0))\"),\"\")","v":""},{"$f":"IFERROR(__xludf.DUMMYFUNCTION(\"iferror(VLOOKUP(B464,IMPORTRANGE(\"\"https://docs.google.com/spreadsheets/d/1bphtMaJ6lFh0VVWIgQh8ZCOchBZqvj0w5rveiNYcTnM/edit#gid=0\"\",\"\"RWA!F:BZ\"\"),48,0))\"),\"\")","v":""},{"$f":"IFERROR(__xludf.DUMMYFUNCTION(\"iferror(VLOOKUP(B464,IMPORTRANGE(\"\"https://docs.google.com/spreadsheets/d/1bphtMaJ6lFh0VVWIgQh8ZCOchBZqvj0w5rveiNYcTnM/edit#gid=0\"\",\"\"RWA!F:BZ\"\"),49,0))\"),\"\")","v":""},{"$f":"IFERROR(__xludf.DUMMYFUNCTION(\"iferror(VLOOKUP(B464,IMPORTRANGE(\"\"https://docs.google.com/spreadsheets/d/1bphtMaJ6lFh0VVWIgQh8ZCOchBZqvj0w5rveiNYcTnM/edit#gid=0\"\",\"\"RWA!F:BZ\"\"),53,0))\"),\"\")","v":""}]
[null,null,null,{"$f":"IFERROR(__xludf.DUMMYFUNCTION(\"iferror(VLOOKUP(B465,IMPORTRANGE(\"\"https://docs.google.com/spreadsheets/d/1bphtMaJ6lFh0VVWIgQh8ZCOchBZqvj0w5rveiNYcTnM/edit#gid=0\"\",\"\"RWA!F:BZ\"\"),44,0))\"),\"\")","v":""},{"$f":"IFERROR(__xludf.DUMMYFUNCTION(\"iferror(VLOOKUP(B465,IMPORTRANGE(\"\"https://docs.google.com/spreadsheets/d/1bphtMaJ6lFh0VVWIgQh8ZCOchBZqvj0w5rveiNYcTnM/edit#gid=0\"\",\"\"RWA!F:BZ\"\"),48,0))\"),\"\")","v":""},{"$f":"IFERROR(__xludf.DUMMYFUNCTION(\"iferror(VLOOKUP(B465,IMPORTRANGE(\"\"https://docs.google.com/spreadsheets/d/1bphtMaJ6lFh0VVWIgQh8ZCOchBZqvj0w5rveiNYcTnM/edit#gid=0\"\",\"\"RWA!F:BZ\"\"),49,0))\"),\"\")","v":""},{"$f":"IFERROR(__xludf.DUMMYFUNCTION(\"iferror(VLOOKUP(B465,IMPORTRANGE(\"\"https://docs.google.com/spreadsheets/d/1bphtMaJ6lFh0VVWIgQh8ZCOchBZqvj0w5rveiNYcTnM/edit#gid=0\"\",\"\"RWA!F:BZ\"\"),53,0))\"),\"\")","v":""}]
[null,null,null,{"$f":"IFERROR(__xludf.DUMMYFUNCTION(\"iferror(VLOOKUP(B466,IMPORTRANGE(\"\"https://docs.google.com/spreadsheets/d/1bphtMaJ6lFh0VVWIgQh8ZCOchBZqvj0w5rveiNYcTnM/edit#gid=0\"\",\"\"RWA!F:BZ\"\"),44,0))\"),\"\")","v":""},{"$f":"IFERROR(__xludf.DUMMYFUNCTION(\"iferror(VLOOKUP(B466,IMPORTRANGE(\"\"https://docs.google.com/spreadsheets/d/1bphtMaJ6lFh0VVWIgQh8ZCOchBZqvj0w5rveiNYcTnM/edit#gid=0\"\",\"\"RWA!F:BZ\"\"),48,0))\"),\"\")","v":""},{"$f":"IFERROR(__xludf.DUMMYFUNCTION(\"iferror(VLOOKUP(B466,IMPORTRANGE(\"\"https://docs.google.com/spreadsheets/d/1bphtMaJ6lFh0VVWIgQh8ZCOchBZqvj0w5rveiNYcTnM/edit#gid=0\"\",\"\"RWA!F:BZ\"\"),49,0))\"),\"\")","v":""},{"$f":"IFERROR(__xludf.DUMMYFUNCTION(\"iferror(VLOOKUP(B466,IMPORTRANGE(\"\"https://docs.google.com/spreadsheets/d/1bphtMaJ6lFh0VVWIgQh8ZCOchBZqvj0w5rveiNYcTnM/edit#gid=0\"\",\"\"RWA!F:BZ\"\"),53,0))\"),\"\")","v":""}]
[null,null,null,{"$f":"IFERROR(__xludf.DUMMYFUNCTION(\"iferror(VLOOKUP(B467,IMPORTRANGE(\"\"https://docs.google.com/spreadsheets/d/1bphtMaJ6lFh0VVWIgQh8ZCOchBZqvj0w5rveiNYcTnM/edit#gid=0\"\",\"\"RWA!F:BZ\"\"),44,0))\"),\"\")","v":""},{"$f":"IFERROR(__xludf.DUMMYFUNCTION(\"iferror(VLOOKUP(B467,IMPORTRANGE(\"\"https://docs.google.com/spreadsheets/d/1bphtMaJ6lFh0VVWIgQh8ZCOchBZqvj0w5rveiNYcTnM/edit#gid=0\"\",\"\"RWA!F:BZ\"\"),48,0))\"),\"\")","v":""},{"$f":"IFERROR(__xludf.DUMMYFUNCTION(\"iferror(VLOOKUP(B467,IMPORTRANGE(\"\"https://docs.google.com/spreadsheets/d/1bphtMaJ6lFh0VVWIgQh8ZCOchBZqvj0w5rveiNYcTnM/edit#gid=0\"\",\"\"RWA!F:BZ\"\"),49,0))\"),\"\")","v":""},{"$f":"IFERROR(__xludf.DUMMYFUNCTION(\"iferror(VLOOKUP(B467,IMPORTRANGE(\"\"https://docs.google.com/spreadsheets/d/1bphtMaJ6lFh0VVWIgQh8ZCOchBZqvj0w5rveiNYcTnM/edit#gid=0\"\",\"\"RWA!F:BZ\"\"),53,0))\"),\"\")","v":""}]
[null,null,null,{"$f":"IFERROR(__xludf.DUMMYFUNCTION(\"iferror(VLOOKUP(B468,IMPORTRANGE(\"\"https://docs.google.com/spreadsheets/d/1bphtMaJ6lFh0VVWIgQh8ZCOchBZqvj0w5rveiNYcTnM/edit#gid=0\"\",\"\"RWA!F:BZ\"\"),44,0))\"),\"\")","v":""},{"$f":"IFERROR(__xludf.DUMMYFUNCTION(\"iferror(VLOOKUP(B468,IMPORTRANGE(\"\"https://docs.google.com/spreadsheets/d/1bphtMaJ6lFh0VVWIgQh8ZCOchBZqvj0w5rveiNYcTnM/edit#gid=0\"\",\"\"RWA!F:BZ\"\"),48,0))\"),\"\")","v":""},{"$f":"IFERROR(__xludf.DUMMYFUNCTION(\"iferror(VLOOKUP(B468,IMPORTRANGE(\"\"https://docs.google.com/spreadsheets/d/1bphtMaJ6lFh0VVWIgQh8ZCOchBZqvj0w5rveiNYcTnM/edit#gid=0\"\",\"\"RWA!F:BZ\"\"),49,0))\"),\"\")","v":""},{"$f":"IFERROR(__xludf.DUMMYFUNCTION(\"iferror(VLOOKUP(B468,IMPORTRANGE(\"\"https://docs.google.com/spreadsheets/d/1bphtMaJ6lFh0VVWIgQh8ZCOchBZqvj0w5rveiNYcTnM/edit#gid=0\"\",\"\"RWA!F:BZ\"\"),53,0))\"),\"\")","v":""}]
[null,null,null,{"$f":"IFERROR(__xludf.DUMMYFUNCTION(\"iferror(VLOOKUP(B469,IMPORTRANGE(\"\"https://docs.google.com/spreadsheets/d/1bphtMaJ6lFh0VVWIgQh8ZCOchBZqvj0w5rveiNYcTnM/edit#gid=0\"\",\"\"RWA!F:BZ\"\"),44,0))\"),\"\")","v":""},{"$f":"IFERROR(__xludf.DUMMYFUNCTION(\"iferror(VLOOKUP(B469,IMPORTRANGE(\"\"https://docs.google.com/spreadsheets/d/1bphtMaJ6lFh0VVWIgQh8ZCOchBZqvj0w5rveiNYcTnM/edit#gid=0\"\",\"\"RWA!F:BZ\"\"),48,0))\"),\"\")","v":""},{"$f":"IFERROR(__xludf.DUMMYFUNCTION(\"iferror(VLOOKUP(B469,IMPORTRANGE(\"\"https://docs.google.com/spreadsheets/d/1bphtMaJ6lFh0VVWIgQh8ZCOchBZqvj0w5rveiNYcTnM/edit#gid=0\"\",\"\"RWA!F:BZ\"\"),49,0))\"),\"\")","v":""},{"$f":"IFERROR(__xludf.DUMMYFUNCTION(\"iferror(VLOOKUP(B469,IMPORTRANGE(\"\"https://docs.google.com/spreadsheets/d/1bphtMaJ6lFh0VVWIgQh8ZCOchBZqvj0w5rveiNYcTnM/edit#gid=0\"\",\"\"RWA!F:BZ\"\"),53,0))\"),\"\")","v":""}]
[null,null,null,{"$f":"IFERROR(__xludf.DUMMYFUNCTION(\"iferror(VLOOKUP(B470,IMPORTRANGE(\"\"https://docs.google.com/spreadsheets/d/1bphtMaJ6lFh0VVWIgQh8ZCOchBZqvj0w5rveiNYcTnM/edit#gid=0\"\",\"\"RWA!F:BZ\"\"),44,0))\"),\"\")","v":""},{"$f":"IFERROR(__xludf.DUMMYFUNCTION(\"iferror(VLOOKUP(B470,IMPORTRANGE(\"\"https://docs.google.com/spreadsheets/d/1bphtMaJ6lFh0VVWIgQh8ZCOchBZqvj0w5rveiNYcTnM/edit#gid=0\"\",\"\"RWA!F:BZ\"\"),48,0))\"),\"\")","v":""},{"$f":"IFERROR(__xludf.DUMMYFUNCTION(\"iferror(VLOOKUP(B470,IMPORTRANGE(\"\"https://docs.google.com/spreadsheets/d/1bphtMaJ6lFh0VVWIgQh8ZCOchBZqvj0w5rveiNYcTnM/edit#gid=0\"\",\"\"RWA!F:BZ\"\"),49,0))\"),\"\")","v":""},{"$f":"IFERROR(__xludf.DUMMYFUNCTION(\"iferror(VLOOKUP(B470,IMPORTRANGE(\"\"https://docs.google.com/spreadsheets/d/1bphtMaJ6lFh0VVWIgQh8ZCOchBZqvj0w5rveiNYcTnM/edit#gid=0\"\",\"\"RWA!F:BZ\"\"),53,0))\"),\"\")","v":""}]
[null,null,null,{"$f":"IFERROR(__xludf.DUMMYFUNCTION(\"iferror(VLOOKUP(B471,IMPORTRANGE(\"\"https://docs.google.com/spreadsheets/d/1bphtMaJ6lFh0VVWIgQh8ZCOchBZqvj0w5rveiNYcTnM/edit#gid=0\"\",\"\"RWA!F:BZ\"\"),44,0))\"),\"\")","v":""},{"$f":"IFERROR(__xludf.DUMMYFUNCTION(\"iferror(VLOOKUP(B471,IMPORTRANGE(\"\"https://docs.google.com/spreadsheets/d/1bphtMaJ6lFh0VVWIgQh8ZCOchBZqvj0w5rveiNYcTnM/edit#gid=0\"\",\"\"RWA!F:BZ\"\"),48,0))\"),\"\")","v":""},{"$f":"IFERROR(__xludf.DUMMYFUNCTION(\"iferror(VLOOKUP(B471,IMPORTRANGE(\"\"https://docs.google.com/spreadsheets/d/1bphtMaJ6lFh0VVWIgQh8ZCOchBZqvj0w5rveiNYcTnM/edit#gid=0\"\",\"\"RWA!F:BZ\"\"),49,0))\"),\"\")","v":""},{"$f":"IFERROR(__xludf.DUMMYFUNCTION(\"iferror(VLOOKUP(B471,IMPORTRANGE(\"\"https://docs.google.com/spreadsheets/d/1bphtMaJ6lFh0VVWIgQh8ZCOchBZqvj0w5rveiNYcTnM/edit#gid=0\"\",\"\"RWA!F:BZ\"\"),53,0))\"),\"\")","v":""}]
[null,null,null,{"$f":"IFERROR(__xludf.DUMMYFUNCTION(\"iferror(VLOOKUP(B472,IMPORTRANGE(\"\"https://docs.google.com/spreadsheets/d/1bphtMaJ6lFh0VVWIgQh8ZCOchBZqvj0w5rveiNYcTnM/edit#gid=0\"\",\"\"RWA!F:BZ\"\"),44,0))\"),\"\")","v":""},{"$f":"IFERROR(__xludf.DUMMYFUNCTION(\"iferror(VLOOKUP(B472,IMPORTRANGE(\"\"https://docs.google.com/spreadsheets/d/1bphtMaJ6lFh0VVWIgQh8ZCOchBZqvj0w5rveiNYcTnM/edit#gid=0\"\",\"\"RWA!F:BZ\"\"),48,0))\"),\"\")","v":""},{"$f":"IFERROR(__xludf.DUMMYFUNCTION(\"iferror(VLOOKUP(B472,IMPORTRANGE(\"\"https://docs.google.com/spreadsheets/d/1bphtMaJ6lFh0VVWIgQh8ZCOchBZqvj0w5rveiNYcTnM/edit#gid=0\"\",\"\"RWA!F:BZ\"\"),49,0))\"),\"\")","v":""},{"$f":"IFERROR(__xludf.DUMMYFUNCTION(\"iferror(VLOOKUP(B472,IMPORTRANGE(\"\"https://docs.google.com/spreadsheets/d/1bphtMaJ6lFh0VVWIgQh8ZCOchBZqvj0w5rveiNYcTnM/edit#gid=0\"\",\"\"RWA!F:BZ\"\"),53,0))\"),\"\")","v":""}]
[null,null,null,{"$f":"IFERROR(__xludf.DUMMYFUNCTION(\"iferror(VLOOKUP(B473,IMPORTRANGE(\"\"https://docs.google.com/spreadsheets/d/1bphtMaJ6lFh0VVWIgQh8ZCOchBZqvj0w5rveiNYcTnM/edit#gid=0\"\",\"\"RWA!F:BZ\"\"),44,0))\"),\"\")","v":""},{"$f":"IFERROR(__xludf.DUMMYFUNCTION(\"iferror(VLOOKUP(B473,IMPORTRANGE(\"\"https://docs.google.com/spreadsheets/d/1bphtMaJ6lFh0VVWIgQh8ZCOchBZqvj0w5rveiNYcTnM/edit#gid=0\"\",\"\"RWA!F:BZ\"\"),48,0))\"),\"\")","v":""},{"$f":"IFERROR(__xludf.DUMMYFUNCTION(\"iferror(VLOOKUP(B473,IMPORTRANGE(\"\"https://docs.google.com/spreadsheets/d/1bphtMaJ6lFh0VVWIgQh8ZCOchBZqvj0w5rveiNYcTnM/edit#gid=0\"\",\"\"RWA!F:BZ\"\"),49,0))\"),\"\")","v":""},{"$f":"IFERROR(__xludf.DUMMYFUNCTION(\"iferror(VLOOKUP(B473,IMPORTRANGE(\"\"https://docs.google.com/spreadsheets/d/1bphtMaJ6lFh0VVWIgQh8ZCOchBZqvj0w5rveiNYcTnM/edit#gid=0\"\",\"\"RWA!F:BZ\"\"),53,0))\"),\"\")","v":""}]
[null,null,null,{"$f":"IFERROR(__xludf.DUMMYFUNCTION(\"iferror(VLOOKUP(B474,IMPORTRANGE(\"\"https://docs.google.com/spreadsheets/d/1bphtMaJ6lFh0VVWIgQh8ZCOchBZqvj0w5rveiNYcTnM/edit#gid=0\"\",\"\"RWA!F:BZ\"\"),44,0))\"),\"\")","v":""},{"$f":"IFERROR(__xludf.DUMMYFUNCTION(\"iferror(VLOOKUP(B474,IMPORTRANGE(\"\"https://docs.google.com/spreadsheets/d/1bphtMaJ6lFh0VVWIgQh8ZCOchBZqvj0w5rveiNYcTnM/edit#gid=0\"\",\"\"RWA!F:BZ\"\"),48,0))\"),\"\")","v":""},{"$f":"IFERROR(__xludf.DUMMYFUNCTION(\"iferror(VLOOKUP(B474,IMPORTRANGE(\"\"https://docs.google.com/spreadsheets/d/1bphtMaJ6lFh0VVWIgQh8ZCOchBZqvj0w5rveiNYcTnM/edit#gid=0\"\",\"\"RWA!F:BZ\"\"),49,0))\"),\"\")","v":""},{"$f":"IFERROR(__xludf.DUMMYFUNCTION(\"iferror(VLOOKUP(B474,IMPORTRANGE(\"\"https://docs.google.com/spreadsheets/d/1bphtMaJ6lFh0VVWIgQh8ZCOchBZqvj0w5rveiNYcTnM/edit#gid=0\"\",\"\"RWA!F:BZ\"\"),53,0))\"),\"\")","v":""}]
[null,null,null,{"$f":"IFERROR(__xludf.DUMMYFUNCTION(\"iferror(VLOOKUP(B475,IMPORTRANGE(\"\"https://docs.google.com/spreadsheets/d/1bphtMaJ6lFh0VVWIgQh8ZCOchBZqvj0w5rveiNYcTnM/edit#gid=0\"\",\"\"RWA!F:BZ\"\"),44,0))\"),\"\")","v":""},{"$f":"IFERROR(__xludf.DUMMYFUNCTION(\"iferror(VLOOKUP(B475,IMPORTRANGE(\"\"https://docs.google.com/spreadsheets/d/1bphtMaJ6lFh0VVWIgQh8ZCOchBZqvj0w5rveiNYcTnM/edit#gid=0\"\",\"\"RWA!F:BZ\"\"),48,0))\"),\"\")","v":""},{"$f":"IFERROR(__xludf.DUMMYFUNCTION(\"iferror(VLOOKUP(B475,IMPORTRANGE(\"\"https://docs.google.com/spreadsheets/d/1bphtMaJ6lFh0VVWIgQh8ZCOchBZqvj0w5rveiNYcTnM/edit#gid=0\"\",\"\"RWA!F:BZ\"\"),49,0))\"),\"\")","v":""},{"$f":"IFERROR(__xludf.DUMMYFUNCTION(\"iferror(VLOOKUP(B475,IMPORTRANGE(\"\"https://docs.google.com/spreadsheets/d/1bphtMaJ6lFh0VVWIgQh8ZCOchBZqvj0w5rveiNYcTnM/edit#gid=0\"\",\"\"RWA!F:BZ\"\"),53,0))\"),\"\")","v":""}]
[null,null,null,{"$f":"IFERROR(__xludf.DUMMYFUNCTION(\"iferror(VLOOKUP(B476,IMPORTRANGE(\"\"https://docs.google.com/spreadsheets/d/1bphtMaJ6lFh0VVWIgQh8ZCOchBZqvj0w5rveiNYcTnM/edit#gid=0\"\",\"\"RWA!F:BZ\"\"),44,0))\"),\"\")","v":""},{"$f":"IFERROR(__xludf.DUMMYFUNCTION(\"iferror(VLOOKUP(B476,IMPORTRANGE(\"\"https://docs.google.com/spreadsheets/d/1bphtMaJ6lFh0VVWIgQh8ZCOchBZqvj0w5rveiNYcTnM/edit#gid=0\"\",\"\"RWA!F:BZ\"\"),48,0))\"),\"\")","v":""},{"$f":"IFERROR(__xludf.DUMMYFUNCTION(\"iferror(VLOOKUP(B476,IMPORTRANGE(\"\"https://docs.google.com/spreadsheets/d/1bphtMaJ6lFh0VVWIgQh8ZCOchBZqvj0w5rveiNYcTnM/edit#gid=0\"\",\"\"RWA!F:BZ\"\"),49,0))\"),\"\")","v":""},{"$f":"IFERROR(__xludf.DUMMYFUNCTION(\"iferror(VLOOKUP(B476,IMPORTRANGE(\"\"https://docs.google.com/spreadsheets/d/1bphtMaJ6lFh0VVWIgQh8ZCOchBZqvj0w5rveiNYcTnM/edit#gid=0\"\",\"\"RWA!F:BZ\"\"),53,0))\"),\"\")","v":""}]
[null,null,null,{"$f":"IFERROR(__xludf.DUMMYFUNCTION(\"iferror(VLOOKUP(B477,IMPORTRANGE(\"\"https://docs.google.com/spreadsheets/d/1bphtMaJ6lFh0VVWIgQh8ZCOchBZqvj0w5rveiNYcTnM/edit#gid=0\"\",\"\"RWA!F:BZ\"\"),44,0))\"),\"\")","v":""},{"$f":"IFERROR(__xludf.DUMMYFUNCTION(\"iferror(VLOOKUP(B477,IMPORTRANGE(\"\"https://docs.google.com/spreadsheets/d/1bphtMaJ6lFh0VVWIgQh8ZCOchBZqvj0w5rveiNYcTnM/edit#gid=0\"\",\"\"RWA!F:BZ\"\"),48,0))\"),\"\")","v":""},{"$f":"IFERROR(__xludf.DUMMYFUNCTION(\"iferror(VLOOKUP(B477,IMPORTRANGE(\"\"https://docs.google.com/spreadsheets/d/1bphtMaJ6lFh0VVWIgQh8ZCOchBZqvj0w5rveiNYcTnM/edit#gid=0\"\",\"\"RWA!F:BZ\"\"),49,0))\"),\"\")","v":""},{"$f":"IFERROR(__xludf.DUMMYFUNCTION(\"iferror(VLOOKUP(B477,IMPORTRANGE(\"\"https://docs.google.com/spreadsheets/d/1bphtMaJ6lFh0VVWIgQh8ZCOchBZqvj0w5rveiNYcTnM/edit#gid=0\"\",\"\"RWA!F:BZ\"\"),53,0))\"),\"\")","v":""}]
[null,null,null,{"$f":"IFERROR(__xludf.DUMMYFUNCTION(\"iferror(VLOOKUP(B478,IMPORTRANGE(\"\"https://docs.google.com/spreadsheets/d/1bphtMaJ6lFh0VVWIgQh8ZCOchBZqvj0w5rveiNYcTnM/edit#gid=0\"\",\"\"RWA!F:BZ\"\"),44,0))\"),\"\")","v":""},{"$f":"IFERROR(__xludf.DUMMYFUNCTION(\"iferror(VLOOKUP(B478,IMPORTRANGE(\"\"https://docs.google.com/spreadsheets/d/1bphtMaJ6lFh0VVWIgQh8ZCOchBZqvj0w5rveiNYcTnM/edit#gid=0\"\",\"\"RWA!F:BZ\"\"),48,0))\"),\"\")","v":""},{"$f":"IFERROR(__xludf.DUMMYFUNCTION(\"iferror(VLOOKUP(B478,IMPORTRANGE(\"\"https://docs.google.com/spreadsheets/d/1bphtMaJ6lFh0VVWIgQh8ZCOchBZqvj0w5rveiNYcTnM/edit#gid=0\"\",\"\"RWA!F:BZ\"\"),49,0))\"),\"\")","v":""},{"$f":"IFERROR(__xludf.DUMMYFUNCTION(\"iferror(VLOOKUP(B478,IMPORTRANGE(\"\"https://docs.google.com/spreadsheets/d/1bphtMaJ6lFh0VVWIgQh8ZCOchBZqvj0w5rveiNYcTnM/edit#gid=0\"\",\"\"RWA!F:BZ\"\"),53,0))\"),\"\")","v":""}]
[null,null,null,{"$f":"IFERROR(__xludf.DUMMYFUNCTION(\"iferror(VLOOKUP(B479,IMPORTRANGE(\"\"https://docs.google.com/spreadsheets/d/1bphtMaJ6lFh0VVWIgQh8ZCOchBZqvj0w5rveiNYcTnM/edit#gid=0\"\",\"\"RWA!F:BZ\"\"),44,0))\"),\"\")","v":""},{"$f":"IFERROR(__xludf.DUMMYFUNCTION(\"iferror(VLOOKUP(B479,IMPORTRANGE(\"\"https://docs.google.com/spreadsheets/d/1bphtMaJ6lFh0VVWIgQh8ZCOchBZqvj0w5rveiNYcTnM/edit#gid=0\"\",\"\"RWA!F:BZ\"\"),48,0))\"),\"\")","v":""},{"$f":"IFERROR(__xludf.DUMMYFUNCTION(\"iferror(VLOOKUP(B479,IMPORTRANGE(\"\"https://docs.google.com/spreadsheets/d/1bphtMaJ6lFh0VVWIgQh8ZCOchBZqvj0w5rveiNYcTnM/edit#gid=0\"\",\"\"RWA!F:BZ\"\"),49,0))\"),\"\")","v":""},{"$f":"IFERROR(__xludf.DUMMYFUNCTION(\"iferror(VLOOKUP(B479,IMPORTRANGE(\"\"https://docs.google.com/spreadsheets/d/1bphtMaJ6lFh0VVWIgQh8ZCOchBZqvj0w5rveiNYcTnM/edit#gid=0\"\",\"\"RWA!F:BZ\"\"),53,0))\"),\"\")","v":""}]
[null,null,null,{"$f":"IFERROR(__xludf.DUMMYFUNCTION(\"iferror(VLOOKUP(B480,IMPORTRANGE(\"\"https://docs.google.com/spreadsheets/d/1bphtMaJ6lFh0VVWIgQh8ZCOchBZqvj0w5rveiNYcTnM/edit#gid=0\"\",\"\"RWA!F:BZ\"\"),44,0))\"),\"\")","v":""},{"$f":"IFERROR(__xludf.DUMMYFUNCTION(\"iferror(VLOOKUP(B480,IMPORTRANGE(\"\"https://docs.google.com/spreadsheets/d/1bphtMaJ6lFh0VVWIgQh8ZCOchBZqvj0w5rveiNYcTnM/edit#gid=0\"\",\"\"RWA!F:BZ\"\"),48,0))\"),\"\")","v":""},{"$f":"IFERROR(__xludf.DUMMYFUNCTION(\"iferror(VLOOKUP(B480,IMPORTRANGE(\"\"https://docs.google.com/spreadsheets/d/1bphtMaJ6lFh0VVWIgQh8ZCOchBZqvj0w5rveiNYcTnM/edit#gid=0\"\",\"\"RWA!F:BZ\"\"),49,0))\"),\"\")","v":""},{"$f":"IFERROR(__xludf.DUMMYFUNCTION(\"iferror(VLOOKUP(B480,IMPORTRANGE(\"\"https://docs.google.com/spreadsheets/d/1bphtMaJ6lFh0VVWIgQh8ZCOchBZqvj0w5rveiNYcTnM/edit#gid=0\"\",\"\"RWA!F:BZ\"\"),53,0))\"),\"\")","v":""}]
[null,null,null,{"$f":"IFERROR(__xludf.DUMMYFUNCTION(\"iferror(VLOOKUP(B481,IMPORTRANGE(\"\"https://docs.google.com/spreadsheets/d/1bphtMaJ6lFh0VVWIgQh8ZCOchBZqvj0w5rveiNYcTnM/edit#gid=0\"\",\"\"RWA!F:BZ\"\"),44,0))\"),\"\")","v":""},{"$f":"IFERROR(__xludf.DUMMYFUNCTION(\"iferror(VLOOKUP(B481,IMPORTRANGE(\"\"https://docs.google.com/spreadsheets/d/1bphtMaJ6lFh0VVWIgQh8ZCOchBZqvj0w5rveiNYcTnM/edit#gid=0\"\",\"\"RWA!F:BZ\"\"),48,0))\"),\"\")","v":""},{"$f":"IFERROR(__xludf.DUMMYFUNCTION(\"iferror(VLOOKUP(B481,IMPORTRANGE(\"\"https://docs.google.com/spreadsheets/d/1bphtMaJ6lFh0VVWIgQh8ZCOchBZqvj0w5rveiNYcTnM/edit#gid=0\"\",\"\"RWA!F:BZ\"\"),49,0))\"),\"\")","v":""},{"$f":"IFERROR(__xludf.DUMMYFUNCTION(\"iferror(VLOOKUP(B481,IMPORTRANGE(\"\"https://docs.google.com/spreadsheets/d/1bphtMaJ6lFh0VVWIgQh8ZCOchBZqvj0w5rveiNYcTnM/edit#gid=0\"\",\"\"RWA!F:BZ\"\"),53,0))\"),\"\")","v":""}]
[null,null,null,{"$f":"IFERROR(__xludf.DUMMYFUNCTION(\"iferror(VLOOKUP(B482,IMPORTRANGE(\"\"https://docs.google.com/spreadsheets/d/1bphtMaJ6lFh0VVWIgQh8ZCOchBZqvj0w5rveiNYcTnM/edit#gid=0\"\",\"\"RWA!F:BZ\"\"),44,0))\"),\"\")","v":""},{"$f":"IFERROR(__xludf.DUMMYFUNCTION(\"iferror(VLOOKUP(B482,IMPORTRANGE(\"\"https://docs.google.com/spreadsheets/d/1bphtMaJ6lFh0VVWIgQh8ZCOchBZqvj0w5rveiNYcTnM/edit#gid=0\"\",\"\"RWA!F:BZ\"\"),48,0))\"),\"\")","v":""},{"$f":"IFERROR(__xludf.DUMMYFUNCTION(\"iferror(VLOOKUP(B482,IMPORTRANGE(\"\"https://docs.google.com/spreadsheets/d/1bphtMaJ6lFh0VVWIgQh8ZCOchBZqvj0w5rveiNYcTnM/edit#gid=0\"\",\"\"RWA!F:BZ\"\"),49,0))\"),\"\")","v":""},{"$f":"IFERROR(__xludf.DUMMYFUNCTION(\"iferror(VLOOKUP(B482,IMPORTRANGE(\"\"https://docs.google.com/spreadsheets/d/1bphtMaJ6lFh0VVWIgQh8ZCOchBZqvj0w5rveiNYcTnM/edit#gid=0\"\",\"\"RWA!F:BZ\"\"),53,0))\"),\"\")","v":""}]
[null,null,null,{"$f":"IFERROR(__xludf.DUMMYFUNCTION(\"iferror(VLOOKUP(B483,IMPORTRANGE(\"\"https://docs.google.com/spreadsheets/d/1bphtMaJ6lFh0VVWIgQh8ZCOchBZqvj0w5rveiNYcTnM/edit#gid=0\"\",\"\"RWA!F:BZ\"\"),44,0))\"),\"\")","v":""},{"$f":"IFERROR(__xludf.DUMMYFUNCTION(\"iferror(VLOOKUP(B483,IMPORTRANGE(\"\"https://docs.google.com/spreadsheets/d/1bphtMaJ6lFh0VVWIgQh8ZCOchBZqvj0w5rveiNYcTnM/edit#gid=0\"\",\"\"RWA!F:BZ\"\"),48,0))\"),\"\")","v":""},{"$f":"IFERROR(__xludf.DUMMYFUNCTION(\"iferror(VLOOKUP(B483,IMPORTRANGE(\"\"https://docs.google.com/spreadsheets/d/1bphtMaJ6lFh0VVWIgQh8ZCOchBZqvj0w5rveiNYcTnM/edit#gid=0\"\",\"\"RWA!F:BZ\"\"),49,0))\"),\"\")","v":""},{"$f":"IFERROR(__xludf.DUMMYFUNCTION(\"iferror(VLOOKUP(B483,IMPORTRANGE(\"\"https://docs.google.com/spreadsheets/d/1bphtMaJ6lFh0VVWIgQh8ZCOchBZqvj0w5rveiNYcTnM/edit#gid=0\"\",\"\"RWA!F:BZ\"\"),53,0))\"),\"\")","v":""}]
[null,null,null,{"$f":"IFERROR(__xludf.DUMMYFUNCTION(\"iferror(VLOOKUP(B484,IMPORTRANGE(\"\"https://docs.google.com/spreadsheets/d/1bphtMaJ6lFh0VVWIgQh8ZCOchBZqvj0w5rveiNYcTnM/edit#gid=0\"\",\"\"RWA!F:BZ\"\"),44,0))\"),\"\")","v":""},{"$f":"IFERROR(__xludf.DUMMYFUNCTION(\"iferror(VLOOKUP(B484,IMPORTRANGE(\"\"https://docs.google.com/spreadsheets/d/1bphtMaJ6lFh0VVWIgQh8ZCOchBZqvj0w5rveiNYcTnM/edit#gid=0\"\",\"\"RWA!F:BZ\"\"),48,0))\"),\"\")","v":""},{"$f":"IFERROR(__xludf.DUMMYFUNCTION(\"iferror(VLOOKUP(B484,IMPORTRANGE(\"\"https://docs.google.com/spreadsheets/d/1bphtMaJ6lFh0VVWIgQh8ZCOchBZqvj0w5rveiNYcTnM/edit#gid=0\"\",\"\"RWA!F:BZ\"\"),49,0))\"),\"\")","v":""},{"$f":"IFERROR(__xludf.DUMMYFUNCTION(\"iferror(VLOOKUP(B484,IMPORTRANGE(\"\"https://docs.google.com/spreadsheets/d/1bphtMaJ6lFh0VVWIgQh8ZCOchBZqvj0w5rveiNYcTnM/edit#gid=0\"\",\"\"RWA!F:BZ\"\"),53,0))\"),\"\")","v":""}]
[null,null,null,{"$f":"IFERROR(__xludf.DUMMYFUNCTION(\"iferror(VLOOKUP(B485,IMPORTRANGE(\"\"https://docs.google.com/spreadsheets/d/1bphtMaJ6lFh0VVWIgQh8ZCOchBZqvj0w5rveiNYcTnM/edit#gid=0\"\",\"\"RWA!F:BZ\"\"),44,0))\"),\"\")","v":""},{"$f":"IFERROR(__xludf.DUMMYFUNCTION(\"iferror(VLOOKUP(B485,IMPORTRANGE(\"\"https://docs.google.com/spreadsheets/d/1bphtMaJ6lFh0VVWIgQh8ZCOchBZqvj0w5rveiNYcTnM/edit#gid=0\"\",\"\"RWA!F:BZ\"\"),48,0))\"),\"\")","v":""},{"$f":"IFERROR(__xludf.DUMMYFUNCTION(\"iferror(VLOOKUP(B485,IMPORTRANGE(\"\"https://docs.google.com/spreadsheets/d/1bphtMaJ6lFh0VVWIgQh8ZCOchBZqvj0w5rveiNYcTnM/edit#gid=0\"\",\"\"RWA!F:BZ\"\"),49,0))\"),\"\")","v":""},{"$f":"IFERROR(__xludf.DUMMYFUNCTION(\"iferror(VLOOKUP(B485,IMPORTRANGE(\"\"https://docs.google.com/spreadsheets/d/1bphtMaJ6lFh0VVWIgQh8ZCOchBZqvj0w5rveiNYcTnM/edit#gid=0\"\",\"\"RWA!F:BZ\"\"),53,0))\"),\"\")","v":""}]
[null,null,null,{"$f":"IFERROR(__xludf.DUMMYFUNCTION(\"iferror(VLOOKUP(B486,IMPORTRANGE(\"\"https://docs.google.com/spreadsheets/d/1bphtMaJ6lFh0VVWIgQh8ZCOchBZqvj0w5rveiNYcTnM/edit#gid=0\"\",\"\"RWA!F:BZ\"\"),44,0))\"),\"\")","v":""},{"$f":"IFERROR(__xludf.DUMMYFUNCTION(\"iferror(VLOOKUP(B486,IMPORTRANGE(\"\"https://docs.google.com/spreadsheets/d/1bphtMaJ6lFh0VVWIgQh8ZCOchBZqvj0w5rveiNYcTnM/edit#gid=0\"\",\"\"RWA!F:BZ\"\"),48,0))\"),\"\")","v":""},{"$f":"IFERROR(__xludf.DUMMYFUNCTION(\"iferror(VLOOKUP(B486,IMPORTRANGE(\"\"https://docs.google.com/spreadsheets/d/1bphtMaJ6lFh0VVWIgQh8ZCOchBZqvj0w5rveiNYcTnM/edit#gid=0\"\",\"\"RWA!F:BZ\"\"),49,0))\"),\"\")","v":""},{"$f":"IFERROR(__xludf.DUMMYFUNCTION(\"iferror(VLOOKUP(B486,IMPORTRANGE(\"\"https://docs.google.com/spreadsheets/d/1bphtMaJ6lFh0VVWIgQh8ZCOchBZqvj0w5rveiNYcTnM/edit#gid=0\"\",\"\"RWA!F:BZ\"\"),53,0))\"),\"\")","v":""}]
[null,null,null,{"$f":"IFERROR(__xludf.DUMMYFUNCTION(\"iferror(VLOOKUP(B487,IMPORTRANGE(\"\"https://docs.google.com/spreadsheets/d/1bphtMaJ6lFh0VVWIgQh8ZCOchBZqvj0w5rveiNYcTnM/edit#gid=0\"\",\"\"RWA!F:BZ\"\"),44,0))\"),\"\")","v":""},{"$f":"IFERROR(__xludf.DUMMYFUNCTION(\"iferror(VLOOKUP(B487,IMPORTRANGE(\"\"https://docs.google.com/spreadsheets/d/1bphtMaJ6lFh0VVWIgQh8ZCOchBZqvj0w5rveiNYcTnM/edit#gid=0\"\",\"\"RWA!F:BZ\"\"),48,0))\"),\"\")","v":""},{"$f":"IFERROR(__xludf.DUMMYFUNCTION(\"iferror(VLOOKUP(B487,IMPORTRANGE(\"\"https://docs.google.com/spreadsheets/d/1bphtMaJ6lFh0VVWIgQh8ZCOchBZqvj0w5rveiNYcTnM/edit#gid=0\"\",\"\"RWA!F:BZ\"\"),49,0))\"),\"\")","v":""},{"$f":"IFERROR(__xludf.DUMMYFUNCTION(\"iferror(VLOOKUP(B487,IMPORTRANGE(\"\"https://docs.google.com/spreadsheets/d/1bphtMaJ6lFh0VVWIgQh8ZCOchBZqvj0w5rveiNYcTnM/edit#gid=0\"\",\"\"RWA!F:BZ\"\"),53,0))\"),\"\")","v":""}]
[null,null,null,{"$f":"IFERROR(__xludf.DUMMYFUNCTION(\"iferror(VLOOKUP(B488,IMPORTRANGE(\"\"https://docs.google.com/spreadsheets/d/1bphtMaJ6lFh0VVWIgQh8ZCOchBZqvj0w5rveiNYcTnM/edit#gid=0\"\",\"\"RWA!F:BZ\"\"),44,0))\"),\"\")","v":""},{"$f":"IFERROR(__xludf.DUMMYFUNCTION(\"iferror(VLOOKUP(B488,IMPORTRANGE(\"\"https://docs.google.com/spreadsheets/d/1bphtMaJ6lFh0VVWIgQh8ZCOchBZqvj0w5rveiNYcTnM/edit#gid=0\"\",\"\"RWA!F:BZ\"\"),48,0))\"),\"\")","v":""},{"$f":"IFERROR(__xludf.DUMMYFUNCTION(\"iferror(VLOOKUP(B488,IMPORTRANGE(\"\"https://docs.google.com/spreadsheets/d/1bphtMaJ6lFh0VVWIgQh8ZCOchBZqvj0w5rveiNYcTnM/edit#gid=0\"\",\"\"RWA!F:BZ\"\"),49,0))\"),\"\")","v":""},{"$f":"IFERROR(__xludf.DUMMYFUNCTION(\"iferror(VLOOKUP(B488,IMPORTRANGE(\"\"https://docs.google.com/spreadsheets/d/1bphtMaJ6lFh0VVWIgQh8ZCOchBZqvj0w5rveiNYcTnM/edit#gid=0\"\",\"\"RWA!F:BZ\"\"),53,0))\"),\"\")","v":""}]
[null,null,null,{"$f":"IFERROR(__xludf.DUMMYFUNCTION(\"iferror(VLOOKUP(B489,IMPORTRANGE(\"\"https://docs.google.com/spreadsheets/d/1bphtMaJ6lFh0VVWIgQh8ZCOchBZqvj0w5rveiNYcTnM/edit#gid=0\"\",\"\"RWA!F:BZ\"\"),44,0))\"),\"\")","v":""},{"$f":"IFERROR(__xludf.DUMMYFUNCTION(\"iferror(VLOOKUP(B489,IMPORTRANGE(\"\"https://docs.google.com/spreadsheets/d/1bphtMaJ6lFh0VVWIgQh8ZCOchBZqvj0w5rveiNYcTnM/edit#gid=0\"\",\"\"RWA!F:BZ\"\"),48,0))\"),\"\")","v":""},{"$f":"IFERROR(__xludf.DUMMYFUNCTION(\"iferror(VLOOKUP(B489,IMPORTRANGE(\"\"https://docs.google.com/spreadsheets/d/1bphtMaJ6lFh0VVWIgQh8ZCOchBZqvj0w5rveiNYcTnM/edit#gid=0\"\",\"\"RWA!F:BZ\"\"),49,0))\"),\"\")","v":""},{"$f":"IFERROR(__xludf.DUMMYFUNCTION(\"iferror(VLOOKUP(B489,IMPORTRANGE(\"\"https://docs.google.com/spreadsheets/d/1bphtMaJ6lFh0VVWIgQh8ZCOchBZqvj0w5rveiNYcTnM/edit#gid=0\"\",\"\"RWA!F:BZ\"\"),53,0))\"),\"\")","v":""}]
[null,null,null,{"$f":"IFERROR(__xludf.DUMMYFUNCTION(\"iferror(VLOOKUP(B490,IMPORTRANGE(\"\"https://docs.google.com/spreadsheets/d/1bphtMaJ6lFh0VVWIgQh8ZCOchBZqvj0w5rveiNYcTnM/edit#gid=0\"\",\"\"RWA!F:BZ\"\"),44,0))\"),\"\")","v":""},{"$f":"IFERROR(__xludf.DUMMYFUNCTION(\"iferror(VLOOKUP(B490,IMPORTRANGE(\"\"https://docs.google.com/spreadsheets/d/1bphtMaJ6lFh0VVWIgQh8ZCOchBZqvj0w5rveiNYcTnM/edit#gid=0\"\",\"\"RWA!F:BZ\"\"),48,0))\"),\"\")","v":""},{"$f":"IFERROR(__xludf.DUMMYFUNCTION(\"iferror(VLOOKUP(B490,IMPORTRANGE(\"\"https://docs.google.com/spreadsheets/d/1bphtMaJ6lFh0VVWIgQh8ZCOchBZqvj0w5rveiNYcTnM/edit#gid=0\"\",\"\"RWA!F:BZ\"\"),49,0))\"),\"\")","v":""},{"$f":"IFERROR(__xludf.DUMMYFUNCTION(\"iferror(VLOOKUP(B490,IMPORTRANGE(\"\"https://docs.google.com/spreadsheets/d/1bphtMaJ6lFh0VVWIgQh8ZCOchBZqvj0w5rveiNYcTnM/edit#gid=0\"\",\"\"RWA!F:BZ\"\"),53,0))\"),\"\")","v":""}]
[null,null,null,{"$f":"IFERROR(__xludf.DUMMYFUNCTION(\"iferror(VLOOKUP(B491,IMPORTRANGE(\"\"https://docs.google.com/spreadsheets/d/1bphtMaJ6lFh0VVWIgQh8ZCOchBZqvj0w5rveiNYcTnM/edit#gid=0\"\",\"\"RWA!F:BZ\"\"),44,0))\"),\"\")","v":""},{"$f":"IFERROR(__xludf.DUMMYFUNCTION(\"iferror(VLOOKUP(B491,IMPORTRANGE(\"\"https://docs.google.com/spreadsheets/d/1bphtMaJ6lFh0VVWIgQh8ZCOchBZqvj0w5rveiNYcTnM/edit#gid=0\"\",\"\"RWA!F:BZ\"\"),48,0))\"),\"\")","v":""},{"$f":"IFERROR(__xludf.DUMMYFUNCTION(\"iferror(VLOOKUP(B491,IMPORTRANGE(\"\"https://docs.google.com/spreadsheets/d/1bphtMaJ6lFh0VVWIgQh8ZCOchBZqvj0w5rveiNYcTnM/edit#gid=0\"\",\"\"RWA!F:BZ\"\"),49,0))\"),\"\")","v":""},{"$f":"IFERROR(__xludf.DUMMYFUNCTION(\"iferror(VLOOKUP(B491,IMPORTRANGE(\"\"https://docs.google.com/spreadsheets/d/1bphtMaJ6lFh0VVWIgQh8ZCOchBZqvj0w5rveiNYcTnM/edit#gid=0\"\",\"\"RWA!F:BZ\"\"),53,0))\"),\"\")","v":""}]
[null,null,null,{"$f":"IFERROR(__xludf.DUMMYFUNCTION(\"iferror(VLOOKUP(B492,IMPORTRANGE(\"\"https://docs.google.com/spreadsheets/d/1bphtMaJ6lFh0VVWIgQh8ZCOchBZqvj0w5rveiNYcTnM/edit#gid=0\"\",\"\"RWA!F:BZ\"\"),44,0))\"),\"\")","v":""},{"$f":"IFERROR(__xludf.DUMMYFUNCTION(\"iferror(VLOOKUP(B492,IMPORTRANGE(\"\"https://docs.google.com/spreadsheets/d/1bphtMaJ6lFh0VVWIgQh8ZCOchBZqvj0w5rveiNYcTnM/edit#gid=0\"\",\"\"RWA!F:BZ\"\"),48,0))\"),\"\")","v":""},{"$f":"IFERROR(__xludf.DUMMYFUNCTION(\"iferror(VLOOKUP(B492,IMPORTRANGE(\"\"https://docs.google.com/spreadsheets/d/1bphtMaJ6lFh0VVWIgQh8ZCOchBZqvj0w5rveiNYcTnM/edit#gid=0\"\",\"\"RWA!F:BZ\"\"),49,0))\"),\"\")","v":""},{"$f":"IFERROR(__xludf.DUMMYFUNCTION(\"iferror(VLOOKUP(B492,IMPORTRANGE(\"\"https://docs.google.com/spreadsheets/d/1bphtMaJ6lFh0VVWIgQh8ZCOchBZqvj0w5rveiNYcTnM/edit#gid=0\"\",\"\"RWA!F:BZ\"\"),53,0))\"),\"\")","v":""}]
[null,null,null,{"$f":"IFERROR(__xludf.DUMMYFUNCTION(\"iferror(VLOOKUP(B493,IMPORTRANGE(\"\"https://docs.google.com/spreadsheets/d/1bphtMaJ6lFh0VVWIgQh8ZCOchBZqvj0w5rveiNYcTnM/edit#gid=0\"\",\"\"RWA!F:BZ\"\"),44,0))\"),\"\")","v":""},{"$f":"IFERROR(__xludf.DUMMYFUNCTION(\"iferror(VLOOKUP(B493,IMPORTRANGE(\"\"https://docs.google.com/spreadsheets/d/1bphtMaJ6lFh0VVWIgQh8ZCOchBZqvj0w5rveiNYcTnM/edit#gid=0\"\",\"\"RWA!F:BZ\"\"),48,0))\"),\"\")","v":""},{"$f":"IFERROR(__xludf.DUMMYFUNCTION(\"iferror(VLOOKUP(B493,IMPORTRANGE(\"\"https://docs.google.com/spreadsheets/d/1bphtMaJ6lFh0VVWIgQh8ZCOchBZqvj0w5rveiNYcTnM/edit#gid=0\"\",\"\"RWA!F:BZ\"\"),49,0))\"),\"\")","v":""},{"$f":"IFERROR(__xludf.DUMMYFUNCTION(\"iferror(VLOOKUP(B493,IMPORTRANGE(\"\"https://docs.google.com/spreadsheets/d/1bphtMaJ6lFh0VVWIgQh8ZCOchBZqvj0w5rveiNYcTnM/edit#gid=0\"\",\"\"RWA!F:BZ\"\"),53,0))\"),\"\")","v":""}]
[null,null,null,{"$f":"IFERROR(__xludf.DUMMYFUNCTION(\"iferror(VLOOKUP(B494,IMPORTRANGE(\"\"https://docs.google.com/spreadsheets/d/1bphtMaJ6lFh0VVWIgQh8ZCOchBZqvj0w5rveiNYcTnM/edit#gid=0\"\",\"\"RWA!F:BZ\"\"),44,0))\"),\"\")","v":""},{"$f":"IFERROR(__xludf.DUMMYFUNCTION(\"iferror(VLOOKUP(B494,IMPORTRANGE(\"\"https://docs.google.com/spreadsheets/d/1bphtMaJ6lFh0VVWIgQh8ZCOchBZqvj0w5rveiNYcTnM/edit#gid=0\"\",\"\"RWA!F:BZ\"\"),48,0))\"),\"\")","v":""},{"$f":"IFERROR(__xludf.DUMMYFUNCTION(\"iferror(VLOOKUP(B494,IMPORTRANGE(\"\"https://docs.google.com/spreadsheets/d/1bphtMaJ6lFh0VVWIgQh8ZCOchBZqvj0w5rveiNYcTnM/edit#gid=0\"\",\"\"RWA!F:BZ\"\"),49,0))\"),\"\")","v":""},{"$f":"IFERROR(__xludf.DUMMYFUNCTION(\"iferror(VLOOKUP(B494,IMPORTRANGE(\"\"https://docs.google.com/spreadsheets/d/1bphtMaJ6lFh0VVWIgQh8ZCOchBZqvj0w5rveiNYcTnM/edit#gid=0\"\",\"\"RWA!F:BZ\"\"),53,0))\"),\"\")","v":""}]
[null,null,null,{"$f":"IFERROR(__xludf.DUMMYFUNCTION(\"iferror(VLOOKUP(B495,IMPORTRANGE(\"\"https://docs.google.com/spreadsheets/d/1bphtMaJ6lFh0VVWIgQh8ZCOchBZqvj0w5rveiNYcTnM/edit#gid=0\"\",\"\"RWA!F:BZ\"\"),44,0))\"),\"\")","v":""},{"$f":"IFERROR(__xludf.DUMMYFUNCTION(\"iferror(VLOOKUP(B495,IMPORTRANGE(\"\"https://docs.google.com/spreadsheets/d/1bphtMaJ6lFh0VVWIgQh8ZCOchBZqvj0w5rveiNYcTnM/edit#gid=0\"\",\"\"RWA!F:BZ\"\"),48,0))\"),\"\")","v":""},{"$f":"IFERROR(__xludf.DUMMYFUNCTION(\"iferror(VLOOKUP(B495,IMPORTRANGE(\"\"https://docs.google.com/spreadsheets/d/1bphtMaJ6lFh0VVWIgQh8ZCOchBZqvj0w5rveiNYcTnM/edit#gid=0\"\",\"\"RWA!F:BZ\"\"),49,0))\"),\"\")","v":""},{"$f":"IFERROR(__xludf.DUMMYFUNCTION(\"iferror(VLOOKUP(B495,IMPORTRANGE(\"\"https://docs.google.com/spreadsheets/d/1bphtMaJ6lFh0VVWIgQh8ZCOchBZqvj0w5rveiNYcTnM/edit#gid=0\"\",\"\"RWA!F:BZ\"\"),53,0))\"),\"\")","v":""}]
[null,null,null,{"$f":"IFERROR(__xludf.DUMMYFUNCTION(\"iferror(VLOOKUP(B496,IMPORTRANGE(\"\"https://docs.google.com/spreadsheets/d/1bphtMaJ6lFh0VVWIgQh8ZCOchBZqvj0w5rveiNYcTnM/edit#gid=0\"\",\"\"RWA!F:BZ\"\"),44,0))\"),\"\")","v":""},{"$f":"IFERROR(__xludf.DUMMYFUNCTION(\"iferror(VLOOKUP(B496,IMPORTRANGE(\"\"https://docs.google.com/spreadsheets/d/1bphtMaJ6lFh0VVWIgQh8ZCOchBZqvj0w5rveiNYcTnM/edit#gid=0\"\",\"\"RWA!F:BZ\"\"),48,0))\"),\"\")","v":""},{"$f":"IFERROR(__xludf.DUMMYFUNCTION(\"iferror(VLOOKUP(B496,IMPORTRANGE(\"\"https://docs.google.com/spreadsheets/d/1bphtMaJ6lFh0VVWIgQh8ZCOchBZqvj0w5rveiNYcTnM/edit#gid=0\"\",\"\"RWA!F:BZ\"\"),49,0))\"),\"\")","v":""},{"$f":"IFERROR(__xludf.DUMMYFUNCTION(\"iferror(VLOOKUP(B496,IMPORTRANGE(\"\"https://docs.google.com/spreadsheets/d/1bphtMaJ6lFh0VVWIgQh8ZCOchBZqvj0w5rveiNYcTnM/edit#gid=0\"\",\"\"RWA!F:BZ\"\"),53,0))\"),\"\")","v":""}]
[null,null,null,{"$f":"IFERROR(__xludf.DUMMYFUNCTION(\"iferror(VLOOKUP(B497,IMPORTRANGE(\"\"https://docs.google.com/spreadsheets/d/1bphtMaJ6lFh0VVWIgQh8ZCOchBZqvj0w5rveiNYcTnM/edit#gid=0\"\",\"\"RWA!F:BZ\"\"),44,0))\"),\"\")","v":""},{"$f":"IFERROR(__xludf.DUMMYFUNCTION(\"iferror(VLOOKUP(B497,IMPORTRANGE(\"\"https://docs.google.com/spreadsheets/d/1bphtMaJ6lFh0VVWIgQh8ZCOchBZqvj0w5rveiNYcTnM/edit#gid=0\"\",\"\"RWA!F:BZ\"\"),48,0))\"),\"\")","v":""},{"$f":"IFERROR(__xludf.DUMMYFUNCTION(\"iferror(VLOOKUP(B497,IMPORTRANGE(\"\"https://docs.google.com/spreadsheets/d/1bphtMaJ6lFh0VVWIgQh8ZCOchBZqvj0w5rveiNYcTnM/edit#gid=0\"\",\"\"RWA!F:BZ\"\"),49,0))\"),\"\")","v":""},{"$f":"IFERROR(__xludf.DUMMYFUNCTION(\"iferror(VLOOKUP(B497,IMPORTRANGE(\"\"https://docs.google.com/spreadsheets/d/1bphtMaJ6lFh0VVWIgQh8ZCOchBZqvj0w5rveiNYcTnM/edit#gid=0\"\",\"\"RWA!F:BZ\"\"),53,0))\"),\"\")","v":""}]
[null,null,null,{"$f":"IFERROR(__xludf.DUMMYFUNCTION(\"iferror(VLOOKUP(B498,IMPORTRANGE(\"\"https://docs.google.com/spreadsheets/d/1bphtMaJ6lFh0VVWIgQh8ZCOchBZqvj0w5rveiNYcTnM/edit#gid=0\"\",\"\"RWA!F:BZ\"\"),44,0))\"),\"\")","v":""},{"$f":"IFERROR(__xludf.DUMMYFUNCTION(\"iferror(VLOOKUP(B498,IMPORTRANGE(\"\"https://docs.google.com/spreadsheets/d/1bphtMaJ6lFh0VVWIgQh8ZCOchBZqvj0w5rveiNYcTnM/edit#gid=0\"\",\"\"RWA!F:BZ\"\"),48,0))\"),\"\")","v":""},{"$f":"IFERROR(__xludf.DUMMYFUNCTION(\"iferror(VLOOKUP(B498,IMPORTRANGE(\"\"https://docs.google.com/spreadsheets/d/1bphtMaJ6lFh0VVWIgQh8ZCOchBZqvj0w5rveiNYcTnM/edit#gid=0\"\",\"\"RWA!F:BZ\"\"),49,0))\"),\"\")","v":""},{"$f":"IFERROR(__xludf.DUMMYFUNCTION(\"iferror(VLOOKUP(B498,IMPORTRANGE(\"\"https://docs.google.com/spreadsheets/d/1bphtMaJ6lFh0VVWIgQh8ZCOchBZqvj0w5rveiNYcTnM/edit#gid=0\"\",\"\"RWA!F:BZ\"\"),53,0))\"),\"\")","v":""}]
[null,null,null,{"$f":"IFERROR(__xludf.DUMMYFUNCTION(\"iferror(VLOOKUP(B499,IMPORTRANGE(\"\"https://docs.google.com/spreadsheets/d/1bphtMaJ6lFh0VVWIgQh8ZCOchBZqvj0w5rveiNYcTnM/edit#gid=0\"\",\"\"RWA!F:BZ\"\"),44,0))\"),\"\")","v":""},{"$f":"IFERROR(__xludf.DUMMYFUNCTION(\"iferror(VLOOKUP(B499,IMPORTRANGE(\"\"https://docs.google.com/spreadsheets/d/1bphtMaJ6lFh0VVWIgQh8ZCOchBZqvj0w5rveiNYcTnM/edit#gid=0\"\",\"\"RWA!F:BZ\"\"),48,0))\"),\"\")","v":""},{"$f":"IFERROR(__xludf.DUMMYFUNCTION(\"iferror(VLOOKUP(B499,IMPORTRANGE(\"\"https://docs.google.com/spreadsheets/d/1bphtMaJ6lFh0VVWIgQh8ZCOchBZqvj0w5rveiNYcTnM/edit#gid=0\"\",\"\"RWA!F:BZ\"\"),49,0))\"),\"\")","v":""},{"$f":"IFERROR(__xludf.DUMMYFUNCTION(\"iferror(VLOOKUP(B499,IMPORTRANGE(\"\"https://docs.google.com/spreadsheets/d/1bphtMaJ6lFh0VVWIgQh8ZCOchBZqvj0w5rveiNYcTnM/edit#gid=0\"\",\"\"RWA!F:BZ\"\"),53,0))\"),\"\")","v":""}]
[null,null,null,{"$f":"IFERROR(__xludf.DUMMYFUNCTION(\"iferror(VLOOKUP(B500,IMPORTRANGE(\"\"https://docs.google.com/spreadsheets/d/1bphtMaJ6lFh0VVWIgQh8ZCOchBZqvj0w5rveiNYcTnM/edit#gid=0\"\",\"\"RWA!F:BZ\"\"),44,0))\"),\"\")","v":""},{"$f":"IFERROR(__xludf.DUMMYFUNCTION(\"iferror(VLOOKUP(B500,IMPORTRANGE(\"\"https://docs.google.com/spreadsheets/d/1bphtMaJ6lFh0VVWIgQh8ZCOchBZqvj0w5rveiNYcTnM/edit#gid=0\"\",\"\"RWA!F:BZ\"\"),48,0))\"),\"\")","v":""},{"$f":"IFERROR(__xludf.DUMMYFUNCTION(\"iferror(VLOOKUP(B500,IMPORTRANGE(\"\"https://docs.google.com/spreadsheets/d/1bphtMaJ6lFh0VVWIgQh8ZCOchBZqvj0w5rveiNYcTnM/edit#gid=0\"\",\"\"RWA!F:BZ\"\"),49,0))\"),\"\")","v":""},{"$f":"IFERROR(__xludf.DUMMYFUNCTION(\"iferror(VLOOKUP(B500,IMPORTRANGE(\"\"https://docs.google.com/spreadsheets/d/1bphtMaJ6lFh0VVWIgQh8ZCOchBZqvj0w5rveiNYcTnM/edit#gid=0\"\",\"\"RWA!F:BZ\"\"),53,0))\"),\"\")","v":""}]
[null,null,null,{"$f":"IFERROR(__xludf.DUMMYFUNCTION(\"iferror(VLOOKUP(B501,IMPORTRANGE(\"\"https://docs.google.com/spreadsheets/d/1bphtMaJ6lFh0VVWIgQh8ZCOchBZqvj0w5rveiNYcTnM/edit#gid=0\"\",\"\"RWA!F:BZ\"\"),44,0))\"),\"\")","v":""},{"$f":"IFERROR(__xludf.DUMMYFUNCTION(\"iferror(VLOOKUP(B501,IMPORTRANGE(\"\"https://docs.google.com/spreadsheets/d/1bphtMaJ6lFh0VVWIgQh8ZCOchBZqvj0w5rveiNYcTnM/edit#gid=0\"\",\"\"RWA!F:BZ\"\"),48,0))\"),\"\")","v":""},{"$f":"IFERROR(__xludf.DUMMYFUNCTION(\"iferror(VLOOKUP(B501,IMPORTRANGE(\"\"https://docs.google.com/spreadsheets/d/1bphtMaJ6lFh0VVWIgQh8ZCOchBZqvj0w5rveiNYcTnM/edit#gid=0\"\",\"\"RWA!F:BZ\"\"),49,0))\"),\"\")","v":""},{"$f":"IFERROR(__xludf.DUMMYFUNCTION(\"iferror(VLOOKUP(B501,IMPORTRANGE(\"\"https://docs.google.com/spreadsheets/d/1bphtMaJ6lFh0VVWIgQh8ZCOchBZqvj0w5rveiNYcTnM/edit#gid=0\"\",\"\"RWA!F:BZ\"\"),53,0))\"),\"\")","v":""}]
[null,null,null,{"$f":"IFERROR(__xludf.DUMMYFUNCTION(\"iferror(VLOOKUP(B502,IMPORTRANGE(\"\"https://docs.google.com/spreadsheets/d/1bphtMaJ6lFh0VVWIgQh8ZCOchBZqvj0w5rveiNYcTnM/edit#gid=0\"\",\"\"RWA!F:BZ\"\"),44,0))\"),\"\")","v":""},{"$f":"IFERROR(__xludf.DUMMYFUNCTION(\"iferror(VLOOKUP(B502,IMPORTRANGE(\"\"https://docs.google.com/spreadsheets/d/1bphtMaJ6lFh0VVWIgQh8ZCOchBZqvj0w5rveiNYcTnM/edit#gid=0\"\",\"\"RWA!F:BZ\"\"),48,0))\"),\"\")","v":""},{"$f":"IFERROR(__xludf.DUMMYFUNCTION(\"iferror(VLOOKUP(B502,IMPORTRANGE(\"\"https://docs.google.com/spreadsheets/d/1bphtMaJ6lFh0VVWIgQh8ZCOchBZqvj0w5rveiNYcTnM/edit#gid=0\"\",\"\"RWA!F:BZ\"\"),49,0))\"),\"\")","v":""},{"$f":"IFERROR(__xludf.DUMMYFUNCTION(\"iferror(VLOOKUP(B502,IMPORTRANGE(\"\"https://docs.google.com/spreadsheets/d/1bphtMaJ6lFh0VVWIgQh8ZCOchBZqvj0w5rveiNYcTnM/edit#gid=0\"\",\"\"RWA!F:BZ\"\"),53,0))\"),\"\")","v":""}]
[null,null,null,{"$f":"IFERROR(__xludf.DUMMYFUNCTION(\"iferror(VLOOKUP(B503,IMPORTRANGE(\"\"https://docs.google.com/spreadsheets/d/1bphtMaJ6lFh0VVWIgQh8ZCOchBZqvj0w5rveiNYcTnM/edit#gid=0\"\",\"\"RWA!F:BZ\"\"),44,0))\"),\"\")","v":""},{"$f":"IFERROR(__xludf.DUMMYFUNCTION(\"iferror(VLOOKUP(B503,IMPORTRANGE(\"\"https://docs.google.com/spreadsheets/d/1bphtMaJ6lFh0VVWIgQh8ZCOchBZqvj0w5rveiNYcTnM/edit#gid=0\"\",\"\"RWA!F:BZ\"\"),48,0))\"),\"\")","v":""},{"$f":"IFERROR(__xludf.DUMMYFUNCTION(\"iferror(VLOOKUP(B503,IMPORTRANGE(\"\"https://docs.google.com/spreadsheets/d/1bphtMaJ6lFh0VVWIgQh8ZCOchBZqvj0w5rveiNYcTnM/edit#gid=0\"\",\"\"RWA!F:BZ\"\"),49,0))\"),\"\")","v":""},{"$f":"IFERROR(__xludf.DUMMYFUNCTION(\"iferror(VLOOKUP(B503,IMPORTRANGE(\"\"https://docs.google.com/spreadsheets/d/1bphtMaJ6lFh0VVWIgQh8ZCOchBZqvj0w5rveiNYcTnM/edit#gid=0\"\",\"\"RWA!F:BZ\"\"),53,0))\"),\"\")","v":""}]
[null,null,null,{"$f":"IFERROR(__xludf.DUMMYFUNCTION(\"iferror(VLOOKUP(B504,IMPORTRANGE(\"\"https://docs.google.com/spreadsheets/d/1bphtMaJ6lFh0VVWIgQh8ZCOchBZqvj0w5rveiNYcTnM/edit#gid=0\"\",\"\"RWA!F:BZ\"\"),44,0))\"),\"\")","v":""},{"$f":"IFERROR(__xludf.DUMMYFUNCTION(\"iferror(VLOOKUP(B504,IMPORTRANGE(\"\"https://docs.google.com/spreadsheets/d/1bphtMaJ6lFh0VVWIgQh8ZCOchBZqvj0w5rveiNYcTnM/edit#gid=0\"\",\"\"RWA!F:BZ\"\"),48,0))\"),\"\")","v":""},{"$f":"IFERROR(__xludf.DUMMYFUNCTION(\"iferror(VLOOKUP(B504,IMPORTRANGE(\"\"https://docs.google.com/spreadsheets/d/1bphtMaJ6lFh0VVWIgQh8ZCOchBZqvj0w5rveiNYcTnM/edit#gid=0\"\",\"\"RWA!F:BZ\"\"),49,0))\"),\"\")","v":""},{"$f":"IFERROR(__xludf.DUMMYFUNCTION(\"iferror(VLOOKUP(B504,IMPORTRANGE(\"\"https://docs.google.com/spreadsheets/d/1bphtMaJ6lFh0VVWIgQh8ZCOchBZqvj0w5rveiNYcTnM/edit#gid=0\"\",\"\"RWA!F:BZ\"\"),53,0))\"),\"\")","v":""}]
[null,null,null,{"$f":"IFERROR(__xludf.DUMMYFUNCTION(\"iferror(VLOOKUP(B505,IMPORTRANGE(\"\"https://docs.google.com/spreadsheets/d/1bphtMaJ6lFh0VVWIgQh8ZCOchBZqvj0w5rveiNYcTnM/edit#gid=0\"\",\"\"RWA!F:BZ\"\"),44,0))\"),\"\")","v":""},{"$f":"IFERROR(__xludf.DUMMYFUNCTION(\"iferror(VLOOKUP(B505,IMPORTRANGE(\"\"https://docs.google.com/spreadsheets/d/1bphtMaJ6lFh0VVWIgQh8ZCOchBZqvj0w5rveiNYcTnM/edit#gid=0\"\",\"\"RWA!F:BZ\"\"),48,0))\"),\"\")","v":""},{"$f":"IFERROR(__xludf.DUMMYFUNCTION(\"iferror(VLOOKUP(B505,IMPORTRANGE(\"\"https://docs.google.com/spreadsheets/d/1bphtMaJ6lFh0VVWIgQh8ZCOchBZqvj0w5rveiNYcTnM/edit#gid=0\"\",\"\"RWA!F:BZ\"\"),49,0))\"),\"\")","v":""},{"$f":"IFERROR(__xludf.DUMMYFUNCTION(\"iferror(VLOOKUP(B505,IMPORTRANGE(\"\"https://docs.google.com/spreadsheets/d/1bphtMaJ6lFh0VVWIgQh8ZCOchBZqvj0w5rveiNYcTnM/edit#gid=0\"\",\"\"RWA!F:BZ\"\"),53,0))\"),\"\")","v":""}]
[null,null,null,{"$f":"IFERROR(__xludf.DUMMYFUNCTION(\"iferror(VLOOKUP(B506,IMPORTRANGE(\"\"https://docs.google.com/spreadsheets/d/1bphtMaJ6lFh0VVWIgQh8ZCOchBZqvj0w5rveiNYcTnM/edit#gid=0\"\",\"\"RWA!F:BZ\"\"),44,0))\"),\"\")","v":""},{"$f":"IFERROR(__xludf.DUMMYFUNCTION(\"iferror(VLOOKUP(B506,IMPORTRANGE(\"\"https://docs.google.com/spreadsheets/d/1bphtMaJ6lFh0VVWIgQh8ZCOchBZqvj0w5rveiNYcTnM/edit#gid=0\"\",\"\"RWA!F:BZ\"\"),48,0))\"),\"\")","v":""},{"$f":"IFERROR(__xludf.DUMMYFUNCTION(\"iferror(VLOOKUP(B506,IMPORTRANGE(\"\"https://docs.google.com/spreadsheets/d/1bphtMaJ6lFh0VVWIgQh8ZCOchBZqvj0w5rveiNYcTnM/edit#gid=0\"\",\"\"RWA!F:BZ\"\"),49,0))\"),\"\")","v":""},{"$f":"IFERROR(__xludf.DUMMYFUNCTION(\"iferror(VLOOKUP(B506,IMPORTRANGE(\"\"https://docs.google.com/spreadsheets/d/1bphtMaJ6lFh0VVWIgQh8ZCOchBZqvj0w5rveiNYcTnM/edit#gid=0\"\",\"\"RWA!F:BZ\"\"),53,0))\"),\"\")","v":""}]
[null,null,null,{"$f":"IFERROR(__xludf.DUMMYFUNCTION(\"iferror(VLOOKUP(B507,IMPORTRANGE(\"\"https://docs.google.com/spreadsheets/d/1bphtMaJ6lFh0VVWIgQh8ZCOchBZqvj0w5rveiNYcTnM/edit#gid=0\"\",\"\"RWA!F:BZ\"\"),44,0))\"),\"\")","v":""},{"$f":"IFERROR(__xludf.DUMMYFUNCTION(\"iferror(VLOOKUP(B507,IMPORTRANGE(\"\"https://docs.google.com/spreadsheets/d/1bphtMaJ6lFh0VVWIgQh8ZCOchBZqvj0w5rveiNYcTnM/edit#gid=0\"\",\"\"RWA!F:BZ\"\"),48,0))\"),\"\")","v":""},{"$f":"IFERROR(__xludf.DUMMYFUNCTION(\"iferror(VLOOKUP(B507,IMPORTRANGE(\"\"https://docs.google.com/spreadsheets/d/1bphtMaJ6lFh0VVWIgQh8ZCOchBZqvj0w5rveiNYcTnM/edit#gid=0\"\",\"\"RWA!F:BZ\"\"),49,0))\"),\"\")","v":""},{"$f":"IFERROR(__xludf.DUMMYFUNCTION(\"iferror(VLOOKUP(B507,IMPORTRANGE(\"\"https://docs.google.com/spreadsheets/d/1bphtMaJ6lFh0VVWIgQh8ZCOchBZqvj0w5rveiNYcTnM/edit#gid=0\"\",\"\"RWA!F:BZ\"\"),53,0))\"),\"\")","v":""}]
[null,null,null,{"$f":"IFERROR(__xludf.DUMMYFUNCTION(\"iferror(VLOOKUP(B508,IMPORTRANGE(\"\"https://docs.google.com/spreadsheets/d/1bphtMaJ6lFh0VVWIgQh8ZCOchBZqvj0w5rveiNYcTnM/edit#gid=0\"\",\"\"RWA!F:BZ\"\"),44,0))\"),\"\")","v":""},{"$f":"IFERROR(__xludf.DUMMYFUNCTION(\"iferror(VLOOKUP(B508,IMPORTRANGE(\"\"https://docs.google.com/spreadsheets/d/1bphtMaJ6lFh0VVWIgQh8ZCOchBZqvj0w5rveiNYcTnM/edit#gid=0\"\",\"\"RWA!F:BZ\"\"),48,0))\"),\"\")","v":""},{"$f":"IFERROR(__xludf.DUMMYFUNCTION(\"iferror(VLOOKUP(B508,IMPORTRANGE(\"\"https://docs.google.com/spreadsheets/d/1bphtMaJ6lFh0VVWIgQh8ZCOchBZqvj0w5rveiNYcTnM/edit#gid=0\"\",\"\"RWA!F:BZ\"\"),49,0))\"),\"\")","v":""},{"$f":"IFERROR(__xludf.DUMMYFUNCTION(\"iferror(VLOOKUP(B508,IMPORTRANGE(\"\"https://docs.google.com/spreadsheets/d/1bphtMaJ6lFh0VVWIgQh8ZCOchBZqvj0w5rveiNYcTnM/edit#gid=0\"\",\"\"RWA!F:BZ\"\"),53,0))\"),\"\")","v":""}]
[null,null,null,{"$f":"IFERROR(__xludf.DUMMYFUNCTION(\"iferror(VLOOKUP(B509,IMPORTRANGE(\"\"https://docs.google.com/spreadsheets/d/1bphtMaJ6lFh0VVWIgQh8ZCOchBZqvj0w5rveiNYcTnM/edit#gid=0\"\",\"\"RWA!F:BZ\"\"),44,0))\"),\"\")","v":""},{"$f":"IFERROR(__xludf.DUMMYFUNCTION(\"iferror(VLOOKUP(B509,IMPORTRANGE(\"\"https://docs.google.com/spreadsheets/d/1bphtMaJ6lFh0VVWIgQh8ZCOchBZqvj0w5rveiNYcTnM/edit#gid=0\"\",\"\"RWA!F:BZ\"\"),48,0))\"),\"\")","v":""},{"$f":"IFERROR(__xludf.DUMMYFUNCTION(\"iferror(VLOOKUP(B509,IMPORTRANGE(\"\"https://docs.google.com/spreadsheets/d/1bphtMaJ6lFh0VVWIgQh8ZCOchBZqvj0w5rveiNYcTnM/edit#gid=0\"\",\"\"RWA!F:BZ\"\"),49,0))\"),\"\")","v":""},{"$f":"IFERROR(__xludf.DUMMYFUNCTION(\"iferror(VLOOKUP(B509,IMPORTRANGE(\"\"https://docs.google.com/spreadsheets/d/1bphtMaJ6lFh0VVWIgQh8ZCOchBZqvj0w5rveiNYcTnM/edit#gid=0\"\",\"\"RWA!F:BZ\"\"),53,0))\"),\"\")","v":""}]
[null,null,null,{"$f":"IFERROR(__xludf.DUMMYFUNCTION(\"iferror(VLOOKUP(B510,IMPORTRANGE(\"\"https://docs.google.com/spreadsheets/d/1bphtMaJ6lFh0VVWIgQh8ZCOchBZqvj0w5rveiNYcTnM/edit#gid=0\"\",\"\"RWA!F:BZ\"\"),44,0))\"),\"\")","v":""},{"$f":"IFERROR(__xludf.DUMMYFUNCTION(\"iferror(VLOOKUP(B510,IMPORTRANGE(\"\"https://docs.google.com/spreadsheets/d/1bphtMaJ6lFh0VVWIgQh8ZCOchBZqvj0w5rveiNYcTnM/edit#gid=0\"\",\"\"RWA!F:BZ\"\"),48,0))\"),\"\")","v":""},{"$f":"IFERROR(__xludf.DUMMYFUNCTION(\"iferror(VLOOKUP(B510,IMPORTRANGE(\"\"https://docs.google.com/spreadsheets/d/1bphtMaJ6lFh0VVWIgQh8ZCOchBZqvj0w5rveiNYcTnM/edit#gid=0\"\",\"\"RWA!F:BZ\"\"),49,0))\"),\"\")","v":""},{"$f":"IFERROR(__xludf.DUMMYFUNCTION(\"iferror(VLOOKUP(B510,IMPORTRANGE(\"\"https://docs.google.com/spreadsheets/d/1bphtMaJ6lFh0VVWIgQh8ZCOchBZqvj0w5rveiNYcTnM/edit#gid=0\"\",\"\"RWA!F:BZ\"\"),53,0))\"),\"\")","v":""}]
[null,null,null,{"$f":"IFERROR(__xludf.DUMMYFUNCTION(\"iferror(VLOOKUP(B511,IMPORTRANGE(\"\"https://docs.google.com/spreadsheets/d/1bphtMaJ6lFh0VVWIgQh8ZCOchBZqvj0w5rveiNYcTnM/edit#gid=0\"\",\"\"RWA!F:BZ\"\"),44,0))\"),\"\")","v":""},{"$f":"IFERROR(__xludf.DUMMYFUNCTION(\"iferror(VLOOKUP(B511,IMPORTRANGE(\"\"https://docs.google.com/spreadsheets/d/1bphtMaJ6lFh0VVWIgQh8ZCOchBZqvj0w5rveiNYcTnM/edit#gid=0\"\",\"\"RWA!F:BZ\"\"),48,0))\"),\"\")","v":""},{"$f":"IFERROR(__xludf.DUMMYFUNCTION(\"iferror(VLOOKUP(B511,IMPORTRANGE(\"\"https://docs.google.com/spreadsheets/d/1bphtMaJ6lFh0VVWIgQh8ZCOchBZqvj0w5rveiNYcTnM/edit#gid=0\"\",\"\"RWA!F:BZ\"\"),49,0))\"),\"\")","v":""},{"$f":"IFERROR(__xludf.DUMMYFUNCTION(\"iferror(VLOOKUP(B511,IMPORTRANGE(\"\"https://docs.google.com/spreadsheets/d/1bphtMaJ6lFh0VVWIgQh8ZCOchBZqvj0w5rveiNYcTnM/edit#gid=0\"\",\"\"RWA!F:BZ\"\"),53,0))\"),\"\")","v":""}]
[null,null,null,{"$f":"IFERROR(__xludf.DUMMYFUNCTION(\"iferror(VLOOKUP(B512,IMPORTRANGE(\"\"https://docs.google.com/spreadsheets/d/1bphtMaJ6lFh0VVWIgQh8ZCOchBZqvj0w5rveiNYcTnM/edit#gid=0\"\",\"\"RWA!F:BZ\"\"),44,0))\"),\"\")","v":""},{"$f":"IFERROR(__xludf.DUMMYFUNCTION(\"iferror(VLOOKUP(B512,IMPORTRANGE(\"\"https://docs.google.com/spreadsheets/d/1bphtMaJ6lFh0VVWIgQh8ZCOchBZqvj0w5rveiNYcTnM/edit#gid=0\"\",\"\"RWA!F:BZ\"\"),48,0))\"),\"\")","v":""},{"$f":"IFERROR(__xludf.DUMMYFUNCTION(\"iferror(VLOOKUP(B512,IMPORTRANGE(\"\"https://docs.google.com/spreadsheets/d/1bphtMaJ6lFh0VVWIgQh8ZCOchBZqvj0w5rveiNYcTnM/edit#gid=0\"\",\"\"RWA!F:BZ\"\"),49,0))\"),\"\")","v":""},{"$f":"IFERROR(__xludf.DUMMYFUNCTION(\"iferror(VLOOKUP(B512,IMPORTRANGE(\"\"https://docs.google.com/spreadsheets/d/1bphtMaJ6lFh0VVWIgQh8ZCOchBZqvj0w5rveiNYcTnM/edit#gid=0\"\",\"\"RWA!F:BZ\"\"),53,0))\"),\"\")","v":""}]
[null,null,null,{"$f":"IFERROR(__xludf.DUMMYFUNCTION(\"iferror(VLOOKUP(B513,IMPORTRANGE(\"\"https://docs.google.com/spreadsheets/d/1bphtMaJ6lFh0VVWIgQh8ZCOchBZqvj0w5rveiNYcTnM/edit#gid=0\"\",\"\"RWA!F:BZ\"\"),44,0))\"),\"\")","v":""},{"$f":"IFERROR(__xludf.DUMMYFUNCTION(\"iferror(VLOOKUP(B513,IMPORTRANGE(\"\"https://docs.google.com/spreadsheets/d/1bphtMaJ6lFh0VVWIgQh8ZCOchBZqvj0w5rveiNYcTnM/edit#gid=0\"\",\"\"RWA!F:BZ\"\"),48,0))\"),\"\")","v":""},{"$f":"IFERROR(__xludf.DUMMYFUNCTION(\"iferror(VLOOKUP(B513,IMPORTRANGE(\"\"https://docs.google.com/spreadsheets/d/1bphtMaJ6lFh0VVWIgQh8ZCOchBZqvj0w5rveiNYcTnM/edit#gid=0\"\",\"\"RWA!F:BZ\"\"),49,0))\"),\"\")","v":""},{"$f":"IFERROR(__xludf.DUMMYFUNCTION(\"iferror(VLOOKUP(B513,IMPORTRANGE(\"\"https://docs.google.com/spreadsheets/d/1bphtMaJ6lFh0VVWIgQh8ZCOchBZqvj0w5rveiNYcTnM/edit#gid=0\"\",\"\"RWA!F:BZ\"\"),53,0))\"),\"\")","v":""}]
[null,null,null,{"$f":"IFERROR(__xludf.DUMMYFUNCTION(\"iferror(VLOOKUP(B514,IMPORTRANGE(\"\"https://docs.google.com/spreadsheets/d/1bphtMaJ6lFh0VVWIgQh8ZCOchBZqvj0w5rveiNYcTnM/edit#gid=0\"\",\"\"RWA!F:BZ\"\"),44,0))\"),\"\")","v":""},{"$f":"IFERROR(__xludf.DUMMYFUNCTION(\"iferror(VLOOKUP(B514,IMPORTRANGE(\"\"https://docs.google.com/spreadsheets/d/1bphtMaJ6lFh0VVWIgQh8ZCOchBZqvj0w5rveiNYcTnM/edit#gid=0\"\",\"\"RWA!F:BZ\"\"),48,0))\"),\"\")","v":""},{"$f":"IFERROR(__xludf.DUMMYFUNCTION(\"iferror(VLOOKUP(B514,IMPORTRANGE(\"\"https://docs.google.com/spreadsheets/d/1bphtMaJ6lFh0VVWIgQh8ZCOchBZqvj0w5rveiNYcTnM/edit#gid=0\"\",\"\"RWA!F:BZ\"\"),49,0))\"),\"\")","v":""},{"$f":"IFERROR(__xludf.DUMMYFUNCTION(\"iferror(VLOOKUP(B514,IMPORTRANGE(\"\"https://docs.google.com/spreadsheets/d/1bphtMaJ6lFh0VVWIgQh8ZCOchBZqvj0w5rveiNYcTnM/edit#gid=0\"\",\"\"RWA!F:BZ\"\"),53,0))\"),\"\")","v":""}]
[null,null,null,{"$f":"IFERROR(__xludf.DUMMYFUNCTION(\"iferror(VLOOKUP(B515,IMPORTRANGE(\"\"https://docs.google.com/spreadsheets/d/1bphtMaJ6lFh0VVWIgQh8ZCOchBZqvj0w5rveiNYcTnM/edit#gid=0\"\",\"\"RWA!F:BZ\"\"),44,0))\"),\"\")","v":""},{"$f":"IFERROR(__xludf.DUMMYFUNCTION(\"iferror(VLOOKUP(B515,IMPORTRANGE(\"\"https://docs.google.com/spreadsheets/d/1bphtMaJ6lFh0VVWIgQh8ZCOchBZqvj0w5rveiNYcTnM/edit#gid=0\"\",\"\"RWA!F:BZ\"\"),48,0))\"),\"\")","v":""},{"$f":"IFERROR(__xludf.DUMMYFUNCTION(\"iferror(VLOOKUP(B515,IMPORTRANGE(\"\"https://docs.google.com/spreadsheets/d/1bphtMaJ6lFh0VVWIgQh8ZCOchBZqvj0w5rveiNYcTnM/edit#gid=0\"\",\"\"RWA!F:BZ\"\"),49,0))\"),\"\")","v":""},{"$f":"IFERROR(__xludf.DUMMYFUNCTION(\"iferror(VLOOKUP(B515,IMPORTRANGE(\"\"https://docs.google.com/spreadsheets/d/1bphtMaJ6lFh0VVWIgQh8ZCOchBZqvj0w5rveiNYcTnM/edit#gid=0\"\",\"\"RWA!F:BZ\"\"),53,0))\"),\"\")","v":""}]
[null,null,null,{"$f":"IFERROR(__xludf.DUMMYFUNCTION(\"iferror(VLOOKUP(B516,IMPORTRANGE(\"\"https://docs.google.com/spreadsheets/d/1bphtMaJ6lFh0VVWIgQh8ZCOchBZqvj0w5rveiNYcTnM/edit#gid=0\"\",\"\"RWA!F:BZ\"\"),44,0))\"),\"\")","v":""},{"$f":"IFERROR(__xludf.DUMMYFUNCTION(\"iferror(VLOOKUP(B516,IMPORTRANGE(\"\"https://docs.google.com/spreadsheets/d/1bphtMaJ6lFh0VVWIgQh8ZCOchBZqvj0w5rveiNYcTnM/edit#gid=0\"\",\"\"RWA!F:BZ\"\"),48,0))\"),\"\")","v":""},{"$f":"IFERROR(__xludf.DUMMYFUNCTION(\"iferror(VLOOKUP(B516,IMPORTRANGE(\"\"https://docs.google.com/spreadsheets/d/1bphtMaJ6lFh0VVWIgQh8ZCOchBZqvj0w5rveiNYcTnM/edit#gid=0\"\",\"\"RWA!F:BZ\"\"),49,0))\"),\"\")","v":""},{"$f":"IFERROR(__xludf.DUMMYFUNCTION(\"iferror(VLOOKUP(B516,IMPORTRANGE(\"\"https://docs.google.com/spreadsheets/d/1bphtMaJ6lFh0VVWIgQh8ZCOchBZqvj0w5rveiNYcTnM/edit#gid=0\"\",\"\"RWA!F:BZ\"\"),53,0))\"),\"\")","v":""}]
[null,null,null,{"$f":"IFERROR(__xludf.DUMMYFUNCTION(\"iferror(VLOOKUP(B517,IMPORTRANGE(\"\"https://docs.google.com/spreadsheets/d/1bphtMaJ6lFh0VVWIgQh8ZCOchBZqvj0w5rveiNYcTnM/edit#gid=0\"\",\"\"RWA!F:BZ\"\"),44,0))\"),\"\")","v":""},{"$f":"IFERROR(__xludf.DUMMYFUNCTION(\"iferror(VLOOKUP(B517,IMPORTRANGE(\"\"https://docs.google.com/spreadsheets/d/1bphtMaJ6lFh0VVWIgQh8ZCOchBZqvj0w5rveiNYcTnM/edit#gid=0\"\",\"\"RWA!F:BZ\"\"),48,0))\"),\"\")","v":""},{"$f":"IFERROR(__xludf.DUMMYFUNCTION(\"iferror(VLOOKUP(B517,IMPORTRANGE(\"\"https://docs.google.com/spreadsheets/d/1bphtMaJ6lFh0VVWIgQh8ZCOchBZqvj0w5rveiNYcTnM/edit#gid=0\"\",\"\"RWA!F:BZ\"\"),49,0))\"),\"\")","v":""},{"$f":"IFERROR(__xludf.DUMMYFUNCTION(\"iferror(VLOOKUP(B517,IMPORTRANGE(\"\"https://docs.google.com/spreadsheets/d/1bphtMaJ6lFh0VVWIgQh8ZCOchBZqvj0w5rveiNYcTnM/edit#gid=0\"\",\"\"RWA!F:BZ\"\"),53,0))\"),\"\")","v":""}]
[null,null,null,{"$f":"IFERROR(__xludf.DUMMYFUNCTION(\"iferror(VLOOKUP(B518,IMPORTRANGE(\"\"https://docs.google.com/spreadsheets/d/1bphtMaJ6lFh0VVWIgQh8ZCOchBZqvj0w5rveiNYcTnM/edit#gid=0\"\",\"\"RWA!F:BZ\"\"),44,0))\"),\"\")","v":""},{"$f":"IFERROR(__xludf.DUMMYFUNCTION(\"iferror(VLOOKUP(B518,IMPORTRANGE(\"\"https://docs.google.com/spreadsheets/d/1bphtMaJ6lFh0VVWIgQh8ZCOchBZqvj0w5rveiNYcTnM/edit#gid=0\"\",\"\"RWA!F:BZ\"\"),48,0))\"),\"\")","v":""},{"$f":"IFERROR(__xludf.DUMMYFUNCTION(\"iferror(VLOOKUP(B518,IMPORTRANGE(\"\"https://docs.google.com/spreadsheets/d/1bphtMaJ6lFh0VVWIgQh8ZCOchBZqvj0w5rveiNYcTnM/edit#gid=0\"\",\"\"RWA!F:BZ\"\"),49,0))\"),\"\")","v":""},{"$f":"IFERROR(__xludf.DUMMYFUNCTION(\"iferror(VLOOKUP(B518,IMPORTRANGE(\"\"https://docs.google.com/spreadsheets/d/1bphtMaJ6lFh0VVWIgQh8ZCOchBZqvj0w5rveiNYcTnM/edit#gid=0\"\",\"\"RWA!F:BZ\"\"),53,0))\"),\"\")","v":""}]
[null,null,null,{"$f":"IFERROR(__xludf.DUMMYFUNCTION(\"iferror(VLOOKUP(B519,IMPORTRANGE(\"\"https://docs.google.com/spreadsheets/d/1bphtMaJ6lFh0VVWIgQh8ZCOchBZqvj0w5rveiNYcTnM/edit#gid=0\"\",\"\"RWA!F:BZ\"\"),44,0))\"),\"\")","v":""},{"$f":"IFERROR(__xludf.DUMMYFUNCTION(\"iferror(VLOOKUP(B519,IMPORTRANGE(\"\"https://docs.google.com/spreadsheets/d/1bphtMaJ6lFh0VVWIgQh8ZCOchBZqvj0w5rveiNYcTnM/edit#gid=0\"\",\"\"RWA!F:BZ\"\"),48,0))\"),\"\")","v":""},{"$f":"IFERROR(__xludf.DUMMYFUNCTION(\"iferror(VLOOKUP(B519,IMPORTRANGE(\"\"https://docs.google.com/spreadsheets/d/1bphtMaJ6lFh0VVWIgQh8ZCOchBZqvj0w5rveiNYcTnM/edit#gid=0\"\",\"\"RWA!F:BZ\"\"),49,0))\"),\"\")","v":""},{"$f":"IFERROR(__xludf.DUMMYFUNCTION(\"iferror(VLOOKUP(B519,IMPORTRANGE(\"\"https://docs.google.com/spreadsheets/d/1bphtMaJ6lFh0VVWIgQh8ZCOchBZqvj0w5rveiNYcTnM/edit#gid=0\"\",\"\"RWA!F:BZ\"\"),53,0))\"),\"\")","v":""}]
[null,null,null,{"$f":"IFERROR(__xludf.DUMMYFUNCTION(\"iferror(VLOOKUP(B520,IMPORTRANGE(\"\"https://docs.google.com/spreadsheets/d/1bphtMaJ6lFh0VVWIgQh8ZCOchBZqvj0w5rveiNYcTnM/edit#gid=0\"\",\"\"RWA!F:BZ\"\"),44,0))\"),\"\")","v":""},{"$f":"IFERROR(__xludf.DUMMYFUNCTION(\"iferror(VLOOKUP(B520,IMPORTRANGE(\"\"https://docs.google.com/spreadsheets/d/1bphtMaJ6lFh0VVWIgQh8ZCOchBZqvj0w5rveiNYcTnM/edit#gid=0\"\",\"\"RWA!F:BZ\"\"),48,0))\"),\"\")","v":""},{"$f":"IFERROR(__xludf.DUMMYFUNCTION(\"iferror(VLOOKUP(B520,IMPORTRANGE(\"\"https://docs.google.com/spreadsheets/d/1bphtMaJ6lFh0VVWIgQh8ZCOchBZqvj0w5rveiNYcTnM/edit#gid=0\"\",\"\"RWA!F:BZ\"\"),49,0))\"),\"\")","v":""},{"$f":"IFERROR(__xludf.DUMMYFUNCTION(\"iferror(VLOOKUP(B520,IMPORTRANGE(\"\"https://docs.google.com/spreadsheets/d/1bphtMaJ6lFh0VVWIgQh8ZCOchBZqvj0w5rveiNYcTnM/edit#gid=0\"\",\"\"RWA!F:BZ\"\"),53,0))\"),\"\")","v":""}]
[null,null,null,{"$f":"IFERROR(__xludf.DUMMYFUNCTION(\"iferror(VLOOKUP(B521,IMPORTRANGE(\"\"https://docs.google.com/spreadsheets/d/1bphtMaJ6lFh0VVWIgQh8ZCOchBZqvj0w5rveiNYcTnM/edit#gid=0\"\",\"\"RWA!F:BZ\"\"),44,0))\"),\"\")","v":""},{"$f":"IFERROR(__xludf.DUMMYFUNCTION(\"iferror(VLOOKUP(B521,IMPORTRANGE(\"\"https://docs.google.com/spreadsheets/d/1bphtMaJ6lFh0VVWIgQh8ZCOchBZqvj0w5rveiNYcTnM/edit#gid=0\"\",\"\"RWA!F:BZ\"\"),48,0))\"),\"\")","v":""},{"$f":"IFERROR(__xludf.DUMMYFUNCTION(\"iferror(VLOOKUP(B521,IMPORTRANGE(\"\"https://docs.google.com/spreadsheets/d/1bphtMaJ6lFh0VVWIgQh8ZCOchBZqvj0w5rveiNYcTnM/edit#gid=0\"\",\"\"RWA!F:BZ\"\"),49,0))\"),\"\")","v":""},{"$f":"IFERROR(__xludf.DUMMYFUNCTION(\"iferror(VLOOKUP(B521,IMPORTRANGE(\"\"https://docs.google.com/spreadsheets/d/1bphtMaJ6lFh0VVWIgQh8ZCOchBZqvj0w5rveiNYcTnM/edit#gid=0\"\",\"\"RWA!F:BZ\"\"),53,0))\"),\"\")","v":""}]
[null,null,null,{"$f":"IFERROR(__xludf.DUMMYFUNCTION(\"iferror(VLOOKUP(B522,IMPORTRANGE(\"\"https://docs.google.com/spreadsheets/d/1bphtMaJ6lFh0VVWIgQh8ZCOchBZqvj0w5rveiNYcTnM/edit#gid=0\"\",\"\"RWA!F:BZ\"\"),44,0))\"),\"\")","v":""},{"$f":"IFERROR(__xludf.DUMMYFUNCTION(\"iferror(VLOOKUP(B522,IMPORTRANGE(\"\"https://docs.google.com/spreadsheets/d/1bphtMaJ6lFh0VVWIgQh8ZCOchBZqvj0w5rveiNYcTnM/edit#gid=0\"\",\"\"RWA!F:BZ\"\"),48,0))\"),\"\")","v":""},{"$f":"IFERROR(__xludf.DUMMYFUNCTION(\"iferror(VLOOKUP(B522,IMPORTRANGE(\"\"https://docs.google.com/spreadsheets/d/1bphtMaJ6lFh0VVWIgQh8ZCOchBZqvj0w5rveiNYcTnM/edit#gid=0\"\",\"\"RWA!F:BZ\"\"),49,0))\"),\"\")","v":""},{"$f":"IFERROR(__xludf.DUMMYFUNCTION(\"iferror(VLOOKUP(B522,IMPORTRANGE(\"\"https://docs.google.com/spreadsheets/d/1bphtMaJ6lFh0VVWIgQh8ZCOchBZqvj0w5rveiNYcTnM/edit#gid=0\"\",\"\"RWA!F:BZ\"\"),53,0))\"),\"\")","v":""}]
[null,null,null,{"$f":"IFERROR(__xludf.DUMMYFUNCTION(\"iferror(VLOOKUP(B523,IMPORTRANGE(\"\"https://docs.google.com/spreadsheets/d/1bphtMaJ6lFh0VVWIgQh8ZCOchBZqvj0w5rveiNYcTnM/edit#gid=0\"\",\"\"RWA!F:BZ\"\"),44,0))\"),\"\")","v":""},{"$f":"IFERROR(__xludf.DUMMYFUNCTION(\"iferror(VLOOKUP(B523,IMPORTRANGE(\"\"https://docs.google.com/spreadsheets/d/1bphtMaJ6lFh0VVWIgQh8ZCOchBZqvj0w5rveiNYcTnM/edit#gid=0\"\",\"\"RWA!F:BZ\"\"),48,0))\"),\"\")","v":""},{"$f":"IFERROR(__xludf.DUMMYFUNCTION(\"iferror(VLOOKUP(B523,IMPORTRANGE(\"\"https://docs.google.com/spreadsheets/d/1bphtMaJ6lFh0VVWIgQh8ZCOchBZqvj0w5rveiNYcTnM/edit#gid=0\"\",\"\"RWA!F:BZ\"\"),49,0))\"),\"\")","v":""},{"$f":"IFERROR(__xludf.DUMMYFUNCTION(\"iferror(VLOOKUP(B523,IMPORTRANGE(\"\"https://docs.google.com/spreadsheets/d/1bphtMaJ6lFh0VVWIgQh8ZCOchBZqvj0w5rveiNYcTnM/edit#gid=0\"\",\"\"RWA!F:BZ\"\"),53,0))\"),\"\")","v":""}]
[null,null,null,{"$f":"IFERROR(__xludf.DUMMYFUNCTION(\"iferror(VLOOKUP(B524,IMPORTRANGE(\"\"https://docs.google.com/spreadsheets/d/1bphtMaJ6lFh0VVWIgQh8ZCOchBZqvj0w5rveiNYcTnM/edit#gid=0\"\",\"\"RWA!F:BZ\"\"),44,0))\"),\"\")","v":""},{"$f":"IFERROR(__xludf.DUMMYFUNCTION(\"iferror(VLOOKUP(B524,IMPORTRANGE(\"\"https://docs.google.com/spreadsheets/d/1bphtMaJ6lFh0VVWIgQh8ZCOchBZqvj0w5rveiNYcTnM/edit#gid=0\"\",\"\"RWA!F:BZ\"\"),48,0))\"),\"\")","v":""},{"$f":"IFERROR(__xludf.DUMMYFUNCTION(\"iferror(VLOOKUP(B524,IMPORTRANGE(\"\"https://docs.google.com/spreadsheets/d/1bphtMaJ6lFh0VVWIgQh8ZCOchBZqvj0w5rveiNYcTnM/edit#gid=0\"\",\"\"RWA!F:BZ\"\"),49,0))\"),\"\")","v":""},{"$f":"IFERROR(__xludf.DUMMYFUNCTION(\"iferror(VLOOKUP(B524,IMPORTRANGE(\"\"https://docs.google.com/spreadsheets/d/1bphtMaJ6lFh0VVWIgQh8ZCOchBZqvj0w5rveiNYcTnM/edit#gid=0\"\",\"\"RWA!F:BZ\"\"),53,0))\"),\"\")","v":""}]
[null,null,null,{"$f":"IFERROR(__xludf.DUMMYFUNCTION(\"iferror(VLOOKUP(B525,IMPORTRANGE(\"\"https://docs.google.com/spreadsheets/d/1bphtMaJ6lFh0VVWIgQh8ZCOchBZqvj0w5rveiNYcTnM/edit#gid=0\"\",\"\"RWA!F:BZ\"\"),44,0))\"),\"\")","v":""},{"$f":"IFERROR(__xludf.DUMMYFUNCTION(\"iferror(VLOOKUP(B525,IMPORTRANGE(\"\"https://docs.google.com/spreadsheets/d/1bphtMaJ6lFh0VVWIgQh8ZCOchBZqvj0w5rveiNYcTnM/edit#gid=0\"\",\"\"RWA!F:BZ\"\"),48,0))\"),\"\")","v":""},{"$f":"IFERROR(__xludf.DUMMYFUNCTION(\"iferror(VLOOKUP(B525,IMPORTRANGE(\"\"https://docs.google.com/spreadsheets/d/1bphtMaJ6lFh0VVWIgQh8ZCOchBZqvj0w5rveiNYcTnM/edit#gid=0\"\",\"\"RWA!F:BZ\"\"),49,0))\"),\"\")","v":""},{"$f":"IFERROR(__xludf.DUMMYFUNCTION(\"iferror(VLOOKUP(B525,IMPORTRANGE(\"\"https://docs.google.com/spreadsheets/d/1bphtMaJ6lFh0VVWIgQh8ZCOchBZqvj0w5rveiNYcTnM/edit#gid=0\"\",\"\"RWA!F:BZ\"\"),53,0))\"),\"\")","v":""}]
[null,null,null,{"$f":"IFERROR(__xludf.DUMMYFUNCTION(\"iferror(VLOOKUP(B526,IMPORTRANGE(\"\"https://docs.google.com/spreadsheets/d/1bphtMaJ6lFh0VVWIgQh8ZCOchBZqvj0w5rveiNYcTnM/edit#gid=0\"\",\"\"RWA!F:BZ\"\"),44,0))\"),\"\")","v":""},{"$f":"IFERROR(__xludf.DUMMYFUNCTION(\"iferror(VLOOKUP(B526,IMPORTRANGE(\"\"https://docs.google.com/spreadsheets/d/1bphtMaJ6lFh0VVWIgQh8ZCOchBZqvj0w5rveiNYcTnM/edit#gid=0\"\",\"\"RWA!F:BZ\"\"),48,0))\"),\"\")","v":""},{"$f":"IFERROR(__xludf.DUMMYFUNCTION(\"iferror(VLOOKUP(B526,IMPORTRANGE(\"\"https://docs.google.com/spreadsheets/d/1bphtMaJ6lFh0VVWIgQh8ZCOchBZqvj0w5rveiNYcTnM/edit#gid=0\"\",\"\"RWA!F:BZ\"\"),49,0))\"),\"\")","v":""},{"$f":"IFERROR(__xludf.DUMMYFUNCTION(\"iferror(VLOOKUP(B526,IMPORTRANGE(\"\"https://docs.google.com/spreadsheets/d/1bphtMaJ6lFh0VVWIgQh8ZCOchBZqvj0w5rveiNYcTnM/edit#gid=0\"\",\"\"RWA!F:BZ\"\"),53,0))\"),\"\")","v":""}]
[null,null,null,{"$f":"IFERROR(__xludf.DUMMYFUNCTION(\"iferror(VLOOKUP(B527,IMPORTRANGE(\"\"https://docs.google.com/spreadsheets/d/1bphtMaJ6lFh0VVWIgQh8ZCOchBZqvj0w5rveiNYcTnM/edit#gid=0\"\",\"\"RWA!F:BZ\"\"),44,0))\"),\"\")","v":""},{"$f":"IFERROR(__xludf.DUMMYFUNCTION(\"iferror(VLOOKUP(B527,IMPORTRANGE(\"\"https://docs.google.com/spreadsheets/d/1bphtMaJ6lFh0VVWIgQh8ZCOchBZqvj0w5rveiNYcTnM/edit#gid=0\"\",\"\"RWA!F:BZ\"\"),48,0))\"),\"\")","v":""},{"$f":"IFERROR(__xludf.DUMMYFUNCTION(\"iferror(VLOOKUP(B527,IMPORTRANGE(\"\"https://docs.google.com/spreadsheets/d/1bphtMaJ6lFh0VVWIgQh8ZCOchBZqvj0w5rveiNYcTnM/edit#gid=0\"\",\"\"RWA!F:BZ\"\"),49,0))\"),\"\")","v":""},{"$f":"IFERROR(__xludf.DUMMYFUNCTION(\"iferror(VLOOKUP(B527,IMPORTRANGE(\"\"https://docs.google.com/spreadsheets/d/1bphtMaJ6lFh0VVWIgQh8ZCOchBZqvj0w5rveiNYcTnM/edit#gid=0\"\",\"\"RWA!F:BZ\"\"),53,0))\"),\"\")","v":""}]
[null,null,null,{"$f":"IFERROR(__xludf.DUMMYFUNCTION(\"iferror(VLOOKUP(B528,IMPORTRANGE(\"\"https://docs.google.com/spreadsheets/d/1bphtMaJ6lFh0VVWIgQh8ZCOchBZqvj0w5rveiNYcTnM/edit#gid=0\"\",\"\"RWA!F:BZ\"\"),44,0))\"),\"\")","v":""},{"$f":"IFERROR(__xludf.DUMMYFUNCTION(\"iferror(VLOOKUP(B528,IMPORTRANGE(\"\"https://docs.google.com/spreadsheets/d/1bphtMaJ6lFh0VVWIgQh8ZCOchBZqvj0w5rveiNYcTnM/edit#gid=0\"\",\"\"RWA!F:BZ\"\"),48,0))\"),\"\")","v":""},{"$f":"IFERROR(__xludf.DUMMYFUNCTION(\"iferror(VLOOKUP(B528,IMPORTRANGE(\"\"https://docs.google.com/spreadsheets/d/1bphtMaJ6lFh0VVWIgQh8ZCOchBZqvj0w5rveiNYcTnM/edit#gid=0\"\",\"\"RWA!F:BZ\"\"),49,0))\"),\"\")","v":""},{"$f":"IFERROR(__xludf.DUMMYFUNCTION(\"iferror(VLOOKUP(B528,IMPORTRANGE(\"\"https://docs.google.com/spreadsheets/d/1bphtMaJ6lFh0VVWIgQh8ZCOchBZqvj0w5rveiNYcTnM/edit#gid=0\"\",\"\"RWA!F:BZ\"\"),53,0))\"),\"\")","v":""}]
[null,null,null,{"$f":"IFERROR(__xludf.DUMMYFUNCTION(\"iferror(VLOOKUP(B529,IMPORTRANGE(\"\"https://docs.google.com/spreadsheets/d/1bphtMaJ6lFh0VVWIgQh8ZCOchBZqvj0w5rveiNYcTnM/edit#gid=0\"\",\"\"RWA!F:BZ\"\"),44,0))\"),\"\")","v":""},{"$f":"IFERROR(__xludf.DUMMYFUNCTION(\"iferror(VLOOKUP(B529,IMPORTRANGE(\"\"https://docs.google.com/spreadsheets/d/1bphtMaJ6lFh0VVWIgQh8ZCOchBZqvj0w5rveiNYcTnM/edit#gid=0\"\",\"\"RWA!F:BZ\"\"),48,0))\"),\"\")","v":""},{"$f":"IFERROR(__xludf.DUMMYFUNCTION(\"iferror(VLOOKUP(B529,IMPORTRANGE(\"\"https://docs.google.com/spreadsheets/d/1bphtMaJ6lFh0VVWIgQh8ZCOchBZqvj0w5rveiNYcTnM/edit#gid=0\"\",\"\"RWA!F:BZ\"\"),49,0))\"),\"\")","v":""},{"$f":"IFERROR(__xludf.DUMMYFUNCTION(\"iferror(VLOOKUP(B529,IMPORTRANGE(\"\"https://docs.google.com/spreadsheets/d/1bphtMaJ6lFh0VVWIgQh8ZCOchBZqvj0w5rveiNYcTnM/edit#gid=0\"\",\"\"RWA!F:BZ\"\"),53,0))\"),\"\")","v":""}]
[null,null,null,{"$f":"IFERROR(__xludf.DUMMYFUNCTION(\"iferror(VLOOKUP(B530,IMPORTRANGE(\"\"https://docs.google.com/spreadsheets/d/1bphtMaJ6lFh0VVWIgQh8ZCOchBZqvj0w5rveiNYcTnM/edit#gid=0\"\",\"\"RWA!F:BZ\"\"),44,0))\"),\"\")","v":""},{"$f":"IFERROR(__xludf.DUMMYFUNCTION(\"iferror(VLOOKUP(B530,IMPORTRANGE(\"\"https://docs.google.com/spreadsheets/d/1bphtMaJ6lFh0VVWIgQh8ZCOchBZqvj0w5rveiNYcTnM/edit#gid=0\"\",\"\"RWA!F:BZ\"\"),48,0))\"),\"\")","v":""},{"$f":"IFERROR(__xludf.DUMMYFUNCTION(\"iferror(VLOOKUP(B530,IMPORTRANGE(\"\"https://docs.google.com/spreadsheets/d/1bphtMaJ6lFh0VVWIgQh8ZCOchBZqvj0w5rveiNYcTnM/edit#gid=0\"\",\"\"RWA!F:BZ\"\"),49,0))\"),\"\")","v":""},{"$f":"IFERROR(__xludf.DUMMYFUNCTION(\"iferror(VLOOKUP(B530,IMPORTRANGE(\"\"https://docs.google.com/spreadsheets/d/1bphtMaJ6lFh0VVWIgQh8ZCOchBZqvj0w5rveiNYcTnM/edit#gid=0\"\",\"\"RWA!F:BZ\"\"),53,0))\"),\"\")","v":""}]
[null,null,null,{"$f":"IFERROR(__xludf.DUMMYFUNCTION(\"iferror(VLOOKUP(B531,IMPORTRANGE(\"\"https://docs.google.com/spreadsheets/d/1bphtMaJ6lFh0VVWIgQh8ZCOchBZqvj0w5rveiNYcTnM/edit#gid=0\"\",\"\"RWA!F:BZ\"\"),44,0))\"),\"\")","v":""},{"$f":"IFERROR(__xludf.DUMMYFUNCTION(\"iferror(VLOOKUP(B531,IMPORTRANGE(\"\"https://docs.google.com/spreadsheets/d/1bphtMaJ6lFh0VVWIgQh8ZCOchBZqvj0w5rveiNYcTnM/edit#gid=0\"\",\"\"RWA!F:BZ\"\"),48,0))\"),\"\")","v":""},{"$f":"IFERROR(__xludf.DUMMYFUNCTION(\"iferror(VLOOKUP(B531,IMPORTRANGE(\"\"https://docs.google.com/spreadsheets/d/1bphtMaJ6lFh0VVWIgQh8ZCOchBZqvj0w5rveiNYcTnM/edit#gid=0\"\",\"\"RWA!F:BZ\"\"),49,0))\"),\"\")","v":""},{"$f":"IFERROR(__xludf.DUMMYFUNCTION(\"iferror(VLOOKUP(B531,IMPORTRANGE(\"\"https://docs.google.com/spreadsheets/d/1bphtMaJ6lFh0VVWIgQh8ZCOchBZqvj0w5rveiNYcTnM/edit#gid=0\"\",\"\"RWA!F:BZ\"\"),53,0))\"),\"\")","v":""}]
[null,null,null,{"$f":"IFERROR(__xludf.DUMMYFUNCTION(\"iferror(VLOOKUP(B532,IMPORTRANGE(\"\"https://docs.google.com/spreadsheets/d/1bphtMaJ6lFh0VVWIgQh8ZCOchBZqvj0w5rveiNYcTnM/edit#gid=0\"\",\"\"RWA!F:BZ\"\"),44,0))\"),\"\")","v":""},{"$f":"IFERROR(__xludf.DUMMYFUNCTION(\"iferror(VLOOKUP(B532,IMPORTRANGE(\"\"https://docs.google.com/spreadsheets/d/1bphtMaJ6lFh0VVWIgQh8ZCOchBZqvj0w5rveiNYcTnM/edit#gid=0\"\",\"\"RWA!F:BZ\"\"),48,0))\"),\"\")","v":""},{"$f":"IFERROR(__xludf.DUMMYFUNCTION(\"iferror(VLOOKUP(B532,IMPORTRANGE(\"\"https://docs.google.com/spreadsheets/d/1bphtMaJ6lFh0VVWIgQh8ZCOchBZqvj0w5rveiNYcTnM/edit#gid=0\"\",\"\"RWA!F:BZ\"\"),49,0))\"),\"\")","v":""},{"$f":"IFERROR(__xludf.DUMMYFUNCTION(\"iferror(VLOOKUP(B532,IMPORTRANGE(\"\"https://docs.google.com/spreadsheets/d/1bphtMaJ6lFh0VVWIgQh8ZCOchBZqvj0w5rveiNYcTnM/edit#gid=0\"\",\"\"RWA!F:BZ\"\"),53,0))\"),\"\")","v":""}]
[null,null,null,{"$f":"IFERROR(__xludf.DUMMYFUNCTION(\"iferror(VLOOKUP(B533,IMPORTRANGE(\"\"https://docs.google.com/spreadsheets/d/1bphtMaJ6lFh0VVWIgQh8ZCOchBZqvj0w5rveiNYcTnM/edit#gid=0\"\",\"\"RWA!F:BZ\"\"),44,0))\"),\"\")","v":""},{"$f":"IFERROR(__xludf.DUMMYFUNCTION(\"iferror(VLOOKUP(B533,IMPORTRANGE(\"\"https://docs.google.com/spreadsheets/d/1bphtMaJ6lFh0VVWIgQh8ZCOchBZqvj0w5rveiNYcTnM/edit#gid=0\"\",\"\"RWA!F:BZ\"\"),48,0))\"),\"\")","v":""},{"$f":"IFERROR(__xludf.DUMMYFUNCTION(\"iferror(VLOOKUP(B533,IMPORTRANGE(\"\"https://docs.google.com/spreadsheets/d/1bphtMaJ6lFh0VVWIgQh8ZCOchBZqvj0w5rveiNYcTnM/edit#gid=0\"\",\"\"RWA!F:BZ\"\"),49,0))\"),\"\")","v":""},{"$f":"IFERROR(__xludf.DUMMYFUNCTION(\"iferror(VLOOKUP(B533,IMPORTRANGE(\"\"https://docs.google.com/spreadsheets/d/1bphtMaJ6lFh0VVWIgQh8ZCOchBZqvj0w5rveiNYcTnM/edit#gid=0\"\",\"\"RWA!F:BZ\"\"),53,0))\"),\"\")","v":""}]
[null,null,null,{"$f":"IFERROR(__xludf.DUMMYFUNCTION(\"iferror(VLOOKUP(B534,IMPORTRANGE(\"\"https://docs.google.com/spreadsheets/d/1bphtMaJ6lFh0VVWIgQh8ZCOchBZqvj0w5rveiNYcTnM/edit#gid=0\"\",\"\"RWA!F:BZ\"\"),44,0))\"),\"\")","v":""},{"$f":"IFERROR(__xludf.DUMMYFUNCTION(\"iferror(VLOOKUP(B534,IMPORTRANGE(\"\"https://docs.google.com/spreadsheets/d/1bphtMaJ6lFh0VVWIgQh8ZCOchBZqvj0w5rveiNYcTnM/edit#gid=0\"\",\"\"RWA!F:BZ\"\"),48,0))\"),\"\")","v":""},{"$f":"IFERROR(__xludf.DUMMYFUNCTION(\"iferror(VLOOKUP(B534,IMPORTRANGE(\"\"https://docs.google.com/spreadsheets/d/1bphtMaJ6lFh0VVWIgQh8ZCOchBZqvj0w5rveiNYcTnM/edit#gid=0\"\",\"\"RWA!F:BZ\"\"),49,0))\"),\"\")","v":""},{"$f":"IFERROR(__xludf.DUMMYFUNCTION(\"iferror(VLOOKUP(B534,IMPORTRANGE(\"\"https://docs.google.com/spreadsheets/d/1bphtMaJ6lFh0VVWIgQh8ZCOchBZqvj0w5rveiNYcTnM/edit#gid=0\"\",\"\"RWA!F:BZ\"\"),53,0))\"),\"\")","v":""}]
[null,null,null,{"$f":"IFERROR(__xludf.DUMMYFUNCTION(\"iferror(VLOOKUP(B535,IMPORTRANGE(\"\"https://docs.google.com/spreadsheets/d/1bphtMaJ6lFh0VVWIgQh8ZCOchBZqvj0w5rveiNYcTnM/edit#gid=0\"\",\"\"RWA!F:BZ\"\"),44,0))\"),\"\")","v":""},{"$f":"IFERROR(__xludf.DUMMYFUNCTION(\"iferror(VLOOKUP(B535,IMPORTRANGE(\"\"https://docs.google.com/spreadsheets/d/1bphtMaJ6lFh0VVWIgQh8ZCOchBZqvj0w5rveiNYcTnM/edit#gid=0\"\",\"\"RWA!F:BZ\"\"),48,0))\"),\"\")","v":""},{"$f":"IFERROR(__xludf.DUMMYFUNCTION(\"iferror(VLOOKUP(B535,IMPORTRANGE(\"\"https://docs.google.com/spreadsheets/d/1bphtMaJ6lFh0VVWIgQh8ZCOchBZqvj0w5rveiNYcTnM/edit#gid=0\"\",\"\"RWA!F:BZ\"\"),49,0))\"),\"\")","v":""},{"$f":"IFERROR(__xludf.DUMMYFUNCTION(\"iferror(VLOOKUP(B535,IMPORTRANGE(\"\"https://docs.google.com/spreadsheets/d/1bphtMaJ6lFh0VVWIgQh8ZCOchBZqvj0w5rveiNYcTnM/edit#gid=0\"\",\"\"RWA!F:BZ\"\"),53,0))\"),\"\")","v":""}]
[null,null,null,{"$f":"IFERROR(__xludf.DUMMYFUNCTION(\"iferror(VLOOKUP(B536,IMPORTRANGE(\"\"https://docs.google.com/spreadsheets/d/1bphtMaJ6lFh0VVWIgQh8ZCOchBZqvj0w5rveiNYcTnM/edit#gid=0\"\",\"\"RWA!F:BZ\"\"),44,0))\"),\"\")","v":""},{"$f":"IFERROR(__xludf.DUMMYFUNCTION(\"iferror(VLOOKUP(B536,IMPORTRANGE(\"\"https://docs.google.com/spreadsheets/d/1bphtMaJ6lFh0VVWIgQh8ZCOchBZqvj0w5rveiNYcTnM/edit#gid=0\"\",\"\"RWA!F:BZ\"\"),48,0))\"),\"\")","v":""},{"$f":"IFERROR(__xludf.DUMMYFUNCTION(\"iferror(VLOOKUP(B536,IMPORTRANGE(\"\"https://docs.google.com/spreadsheets/d/1bphtMaJ6lFh0VVWIgQh8ZCOchBZqvj0w5rveiNYcTnM/edit#gid=0\"\",\"\"RWA!F:BZ\"\"),49,0))\"),\"\")","v":""},{"$f":"IFERROR(__xludf.DUMMYFUNCTION(\"iferror(VLOOKUP(B536,IMPORTRANGE(\"\"https://docs.google.com/spreadsheets/d/1bphtMaJ6lFh0VVWIgQh8ZCOchBZqvj0w5rveiNYcTnM/edit#gid=0\"\",\"\"RWA!F:BZ\"\"),53,0))\"),\"\")","v":""}]
[null,null,null,{"$f":"IFERROR(__xludf.DUMMYFUNCTION(\"iferror(VLOOKUP(B537,IMPORTRANGE(\"\"https://docs.google.com/spreadsheets/d/1bphtMaJ6lFh0VVWIgQh8ZCOchBZqvj0w5rveiNYcTnM/edit#gid=0\"\",\"\"RWA!F:BZ\"\"),44,0))\"),\"\")","v":""},{"$f":"IFERROR(__xludf.DUMMYFUNCTION(\"iferror(VLOOKUP(B537,IMPORTRANGE(\"\"https://docs.google.com/spreadsheets/d/1bphtMaJ6lFh0VVWIgQh8ZCOchBZqvj0w5rveiNYcTnM/edit#gid=0\"\",\"\"RWA!F:BZ\"\"),48,0))\"),\"\")","v":""},{"$f":"IFERROR(__xludf.DUMMYFUNCTION(\"iferror(VLOOKUP(B537,IMPORTRANGE(\"\"https://docs.google.com/spreadsheets/d/1bphtMaJ6lFh0VVWIgQh8ZCOchBZqvj0w5rveiNYcTnM/edit#gid=0\"\",\"\"RWA!F:BZ\"\"),49,0))\"),\"\")","v":""},{"$f":"IFERROR(__xludf.DUMMYFUNCTION(\"iferror(VLOOKUP(B537,IMPORTRANGE(\"\"https://docs.google.com/spreadsheets/d/1bphtMaJ6lFh0VVWIgQh8ZCOchBZqvj0w5rveiNYcTnM/edit#gid=0\"\",\"\"RWA!F:BZ\"\"),53,0))\"),\"\")","v":""}]
[null,null,null,{"$f":"IFERROR(__xludf.DUMMYFUNCTION(\"iferror(VLOOKUP(B538,IMPORTRANGE(\"\"https://docs.google.com/spreadsheets/d/1bphtMaJ6lFh0VVWIgQh8ZCOchBZqvj0w5rveiNYcTnM/edit#gid=0\"\",\"\"RWA!F:BZ\"\"),44,0))\"),\"\")","v":""},{"$f":"IFERROR(__xludf.DUMMYFUNCTION(\"iferror(VLOOKUP(B538,IMPORTRANGE(\"\"https://docs.google.com/spreadsheets/d/1bphtMaJ6lFh0VVWIgQh8ZCOchBZqvj0w5rveiNYcTnM/edit#gid=0\"\",\"\"RWA!F:BZ\"\"),48,0))\"),\"\")","v":""},{"$f":"IFERROR(__xludf.DUMMYFUNCTION(\"iferror(VLOOKUP(B538,IMPORTRANGE(\"\"https://docs.google.com/spreadsheets/d/1bphtMaJ6lFh0VVWIgQh8ZCOchBZqvj0w5rveiNYcTnM/edit#gid=0\"\",\"\"RWA!F:BZ\"\"),49,0))\"),\"\")","v":""},{"$f":"IFERROR(__xludf.DUMMYFUNCTION(\"iferror(VLOOKUP(B538,IMPORTRANGE(\"\"https://docs.google.com/spreadsheets/d/1bphtMaJ6lFh0VVWIgQh8ZCOchBZqvj0w5rveiNYcTnM/edit#gid=0\"\",\"\"RWA!F:BZ\"\"),53,0))\"),\"\")","v":""}]
[null,null,null,{"$f":"IFERROR(__xludf.DUMMYFUNCTION(\"iferror(VLOOKUP(B539,IMPORTRANGE(\"\"https://docs.google.com/spreadsheets/d/1bphtMaJ6lFh0VVWIgQh8ZCOchBZqvj0w5rveiNYcTnM/edit#gid=0\"\",\"\"RWA!F:BZ\"\"),44,0))\"),\"\")","v":""},{"$f":"IFERROR(__xludf.DUMMYFUNCTION(\"iferror(VLOOKUP(B539,IMPORTRANGE(\"\"https://docs.google.com/spreadsheets/d/1bphtMaJ6lFh0VVWIgQh8ZCOchBZqvj0w5rveiNYcTnM/edit#gid=0\"\",\"\"RWA!F:BZ\"\"),48,0))\"),\"\")","v":""},{"$f":"IFERROR(__xludf.DUMMYFUNCTION(\"iferror(VLOOKUP(B539,IMPORTRANGE(\"\"https://docs.google.com/spreadsheets/d/1bphtMaJ6lFh0VVWIgQh8ZCOchBZqvj0w5rveiNYcTnM/edit#gid=0\"\",\"\"RWA!F:BZ\"\"),49,0))\"),\"\")","v":""},{"$f":"IFERROR(__xludf.DUMMYFUNCTION(\"iferror(VLOOKUP(B539,IMPORTRANGE(\"\"https://docs.google.com/spreadsheets/d/1bphtMaJ6lFh0VVWIgQh8ZCOchBZqvj0w5rveiNYcTnM/edit#gid=0\"\",\"\"RWA!F:BZ\"\"),53,0))\"),\"\")","v":""}]
[null,null,null,{"$f":"IFERROR(__xludf.DUMMYFUNCTION(\"iferror(VLOOKUP(B540,IMPORTRANGE(\"\"https://docs.google.com/spreadsheets/d/1bphtMaJ6lFh0VVWIgQh8ZCOchBZqvj0w5rveiNYcTnM/edit#gid=0\"\",\"\"RWA!F:BZ\"\"),44,0))\"),\"\")","v":""},{"$f":"IFERROR(__xludf.DUMMYFUNCTION(\"iferror(VLOOKUP(B540,IMPORTRANGE(\"\"https://docs.google.com/spreadsheets/d/1bphtMaJ6lFh0VVWIgQh8ZCOchBZqvj0w5rveiNYcTnM/edit#gid=0\"\",\"\"RWA!F:BZ\"\"),48,0))\"),\"\")","v":""},{"$f":"IFERROR(__xludf.DUMMYFUNCTION(\"iferror(VLOOKUP(B540,IMPORTRANGE(\"\"https://docs.google.com/spreadsheets/d/1bphtMaJ6lFh0VVWIgQh8ZCOchBZqvj0w5rveiNYcTnM/edit#gid=0\"\",\"\"RWA!F:BZ\"\"),49,0))\"),\"\")","v":""},{"$f":"IFERROR(__xludf.DUMMYFUNCTION(\"iferror(VLOOKUP(B540,IMPORTRANGE(\"\"https://docs.google.com/spreadsheets/d/1bphtMaJ6lFh0VVWIgQh8ZCOchBZqvj0w5rveiNYcTnM/edit#gid=0\"\",\"\"RWA!F:BZ\"\"),53,0))\"),\"\")","v":""}]
[null,null,null,{"$f":"IFERROR(__xludf.DUMMYFUNCTION(\"iferror(VLOOKUP(B541,IMPORTRANGE(\"\"https://docs.google.com/spreadsheets/d/1bphtMaJ6lFh0VVWIgQh8ZCOchBZqvj0w5rveiNYcTnM/edit#gid=0\"\",\"\"RWA!F:BZ\"\"),44,0))\"),\"\")","v":""},{"$f":"IFERROR(__xludf.DUMMYFUNCTION(\"iferror(VLOOKUP(B541,IMPORTRANGE(\"\"https://docs.google.com/spreadsheets/d/1bphtMaJ6lFh0VVWIgQh8ZCOchBZqvj0w5rveiNYcTnM/edit#gid=0\"\",\"\"RWA!F:BZ\"\"),48,0))\"),\"\")","v":""},{"$f":"IFERROR(__xludf.DUMMYFUNCTION(\"iferror(VLOOKUP(B541,IMPORTRANGE(\"\"https://docs.google.com/spreadsheets/d/1bphtMaJ6lFh0VVWIgQh8ZCOchBZqvj0w5rveiNYcTnM/edit#gid=0\"\",\"\"RWA!F:BZ\"\"),49,0))\"),\"\")","v":""},{"$f":"IFERROR(__xludf.DUMMYFUNCTION(\"iferror(VLOOKUP(B541,IMPORTRANGE(\"\"https://docs.google.com/spreadsheets/d/1bphtMaJ6lFh0VVWIgQh8ZCOchBZqvj0w5rveiNYcTnM/edit#gid=0\"\",\"\"RWA!F:BZ\"\"),53,0))\"),\"\")","v":""}]
[null,null,null,{"$f":"IFERROR(__xludf.DUMMYFUNCTION(\"iferror(VLOOKUP(B542,IMPORTRANGE(\"\"https://docs.google.com/spreadsheets/d/1bphtMaJ6lFh0VVWIgQh8ZCOchBZqvj0w5rveiNYcTnM/edit#gid=0\"\",\"\"RWA!F:BZ\"\"),44,0))\"),\"\")","v":""},{"$f":"IFERROR(__xludf.DUMMYFUNCTION(\"iferror(VLOOKUP(B542,IMPORTRANGE(\"\"https://docs.google.com/spreadsheets/d/1bphtMaJ6lFh0VVWIgQh8ZCOchBZqvj0w5rveiNYcTnM/edit#gid=0\"\",\"\"RWA!F:BZ\"\"),48,0))\"),\"\")","v":""},{"$f":"IFERROR(__xludf.DUMMYFUNCTION(\"iferror(VLOOKUP(B542,IMPORTRANGE(\"\"https://docs.google.com/spreadsheets/d/1bphtMaJ6lFh0VVWIgQh8ZCOchBZqvj0w5rveiNYcTnM/edit#gid=0\"\",\"\"RWA!F:BZ\"\"),49,0))\"),\"\")","v":""},{"$f":"IFERROR(__xludf.DUMMYFUNCTION(\"iferror(VLOOKUP(B542,IMPORTRANGE(\"\"https://docs.google.com/spreadsheets/d/1bphtMaJ6lFh0VVWIgQh8ZCOchBZqvj0w5rveiNYcTnM/edit#gid=0\"\",\"\"RWA!F:BZ\"\"),53,0))\"),\"\")","v":""}]
[null,null,null,{"$f":"IFERROR(__xludf.DUMMYFUNCTION(\"iferror(VLOOKUP(B543,IMPORTRANGE(\"\"https://docs.google.com/spreadsheets/d/1bphtMaJ6lFh0VVWIgQh8ZCOchBZqvj0w5rveiNYcTnM/edit#gid=0\"\",\"\"RWA!F:BZ\"\"),44,0))\"),\"\")","v":""},{"$f":"IFERROR(__xludf.DUMMYFUNCTION(\"iferror(VLOOKUP(B543,IMPORTRANGE(\"\"https://docs.google.com/spreadsheets/d/1bphtMaJ6lFh0VVWIgQh8ZCOchBZqvj0w5rveiNYcTnM/edit#gid=0\"\",\"\"RWA!F:BZ\"\"),48,0))\"),\"\")","v":""},{"$f":"IFERROR(__xludf.DUMMYFUNCTION(\"iferror(VLOOKUP(B543,IMPORTRANGE(\"\"https://docs.google.com/spreadsheets/d/1bphtMaJ6lFh0VVWIgQh8ZCOchBZqvj0w5rveiNYcTnM/edit#gid=0\"\",\"\"RWA!F:BZ\"\"),49,0))\"),\"\")","v":""},{"$f":"IFERROR(__xludf.DUMMYFUNCTION(\"iferror(VLOOKUP(B543,IMPORTRANGE(\"\"https://docs.google.com/spreadsheets/d/1bphtMaJ6lFh0VVWIgQh8ZCOchBZqvj0w5rveiNYcTnM/edit#gid=0\"\",\"\"RWA!F:BZ\"\"),53,0))\"),\"\")","v":""}]
[null,null,null,{"$f":"IFERROR(__xludf.DUMMYFUNCTION(\"iferror(VLOOKUP(B544,IMPORTRANGE(\"\"https://docs.google.com/spreadsheets/d/1bphtMaJ6lFh0VVWIgQh8ZCOchBZqvj0w5rveiNYcTnM/edit#gid=0\"\",\"\"RWA!F:BZ\"\"),44,0))\"),\"\")","v":""},{"$f":"IFERROR(__xludf.DUMMYFUNCTION(\"iferror(VLOOKUP(B544,IMPORTRANGE(\"\"https://docs.google.com/spreadsheets/d/1bphtMaJ6lFh0VVWIgQh8ZCOchBZqvj0w5rveiNYcTnM/edit#gid=0\"\",\"\"RWA!F:BZ\"\"),48,0))\"),\"\")","v":""},{"$f":"IFERROR(__xludf.DUMMYFUNCTION(\"iferror(VLOOKUP(B544,IMPORTRANGE(\"\"https://docs.google.com/spreadsheets/d/1bphtMaJ6lFh0VVWIgQh8ZCOchBZqvj0w5rveiNYcTnM/edit#gid=0\"\",\"\"RWA!F:BZ\"\"),49,0))\"),\"\")","v":""},{"$f":"IFERROR(__xludf.DUMMYFUNCTION(\"iferror(VLOOKUP(B544,IMPORTRANGE(\"\"https://docs.google.com/spreadsheets/d/1bphtMaJ6lFh0VVWIgQh8ZCOchBZqvj0w5rveiNYcTnM/edit#gid=0\"\",\"\"RWA!F:BZ\"\"),53,0))\"),\"\")","v":""}]
[null,null,null,{"$f":"IFERROR(__xludf.DUMMYFUNCTION(\"iferror(VLOOKUP(B545,IMPORTRANGE(\"\"https://docs.google.com/spreadsheets/d/1bphtMaJ6lFh0VVWIgQh8ZCOchBZqvj0w5rveiNYcTnM/edit#gid=0\"\",\"\"RWA!F:BZ\"\"),44,0))\"),\"\")","v":""},{"$f":"IFERROR(__xludf.DUMMYFUNCTION(\"iferror(VLOOKUP(B545,IMPORTRANGE(\"\"https://docs.google.com/spreadsheets/d/1bphtMaJ6lFh0VVWIgQh8ZCOchBZqvj0w5rveiNYcTnM/edit#gid=0\"\",\"\"RWA!F:BZ\"\"),48,0))\"),\"\")","v":""},{"$f":"IFERROR(__xludf.DUMMYFUNCTION(\"iferror(VLOOKUP(B545,IMPORTRANGE(\"\"https://docs.google.com/spreadsheets/d/1bphtMaJ6lFh0VVWIgQh8ZCOchBZqvj0w5rveiNYcTnM/edit#gid=0\"\",\"\"RWA!F:BZ\"\"),49,0))\"),\"\")","v":""},{"$f":"IFERROR(__xludf.DUMMYFUNCTION(\"iferror(VLOOKUP(B545,IMPORTRANGE(\"\"https://docs.google.com/spreadsheets/d/1bphtMaJ6lFh0VVWIgQh8ZCOchBZqvj0w5rveiNYcTnM/edit#gid=0\"\",\"\"RWA!F:BZ\"\"),53,0))\"),\"\")","v":""}]
[null,null,null,{"$f":"IFERROR(__xludf.DUMMYFUNCTION(\"iferror(VLOOKUP(B546,IMPORTRANGE(\"\"https://docs.google.com/spreadsheets/d/1bphtMaJ6lFh0VVWIgQh8ZCOchBZqvj0w5rveiNYcTnM/edit#gid=0\"\",\"\"RWA!F:BZ\"\"),44,0))\"),\"\")","v":""},{"$f":"IFERROR(__xludf.DUMMYFUNCTION(\"iferror(VLOOKUP(B546,IMPORTRANGE(\"\"https://docs.google.com/spreadsheets/d/1bphtMaJ6lFh0VVWIgQh8ZCOchBZqvj0w5rveiNYcTnM/edit#gid=0\"\",\"\"RWA!F:BZ\"\"),48,0))\"),\"\")","v":""},{"$f":"IFERROR(__xludf.DUMMYFUNCTION(\"iferror(VLOOKUP(B546,IMPORTRANGE(\"\"https://docs.google.com/spreadsheets/d/1bphtMaJ6lFh0VVWIgQh8ZCOchBZqvj0w5rveiNYcTnM/edit#gid=0\"\",\"\"RWA!F:BZ\"\"),49,0))\"),\"\")","v":""},{"$f":"IFERROR(__xludf.DUMMYFUNCTION(\"iferror(VLOOKUP(B546,IMPORTRANGE(\"\"https://docs.google.com/spreadsheets/d/1bphtMaJ6lFh0VVWIgQh8ZCOchBZqvj0w5rveiNYcTnM/edit#gid=0\"\",\"\"RWA!F:BZ\"\"),53,0))\"),\"\")","v":""}]
[null,null,null,{"$f":"IFERROR(__xludf.DUMMYFUNCTION(\"iferror(VLOOKUP(B547,IMPORTRANGE(\"\"https://docs.google.com/spreadsheets/d/1bphtMaJ6lFh0VVWIgQh8ZCOchBZqvj0w5rveiNYcTnM/edit#gid=0\"\",\"\"RWA!F:BZ\"\"),44,0))\"),\"\")","v":""},{"$f":"IFERROR(__xludf.DUMMYFUNCTION(\"iferror(VLOOKUP(B547,IMPORTRANGE(\"\"https://docs.google.com/spreadsheets/d/1bphtMaJ6lFh0VVWIgQh8ZCOchBZqvj0w5rveiNYcTnM/edit#gid=0\"\",\"\"RWA!F:BZ\"\"),48,0))\"),\"\")","v":""},{"$f":"IFERROR(__xludf.DUMMYFUNCTION(\"iferror(VLOOKUP(B547,IMPORTRANGE(\"\"https://docs.google.com/spreadsheets/d/1bphtMaJ6lFh0VVWIgQh8ZCOchBZqvj0w5rveiNYcTnM/edit#gid=0\"\",\"\"RWA!F:BZ\"\"),49,0))\"),\"\")","v":""},{"$f":"IFERROR(__xludf.DUMMYFUNCTION(\"iferror(VLOOKUP(B547,IMPORTRANGE(\"\"https://docs.google.com/spreadsheets/d/1bphtMaJ6lFh0VVWIgQh8ZCOchBZqvj0w5rveiNYcTnM/edit#gid=0\"\",\"\"RWA!F:BZ\"\"),53,0))\"),\"\")","v":""}]
[null,null,null,{"$f":"IFERROR(__xludf.DUMMYFUNCTION(\"iferror(VLOOKUP(B548,IMPORTRANGE(\"\"https://docs.google.com/spreadsheets/d/1bphtMaJ6lFh0VVWIgQh8ZCOchBZqvj0w5rveiNYcTnM/edit#gid=0\"\",\"\"RWA!F:BZ\"\"),44,0))\"),\"\")","v":""},{"$f":"IFERROR(__xludf.DUMMYFUNCTION(\"iferror(VLOOKUP(B548,IMPORTRANGE(\"\"https://docs.google.com/spreadsheets/d/1bphtMaJ6lFh0VVWIgQh8ZCOchBZqvj0w5rveiNYcTnM/edit#gid=0\"\",\"\"RWA!F:BZ\"\"),48,0))\"),\"\")","v":""},{"$f":"IFERROR(__xludf.DUMMYFUNCTION(\"iferror(VLOOKUP(B548,IMPORTRANGE(\"\"https://docs.google.com/spreadsheets/d/1bphtMaJ6lFh0VVWIgQh8ZCOchBZqvj0w5rveiNYcTnM/edit#gid=0\"\",\"\"RWA!F:BZ\"\"),49,0))\"),\"\")","v":""},{"$f":"IFERROR(__xludf.DUMMYFUNCTION(\"iferror(VLOOKUP(B548,IMPORTRANGE(\"\"https://docs.google.com/spreadsheets/d/1bphtMaJ6lFh0VVWIgQh8ZCOchBZqvj0w5rveiNYcTnM/edit#gid=0\"\",\"\"RWA!F:BZ\"\"),53,0))\"),\"\")","v":""}]
[null,null,null,{"$f":"IFERROR(__xludf.DUMMYFUNCTION(\"iferror(VLOOKUP(B549,IMPORTRANGE(\"\"https://docs.google.com/spreadsheets/d/1bphtMaJ6lFh0VVWIgQh8ZCOchBZqvj0w5rveiNYcTnM/edit#gid=0\"\",\"\"RWA!F:BZ\"\"),44,0))\"),\"\")","v":""},{"$f":"IFERROR(__xludf.DUMMYFUNCTION(\"iferror(VLOOKUP(B549,IMPORTRANGE(\"\"https://docs.google.com/spreadsheets/d/1bphtMaJ6lFh0VVWIgQh8ZCOchBZqvj0w5rveiNYcTnM/edit#gid=0\"\",\"\"RWA!F:BZ\"\"),48,0))\"),\"\")","v":""},{"$f":"IFERROR(__xludf.DUMMYFUNCTION(\"iferror(VLOOKUP(B549,IMPORTRANGE(\"\"https://docs.google.com/spreadsheets/d/1bphtMaJ6lFh0VVWIgQh8ZCOchBZqvj0w5rveiNYcTnM/edit#gid=0\"\",\"\"RWA!F:BZ\"\"),49,0))\"),\"\")","v":""},{"$f":"IFERROR(__xludf.DUMMYFUNCTION(\"iferror(VLOOKUP(B549,IMPORTRANGE(\"\"https://docs.google.com/spreadsheets/d/1bphtMaJ6lFh0VVWIgQh8ZCOchBZqvj0w5rveiNYcTnM/edit#gid=0\"\",\"\"RWA!F:BZ\"\"),53,0))\"),\"\")","v":""}]
[null,null,null,{"$f":"IFERROR(__xludf.DUMMYFUNCTION(\"iferror(VLOOKUP(B550,IMPORTRANGE(\"\"https://docs.google.com/spreadsheets/d/1bphtMaJ6lFh0VVWIgQh8ZCOchBZqvj0w5rveiNYcTnM/edit#gid=0\"\",\"\"RWA!F:BZ\"\"),44,0))\"),\"\")","v":""},{"$f":"IFERROR(__xludf.DUMMYFUNCTION(\"iferror(VLOOKUP(B550,IMPORTRANGE(\"\"https://docs.google.com/spreadsheets/d/1bphtMaJ6lFh0VVWIgQh8ZCOchBZqvj0w5rveiNYcTnM/edit#gid=0\"\",\"\"RWA!F:BZ\"\"),48,0))\"),\"\")","v":""},{"$f":"IFERROR(__xludf.DUMMYFUNCTION(\"iferror(VLOOKUP(B550,IMPORTRANGE(\"\"https://docs.google.com/spreadsheets/d/1bphtMaJ6lFh0VVWIgQh8ZCOchBZqvj0w5rveiNYcTnM/edit#gid=0\"\",\"\"RWA!F:BZ\"\"),49,0))\"),\"\")","v":""},{"$f":"IFERROR(__xludf.DUMMYFUNCTION(\"iferror(VLOOKUP(B550,IMPORTRANGE(\"\"https://docs.google.com/spreadsheets/d/1bphtMaJ6lFh0VVWIgQh8ZCOchBZqvj0w5rveiNYcTnM/edit#gid=0\"\",\"\"RWA!F:BZ\"\"),53,0))\"),\"\")","v":""}]
[null,null,null,{"$f":"IFERROR(__xludf.DUMMYFUNCTION(\"iferror(VLOOKUP(B551,IMPORTRANGE(\"\"https://docs.google.com/spreadsheets/d/1bphtMaJ6lFh0VVWIgQh8ZCOchBZqvj0w5rveiNYcTnM/edit#gid=0\"\",\"\"RWA!F:BZ\"\"),44,0))\"),\"\")","v":""},{"$f":"IFERROR(__xludf.DUMMYFUNCTION(\"iferror(VLOOKUP(B551,IMPORTRANGE(\"\"https://docs.google.com/spreadsheets/d/1bphtMaJ6lFh0VVWIgQh8ZCOchBZqvj0w5rveiNYcTnM/edit#gid=0\"\",\"\"RWA!F:BZ\"\"),48,0))\"),\"\")","v":""},{"$f":"IFERROR(__xludf.DUMMYFUNCTION(\"iferror(VLOOKUP(B551,IMPORTRANGE(\"\"https://docs.google.com/spreadsheets/d/1bphtMaJ6lFh0VVWIgQh8ZCOchBZqvj0w5rveiNYcTnM/edit#gid=0\"\",\"\"RWA!F:BZ\"\"),49,0))\"),\"\")","v":""},{"$f":"IFERROR(__xludf.DUMMYFUNCTION(\"iferror(VLOOKUP(B551,IMPORTRANGE(\"\"https://docs.google.com/spreadsheets/d/1bphtMaJ6lFh0VVWIgQh8ZCOchBZqvj0w5rveiNYcTnM/edit#gid=0\"\",\"\"RWA!F:BZ\"\"),53,0))\"),\"\")","v":""}]
[null,null,null,{"$f":"IFERROR(__xludf.DUMMYFUNCTION(\"iferror(VLOOKUP(B552,IMPORTRANGE(\"\"https://docs.google.com/spreadsheets/d/1bphtMaJ6lFh0VVWIgQh8ZCOchBZqvj0w5rveiNYcTnM/edit#gid=0\"\",\"\"RWA!F:BZ\"\"),44,0))\"),\"\")","v":""},{"$f":"IFERROR(__xludf.DUMMYFUNCTION(\"iferror(VLOOKUP(B552,IMPORTRANGE(\"\"https://docs.google.com/spreadsheets/d/1bphtMaJ6lFh0VVWIgQh8ZCOchBZqvj0w5rveiNYcTnM/edit#gid=0\"\",\"\"RWA!F:BZ\"\"),48,0))\"),\"\")","v":""},{"$f":"IFERROR(__xludf.DUMMYFUNCTION(\"iferror(VLOOKUP(B552,IMPORTRANGE(\"\"https://docs.google.com/spreadsheets/d/1bphtMaJ6lFh0VVWIgQh8ZCOchBZqvj0w5rveiNYcTnM/edit#gid=0\"\",\"\"RWA!F:BZ\"\"),49,0))\"),\"\")","v":""},{"$f":"IFERROR(__xludf.DUMMYFUNCTION(\"iferror(VLOOKUP(B552,IMPORTRANGE(\"\"https://docs.google.com/spreadsheets/d/1bphtMaJ6lFh0VVWIgQh8ZCOchBZqvj0w5rveiNYcTnM/edit#gid=0\"\",\"\"RWA!F:BZ\"\"),53,0))\"),\"\")","v":""}]
[null,null,null,{"$f":"IFERROR(__xludf.DUMMYFUNCTION(\"iferror(VLOOKUP(B553,IMPORTRANGE(\"\"https://docs.google.com/spreadsheets/d/1bphtMaJ6lFh0VVWIgQh8ZCOchBZqvj0w5rveiNYcTnM/edit#gid=0\"\",\"\"RWA!F:BZ\"\"),44,0))\"),\"\")","v":""},{"$f":"IFERROR(__xludf.DUMMYFUNCTION(\"iferror(VLOOKUP(B553,IMPORTRANGE(\"\"https://docs.google.com/spreadsheets/d/1bphtMaJ6lFh0VVWIgQh8ZCOchBZqvj0w5rveiNYcTnM/edit#gid=0\"\",\"\"RWA!F:BZ\"\"),48,0))\"),\"\")","v":""},{"$f":"IFERROR(__xludf.DUMMYFUNCTION(\"iferror(VLOOKUP(B553,IMPORTRANGE(\"\"https://docs.google.com/spreadsheets/d/1bphtMaJ6lFh0VVWIgQh8ZCOchBZqvj0w5rveiNYcTnM/edit#gid=0\"\",\"\"RWA!F:BZ\"\"),49,0))\"),\"\")","v":""},{"$f":"IFERROR(__xludf.DUMMYFUNCTION(\"iferror(VLOOKUP(B553,IMPORTRANGE(\"\"https://docs.google.com/spreadsheets/d/1bphtMaJ6lFh0VVWIgQh8ZCOchBZqvj0w5rveiNYcTnM/edit#gid=0\"\",\"\"RWA!F:BZ\"\"),53,0))\"),\"\")","v":""}]
[null,null,null,{"$f":"IFERROR(__xludf.DUMMYFUNCTION(\"iferror(VLOOKUP(B554,IMPORTRANGE(\"\"https://docs.google.com/spreadsheets/d/1bphtMaJ6lFh0VVWIgQh8ZCOchBZqvj0w5rveiNYcTnM/edit#gid=0\"\",\"\"RWA!F:BZ\"\"),44,0))\"),\"\")","v":""},{"$f":"IFERROR(__xludf.DUMMYFUNCTION(\"iferror(VLOOKUP(B554,IMPORTRANGE(\"\"https://docs.google.com/spreadsheets/d/1bphtMaJ6lFh0VVWIgQh8ZCOchBZqvj0w5rveiNYcTnM/edit#gid=0\"\",\"\"RWA!F:BZ\"\"),48,0))\"),\"\")","v":""},{"$f":"IFERROR(__xludf.DUMMYFUNCTION(\"iferror(VLOOKUP(B554,IMPORTRANGE(\"\"https://docs.google.com/spreadsheets/d/1bphtMaJ6lFh0VVWIgQh8ZCOchBZqvj0w5rveiNYcTnM/edit#gid=0\"\",\"\"RWA!F:BZ\"\"),49,0))\"),\"\")","v":""},{"$f":"IFERROR(__xludf.DUMMYFUNCTION(\"iferror(VLOOKUP(B554,IMPORTRANGE(\"\"https://docs.google.com/spreadsheets/d/1bphtMaJ6lFh0VVWIgQh8ZCOchBZqvj0w5rveiNYcTnM/edit#gid=0\"\",\"\"RWA!F:BZ\"\"),53,0))\"),\"\")","v":""}]
[null,null,null,{"$f":"IFERROR(__xludf.DUMMYFUNCTION(\"iferror(VLOOKUP(B555,IMPORTRANGE(\"\"https://docs.google.com/spreadsheets/d/1bphtMaJ6lFh0VVWIgQh8ZCOchBZqvj0w5rveiNYcTnM/edit#gid=0\"\",\"\"RWA!F:BZ\"\"),44,0))\"),\"\")","v":""},{"$f":"IFERROR(__xludf.DUMMYFUNCTION(\"iferror(VLOOKUP(B555,IMPORTRANGE(\"\"https://docs.google.com/spreadsheets/d/1bphtMaJ6lFh0VVWIgQh8ZCOchBZqvj0w5rveiNYcTnM/edit#gid=0\"\",\"\"RWA!F:BZ\"\"),48,0))\"),\"\")","v":""},{"$f":"IFERROR(__xludf.DUMMYFUNCTION(\"iferror(VLOOKUP(B555,IMPORTRANGE(\"\"https://docs.google.com/spreadsheets/d/1bphtMaJ6lFh0VVWIgQh8ZCOchBZqvj0w5rveiNYcTnM/edit#gid=0\"\",\"\"RWA!F:BZ\"\"),49,0))\"),\"\")","v":""},{"$f":"IFERROR(__xludf.DUMMYFUNCTION(\"iferror(VLOOKUP(B555,IMPORTRANGE(\"\"https://docs.google.com/spreadsheets/d/1bphtMaJ6lFh0VVWIgQh8ZCOchBZqvj0w5rveiNYcTnM/edit#gid=0\"\",\"\"RWA!F:BZ\"\"),53,0))\"),\"\")","v":""}]
[null,null,null,{"$f":"IFERROR(__xludf.DUMMYFUNCTION(\"iferror(VLOOKUP(B556,IMPORTRANGE(\"\"https://docs.google.com/spreadsheets/d/1bphtMaJ6lFh0VVWIgQh8ZCOchBZqvj0w5rveiNYcTnM/edit#gid=0\"\",\"\"RWA!F:BZ\"\"),44,0))\"),\"\")","v":""},{"$f":"IFERROR(__xludf.DUMMYFUNCTION(\"iferror(VLOOKUP(B556,IMPORTRANGE(\"\"https://docs.google.com/spreadsheets/d/1bphtMaJ6lFh0VVWIgQh8ZCOchBZqvj0w5rveiNYcTnM/edit#gid=0\"\",\"\"RWA!F:BZ\"\"),48,0))\"),\"\")","v":""},{"$f":"IFERROR(__xludf.DUMMYFUNCTION(\"iferror(VLOOKUP(B556,IMPORTRANGE(\"\"https://docs.google.com/spreadsheets/d/1bphtMaJ6lFh0VVWIgQh8ZCOchBZqvj0w5rveiNYcTnM/edit#gid=0\"\",\"\"RWA!F:BZ\"\"),49,0))\"),\"\")","v":""},{"$f":"IFERROR(__xludf.DUMMYFUNCTION(\"iferror(VLOOKUP(B556,IMPORTRANGE(\"\"https://docs.google.com/spreadsheets/d/1bphtMaJ6lFh0VVWIgQh8ZCOchBZqvj0w5rveiNYcTnM/edit#gid=0\"\",\"\"RWA!F:BZ\"\"),53,0))\"),\"\")","v":""}]
[null,null,null,{"$f":"IFERROR(__xludf.DUMMYFUNCTION(\"iferror(VLOOKUP(B557,IMPORTRANGE(\"\"https://docs.google.com/spreadsheets/d/1bphtMaJ6lFh0VVWIgQh8ZCOchBZqvj0w5rveiNYcTnM/edit#gid=0\"\",\"\"RWA!F:BZ\"\"),44,0))\"),\"\")","v":""},{"$f":"IFERROR(__xludf.DUMMYFUNCTION(\"iferror(VLOOKUP(B557,IMPORTRANGE(\"\"https://docs.google.com/spreadsheets/d/1bphtMaJ6lFh0VVWIgQh8ZCOchBZqvj0w5rveiNYcTnM/edit#gid=0\"\",\"\"RWA!F:BZ\"\"),48,0))\"),\"\")","v":""},{"$f":"IFERROR(__xludf.DUMMYFUNCTION(\"iferror(VLOOKUP(B557,IMPORTRANGE(\"\"https://docs.google.com/spreadsheets/d/1bphtMaJ6lFh0VVWIgQh8ZCOchBZqvj0w5rveiNYcTnM/edit#gid=0\"\",\"\"RWA!F:BZ\"\"),49,0))\"),\"\")","v":""},{"$f":"IFERROR(__xludf.DUMMYFUNCTION(\"iferror(VLOOKUP(B557,IMPORTRANGE(\"\"https://docs.google.com/spreadsheets/d/1bphtMaJ6lFh0VVWIgQh8ZCOchBZqvj0w5rveiNYcTnM/edit#gid=0\"\",\"\"RWA!F:BZ\"\"),53,0))\"),\"\")","v":""}]
[null,null,null,{"$f":"IFERROR(__xludf.DUMMYFUNCTION(\"iferror(VLOOKUP(B558,IMPORTRANGE(\"\"https://docs.google.com/spreadsheets/d/1bphtMaJ6lFh0VVWIgQh8ZCOchBZqvj0w5rveiNYcTnM/edit#gid=0\"\",\"\"RWA!F:BZ\"\"),44,0))\"),\"\")","v":""},{"$f":"IFERROR(__xludf.DUMMYFUNCTION(\"iferror(VLOOKUP(B558,IMPORTRANGE(\"\"https://docs.google.com/spreadsheets/d/1bphtMaJ6lFh0VVWIgQh8ZCOchBZqvj0w5rveiNYcTnM/edit#gid=0\"\",\"\"RWA!F:BZ\"\"),48,0))\"),\"\")","v":""},{"$f":"IFERROR(__xludf.DUMMYFUNCTION(\"iferror(VLOOKUP(B558,IMPORTRANGE(\"\"https://docs.google.com/spreadsheets/d/1bphtMaJ6lFh0VVWIgQh8ZCOchBZqvj0w5rveiNYcTnM/edit#gid=0\"\",\"\"RWA!F:BZ\"\"),49,0))\"),\"\")","v":""},{"$f":"IFERROR(__xludf.DUMMYFUNCTION(\"iferror(VLOOKUP(B558,IMPORTRANGE(\"\"https://docs.google.com/spreadsheets/d/1bphtMaJ6lFh0VVWIgQh8ZCOchBZqvj0w5rveiNYcTnM/edit#gid=0\"\",\"\"RWA!F:BZ\"\"),53,0))\"),\"\")","v":""}]
[null,null,null,{"$f":"IFERROR(__xludf.DUMMYFUNCTION(\"iferror(VLOOKUP(B559,IMPORTRANGE(\"\"https://docs.google.com/spreadsheets/d/1bphtMaJ6lFh0VVWIgQh8ZCOchBZqvj0w5rveiNYcTnM/edit#gid=0\"\",\"\"RWA!F:BZ\"\"),44,0))\"),\"\")","v":""},{"$f":"IFERROR(__xludf.DUMMYFUNCTION(\"iferror(VLOOKUP(B559,IMPORTRANGE(\"\"https://docs.google.com/spreadsheets/d/1bphtMaJ6lFh0VVWIgQh8ZCOchBZqvj0w5rveiNYcTnM/edit#gid=0\"\",\"\"RWA!F:BZ\"\"),48,0))\"),\"\")","v":""},{"$f":"IFERROR(__xludf.DUMMYFUNCTION(\"iferror(VLOOKUP(B559,IMPORTRANGE(\"\"https://docs.google.com/spreadsheets/d/1bphtMaJ6lFh0VVWIgQh8ZCOchBZqvj0w5rveiNYcTnM/edit#gid=0\"\",\"\"RWA!F:BZ\"\"),49,0))\"),\"\")","v":""},{"$f":"IFERROR(__xludf.DUMMYFUNCTION(\"iferror(VLOOKUP(B559,IMPORTRANGE(\"\"https://docs.google.com/spreadsheets/d/1bphtMaJ6lFh0VVWIgQh8ZCOchBZqvj0w5rveiNYcTnM/edit#gid=0\"\",\"\"RWA!F:BZ\"\"),53,0))\"),\"\")","v":""}]
[null,null,null,{"$f":"IFERROR(__xludf.DUMMYFUNCTION(\"iferror(VLOOKUP(B560,IMPORTRANGE(\"\"https://docs.google.com/spreadsheets/d/1bphtMaJ6lFh0VVWIgQh8ZCOchBZqvj0w5rveiNYcTnM/edit#gid=0\"\",\"\"RWA!F:BZ\"\"),44,0))\"),\"\")","v":""},{"$f":"IFERROR(__xludf.DUMMYFUNCTION(\"iferror(VLOOKUP(B560,IMPORTRANGE(\"\"https://docs.google.com/spreadsheets/d/1bphtMaJ6lFh0VVWIgQh8ZCOchBZqvj0w5rveiNYcTnM/edit#gid=0\"\",\"\"RWA!F:BZ\"\"),48,0))\"),\"\")","v":""},{"$f":"IFERROR(__xludf.DUMMYFUNCTION(\"iferror(VLOOKUP(B560,IMPORTRANGE(\"\"https://docs.google.com/spreadsheets/d/1bphtMaJ6lFh0VVWIgQh8ZCOchBZqvj0w5rveiNYcTnM/edit#gid=0\"\",\"\"RWA!F:BZ\"\"),49,0))\"),\"\")","v":""},{"$f":"IFERROR(__xludf.DUMMYFUNCTION(\"iferror(VLOOKUP(B560,IMPORTRANGE(\"\"https://docs.google.com/spreadsheets/d/1bphtMaJ6lFh0VVWIgQh8ZCOchBZqvj0w5rveiNYcTnM/edit#gid=0\"\",\"\"RWA!F:BZ\"\"),53,0))\"),\"\")","v":""}]
[null,null,null,{"$f":"IFERROR(__xludf.DUMMYFUNCTION(\"iferror(VLOOKUP(B561,IMPORTRANGE(\"\"https://docs.google.com/spreadsheets/d/1bphtMaJ6lFh0VVWIgQh8ZCOchBZqvj0w5rveiNYcTnM/edit#gid=0\"\",\"\"RWA!F:BZ\"\"),44,0))\"),\"\")","v":""},{"$f":"IFERROR(__xludf.DUMMYFUNCTION(\"iferror(VLOOKUP(B561,IMPORTRANGE(\"\"https://docs.google.com/spreadsheets/d/1bphtMaJ6lFh0VVWIgQh8ZCOchBZqvj0w5rveiNYcTnM/edit#gid=0\"\",\"\"RWA!F:BZ\"\"),48,0))\"),\"\")","v":""},{"$f":"IFERROR(__xludf.DUMMYFUNCTION(\"iferror(VLOOKUP(B561,IMPORTRANGE(\"\"https://docs.google.com/spreadsheets/d/1bphtMaJ6lFh0VVWIgQh8ZCOchBZqvj0w5rveiNYcTnM/edit#gid=0\"\",\"\"RWA!F:BZ\"\"),49,0))\"),\"\")","v":""},{"$f":"IFERROR(__xludf.DUMMYFUNCTION(\"iferror(VLOOKUP(B561,IMPORTRANGE(\"\"https://docs.google.com/spreadsheets/d/1bphtMaJ6lFh0VVWIgQh8ZCOchBZqvj0w5rveiNYcTnM/edit#gid=0\"\",\"\"RWA!F:BZ\"\"),53,0))\"),\"\")","v":""}]
[null,null,null,{"$f":"IFERROR(__xludf.DUMMYFUNCTION(\"iferror(VLOOKUP(B562,IMPORTRANGE(\"\"https://docs.google.com/spreadsheets/d/1bphtMaJ6lFh0VVWIgQh8ZCOchBZqvj0w5rveiNYcTnM/edit#gid=0\"\",\"\"RWA!F:BZ\"\"),44,0))\"),\"\")","v":""},{"$f":"IFERROR(__xludf.DUMMYFUNCTION(\"iferror(VLOOKUP(B562,IMPORTRANGE(\"\"https://docs.google.com/spreadsheets/d/1bphtMaJ6lFh0VVWIgQh8ZCOchBZqvj0w5rveiNYcTnM/edit#gid=0\"\",\"\"RWA!F:BZ\"\"),48,0))\"),\"\")","v":""},{"$f":"IFERROR(__xludf.DUMMYFUNCTION(\"iferror(VLOOKUP(B562,IMPORTRANGE(\"\"https://docs.google.com/spreadsheets/d/1bphtMaJ6lFh0VVWIgQh8ZCOchBZqvj0w5rveiNYcTnM/edit#gid=0\"\",\"\"RWA!F:BZ\"\"),49,0))\"),\"\")","v":""},{"$f":"IFERROR(__xludf.DUMMYFUNCTION(\"iferror(VLOOKUP(B562,IMPORTRANGE(\"\"https://docs.google.com/spreadsheets/d/1bphtMaJ6lFh0VVWIgQh8ZCOchBZqvj0w5rveiNYcTnM/edit#gid=0\"\",\"\"RWA!F:BZ\"\"),53,0))\"),\"\")","v":""}]
[null,null,null,{"$f":"IFERROR(__xludf.DUMMYFUNCTION(\"iferror(VLOOKUP(B563,IMPORTRANGE(\"\"https://docs.google.com/spreadsheets/d/1bphtMaJ6lFh0VVWIgQh8ZCOchBZqvj0w5rveiNYcTnM/edit#gid=0\"\",\"\"RWA!F:BZ\"\"),44,0))\"),\"\")","v":""},{"$f":"IFERROR(__xludf.DUMMYFUNCTION(\"iferror(VLOOKUP(B563,IMPORTRANGE(\"\"https://docs.google.com/spreadsheets/d/1bphtMaJ6lFh0VVWIgQh8ZCOchBZqvj0w5rveiNYcTnM/edit#gid=0\"\",\"\"RWA!F:BZ\"\"),48,0))\"),\"\")","v":""},{"$f":"IFERROR(__xludf.DUMMYFUNCTION(\"iferror(VLOOKUP(B563,IMPORTRANGE(\"\"https://docs.google.com/spreadsheets/d/1bphtMaJ6lFh0VVWIgQh8ZCOchBZqvj0w5rveiNYcTnM/edit#gid=0\"\",\"\"RWA!F:BZ\"\"),49,0))\"),\"\")","v":""},{"$f":"IFERROR(__xludf.DUMMYFUNCTION(\"iferror(VLOOKUP(B563,IMPORTRANGE(\"\"https://docs.google.com/spreadsheets/d/1bphtMaJ6lFh0VVWIgQh8ZCOchBZqvj0w5rveiNYcTnM/edit#gid=0\"\",\"\"RWA!F:BZ\"\"),53,0))\"),\"\")","v":""}]
[null,null,null,{"$f":"IFERROR(__xludf.DUMMYFUNCTION(\"iferror(VLOOKUP(B564,IMPORTRANGE(\"\"https://docs.google.com/spreadsheets/d/1bphtMaJ6lFh0VVWIgQh8ZCOchBZqvj0w5rveiNYcTnM/edit#gid=0\"\",\"\"RWA!F:BZ\"\"),44,0))\"),\"\")","v":""},{"$f":"IFERROR(__xludf.DUMMYFUNCTION(\"iferror(VLOOKUP(B564,IMPORTRANGE(\"\"https://docs.google.com/spreadsheets/d/1bphtMaJ6lFh0VVWIgQh8ZCOchBZqvj0w5rveiNYcTnM/edit#gid=0\"\",\"\"RWA!F:BZ\"\"),48,0))\"),\"\")","v":""},{"$f":"IFERROR(__xludf.DUMMYFUNCTION(\"iferror(VLOOKUP(B564,IMPORTRANGE(\"\"https://docs.google.com/spreadsheets/d/1bphtMaJ6lFh0VVWIgQh8ZCOchBZqvj0w5rveiNYcTnM/edit#gid=0\"\",\"\"RWA!F:BZ\"\"),49,0))\"),\"\")","v":""},{"$f":"IFERROR(__xludf.DUMMYFUNCTION(\"iferror(VLOOKUP(B564,IMPORTRANGE(\"\"https://docs.google.com/spreadsheets/d/1bphtMaJ6lFh0VVWIgQh8ZCOchBZqvj0w5rveiNYcTnM/edit#gid=0\"\",\"\"RWA!F:BZ\"\"),53,0))\"),\"\")","v":""}]
[null,null,null,{"$f":"IFERROR(__xludf.DUMMYFUNCTION(\"iferror(VLOOKUP(B565,IMPORTRANGE(\"\"https://docs.google.com/spreadsheets/d/1bphtMaJ6lFh0VVWIgQh8ZCOchBZqvj0w5rveiNYcTnM/edit#gid=0\"\",\"\"RWA!F:BZ\"\"),44,0))\"),\"\")","v":""},{"$f":"IFERROR(__xludf.DUMMYFUNCTION(\"iferror(VLOOKUP(B565,IMPORTRANGE(\"\"https://docs.google.com/spreadsheets/d/1bphtMaJ6lFh0VVWIgQh8ZCOchBZqvj0w5rveiNYcTnM/edit#gid=0\"\",\"\"RWA!F:BZ\"\"),48,0))\"),\"\")","v":""},{"$f":"IFERROR(__xludf.DUMMYFUNCTION(\"iferror(VLOOKUP(B565,IMPORTRANGE(\"\"https://docs.google.com/spreadsheets/d/1bphtMaJ6lFh0VVWIgQh8ZCOchBZqvj0w5rveiNYcTnM/edit#gid=0\"\",\"\"RWA!F:BZ\"\"),49,0))\"),\"\")","v":""},{"$f":"IFERROR(__xludf.DUMMYFUNCTION(\"iferror(VLOOKUP(B565,IMPORTRANGE(\"\"https://docs.google.com/spreadsheets/d/1bphtMaJ6lFh0VVWIgQh8ZCOchBZqvj0w5rveiNYcTnM/edit#gid=0\"\",\"\"RWA!F:BZ\"\"),53,0))\"),\"\")","v":""}]
[null,null,null,{"$f":"IFERROR(__xludf.DUMMYFUNCTION(\"iferror(VLOOKUP(B566,IMPORTRANGE(\"\"https://docs.google.com/spreadsheets/d/1bphtMaJ6lFh0VVWIgQh8ZCOchBZqvj0w5rveiNYcTnM/edit#gid=0\"\",\"\"RWA!F:BZ\"\"),44,0))\"),\"\")","v":""},{"$f":"IFERROR(__xludf.DUMMYFUNCTION(\"iferror(VLOOKUP(B566,IMPORTRANGE(\"\"https://docs.google.com/spreadsheets/d/1bphtMaJ6lFh0VVWIgQh8ZCOchBZqvj0w5rveiNYcTnM/edit#gid=0\"\",\"\"RWA!F:BZ\"\"),48,0))\"),\"\")","v":""},{"$f":"IFERROR(__xludf.DUMMYFUNCTION(\"iferror(VLOOKUP(B566,IMPORTRANGE(\"\"https://docs.google.com/spreadsheets/d/1bphtMaJ6lFh0VVWIgQh8ZCOchBZqvj0w5rveiNYcTnM/edit#gid=0\"\",\"\"RWA!F:BZ\"\"),49,0))\"),\"\")","v":""},{"$f":"IFERROR(__xludf.DUMMYFUNCTION(\"iferror(VLOOKUP(B566,IMPORTRANGE(\"\"https://docs.google.com/spreadsheets/d/1bphtMaJ6lFh0VVWIgQh8ZCOchBZqvj0w5rveiNYcTnM/edit#gid=0\"\",\"\"RWA!F:BZ\"\"),53,0))\"),\"\")","v":""}]
[null,null,null,{"$f":"IFERROR(__xludf.DUMMYFUNCTION(\"iferror(VLOOKUP(B567,IMPORTRANGE(\"\"https://docs.google.com/spreadsheets/d/1bphtMaJ6lFh0VVWIgQh8ZCOchBZqvj0w5rveiNYcTnM/edit#gid=0\"\",\"\"RWA!F:BZ\"\"),44,0))\"),\"\")","v":""},{"$f":"IFERROR(__xludf.DUMMYFUNCTION(\"iferror(VLOOKUP(B567,IMPORTRANGE(\"\"https://docs.google.com/spreadsheets/d/1bphtMaJ6lFh0VVWIgQh8ZCOchBZqvj0w5rveiNYcTnM/edit#gid=0\"\",\"\"RWA!F:BZ\"\"),48,0))\"),\"\")","v":""},{"$f":"IFERROR(__xludf.DUMMYFUNCTION(\"iferror(VLOOKUP(B567,IMPORTRANGE(\"\"https://docs.google.com/spreadsheets/d/1bphtMaJ6lFh0VVWIgQh8ZCOchBZqvj0w5rveiNYcTnM/edit#gid=0\"\",\"\"RWA!F:BZ\"\"),49,0))\"),\"\")","v":""},{"$f":"IFERROR(__xludf.DUMMYFUNCTION(\"iferror(VLOOKUP(B567,IMPORTRANGE(\"\"https://docs.google.com/spreadsheets/d/1bphtMaJ6lFh0VVWIgQh8ZCOchBZqvj0w5rveiNYcTnM/edit#gid=0\"\",\"\"RWA!F:BZ\"\"),53,0))\"),\"\")","v":""}]
[null,null,null,{"$f":"IFERROR(__xludf.DUMMYFUNCTION(\"iferror(VLOOKUP(B568,IMPORTRANGE(\"\"https://docs.google.com/spreadsheets/d/1bphtMaJ6lFh0VVWIgQh8ZCOchBZqvj0w5rveiNYcTnM/edit#gid=0\"\",\"\"RWA!F:BZ\"\"),44,0))\"),\"\")","v":""},{"$f":"IFERROR(__xludf.DUMMYFUNCTION(\"iferror(VLOOKUP(B568,IMPORTRANGE(\"\"https://docs.google.com/spreadsheets/d/1bphtMaJ6lFh0VVWIgQh8ZCOchBZqvj0w5rveiNYcTnM/edit#gid=0\"\",\"\"RWA!F:BZ\"\"),48,0))\"),\"\")","v":""},{"$f":"IFERROR(__xludf.DUMMYFUNCTION(\"iferror(VLOOKUP(B568,IMPORTRANGE(\"\"https://docs.google.com/spreadsheets/d/1bphtMaJ6lFh0VVWIgQh8ZCOchBZqvj0w5rveiNYcTnM/edit#gid=0\"\",\"\"RWA!F:BZ\"\"),49,0))\"),\"\")","v":""},{"$f":"IFERROR(__xludf.DUMMYFUNCTION(\"iferror(VLOOKUP(B568,IMPORTRANGE(\"\"https://docs.google.com/spreadsheets/d/1bphtMaJ6lFh0VVWIgQh8ZCOchBZqvj0w5rveiNYcTnM/edit#gid=0\"\",\"\"RWA!F:BZ\"\"),53,0))\"),\"\")","v":""}]
[null,null,null,{"$f":"IFERROR(__xludf.DUMMYFUNCTION(\"iferror(VLOOKUP(B569,IMPORTRANGE(\"\"https://docs.google.com/spreadsheets/d/1bphtMaJ6lFh0VVWIgQh8ZCOchBZqvj0w5rveiNYcTnM/edit#gid=0\"\",\"\"RWA!F:BZ\"\"),44,0))\"),\"\")","v":""},{"$f":"IFERROR(__xludf.DUMMYFUNCTION(\"iferror(VLOOKUP(B569,IMPORTRANGE(\"\"https://docs.google.com/spreadsheets/d/1bphtMaJ6lFh0VVWIgQh8ZCOchBZqvj0w5rveiNYcTnM/edit#gid=0\"\",\"\"RWA!F:BZ\"\"),48,0))\"),\"\")","v":""},{"$f":"IFERROR(__xludf.DUMMYFUNCTION(\"iferror(VLOOKUP(B569,IMPORTRANGE(\"\"https://docs.google.com/spreadsheets/d/1bphtMaJ6lFh0VVWIgQh8ZCOchBZqvj0w5rveiNYcTnM/edit#gid=0\"\",\"\"RWA!F:BZ\"\"),49,0))\"),\"\")","v":""},{"$f":"IFERROR(__xludf.DUMMYFUNCTION(\"iferror(VLOOKUP(B569,IMPORTRANGE(\"\"https://docs.google.com/spreadsheets/d/1bphtMaJ6lFh0VVWIgQh8ZCOchBZqvj0w5rveiNYcTnM/edit#gid=0\"\",\"\"RWA!F:BZ\"\"),53,0))\"),\"\")","v":""}]
[null,null,null,{"$f":"IFERROR(__xludf.DUMMYFUNCTION(\"iferror(VLOOKUP(B570,IMPORTRANGE(\"\"https://docs.google.com/spreadsheets/d/1bphtMaJ6lFh0VVWIgQh8ZCOchBZqvj0w5rveiNYcTnM/edit#gid=0\"\",\"\"RWA!F:BZ\"\"),44,0))\"),\"\")","v":""},{"$f":"IFERROR(__xludf.DUMMYFUNCTION(\"iferror(VLOOKUP(B570,IMPORTRANGE(\"\"https://docs.google.com/spreadsheets/d/1bphtMaJ6lFh0VVWIgQh8ZCOchBZqvj0w5rveiNYcTnM/edit#gid=0\"\",\"\"RWA!F:BZ\"\"),48,0))\"),\"\")","v":""},{"$f":"IFERROR(__xludf.DUMMYFUNCTION(\"iferror(VLOOKUP(B570,IMPORTRANGE(\"\"https://docs.google.com/spreadsheets/d/1bphtMaJ6lFh0VVWIgQh8ZCOchBZqvj0w5rveiNYcTnM/edit#gid=0\"\",\"\"RWA!F:BZ\"\"),49,0))\"),\"\")","v":""},{"$f":"IFERROR(__xludf.DUMMYFUNCTION(\"iferror(VLOOKUP(B570,IMPORTRANGE(\"\"https://docs.google.com/spreadsheets/d/1bphtMaJ6lFh0VVWIgQh8ZCOchBZqvj0w5rveiNYcTnM/edit#gid=0\"\",\"\"RWA!F:BZ\"\"),53,0))\"),\"\")","v":""}]
[null,null,null,{"$f":"IFERROR(__xludf.DUMMYFUNCTION(\"iferror(VLOOKUP(B571,IMPORTRANGE(\"\"https://docs.google.com/spreadsheets/d/1bphtMaJ6lFh0VVWIgQh8ZCOchBZqvj0w5rveiNYcTnM/edit#gid=0\"\",\"\"RWA!F:BZ\"\"),44,0))\"),\"\")","v":""},{"$f":"IFERROR(__xludf.DUMMYFUNCTION(\"iferror(VLOOKUP(B571,IMPORTRANGE(\"\"https://docs.google.com/spreadsheets/d/1bphtMaJ6lFh0VVWIgQh8ZCOchBZqvj0w5rveiNYcTnM/edit#gid=0\"\",\"\"RWA!F:BZ\"\"),48,0))\"),\"\")","v":""},{"$f":"IFERROR(__xludf.DUMMYFUNCTION(\"iferror(VLOOKUP(B571,IMPORTRANGE(\"\"https://docs.google.com/spreadsheets/d/1bphtMaJ6lFh0VVWIgQh8ZCOchBZqvj0w5rveiNYcTnM/edit#gid=0\"\",\"\"RWA!F:BZ\"\"),49,0))\"),\"\")","v":""},{"$f":"IFERROR(__xludf.DUMMYFUNCTION(\"iferror(VLOOKUP(B571,IMPORTRANGE(\"\"https://docs.google.com/spreadsheets/d/1bphtMaJ6lFh0VVWIgQh8ZCOchBZqvj0w5rveiNYcTnM/edit#gid=0\"\",\"\"RWA!F:BZ\"\"),53,0))\"),\"\")","v":""}]
[null,null,null,{"$f":"IFERROR(__xludf.DUMMYFUNCTION(\"iferror(VLOOKUP(B572,IMPORTRANGE(\"\"https://docs.google.com/spreadsheets/d/1bphtMaJ6lFh0VVWIgQh8ZCOchBZqvj0w5rveiNYcTnM/edit#gid=0\"\",\"\"RWA!F:BZ\"\"),44,0))\"),\"\")","v":""},{"$f":"IFERROR(__xludf.DUMMYFUNCTION(\"iferror(VLOOKUP(B572,IMPORTRANGE(\"\"https://docs.google.com/spreadsheets/d/1bphtMaJ6lFh0VVWIgQh8ZCOchBZqvj0w5rveiNYcTnM/edit#gid=0\"\",\"\"RWA!F:BZ\"\"),48,0))\"),\"\")","v":""},{"$f":"IFERROR(__xludf.DUMMYFUNCTION(\"iferror(VLOOKUP(B572,IMPORTRANGE(\"\"https://docs.google.com/spreadsheets/d/1bphtMaJ6lFh0VVWIgQh8ZCOchBZqvj0w5rveiNYcTnM/edit#gid=0\"\",\"\"RWA!F:BZ\"\"),49,0))\"),\"\")","v":""},{"$f":"IFERROR(__xludf.DUMMYFUNCTION(\"iferror(VLOOKUP(B572,IMPORTRANGE(\"\"https://docs.google.com/spreadsheets/d/1bphtMaJ6lFh0VVWIgQh8ZCOchBZqvj0w5rveiNYcTnM/edit#gid=0\"\",\"\"RWA!F:BZ\"\"),53,0))\"),\"\")","v":""}]
[null,null,null,{"$f":"IFERROR(__xludf.DUMMYFUNCTION(\"iferror(VLOOKUP(B573,IMPORTRANGE(\"\"https://docs.google.com/spreadsheets/d/1bphtMaJ6lFh0VVWIgQh8ZCOchBZqvj0w5rveiNYcTnM/edit#gid=0\"\",\"\"RWA!F:BZ\"\"),44,0))\"),\"\")","v":""},{"$f":"IFERROR(__xludf.DUMMYFUNCTION(\"iferror(VLOOKUP(B573,IMPORTRANGE(\"\"https://docs.google.com/spreadsheets/d/1bphtMaJ6lFh0VVWIgQh8ZCOchBZqvj0w5rveiNYcTnM/edit#gid=0\"\",\"\"RWA!F:BZ\"\"),48,0))\"),\"\")","v":""},{"$f":"IFERROR(__xludf.DUMMYFUNCTION(\"iferror(VLOOKUP(B573,IMPORTRANGE(\"\"https://docs.google.com/spreadsheets/d/1bphtMaJ6lFh0VVWIgQh8ZCOchBZqvj0w5rveiNYcTnM/edit#gid=0\"\",\"\"RWA!F:BZ\"\"),49,0))\"),\"\")","v":""},{"$f":"IFERROR(__xludf.DUMMYFUNCTION(\"iferror(VLOOKUP(B573,IMPORTRANGE(\"\"https://docs.google.com/spreadsheets/d/1bphtMaJ6lFh0VVWIgQh8ZCOchBZqvj0w5rveiNYcTnM/edit#gid=0\"\",\"\"RWA!F:BZ\"\"),53,0))\"),\"\")","v":""}]
[null,null,null,{"$f":"IFERROR(__xludf.DUMMYFUNCTION(\"iferror(VLOOKUP(B574,IMPORTRANGE(\"\"https://docs.google.com/spreadsheets/d/1bphtMaJ6lFh0VVWIgQh8ZCOchBZqvj0w5rveiNYcTnM/edit#gid=0\"\",\"\"RWA!F:BZ\"\"),44,0))\"),\"\")","v":""},{"$f":"IFERROR(__xludf.DUMMYFUNCTION(\"iferror(VLOOKUP(B574,IMPORTRANGE(\"\"https://docs.google.com/spreadsheets/d/1bphtMaJ6lFh0VVWIgQh8ZCOchBZqvj0w5rveiNYcTnM/edit#gid=0\"\",\"\"RWA!F:BZ\"\"),48,0))\"),\"\")","v":""},{"$f":"IFERROR(__xludf.DUMMYFUNCTION(\"iferror(VLOOKUP(B574,IMPORTRANGE(\"\"https://docs.google.com/spreadsheets/d/1bphtMaJ6lFh0VVWIgQh8ZCOchBZqvj0w5rveiNYcTnM/edit#gid=0\"\",\"\"RWA!F:BZ\"\"),49,0))\"),\"\")","v":""},{"$f":"IFERROR(__xludf.DUMMYFUNCTION(\"iferror(VLOOKUP(B574,IMPORTRANGE(\"\"https://docs.google.com/spreadsheets/d/1bphtMaJ6lFh0VVWIgQh8ZCOchBZqvj0w5rveiNYcTnM/edit#gid=0\"\",\"\"RWA!F:BZ\"\"),53,0))\"),\"\")","v":""}]
[null,null,null,{"$f":"IFERROR(__xludf.DUMMYFUNCTION(\"iferror(VLOOKUP(B575,IMPORTRANGE(\"\"https://docs.google.com/spreadsheets/d/1bphtMaJ6lFh0VVWIgQh8ZCOchBZqvj0w5rveiNYcTnM/edit#gid=0\"\",\"\"RWA!F:BZ\"\"),44,0))\"),\"\")","v":""},{"$f":"IFERROR(__xludf.DUMMYFUNCTION(\"iferror(VLOOKUP(B575,IMPORTRANGE(\"\"https://docs.google.com/spreadsheets/d/1bphtMaJ6lFh0VVWIgQh8ZCOchBZqvj0w5rveiNYcTnM/edit#gid=0\"\",\"\"RWA!F:BZ\"\"),48,0))\"),\"\")","v":""},{"$f":"IFERROR(__xludf.DUMMYFUNCTION(\"iferror(VLOOKUP(B575,IMPORTRANGE(\"\"https://docs.google.com/spreadsheets/d/1bphtMaJ6lFh0VVWIgQh8ZCOchBZqvj0w5rveiNYcTnM/edit#gid=0\"\",\"\"RWA!F:BZ\"\"),49,0))\"),\"\")","v":""},{"$f":"IFERROR(__xludf.DUMMYFUNCTION(\"iferror(VLOOKUP(B575,IMPORTRANGE(\"\"https://docs.google.com/spreadsheets/d/1bphtMaJ6lFh0VVWIgQh8ZCOchBZqvj0w5rveiNYcTnM/edit#gid=0\"\",\"\"RWA!F:BZ\"\"),53,0))\"),\"\")","v":""}]
[null,null,null,{"$f":"IFERROR(__xludf.DUMMYFUNCTION(\"iferror(VLOOKUP(B576,IMPORTRANGE(\"\"https://docs.google.com/spreadsheets/d/1bphtMaJ6lFh0VVWIgQh8ZCOchBZqvj0w5rveiNYcTnM/edit#gid=0\"\",\"\"RWA!F:BZ\"\"),44,0))\"),\"\")","v":""},{"$f":"IFERROR(__xludf.DUMMYFUNCTION(\"iferror(VLOOKUP(B576,IMPORTRANGE(\"\"https://docs.google.com/spreadsheets/d/1bphtMaJ6lFh0VVWIgQh8ZCOchBZqvj0w5rveiNYcTnM/edit#gid=0\"\",\"\"RWA!F:BZ\"\"),48,0))\"),\"\")","v":""},{"$f":"IFERROR(__xludf.DUMMYFUNCTION(\"iferror(VLOOKUP(B576,IMPORTRANGE(\"\"https://docs.google.com/spreadsheets/d/1bphtMaJ6lFh0VVWIgQh8ZCOchBZqvj0w5rveiNYcTnM/edit#gid=0\"\",\"\"RWA!F:BZ\"\"),49,0))\"),\"\")","v":""},{"$f":"IFERROR(__xludf.DUMMYFUNCTION(\"iferror(VLOOKUP(B576,IMPORTRANGE(\"\"https://docs.google.com/spreadsheets/d/1bphtMaJ6lFh0VVWIgQh8ZCOchBZqvj0w5rveiNYcTnM/edit#gid=0\"\",\"\"RWA!F:BZ\"\"),53,0))\"),\"\")","v":""}]
[null,null,null,{"$f":"IFERROR(__xludf.DUMMYFUNCTION(\"iferror(VLOOKUP(B577,IMPORTRANGE(\"\"https://docs.google.com/spreadsheets/d/1bphtMaJ6lFh0VVWIgQh8ZCOchBZqvj0w5rveiNYcTnM/edit#gid=0\"\",\"\"RWA!F:BZ\"\"),44,0))\"),\"\")","v":""},{"$f":"IFERROR(__xludf.DUMMYFUNCTION(\"iferror(VLOOKUP(B577,IMPORTRANGE(\"\"https://docs.google.com/spreadsheets/d/1bphtMaJ6lFh0VVWIgQh8ZCOchBZqvj0w5rveiNYcTnM/edit#gid=0\"\",\"\"RWA!F:BZ\"\"),48,0))\"),\"\")","v":""},{"$f":"IFERROR(__xludf.DUMMYFUNCTION(\"iferror(VLOOKUP(B577,IMPORTRANGE(\"\"https://docs.google.com/spreadsheets/d/1bphtMaJ6lFh0VVWIgQh8ZCOchBZqvj0w5rveiNYcTnM/edit#gid=0\"\",\"\"RWA!F:BZ\"\"),49,0))\"),\"\")","v":""},{"$f":"IFERROR(__xludf.DUMMYFUNCTION(\"iferror(VLOOKUP(B577,IMPORTRANGE(\"\"https://docs.google.com/spreadsheets/d/1bphtMaJ6lFh0VVWIgQh8ZCOchBZqvj0w5rveiNYcTnM/edit#gid=0\"\",\"\"RWA!F:BZ\"\"),53,0))\"),\"\")","v":""}]
[null,null,null,{"$f":"IFERROR(__xludf.DUMMYFUNCTION(\"iferror(VLOOKUP(B578,IMPORTRANGE(\"\"https://docs.google.com/spreadsheets/d/1bphtMaJ6lFh0VVWIgQh8ZCOchBZqvj0w5rveiNYcTnM/edit#gid=0\"\",\"\"RWA!F:BZ\"\"),44,0))\"),\"\")","v":""},{"$f":"IFERROR(__xludf.DUMMYFUNCTION(\"iferror(VLOOKUP(B578,IMPORTRANGE(\"\"https://docs.google.com/spreadsheets/d/1bphtMaJ6lFh0VVWIgQh8ZCOchBZqvj0w5rveiNYcTnM/edit#gid=0\"\",\"\"RWA!F:BZ\"\"),48,0))\"),\"\")","v":""},{"$f":"IFERROR(__xludf.DUMMYFUNCTION(\"iferror(VLOOKUP(B578,IMPORTRANGE(\"\"https://docs.google.com/spreadsheets/d/1bphtMaJ6lFh0VVWIgQh8ZCOchBZqvj0w5rveiNYcTnM/edit#gid=0\"\",\"\"RWA!F:BZ\"\"),49,0))\"),\"\")","v":""},{"$f":"IFERROR(__xludf.DUMMYFUNCTION(\"iferror(VLOOKUP(B578,IMPORTRANGE(\"\"https://docs.google.com/spreadsheets/d/1bphtMaJ6lFh0VVWIgQh8ZCOchBZqvj0w5rveiNYcTnM/edit#gid=0\"\",\"\"RWA!F:BZ\"\"),53,0))\"),\"\")","v":""}]
[null,null,null,{"$f":"IFERROR(__xludf.DUMMYFUNCTION(\"iferror(VLOOKUP(B579,IMPORTRANGE(\"\"https://docs.google.com/spreadsheets/d/1bphtMaJ6lFh0VVWIgQh8ZCOchBZqvj0w5rveiNYcTnM/edit#gid=0\"\",\"\"RWA!F:BZ\"\"),44,0))\"),\"\")","v":""},{"$f":"IFERROR(__xludf.DUMMYFUNCTION(\"iferror(VLOOKUP(B579,IMPORTRANGE(\"\"https://docs.google.com/spreadsheets/d/1bphtMaJ6lFh0VVWIgQh8ZCOchBZqvj0w5rveiNYcTnM/edit#gid=0\"\",\"\"RWA!F:BZ\"\"),48,0))\"),\"\")","v":""},{"$f":"IFERROR(__xludf.DUMMYFUNCTION(\"iferror(VLOOKUP(B579,IMPORTRANGE(\"\"https://docs.google.com/spreadsheets/d/1bphtMaJ6lFh0VVWIgQh8ZCOchBZqvj0w5rveiNYcTnM/edit#gid=0\"\",\"\"RWA!F:BZ\"\"),49,0))\"),\"\")","v":""},{"$f":"IFERROR(__xludf.DUMMYFUNCTION(\"iferror(VLOOKUP(B579,IMPORTRANGE(\"\"https://docs.google.com/spreadsheets/d/1bphtMaJ6lFh0VVWIgQh8ZCOchBZqvj0w5rveiNYcTnM/edit#gid=0\"\",\"\"RWA!F:BZ\"\"),53,0))\"),\"\")","v":""}]
[null,null,null,{"$f":"IFERROR(__xludf.DUMMYFUNCTION(\"iferror(VLOOKUP(B580,IMPORTRANGE(\"\"https://docs.google.com/spreadsheets/d/1bphtMaJ6lFh0VVWIgQh8ZCOchBZqvj0w5rveiNYcTnM/edit#gid=0\"\",\"\"RWA!F:BZ\"\"),44,0))\"),\"\")","v":""},{"$f":"IFERROR(__xludf.DUMMYFUNCTION(\"iferror(VLOOKUP(B580,IMPORTRANGE(\"\"https://docs.google.com/spreadsheets/d/1bphtMaJ6lFh0VVWIgQh8ZCOchBZqvj0w5rveiNYcTnM/edit#gid=0\"\",\"\"RWA!F:BZ\"\"),48,0))\"),\"\")","v":""},{"$f":"IFERROR(__xludf.DUMMYFUNCTION(\"iferror(VLOOKUP(B580,IMPORTRANGE(\"\"https://docs.google.com/spreadsheets/d/1bphtMaJ6lFh0VVWIgQh8ZCOchBZqvj0w5rveiNYcTnM/edit#gid=0\"\",\"\"RWA!F:BZ\"\"),49,0))\"),\"\")","v":""},{"$f":"IFERROR(__xludf.DUMMYFUNCTION(\"iferror(VLOOKUP(B580,IMPORTRANGE(\"\"https://docs.google.com/spreadsheets/d/1bphtMaJ6lFh0VVWIgQh8ZCOchBZqvj0w5rveiNYcTnM/edit#gid=0\"\",\"\"RWA!F:BZ\"\"),53,0))\"),\"\")","v":""}]
[null,null,null,{"$f":"IFERROR(__xludf.DUMMYFUNCTION(\"iferror(VLOOKUP(B581,IMPORTRANGE(\"\"https://docs.google.com/spreadsheets/d/1bphtMaJ6lFh0VVWIgQh8ZCOchBZqvj0w5rveiNYcTnM/edit#gid=0\"\",\"\"RWA!F:BZ\"\"),44,0))\"),\"\")","v":""},{"$f":"IFERROR(__xludf.DUMMYFUNCTION(\"iferror(VLOOKUP(B581,IMPORTRANGE(\"\"https://docs.google.com/spreadsheets/d/1bphtMaJ6lFh0VVWIgQh8ZCOchBZqvj0w5rveiNYcTnM/edit#gid=0\"\",\"\"RWA!F:BZ\"\"),48,0))\"),\"\")","v":""},{"$f":"IFERROR(__xludf.DUMMYFUNCTION(\"iferror(VLOOKUP(B581,IMPORTRANGE(\"\"https://docs.google.com/spreadsheets/d/1bphtMaJ6lFh0VVWIgQh8ZCOchBZqvj0w5rveiNYcTnM/edit#gid=0\"\",\"\"RWA!F:BZ\"\"),49,0))\"),\"\")","v":""},{"$f":"IFERROR(__xludf.DUMMYFUNCTION(\"iferror(VLOOKUP(B581,IMPORTRANGE(\"\"https://docs.google.com/spreadsheets/d/1bphtMaJ6lFh0VVWIgQh8ZCOchBZqvj0w5rveiNYcTnM/edit#gid=0\"\",\"\"RWA!F:BZ\"\"),53,0))\"),\"\")","v":""}]
[null,null,null,{"$f":"IFERROR(__xludf.DUMMYFUNCTION(\"iferror(VLOOKUP(B582,IMPORTRANGE(\"\"https://docs.google.com/spreadsheets/d/1bphtMaJ6lFh0VVWIgQh8ZCOchBZqvj0w5rveiNYcTnM/edit#gid=0\"\",\"\"RWA!F:BZ\"\"),44,0))\"),\"\")","v":""},{"$f":"IFERROR(__xludf.DUMMYFUNCTION(\"iferror(VLOOKUP(B582,IMPORTRANGE(\"\"https://docs.google.com/spreadsheets/d/1bphtMaJ6lFh0VVWIgQh8ZCOchBZqvj0w5rveiNYcTnM/edit#gid=0\"\",\"\"RWA!F:BZ\"\"),48,0))\"),\"\")","v":""},{"$f":"IFERROR(__xludf.DUMMYFUNCTION(\"iferror(VLOOKUP(B582,IMPORTRANGE(\"\"https://docs.google.com/spreadsheets/d/1bphtMaJ6lFh0VVWIgQh8ZCOchBZqvj0w5rveiNYcTnM/edit#gid=0\"\",\"\"RWA!F:BZ\"\"),49,0))\"),\"\")","v":""},{"$f":"IFERROR(__xludf.DUMMYFUNCTION(\"iferror(VLOOKUP(B582,IMPORTRANGE(\"\"https://docs.google.com/spreadsheets/d/1bphtMaJ6lFh0VVWIgQh8ZCOchBZqvj0w5rveiNYcTnM/edit#gid=0\"\",\"\"RWA!F:BZ\"\"),53,0))\"),\"\")","v":""}]
[null,null,null,{"$f":"IFERROR(__xludf.DUMMYFUNCTION(\"iferror(VLOOKUP(B583,IMPORTRANGE(\"\"https://docs.google.com/spreadsheets/d/1bphtMaJ6lFh0VVWIgQh8ZCOchBZqvj0w5rveiNYcTnM/edit#gid=0\"\",\"\"RWA!F:BZ\"\"),44,0))\"),\"\")","v":""},{"$f":"IFERROR(__xludf.DUMMYFUNCTION(\"iferror(VLOOKUP(B583,IMPORTRANGE(\"\"https://docs.google.com/spreadsheets/d/1bphtMaJ6lFh0VVWIgQh8ZCOchBZqvj0w5rveiNYcTnM/edit#gid=0\"\",\"\"RWA!F:BZ\"\"),48,0))\"),\"\")","v":""},{"$f":"IFERROR(__xludf.DUMMYFUNCTION(\"iferror(VLOOKUP(B583,IMPORTRANGE(\"\"https://docs.google.com/spreadsheets/d/1bphtMaJ6lFh0VVWIgQh8ZCOchBZqvj0w5rveiNYcTnM/edit#gid=0\"\",\"\"RWA!F:BZ\"\"),49,0))\"),\"\")","v":""},{"$f":"IFERROR(__xludf.DUMMYFUNCTION(\"iferror(VLOOKUP(B583,IMPORTRANGE(\"\"https://docs.google.com/spreadsheets/d/1bphtMaJ6lFh0VVWIgQh8ZCOchBZqvj0w5rveiNYcTnM/edit#gid=0\"\",\"\"RWA!F:BZ\"\"),53,0))\"),\"\")","v":""}]
[null,null,null,{"$f":"IFERROR(__xludf.DUMMYFUNCTION(\"iferror(VLOOKUP(B584,IMPORTRANGE(\"\"https://docs.google.com/spreadsheets/d/1bphtMaJ6lFh0VVWIgQh8ZCOchBZqvj0w5rveiNYcTnM/edit#gid=0\"\",\"\"RWA!F:BZ\"\"),44,0))\"),\"\")","v":""},{"$f":"IFERROR(__xludf.DUMMYFUNCTION(\"iferror(VLOOKUP(B584,IMPORTRANGE(\"\"https://docs.google.com/spreadsheets/d/1bphtMaJ6lFh0VVWIgQh8ZCOchBZqvj0w5rveiNYcTnM/edit#gid=0\"\",\"\"RWA!F:BZ\"\"),48,0))\"),\"\")","v":""},{"$f":"IFERROR(__xludf.DUMMYFUNCTION(\"iferror(VLOOKUP(B584,IMPORTRANGE(\"\"https://docs.google.com/spreadsheets/d/1bphtMaJ6lFh0VVWIgQh8ZCOchBZqvj0w5rveiNYcTnM/edit#gid=0\"\",\"\"RWA!F:BZ\"\"),49,0))\"),\"\")","v":""},{"$f":"IFERROR(__xludf.DUMMYFUNCTION(\"iferror(VLOOKUP(B584,IMPORTRANGE(\"\"https://docs.google.com/spreadsheets/d/1bphtMaJ6lFh0VVWIgQh8ZCOchBZqvj0w5rveiNYcTnM/edit#gid=0\"\",\"\"RWA!F:BZ\"\"),53,0))\"),\"\")","v":""}]
[null,null,null,{"$f":"IFERROR(__xludf.DUMMYFUNCTION(\"iferror(VLOOKUP(B585,IMPORTRANGE(\"\"https://docs.google.com/spreadsheets/d/1bphtMaJ6lFh0VVWIgQh8ZCOchBZqvj0w5rveiNYcTnM/edit#gid=0\"\",\"\"RWA!F:BZ\"\"),44,0))\"),\"\")","v":""},{"$f":"IFERROR(__xludf.DUMMYFUNCTION(\"iferror(VLOOKUP(B585,IMPORTRANGE(\"\"https://docs.google.com/spreadsheets/d/1bphtMaJ6lFh0VVWIgQh8ZCOchBZqvj0w5rveiNYcTnM/edit#gid=0\"\",\"\"RWA!F:BZ\"\"),48,0))\"),\"\")","v":""},{"$f":"IFERROR(__xludf.DUMMYFUNCTION(\"iferror(VLOOKUP(B585,IMPORTRANGE(\"\"https://docs.google.com/spreadsheets/d/1bphtMaJ6lFh0VVWIgQh8ZCOchBZqvj0w5rveiNYcTnM/edit#gid=0\"\",\"\"RWA!F:BZ\"\"),49,0))\"),\"\")","v":""},{"$f":"IFERROR(__xludf.DUMMYFUNCTION(\"iferror(VLOOKUP(B585,IMPORTRANGE(\"\"https://docs.google.com/spreadsheets/d/1bphtMaJ6lFh0VVWIgQh8ZCOchBZqvj0w5rveiNYcTnM/edit#gid=0\"\",\"\"RWA!F:BZ\"\"),53,0))\"),\"\")","v":""}]
[null,null,null,{"$f":"IFERROR(__xludf.DUMMYFUNCTION(\"iferror(VLOOKUP(B586,IMPORTRANGE(\"\"https://docs.google.com/spreadsheets/d/1bphtMaJ6lFh0VVWIgQh8ZCOchBZqvj0w5rveiNYcTnM/edit#gid=0\"\",\"\"RWA!F:BZ\"\"),44,0))\"),\"\")","v":""},{"$f":"IFERROR(__xludf.DUMMYFUNCTION(\"iferror(VLOOKUP(B586,IMPORTRANGE(\"\"https://docs.google.com/spreadsheets/d/1bphtMaJ6lFh0VVWIgQh8ZCOchBZqvj0w5rveiNYcTnM/edit#gid=0\"\",\"\"RWA!F:BZ\"\"),48,0))\"),\"\")","v":""},{"$f":"IFERROR(__xludf.DUMMYFUNCTION(\"iferror(VLOOKUP(B586,IMPORTRANGE(\"\"https://docs.google.com/spreadsheets/d/1bphtMaJ6lFh0VVWIgQh8ZCOchBZqvj0w5rveiNYcTnM/edit#gid=0\"\",\"\"RWA!F:BZ\"\"),49,0))\"),\"\")","v":""},{"$f":"IFERROR(__xludf.DUMMYFUNCTION(\"iferror(VLOOKUP(B586,IMPORTRANGE(\"\"https://docs.google.com/spreadsheets/d/1bphtMaJ6lFh0VVWIgQh8ZCOchBZqvj0w5rveiNYcTnM/edit#gid=0\"\",\"\"RWA!F:BZ\"\"),53,0))\"),\"\")","v":""}]
[null,null,null,{"$f":"IFERROR(__xludf.DUMMYFUNCTION(\"iferror(VLOOKUP(B587,IMPORTRANGE(\"\"https://docs.google.com/spreadsheets/d/1bphtMaJ6lFh0VVWIgQh8ZCOchBZqvj0w5rveiNYcTnM/edit#gid=0\"\",\"\"RWA!F:BZ\"\"),44,0))\"),\"\")","v":""},{"$f":"IFERROR(__xludf.DUMMYFUNCTION(\"iferror(VLOOKUP(B587,IMPORTRANGE(\"\"https://docs.google.com/spreadsheets/d/1bphtMaJ6lFh0VVWIgQh8ZCOchBZqvj0w5rveiNYcTnM/edit#gid=0\"\",\"\"RWA!F:BZ\"\"),48,0))\"),\"\")","v":""},{"$f":"IFERROR(__xludf.DUMMYFUNCTION(\"iferror(VLOOKUP(B587,IMPORTRANGE(\"\"https://docs.google.com/spreadsheets/d/1bphtMaJ6lFh0VVWIgQh8ZCOchBZqvj0w5rveiNYcTnM/edit#gid=0\"\",\"\"RWA!F:BZ\"\"),49,0))\"),\"\")","v":""},{"$f":"IFERROR(__xludf.DUMMYFUNCTION(\"iferror(VLOOKUP(B587,IMPORTRANGE(\"\"https://docs.google.com/spreadsheets/d/1bphtMaJ6lFh0VVWIgQh8ZCOchBZqvj0w5rveiNYcTnM/edit#gid=0\"\",\"\"RWA!F:BZ\"\"),53,0))\"),\"\")","v":""}]
[null,null,null,{"$f":"IFERROR(__xludf.DUMMYFUNCTION(\"iferror(VLOOKUP(B588,IMPORTRANGE(\"\"https://docs.google.com/spreadsheets/d/1bphtMaJ6lFh0VVWIgQh8ZCOchBZqvj0w5rveiNYcTnM/edit#gid=0\"\",\"\"RWA!F:BZ\"\"),44,0))\"),\"\")","v":""},{"$f":"IFERROR(__xludf.DUMMYFUNCTION(\"iferror(VLOOKUP(B588,IMPORTRANGE(\"\"https://docs.google.com/spreadsheets/d/1bphtMaJ6lFh0VVWIgQh8ZCOchBZqvj0w5rveiNYcTnM/edit#gid=0\"\",\"\"RWA!F:BZ\"\"),48,0))\"),\"\")","v":""},{"$f":"IFERROR(__xludf.DUMMYFUNCTION(\"iferror(VLOOKUP(B588,IMPORTRANGE(\"\"https://docs.google.com/spreadsheets/d/1bphtMaJ6lFh0VVWIgQh8ZCOchBZqvj0w5rveiNYcTnM/edit#gid=0\"\",\"\"RWA!F:BZ\"\"),49,0))\"),\"\")","v":""},{"$f":"IFERROR(__xludf.DUMMYFUNCTION(\"iferror(VLOOKUP(B588,IMPORTRANGE(\"\"https://docs.google.com/spreadsheets/d/1bphtMaJ6lFh0VVWIgQh8ZCOchBZqvj0w5rveiNYcTnM/edit#gid=0\"\",\"\"RWA!F:BZ\"\"),53,0))\"),\"\")","v":""}]
[null,null,null,{"$f":"IFERROR(__xludf.DUMMYFUNCTION(\"iferror(VLOOKUP(B589,IMPORTRANGE(\"\"https://docs.google.com/spreadsheets/d/1bphtMaJ6lFh0VVWIgQh8ZCOchBZqvj0w5rveiNYcTnM/edit#gid=0\"\",\"\"RWA!F:BZ\"\"),44,0))\"),\"\")","v":""},{"$f":"IFERROR(__xludf.DUMMYFUNCTION(\"iferror(VLOOKUP(B589,IMPORTRANGE(\"\"https://docs.google.com/spreadsheets/d/1bphtMaJ6lFh0VVWIgQh8ZCOchBZqvj0w5rveiNYcTnM/edit#gid=0\"\",\"\"RWA!F:BZ\"\"),48,0))\"),\"\")","v":""},{"$f":"IFERROR(__xludf.DUMMYFUNCTION(\"iferror(VLOOKUP(B589,IMPORTRANGE(\"\"https://docs.google.com/spreadsheets/d/1bphtMaJ6lFh0VVWIgQh8ZCOchBZqvj0w5rveiNYcTnM/edit#gid=0\"\",\"\"RWA!F:BZ\"\"),49,0))\"),\"\")","v":""},{"$f":"IFERROR(__xludf.DUMMYFUNCTION(\"iferror(VLOOKUP(B589,IMPORTRANGE(\"\"https://docs.google.com/spreadsheets/d/1bphtMaJ6lFh0VVWIgQh8ZCOchBZqvj0w5rveiNYcTnM/edit#gid=0\"\",\"\"RWA!F:BZ\"\"),53,0))\"),\"\")","v":""}]
[null,null,null,{"$f":"IFERROR(__xludf.DUMMYFUNCTION(\"iferror(VLOOKUP(B590,IMPORTRANGE(\"\"https://docs.google.com/spreadsheets/d/1bphtMaJ6lFh0VVWIgQh8ZCOchBZqvj0w5rveiNYcTnM/edit#gid=0\"\",\"\"RWA!F:BZ\"\"),44,0))\"),\"\")","v":""},{"$f":"IFERROR(__xludf.DUMMYFUNCTION(\"iferror(VLOOKUP(B590,IMPORTRANGE(\"\"https://docs.google.com/spreadsheets/d/1bphtMaJ6lFh0VVWIgQh8ZCOchBZqvj0w5rveiNYcTnM/edit#gid=0\"\",\"\"RWA!F:BZ\"\"),48,0))\"),\"\")","v":""},{"$f":"IFERROR(__xludf.DUMMYFUNCTION(\"iferror(VLOOKUP(B590,IMPORTRANGE(\"\"https://docs.google.com/spreadsheets/d/1bphtMaJ6lFh0VVWIgQh8ZCOchBZqvj0w5rveiNYcTnM/edit#gid=0\"\",\"\"RWA!F:BZ\"\"),49,0))\"),\"\")","v":""},{"$f":"IFERROR(__xludf.DUMMYFUNCTION(\"iferror(VLOOKUP(B590,IMPORTRANGE(\"\"https://docs.google.com/spreadsheets/d/1bphtMaJ6lFh0VVWIgQh8ZCOchBZqvj0w5rveiNYcTnM/edit#gid=0\"\",\"\"RWA!F:BZ\"\"),53,0))\"),\"\")","v":""}]
[null,null,null,{"$f":"IFERROR(__xludf.DUMMYFUNCTION(\"iferror(VLOOKUP(B591,IMPORTRANGE(\"\"https://docs.google.com/spreadsheets/d/1bphtMaJ6lFh0VVWIgQh8ZCOchBZqvj0w5rveiNYcTnM/edit#gid=0\"\",\"\"RWA!F:BZ\"\"),44,0))\"),\"\")","v":""},{"$f":"IFERROR(__xludf.DUMMYFUNCTION(\"iferror(VLOOKUP(B591,IMPORTRANGE(\"\"https://docs.google.com/spreadsheets/d/1bphtMaJ6lFh0VVWIgQh8ZCOchBZqvj0w5rveiNYcTnM/edit#gid=0\"\",\"\"RWA!F:BZ\"\"),48,0))\"),\"\")","v":""},{"$f":"IFERROR(__xludf.DUMMYFUNCTION(\"iferror(VLOOKUP(B591,IMPORTRANGE(\"\"https://docs.google.com/spreadsheets/d/1bphtMaJ6lFh0VVWIgQh8ZCOchBZqvj0w5rveiNYcTnM/edit#gid=0\"\",\"\"RWA!F:BZ\"\"),49,0))\"),\"\")","v":""},{"$f":"IFERROR(__xludf.DUMMYFUNCTION(\"iferror(VLOOKUP(B591,IMPORTRANGE(\"\"https://docs.google.com/spreadsheets/d/1bphtMaJ6lFh0VVWIgQh8ZCOchBZqvj0w5rveiNYcTnM/edit#gid=0\"\",\"\"RWA!F:BZ\"\"),53,0))\"),\"\")","v":""}]
[null,null,null,{"$f":"IFERROR(__xludf.DUMMYFUNCTION(\"iferror(VLOOKUP(B592,IMPORTRANGE(\"\"https://docs.google.com/spreadsheets/d/1bphtMaJ6lFh0VVWIgQh8ZCOchBZqvj0w5rveiNYcTnM/edit#gid=0\"\",\"\"RWA!F:BZ\"\"),44,0))\"),\"\")","v":""},{"$f":"IFERROR(__xludf.DUMMYFUNCTION(\"iferror(VLOOKUP(B592,IMPORTRANGE(\"\"https://docs.google.com/spreadsheets/d/1bphtMaJ6lFh0VVWIgQh8ZCOchBZqvj0w5rveiNYcTnM/edit#gid=0\"\",\"\"RWA!F:BZ\"\"),48,0))\"),\"\")","v":""},{"$f":"IFERROR(__xludf.DUMMYFUNCTION(\"iferror(VLOOKUP(B592,IMPORTRANGE(\"\"https://docs.google.com/spreadsheets/d/1bphtMaJ6lFh0VVWIgQh8ZCOchBZqvj0w5rveiNYcTnM/edit#gid=0\"\",\"\"RWA!F:BZ\"\"),49,0))\"),\"\")","v":""},{"$f":"IFERROR(__xludf.DUMMYFUNCTION(\"iferror(VLOOKUP(B592,IMPORTRANGE(\"\"https://docs.google.com/spreadsheets/d/1bphtMaJ6lFh0VVWIgQh8ZCOchBZqvj0w5rveiNYcTnM/edit#gid=0\"\",\"\"RWA!F:BZ\"\"),53,0))\"),\"\")","v":""}]
[null,null,null,{"$f":"IFERROR(__xludf.DUMMYFUNCTION(\"iferror(VLOOKUP(B593,IMPORTRANGE(\"\"https://docs.google.com/spreadsheets/d/1bphtMaJ6lFh0VVWIgQh8ZCOchBZqvj0w5rveiNYcTnM/edit#gid=0\"\",\"\"RWA!F:BZ\"\"),44,0))\"),\"\")","v":""},{"$f":"IFERROR(__xludf.DUMMYFUNCTION(\"iferror(VLOOKUP(B593,IMPORTRANGE(\"\"https://docs.google.com/spreadsheets/d/1bphtMaJ6lFh0VVWIgQh8ZCOchBZqvj0w5rveiNYcTnM/edit#gid=0\"\",\"\"RWA!F:BZ\"\"),48,0))\"),\"\")","v":""},{"$f":"IFERROR(__xludf.DUMMYFUNCTION(\"iferror(VLOOKUP(B593,IMPORTRANGE(\"\"https://docs.google.com/spreadsheets/d/1bphtMaJ6lFh0VVWIgQh8ZCOchBZqvj0w5rveiNYcTnM/edit#gid=0\"\",\"\"RWA!F:BZ\"\"),49,0))\"),\"\")","v":""},{"$f":"IFERROR(__xludf.DUMMYFUNCTION(\"iferror(VLOOKUP(B593,IMPORTRANGE(\"\"https://docs.google.com/spreadsheets/d/1bphtMaJ6lFh0VVWIgQh8ZCOchBZqvj0w5rveiNYcTnM/edit#gid=0\"\",\"\"RWA!F:BZ\"\"),53,0))\"),\"\")","v":""}]
[null,null,null,{"$f":"IFERROR(__xludf.DUMMYFUNCTION(\"iferror(VLOOKUP(B594,IMPORTRANGE(\"\"https://docs.google.com/spreadsheets/d/1bphtMaJ6lFh0VVWIgQh8ZCOchBZqvj0w5rveiNYcTnM/edit#gid=0\"\",\"\"RWA!F:BZ\"\"),44,0))\"),\"\")","v":""},{"$f":"IFERROR(__xludf.DUMMYFUNCTION(\"iferror(VLOOKUP(B594,IMPORTRANGE(\"\"https://docs.google.com/spreadsheets/d/1bphtMaJ6lFh0VVWIgQh8ZCOchBZqvj0w5rveiNYcTnM/edit#gid=0\"\",\"\"RWA!F:BZ\"\"),48,0))\"),\"\")","v":""},{"$f":"IFERROR(__xludf.DUMMYFUNCTION(\"iferror(VLOOKUP(B594,IMPORTRANGE(\"\"https://docs.google.com/spreadsheets/d/1bphtMaJ6lFh0VVWIgQh8ZCOchBZqvj0w5rveiNYcTnM/edit#gid=0\"\",\"\"RWA!F:BZ\"\"),49,0))\"),\"\")","v":""},{"$f":"IFERROR(__xludf.DUMMYFUNCTION(\"iferror(VLOOKUP(B594,IMPORTRANGE(\"\"https://docs.google.com/spreadsheets/d/1bphtMaJ6lFh0VVWIgQh8ZCOchBZqvj0w5rveiNYcTnM/edit#gid=0\"\",\"\"RWA!F:BZ\"\"),53,0))\"),\"\")","v":""}]
[null,null,null,{"$f":"IFERROR(__xludf.DUMMYFUNCTION(\"iferror(VLOOKUP(B595,IMPORTRANGE(\"\"https://docs.google.com/spreadsheets/d/1bphtMaJ6lFh0VVWIgQh8ZCOchBZqvj0w5rveiNYcTnM/edit#gid=0\"\",\"\"RWA!F:BZ\"\"),44,0))\"),\"\")","v":""},{"$f":"IFERROR(__xludf.DUMMYFUNCTION(\"iferror(VLOOKUP(B595,IMPORTRANGE(\"\"https://docs.google.com/spreadsheets/d/1bphtMaJ6lFh0VVWIgQh8ZCOchBZqvj0w5rveiNYcTnM/edit#gid=0\"\",\"\"RWA!F:BZ\"\"),48,0))\"),\"\")","v":""},{"$f":"IFERROR(__xludf.DUMMYFUNCTION(\"iferror(VLOOKUP(B595,IMPORTRANGE(\"\"https://docs.google.com/spreadsheets/d/1bphtMaJ6lFh0VVWIgQh8ZCOchBZqvj0w5rveiNYcTnM/edit#gid=0\"\",\"\"RWA!F:BZ\"\"),49,0))\"),\"\")","v":""},{"$f":"IFERROR(__xludf.DUMMYFUNCTION(\"iferror(VLOOKUP(B595,IMPORTRANGE(\"\"https://docs.google.com/spreadsheets/d/1bphtMaJ6lFh0VVWIgQh8ZCOchBZqvj0w5rveiNYcTnM/edit#gid=0\"\",\"\"RWA!F:BZ\"\"),53,0))\"),\"\")","v":""}]
[null,null,null,{"$f":"IFERROR(__xludf.DUMMYFUNCTION(\"iferror(VLOOKUP(B596,IMPORTRANGE(\"\"https://docs.google.com/spreadsheets/d/1bphtMaJ6lFh0VVWIgQh8ZCOchBZqvj0w5rveiNYcTnM/edit#gid=0\"\",\"\"RWA!F:BZ\"\"),44,0))\"),\"\")","v":""},{"$f":"IFERROR(__xludf.DUMMYFUNCTION(\"iferror(VLOOKUP(B596,IMPORTRANGE(\"\"https://docs.google.com/spreadsheets/d/1bphtMaJ6lFh0VVWIgQh8ZCOchBZqvj0w5rveiNYcTnM/edit#gid=0\"\",\"\"RWA!F:BZ\"\"),48,0))\"),\"\")","v":""},{"$f":"IFERROR(__xludf.DUMMYFUNCTION(\"iferror(VLOOKUP(B596,IMPORTRANGE(\"\"https://docs.google.com/spreadsheets/d/1bphtMaJ6lFh0VVWIgQh8ZCOchBZqvj0w5rveiNYcTnM/edit#gid=0\"\",\"\"RWA!F:BZ\"\"),49,0))\"),\"\")","v":""},{"$f":"IFERROR(__xludf.DUMMYFUNCTION(\"iferror(VLOOKUP(B596,IMPORTRANGE(\"\"https://docs.google.com/spreadsheets/d/1bphtMaJ6lFh0VVWIgQh8ZCOchBZqvj0w5rveiNYcTnM/edit#gid=0\"\",\"\"RWA!F:BZ\"\"),53,0))\"),\"\")","v":""}]
[null,null,null,{"$f":"IFERROR(__xludf.DUMMYFUNCTION(\"iferror(VLOOKUP(B597,IMPORTRANGE(\"\"https://docs.google.com/spreadsheets/d/1bphtMaJ6lFh0VVWIgQh8ZCOchBZqvj0w5rveiNYcTnM/edit#gid=0\"\",\"\"RWA!F:BZ\"\"),44,0))\"),\"\")","v":""},{"$f":"IFERROR(__xludf.DUMMYFUNCTION(\"iferror(VLOOKUP(B597,IMPORTRANGE(\"\"https://docs.google.com/spreadsheets/d/1bphtMaJ6lFh0VVWIgQh8ZCOchBZqvj0w5rveiNYcTnM/edit#gid=0\"\",\"\"RWA!F:BZ\"\"),48,0))\"),\"\")","v":""},{"$f":"IFERROR(__xludf.DUMMYFUNCTION(\"iferror(VLOOKUP(B597,IMPORTRANGE(\"\"https://docs.google.com/spreadsheets/d/1bphtMaJ6lFh0VVWIgQh8ZCOchBZqvj0w5rveiNYcTnM/edit#gid=0\"\",\"\"RWA!F:BZ\"\"),49,0))\"),\"\")","v":""},{"$f":"IFERROR(__xludf.DUMMYFUNCTION(\"iferror(VLOOKUP(B597,IMPORTRANGE(\"\"https://docs.google.com/spreadsheets/d/1bphtMaJ6lFh0VVWIgQh8ZCOchBZqvj0w5rveiNYcTnM/edit#gid=0\"\",\"\"RWA!F:BZ\"\"),53,0))\"),\"\")","v":""}]
[null,null,null,{"$f":"IFERROR(__xludf.DUMMYFUNCTION(\"iferror(VLOOKUP(B598,IMPORTRANGE(\"\"https://docs.google.com/spreadsheets/d/1bphtMaJ6lFh0VVWIgQh8ZCOchBZqvj0w5rveiNYcTnM/edit#gid=0\"\",\"\"RWA!F:BZ\"\"),44,0))\"),\"\")","v":""},{"$f":"IFERROR(__xludf.DUMMYFUNCTION(\"iferror(VLOOKUP(B598,IMPORTRANGE(\"\"https://docs.google.com/spreadsheets/d/1bphtMaJ6lFh0VVWIgQh8ZCOchBZqvj0w5rveiNYcTnM/edit#gid=0\"\",\"\"RWA!F:BZ\"\"),48,0))\"),\"\")","v":""},{"$f":"IFERROR(__xludf.DUMMYFUNCTION(\"iferror(VLOOKUP(B598,IMPORTRANGE(\"\"https://docs.google.com/spreadsheets/d/1bphtMaJ6lFh0VVWIgQh8ZCOchBZqvj0w5rveiNYcTnM/edit#gid=0\"\",\"\"RWA!F:BZ\"\"),49,0))\"),\"\")","v":""},{"$f":"IFERROR(__xludf.DUMMYFUNCTION(\"iferror(VLOOKUP(B598,IMPORTRANGE(\"\"https://docs.google.com/spreadsheets/d/1bphtMaJ6lFh0VVWIgQh8ZCOchBZqvj0w5rveiNYcTnM/edit#gid=0\"\",\"\"RWA!F:BZ\"\"),53,0))\"),\"\")","v":""}]
[null,null,null,{"$f":"IFERROR(__xludf.DUMMYFUNCTION(\"iferror(VLOOKUP(B599,IMPORTRANGE(\"\"https://docs.google.com/spreadsheets/d/1bphtMaJ6lFh0VVWIgQh8ZCOchBZqvj0w5rveiNYcTnM/edit#gid=0\"\",\"\"RWA!F:BZ\"\"),44,0))\"),\"\")","v":""},{"$f":"IFERROR(__xludf.DUMMYFUNCTION(\"iferror(VLOOKUP(B599,IMPORTRANGE(\"\"https://docs.google.com/spreadsheets/d/1bphtMaJ6lFh0VVWIgQh8ZCOchBZqvj0w5rveiNYcTnM/edit#gid=0\"\",\"\"RWA!F:BZ\"\"),48,0))\"),\"\")","v":""},{"$f":"IFERROR(__xludf.DUMMYFUNCTION(\"iferror(VLOOKUP(B599,IMPORTRANGE(\"\"https://docs.google.com/spreadsheets/d/1bphtMaJ6lFh0VVWIgQh8ZCOchBZqvj0w5rveiNYcTnM/edit#gid=0\"\",\"\"RWA!F:BZ\"\"),49,0))\"),\"\")","v":""},{"$f":"IFERROR(__xludf.DUMMYFUNCTION(\"iferror(VLOOKUP(B599,IMPORTRANGE(\"\"https://docs.google.com/spreadsheets/d/1bphtMaJ6lFh0VVWIgQh8ZCOchBZqvj0w5rveiNYcTnM/edit#gid=0\"\",\"\"RWA!F:BZ\"\"),53,0))\"),\"\")","v":""}]
[null,null,null,{"$f":"IFERROR(__xludf.DUMMYFUNCTION(\"iferror(VLOOKUP(B600,IMPORTRANGE(\"\"https://docs.google.com/spreadsheets/d/1bphtMaJ6lFh0VVWIgQh8ZCOchBZqvj0w5rveiNYcTnM/edit#gid=0\"\",\"\"RWA!F:BZ\"\"),44,0))\"),\"\")","v":""},{"$f":"IFERROR(__xludf.DUMMYFUNCTION(\"iferror(VLOOKUP(B600,IMPORTRANGE(\"\"https://docs.google.com/spreadsheets/d/1bphtMaJ6lFh0VVWIgQh8ZCOchBZqvj0w5rveiNYcTnM/edit#gid=0\"\",\"\"RWA!F:BZ\"\"),48,0))\"),\"\")","v":""},{"$f":"IFERROR(__xludf.DUMMYFUNCTION(\"iferror(VLOOKUP(B600,IMPORTRANGE(\"\"https://docs.google.com/spreadsheets/d/1bphtMaJ6lFh0VVWIgQh8ZCOchBZqvj0w5rveiNYcTnM/edit#gid=0\"\",\"\"RWA!F:BZ\"\"),49,0))\"),\"\")","v":""},{"$f":"IFERROR(__xludf.DUMMYFUNCTION(\"iferror(VLOOKUP(B600,IMPORTRANGE(\"\"https://docs.google.com/spreadsheets/d/1bphtMaJ6lFh0VVWIgQh8ZCOchBZqvj0w5rveiNYcTnM/edit#gid=0\"\",\"\"RWA!F:BZ\"\"),53,0))\"),\"\")","v":""}]
[null,null,null,{"$f":"IFERROR(__xludf.DUMMYFUNCTION(\"iferror(VLOOKUP(B601,IMPORTRANGE(\"\"https://docs.google.com/spreadsheets/d/1bphtMaJ6lFh0VVWIgQh8ZCOchBZqvj0w5rveiNYcTnM/edit#gid=0\"\",\"\"RWA!F:BZ\"\"),44,0))\"),\"\")","v":""},{"$f":"IFERROR(__xludf.DUMMYFUNCTION(\"iferror(VLOOKUP(B601,IMPORTRANGE(\"\"https://docs.google.com/spreadsheets/d/1bphtMaJ6lFh0VVWIgQh8ZCOchBZqvj0w5rveiNYcTnM/edit#gid=0\"\",\"\"RWA!F:BZ\"\"),48,0))\"),\"\")","v":""},{"$f":"IFERROR(__xludf.DUMMYFUNCTION(\"iferror(VLOOKUP(B601,IMPORTRANGE(\"\"https://docs.google.com/spreadsheets/d/1bphtMaJ6lFh0VVWIgQh8ZCOchBZqvj0w5rveiNYcTnM/edit#gid=0\"\",\"\"RWA!F:BZ\"\"),49,0))\"),\"\")","v":""},{"$f":"IFERROR(__xludf.DUMMYFUNCTION(\"iferror(VLOOKUP(B601,IMPORTRANGE(\"\"https://docs.google.com/spreadsheets/d/1bphtMaJ6lFh0VVWIgQh8ZCOchBZqvj0w5rveiNYcTnM/edit#gid=0\"\",\"\"RWA!F:BZ\"\"),53,0))\"),\"\")","v":""}]
[null,null,null,{"$f":"IFERROR(__xludf.DUMMYFUNCTION(\"iferror(VLOOKUP(B602,IMPORTRANGE(\"\"https://docs.google.com/spreadsheets/d/1bphtMaJ6lFh0VVWIgQh8ZCOchBZqvj0w5rveiNYcTnM/edit#gid=0\"\",\"\"RWA!F:BZ\"\"),44,0))\"),\"\")","v":""},{"$f":"IFERROR(__xludf.DUMMYFUNCTION(\"iferror(VLOOKUP(B602,IMPORTRANGE(\"\"https://docs.google.com/spreadsheets/d/1bphtMaJ6lFh0VVWIgQh8ZCOchBZqvj0w5rveiNYcTnM/edit#gid=0\"\",\"\"RWA!F:BZ\"\"),48,0))\"),\"\")","v":""},{"$f":"IFERROR(__xludf.DUMMYFUNCTION(\"iferror(VLOOKUP(B602,IMPORTRANGE(\"\"https://docs.google.com/spreadsheets/d/1bphtMaJ6lFh0VVWIgQh8ZCOchBZqvj0w5rveiNYcTnM/edit#gid=0\"\",\"\"RWA!F:BZ\"\"),49,0))\"),\"\")","v":""},{"$f":"IFERROR(__xludf.DUMMYFUNCTION(\"iferror(VLOOKUP(B602,IMPORTRANGE(\"\"https://docs.google.com/spreadsheets/d/1bphtMaJ6lFh0VVWIgQh8ZCOchBZqvj0w5rveiNYcTnM/edit#gid=0\"\",\"\"RWA!F:BZ\"\"),53,0))\"),\"\")","v":""}]
[null,null,null,{"$f":"IFERROR(__xludf.DUMMYFUNCTION(\"iferror(VLOOKUP(B603,IMPORTRANGE(\"\"https://docs.google.com/spreadsheets/d/1bphtMaJ6lFh0VVWIgQh8ZCOchBZqvj0w5rveiNYcTnM/edit#gid=0\"\",\"\"RWA!F:BZ\"\"),44,0))\"),\"\")","v":""},{"$f":"IFERROR(__xludf.DUMMYFUNCTION(\"iferror(VLOOKUP(B603,IMPORTRANGE(\"\"https://docs.google.com/spreadsheets/d/1bphtMaJ6lFh0VVWIgQh8ZCOchBZqvj0w5rveiNYcTnM/edit#gid=0\"\",\"\"RWA!F:BZ\"\"),48,0))\"),\"\")","v":""},{"$f":"IFERROR(__xludf.DUMMYFUNCTION(\"iferror(VLOOKUP(B603,IMPORTRANGE(\"\"https://docs.google.com/spreadsheets/d/1bphtMaJ6lFh0VVWIgQh8ZCOchBZqvj0w5rveiNYcTnM/edit#gid=0\"\",\"\"RWA!F:BZ\"\"),49,0))\"),\"\")","v":""},{"$f":"IFERROR(__xludf.DUMMYFUNCTION(\"iferror(VLOOKUP(B603,IMPORTRANGE(\"\"https://docs.google.com/spreadsheets/d/1bphtMaJ6lFh0VVWIgQh8ZCOchBZqvj0w5rveiNYcTnM/edit#gid=0\"\",\"\"RWA!F:BZ\"\"),53,0))\"),\"\")","v":""}]
[null,null,null,{"$f":"IFERROR(__xludf.DUMMYFUNCTION(\"iferror(VLOOKUP(B604,IMPORTRANGE(\"\"https://docs.google.com/spreadsheets/d/1bphtMaJ6lFh0VVWIgQh8ZCOchBZqvj0w5rveiNYcTnM/edit#gid=0\"\",\"\"RWA!F:BZ\"\"),44,0))\"),\"\")","v":""},{"$f":"IFERROR(__xludf.DUMMYFUNCTION(\"iferror(VLOOKUP(B604,IMPORTRANGE(\"\"https://docs.google.com/spreadsheets/d/1bphtMaJ6lFh0VVWIgQh8ZCOchBZqvj0w5rveiNYcTnM/edit#gid=0\"\",\"\"RWA!F:BZ\"\"),48,0))\"),\"\")","v":""},{"$f":"IFERROR(__xludf.DUMMYFUNCTION(\"iferror(VLOOKUP(B604,IMPORTRANGE(\"\"https://docs.google.com/spreadsheets/d/1bphtMaJ6lFh0VVWIgQh8ZCOchBZqvj0w5rveiNYcTnM/edit#gid=0\"\",\"\"RWA!F:BZ\"\"),49,0))\"),\"\")","v":""},{"$f":"IFERROR(__xludf.DUMMYFUNCTION(\"iferror(VLOOKUP(B604,IMPORTRANGE(\"\"https://docs.google.com/spreadsheets/d/1bphtMaJ6lFh0VVWIgQh8ZCOchBZqvj0w5rveiNYcTnM/edit#gid=0\"\",\"\"RWA!F:BZ\"\"),53,0))\"),\"\")","v":""}]
[null,null,null,{"$f":"IFERROR(__xludf.DUMMYFUNCTION(\"iferror(VLOOKUP(B605,IMPORTRANGE(\"\"https://docs.google.com/spreadsheets/d/1bphtMaJ6lFh0VVWIgQh8ZCOchBZqvj0w5rveiNYcTnM/edit#gid=0\"\",\"\"RWA!F:BZ\"\"),44,0))\"),\"\")","v":""},{"$f":"IFERROR(__xludf.DUMMYFUNCTION(\"iferror(VLOOKUP(B605,IMPORTRANGE(\"\"https://docs.google.com/spreadsheets/d/1bphtMaJ6lFh0VVWIgQh8ZCOchBZqvj0w5rveiNYcTnM/edit#gid=0\"\",\"\"RWA!F:BZ\"\"),48,0))\"),\"\")","v":""},{"$f":"IFERROR(__xludf.DUMMYFUNCTION(\"iferror(VLOOKUP(B605,IMPORTRANGE(\"\"https://docs.google.com/spreadsheets/d/1bphtMaJ6lFh0VVWIgQh8ZCOchBZqvj0w5rveiNYcTnM/edit#gid=0\"\",\"\"RWA!F:BZ\"\"),49,0))\"),\"\")","v":""},{"$f":"IFERROR(__xludf.DUMMYFUNCTION(\"iferror(VLOOKUP(B605,IMPORTRANGE(\"\"https://docs.google.com/spreadsheets/d/1bphtMaJ6lFh0VVWIgQh8ZCOchBZqvj0w5rveiNYcTnM/edit#gid=0\"\",\"\"RWA!F:BZ\"\"),53,0))\"),\"\")","v":""}]
[null,null,null,{"$f":"IFERROR(__xludf.DUMMYFUNCTION(\"iferror(VLOOKUP(B606,IMPORTRANGE(\"\"https://docs.google.com/spreadsheets/d/1bphtMaJ6lFh0VVWIgQh8ZCOchBZqvj0w5rveiNYcTnM/edit#gid=0\"\",\"\"RWA!F:BZ\"\"),44,0))\"),\"\")","v":""},{"$f":"IFERROR(__xludf.DUMMYFUNCTION(\"iferror(VLOOKUP(B606,IMPORTRANGE(\"\"https://docs.google.com/spreadsheets/d/1bphtMaJ6lFh0VVWIgQh8ZCOchBZqvj0w5rveiNYcTnM/edit#gid=0\"\",\"\"RWA!F:BZ\"\"),48,0))\"),\"\")","v":""},{"$f":"IFERROR(__xludf.DUMMYFUNCTION(\"iferror(VLOOKUP(B606,IMPORTRANGE(\"\"https://docs.google.com/spreadsheets/d/1bphtMaJ6lFh0VVWIgQh8ZCOchBZqvj0w5rveiNYcTnM/edit#gid=0\"\",\"\"RWA!F:BZ\"\"),49,0))\"),\"\")","v":""},{"$f":"IFERROR(__xludf.DUMMYFUNCTION(\"iferror(VLOOKUP(B606,IMPORTRANGE(\"\"https://docs.google.com/spreadsheets/d/1bphtMaJ6lFh0VVWIgQh8ZCOchBZqvj0w5rveiNYcTnM/edit#gid=0\"\",\"\"RWA!F:BZ\"\"),53,0))\"),\"\")","v":""}]
[null,null,null,{"$f":"IFERROR(__xludf.DUMMYFUNCTION(\"iferror(VLOOKUP(B607,IMPORTRANGE(\"\"https://docs.google.com/spreadsheets/d/1bphtMaJ6lFh0VVWIgQh8ZCOchBZqvj0w5rveiNYcTnM/edit#gid=0\"\",\"\"RWA!F:BZ\"\"),44,0))\"),\"\")","v":""},{"$f":"IFERROR(__xludf.DUMMYFUNCTION(\"iferror(VLOOKUP(B607,IMPORTRANGE(\"\"https://docs.google.com/spreadsheets/d/1bphtMaJ6lFh0VVWIgQh8ZCOchBZqvj0w5rveiNYcTnM/edit#gid=0\"\",\"\"RWA!F:BZ\"\"),48,0))\"),\"\")","v":""},{"$f":"IFERROR(__xludf.DUMMYFUNCTION(\"iferror(VLOOKUP(B607,IMPORTRANGE(\"\"https://docs.google.com/spreadsheets/d/1bphtMaJ6lFh0VVWIgQh8ZCOchBZqvj0w5rveiNYcTnM/edit#gid=0\"\",\"\"RWA!F:BZ\"\"),49,0))\"),\"\")","v":""},{"$f":"IFERROR(__xludf.DUMMYFUNCTION(\"iferror(VLOOKUP(B607,IMPORTRANGE(\"\"https://docs.google.com/spreadsheets/d/1bphtMaJ6lFh0VVWIgQh8ZCOchBZqvj0w5rveiNYcTnM/edit#gid=0\"\",\"\"RWA!F:BZ\"\"),53,0))\"),\"\")","v":""}]
[null,null,null,{"$f":"IFERROR(__xludf.DUMMYFUNCTION(\"iferror(VLOOKUP(B608,IMPORTRANGE(\"\"https://docs.google.com/spreadsheets/d/1bphtMaJ6lFh0VVWIgQh8ZCOchBZqvj0w5rveiNYcTnM/edit#gid=0\"\",\"\"RWA!F:BZ\"\"),44,0))\"),\"\")","v":""},{"$f":"IFERROR(__xludf.DUMMYFUNCTION(\"iferror(VLOOKUP(B608,IMPORTRANGE(\"\"https://docs.google.com/spreadsheets/d/1bphtMaJ6lFh0VVWIgQh8ZCOchBZqvj0w5rveiNYcTnM/edit#gid=0\"\",\"\"RWA!F:BZ\"\"),48,0))\"),\"\")","v":""},{"$f":"IFERROR(__xludf.DUMMYFUNCTION(\"iferror(VLOOKUP(B608,IMPORTRANGE(\"\"https://docs.google.com/spreadsheets/d/1bphtMaJ6lFh0VVWIgQh8ZCOchBZqvj0w5rveiNYcTnM/edit#gid=0\"\",\"\"RWA!F:BZ\"\"),49,0))\"),\"\")","v":""},{"$f":"IFERROR(__xludf.DUMMYFUNCTION(\"iferror(VLOOKUP(B608,IMPORTRANGE(\"\"https://docs.google.com/spreadsheets/d/1bphtMaJ6lFh0VVWIgQh8ZCOchBZqvj0w5rveiNYcTnM/edit#gid=0\"\",\"\"RWA!F:BZ\"\"),53,0))\"),\"\")","v":""}]
[null,null,null,{"$f":"IFERROR(__xludf.DUMMYFUNCTION(\"iferror(VLOOKUP(B609,IMPORTRANGE(\"\"https://docs.google.com/spreadsheets/d/1bphtMaJ6lFh0VVWIgQh8ZCOchBZqvj0w5rveiNYcTnM/edit#gid=0\"\",\"\"RWA!F:BZ\"\"),44,0))\"),\"\")","v":""},{"$f":"IFERROR(__xludf.DUMMYFUNCTION(\"iferror(VLOOKUP(B609,IMPORTRANGE(\"\"https://docs.google.com/spreadsheets/d/1bphtMaJ6lFh0VVWIgQh8ZCOchBZqvj0w5rveiNYcTnM/edit#gid=0\"\",\"\"RWA!F:BZ\"\"),48,0))\"),\"\")","v":""},{"$f":"IFERROR(__xludf.DUMMYFUNCTION(\"iferror(VLOOKUP(B609,IMPORTRANGE(\"\"https://docs.google.com/spreadsheets/d/1bphtMaJ6lFh0VVWIgQh8ZCOchBZqvj0w5rveiNYcTnM/edit#gid=0\"\",\"\"RWA!F:BZ\"\"),49,0))\"),\"\")","v":""},{"$f":"IFERROR(__xludf.DUMMYFUNCTION(\"iferror(VLOOKUP(B609,IMPORTRANGE(\"\"https://docs.google.com/spreadsheets/d/1bphtMaJ6lFh0VVWIgQh8ZCOchBZqvj0w5rveiNYcTnM/edit#gid=0\"\",\"\"RWA!F:BZ\"\"),53,0))\"),\"\")","v":""}]
[null,null,null,{"$f":"IFERROR(__xludf.DUMMYFUNCTION(\"iferror(VLOOKUP(B610,IMPORTRANGE(\"\"https://docs.google.com/spreadsheets/d/1bphtMaJ6lFh0VVWIgQh8ZCOchBZqvj0w5rveiNYcTnM/edit#gid=0\"\",\"\"RWA!F:BZ\"\"),44,0))\"),\"\")","v":""},{"$f":"IFERROR(__xludf.DUMMYFUNCTION(\"iferror(VLOOKUP(B610,IMPORTRANGE(\"\"https://docs.google.com/spreadsheets/d/1bphtMaJ6lFh0VVWIgQh8ZCOchBZqvj0w5rveiNYcTnM/edit#gid=0\"\",\"\"RWA!F:BZ\"\"),48,0))\"),\"\")","v":""},{"$f":"IFERROR(__xludf.DUMMYFUNCTION(\"iferror(VLOOKUP(B610,IMPORTRANGE(\"\"https://docs.google.com/spreadsheets/d/1bphtMaJ6lFh0VVWIgQh8ZCOchBZqvj0w5rveiNYcTnM/edit#gid=0\"\",\"\"RWA!F:BZ\"\"),49,0))\"),\"\")","v":""},{"$f":"IFERROR(__xludf.DUMMYFUNCTION(\"iferror(VLOOKUP(B610,IMPORTRANGE(\"\"https://docs.google.com/spreadsheets/d/1bphtMaJ6lFh0VVWIgQh8ZCOchBZqvj0w5rveiNYcTnM/edit#gid=0\"\",\"\"RWA!F:BZ\"\"),53,0))\"),\"\")","v":""}]
[null,null,null,{"$f":"IFERROR(__xludf.DUMMYFUNCTION(\"iferror(VLOOKUP(B611,IMPORTRANGE(\"\"https://docs.google.com/spreadsheets/d/1bphtMaJ6lFh0VVWIgQh8ZCOchBZqvj0w5rveiNYcTnM/edit#gid=0\"\",\"\"RWA!F:BZ\"\"),44,0))\"),\"\")","v":""},{"$f":"IFERROR(__xludf.DUMMYFUNCTION(\"iferror(VLOOKUP(B611,IMPORTRANGE(\"\"https://docs.google.com/spreadsheets/d/1bphtMaJ6lFh0VVWIgQh8ZCOchBZqvj0w5rveiNYcTnM/edit#gid=0\"\",\"\"RWA!F:BZ\"\"),48,0))\"),\"\")","v":""},{"$f":"IFERROR(__xludf.DUMMYFUNCTION(\"iferror(VLOOKUP(B611,IMPORTRANGE(\"\"https://docs.google.com/spreadsheets/d/1bphtMaJ6lFh0VVWIgQh8ZCOchBZqvj0w5rveiNYcTnM/edit#gid=0\"\",\"\"RWA!F:BZ\"\"),49,0))\"),\"\")","v":""},{"$f":"IFERROR(__xludf.DUMMYFUNCTION(\"iferror(VLOOKUP(B611,IMPORTRANGE(\"\"https://docs.google.com/spreadsheets/d/1bphtMaJ6lFh0VVWIgQh8ZCOchBZqvj0w5rveiNYcTnM/edit#gid=0\"\",\"\"RWA!F:BZ\"\"),53,0))\"),\"\")","v":""}]
[null,null,null,{"$f":"IFERROR(__xludf.DUMMYFUNCTION(\"iferror(VLOOKUP(B612,IMPORTRANGE(\"\"https://docs.google.com/spreadsheets/d/1bphtMaJ6lFh0VVWIgQh8ZCOchBZqvj0w5rveiNYcTnM/edit#gid=0\"\",\"\"RWA!F:BZ\"\"),44,0))\"),\"\")","v":""},{"$f":"IFERROR(__xludf.DUMMYFUNCTION(\"iferror(VLOOKUP(B612,IMPORTRANGE(\"\"https://docs.google.com/spreadsheets/d/1bphtMaJ6lFh0VVWIgQh8ZCOchBZqvj0w5rveiNYcTnM/edit#gid=0\"\",\"\"RWA!F:BZ\"\"),48,0))\"),\"\")","v":""},{"$f":"IFERROR(__xludf.DUMMYFUNCTION(\"iferror(VLOOKUP(B612,IMPORTRANGE(\"\"https://docs.google.com/spreadsheets/d/1bphtMaJ6lFh0VVWIgQh8ZCOchBZqvj0w5rveiNYcTnM/edit#gid=0\"\",\"\"RWA!F:BZ\"\"),49,0))\"),\"\")","v":""},{"$f":"IFERROR(__xludf.DUMMYFUNCTION(\"iferror(VLOOKUP(B612,IMPORTRANGE(\"\"https://docs.google.com/spreadsheets/d/1bphtMaJ6lFh0VVWIgQh8ZCOchBZqvj0w5rveiNYcTnM/edit#gid=0\"\",\"\"RWA!F:BZ\"\"),53,0))\"),\"\")","v":""}]
[null,null,null,{"$f":"IFERROR(__xludf.DUMMYFUNCTION(\"iferror(VLOOKUP(B613,IMPORTRANGE(\"\"https://docs.google.com/spreadsheets/d/1bphtMaJ6lFh0VVWIgQh8ZCOchBZqvj0w5rveiNYcTnM/edit#gid=0\"\",\"\"RWA!F:BZ\"\"),44,0))\"),\"\")","v":""},{"$f":"IFERROR(__xludf.DUMMYFUNCTION(\"iferror(VLOOKUP(B613,IMPORTRANGE(\"\"https://docs.google.com/spreadsheets/d/1bphtMaJ6lFh0VVWIgQh8ZCOchBZqvj0w5rveiNYcTnM/edit#gid=0\"\",\"\"RWA!F:BZ\"\"),48,0))\"),\"\")","v":""},{"$f":"IFERROR(__xludf.DUMMYFUNCTION(\"iferror(VLOOKUP(B613,IMPORTRANGE(\"\"https://docs.google.com/spreadsheets/d/1bphtMaJ6lFh0VVWIgQh8ZCOchBZqvj0w5rveiNYcTnM/edit#gid=0\"\",\"\"RWA!F:BZ\"\"),49,0))\"),\"\")","v":""},{"$f":"IFERROR(__xludf.DUMMYFUNCTION(\"iferror(VLOOKUP(B613,IMPORTRANGE(\"\"https://docs.google.com/spreadsheets/d/1bphtMaJ6lFh0VVWIgQh8ZCOchBZqvj0w5rveiNYcTnM/edit#gid=0\"\",\"\"RWA!F:BZ\"\"),53,0))\"),\"\")","v":""}]
[null,null,null,{"$f":"IFERROR(__xludf.DUMMYFUNCTION(\"iferror(VLOOKUP(B614,IMPORTRANGE(\"\"https://docs.google.com/spreadsheets/d/1bphtMaJ6lFh0VVWIgQh8ZCOchBZqvj0w5rveiNYcTnM/edit#gid=0\"\",\"\"RWA!F:BZ\"\"),44,0))\"),\"\")","v":""},{"$f":"IFERROR(__xludf.DUMMYFUNCTION(\"iferror(VLOOKUP(B614,IMPORTRANGE(\"\"https://docs.google.com/spreadsheets/d/1bphtMaJ6lFh0VVWIgQh8ZCOchBZqvj0w5rveiNYcTnM/edit#gid=0\"\",\"\"RWA!F:BZ\"\"),48,0))\"),\"\")","v":""},{"$f":"IFERROR(__xludf.DUMMYFUNCTION(\"iferror(VLOOKUP(B614,IMPORTRANGE(\"\"https://docs.google.com/spreadsheets/d/1bphtMaJ6lFh0VVWIgQh8ZCOchBZqvj0w5rveiNYcTnM/edit#gid=0\"\",\"\"RWA!F:BZ\"\"),49,0))\"),\"\")","v":""},{"$f":"IFERROR(__xludf.DUMMYFUNCTION(\"iferror(VLOOKUP(B614,IMPORTRANGE(\"\"https://docs.google.com/spreadsheets/d/1bphtMaJ6lFh0VVWIgQh8ZCOchBZqvj0w5rveiNYcTnM/edit#gid=0\"\",\"\"RWA!F:BZ\"\"),53,0))\"),\"\")","v":""}]
[null,null,null,{"$f":"IFERROR(__xludf.DUMMYFUNCTION(\"iferror(VLOOKUP(B615,IMPORTRANGE(\"\"https://docs.google.com/spreadsheets/d/1bphtMaJ6lFh0VVWIgQh8ZCOchBZqvj0w5rveiNYcTnM/edit#gid=0\"\",\"\"RWA!F:BZ\"\"),44,0))\"),\"\")","v":""},{"$f":"IFERROR(__xludf.DUMMYFUNCTION(\"iferror(VLOOKUP(B615,IMPORTRANGE(\"\"https://docs.google.com/spreadsheets/d/1bphtMaJ6lFh0VVWIgQh8ZCOchBZqvj0w5rveiNYcTnM/edit#gid=0\"\",\"\"RWA!F:BZ\"\"),48,0))\"),\"\")","v":""},{"$f":"IFERROR(__xludf.DUMMYFUNCTION(\"iferror(VLOOKUP(B615,IMPORTRANGE(\"\"https://docs.google.com/spreadsheets/d/1bphtMaJ6lFh0VVWIgQh8ZCOchBZqvj0w5rveiNYcTnM/edit#gid=0\"\",\"\"RWA!F:BZ\"\"),49,0))\"),\"\")","v":""},{"$f":"IFERROR(__xludf.DUMMYFUNCTION(\"iferror(VLOOKUP(B615,IMPORTRANGE(\"\"https://docs.google.com/spreadsheets/d/1bphtMaJ6lFh0VVWIgQh8ZCOchBZqvj0w5rveiNYcTnM/edit#gid=0\"\",\"\"RWA!F:BZ\"\"),53,0))\"),\"\")","v":""}]
[null,null,null,{"$f":"IFERROR(__xludf.DUMMYFUNCTION(\"iferror(VLOOKUP(B616,IMPORTRANGE(\"\"https://docs.google.com/spreadsheets/d/1bphtMaJ6lFh0VVWIgQh8ZCOchBZqvj0w5rveiNYcTnM/edit#gid=0\"\",\"\"RWA!F:BZ\"\"),44,0))\"),\"\")","v":""},{"$f":"IFERROR(__xludf.DUMMYFUNCTION(\"iferror(VLOOKUP(B616,IMPORTRANGE(\"\"https://docs.google.com/spreadsheets/d/1bphtMaJ6lFh0VVWIgQh8ZCOchBZqvj0w5rveiNYcTnM/edit#gid=0\"\",\"\"RWA!F:BZ\"\"),48,0))\"),\"\")","v":""},{"$f":"IFERROR(__xludf.DUMMYFUNCTION(\"iferror(VLOOKUP(B616,IMPORTRANGE(\"\"https://docs.google.com/spreadsheets/d/1bphtMaJ6lFh0VVWIgQh8ZCOchBZqvj0w5rveiNYcTnM/edit#gid=0\"\",\"\"RWA!F:BZ\"\"),49,0))\"),\"\")","v":""},{"$f":"IFERROR(__xludf.DUMMYFUNCTION(\"iferror(VLOOKUP(B616,IMPORTRANGE(\"\"https://docs.google.com/spreadsheets/d/1bphtMaJ6lFh0VVWIgQh8ZCOchBZqvj0w5rveiNYcTnM/edit#gid=0\"\",\"\"RWA!F:BZ\"\"),53,0))\"),\"\")","v":""}]
[null,null,null,{"$f":"IFERROR(__xludf.DUMMYFUNCTION(\"iferror(VLOOKUP(B617,IMPORTRANGE(\"\"https://docs.google.com/spreadsheets/d/1bphtMaJ6lFh0VVWIgQh8ZCOchBZqvj0w5rveiNYcTnM/edit#gid=0\"\",\"\"RWA!F:BZ\"\"),44,0))\"),\"\")","v":""},{"$f":"IFERROR(__xludf.DUMMYFUNCTION(\"iferror(VLOOKUP(B617,IMPORTRANGE(\"\"https://docs.google.com/spreadsheets/d/1bphtMaJ6lFh0VVWIgQh8ZCOchBZqvj0w5rveiNYcTnM/edit#gid=0\"\",\"\"RWA!F:BZ\"\"),48,0))\"),\"\")","v":""},{"$f":"IFERROR(__xludf.DUMMYFUNCTION(\"iferror(VLOOKUP(B617,IMPORTRANGE(\"\"https://docs.google.com/spreadsheets/d/1bphtMaJ6lFh0VVWIgQh8ZCOchBZqvj0w5rveiNYcTnM/edit#gid=0\"\",\"\"RWA!F:BZ\"\"),49,0))\"),\"\")","v":""},{"$f":"IFERROR(__xludf.DUMMYFUNCTION(\"iferror(VLOOKUP(B617,IMPORTRANGE(\"\"https://docs.google.com/spreadsheets/d/1bphtMaJ6lFh0VVWIgQh8ZCOchBZqvj0w5rveiNYcTnM/edit#gid=0\"\",\"\"RWA!F:BZ\"\"),53,0))\"),\"\")","v":""}]
[null,null,null,{"$f":"IFERROR(__xludf.DUMMYFUNCTION(\"iferror(VLOOKUP(B618,IMPORTRANGE(\"\"https://docs.google.com/spreadsheets/d/1bphtMaJ6lFh0VVWIgQh8ZCOchBZqvj0w5rveiNYcTnM/edit#gid=0\"\",\"\"RWA!F:BZ\"\"),44,0))\"),\"\")","v":""},{"$f":"IFERROR(__xludf.DUMMYFUNCTION(\"iferror(VLOOKUP(B618,IMPORTRANGE(\"\"https://docs.google.com/spreadsheets/d/1bphtMaJ6lFh0VVWIgQh8ZCOchBZqvj0w5rveiNYcTnM/edit#gid=0\"\",\"\"RWA!F:BZ\"\"),48,0))\"),\"\")","v":""},{"$f":"IFERROR(__xludf.DUMMYFUNCTION(\"iferror(VLOOKUP(B618,IMPORTRANGE(\"\"https://docs.google.com/spreadsheets/d/1bphtMaJ6lFh0VVWIgQh8ZCOchBZqvj0w5rveiNYcTnM/edit#gid=0\"\",\"\"RWA!F:BZ\"\"),49,0))\"),\"\")","v":""},{"$f":"IFERROR(__xludf.DUMMYFUNCTION(\"iferror(VLOOKUP(B618,IMPORTRANGE(\"\"https://docs.google.com/spreadsheets/d/1bphtMaJ6lFh0VVWIgQh8ZCOchBZqvj0w5rveiNYcTnM/edit#gid=0\"\",\"\"RWA!F:BZ\"\"),53,0))\"),\"\")","v":""}]
[null,null,null,{"$f":"IFERROR(__xludf.DUMMYFUNCTION(\"iferror(VLOOKUP(B619,IMPORTRANGE(\"\"https://docs.google.com/spreadsheets/d/1bphtMaJ6lFh0VVWIgQh8ZCOchBZqvj0w5rveiNYcTnM/edit#gid=0\"\",\"\"RWA!F:BZ\"\"),44,0))\"),\"\")","v":""},{"$f":"IFERROR(__xludf.DUMMYFUNCTION(\"iferror(VLOOKUP(B619,IMPORTRANGE(\"\"https://docs.google.com/spreadsheets/d/1bphtMaJ6lFh0VVWIgQh8ZCOchBZqvj0w5rveiNYcTnM/edit#gid=0\"\",\"\"RWA!F:BZ\"\"),48,0))\"),\"\")","v":""},{"$f":"IFERROR(__xludf.DUMMYFUNCTION(\"iferror(VLOOKUP(B619,IMPORTRANGE(\"\"https://docs.google.com/spreadsheets/d/1bphtMaJ6lFh0VVWIgQh8ZCOchBZqvj0w5rveiNYcTnM/edit#gid=0\"\",\"\"RWA!F:BZ\"\"),49,0))\"),\"\")","v":""},{"$f":"IFERROR(__xludf.DUMMYFUNCTION(\"iferror(VLOOKUP(B619,IMPORTRANGE(\"\"https://docs.google.com/spreadsheets/d/1bphtMaJ6lFh0VVWIgQh8ZCOchBZqvj0w5rveiNYcTnM/edit#gid=0\"\",\"\"RWA!F:BZ\"\"),53,0))\"),\"\")","v":""}]
[null,null,null,{"$f":"IFERROR(__xludf.DUMMYFUNCTION(\"iferror(VLOOKUP(B620,IMPORTRANGE(\"\"https://docs.google.com/spreadsheets/d/1bphtMaJ6lFh0VVWIgQh8ZCOchBZqvj0w5rveiNYcTnM/edit#gid=0\"\",\"\"RWA!F:BZ\"\"),44,0))\"),\"\")","v":""},{"$f":"IFERROR(__xludf.DUMMYFUNCTION(\"iferror(VLOOKUP(B620,IMPORTRANGE(\"\"https://docs.google.com/spreadsheets/d/1bphtMaJ6lFh0VVWIgQh8ZCOchBZqvj0w5rveiNYcTnM/edit#gid=0\"\",\"\"RWA!F:BZ\"\"),48,0))\"),\"\")","v":""},{"$f":"IFERROR(__xludf.DUMMYFUNCTION(\"iferror(VLOOKUP(B620,IMPORTRANGE(\"\"https://docs.google.com/spreadsheets/d/1bphtMaJ6lFh0VVWIgQh8ZCOchBZqvj0w5rveiNYcTnM/edit#gid=0\"\",\"\"RWA!F:BZ\"\"),49,0))\"),\"\")","v":""},{"$f":"IFERROR(__xludf.DUMMYFUNCTION(\"iferror(VLOOKUP(B620,IMPORTRANGE(\"\"https://docs.google.com/spreadsheets/d/1bphtMaJ6lFh0VVWIgQh8ZCOchBZqvj0w5rveiNYcTnM/edit#gid=0\"\",\"\"RWA!F:BZ\"\"),53,0))\"),\"\")","v":""}]
[null,null,null,{"$f":"IFERROR(__xludf.DUMMYFUNCTION(\"iferror(VLOOKUP(B621,IMPORTRANGE(\"\"https://docs.google.com/spreadsheets/d/1bphtMaJ6lFh0VVWIgQh8ZCOchBZqvj0w5rveiNYcTnM/edit#gid=0\"\",\"\"RWA!F:BZ\"\"),44,0))\"),\"\")","v":""},{"$f":"IFERROR(__xludf.DUMMYFUNCTION(\"iferror(VLOOKUP(B621,IMPORTRANGE(\"\"https://docs.google.com/spreadsheets/d/1bphtMaJ6lFh0VVWIgQh8ZCOchBZqvj0w5rveiNYcTnM/edit#gid=0\"\",\"\"RWA!F:BZ\"\"),48,0))\"),\"\")","v":""},{"$f":"IFERROR(__xludf.DUMMYFUNCTION(\"iferror(VLOOKUP(B621,IMPORTRANGE(\"\"https://docs.google.com/spreadsheets/d/1bphtMaJ6lFh0VVWIgQh8ZCOchBZqvj0w5rveiNYcTnM/edit#gid=0\"\",\"\"RWA!F:BZ\"\"),49,0))\"),\"\")","v":""},{"$f":"IFERROR(__xludf.DUMMYFUNCTION(\"iferror(VLOOKUP(B621,IMPORTRANGE(\"\"https://docs.google.com/spreadsheets/d/1bphtMaJ6lFh0VVWIgQh8ZCOchBZqvj0w5rveiNYcTnM/edit#gid=0\"\",\"\"RWA!F:BZ\"\"),53,0))\"),\"\")","v":""}]
[null,null,null,{"$f":"IFERROR(__xludf.DUMMYFUNCTION(\"iferror(VLOOKUP(B622,IMPORTRANGE(\"\"https://docs.google.com/spreadsheets/d/1bphtMaJ6lFh0VVWIgQh8ZCOchBZqvj0w5rveiNYcTnM/edit#gid=0\"\",\"\"RWA!F:BZ\"\"),44,0))\"),\"\")","v":""},{"$f":"IFERROR(__xludf.DUMMYFUNCTION(\"iferror(VLOOKUP(B622,IMPORTRANGE(\"\"https://docs.google.com/spreadsheets/d/1bphtMaJ6lFh0VVWIgQh8ZCOchBZqvj0w5rveiNYcTnM/edit#gid=0\"\",\"\"RWA!F:BZ\"\"),48,0))\"),\"\")","v":""},{"$f":"IFERROR(__xludf.DUMMYFUNCTION(\"iferror(VLOOKUP(B622,IMPORTRANGE(\"\"https://docs.google.com/spreadsheets/d/1bphtMaJ6lFh0VVWIgQh8ZCOchBZqvj0w5rveiNYcTnM/edit#gid=0\"\",\"\"RWA!F:BZ\"\"),49,0))\"),\"\")","v":""},{"$f":"IFERROR(__xludf.DUMMYFUNCTION(\"iferror(VLOOKUP(B622,IMPORTRANGE(\"\"https://docs.google.com/spreadsheets/d/1bphtMaJ6lFh0VVWIgQh8ZCOchBZqvj0w5rveiNYcTnM/edit#gid=0\"\",\"\"RWA!F:BZ\"\"),53,0))\"),\"\")","v":""}]
[null,null,null,{"$f":"IFERROR(__xludf.DUMMYFUNCTION(\"iferror(VLOOKUP(B623,IMPORTRANGE(\"\"https://docs.google.com/spreadsheets/d/1bphtMaJ6lFh0VVWIgQh8ZCOchBZqvj0w5rveiNYcTnM/edit#gid=0\"\",\"\"RWA!F:BZ\"\"),44,0))\"),\"\")","v":""},{"$f":"IFERROR(__xludf.DUMMYFUNCTION(\"iferror(VLOOKUP(B623,IMPORTRANGE(\"\"https://docs.google.com/spreadsheets/d/1bphtMaJ6lFh0VVWIgQh8ZCOchBZqvj0w5rveiNYcTnM/edit#gid=0\"\",\"\"RWA!F:BZ\"\"),48,0))\"),\"\")","v":""},{"$f":"IFERROR(__xludf.DUMMYFUNCTION(\"iferror(VLOOKUP(B623,IMPORTRANGE(\"\"https://docs.google.com/spreadsheets/d/1bphtMaJ6lFh0VVWIgQh8ZCOchBZqvj0w5rveiNYcTnM/edit#gid=0\"\",\"\"RWA!F:BZ\"\"),49,0))\"),\"\")","v":""},{"$f":"IFERROR(__xludf.DUMMYFUNCTION(\"iferror(VLOOKUP(B623,IMPORTRANGE(\"\"https://docs.google.com/spreadsheets/d/1bphtMaJ6lFh0VVWIgQh8ZCOchBZqvj0w5rveiNYcTnM/edit#gid=0\"\",\"\"RWA!F:BZ\"\"),53,0))\"),\"\")","v":""}]
[null,null,null,{"$f":"IFERROR(__xludf.DUMMYFUNCTION(\"iferror(VLOOKUP(B624,IMPORTRANGE(\"\"https://docs.google.com/spreadsheets/d/1bphtMaJ6lFh0VVWIgQh8ZCOchBZqvj0w5rveiNYcTnM/edit#gid=0\"\",\"\"RWA!F:BZ\"\"),44,0))\"),\"\")","v":""},{"$f":"IFERROR(__xludf.DUMMYFUNCTION(\"iferror(VLOOKUP(B624,IMPORTRANGE(\"\"https://docs.google.com/spreadsheets/d/1bphtMaJ6lFh0VVWIgQh8ZCOchBZqvj0w5rveiNYcTnM/edit#gid=0\"\",\"\"RWA!F:BZ\"\"),48,0))\"),\"\")","v":""},{"$f":"IFERROR(__xludf.DUMMYFUNCTION(\"iferror(VLOOKUP(B624,IMPORTRANGE(\"\"https://docs.google.com/spreadsheets/d/1bphtMaJ6lFh0VVWIgQh8ZCOchBZqvj0w5rveiNYcTnM/edit#gid=0\"\",\"\"RWA!F:BZ\"\"),49,0))\"),\"\")","v":""},{"$f":"IFERROR(__xludf.DUMMYFUNCTION(\"iferror(VLOOKUP(B624,IMPORTRANGE(\"\"https://docs.google.com/spreadsheets/d/1bphtMaJ6lFh0VVWIgQh8ZCOchBZqvj0w5rveiNYcTnM/edit#gid=0\"\",\"\"RWA!F:BZ\"\"),53,0))\"),\"\")","v":""}]
[null,null,null,{"$f":"IFERROR(__xludf.DUMMYFUNCTION(\"iferror(VLOOKUP(B625,IMPORTRANGE(\"\"https://docs.google.com/spreadsheets/d/1bphtMaJ6lFh0VVWIgQh8ZCOchBZqvj0w5rveiNYcTnM/edit#gid=0\"\",\"\"RWA!F:BZ\"\"),44,0))\"),\"\")","v":""},{"$f":"IFERROR(__xludf.DUMMYFUNCTION(\"iferror(VLOOKUP(B625,IMPORTRANGE(\"\"https://docs.google.com/spreadsheets/d/1bphtMaJ6lFh0VVWIgQh8ZCOchBZqvj0w5rveiNYcTnM/edit#gid=0\"\",\"\"RWA!F:BZ\"\"),48,0))\"),\"\")","v":""},{"$f":"IFERROR(__xludf.DUMMYFUNCTION(\"iferror(VLOOKUP(B625,IMPORTRANGE(\"\"https://docs.google.com/spreadsheets/d/1bphtMaJ6lFh0VVWIgQh8ZCOchBZqvj0w5rveiNYcTnM/edit#gid=0\"\",\"\"RWA!F:BZ\"\"),49,0))\"),\"\")","v":""},{"$f":"IFERROR(__xludf.DUMMYFUNCTION(\"iferror(VLOOKUP(B625,IMPORTRANGE(\"\"https://docs.google.com/spreadsheets/d/1bphtMaJ6lFh0VVWIgQh8ZCOchBZqvj0w5rveiNYcTnM/edit#gid=0\"\",\"\"RWA!F:BZ\"\"),53,0))\"),\"\")","v":""}]
[null,null,null,{"$f":"IFERROR(__xludf.DUMMYFUNCTION(\"iferror(VLOOKUP(B626,IMPORTRANGE(\"\"https://docs.google.com/spreadsheets/d/1bphtMaJ6lFh0VVWIgQh8ZCOchBZqvj0w5rveiNYcTnM/edit#gid=0\"\",\"\"RWA!F:BZ\"\"),44,0))\"),\"\")","v":""},{"$f":"IFERROR(__xludf.DUMMYFUNCTION(\"iferror(VLOOKUP(B626,IMPORTRANGE(\"\"https://docs.google.com/spreadsheets/d/1bphtMaJ6lFh0VVWIgQh8ZCOchBZqvj0w5rveiNYcTnM/edit#gid=0\"\",\"\"RWA!F:BZ\"\"),48,0))\"),\"\")","v":""},{"$f":"IFERROR(__xludf.DUMMYFUNCTION(\"iferror(VLOOKUP(B626,IMPORTRANGE(\"\"https://docs.google.com/spreadsheets/d/1bphtMaJ6lFh0VVWIgQh8ZCOchBZqvj0w5rveiNYcTnM/edit#gid=0\"\",\"\"RWA!F:BZ\"\"),49,0))\"),\"\")","v":""},{"$f":"IFERROR(__xludf.DUMMYFUNCTION(\"iferror(VLOOKUP(B626,IMPORTRANGE(\"\"https://docs.google.com/spreadsheets/d/1bphtMaJ6lFh0VVWIgQh8ZCOchBZqvj0w5rveiNYcTnM/edit#gid=0\"\",\"\"RWA!F:BZ\"\"),53,0))\"),\"\")","v":""}]
[null,null,null,{"$f":"IFERROR(__xludf.DUMMYFUNCTION(\"iferror(VLOOKUP(B627,IMPORTRANGE(\"\"https://docs.google.com/spreadsheets/d/1bphtMaJ6lFh0VVWIgQh8ZCOchBZqvj0w5rveiNYcTnM/edit#gid=0\"\",\"\"RWA!F:BZ\"\"),44,0))\"),\"\")","v":""},{"$f":"IFERROR(__xludf.DUMMYFUNCTION(\"iferror(VLOOKUP(B627,IMPORTRANGE(\"\"https://docs.google.com/spreadsheets/d/1bphtMaJ6lFh0VVWIgQh8ZCOchBZqvj0w5rveiNYcTnM/edit#gid=0\"\",\"\"RWA!F:BZ\"\"),48,0))\"),\"\")","v":""},{"$f":"IFERROR(__xludf.DUMMYFUNCTION(\"iferror(VLOOKUP(B627,IMPORTRANGE(\"\"https://docs.google.com/spreadsheets/d/1bphtMaJ6lFh0VVWIgQh8ZCOchBZqvj0w5rveiNYcTnM/edit#gid=0\"\",\"\"RWA!F:BZ\"\"),49,0))\"),\"\")","v":""},{"$f":"IFERROR(__xludf.DUMMYFUNCTION(\"iferror(VLOOKUP(B627,IMPORTRANGE(\"\"https://docs.google.com/spreadsheets/d/1bphtMaJ6lFh0VVWIgQh8ZCOchBZqvj0w5rveiNYcTnM/edit#gid=0\"\",\"\"RWA!F:BZ\"\"),53,0))\"),\"\")","v":""}]
[null,null,null,{"$f":"IFERROR(__xludf.DUMMYFUNCTION(\"iferror(VLOOKUP(B628,IMPORTRANGE(\"\"https://docs.google.com/spreadsheets/d/1bphtMaJ6lFh0VVWIgQh8ZCOchBZqvj0w5rveiNYcTnM/edit#gid=0\"\",\"\"RWA!F:BZ\"\"),44,0))\"),\"\")","v":""},{"$f":"IFERROR(__xludf.DUMMYFUNCTION(\"iferror(VLOOKUP(B628,IMPORTRANGE(\"\"https://docs.google.com/spreadsheets/d/1bphtMaJ6lFh0VVWIgQh8ZCOchBZqvj0w5rveiNYcTnM/edit#gid=0\"\",\"\"RWA!F:BZ\"\"),48,0))\"),\"\")","v":""},{"$f":"IFERROR(__xludf.DUMMYFUNCTION(\"iferror(VLOOKUP(B628,IMPORTRANGE(\"\"https://docs.google.com/spreadsheets/d/1bphtMaJ6lFh0VVWIgQh8ZCOchBZqvj0w5rveiNYcTnM/edit#gid=0\"\",\"\"RWA!F:BZ\"\"),49,0))\"),\"\")","v":""},{"$f":"IFERROR(__xludf.DUMMYFUNCTION(\"iferror(VLOOKUP(B628,IMPORTRANGE(\"\"https://docs.google.com/spreadsheets/d/1bphtMaJ6lFh0VVWIgQh8ZCOchBZqvj0w5rveiNYcTnM/edit#gid=0\"\",\"\"RWA!F:BZ\"\"),53,0))\"),\"\")","v":""}]
[null,null,null,{"$f":"IFERROR(__xludf.DUMMYFUNCTION(\"iferror(VLOOKUP(B629,IMPORTRANGE(\"\"https://docs.google.com/spreadsheets/d/1bphtMaJ6lFh0VVWIgQh8ZCOchBZqvj0w5rveiNYcTnM/edit#gid=0\"\",\"\"RWA!F:BZ\"\"),44,0))\"),\"\")","v":""},{"$f":"IFERROR(__xludf.DUMMYFUNCTION(\"iferror(VLOOKUP(B629,IMPORTRANGE(\"\"https://docs.google.com/spreadsheets/d/1bphtMaJ6lFh0VVWIgQh8ZCOchBZqvj0w5rveiNYcTnM/edit#gid=0\"\",\"\"RWA!F:BZ\"\"),48,0))\"),\"\")","v":""},{"$f":"IFERROR(__xludf.DUMMYFUNCTION(\"iferror(VLOOKUP(B629,IMPORTRANGE(\"\"https://docs.google.com/spreadsheets/d/1bphtMaJ6lFh0VVWIgQh8ZCOchBZqvj0w5rveiNYcTnM/edit#gid=0\"\",\"\"RWA!F:BZ\"\"),49,0))\"),\"\")","v":""},{"$f":"IFERROR(__xludf.DUMMYFUNCTION(\"iferror(VLOOKUP(B629,IMPORTRANGE(\"\"https://docs.google.com/spreadsheets/d/1bphtMaJ6lFh0VVWIgQh8ZCOchBZqvj0w5rveiNYcTnM/edit#gid=0\"\",\"\"RWA!F:BZ\"\"),53,0))\"),\"\")","v":""}]
[null,null,null,{"$f":"IFERROR(__xludf.DUMMYFUNCTION(\"iferror(VLOOKUP(B630,IMPORTRANGE(\"\"https://docs.google.com/spreadsheets/d/1bphtMaJ6lFh0VVWIgQh8ZCOchBZqvj0w5rveiNYcTnM/edit#gid=0\"\",\"\"RWA!F:BZ\"\"),44,0))\"),\"\")","v":""},{"$f":"IFERROR(__xludf.DUMMYFUNCTION(\"iferror(VLOOKUP(B630,IMPORTRANGE(\"\"https://docs.google.com/spreadsheets/d/1bphtMaJ6lFh0VVWIgQh8ZCOchBZqvj0w5rveiNYcTnM/edit#gid=0\"\",\"\"RWA!F:BZ\"\"),48,0))\"),\"\")","v":""},{"$f":"IFERROR(__xludf.DUMMYFUNCTION(\"iferror(VLOOKUP(B630,IMPORTRANGE(\"\"https://docs.google.com/spreadsheets/d/1bphtMaJ6lFh0VVWIgQh8ZCOchBZqvj0w5rveiNYcTnM/edit#gid=0\"\",\"\"RWA!F:BZ\"\"),49,0))\"),\"\")","v":""},{"$f":"IFERROR(__xludf.DUMMYFUNCTION(\"iferror(VLOOKUP(B630,IMPORTRANGE(\"\"https://docs.google.com/spreadsheets/d/1bphtMaJ6lFh0VVWIgQh8ZCOchBZqvj0w5rveiNYcTnM/edit#gid=0\"\",\"\"RWA!F:BZ\"\"),53,0))\"),\"\")","v":""}]
[null,null,null,{"$f":"IFERROR(__xludf.DUMMYFUNCTION(\"iferror(VLOOKUP(B631,IMPORTRANGE(\"\"https://docs.google.com/spreadsheets/d/1bphtMaJ6lFh0VVWIgQh8ZCOchBZqvj0w5rveiNYcTnM/edit#gid=0\"\",\"\"RWA!F:BZ\"\"),44,0))\"),\"\")","v":""},{"$f":"IFERROR(__xludf.DUMMYFUNCTION(\"iferror(VLOOKUP(B631,IMPORTRANGE(\"\"https://docs.google.com/spreadsheets/d/1bphtMaJ6lFh0VVWIgQh8ZCOchBZqvj0w5rveiNYcTnM/edit#gid=0\"\",\"\"RWA!F:BZ\"\"),48,0))\"),\"\")","v":""},{"$f":"IFERROR(__xludf.DUMMYFUNCTION(\"iferror(VLOOKUP(B631,IMPORTRANGE(\"\"https://docs.google.com/spreadsheets/d/1bphtMaJ6lFh0VVWIgQh8ZCOchBZqvj0w5rveiNYcTnM/edit#gid=0\"\",\"\"RWA!F:BZ\"\"),49,0))\"),\"\")","v":""},{"$f":"IFERROR(__xludf.DUMMYFUNCTION(\"iferror(VLOOKUP(B631,IMPORTRANGE(\"\"https://docs.google.com/spreadsheets/d/1bphtMaJ6lFh0VVWIgQh8ZCOchBZqvj0w5rveiNYcTnM/edit#gid=0\"\",\"\"RWA!F:BZ\"\"),53,0))\"),\"\")","v":""}]
[null,null,null,{"$f":"IFERROR(__xludf.DUMMYFUNCTION(\"iferror(VLOOKUP(B632,IMPORTRANGE(\"\"https://docs.google.com/spreadsheets/d/1bphtMaJ6lFh0VVWIgQh8ZCOchBZqvj0w5rveiNYcTnM/edit#gid=0\"\",\"\"RWA!F:BZ\"\"),44,0))\"),\"\")","v":""},{"$f":"IFERROR(__xludf.DUMMYFUNCTION(\"iferror(VLOOKUP(B632,IMPORTRANGE(\"\"https://docs.google.com/spreadsheets/d/1bphtMaJ6lFh0VVWIgQh8ZCOchBZqvj0w5rveiNYcTnM/edit#gid=0\"\",\"\"RWA!F:BZ\"\"),48,0))\"),\"\")","v":""},{"$f":"IFERROR(__xludf.DUMMYFUNCTION(\"iferror(VLOOKUP(B632,IMPORTRANGE(\"\"https://docs.google.com/spreadsheets/d/1bphtMaJ6lFh0VVWIgQh8ZCOchBZqvj0w5rveiNYcTnM/edit#gid=0\"\",\"\"RWA!F:BZ\"\"),49,0))\"),\"\")","v":""},{"$f":"IFERROR(__xludf.DUMMYFUNCTION(\"iferror(VLOOKUP(B632,IMPORTRANGE(\"\"https://docs.google.com/spreadsheets/d/1bphtMaJ6lFh0VVWIgQh8ZCOchBZqvj0w5rveiNYcTnM/edit#gid=0\"\",\"\"RWA!F:BZ\"\"),53,0))\"),\"\")","v":""}]
[null,null,null,{"$f":"IFERROR(__xludf.DUMMYFUNCTION(\"iferror(VLOOKUP(B633,IMPORTRANGE(\"\"https://docs.google.com/spreadsheets/d/1bphtMaJ6lFh0VVWIgQh8ZCOchBZqvj0w5rveiNYcTnM/edit#gid=0\"\",\"\"RWA!F:BZ\"\"),44,0))\"),\"\")","v":""},{"$f":"IFERROR(__xludf.DUMMYFUNCTION(\"iferror(VLOOKUP(B633,IMPORTRANGE(\"\"https://docs.google.com/spreadsheets/d/1bphtMaJ6lFh0VVWIgQh8ZCOchBZqvj0w5rveiNYcTnM/edit#gid=0\"\",\"\"RWA!F:BZ\"\"),48,0))\"),\"\")","v":""},{"$f":"IFERROR(__xludf.DUMMYFUNCTION(\"iferror(VLOOKUP(B633,IMPORTRANGE(\"\"https://docs.google.com/spreadsheets/d/1bphtMaJ6lFh0VVWIgQh8ZCOchBZqvj0w5rveiNYcTnM/edit#gid=0\"\",\"\"RWA!F:BZ\"\"),49,0))\"),\"\")","v":""},{"$f":"IFERROR(__xludf.DUMMYFUNCTION(\"iferror(VLOOKUP(B633,IMPORTRANGE(\"\"https://docs.google.com/spreadsheets/d/1bphtMaJ6lFh0VVWIgQh8ZCOchBZqvj0w5rveiNYcTnM/edit#gid=0\"\",\"\"RWA!F:BZ\"\"),53,0))\"),\"\")","v":""}]
[null,null,null,{"$f":"IFERROR(__xludf.DUMMYFUNCTION(\"iferror(VLOOKUP(B634,IMPORTRANGE(\"\"https://docs.google.com/spreadsheets/d/1bphtMaJ6lFh0VVWIgQh8ZCOchBZqvj0w5rveiNYcTnM/edit#gid=0\"\",\"\"RWA!F:BZ\"\"),44,0))\"),\"\")","v":""},{"$f":"IFERROR(__xludf.DUMMYFUNCTION(\"iferror(VLOOKUP(B634,IMPORTRANGE(\"\"https://docs.google.com/spreadsheets/d/1bphtMaJ6lFh0VVWIgQh8ZCOchBZqvj0w5rveiNYcTnM/edit#gid=0\"\",\"\"RWA!F:BZ\"\"),48,0))\"),\"\")","v":""},{"$f":"IFERROR(__xludf.DUMMYFUNCTION(\"iferror(VLOOKUP(B634,IMPORTRANGE(\"\"https://docs.google.com/spreadsheets/d/1bphtMaJ6lFh0VVWIgQh8ZCOchBZqvj0w5rveiNYcTnM/edit#gid=0\"\",\"\"RWA!F:BZ\"\"),49,0))\"),\"\")","v":""},{"$f":"IFERROR(__xludf.DUMMYFUNCTION(\"iferror(VLOOKUP(B634,IMPORTRANGE(\"\"https://docs.google.com/spreadsheets/d/1bphtMaJ6lFh0VVWIgQh8ZCOchBZqvj0w5rveiNYcTnM/edit#gid=0\"\",\"\"RWA!F:BZ\"\"),53,0))\"),\"\")","v":""}]
[null,null,null,{"$f":"IFERROR(__xludf.DUMMYFUNCTION(\"iferror(VLOOKUP(B635,IMPORTRANGE(\"\"https://docs.google.com/spreadsheets/d/1bphtMaJ6lFh0VVWIgQh8ZCOchBZqvj0w5rveiNYcTnM/edit#gid=0\"\",\"\"RWA!F:BZ\"\"),44,0))\"),\"\")","v":""},{"$f":"IFERROR(__xludf.DUMMYFUNCTION(\"iferror(VLOOKUP(B635,IMPORTRANGE(\"\"https://docs.google.com/spreadsheets/d/1bphtMaJ6lFh0VVWIgQh8ZCOchBZqvj0w5rveiNYcTnM/edit#gid=0\"\",\"\"RWA!F:BZ\"\"),48,0))\"),\"\")","v":""},{"$f":"IFERROR(__xludf.DUMMYFUNCTION(\"iferror(VLOOKUP(B635,IMPORTRANGE(\"\"https://docs.google.com/spreadsheets/d/1bphtMaJ6lFh0VVWIgQh8ZCOchBZqvj0w5rveiNYcTnM/edit#gid=0\"\",\"\"RWA!F:BZ\"\"),49,0))\"),\"\")","v":""},{"$f":"IFERROR(__xludf.DUMMYFUNCTION(\"iferror(VLOOKUP(B635,IMPORTRANGE(\"\"https://docs.google.com/spreadsheets/d/1bphtMaJ6lFh0VVWIgQh8ZCOchBZqvj0w5rveiNYcTnM/edit#gid=0\"\",\"\"RWA!F:BZ\"\"),53,0))\"),\"\")","v":""}]
[null,null,null,{"$f":"IFERROR(__xludf.DUMMYFUNCTION(\"iferror(VLOOKUP(B636,IMPORTRANGE(\"\"https://docs.google.com/spreadsheets/d/1bphtMaJ6lFh0VVWIgQh8ZCOchBZqvj0w5rveiNYcTnM/edit#gid=0\"\",\"\"RWA!F:BZ\"\"),44,0))\"),\"\")","v":""},{"$f":"IFERROR(__xludf.DUMMYFUNCTION(\"iferror(VLOOKUP(B636,IMPORTRANGE(\"\"https://docs.google.com/spreadsheets/d/1bphtMaJ6lFh0VVWIgQh8ZCOchBZqvj0w5rveiNYcTnM/edit#gid=0\"\",\"\"RWA!F:BZ\"\"),48,0))\"),\"\")","v":""},{"$f":"IFERROR(__xludf.DUMMYFUNCTION(\"iferror(VLOOKUP(B636,IMPORTRANGE(\"\"https://docs.google.com/spreadsheets/d/1bphtMaJ6lFh0VVWIgQh8ZCOchBZqvj0w5rveiNYcTnM/edit#gid=0\"\",\"\"RWA!F:BZ\"\"),49,0))\"),\"\")","v":""},{"$f":"IFERROR(__xludf.DUMMYFUNCTION(\"iferror(VLOOKUP(B636,IMPORTRANGE(\"\"https://docs.google.com/spreadsheets/d/1bphtMaJ6lFh0VVWIgQh8ZCOchBZqvj0w5rveiNYcTnM/edit#gid=0\"\",\"\"RWA!F:BZ\"\"),53,0))\"),\"\")","v":""}]
[null,null,null,{"$f":"IFERROR(__xludf.DUMMYFUNCTION(\"iferror(VLOOKUP(B637,IMPORTRANGE(\"\"https://docs.google.com/spreadsheets/d/1bphtMaJ6lFh0VVWIgQh8ZCOchBZqvj0w5rveiNYcTnM/edit#gid=0\"\",\"\"RWA!F:BZ\"\"),44,0))\"),\"\")","v":""},{"$f":"IFERROR(__xludf.DUMMYFUNCTION(\"iferror(VLOOKUP(B637,IMPORTRANGE(\"\"https://docs.google.com/spreadsheets/d/1bphtMaJ6lFh0VVWIgQh8ZCOchBZqvj0w5rveiNYcTnM/edit#gid=0\"\",\"\"RWA!F:BZ\"\"),48,0))\"),\"\")","v":""},{"$f":"IFERROR(__xludf.DUMMYFUNCTION(\"iferror(VLOOKUP(B637,IMPORTRANGE(\"\"https://docs.google.com/spreadsheets/d/1bphtMaJ6lFh0VVWIgQh8ZCOchBZqvj0w5rveiNYcTnM/edit#gid=0\"\",\"\"RWA!F:BZ\"\"),49,0))\"),\"\")","v":""},{"$f":"IFERROR(__xludf.DUMMYFUNCTION(\"iferror(VLOOKUP(B637,IMPORTRANGE(\"\"https://docs.google.com/spreadsheets/d/1bphtMaJ6lFh0VVWIgQh8ZCOchBZqvj0w5rveiNYcTnM/edit#gid=0\"\",\"\"RWA!F:BZ\"\"),53,0))\"),\"\")","v":""}]
[null,null,null,{"$f":"IFERROR(__xludf.DUMMYFUNCTION(\"iferror(VLOOKUP(B638,IMPORTRANGE(\"\"https://docs.google.com/spreadsheets/d/1bphtMaJ6lFh0VVWIgQh8ZCOchBZqvj0w5rveiNYcTnM/edit#gid=0\"\",\"\"RWA!F:BZ\"\"),44,0))\"),\"\")","v":""},{"$f":"IFERROR(__xludf.DUMMYFUNCTION(\"iferror(VLOOKUP(B638,IMPORTRANGE(\"\"https://docs.google.com/spreadsheets/d/1bphtMaJ6lFh0VVWIgQh8ZCOchBZqvj0w5rveiNYcTnM/edit#gid=0\"\",\"\"RWA!F:BZ\"\"),48,0))\"),\"\")","v":""},{"$f":"IFERROR(__xludf.DUMMYFUNCTION(\"iferror(VLOOKUP(B638,IMPORTRANGE(\"\"https://docs.google.com/spreadsheets/d/1bphtMaJ6lFh0VVWIgQh8ZCOchBZqvj0w5rveiNYcTnM/edit#gid=0\"\",\"\"RWA!F:BZ\"\"),49,0))\"),\"\")","v":""},{"$f":"IFERROR(__xludf.DUMMYFUNCTION(\"iferror(VLOOKUP(B638,IMPORTRANGE(\"\"https://docs.google.com/spreadsheets/d/1bphtMaJ6lFh0VVWIgQh8ZCOchBZqvj0w5rveiNYcTnM/edit#gid=0\"\",\"\"RWA!F:BZ\"\"),53,0))\"),\"\")","v":""}]
[null,null,null,{"$f":"IFERROR(__xludf.DUMMYFUNCTION(\"iferror(VLOOKUP(B639,IMPORTRANGE(\"\"https://docs.google.com/spreadsheets/d/1bphtMaJ6lFh0VVWIgQh8ZCOchBZqvj0w5rveiNYcTnM/edit#gid=0\"\",\"\"RWA!F:BZ\"\"),44,0))\"),\"\")","v":""},{"$f":"IFERROR(__xludf.DUMMYFUNCTION(\"iferror(VLOOKUP(B639,IMPORTRANGE(\"\"https://docs.google.com/spreadsheets/d/1bphtMaJ6lFh0VVWIgQh8ZCOchBZqvj0w5rveiNYcTnM/edit#gid=0\"\",\"\"RWA!F:BZ\"\"),48,0))\"),\"\")","v":""},{"$f":"IFERROR(__xludf.DUMMYFUNCTION(\"iferror(VLOOKUP(B639,IMPORTRANGE(\"\"https://docs.google.com/spreadsheets/d/1bphtMaJ6lFh0VVWIgQh8ZCOchBZqvj0w5rveiNYcTnM/edit#gid=0\"\",\"\"RWA!F:BZ\"\"),49,0))\"),\"\")","v":""},{"$f":"IFERROR(__xludf.DUMMYFUNCTION(\"iferror(VLOOKUP(B639,IMPORTRANGE(\"\"https://docs.google.com/spreadsheets/d/1bphtMaJ6lFh0VVWIgQh8ZCOchBZqvj0w5rveiNYcTnM/edit#gid=0\"\",\"\"RWA!F:BZ\"\"),53,0))\"),\"\")","v":""}]
[null,null,null,{"$f":"IFERROR(__xludf.DUMMYFUNCTION(\"iferror(VLOOKUP(B640,IMPORTRANGE(\"\"https://docs.google.com/spreadsheets/d/1bphtMaJ6lFh0VVWIgQh8ZCOchBZqvj0w5rveiNYcTnM/edit#gid=0\"\",\"\"RWA!F:BZ\"\"),44,0))\"),\"\")","v":""},{"$f":"IFERROR(__xludf.DUMMYFUNCTION(\"iferror(VLOOKUP(B640,IMPORTRANGE(\"\"https://docs.google.com/spreadsheets/d/1bphtMaJ6lFh0VVWIgQh8ZCOchBZqvj0w5rveiNYcTnM/edit#gid=0\"\",\"\"RWA!F:BZ\"\"),48,0))\"),\"\")","v":""},{"$f":"IFERROR(__xludf.DUMMYFUNCTION(\"iferror(VLOOKUP(B640,IMPORTRANGE(\"\"https://docs.google.com/spreadsheets/d/1bphtMaJ6lFh0VVWIgQh8ZCOchBZqvj0w5rveiNYcTnM/edit#gid=0\"\",\"\"RWA!F:BZ\"\"),49,0))\"),\"\")","v":""},{"$f":"IFERROR(__xludf.DUMMYFUNCTION(\"iferror(VLOOKUP(B640,IMPORTRANGE(\"\"https://docs.google.com/spreadsheets/d/1bphtMaJ6lFh0VVWIgQh8ZCOchBZqvj0w5rveiNYcTnM/edit#gid=0\"\",\"\"RWA!F:BZ\"\"),53,0))\"),\"\")","v":""}]
[null,null,null,{"$f":"IFERROR(__xludf.DUMMYFUNCTION(\"iferror(VLOOKUP(B641,IMPORTRANGE(\"\"https://docs.google.com/spreadsheets/d/1bphtMaJ6lFh0VVWIgQh8ZCOchBZqvj0w5rveiNYcTnM/edit#gid=0\"\",\"\"RWA!F:BZ\"\"),44,0))\"),\"\")","v":""},{"$f":"IFERROR(__xludf.DUMMYFUNCTION(\"iferror(VLOOKUP(B641,IMPORTRANGE(\"\"https://docs.google.com/spreadsheets/d/1bphtMaJ6lFh0VVWIgQh8ZCOchBZqvj0w5rveiNYcTnM/edit#gid=0\"\",\"\"RWA!F:BZ\"\"),48,0))\"),\"\")","v":""},{"$f":"IFERROR(__xludf.DUMMYFUNCTION(\"iferror(VLOOKUP(B641,IMPORTRANGE(\"\"https://docs.google.com/spreadsheets/d/1bphtMaJ6lFh0VVWIgQh8ZCOchBZqvj0w5rveiNYcTnM/edit#gid=0\"\",\"\"RWA!F:BZ\"\"),49,0))\"),\"\")","v":""},{"$f":"IFERROR(__xludf.DUMMYFUNCTION(\"iferror(VLOOKUP(B641,IMPORTRANGE(\"\"https://docs.google.com/spreadsheets/d/1bphtMaJ6lFh0VVWIgQh8ZCOchBZqvj0w5rveiNYcTnM/edit#gid=0\"\",\"\"RWA!F:BZ\"\"),53,0))\"),\"\")","v":""}]
[null,null,null,{"$f":"IFERROR(__xludf.DUMMYFUNCTION(\"iferror(VLOOKUP(B642,IMPORTRANGE(\"\"https://docs.google.com/spreadsheets/d/1bphtMaJ6lFh0VVWIgQh8ZCOchBZqvj0w5rveiNYcTnM/edit#gid=0\"\",\"\"RWA!F:BZ\"\"),44,0))\"),\"\")","v":""},{"$f":"IFERROR(__xludf.DUMMYFUNCTION(\"iferror(VLOOKUP(B642,IMPORTRANGE(\"\"https://docs.google.com/spreadsheets/d/1bphtMaJ6lFh0VVWIgQh8ZCOchBZqvj0w5rveiNYcTnM/edit#gid=0\"\",\"\"RWA!F:BZ\"\"),48,0))\"),\"\")","v":""},{"$f":"IFERROR(__xludf.DUMMYFUNCTION(\"iferror(VLOOKUP(B642,IMPORTRANGE(\"\"https://docs.google.com/spreadsheets/d/1bphtMaJ6lFh0VVWIgQh8ZCOchBZqvj0w5rveiNYcTnM/edit#gid=0\"\",\"\"RWA!F:BZ\"\"),49,0))\"),\"\")","v":""},{"$f":"IFERROR(__xludf.DUMMYFUNCTION(\"iferror(VLOOKUP(B642,IMPORTRANGE(\"\"https://docs.google.com/spreadsheets/d/1bphtMaJ6lFh0VVWIgQh8ZCOchBZqvj0w5rveiNYcTnM/edit#gid=0\"\",\"\"RWA!F:BZ\"\"),53,0))\"),\"\")","v":""}]
[null,null,null,{"$f":"IFERROR(__xludf.DUMMYFUNCTION(\"iferror(VLOOKUP(B643,IMPORTRANGE(\"\"https://docs.google.com/spreadsheets/d/1bphtMaJ6lFh0VVWIgQh8ZCOchBZqvj0w5rveiNYcTnM/edit#gid=0\"\",\"\"RWA!F:BZ\"\"),44,0))\"),\"\")","v":""},{"$f":"IFERROR(__xludf.DUMMYFUNCTION(\"iferror(VLOOKUP(B643,IMPORTRANGE(\"\"https://docs.google.com/spreadsheets/d/1bphtMaJ6lFh0VVWIgQh8ZCOchBZqvj0w5rveiNYcTnM/edit#gid=0\"\",\"\"RWA!F:BZ\"\"),48,0))\"),\"\")","v":""},{"$f":"IFERROR(__xludf.DUMMYFUNCTION(\"iferror(VLOOKUP(B643,IMPORTRANGE(\"\"https://docs.google.com/spreadsheets/d/1bphtMaJ6lFh0VVWIgQh8ZCOchBZqvj0w5rveiNYcTnM/edit#gid=0\"\",\"\"RWA!F:BZ\"\"),49,0))\"),\"\")","v":""},{"$f":"IFERROR(__xludf.DUMMYFUNCTION(\"iferror(VLOOKUP(B643,IMPORTRANGE(\"\"https://docs.google.com/spreadsheets/d/1bphtMaJ6lFh0VVWIgQh8ZCOchBZqvj0w5rveiNYcTnM/edit#gid=0\"\",\"\"RWA!F:BZ\"\"),53,0))\"),\"\")","v":""}]
[null,null,null,{"$f":"IFERROR(__xludf.DUMMYFUNCTION(\"iferror(VLOOKUP(B644,IMPORTRANGE(\"\"https://docs.google.com/spreadsheets/d/1bphtMaJ6lFh0VVWIgQh8ZCOchBZqvj0w5rveiNYcTnM/edit#gid=0\"\",\"\"RWA!F:BZ\"\"),44,0))\"),\"\")","v":""},{"$f":"IFERROR(__xludf.DUMMYFUNCTION(\"iferror(VLOOKUP(B644,IMPORTRANGE(\"\"https://docs.google.com/spreadsheets/d/1bphtMaJ6lFh0VVWIgQh8ZCOchBZqvj0w5rveiNYcTnM/edit#gid=0\"\",\"\"RWA!F:BZ\"\"),48,0))\"),\"\")","v":""},{"$f":"IFERROR(__xludf.DUMMYFUNCTION(\"iferror(VLOOKUP(B644,IMPORTRANGE(\"\"https://docs.google.com/spreadsheets/d/1bphtMaJ6lFh0VVWIgQh8ZCOchBZqvj0w5rveiNYcTnM/edit#gid=0\"\",\"\"RWA!F:BZ\"\"),49,0))\"),\"\")","v":""},{"$f":"IFERROR(__xludf.DUMMYFUNCTION(\"iferror(VLOOKUP(B644,IMPORTRANGE(\"\"https://docs.google.com/spreadsheets/d/1bphtMaJ6lFh0VVWIgQh8ZCOchBZqvj0w5rveiNYcTnM/edit#gid=0\"\",\"\"RWA!F:BZ\"\"),53,0))\"),\"\")","v":""}]
[null,null,null,{"$f":"IFERROR(__xludf.DUMMYFUNCTION(\"iferror(VLOOKUP(B645,IMPORTRANGE(\"\"https://docs.google.com/spreadsheets/d/1bphtMaJ6lFh0VVWIgQh8ZCOchBZqvj0w5rveiNYcTnM/edit#gid=0\"\",\"\"RWA!F:BZ\"\"),44,0))\"),\"\")","v":""},{"$f":"IFERROR(__xludf.DUMMYFUNCTION(\"iferror(VLOOKUP(B645,IMPORTRANGE(\"\"https://docs.google.com/spreadsheets/d/1bphtMaJ6lFh0VVWIgQh8ZCOchBZqvj0w5rveiNYcTnM/edit#gid=0\"\",\"\"RWA!F:BZ\"\"),48,0))\"),\"\")","v":""},{"$f":"IFERROR(__xludf.DUMMYFUNCTION(\"iferror(VLOOKUP(B645,IMPORTRANGE(\"\"https://docs.google.com/spreadsheets/d/1bphtMaJ6lFh0VVWIgQh8ZCOchBZqvj0w5rveiNYcTnM/edit#gid=0\"\",\"\"RWA!F:BZ\"\"),49,0))\"),\"\")","v":""},{"$f":"IFERROR(__xludf.DUMMYFUNCTION(\"iferror(VLOOKUP(B645,IMPORTRANGE(\"\"https://docs.google.com/spreadsheets/d/1bphtMaJ6lFh0VVWIgQh8ZCOchBZqvj0w5rveiNYcTnM/edit#gid=0\"\",\"\"RWA!F:BZ\"\"),53,0))\"),\"\")","v":""}]
[null,null,null,{"$f":"IFERROR(__xludf.DUMMYFUNCTION(\"iferror(VLOOKUP(B646,IMPORTRANGE(\"\"https://docs.google.com/spreadsheets/d/1bphtMaJ6lFh0VVWIgQh8ZCOchBZqvj0w5rveiNYcTnM/edit#gid=0\"\",\"\"RWA!F:BZ\"\"),44,0))\"),\"\")","v":""},{"$f":"IFERROR(__xludf.DUMMYFUNCTION(\"iferror(VLOOKUP(B646,IMPORTRANGE(\"\"https://docs.google.com/spreadsheets/d/1bphtMaJ6lFh0VVWIgQh8ZCOchBZqvj0w5rveiNYcTnM/edit#gid=0\"\",\"\"RWA!F:BZ\"\"),48,0))\"),\"\")","v":""},{"$f":"IFERROR(__xludf.DUMMYFUNCTION(\"iferror(VLOOKUP(B646,IMPORTRANGE(\"\"https://docs.google.com/spreadsheets/d/1bphtMaJ6lFh0VVWIgQh8ZCOchBZqvj0w5rveiNYcTnM/edit#gid=0\"\",\"\"RWA!F:BZ\"\"),49,0))\"),\"\")","v":""},{"$f":"IFERROR(__xludf.DUMMYFUNCTION(\"iferror(VLOOKUP(B646,IMPORTRANGE(\"\"https://docs.google.com/spreadsheets/d/1bphtMaJ6lFh0VVWIgQh8ZCOchBZqvj0w5rveiNYcTnM/edit#gid=0\"\",\"\"RWA!F:BZ\"\"),53,0))\"),\"\")","v":""}]
[null,null,null,{"$f":"IFERROR(__xludf.DUMMYFUNCTION(\"iferror(VLOOKUP(B647,IMPORTRANGE(\"\"https://docs.google.com/spreadsheets/d/1bphtMaJ6lFh0VVWIgQh8ZCOchBZqvj0w5rveiNYcTnM/edit#gid=0\"\",\"\"RWA!F:BZ\"\"),44,0))\"),\"\")","v":""},{"$f":"IFERROR(__xludf.DUMMYFUNCTION(\"iferror(VLOOKUP(B647,IMPORTRANGE(\"\"https://docs.google.com/spreadsheets/d/1bphtMaJ6lFh0VVWIgQh8ZCOchBZqvj0w5rveiNYcTnM/edit#gid=0\"\",\"\"RWA!F:BZ\"\"),48,0))\"),\"\")","v":""},{"$f":"IFERROR(__xludf.DUMMYFUNCTION(\"iferror(VLOOKUP(B647,IMPORTRANGE(\"\"https://docs.google.com/spreadsheets/d/1bphtMaJ6lFh0VVWIgQh8ZCOchBZqvj0w5rveiNYcTnM/edit#gid=0\"\",\"\"RWA!F:BZ\"\"),49,0))\"),\"\")","v":""},{"$f":"IFERROR(__xludf.DUMMYFUNCTION(\"iferror(VLOOKUP(B647,IMPORTRANGE(\"\"https://docs.google.com/spreadsheets/d/1bphtMaJ6lFh0VVWIgQh8ZCOchBZqvj0w5rveiNYcTnM/edit#gid=0\"\",\"\"RWA!F:BZ\"\"),53,0))\"),\"\")","v":""}]
[null,null,null,{"$f":"IFERROR(__xludf.DUMMYFUNCTION(\"iferror(VLOOKUP(B648,IMPORTRANGE(\"\"https://docs.google.com/spreadsheets/d/1bphtMaJ6lFh0VVWIgQh8ZCOchBZqvj0w5rveiNYcTnM/edit#gid=0\"\",\"\"RWA!F:BZ\"\"),44,0))\"),\"\")","v":""},{"$f":"IFERROR(__xludf.DUMMYFUNCTION(\"iferror(VLOOKUP(B648,IMPORTRANGE(\"\"https://docs.google.com/spreadsheets/d/1bphtMaJ6lFh0VVWIgQh8ZCOchBZqvj0w5rveiNYcTnM/edit#gid=0\"\",\"\"RWA!F:BZ\"\"),48,0))\"),\"\")","v":""},{"$f":"IFERROR(__xludf.DUMMYFUNCTION(\"iferror(VLOOKUP(B648,IMPORTRANGE(\"\"https://docs.google.com/spreadsheets/d/1bphtMaJ6lFh0VVWIgQh8ZCOchBZqvj0w5rveiNYcTnM/edit#gid=0\"\",\"\"RWA!F:BZ\"\"),49,0))\"),\"\")","v":""},{"$f":"IFERROR(__xludf.DUMMYFUNCTION(\"iferror(VLOOKUP(B648,IMPORTRANGE(\"\"https://docs.google.com/spreadsheets/d/1bphtMaJ6lFh0VVWIgQh8ZCOchBZqvj0w5rveiNYcTnM/edit#gid=0\"\",\"\"RWA!F:BZ\"\"),53,0))\"),\"\")","v":""}]
[null,null,null,{"$f":"IFERROR(__xludf.DUMMYFUNCTION(\"iferror(VLOOKUP(B649,IMPORTRANGE(\"\"https://docs.google.com/spreadsheets/d/1bphtMaJ6lFh0VVWIgQh8ZCOchBZqvj0w5rveiNYcTnM/edit#gid=0\"\",\"\"RWA!F:BZ\"\"),44,0))\"),\"\")","v":""},{"$f":"IFERROR(__xludf.DUMMYFUNCTION(\"iferror(VLOOKUP(B649,IMPORTRANGE(\"\"https://docs.google.com/spreadsheets/d/1bphtMaJ6lFh0VVWIgQh8ZCOchBZqvj0w5rveiNYcTnM/edit#gid=0\"\",\"\"RWA!F:BZ\"\"),48,0))\"),\"\")","v":""},{"$f":"IFERROR(__xludf.DUMMYFUNCTION(\"iferror(VLOOKUP(B649,IMPORTRANGE(\"\"https://docs.google.com/spreadsheets/d/1bphtMaJ6lFh0VVWIgQh8ZCOchBZqvj0w5rveiNYcTnM/edit#gid=0\"\",\"\"RWA!F:BZ\"\"),49,0))\"),\"\")","v":""},{"$f":"IFERROR(__xludf.DUMMYFUNCTION(\"iferror(VLOOKUP(B649,IMPORTRANGE(\"\"https://docs.google.com/spreadsheets/d/1bphtMaJ6lFh0VVWIgQh8ZCOchBZqvj0w5rveiNYcTnM/edit#gid=0\"\",\"\"RWA!F:BZ\"\"),53,0))\"),\"\")","v":""}]
[null,null,null,{"$f":"IFERROR(__xludf.DUMMYFUNCTION(\"iferror(VLOOKUP(B650,IMPORTRANGE(\"\"https://docs.google.com/spreadsheets/d/1bphtMaJ6lFh0VVWIgQh8ZCOchBZqvj0w5rveiNYcTnM/edit#gid=0\"\",\"\"RWA!F:BZ\"\"),44,0))\"),\"\")","v":""},{"$f":"IFERROR(__xludf.DUMMYFUNCTION(\"iferror(VLOOKUP(B650,IMPORTRANGE(\"\"https://docs.google.com/spreadsheets/d/1bphtMaJ6lFh0VVWIgQh8ZCOchBZqvj0w5rveiNYcTnM/edit#gid=0\"\",\"\"RWA!F:BZ\"\"),48,0))\"),\"\")","v":""},{"$f":"IFERROR(__xludf.DUMMYFUNCTION(\"iferror(VLOOKUP(B650,IMPORTRANGE(\"\"https://docs.google.com/spreadsheets/d/1bphtMaJ6lFh0VVWIgQh8ZCOchBZqvj0w5rveiNYcTnM/edit#gid=0\"\",\"\"RWA!F:BZ\"\"),49,0))\"),\"\")","v":""},{"$f":"IFERROR(__xludf.DUMMYFUNCTION(\"iferror(VLOOKUP(B650,IMPORTRANGE(\"\"https://docs.google.com/spreadsheets/d/1bphtMaJ6lFh0VVWIgQh8ZCOchBZqvj0w5rveiNYcTnM/edit#gid=0\"\",\"\"RWA!F:BZ\"\"),53,0))\"),\"\")","v":""}]
[null,null,null,{"$f":"IFERROR(__xludf.DUMMYFUNCTION(\"iferror(VLOOKUP(B651,IMPORTRANGE(\"\"https://docs.google.com/spreadsheets/d/1bphtMaJ6lFh0VVWIgQh8ZCOchBZqvj0w5rveiNYcTnM/edit#gid=0\"\",\"\"RWA!F:BZ\"\"),44,0))\"),\"\")","v":""},{"$f":"IFERROR(__xludf.DUMMYFUNCTION(\"iferror(VLOOKUP(B651,IMPORTRANGE(\"\"https://docs.google.com/spreadsheets/d/1bphtMaJ6lFh0VVWIgQh8ZCOchBZqvj0w5rveiNYcTnM/edit#gid=0\"\",\"\"RWA!F:BZ\"\"),48,0))\"),\"\")","v":""},{"$f":"IFERROR(__xludf.DUMMYFUNCTION(\"iferror(VLOOKUP(B651,IMPORTRANGE(\"\"https://docs.google.com/spreadsheets/d/1bphtMaJ6lFh0VVWIgQh8ZCOchBZqvj0w5rveiNYcTnM/edit#gid=0\"\",\"\"RWA!F:BZ\"\"),49,0))\"),\"\")","v":""},{"$f":"IFERROR(__xludf.DUMMYFUNCTION(\"iferror(VLOOKUP(B651,IMPORTRANGE(\"\"https://docs.google.com/spreadsheets/d/1bphtMaJ6lFh0VVWIgQh8ZCOchBZqvj0w5rveiNYcTnM/edit#gid=0\"\",\"\"RWA!F:BZ\"\"),53,0))\"),\"\")","v":""}]
[null,null,null,{"$f":"IFERROR(__xludf.DUMMYFUNCTION(\"iferror(VLOOKUP(B652,IMPORTRANGE(\"\"https://docs.google.com/spreadsheets/d/1bphtMaJ6lFh0VVWIgQh8ZCOchBZqvj0w5rveiNYcTnM/edit#gid=0\"\",\"\"RWA!F:BZ\"\"),44,0))\"),\"\")","v":""},{"$f":"IFERROR(__xludf.DUMMYFUNCTION(\"iferror(VLOOKUP(B652,IMPORTRANGE(\"\"https://docs.google.com/spreadsheets/d/1bphtMaJ6lFh0VVWIgQh8ZCOchBZqvj0w5rveiNYcTnM/edit#gid=0\"\",\"\"RWA!F:BZ\"\"),48,0))\"),\"\")","v":""},{"$f":"IFERROR(__xludf.DUMMYFUNCTION(\"iferror(VLOOKUP(B652,IMPORTRANGE(\"\"https://docs.google.com/spreadsheets/d/1bphtMaJ6lFh0VVWIgQh8ZCOchBZqvj0w5rveiNYcTnM/edit#gid=0\"\",\"\"RWA!F:BZ\"\"),49,0))\"),\"\")","v":""},{"$f":"IFERROR(__xludf.DUMMYFUNCTION(\"iferror(VLOOKUP(B652,IMPORTRANGE(\"\"https://docs.google.com/spreadsheets/d/1bphtMaJ6lFh0VVWIgQh8ZCOchBZqvj0w5rveiNYcTnM/edit#gid=0\"\",\"\"RWA!F:BZ\"\"),53,0))\"),\"\")","v":""}]
[null,null,null,{"$f":"IFERROR(__xludf.DUMMYFUNCTION(\"iferror(VLOOKUP(B653,IMPORTRANGE(\"\"https://docs.google.com/spreadsheets/d/1bphtMaJ6lFh0VVWIgQh8ZCOchBZqvj0w5rveiNYcTnM/edit#gid=0\"\",\"\"RWA!F:BZ\"\"),44,0))\"),\"\")","v":""},{"$f":"IFERROR(__xludf.DUMMYFUNCTION(\"iferror(VLOOKUP(B653,IMPORTRANGE(\"\"https://docs.google.com/spreadsheets/d/1bphtMaJ6lFh0VVWIgQh8ZCOchBZqvj0w5rveiNYcTnM/edit#gid=0\"\",\"\"RWA!F:BZ\"\"),48,0))\"),\"\")","v":""},{"$f":"IFERROR(__xludf.DUMMYFUNCTION(\"iferror(VLOOKUP(B653,IMPORTRANGE(\"\"https://docs.google.com/spreadsheets/d/1bphtMaJ6lFh0VVWIgQh8ZCOchBZqvj0w5rveiNYcTnM/edit#gid=0\"\",\"\"RWA!F:BZ\"\"),49,0))\"),\"\")","v":""},{"$f":"IFERROR(__xludf.DUMMYFUNCTION(\"iferror(VLOOKUP(B653,IMPORTRANGE(\"\"https://docs.google.com/spreadsheets/d/1bphtMaJ6lFh0VVWIgQh8ZCOchBZqvj0w5rveiNYcTnM/edit#gid=0\"\",\"\"RWA!F:BZ\"\"),53,0))\"),\"\")","v":""}]
[null,null,null,{"$f":"IFERROR(__xludf.DUMMYFUNCTION(\"iferror(VLOOKUP(B654,IMPORTRANGE(\"\"https://docs.google.com/spreadsheets/d/1bphtMaJ6lFh0VVWIgQh8ZCOchBZqvj0w5rveiNYcTnM/edit#gid=0\"\",\"\"RWA!F:BZ\"\"),44,0))\"),\"\")","v":""},{"$f":"IFERROR(__xludf.DUMMYFUNCTION(\"iferror(VLOOKUP(B654,IMPORTRANGE(\"\"https://docs.google.com/spreadsheets/d/1bphtMaJ6lFh0VVWIgQh8ZCOchBZqvj0w5rveiNYcTnM/edit#gid=0\"\",\"\"RWA!F:BZ\"\"),48,0))\"),\"\")","v":""},{"$f":"IFERROR(__xludf.DUMMYFUNCTION(\"iferror(VLOOKUP(B654,IMPORTRANGE(\"\"https://docs.google.com/spreadsheets/d/1bphtMaJ6lFh0VVWIgQh8ZCOchBZqvj0w5rveiNYcTnM/edit#gid=0\"\",\"\"RWA!F:BZ\"\"),49,0))\"),\"\")","v":""},{"$f":"IFERROR(__xludf.DUMMYFUNCTION(\"iferror(VLOOKUP(B654,IMPORTRANGE(\"\"https://docs.google.com/spreadsheets/d/1bphtMaJ6lFh0VVWIgQh8ZCOchBZqvj0w5rveiNYcTnM/edit#gid=0\"\",\"\"RWA!F:BZ\"\"),53,0))\"),\"\")","v":""}]
[null,null,null,{"$f":"IFERROR(__xludf.DUMMYFUNCTION(\"iferror(VLOOKUP(B655,IMPORTRANGE(\"\"https://docs.google.com/spreadsheets/d/1bphtMaJ6lFh0VVWIgQh8ZCOchBZqvj0w5rveiNYcTnM/edit#gid=0\"\",\"\"RWA!F:BZ\"\"),44,0))\"),\"\")","v":""},{"$f":"IFERROR(__xludf.DUMMYFUNCTION(\"iferror(VLOOKUP(B655,IMPORTRANGE(\"\"https://docs.google.com/spreadsheets/d/1bphtMaJ6lFh0VVWIgQh8ZCOchBZqvj0w5rveiNYcTnM/edit#gid=0\"\",\"\"RWA!F:BZ\"\"),48,0))\"),\"\")","v":""},{"$f":"IFERROR(__xludf.DUMMYFUNCTION(\"iferror(VLOOKUP(B655,IMPORTRANGE(\"\"https://docs.google.com/spreadsheets/d/1bphtMaJ6lFh0VVWIgQh8ZCOchBZqvj0w5rveiNYcTnM/edit#gid=0\"\",\"\"RWA!F:BZ\"\"),49,0))\"),\"\")","v":""},{"$f":"IFERROR(__xludf.DUMMYFUNCTION(\"iferror(VLOOKUP(B655,IMPORTRANGE(\"\"https://docs.google.com/spreadsheets/d/1bphtMaJ6lFh0VVWIgQh8ZCOchBZqvj0w5rveiNYcTnM/edit#gid=0\"\",\"\"RWA!F:BZ\"\"),53,0))\"),\"\")","v":""}]
[null,null,null,{"$f":"IFERROR(__xludf.DUMMYFUNCTION(\"iferror(VLOOKUP(B656,IMPORTRANGE(\"\"https://docs.google.com/spreadsheets/d/1bphtMaJ6lFh0VVWIgQh8ZCOchBZqvj0w5rveiNYcTnM/edit#gid=0\"\",\"\"RWA!F:BZ\"\"),44,0))\"),\"\")","v":""},{"$f":"IFERROR(__xludf.DUMMYFUNCTION(\"iferror(VLOOKUP(B656,IMPORTRANGE(\"\"https://docs.google.com/spreadsheets/d/1bphtMaJ6lFh0VVWIgQh8ZCOchBZqvj0w5rveiNYcTnM/edit#gid=0\"\",\"\"RWA!F:BZ\"\"),48,0))\"),\"\")","v":""},{"$f":"IFERROR(__xludf.DUMMYFUNCTION(\"iferror(VLOOKUP(B656,IMPORTRANGE(\"\"https://docs.google.com/spreadsheets/d/1bphtMaJ6lFh0VVWIgQh8ZCOchBZqvj0w5rveiNYcTnM/edit#gid=0\"\",\"\"RWA!F:BZ\"\"),49,0))\"),\"\")","v":""},{"$f":"IFERROR(__xludf.DUMMYFUNCTION(\"iferror(VLOOKUP(B656,IMPORTRANGE(\"\"https://docs.google.com/spreadsheets/d/1bphtMaJ6lFh0VVWIgQh8ZCOchBZqvj0w5rveiNYcTnM/edit#gid=0\"\",\"\"RWA!F:BZ\"\"),53,0))\"),\"\")","v":""}]
[null,null,null,{"$f":"IFERROR(__xludf.DUMMYFUNCTION(\"iferror(VLOOKUP(B657,IMPORTRANGE(\"\"https://docs.google.com/spreadsheets/d/1bphtMaJ6lFh0VVWIgQh8ZCOchBZqvj0w5rveiNYcTnM/edit#gid=0\"\",\"\"RWA!F:BZ\"\"),44,0))\"),\"\")","v":""},{"$f":"IFERROR(__xludf.DUMMYFUNCTION(\"iferror(VLOOKUP(B657,IMPORTRANGE(\"\"https://docs.google.com/spreadsheets/d/1bphtMaJ6lFh0VVWIgQh8ZCOchBZqvj0w5rveiNYcTnM/edit#gid=0\"\",\"\"RWA!F:BZ\"\"),48,0))\"),\"\")","v":""},{"$f":"IFERROR(__xludf.DUMMYFUNCTION(\"iferror(VLOOKUP(B657,IMPORTRANGE(\"\"https://docs.google.com/spreadsheets/d/1bphtMaJ6lFh0VVWIgQh8ZCOchBZqvj0w5rveiNYcTnM/edit#gid=0\"\",\"\"RWA!F:BZ\"\"),49,0))\"),\"\")","v":""},{"$f":"IFERROR(__xludf.DUMMYFUNCTION(\"iferror(VLOOKUP(B657,IMPORTRANGE(\"\"https://docs.google.com/spreadsheets/d/1bphtMaJ6lFh0VVWIgQh8ZCOchBZqvj0w5rveiNYcTnM/edit#gid=0\"\",\"\"RWA!F:BZ\"\"),53,0))\"),\"\")","v":""}]
[null,null,null,{"$f":"IFERROR(__xludf.DUMMYFUNCTION(\"iferror(VLOOKUP(B658,IMPORTRANGE(\"\"https://docs.google.com/spreadsheets/d/1bphtMaJ6lFh0VVWIgQh8ZCOchBZqvj0w5rveiNYcTnM/edit#gid=0\"\",\"\"RWA!F:BZ\"\"),44,0))\"),\"\")","v":""},{"$f":"IFERROR(__xludf.DUMMYFUNCTION(\"iferror(VLOOKUP(B658,IMPORTRANGE(\"\"https://docs.google.com/spreadsheets/d/1bphtMaJ6lFh0VVWIgQh8ZCOchBZqvj0w5rveiNYcTnM/edit#gid=0\"\",\"\"RWA!F:BZ\"\"),48,0))\"),\"\")","v":""},{"$f":"IFERROR(__xludf.DUMMYFUNCTION(\"iferror(VLOOKUP(B658,IMPORTRANGE(\"\"https://docs.google.com/spreadsheets/d/1bphtMaJ6lFh0VVWIgQh8ZCOchBZqvj0w5rveiNYcTnM/edit#gid=0\"\",\"\"RWA!F:BZ\"\"),49,0))\"),\"\")","v":""},{"$f":"IFERROR(__xludf.DUMMYFUNCTION(\"iferror(VLOOKUP(B658,IMPORTRANGE(\"\"https://docs.google.com/spreadsheets/d/1bphtMaJ6lFh0VVWIgQh8ZCOchBZqvj0w5rveiNYcTnM/edit#gid=0\"\",\"\"RWA!F:BZ\"\"),53,0))\"),\"\")","v":""}]
[null,null,null,{"$f":"IFERROR(__xludf.DUMMYFUNCTION(\"iferror(VLOOKUP(B659,IMPORTRANGE(\"\"https://docs.google.com/spreadsheets/d/1bphtMaJ6lFh0VVWIgQh8ZCOchBZqvj0w5rveiNYcTnM/edit#gid=0\"\",\"\"RWA!F:BZ\"\"),44,0))\"),\"\")","v":""},{"$f":"IFERROR(__xludf.DUMMYFUNCTION(\"iferror(VLOOKUP(B659,IMPORTRANGE(\"\"https://docs.google.com/spreadsheets/d/1bphtMaJ6lFh0VVWIgQh8ZCOchBZqvj0w5rveiNYcTnM/edit#gid=0\"\",\"\"RWA!F:BZ\"\"),48,0))\"),\"\")","v":""},{"$f":"IFERROR(__xludf.DUMMYFUNCTION(\"iferror(VLOOKUP(B659,IMPORTRANGE(\"\"https://docs.google.com/spreadsheets/d/1bphtMaJ6lFh0VVWIgQh8ZCOchBZqvj0w5rveiNYcTnM/edit#gid=0\"\",\"\"RWA!F:BZ\"\"),49,0))\"),\"\")","v":""},{"$f":"IFERROR(__xludf.DUMMYFUNCTION(\"iferror(VLOOKUP(B659,IMPORTRANGE(\"\"https://docs.google.com/spreadsheets/d/1bphtMaJ6lFh0VVWIgQh8ZCOchBZqvj0w5rveiNYcTnM/edit#gid=0\"\",\"\"RWA!F:BZ\"\"),53,0))\"),\"\")","v":""}]
[null,null,null,{"$f":"IFERROR(__xludf.DUMMYFUNCTION(\"iferror(VLOOKUP(B660,IMPORTRANGE(\"\"https://docs.google.com/spreadsheets/d/1bphtMaJ6lFh0VVWIgQh8ZCOchBZqvj0w5rveiNYcTnM/edit#gid=0\"\",\"\"RWA!F:BZ\"\"),44,0))\"),\"\")","v":""},{"$f":"IFERROR(__xludf.DUMMYFUNCTION(\"iferror(VLOOKUP(B660,IMPORTRANGE(\"\"https://docs.google.com/spreadsheets/d/1bphtMaJ6lFh0VVWIgQh8ZCOchBZqvj0w5rveiNYcTnM/edit#gid=0\"\",\"\"RWA!F:BZ\"\"),48,0))\"),\"\")","v":""},{"$f":"IFERROR(__xludf.DUMMYFUNCTION(\"iferror(VLOOKUP(B660,IMPORTRANGE(\"\"https://docs.google.com/spreadsheets/d/1bphtMaJ6lFh0VVWIgQh8ZCOchBZqvj0w5rveiNYcTnM/edit#gid=0\"\",\"\"RWA!F:BZ\"\"),49,0))\"),\"\")","v":""},{"$f":"IFERROR(__xludf.DUMMYFUNCTION(\"iferror(VLOOKUP(B660,IMPORTRANGE(\"\"https://docs.google.com/spreadsheets/d/1bphtMaJ6lFh0VVWIgQh8ZCOchBZqvj0w5rveiNYcTnM/edit#gid=0\"\",\"\"RWA!F:BZ\"\"),53,0))\"),\"\")","v":""}]
[null,null,null,{"$f":"IFERROR(__xludf.DUMMYFUNCTION(\"iferror(VLOOKUP(B661,IMPORTRANGE(\"\"https://docs.google.com/spreadsheets/d/1bphtMaJ6lFh0VVWIgQh8ZCOchBZqvj0w5rveiNYcTnM/edit#gid=0\"\",\"\"RWA!F:BZ\"\"),44,0))\"),\"\")","v":""},{"$f":"IFERROR(__xludf.DUMMYFUNCTION(\"iferror(VLOOKUP(B661,IMPORTRANGE(\"\"https://docs.google.com/spreadsheets/d/1bphtMaJ6lFh0VVWIgQh8ZCOchBZqvj0w5rveiNYcTnM/edit#gid=0\"\",\"\"RWA!F:BZ\"\"),48,0))\"),\"\")","v":""},{"$f":"IFERROR(__xludf.DUMMYFUNCTION(\"iferror(VLOOKUP(B661,IMPORTRANGE(\"\"https://docs.google.com/spreadsheets/d/1bphtMaJ6lFh0VVWIgQh8ZCOchBZqvj0w5rveiNYcTnM/edit#gid=0\"\",\"\"RWA!F:BZ\"\"),49,0))\"),\"\")","v":""},{"$f":"IFERROR(__xludf.DUMMYFUNCTION(\"iferror(VLOOKUP(B661,IMPORTRANGE(\"\"https://docs.google.com/spreadsheets/d/1bphtMaJ6lFh0VVWIgQh8ZCOchBZqvj0w5rveiNYcTnM/edit#gid=0\"\",\"\"RWA!F:BZ\"\"),53,0))\"),\"\")","v":""}]
[null,null,null,{"$f":"IFERROR(__xludf.DUMMYFUNCTION(\"iferror(VLOOKUP(B662,IMPORTRANGE(\"\"https://docs.google.com/spreadsheets/d/1bphtMaJ6lFh0VVWIgQh8ZCOchBZqvj0w5rveiNYcTnM/edit#gid=0\"\",\"\"RWA!F:BZ\"\"),44,0))\"),\"\")","v":""},{"$f":"IFERROR(__xludf.DUMMYFUNCTION(\"iferror(VLOOKUP(B662,IMPORTRANGE(\"\"https://docs.google.com/spreadsheets/d/1bphtMaJ6lFh0VVWIgQh8ZCOchBZqvj0w5rveiNYcTnM/edit#gid=0\"\",\"\"RWA!F:BZ\"\"),48,0))\"),\"\")","v":""},{"$f":"IFERROR(__xludf.DUMMYFUNCTION(\"iferror(VLOOKUP(B662,IMPORTRANGE(\"\"https://docs.google.com/spreadsheets/d/1bphtMaJ6lFh0VVWIgQh8ZCOchBZqvj0w5rveiNYcTnM/edit#gid=0\"\",\"\"RWA!F:BZ\"\"),49,0))\"),\"\")","v":""},{"$f":"IFERROR(__xludf.DUMMYFUNCTION(\"iferror(VLOOKUP(B662,IMPORTRANGE(\"\"https://docs.google.com/spreadsheets/d/1bphtMaJ6lFh0VVWIgQh8ZCOchBZqvj0w5rveiNYcTnM/edit#gid=0\"\",\"\"RWA!F:BZ\"\"),53,0))\"),\"\")","v":""}]
[null,null,null,{"$f":"IFERROR(__xludf.DUMMYFUNCTION(\"iferror(VLOOKUP(B663,IMPORTRANGE(\"\"https://docs.google.com/spreadsheets/d/1bphtMaJ6lFh0VVWIgQh8ZCOchBZqvj0w5rveiNYcTnM/edit#gid=0\"\",\"\"RWA!F:BZ\"\"),44,0))\"),\"\")","v":""},{"$f":"IFERROR(__xludf.DUMMYFUNCTION(\"iferror(VLOOKUP(B663,IMPORTRANGE(\"\"https://docs.google.com/spreadsheets/d/1bphtMaJ6lFh0VVWIgQh8ZCOchBZqvj0w5rveiNYcTnM/edit#gid=0\"\",\"\"RWA!F:BZ\"\"),48,0))\"),\"\")","v":""},{"$f":"IFERROR(__xludf.DUMMYFUNCTION(\"iferror(VLOOKUP(B663,IMPORTRANGE(\"\"https://docs.google.com/spreadsheets/d/1bphtMaJ6lFh0VVWIgQh8ZCOchBZqvj0w5rveiNYcTnM/edit#gid=0\"\",\"\"RWA!F:BZ\"\"),49,0))\"),\"\")","v":""},{"$f":"IFERROR(__xludf.DUMMYFUNCTION(\"iferror(VLOOKUP(B663,IMPORTRANGE(\"\"https://docs.google.com/spreadsheets/d/1bphtMaJ6lFh0VVWIgQh8ZCOchBZqvj0w5rveiNYcTnM/edit#gid=0\"\",\"\"RWA!F:BZ\"\"),53,0))\"),\"\")","v":""}]
[null,null,null,{"$f":"IFERROR(__xludf.DUMMYFUNCTION(\"iferror(VLOOKUP(B664,IMPORTRANGE(\"\"https://docs.google.com/spreadsheets/d/1bphtMaJ6lFh0VVWIgQh8ZCOchBZqvj0w5rveiNYcTnM/edit#gid=0\"\",\"\"RWA!F:BZ\"\"),44,0))\"),\"\")","v":""},{"$f":"IFERROR(__xludf.DUMMYFUNCTION(\"iferror(VLOOKUP(B664,IMPORTRANGE(\"\"https://docs.google.com/spreadsheets/d/1bphtMaJ6lFh0VVWIgQh8ZCOchBZqvj0w5rveiNYcTnM/edit#gid=0\"\",\"\"RWA!F:BZ\"\"),48,0))\"),\"\")","v":""},{"$f":"IFERROR(__xludf.DUMMYFUNCTION(\"iferror(VLOOKUP(B664,IMPORTRANGE(\"\"https://docs.google.com/spreadsheets/d/1bphtMaJ6lFh0VVWIgQh8ZCOchBZqvj0w5rveiNYcTnM/edit#gid=0\"\",\"\"RWA!F:BZ\"\"),49,0))\"),\"\")","v":""},{"$f":"IFERROR(__xludf.DUMMYFUNCTION(\"iferror(VLOOKUP(B664,IMPORTRANGE(\"\"https://docs.google.com/spreadsheets/d/1bphtMaJ6lFh0VVWIgQh8ZCOchBZqvj0w5rveiNYcTnM/edit#gid=0\"\",\"\"RWA!F:BZ\"\"),53,0))\"),\"\")","v":""}]
[null,null,null,{"$f":"IFERROR(__xludf.DUMMYFUNCTION(\"iferror(VLOOKUP(B665,IMPORTRANGE(\"\"https://docs.google.com/spreadsheets/d/1bphtMaJ6lFh0VVWIgQh8ZCOchBZqvj0w5rveiNYcTnM/edit#gid=0\"\",\"\"RWA!F:BZ\"\"),44,0))\"),\"\")","v":""},{"$f":"IFERROR(__xludf.DUMMYFUNCTION(\"iferror(VLOOKUP(B665,IMPORTRANGE(\"\"https://docs.google.com/spreadsheets/d/1bphtMaJ6lFh0VVWIgQh8ZCOchBZqvj0w5rveiNYcTnM/edit#gid=0\"\",\"\"RWA!F:BZ\"\"),48,0))\"),\"\")","v":""},{"$f":"IFERROR(__xludf.DUMMYFUNCTION(\"iferror(VLOOKUP(B665,IMPORTRANGE(\"\"https://docs.google.com/spreadsheets/d/1bphtMaJ6lFh0VVWIgQh8ZCOchBZqvj0w5rveiNYcTnM/edit#gid=0\"\",\"\"RWA!F:BZ\"\"),49,0))\"),\"\")","v":""},{"$f":"IFERROR(__xludf.DUMMYFUNCTION(\"iferror(VLOOKUP(B665,IMPORTRANGE(\"\"https://docs.google.com/spreadsheets/d/1bphtMaJ6lFh0VVWIgQh8ZCOchBZqvj0w5rveiNYcTnM/edit#gid=0\"\",\"\"RWA!F:BZ\"\"),53,0))\"),\"\")","v":""}]
[null,null,null,{"$f":"IFERROR(__xludf.DUMMYFUNCTION(\"iferror(VLOOKUP(B666,IMPORTRANGE(\"\"https://docs.google.com/spreadsheets/d/1bphtMaJ6lFh0VVWIgQh8ZCOchBZqvj0w5rveiNYcTnM/edit#gid=0\"\",\"\"RWA!F:BZ\"\"),44,0))\"),\"\")","v":""},{"$f":"IFERROR(__xludf.DUMMYFUNCTION(\"iferror(VLOOKUP(B666,IMPORTRANGE(\"\"https://docs.google.com/spreadsheets/d/1bphtMaJ6lFh0VVWIgQh8ZCOchBZqvj0w5rveiNYcTnM/edit#gid=0\"\",\"\"RWA!F:BZ\"\"),48,0))\"),\"\")","v":""},{"$f":"IFERROR(__xludf.DUMMYFUNCTION(\"iferror(VLOOKUP(B666,IMPORTRANGE(\"\"https://docs.google.com/spreadsheets/d/1bphtMaJ6lFh0VVWIgQh8ZCOchBZqvj0w5rveiNYcTnM/edit#gid=0\"\",\"\"RWA!F:BZ\"\"),49,0))\"),\"\")","v":""},{"$f":"IFERROR(__xludf.DUMMYFUNCTION(\"iferror(VLOOKUP(B666,IMPORTRANGE(\"\"https://docs.google.com/spreadsheets/d/1bphtMaJ6lFh0VVWIgQh8ZCOchBZqvj0w5rveiNYcTnM/edit#gid=0\"\",\"\"RWA!F:BZ\"\"),53,0))\"),\"\")","v":""}]
[null,null,null,{"$f":"IFERROR(__xludf.DUMMYFUNCTION(\"iferror(VLOOKUP(B667,IMPORTRANGE(\"\"https://docs.google.com/spreadsheets/d/1bphtMaJ6lFh0VVWIgQh8ZCOchBZqvj0w5rveiNYcTnM/edit#gid=0\"\",\"\"RWA!F:BZ\"\"),44,0))\"),\"\")","v":""},{"$f":"IFERROR(__xludf.DUMMYFUNCTION(\"iferror(VLOOKUP(B667,IMPORTRANGE(\"\"https://docs.google.com/spreadsheets/d/1bphtMaJ6lFh0VVWIgQh8ZCOchBZqvj0w5rveiNYcTnM/edit#gid=0\"\",\"\"RWA!F:BZ\"\"),48,0))\"),\"\")","v":""},{"$f":"IFERROR(__xludf.DUMMYFUNCTION(\"iferror(VLOOKUP(B667,IMPORTRANGE(\"\"https://docs.google.com/spreadsheets/d/1bphtMaJ6lFh0VVWIgQh8ZCOchBZqvj0w5rveiNYcTnM/edit#gid=0\"\",\"\"RWA!F:BZ\"\"),49,0))\"),\"\")","v":""},{"$f":"IFERROR(__xludf.DUMMYFUNCTION(\"iferror(VLOOKUP(B667,IMPORTRANGE(\"\"https://docs.google.com/spreadsheets/d/1bphtMaJ6lFh0VVWIgQh8ZCOchBZqvj0w5rveiNYcTnM/edit#gid=0\"\",\"\"RWA!F:BZ\"\"),53,0))\"),\"\")","v":""}]
[null,null,null,{"$f":"IFERROR(__xludf.DUMMYFUNCTION(\"iferror(VLOOKUP(B668,IMPORTRANGE(\"\"https://docs.google.com/spreadsheets/d/1bphtMaJ6lFh0VVWIgQh8ZCOchBZqvj0w5rveiNYcTnM/edit#gid=0\"\",\"\"RWA!F:BZ\"\"),44,0))\"),\"\")","v":""},{"$f":"IFERROR(__xludf.DUMMYFUNCTION(\"iferror(VLOOKUP(B668,IMPORTRANGE(\"\"https://docs.google.com/spreadsheets/d/1bphtMaJ6lFh0VVWIgQh8ZCOchBZqvj0w5rveiNYcTnM/edit#gid=0\"\",\"\"RWA!F:BZ\"\"),48,0))\"),\"\")","v":""},{"$f":"IFERROR(__xludf.DUMMYFUNCTION(\"iferror(VLOOKUP(B668,IMPORTRANGE(\"\"https://docs.google.com/spreadsheets/d/1bphtMaJ6lFh0VVWIgQh8ZCOchBZqvj0w5rveiNYcTnM/edit#gid=0\"\",\"\"RWA!F:BZ\"\"),49,0))\"),\"\")","v":""},{"$f":"IFERROR(__xludf.DUMMYFUNCTION(\"iferror(VLOOKUP(B668,IMPORTRANGE(\"\"https://docs.google.com/spreadsheets/d/1bphtMaJ6lFh0VVWIgQh8ZCOchBZqvj0w5rveiNYcTnM/edit#gid=0\"\",\"\"RWA!F:BZ\"\"),53,0))\"),\"\")","v":""}]
[null,null,null,{"$f":"IFERROR(__xludf.DUMMYFUNCTION(\"iferror(VLOOKUP(B669,IMPORTRANGE(\"\"https://docs.google.com/spreadsheets/d/1bphtMaJ6lFh0VVWIgQh8ZCOchBZqvj0w5rveiNYcTnM/edit#gid=0\"\",\"\"RWA!F:BZ\"\"),44,0))\"),\"\")","v":""},{"$f":"IFERROR(__xludf.DUMMYFUNCTION(\"iferror(VLOOKUP(B669,IMPORTRANGE(\"\"https://docs.google.com/spreadsheets/d/1bphtMaJ6lFh0VVWIgQh8ZCOchBZqvj0w5rveiNYcTnM/edit#gid=0\"\",\"\"RWA!F:BZ\"\"),48,0))\"),\"\")","v":""},{"$f":"IFERROR(__xludf.DUMMYFUNCTION(\"iferror(VLOOKUP(B669,IMPORTRANGE(\"\"https://docs.google.com/spreadsheets/d/1bphtMaJ6lFh0VVWIgQh8ZCOchBZqvj0w5rveiNYcTnM/edit#gid=0\"\",\"\"RWA!F:BZ\"\"),49,0))\"),\"\")","v":""},{"$f":"IFERROR(__xludf.DUMMYFUNCTION(\"iferror(VLOOKUP(B669,IMPORTRANGE(\"\"https://docs.google.com/spreadsheets/d/1bphtMaJ6lFh0VVWIgQh8ZCOchBZqvj0w5rveiNYcTnM/edit#gid=0\"\",\"\"RWA!F:BZ\"\"),53,0))\"),\"\")","v":""}]
[null,null,null,{"$f":"IFERROR(__xludf.DUMMYFUNCTION(\"iferror(VLOOKUP(B670,IMPORTRANGE(\"\"https://docs.google.com/spreadsheets/d/1bphtMaJ6lFh0VVWIgQh8ZCOchBZqvj0w5rveiNYcTnM/edit#gid=0\"\",\"\"RWA!F:BZ\"\"),44,0))\"),\"\")","v":""},{"$f":"IFERROR(__xludf.DUMMYFUNCTION(\"iferror(VLOOKUP(B670,IMPORTRANGE(\"\"https://docs.google.com/spreadsheets/d/1bphtMaJ6lFh0VVWIgQh8ZCOchBZqvj0w5rveiNYcTnM/edit#gid=0\"\",\"\"RWA!F:BZ\"\"),48,0))\"),\"\")","v":""},{"$f":"IFERROR(__xludf.DUMMYFUNCTION(\"iferror(VLOOKUP(B670,IMPORTRANGE(\"\"https://docs.google.com/spreadsheets/d/1bphtMaJ6lFh0VVWIgQh8ZCOchBZqvj0w5rveiNYcTnM/edit#gid=0\"\",\"\"RWA!F:BZ\"\"),49,0))\"),\"\")","v":""},{"$f":"IFERROR(__xludf.DUMMYFUNCTION(\"iferror(VLOOKUP(B670,IMPORTRANGE(\"\"https://docs.google.com/spreadsheets/d/1bphtMaJ6lFh0VVWIgQh8ZCOchBZqvj0w5rveiNYcTnM/edit#gid=0\"\",\"\"RWA!F:BZ\"\"),53,0))\"),\"\")","v":""}]
[null,null,null,{"$f":"IFERROR(__xludf.DUMMYFUNCTION(\"iferror(VLOOKUP(B671,IMPORTRANGE(\"\"https://docs.google.com/spreadsheets/d/1bphtMaJ6lFh0VVWIgQh8ZCOchBZqvj0w5rveiNYcTnM/edit#gid=0\"\",\"\"RWA!F:BZ\"\"),44,0))\"),\"\")","v":""},{"$f":"IFERROR(__xludf.DUMMYFUNCTION(\"iferror(VLOOKUP(B671,IMPORTRANGE(\"\"https://docs.google.com/spreadsheets/d/1bphtMaJ6lFh0VVWIgQh8ZCOchBZqvj0w5rveiNYcTnM/edit#gid=0\"\",\"\"RWA!F:BZ\"\"),48,0))\"),\"\")","v":""},{"$f":"IFERROR(__xludf.DUMMYFUNCTION(\"iferror(VLOOKUP(B671,IMPORTRANGE(\"\"https://docs.google.com/spreadsheets/d/1bphtMaJ6lFh0VVWIgQh8ZCOchBZqvj0w5rveiNYcTnM/edit#gid=0\"\",\"\"RWA!F:BZ\"\"),49,0))\"),\"\")","v":""},{"$f":"IFERROR(__xludf.DUMMYFUNCTION(\"iferror(VLOOKUP(B671,IMPORTRANGE(\"\"https://docs.google.com/spreadsheets/d/1bphtMaJ6lFh0VVWIgQh8ZCOchBZqvj0w5rveiNYcTnM/edit#gid=0\"\",\"\"RWA!F:BZ\"\"),53,0))\"),\"\")","v":""}]
[null,null,null,{"$f":"IFERROR(__xludf.DUMMYFUNCTION(\"iferror(VLOOKUP(B672,IMPORTRANGE(\"\"https://docs.google.com/spreadsheets/d/1bphtMaJ6lFh0VVWIgQh8ZCOchBZqvj0w5rveiNYcTnM/edit#gid=0\"\",\"\"RWA!F:BZ\"\"),44,0))\"),\"\")","v":""},{"$f":"IFERROR(__xludf.DUMMYFUNCTION(\"iferror(VLOOKUP(B672,IMPORTRANGE(\"\"https://docs.google.com/spreadsheets/d/1bphtMaJ6lFh0VVWIgQh8ZCOchBZqvj0w5rveiNYcTnM/edit#gid=0\"\",\"\"RWA!F:BZ\"\"),48,0))\"),\"\")","v":""},{"$f":"IFERROR(__xludf.DUMMYFUNCTION(\"iferror(VLOOKUP(B672,IMPORTRANGE(\"\"https://docs.google.com/spreadsheets/d/1bphtMaJ6lFh0VVWIgQh8ZCOchBZqvj0w5rveiNYcTnM/edit#gid=0\"\",\"\"RWA!F:BZ\"\"),49,0))\"),\"\")","v":""},{"$f":"IFERROR(__xludf.DUMMYFUNCTION(\"iferror(VLOOKUP(B672,IMPORTRANGE(\"\"https://docs.google.com/spreadsheets/d/1bphtMaJ6lFh0VVWIgQh8ZCOchBZqvj0w5rveiNYcTnM/edit#gid=0\"\",\"\"RWA!F:BZ\"\"),53,0))\"),\"\")","v":""}]
[null,null,null,{"$f":"IFERROR(__xludf.DUMMYFUNCTION(\"iferror(VLOOKUP(B673,IMPORTRANGE(\"\"https://docs.google.com/spreadsheets/d/1bphtMaJ6lFh0VVWIgQh8ZCOchBZqvj0w5rveiNYcTnM/edit#gid=0\"\",\"\"RWA!F:BZ\"\"),44,0))\"),\"\")","v":""},{"$f":"IFERROR(__xludf.DUMMYFUNCTION(\"iferror(VLOOKUP(B673,IMPORTRANGE(\"\"https://docs.google.com/spreadsheets/d/1bphtMaJ6lFh0VVWIgQh8ZCOchBZqvj0w5rveiNYcTnM/edit#gid=0\"\",\"\"RWA!F:BZ\"\"),48,0))\"),\"\")","v":""},{"$f":"IFERROR(__xludf.DUMMYFUNCTION(\"iferror(VLOOKUP(B673,IMPORTRANGE(\"\"https://docs.google.com/spreadsheets/d/1bphtMaJ6lFh0VVWIgQh8ZCOchBZqvj0w5rveiNYcTnM/edit#gid=0\"\",\"\"RWA!F:BZ\"\"),49,0))\"),\"\")","v":""},{"$f":"IFERROR(__xludf.DUMMYFUNCTION(\"iferror(VLOOKUP(B673,IMPORTRANGE(\"\"https://docs.google.com/spreadsheets/d/1bphtMaJ6lFh0VVWIgQh8ZCOchBZqvj0w5rveiNYcTnM/edit#gid=0\"\",\"\"RWA!F:BZ\"\"),53,0))\"),\"\")","v":""}]
[null,null,null,{"$f":"IFERROR(__xludf.DUMMYFUNCTION(\"iferror(VLOOKUP(B674,IMPORTRANGE(\"\"https://docs.google.com/spreadsheets/d/1bphtMaJ6lFh0VVWIgQh8ZCOchBZqvj0w5rveiNYcTnM/edit#gid=0\"\",\"\"RWA!F:BZ\"\"),44,0))\"),\"\")","v":""},{"$f":"IFERROR(__xludf.DUMMYFUNCTION(\"iferror(VLOOKUP(B674,IMPORTRANGE(\"\"https://docs.google.com/spreadsheets/d/1bphtMaJ6lFh0VVWIgQh8ZCOchBZqvj0w5rveiNYcTnM/edit#gid=0\"\",\"\"RWA!F:BZ\"\"),48,0))\"),\"\")","v":""},{"$f":"IFERROR(__xludf.DUMMYFUNCTION(\"iferror(VLOOKUP(B674,IMPORTRANGE(\"\"https://docs.google.com/spreadsheets/d/1bphtMaJ6lFh0VVWIgQh8ZCOchBZqvj0w5rveiNYcTnM/edit#gid=0\"\",\"\"RWA!F:BZ\"\"),49,0))\"),\"\")","v":""},{"$f":"IFERROR(__xludf.DUMMYFUNCTION(\"iferror(VLOOKUP(B674,IMPORTRANGE(\"\"https://docs.google.com/spreadsheets/d/1bphtMaJ6lFh0VVWIgQh8ZCOchBZqvj0w5rveiNYcTnM/edit#gid=0\"\",\"\"RWA!F:BZ\"\"),53,0))\"),\"\")","v":""}]
[null,null,null,{"$f":"IFERROR(__xludf.DUMMYFUNCTION(\"iferror(VLOOKUP(B675,IMPORTRANGE(\"\"https://docs.google.com/spreadsheets/d/1bphtMaJ6lFh0VVWIgQh8ZCOchBZqvj0w5rveiNYcTnM/edit#gid=0\"\",\"\"RWA!F:BZ\"\"),44,0))\"),\"\")","v":""},{"$f":"IFERROR(__xludf.DUMMYFUNCTION(\"iferror(VLOOKUP(B675,IMPORTRANGE(\"\"https://docs.google.com/spreadsheets/d/1bphtMaJ6lFh0VVWIgQh8ZCOchBZqvj0w5rveiNYcTnM/edit#gid=0\"\",\"\"RWA!F:BZ\"\"),48,0))\"),\"\")","v":""},{"$f":"IFERROR(__xludf.DUMMYFUNCTION(\"iferror(VLOOKUP(B675,IMPORTRANGE(\"\"https://docs.google.com/spreadsheets/d/1bphtMaJ6lFh0VVWIgQh8ZCOchBZqvj0w5rveiNYcTnM/edit#gid=0\"\",\"\"RWA!F:BZ\"\"),49,0))\"),\"\")","v":""},{"$f":"IFERROR(__xludf.DUMMYFUNCTION(\"iferror(VLOOKUP(B675,IMPORTRANGE(\"\"https://docs.google.com/spreadsheets/d/1bphtMaJ6lFh0VVWIgQh8ZCOchBZqvj0w5rveiNYcTnM/edit#gid=0\"\",\"\"RWA!F:BZ\"\"),53,0))\"),\"\")","v":""}]
[null,null,null,{"$f":"IFERROR(__xludf.DUMMYFUNCTION(\"iferror(VLOOKUP(B676,IMPORTRANGE(\"\"https://docs.google.com/spreadsheets/d/1bphtMaJ6lFh0VVWIgQh8ZCOchBZqvj0w5rveiNYcTnM/edit#gid=0\"\",\"\"RWA!F:BZ\"\"),44,0))\"),\"\")","v":""},{"$f":"IFERROR(__xludf.DUMMYFUNCTION(\"iferror(VLOOKUP(B676,IMPORTRANGE(\"\"https://docs.google.com/spreadsheets/d/1bphtMaJ6lFh0VVWIgQh8ZCOchBZqvj0w5rveiNYcTnM/edit#gid=0\"\",\"\"RWA!F:BZ\"\"),48,0))\"),\"\")","v":""},{"$f":"IFERROR(__xludf.DUMMYFUNCTION(\"iferror(VLOOKUP(B676,IMPORTRANGE(\"\"https://docs.google.com/spreadsheets/d/1bphtMaJ6lFh0VVWIgQh8ZCOchBZqvj0w5rveiNYcTnM/edit#gid=0\"\",\"\"RWA!F:BZ\"\"),49,0))\"),\"\")","v":""},{"$f":"IFERROR(__xludf.DUMMYFUNCTION(\"iferror(VLOOKUP(B676,IMPORTRANGE(\"\"https://docs.google.com/spreadsheets/d/1bphtMaJ6lFh0VVWIgQh8ZCOchBZqvj0w5rveiNYcTnM/edit#gid=0\"\",\"\"RWA!F:BZ\"\"),53,0))\"),\"\")","v":""}]
[null,null,null,{"$f":"IFERROR(__xludf.DUMMYFUNCTION(\"iferror(VLOOKUP(B677,IMPORTRANGE(\"\"https://docs.google.com/spreadsheets/d/1bphtMaJ6lFh0VVWIgQh8ZCOchBZqvj0w5rveiNYcTnM/edit#gid=0\"\",\"\"RWA!F:BZ\"\"),44,0))\"),\"\")","v":""},{"$f":"IFERROR(__xludf.DUMMYFUNCTION(\"iferror(VLOOKUP(B677,IMPORTRANGE(\"\"https://docs.google.com/spreadsheets/d/1bphtMaJ6lFh0VVWIgQh8ZCOchBZqvj0w5rveiNYcTnM/edit#gid=0\"\",\"\"RWA!F:BZ\"\"),48,0))\"),\"\")","v":""},{"$f":"IFERROR(__xludf.DUMMYFUNCTION(\"iferror(VLOOKUP(B677,IMPORTRANGE(\"\"https://docs.google.com/spreadsheets/d/1bphtMaJ6lFh0VVWIgQh8ZCOchBZqvj0w5rveiNYcTnM/edit#gid=0\"\",\"\"RWA!F:BZ\"\"),49,0))\"),\"\")","v":""},{"$f":"IFERROR(__xludf.DUMMYFUNCTION(\"iferror(VLOOKUP(B677,IMPORTRANGE(\"\"https://docs.google.com/spreadsheets/d/1bphtMaJ6lFh0VVWIgQh8ZCOchBZqvj0w5rveiNYcTnM/edit#gid=0\"\",\"\"RWA!F:BZ\"\"),53,0))\"),\"\")","v":""}]
[null,null,null,{"$f":"IFERROR(__xludf.DUMMYFUNCTION(\"iferror(VLOOKUP(B678,IMPORTRANGE(\"\"https://docs.google.com/spreadsheets/d/1bphtMaJ6lFh0VVWIgQh8ZCOchBZqvj0w5rveiNYcTnM/edit#gid=0\"\",\"\"RWA!F:BZ\"\"),44,0))\"),\"\")","v":""},{"$f":"IFERROR(__xludf.DUMMYFUNCTION(\"iferror(VLOOKUP(B678,IMPORTRANGE(\"\"https://docs.google.com/spreadsheets/d/1bphtMaJ6lFh0VVWIgQh8ZCOchBZqvj0w5rveiNYcTnM/edit#gid=0\"\",\"\"RWA!F:BZ\"\"),48,0))\"),\"\")","v":""},{"$f":"IFERROR(__xludf.DUMMYFUNCTION(\"iferror(VLOOKUP(B678,IMPORTRANGE(\"\"https://docs.google.com/spreadsheets/d/1bphtMaJ6lFh0VVWIgQh8ZCOchBZqvj0w5rveiNYcTnM/edit#gid=0\"\",\"\"RWA!F:BZ\"\"),49,0))\"),\"\")","v":""},{"$f":"IFERROR(__xludf.DUMMYFUNCTION(\"iferror(VLOOKUP(B678,IMPORTRANGE(\"\"https://docs.google.com/spreadsheets/d/1bphtMaJ6lFh0VVWIgQh8ZCOchBZqvj0w5rveiNYcTnM/edit#gid=0\"\",\"\"RWA!F:BZ\"\"),53,0))\"),\"\")","v":""}]
[null,null,null,{"$f":"IFERROR(__xludf.DUMMYFUNCTION(\"iferror(VLOOKUP(B679,IMPORTRANGE(\"\"https://docs.google.com/spreadsheets/d/1bphtMaJ6lFh0VVWIgQh8ZCOchBZqvj0w5rveiNYcTnM/edit#gid=0\"\",\"\"RWA!F:BZ\"\"),44,0))\"),\"\")","v":""},{"$f":"IFERROR(__xludf.DUMMYFUNCTION(\"iferror(VLOOKUP(B679,IMPORTRANGE(\"\"https://docs.google.com/spreadsheets/d/1bphtMaJ6lFh0VVWIgQh8ZCOchBZqvj0w5rveiNYcTnM/edit#gid=0\"\",\"\"RWA!F:BZ\"\"),48,0))\"),\"\")","v":""},{"$f":"IFERROR(__xludf.DUMMYFUNCTION(\"iferror(VLOOKUP(B679,IMPORTRANGE(\"\"https://docs.google.com/spreadsheets/d/1bphtMaJ6lFh0VVWIgQh8ZCOchBZqvj0w5rveiNYcTnM/edit#gid=0\"\",\"\"RWA!F:BZ\"\"),49,0))\"),\"\")","v":""},{"$f":"IFERROR(__xludf.DUMMYFUNCTION(\"iferror(VLOOKUP(B679,IMPORTRANGE(\"\"https://docs.google.com/spreadsheets/d/1bphtMaJ6lFh0VVWIgQh8ZCOchBZqvj0w5rveiNYcTnM/edit#gid=0\"\",\"\"RWA!F:BZ\"\"),53,0))\"),\"\")","v":""}]
[null,null,null,{"$f":"IFERROR(__xludf.DUMMYFUNCTION(\"iferror(VLOOKUP(B680,IMPORTRANGE(\"\"https://docs.google.com/spreadsheets/d/1bphtMaJ6lFh0VVWIgQh8ZCOchBZqvj0w5rveiNYcTnM/edit#gid=0\"\",\"\"RWA!F:BZ\"\"),44,0))\"),\"\")","v":""},{"$f":"IFERROR(__xludf.DUMMYFUNCTION(\"iferror(VLOOKUP(B680,IMPORTRANGE(\"\"https://docs.google.com/spreadsheets/d/1bphtMaJ6lFh0VVWIgQh8ZCOchBZqvj0w5rveiNYcTnM/edit#gid=0\"\",\"\"RWA!F:BZ\"\"),48,0))\"),\"\")","v":""},{"$f":"IFERROR(__xludf.DUMMYFUNCTION(\"iferror(VLOOKUP(B680,IMPORTRANGE(\"\"https://docs.google.com/spreadsheets/d/1bphtMaJ6lFh0VVWIgQh8ZCOchBZqvj0w5rveiNYcTnM/edit#gid=0\"\",\"\"RWA!F:BZ\"\"),49,0))\"),\"\")","v":""},{"$f":"IFERROR(__xludf.DUMMYFUNCTION(\"iferror(VLOOKUP(B680,IMPORTRANGE(\"\"https://docs.google.com/spreadsheets/d/1bphtMaJ6lFh0VVWIgQh8ZCOchBZqvj0w5rveiNYcTnM/edit#gid=0\"\",\"\"RWA!F:BZ\"\"),53,0))\"),\"\")","v":""}]
[null,null,null,{"$f":"IFERROR(__xludf.DUMMYFUNCTION(\"iferror(VLOOKUP(B681,IMPORTRANGE(\"\"https://docs.google.com/spreadsheets/d/1bphtMaJ6lFh0VVWIgQh8ZCOchBZqvj0w5rveiNYcTnM/edit#gid=0\"\",\"\"RWA!F:BZ\"\"),44,0))\"),\"\")","v":""},{"$f":"IFERROR(__xludf.DUMMYFUNCTION(\"iferror(VLOOKUP(B681,IMPORTRANGE(\"\"https://docs.google.com/spreadsheets/d/1bphtMaJ6lFh0VVWIgQh8ZCOchBZqvj0w5rveiNYcTnM/edit#gid=0\"\",\"\"RWA!F:BZ\"\"),48,0))\"),\"\")","v":""},{"$f":"IFERROR(__xludf.DUMMYFUNCTION(\"iferror(VLOOKUP(B681,IMPORTRANGE(\"\"https://docs.google.com/spreadsheets/d/1bphtMaJ6lFh0VVWIgQh8ZCOchBZqvj0w5rveiNYcTnM/edit#gid=0\"\",\"\"RWA!F:BZ\"\"),49,0))\"),\"\")","v":""},{"$f":"IFERROR(__xludf.DUMMYFUNCTION(\"iferror(VLOOKUP(B681,IMPORTRANGE(\"\"https://docs.google.com/spreadsheets/d/1bphtMaJ6lFh0VVWIgQh8ZCOchBZqvj0w5rveiNYcTnM/edit#gid=0\"\",\"\"RWA!F:BZ\"\"),53,0))\"),\"\")","v":""}]
[null,null,null,{"$f":"IFERROR(__xludf.DUMMYFUNCTION(\"iferror(VLOOKUP(B682,IMPORTRANGE(\"\"https://docs.google.com/spreadsheets/d/1bphtMaJ6lFh0VVWIgQh8ZCOchBZqvj0w5rveiNYcTnM/edit#gid=0\"\",\"\"RWA!F:BZ\"\"),44,0))\"),\"\")","v":""},{"$f":"IFERROR(__xludf.DUMMYFUNCTION(\"iferror(VLOOKUP(B682,IMPORTRANGE(\"\"https://docs.google.com/spreadsheets/d/1bphtMaJ6lFh0VVWIgQh8ZCOchBZqvj0w5rveiNYcTnM/edit#gid=0\"\",\"\"RWA!F:BZ\"\"),48,0))\"),\"\")","v":""},{"$f":"IFERROR(__xludf.DUMMYFUNCTION(\"iferror(VLOOKUP(B682,IMPORTRANGE(\"\"https://docs.google.com/spreadsheets/d/1bphtMaJ6lFh0VVWIgQh8ZCOchBZqvj0w5rveiNYcTnM/edit#gid=0\"\",\"\"RWA!F:BZ\"\"),49,0))\"),\"\")","v":""},{"$f":"IFERROR(__xludf.DUMMYFUNCTION(\"iferror(VLOOKUP(B682,IMPORTRANGE(\"\"https://docs.google.com/spreadsheets/d/1bphtMaJ6lFh0VVWIgQh8ZCOchBZqvj0w5rveiNYcTnM/edit#gid=0\"\",\"\"RWA!F:BZ\"\"),53,0))\"),\"\")","v":""}]
[null,null,null,{"$f":"IFERROR(__xludf.DUMMYFUNCTION(\"iferror(VLOOKUP(B683,IMPORTRANGE(\"\"https://docs.google.com/spreadsheets/d/1bphtMaJ6lFh0VVWIgQh8ZCOchBZqvj0w5rveiNYcTnM/edit#gid=0\"\",\"\"RWA!F:BZ\"\"),44,0))\"),\"\")","v":""},{"$f":"IFERROR(__xludf.DUMMYFUNCTION(\"iferror(VLOOKUP(B683,IMPORTRANGE(\"\"https://docs.google.com/spreadsheets/d/1bphtMaJ6lFh0VVWIgQh8ZCOchBZqvj0w5rveiNYcTnM/edit#gid=0\"\",\"\"RWA!F:BZ\"\"),48,0))\"),\"\")","v":""},{"$f":"IFERROR(__xludf.DUMMYFUNCTION(\"iferror(VLOOKUP(B683,IMPORTRANGE(\"\"https://docs.google.com/spreadsheets/d/1bphtMaJ6lFh0VVWIgQh8ZCOchBZqvj0w5rveiNYcTnM/edit#gid=0\"\",\"\"RWA!F:BZ\"\"),49,0))\"),\"\")","v":""},{"$f":"IFERROR(__xludf.DUMMYFUNCTION(\"iferror(VLOOKUP(B683,IMPORTRANGE(\"\"https://docs.google.com/spreadsheets/d/1bphtMaJ6lFh0VVWIgQh8ZCOchBZqvj0w5rveiNYcTnM/edit#gid=0\"\",\"\"RWA!F:BZ\"\"),53,0))\"),\"\")","v":""}]
[null,null,null,{"$f":"IFERROR(__xludf.DUMMYFUNCTION(\"iferror(VLOOKUP(B684,IMPORTRANGE(\"\"https://docs.google.com/spreadsheets/d/1bphtMaJ6lFh0VVWIgQh8ZCOchBZqvj0w5rveiNYcTnM/edit#gid=0\"\",\"\"RWA!F:BZ\"\"),44,0))\"),\"\")","v":""},{"$f":"IFERROR(__xludf.DUMMYFUNCTION(\"iferror(VLOOKUP(B684,IMPORTRANGE(\"\"https://docs.google.com/spreadsheets/d/1bphtMaJ6lFh0VVWIgQh8ZCOchBZqvj0w5rveiNYcTnM/edit#gid=0\"\",\"\"RWA!F:BZ\"\"),48,0))\"),\"\")","v":""},{"$f":"IFERROR(__xludf.DUMMYFUNCTION(\"iferror(VLOOKUP(B684,IMPORTRANGE(\"\"https://docs.google.com/spreadsheets/d/1bphtMaJ6lFh0VVWIgQh8ZCOchBZqvj0w5rveiNYcTnM/edit#gid=0\"\",\"\"RWA!F:BZ\"\"),49,0))\"),\"\")","v":""},{"$f":"IFERROR(__xludf.DUMMYFUNCTION(\"iferror(VLOOKUP(B684,IMPORTRANGE(\"\"https://docs.google.com/spreadsheets/d/1bphtMaJ6lFh0VVWIgQh8ZCOchBZqvj0w5rveiNYcTnM/edit#gid=0\"\",\"\"RWA!F:BZ\"\"),53,0))\"),\"\")","v":""}]
[null,null,null,{"$f":"IFERROR(__xludf.DUMMYFUNCTION(\"iferror(VLOOKUP(B685,IMPORTRANGE(\"\"https://docs.google.com/spreadsheets/d/1bphtMaJ6lFh0VVWIgQh8ZCOchBZqvj0w5rveiNYcTnM/edit#gid=0\"\",\"\"RWA!F:BZ\"\"),44,0))\"),\"\")","v":""},{"$f":"IFERROR(__xludf.DUMMYFUNCTION(\"iferror(VLOOKUP(B685,IMPORTRANGE(\"\"https://docs.google.com/spreadsheets/d/1bphtMaJ6lFh0VVWIgQh8ZCOchBZqvj0w5rveiNYcTnM/edit#gid=0\"\",\"\"RWA!F:BZ\"\"),48,0))\"),\"\")","v":""},{"$f":"IFERROR(__xludf.DUMMYFUNCTION(\"iferror(VLOOKUP(B685,IMPORTRANGE(\"\"https://docs.google.com/spreadsheets/d/1bphtMaJ6lFh0VVWIgQh8ZCOchBZqvj0w5rveiNYcTnM/edit#gid=0\"\",\"\"RWA!F:BZ\"\"),49,0))\"),\"\")","v":""},{"$f":"IFERROR(__xludf.DUMMYFUNCTION(\"iferror(VLOOKUP(B685,IMPORTRANGE(\"\"https://docs.google.com/spreadsheets/d/1bphtMaJ6lFh0VVWIgQh8ZCOchBZqvj0w5rveiNYcTnM/edit#gid=0\"\",\"\"RWA!F:BZ\"\"),53,0))\"),\"\")","v":""}]
[null,null,null,{"$f":"IFERROR(__xludf.DUMMYFUNCTION(\"iferror(VLOOKUP(B686,IMPORTRANGE(\"\"https://docs.google.com/spreadsheets/d/1bphtMaJ6lFh0VVWIgQh8ZCOchBZqvj0w5rveiNYcTnM/edit#gid=0\"\",\"\"RWA!F:BZ\"\"),44,0))\"),\"\")","v":""},{"$f":"IFERROR(__xludf.DUMMYFUNCTION(\"iferror(VLOOKUP(B686,IMPORTRANGE(\"\"https://docs.google.com/spreadsheets/d/1bphtMaJ6lFh0VVWIgQh8ZCOchBZqvj0w5rveiNYcTnM/edit#gid=0\"\",\"\"RWA!F:BZ\"\"),48,0))\"),\"\")","v":""},{"$f":"IFERROR(__xludf.DUMMYFUNCTION(\"iferror(VLOOKUP(B686,IMPORTRANGE(\"\"https://docs.google.com/spreadsheets/d/1bphtMaJ6lFh0VVWIgQh8ZCOchBZqvj0w5rveiNYcTnM/edit#gid=0\"\",\"\"RWA!F:BZ\"\"),49,0))\"),\"\")","v":""},{"$f":"IFERROR(__xludf.DUMMYFUNCTION(\"iferror(VLOOKUP(B686,IMPORTRANGE(\"\"https://docs.google.com/spreadsheets/d/1bphtMaJ6lFh0VVWIgQh8ZCOchBZqvj0w5rveiNYcTnM/edit#gid=0\"\",\"\"RWA!F:BZ\"\"),53,0))\"),\"\")","v":""}]
[null,null,null,{"$f":"IFERROR(__xludf.DUMMYFUNCTION(\"iferror(VLOOKUP(B687,IMPORTRANGE(\"\"https://docs.google.com/spreadsheets/d/1bphtMaJ6lFh0VVWIgQh8ZCOchBZqvj0w5rveiNYcTnM/edit#gid=0\"\",\"\"RWA!F:BZ\"\"),44,0))\"),\"\")","v":""},{"$f":"IFERROR(__xludf.DUMMYFUNCTION(\"iferror(VLOOKUP(B687,IMPORTRANGE(\"\"https://docs.google.com/spreadsheets/d/1bphtMaJ6lFh0VVWIgQh8ZCOchBZqvj0w5rveiNYcTnM/edit#gid=0\"\",\"\"RWA!F:BZ\"\"),48,0))\"),\"\")","v":""},{"$f":"IFERROR(__xludf.DUMMYFUNCTION(\"iferror(VLOOKUP(B687,IMPORTRANGE(\"\"https://docs.google.com/spreadsheets/d/1bphtMaJ6lFh0VVWIgQh8ZCOchBZqvj0w5rveiNYcTnM/edit#gid=0\"\",\"\"RWA!F:BZ\"\"),49,0))\"),\"\")","v":""},{"$f":"IFERROR(__xludf.DUMMYFUNCTION(\"iferror(VLOOKUP(B687,IMPORTRANGE(\"\"https://docs.google.com/spreadsheets/d/1bphtMaJ6lFh0VVWIgQh8ZCOchBZqvj0w5rveiNYcTnM/edit#gid=0\"\",\"\"RWA!F:BZ\"\"),53,0))\"),\"\")","v":""}]
[null,null,null,{"$f":"IFERROR(__xludf.DUMMYFUNCTION(\"iferror(VLOOKUP(B688,IMPORTRANGE(\"\"https://docs.google.com/spreadsheets/d/1bphtMaJ6lFh0VVWIgQh8ZCOchBZqvj0w5rveiNYcTnM/edit#gid=0\"\",\"\"RWA!F:BZ\"\"),44,0))\"),\"\")","v":""},{"$f":"IFERROR(__xludf.DUMMYFUNCTION(\"iferror(VLOOKUP(B688,IMPORTRANGE(\"\"https://docs.google.com/spreadsheets/d/1bphtMaJ6lFh0VVWIgQh8ZCOchBZqvj0w5rveiNYcTnM/edit#gid=0\"\",\"\"RWA!F:BZ\"\"),48,0))\"),\"\")","v":""},{"$f":"IFERROR(__xludf.DUMMYFUNCTION(\"iferror(VLOOKUP(B688,IMPORTRANGE(\"\"https://docs.google.com/spreadsheets/d/1bphtMaJ6lFh0VVWIgQh8ZCOchBZqvj0w5rveiNYcTnM/edit#gid=0\"\",\"\"RWA!F:BZ\"\"),49,0))\"),\"\")","v":""},{"$f":"IFERROR(__xludf.DUMMYFUNCTION(\"iferror(VLOOKUP(B688,IMPORTRANGE(\"\"https://docs.google.com/spreadsheets/d/1bphtMaJ6lFh0VVWIgQh8ZCOchBZqvj0w5rveiNYcTnM/edit#gid=0\"\",\"\"RWA!F:BZ\"\"),53,0))\"),\"\")","v":""}]
[null,null,null,{"$f":"IFERROR(__xludf.DUMMYFUNCTION(\"iferror(VLOOKUP(B689,IMPORTRANGE(\"\"https://docs.google.com/spreadsheets/d/1bphtMaJ6lFh0VVWIgQh8ZCOchBZqvj0w5rveiNYcTnM/edit#gid=0\"\",\"\"RWA!F:BZ\"\"),44,0))\"),\"\")","v":""},{"$f":"IFERROR(__xludf.DUMMYFUNCTION(\"iferror(VLOOKUP(B689,IMPORTRANGE(\"\"https://docs.google.com/spreadsheets/d/1bphtMaJ6lFh0VVWIgQh8ZCOchBZqvj0w5rveiNYcTnM/edit#gid=0\"\",\"\"RWA!F:BZ\"\"),48,0))\"),\"\")","v":""},{"$f":"IFERROR(__xludf.DUMMYFUNCTION(\"iferror(VLOOKUP(B689,IMPORTRANGE(\"\"https://docs.google.com/spreadsheets/d/1bphtMaJ6lFh0VVWIgQh8ZCOchBZqvj0w5rveiNYcTnM/edit#gid=0\"\",\"\"RWA!F:BZ\"\"),49,0))\"),\"\")","v":""},{"$f":"IFERROR(__xludf.DUMMYFUNCTION(\"iferror(VLOOKUP(B689,IMPORTRANGE(\"\"https://docs.google.com/spreadsheets/d/1bphtMaJ6lFh0VVWIgQh8ZCOchBZqvj0w5rveiNYcTnM/edit#gid=0\"\",\"\"RWA!F:BZ\"\"),53,0))\"),\"\")","v":""}]
[null,null,null,{"$f":"IFERROR(__xludf.DUMMYFUNCTION(\"iferror(VLOOKUP(B690,IMPORTRANGE(\"\"https://docs.google.com/spreadsheets/d/1bphtMaJ6lFh0VVWIgQh8ZCOchBZqvj0w5rveiNYcTnM/edit#gid=0\"\",\"\"RWA!F:BZ\"\"),44,0))\"),\"\")","v":""},{"$f":"IFERROR(__xludf.DUMMYFUNCTION(\"iferror(VLOOKUP(B690,IMPORTRANGE(\"\"https://docs.google.com/spreadsheets/d/1bphtMaJ6lFh0VVWIgQh8ZCOchBZqvj0w5rveiNYcTnM/edit#gid=0\"\",\"\"RWA!F:BZ\"\"),48,0))\"),\"\")","v":""},{"$f":"IFERROR(__xludf.DUMMYFUNCTION(\"iferror(VLOOKUP(B690,IMPORTRANGE(\"\"https://docs.google.com/spreadsheets/d/1bphtMaJ6lFh0VVWIgQh8ZCOchBZqvj0w5rveiNYcTnM/edit#gid=0\"\",\"\"RWA!F:BZ\"\"),49,0))\"),\"\")","v":""},{"$f":"IFERROR(__xludf.DUMMYFUNCTION(\"iferror(VLOOKUP(B690,IMPORTRANGE(\"\"https://docs.google.com/spreadsheets/d/1bphtMaJ6lFh0VVWIgQh8ZCOchBZqvj0w5rveiNYcTnM/edit#gid=0\"\",\"\"RWA!F:BZ\"\"),53,0))\"),\"\")","v":""}]
[null,null,null,{"$f":"IFERROR(__xludf.DUMMYFUNCTION(\"iferror(VLOOKUP(B691,IMPORTRANGE(\"\"https://docs.google.com/spreadsheets/d/1bphtMaJ6lFh0VVWIgQh8ZCOchBZqvj0w5rveiNYcTnM/edit#gid=0\"\",\"\"RWA!F:BZ\"\"),44,0))\"),\"\")","v":""},{"$f":"IFERROR(__xludf.DUMMYFUNCTION(\"iferror(VLOOKUP(B691,IMPORTRANGE(\"\"https://docs.google.com/spreadsheets/d/1bphtMaJ6lFh0VVWIgQh8ZCOchBZqvj0w5rveiNYcTnM/edit#gid=0\"\",\"\"RWA!F:BZ\"\"),48,0))\"),\"\")","v":""},{"$f":"IFERROR(__xludf.DUMMYFUNCTION(\"iferror(VLOOKUP(B691,IMPORTRANGE(\"\"https://docs.google.com/spreadsheets/d/1bphtMaJ6lFh0VVWIgQh8ZCOchBZqvj0w5rveiNYcTnM/edit#gid=0\"\",\"\"RWA!F:BZ\"\"),49,0))\"),\"\")","v":""},{"$f":"IFERROR(__xludf.DUMMYFUNCTION(\"iferror(VLOOKUP(B691,IMPORTRANGE(\"\"https://docs.google.com/spreadsheets/d/1bphtMaJ6lFh0VVWIgQh8ZCOchBZqvj0w5rveiNYcTnM/edit#gid=0\"\",\"\"RWA!F:BZ\"\"),53,0))\"),\"\")","v":""}]
[null,null,null,{"$f":"IFERROR(__xludf.DUMMYFUNCTION(\"iferror(VLOOKUP(B692,IMPORTRANGE(\"\"https://docs.google.com/spreadsheets/d/1bphtMaJ6lFh0VVWIgQh8ZCOchBZqvj0w5rveiNYcTnM/edit#gid=0\"\",\"\"RWA!F:BZ\"\"),44,0))\"),\"\")","v":""},{"$f":"IFERROR(__xludf.DUMMYFUNCTION(\"iferror(VLOOKUP(B692,IMPORTRANGE(\"\"https://docs.google.com/spreadsheets/d/1bphtMaJ6lFh0VVWIgQh8ZCOchBZqvj0w5rveiNYcTnM/edit#gid=0\"\",\"\"RWA!F:BZ\"\"),48,0))\"),\"\")","v":""},{"$f":"IFERROR(__xludf.DUMMYFUNCTION(\"iferror(VLOOKUP(B692,IMPORTRANGE(\"\"https://docs.google.com/spreadsheets/d/1bphtMaJ6lFh0VVWIgQh8ZCOchBZqvj0w5rveiNYcTnM/edit#gid=0\"\",\"\"RWA!F:BZ\"\"),49,0))\"),\"\")","v":""},{"$f":"IFERROR(__xludf.DUMMYFUNCTION(\"iferror(VLOOKUP(B692,IMPORTRANGE(\"\"https://docs.google.com/spreadsheets/d/1bphtMaJ6lFh0VVWIgQh8ZCOchBZqvj0w5rveiNYcTnM/edit#gid=0\"\",\"\"RWA!F:BZ\"\"),53,0))\"),\"\")","v":""}]
[null,null,null,{"$f":"IFERROR(__xludf.DUMMYFUNCTION(\"iferror(VLOOKUP(B693,IMPORTRANGE(\"\"https://docs.google.com/spreadsheets/d/1bphtMaJ6lFh0VVWIgQh8ZCOchBZqvj0w5rveiNYcTnM/edit#gid=0\"\",\"\"RWA!F:BZ\"\"),44,0))\"),\"\")","v":""},{"$f":"IFERROR(__xludf.DUMMYFUNCTION(\"iferror(VLOOKUP(B693,IMPORTRANGE(\"\"https://docs.google.com/spreadsheets/d/1bphtMaJ6lFh0VVWIgQh8ZCOchBZqvj0w5rveiNYcTnM/edit#gid=0\"\",\"\"RWA!F:BZ\"\"),48,0))\"),\"\")","v":""},{"$f":"IFERROR(__xludf.DUMMYFUNCTION(\"iferror(VLOOKUP(B693,IMPORTRANGE(\"\"https://docs.google.com/spreadsheets/d/1bphtMaJ6lFh0VVWIgQh8ZCOchBZqvj0w5rveiNYcTnM/edit#gid=0\"\",\"\"RWA!F:BZ\"\"),49,0))\"),\"\")","v":""},{"$f":"IFERROR(__xludf.DUMMYFUNCTION(\"iferror(VLOOKUP(B693,IMPORTRANGE(\"\"https://docs.google.com/spreadsheets/d/1bphtMaJ6lFh0VVWIgQh8ZCOchBZqvj0w5rveiNYcTnM/edit#gid=0\"\",\"\"RWA!F:BZ\"\"),53,0))\"),\"\")","v":""}]
[null,null,null,{"$f":"IFERROR(__xludf.DUMMYFUNCTION(\"iferror(VLOOKUP(B694,IMPORTRANGE(\"\"https://docs.google.com/spreadsheets/d/1bphtMaJ6lFh0VVWIgQh8ZCOchBZqvj0w5rveiNYcTnM/edit#gid=0\"\",\"\"RWA!F:BZ\"\"),44,0))\"),\"\")","v":""},{"$f":"IFERROR(__xludf.DUMMYFUNCTION(\"iferror(VLOOKUP(B694,IMPORTRANGE(\"\"https://docs.google.com/spreadsheets/d/1bphtMaJ6lFh0VVWIgQh8ZCOchBZqvj0w5rveiNYcTnM/edit#gid=0\"\",\"\"RWA!F:BZ\"\"),48,0))\"),\"\")","v":""},{"$f":"IFERROR(__xludf.DUMMYFUNCTION(\"iferror(VLOOKUP(B694,IMPORTRANGE(\"\"https://docs.google.com/spreadsheets/d/1bphtMaJ6lFh0VVWIgQh8ZCOchBZqvj0w5rveiNYcTnM/edit#gid=0\"\",\"\"RWA!F:BZ\"\"),49,0))\"),\"\")","v":""},{"$f":"IFERROR(__xludf.DUMMYFUNCTION(\"iferror(VLOOKUP(B694,IMPORTRANGE(\"\"https://docs.google.com/spreadsheets/d/1bphtMaJ6lFh0VVWIgQh8ZCOchBZqvj0w5rveiNYcTnM/edit#gid=0\"\",\"\"RWA!F:BZ\"\"),53,0))\"),\"\")","v":""}]
[null,null,null,{"$f":"IFERROR(__xludf.DUMMYFUNCTION(\"iferror(VLOOKUP(B695,IMPORTRANGE(\"\"https://docs.google.com/spreadsheets/d/1bphtMaJ6lFh0VVWIgQh8ZCOchBZqvj0w5rveiNYcTnM/edit#gid=0\"\",\"\"RWA!F:BZ\"\"),44,0))\"),\"\")","v":""},{"$f":"IFERROR(__xludf.DUMMYFUNCTION(\"iferror(VLOOKUP(B695,IMPORTRANGE(\"\"https://docs.google.com/spreadsheets/d/1bphtMaJ6lFh0VVWIgQh8ZCOchBZqvj0w5rveiNYcTnM/edit#gid=0\"\",\"\"RWA!F:BZ\"\"),48,0))\"),\"\")","v":""},{"$f":"IFERROR(__xludf.DUMMYFUNCTION(\"iferror(VLOOKUP(B695,IMPORTRANGE(\"\"https://docs.google.com/spreadsheets/d/1bphtMaJ6lFh0VVWIgQh8ZCOchBZqvj0w5rveiNYcTnM/edit#gid=0\"\",\"\"RWA!F:BZ\"\"),49,0))\"),\"\")","v":""},{"$f":"IFERROR(__xludf.DUMMYFUNCTION(\"iferror(VLOOKUP(B695,IMPORTRANGE(\"\"https://docs.google.com/spreadsheets/d/1bphtMaJ6lFh0VVWIgQh8ZCOchBZqvj0w5rveiNYcTnM/edit#gid=0\"\",\"\"RWA!F:BZ\"\"),53,0))\"),\"\")","v":""}]
[null,null,null,{"$f":"IFERROR(__xludf.DUMMYFUNCTION(\"iferror(VLOOKUP(B696,IMPORTRANGE(\"\"https://docs.google.com/spreadsheets/d/1bphtMaJ6lFh0VVWIgQh8ZCOchBZqvj0w5rveiNYcTnM/edit#gid=0\"\",\"\"RWA!F:BZ\"\"),44,0))\"),\"\")","v":""},{"$f":"IFERROR(__xludf.DUMMYFUNCTION(\"iferror(VLOOKUP(B696,IMPORTRANGE(\"\"https://docs.google.com/spreadsheets/d/1bphtMaJ6lFh0VVWIgQh8ZCOchBZqvj0w5rveiNYcTnM/edit#gid=0\"\",\"\"RWA!F:BZ\"\"),48,0))\"),\"\")","v":""},{"$f":"IFERROR(__xludf.DUMMYFUNCTION(\"iferror(VLOOKUP(B696,IMPORTRANGE(\"\"https://docs.google.com/spreadsheets/d/1bphtMaJ6lFh0VVWIgQh8ZCOchBZqvj0w5rveiNYcTnM/edit#gid=0\"\",\"\"RWA!F:BZ\"\"),49,0))\"),\"\")","v":""},{"$f":"IFERROR(__xludf.DUMMYFUNCTION(\"iferror(VLOOKUP(B696,IMPORTRANGE(\"\"https://docs.google.com/spreadsheets/d/1bphtMaJ6lFh0VVWIgQh8ZCOchBZqvj0w5rveiNYcTnM/edit#gid=0\"\",\"\"RWA!F:BZ\"\"),53,0))\"),\"\")","v":""}]
[null,null,null,{"$f":"IFERROR(__xludf.DUMMYFUNCTION(\"iferror(VLOOKUP(B697,IMPORTRANGE(\"\"https://docs.google.com/spreadsheets/d/1bphtMaJ6lFh0VVWIgQh8ZCOchBZqvj0w5rveiNYcTnM/edit#gid=0\"\",\"\"RWA!F:BZ\"\"),44,0))\"),\"\")","v":""},{"$f":"IFERROR(__xludf.DUMMYFUNCTION(\"iferror(VLOOKUP(B697,IMPORTRANGE(\"\"https://docs.google.com/spreadsheets/d/1bphtMaJ6lFh0VVWIgQh8ZCOchBZqvj0w5rveiNYcTnM/edit#gid=0\"\",\"\"RWA!F:BZ\"\"),48,0))\"),\"\")","v":""},{"$f":"IFERROR(__xludf.DUMMYFUNCTION(\"iferror(VLOOKUP(B697,IMPORTRANGE(\"\"https://docs.google.com/spreadsheets/d/1bphtMaJ6lFh0VVWIgQh8ZCOchBZqvj0w5rveiNYcTnM/edit#gid=0\"\",\"\"RWA!F:BZ\"\"),49,0))\"),\"\")","v":""},{"$f":"IFERROR(__xludf.DUMMYFUNCTION(\"iferror(VLOOKUP(B697,IMPORTRANGE(\"\"https://docs.google.com/spreadsheets/d/1bphtMaJ6lFh0VVWIgQh8ZCOchBZqvj0w5rveiNYcTnM/edit#gid=0\"\",\"\"RWA!F:BZ\"\"),53,0))\"),\"\")","v":""}]
[null,null,null,{"$f":"IFERROR(__xludf.DUMMYFUNCTION(\"iferror(VLOOKUP(B698,IMPORTRANGE(\"\"https://docs.google.com/spreadsheets/d/1bphtMaJ6lFh0VVWIgQh8ZCOchBZqvj0w5rveiNYcTnM/edit#gid=0\"\",\"\"RWA!F:BZ\"\"),44,0))\"),\"\")","v":""},{"$f":"IFERROR(__xludf.DUMMYFUNCTION(\"iferror(VLOOKUP(B698,IMPORTRANGE(\"\"https://docs.google.com/spreadsheets/d/1bphtMaJ6lFh0VVWIgQh8ZCOchBZqvj0w5rveiNYcTnM/edit#gid=0\"\",\"\"RWA!F:BZ\"\"),48,0))\"),\"\")","v":""},{"$f":"IFERROR(__xludf.DUMMYFUNCTION(\"iferror(VLOOKUP(B698,IMPORTRANGE(\"\"https://docs.google.com/spreadsheets/d/1bphtMaJ6lFh0VVWIgQh8ZCOchBZqvj0w5rveiNYcTnM/edit#gid=0\"\",\"\"RWA!F:BZ\"\"),49,0))\"),\"\")","v":""},{"$f":"IFERROR(__xludf.DUMMYFUNCTION(\"iferror(VLOOKUP(B698,IMPORTRANGE(\"\"https://docs.google.com/spreadsheets/d/1bphtMaJ6lFh0VVWIgQh8ZCOchBZqvj0w5rveiNYcTnM/edit#gid=0\"\",\"\"RWA!F:BZ\"\"),53,0))\"),\"\")","v":""}]
[null,null,null,{"$f":"IFERROR(__xludf.DUMMYFUNCTION(\"iferror(VLOOKUP(B699,IMPORTRANGE(\"\"https://docs.google.com/spreadsheets/d/1bphtMaJ6lFh0VVWIgQh8ZCOchBZqvj0w5rveiNYcTnM/edit#gid=0\"\",\"\"RWA!F:BZ\"\"),44,0))\"),\"\")","v":""},{"$f":"IFERROR(__xludf.DUMMYFUNCTION(\"iferror(VLOOKUP(B699,IMPORTRANGE(\"\"https://docs.google.com/spreadsheets/d/1bphtMaJ6lFh0VVWIgQh8ZCOchBZqvj0w5rveiNYcTnM/edit#gid=0\"\",\"\"RWA!F:BZ\"\"),48,0))\"),\"\")","v":""},{"$f":"IFERROR(__xludf.DUMMYFUNCTION(\"iferror(VLOOKUP(B699,IMPORTRANGE(\"\"https://docs.google.com/spreadsheets/d/1bphtMaJ6lFh0VVWIgQh8ZCOchBZqvj0w5rveiNYcTnM/edit#gid=0\"\",\"\"RWA!F:BZ\"\"),49,0))\"),\"\")","v":""},{"$f":"IFERROR(__xludf.DUMMYFUNCTION(\"iferror(VLOOKUP(B699,IMPORTRANGE(\"\"https://docs.google.com/spreadsheets/d/1bphtMaJ6lFh0VVWIgQh8ZCOchBZqvj0w5rveiNYcTnM/edit#gid=0\"\",\"\"RWA!F:BZ\"\"),53,0))\"),\"\")","v":""}]
[null,null,null,{"$f":"IFERROR(__xludf.DUMMYFUNCTION(\"iferror(VLOOKUP(B700,IMPORTRANGE(\"\"https://docs.google.com/spreadsheets/d/1bphtMaJ6lFh0VVWIgQh8ZCOchBZqvj0w5rveiNYcTnM/edit#gid=0\"\",\"\"RWA!F:BZ\"\"),44,0))\"),\"\")","v":""},{"$f":"IFERROR(__xludf.DUMMYFUNCTION(\"iferror(VLOOKUP(B700,IMPORTRANGE(\"\"https://docs.google.com/spreadsheets/d/1bphtMaJ6lFh0VVWIgQh8ZCOchBZqvj0w5rveiNYcTnM/edit#gid=0\"\",\"\"RWA!F:BZ\"\"),48,0))\"),\"\")","v":""},{"$f":"IFERROR(__xludf.DUMMYFUNCTION(\"iferror(VLOOKUP(B700,IMPORTRANGE(\"\"https://docs.google.com/spreadsheets/d/1bphtMaJ6lFh0VVWIgQh8ZCOchBZqvj0w5rveiNYcTnM/edit#gid=0\"\",\"\"RWA!F:BZ\"\"),49,0))\"),\"\")","v":""},{"$f":"IFERROR(__xludf.DUMMYFUNCTION(\"iferror(VLOOKUP(B700,IMPORTRANGE(\"\"https://docs.google.com/spreadsheets/d/1bphtMaJ6lFh0VVWIgQh8ZCOchBZqvj0w5rveiNYcTnM/edit#gid=0\"\",\"\"RWA!F:BZ\"\"),53,0))\"),\"\")","v":""}]
[null,null,null,{"$f":"IFERROR(__xludf.DUMMYFUNCTION(\"iferror(VLOOKUP(B701,IMPORTRANGE(\"\"https://docs.google.com/spreadsheets/d/1bphtMaJ6lFh0VVWIgQh8ZCOchBZqvj0w5rveiNYcTnM/edit#gid=0\"\",\"\"RWA!F:BZ\"\"),44,0))\"),\"\")","v":""},{"$f":"IFERROR(__xludf.DUMMYFUNCTION(\"iferror(VLOOKUP(B701,IMPORTRANGE(\"\"https://docs.google.com/spreadsheets/d/1bphtMaJ6lFh0VVWIgQh8ZCOchBZqvj0w5rveiNYcTnM/edit#gid=0\"\",\"\"RWA!F:BZ\"\"),48,0))\"),\"\")","v":""},{"$f":"IFERROR(__xludf.DUMMYFUNCTION(\"iferror(VLOOKUP(B701,IMPORTRANGE(\"\"https://docs.google.com/spreadsheets/d/1bphtMaJ6lFh0VVWIgQh8ZCOchBZqvj0w5rveiNYcTnM/edit#gid=0\"\",\"\"RWA!F:BZ\"\"),49,0))\"),\"\")","v":""},{"$f":"IFERROR(__xludf.DUMMYFUNCTION(\"iferror(VLOOKUP(B701,IMPORTRANGE(\"\"https://docs.google.com/spreadsheets/d/1bphtMaJ6lFh0VVWIgQh8ZCOchBZqvj0w5rveiNYcTnM/edit#gid=0\"\",\"\"RWA!F:BZ\"\"),53,0))\"),\"\")","v":""}]
[null,null,null,{"$f":"IFERROR(__xludf.DUMMYFUNCTION(\"iferror(VLOOKUP(B702,IMPORTRANGE(\"\"https://docs.google.com/spreadsheets/d/1bphtMaJ6lFh0VVWIgQh8ZCOchBZqvj0w5rveiNYcTnM/edit#gid=0\"\",\"\"RWA!F:BZ\"\"),44,0))\"),\"\")","v":""},{"$f":"IFERROR(__xludf.DUMMYFUNCTION(\"iferror(VLOOKUP(B702,IMPORTRANGE(\"\"https://docs.google.com/spreadsheets/d/1bphtMaJ6lFh0VVWIgQh8ZCOchBZqvj0w5rveiNYcTnM/edit#gid=0\"\",\"\"RWA!F:BZ\"\"),48,0))\"),\"\")","v":""},{"$f":"IFERROR(__xludf.DUMMYFUNCTION(\"iferror(VLOOKUP(B702,IMPORTRANGE(\"\"https://docs.google.com/spreadsheets/d/1bphtMaJ6lFh0VVWIgQh8ZCOchBZqvj0w5rveiNYcTnM/edit#gid=0\"\",\"\"RWA!F:BZ\"\"),49,0))\"),\"\")","v":""},{"$f":"IFERROR(__xludf.DUMMYFUNCTION(\"iferror(VLOOKUP(B702,IMPORTRANGE(\"\"https://docs.google.com/spreadsheets/d/1bphtMaJ6lFh0VVWIgQh8ZCOchBZqvj0w5rveiNYcTnM/edit#gid=0\"\",\"\"RWA!F:BZ\"\"),53,0))\"),\"\")","v":""}]
[null,null,null,{"$f":"IFERROR(__xludf.DUMMYFUNCTION(\"iferror(VLOOKUP(B703,IMPORTRANGE(\"\"https://docs.google.com/spreadsheets/d/1bphtMaJ6lFh0VVWIgQh8ZCOchBZqvj0w5rveiNYcTnM/edit#gid=0\"\",\"\"RWA!F:BZ\"\"),44,0))\"),\"\")","v":""},{"$f":"IFERROR(__xludf.DUMMYFUNCTION(\"iferror(VLOOKUP(B703,IMPORTRANGE(\"\"https://docs.google.com/spreadsheets/d/1bphtMaJ6lFh0VVWIgQh8ZCOchBZqvj0w5rveiNYcTnM/edit#gid=0\"\",\"\"RWA!F:BZ\"\"),48,0))\"),\"\")","v":""},{"$f":"IFERROR(__xludf.DUMMYFUNCTION(\"iferror(VLOOKUP(B703,IMPORTRANGE(\"\"https://docs.google.com/spreadsheets/d/1bphtMaJ6lFh0VVWIgQh8ZCOchBZqvj0w5rveiNYcTnM/edit#gid=0\"\",\"\"RWA!F:BZ\"\"),49,0))\"),\"\")","v":""},{"$f":"IFERROR(__xludf.DUMMYFUNCTION(\"iferror(VLOOKUP(B703,IMPORTRANGE(\"\"https://docs.google.com/spreadsheets/d/1bphtMaJ6lFh0VVWIgQh8ZCOchBZqvj0w5rveiNYcTnM/edit#gid=0\"\",\"\"RWA!F:BZ\"\"),53,0))\"),\"\")","v":""}]
[null,null,null,{"$f":"IFERROR(__xludf.DUMMYFUNCTION(\"iferror(VLOOKUP(B704,IMPORTRANGE(\"\"https://docs.google.com/spreadsheets/d/1bphtMaJ6lFh0VVWIgQh8ZCOchBZqvj0w5rveiNYcTnM/edit#gid=0\"\",\"\"RWA!F:BZ\"\"),44,0))\"),\"\")","v":""},{"$f":"IFERROR(__xludf.DUMMYFUNCTION(\"iferror(VLOOKUP(B704,IMPORTRANGE(\"\"https://docs.google.com/spreadsheets/d/1bphtMaJ6lFh0VVWIgQh8ZCOchBZqvj0w5rveiNYcTnM/edit#gid=0\"\",\"\"RWA!F:BZ\"\"),48,0))\"),\"\")","v":""},{"$f":"IFERROR(__xludf.DUMMYFUNCTION(\"iferror(VLOOKUP(B704,IMPORTRANGE(\"\"https://docs.google.com/spreadsheets/d/1bphtMaJ6lFh0VVWIgQh8ZCOchBZqvj0w5rveiNYcTnM/edit#gid=0\"\",\"\"RWA!F:BZ\"\"),49,0))\"),\"\")","v":""},{"$f":"IFERROR(__xludf.DUMMYFUNCTION(\"iferror(VLOOKUP(B704,IMPORTRANGE(\"\"https://docs.google.com/spreadsheets/d/1bphtMaJ6lFh0VVWIgQh8ZCOchBZqvj0w5rveiNYcTnM/edit#gid=0\"\",\"\"RWA!F:BZ\"\"),53,0))\"),\"\")","v":""}]
[null,null,null,{"$f":"IFERROR(__xludf.DUMMYFUNCTION(\"iferror(VLOOKUP(B705,IMPORTRANGE(\"\"https://docs.google.com/spreadsheets/d/1bphtMaJ6lFh0VVWIgQh8ZCOchBZqvj0w5rveiNYcTnM/edit#gid=0\"\",\"\"RWA!F:BZ\"\"),44,0))\"),\"\")","v":""},{"$f":"IFERROR(__xludf.DUMMYFUNCTION(\"iferror(VLOOKUP(B705,IMPORTRANGE(\"\"https://docs.google.com/spreadsheets/d/1bphtMaJ6lFh0VVWIgQh8ZCOchBZqvj0w5rveiNYcTnM/edit#gid=0\"\",\"\"RWA!F:BZ\"\"),48,0))\"),\"\")","v":""},{"$f":"IFERROR(__xludf.DUMMYFUNCTION(\"iferror(VLOOKUP(B705,IMPORTRANGE(\"\"https://docs.google.com/spreadsheets/d/1bphtMaJ6lFh0VVWIgQh8ZCOchBZqvj0w5rveiNYcTnM/edit#gid=0\"\",\"\"RWA!F:BZ\"\"),49,0))\"),\"\")","v":""},{"$f":"IFERROR(__xludf.DUMMYFUNCTION(\"iferror(VLOOKUP(B705,IMPORTRANGE(\"\"https://docs.google.com/spreadsheets/d/1bphtMaJ6lFh0VVWIgQh8ZCOchBZqvj0w5rveiNYcTnM/edit#gid=0\"\",\"\"RWA!F:BZ\"\"),53,0))\"),\"\")","v":""}]
[null,null,null,{"$f":"IFERROR(__xludf.DUMMYFUNCTION(\"iferror(VLOOKUP(B706,IMPORTRANGE(\"\"https://docs.google.com/spreadsheets/d/1bphtMaJ6lFh0VVWIgQh8ZCOchBZqvj0w5rveiNYcTnM/edit#gid=0\"\",\"\"RWA!F:BZ\"\"),44,0))\"),\"\")","v":""},{"$f":"IFERROR(__xludf.DUMMYFUNCTION(\"iferror(VLOOKUP(B706,IMPORTRANGE(\"\"https://docs.google.com/spreadsheets/d/1bphtMaJ6lFh0VVWIgQh8ZCOchBZqvj0w5rveiNYcTnM/edit#gid=0\"\",\"\"RWA!F:BZ\"\"),48,0))\"),\"\")","v":""},{"$f":"IFERROR(__xludf.DUMMYFUNCTION(\"iferror(VLOOKUP(B706,IMPORTRANGE(\"\"https://docs.google.com/spreadsheets/d/1bphtMaJ6lFh0VVWIgQh8ZCOchBZqvj0w5rveiNYcTnM/edit#gid=0\"\",\"\"RWA!F:BZ\"\"),49,0))\"),\"\")","v":""},{"$f":"IFERROR(__xludf.DUMMYFUNCTION(\"iferror(VLOOKUP(B706,IMPORTRANGE(\"\"https://docs.google.com/spreadsheets/d/1bphtMaJ6lFh0VVWIgQh8ZCOchBZqvj0w5rveiNYcTnM/edit#gid=0\"\",\"\"RWA!F:BZ\"\"),53,0))\"),\"\")","v":""}]
[null,null,null,{"$f":"IFERROR(__xludf.DUMMYFUNCTION(\"iferror(VLOOKUP(B707,IMPORTRANGE(\"\"https://docs.google.com/spreadsheets/d/1bphtMaJ6lFh0VVWIgQh8ZCOchBZqvj0w5rveiNYcTnM/edit#gid=0\"\",\"\"RWA!F:BZ\"\"),44,0))\"),\"\")","v":""},{"$f":"IFERROR(__xludf.DUMMYFUNCTION(\"iferror(VLOOKUP(B707,IMPORTRANGE(\"\"https://docs.google.com/spreadsheets/d/1bphtMaJ6lFh0VVWIgQh8ZCOchBZqvj0w5rveiNYcTnM/edit#gid=0\"\",\"\"RWA!F:BZ\"\"),48,0))\"),\"\")","v":""},{"$f":"IFERROR(__xludf.DUMMYFUNCTION(\"iferror(VLOOKUP(B707,IMPORTRANGE(\"\"https://docs.google.com/spreadsheets/d/1bphtMaJ6lFh0VVWIgQh8ZCOchBZqvj0w5rveiNYcTnM/edit#gid=0\"\",\"\"RWA!F:BZ\"\"),49,0))\"),\"\")","v":""},{"$f":"IFERROR(__xludf.DUMMYFUNCTION(\"iferror(VLOOKUP(B707,IMPORTRANGE(\"\"https://docs.google.com/spreadsheets/d/1bphtMaJ6lFh0VVWIgQh8ZCOchBZqvj0w5rveiNYcTnM/edit#gid=0\"\",\"\"RWA!F:BZ\"\"),53,0))\"),\"\")","v":""}]
[null,null,null,{"$f":"IFERROR(__xludf.DUMMYFUNCTION(\"iferror(VLOOKUP(B708,IMPORTRANGE(\"\"https://docs.google.com/spreadsheets/d/1bphtMaJ6lFh0VVWIgQh8ZCOchBZqvj0w5rveiNYcTnM/edit#gid=0\"\",\"\"RWA!F:BZ\"\"),44,0))\"),\"\")","v":""},{"$f":"IFERROR(__xludf.DUMMYFUNCTION(\"iferror(VLOOKUP(B708,IMPORTRANGE(\"\"https://docs.google.com/spreadsheets/d/1bphtMaJ6lFh0VVWIgQh8ZCOchBZqvj0w5rveiNYcTnM/edit#gid=0\"\",\"\"RWA!F:BZ\"\"),48,0))\"),\"\")","v":""},{"$f":"IFERROR(__xludf.DUMMYFUNCTION(\"iferror(VLOOKUP(B708,IMPORTRANGE(\"\"https://docs.google.com/spreadsheets/d/1bphtMaJ6lFh0VVWIgQh8ZCOchBZqvj0w5rveiNYcTnM/edit#gid=0\"\",\"\"RWA!F:BZ\"\"),49,0))\"),\"\")","v":""},{"$f":"IFERROR(__xludf.DUMMYFUNCTION(\"iferror(VLOOKUP(B708,IMPORTRANGE(\"\"https://docs.google.com/spreadsheets/d/1bphtMaJ6lFh0VVWIgQh8ZCOchBZqvj0w5rveiNYcTnM/edit#gid=0\"\",\"\"RWA!F:BZ\"\"),53,0))\"),\"\")","v":""}]
[null,null,null,{"$f":"IFERROR(__xludf.DUMMYFUNCTION(\"iferror(VLOOKUP(B709,IMPORTRANGE(\"\"https://docs.google.com/spreadsheets/d/1bphtMaJ6lFh0VVWIgQh8ZCOchBZqvj0w5rveiNYcTnM/edit#gid=0\"\",\"\"RWA!F:BZ\"\"),44,0))\"),\"\")","v":""},{"$f":"IFERROR(__xludf.DUMMYFUNCTION(\"iferror(VLOOKUP(B709,IMPORTRANGE(\"\"https://docs.google.com/spreadsheets/d/1bphtMaJ6lFh0VVWIgQh8ZCOchBZqvj0w5rveiNYcTnM/edit#gid=0\"\",\"\"RWA!F:BZ\"\"),48,0))\"),\"\")","v":""},{"$f":"IFERROR(__xludf.DUMMYFUNCTION(\"iferror(VLOOKUP(B709,IMPORTRANGE(\"\"https://docs.google.com/spreadsheets/d/1bphtMaJ6lFh0VVWIgQh8ZCOchBZqvj0w5rveiNYcTnM/edit#gid=0\"\",\"\"RWA!F:BZ\"\"),49,0))\"),\"\")","v":""},{"$f":"IFERROR(__xludf.DUMMYFUNCTION(\"iferror(VLOOKUP(B709,IMPORTRANGE(\"\"https://docs.google.com/spreadsheets/d/1bphtMaJ6lFh0VVWIgQh8ZCOchBZqvj0w5rveiNYcTnM/edit#gid=0\"\",\"\"RWA!F:BZ\"\"),53,0))\"),\"\")","v":""}]
[null,null,null,{"$f":"IFERROR(__xludf.DUMMYFUNCTION(\"iferror(VLOOKUP(B710,IMPORTRANGE(\"\"https://docs.google.com/spreadsheets/d/1bphtMaJ6lFh0VVWIgQh8ZCOchBZqvj0w5rveiNYcTnM/edit#gid=0\"\",\"\"RWA!F:BZ\"\"),44,0))\"),\"\")","v":""},{"$f":"IFERROR(__xludf.DUMMYFUNCTION(\"iferror(VLOOKUP(B710,IMPORTRANGE(\"\"https://docs.google.com/spreadsheets/d/1bphtMaJ6lFh0VVWIgQh8ZCOchBZqvj0w5rveiNYcTnM/edit#gid=0\"\",\"\"RWA!F:BZ\"\"),48,0))\"),\"\")","v":""},{"$f":"IFERROR(__xludf.DUMMYFUNCTION(\"iferror(VLOOKUP(B710,IMPORTRANGE(\"\"https://docs.google.com/spreadsheets/d/1bphtMaJ6lFh0VVWIgQh8ZCOchBZqvj0w5rveiNYcTnM/edit#gid=0\"\",\"\"RWA!F:BZ\"\"),49,0))\"),\"\")","v":""},{"$f":"IFERROR(__xludf.DUMMYFUNCTION(\"iferror(VLOOKUP(B710,IMPORTRANGE(\"\"https://docs.google.com/spreadsheets/d/1bphtMaJ6lFh0VVWIgQh8ZCOchBZqvj0w5rveiNYcTnM/edit#gid=0\"\",\"\"RWA!F:BZ\"\"),53,0))\"),\"\")","v":""}]
[null,null,null,{"$f":"IFERROR(__xludf.DUMMYFUNCTION(\"iferror(VLOOKUP(B711,IMPORTRANGE(\"\"https://docs.google.com/spreadsheets/d/1bphtMaJ6lFh0VVWIgQh8ZCOchBZqvj0w5rveiNYcTnM/edit#gid=0\"\",\"\"RWA!F:BZ\"\"),44,0))\"),\"\")","v":""},{"$f":"IFERROR(__xludf.DUMMYFUNCTION(\"iferror(VLOOKUP(B711,IMPORTRANGE(\"\"https://docs.google.com/spreadsheets/d/1bphtMaJ6lFh0VVWIgQh8ZCOchBZqvj0w5rveiNYcTnM/edit#gid=0\"\",\"\"RWA!F:BZ\"\"),48,0))\"),\"\")","v":""},{"$f":"IFERROR(__xludf.DUMMYFUNCTION(\"iferror(VLOOKUP(B711,IMPORTRANGE(\"\"https://docs.google.com/spreadsheets/d/1bphtMaJ6lFh0VVWIgQh8ZCOchBZqvj0w5rveiNYcTnM/edit#gid=0\"\",\"\"RWA!F:BZ\"\"),49,0))\"),\"\")","v":""},{"$f":"IFERROR(__xludf.DUMMYFUNCTION(\"iferror(VLOOKUP(B711,IMPORTRANGE(\"\"https://docs.google.com/spreadsheets/d/1bphtMaJ6lFh0VVWIgQh8ZCOchBZqvj0w5rveiNYcTnM/edit#gid=0\"\",\"\"RWA!F:BZ\"\"),53,0))\"),\"\")","v":""}]
[null,null,null,{"$f":"IFERROR(__xludf.DUMMYFUNCTION(\"iferror(VLOOKUP(B712,IMPORTRANGE(\"\"https://docs.google.com/spreadsheets/d/1bphtMaJ6lFh0VVWIgQh8ZCOchBZqvj0w5rveiNYcTnM/edit#gid=0\"\",\"\"RWA!F:BZ\"\"),44,0))\"),\"\")","v":""},{"$f":"IFERROR(__xludf.DUMMYFUNCTION(\"iferror(VLOOKUP(B712,IMPORTRANGE(\"\"https://docs.google.com/spreadsheets/d/1bphtMaJ6lFh0VVWIgQh8ZCOchBZqvj0w5rveiNYcTnM/edit#gid=0\"\",\"\"RWA!F:BZ\"\"),48,0))\"),\"\")","v":""},{"$f":"IFERROR(__xludf.DUMMYFUNCTION(\"iferror(VLOOKUP(B712,IMPORTRANGE(\"\"https://docs.google.com/spreadsheets/d/1bphtMaJ6lFh0VVWIgQh8ZCOchBZqvj0w5rveiNYcTnM/edit#gid=0\"\",\"\"RWA!F:BZ\"\"),49,0))\"),\"\")","v":""},{"$f":"IFERROR(__xludf.DUMMYFUNCTION(\"iferror(VLOOKUP(B712,IMPORTRANGE(\"\"https://docs.google.com/spreadsheets/d/1bphtMaJ6lFh0VVWIgQh8ZCOchBZqvj0w5rveiNYcTnM/edit#gid=0\"\",\"\"RWA!F:BZ\"\"),53,0))\"),\"\")","v":""}]
[null,null,null,{"$f":"IFERROR(__xludf.DUMMYFUNCTION(\"iferror(VLOOKUP(B713,IMPORTRANGE(\"\"https://docs.google.com/spreadsheets/d/1bphtMaJ6lFh0VVWIgQh8ZCOchBZqvj0w5rveiNYcTnM/edit#gid=0\"\",\"\"RWA!F:BZ\"\"),44,0))\"),\"\")","v":""},{"$f":"IFERROR(__xludf.DUMMYFUNCTION(\"iferror(VLOOKUP(B713,IMPORTRANGE(\"\"https://docs.google.com/spreadsheets/d/1bphtMaJ6lFh0VVWIgQh8ZCOchBZqvj0w5rveiNYcTnM/edit#gid=0\"\",\"\"RWA!F:BZ\"\"),48,0))\"),\"\")","v":""},{"$f":"IFERROR(__xludf.DUMMYFUNCTION(\"iferror(VLOOKUP(B713,IMPORTRANGE(\"\"https://docs.google.com/spreadsheets/d/1bphtMaJ6lFh0VVWIgQh8ZCOchBZqvj0w5rveiNYcTnM/edit#gid=0\"\",\"\"RWA!F:BZ\"\"),49,0))\"),\"\")","v":""},{"$f":"IFERROR(__xludf.DUMMYFUNCTION(\"iferror(VLOOKUP(B713,IMPORTRANGE(\"\"https://docs.google.com/spreadsheets/d/1bphtMaJ6lFh0VVWIgQh8ZCOchBZqvj0w5rveiNYcTnM/edit#gid=0\"\",\"\"RWA!F:BZ\"\"),53,0))\"),\"\")","v":""}]
[null,null,null,{"$f":"IFERROR(__xludf.DUMMYFUNCTION(\"iferror(VLOOKUP(B714,IMPORTRANGE(\"\"https://docs.google.com/spreadsheets/d/1bphtMaJ6lFh0VVWIgQh8ZCOchBZqvj0w5rveiNYcTnM/edit#gid=0\"\",\"\"RWA!F:BZ\"\"),44,0))\"),\"\")","v":""},{"$f":"IFERROR(__xludf.DUMMYFUNCTION(\"iferror(VLOOKUP(B714,IMPORTRANGE(\"\"https://docs.google.com/spreadsheets/d/1bphtMaJ6lFh0VVWIgQh8ZCOchBZqvj0w5rveiNYcTnM/edit#gid=0\"\",\"\"RWA!F:BZ\"\"),48,0))\"),\"\")","v":""},{"$f":"IFERROR(__xludf.DUMMYFUNCTION(\"iferror(VLOOKUP(B714,IMPORTRANGE(\"\"https://docs.google.com/spreadsheets/d/1bphtMaJ6lFh0VVWIgQh8ZCOchBZqvj0w5rveiNYcTnM/edit#gid=0\"\",\"\"RWA!F:BZ\"\"),49,0))\"),\"\")","v":""},{"$f":"IFERROR(__xludf.DUMMYFUNCTION(\"iferror(VLOOKUP(B714,IMPORTRANGE(\"\"https://docs.google.com/spreadsheets/d/1bphtMaJ6lFh0VVWIgQh8ZCOchBZqvj0w5rveiNYcTnM/edit#gid=0\"\",\"\"RWA!F:BZ\"\"),53,0))\"),\"\")","v":""}]
[null,null,null,{"$f":"IFERROR(__xludf.DUMMYFUNCTION(\"iferror(VLOOKUP(B715,IMPORTRANGE(\"\"https://docs.google.com/spreadsheets/d/1bphtMaJ6lFh0VVWIgQh8ZCOchBZqvj0w5rveiNYcTnM/edit#gid=0\"\",\"\"RWA!F:BZ\"\"),44,0))\"),\"\")","v":""},{"$f":"IFERROR(__xludf.DUMMYFUNCTION(\"iferror(VLOOKUP(B715,IMPORTRANGE(\"\"https://docs.google.com/spreadsheets/d/1bphtMaJ6lFh0VVWIgQh8ZCOchBZqvj0w5rveiNYcTnM/edit#gid=0\"\",\"\"RWA!F:BZ\"\"),48,0))\"),\"\")","v":""},{"$f":"IFERROR(__xludf.DUMMYFUNCTION(\"iferror(VLOOKUP(B715,IMPORTRANGE(\"\"https://docs.google.com/spreadsheets/d/1bphtMaJ6lFh0VVWIgQh8ZCOchBZqvj0w5rveiNYcTnM/edit#gid=0\"\",\"\"RWA!F:BZ\"\"),49,0))\"),\"\")","v":""},{"$f":"IFERROR(__xludf.DUMMYFUNCTION(\"iferror(VLOOKUP(B715,IMPORTRANGE(\"\"https://docs.google.com/spreadsheets/d/1bphtMaJ6lFh0VVWIgQh8ZCOchBZqvj0w5rveiNYcTnM/edit#gid=0\"\",\"\"RWA!F:BZ\"\"),53,0))\"),\"\")","v":""}]
[null,null,null,{"$f":"IFERROR(__xludf.DUMMYFUNCTION(\"iferror(VLOOKUP(B716,IMPORTRANGE(\"\"https://docs.google.com/spreadsheets/d/1bphtMaJ6lFh0VVWIgQh8ZCOchBZqvj0w5rveiNYcTnM/edit#gid=0\"\",\"\"RWA!F:BZ\"\"),44,0))\"),\"\")","v":""},{"$f":"IFERROR(__xludf.DUMMYFUNCTION(\"iferror(VLOOKUP(B716,IMPORTRANGE(\"\"https://docs.google.com/spreadsheets/d/1bphtMaJ6lFh0VVWIgQh8ZCOchBZqvj0w5rveiNYcTnM/edit#gid=0\"\",\"\"RWA!F:BZ\"\"),48,0))\"),\"\")","v":""},{"$f":"IFERROR(__xludf.DUMMYFUNCTION(\"iferror(VLOOKUP(B716,IMPORTRANGE(\"\"https://docs.google.com/spreadsheets/d/1bphtMaJ6lFh0VVWIgQh8ZCOchBZqvj0w5rveiNYcTnM/edit#gid=0\"\",\"\"RWA!F:BZ\"\"),49,0))\"),\"\")","v":""},{"$f":"IFERROR(__xludf.DUMMYFUNCTION(\"iferror(VLOOKUP(B716,IMPORTRANGE(\"\"https://docs.google.com/spreadsheets/d/1bphtMaJ6lFh0VVWIgQh8ZCOchBZqvj0w5rveiNYcTnM/edit#gid=0\"\",\"\"RWA!F:BZ\"\"),53,0))\"),\"\")","v":""}]
[null,null,null,{"$f":"IFERROR(__xludf.DUMMYFUNCTION(\"iferror(VLOOKUP(B717,IMPORTRANGE(\"\"https://docs.google.com/spreadsheets/d/1bphtMaJ6lFh0VVWIgQh8ZCOchBZqvj0w5rveiNYcTnM/edit#gid=0\"\",\"\"RWA!F:BZ\"\"),44,0))\"),\"\")","v":""},{"$f":"IFERROR(__xludf.DUMMYFUNCTION(\"iferror(VLOOKUP(B717,IMPORTRANGE(\"\"https://docs.google.com/spreadsheets/d/1bphtMaJ6lFh0VVWIgQh8ZCOchBZqvj0w5rveiNYcTnM/edit#gid=0\"\",\"\"RWA!F:BZ\"\"),48,0))\"),\"\")","v":""},{"$f":"IFERROR(__xludf.DUMMYFUNCTION(\"iferror(VLOOKUP(B717,IMPORTRANGE(\"\"https://docs.google.com/spreadsheets/d/1bphtMaJ6lFh0VVWIgQh8ZCOchBZqvj0w5rveiNYcTnM/edit#gid=0\"\",\"\"RWA!F:BZ\"\"),49,0))\"),\"\")","v":""},{"$f":"IFERROR(__xludf.DUMMYFUNCTION(\"iferror(VLOOKUP(B717,IMPORTRANGE(\"\"https://docs.google.com/spreadsheets/d/1bphtMaJ6lFh0VVWIgQh8ZCOchBZqvj0w5rveiNYcTnM/edit#gid=0\"\",\"\"RWA!F:BZ\"\"),53,0))\"),\"\")","v":""}]
[null,null,null,{"$f":"IFERROR(__xludf.DUMMYFUNCTION(\"iferror(VLOOKUP(B718,IMPORTRANGE(\"\"https://docs.google.com/spreadsheets/d/1bphtMaJ6lFh0VVWIgQh8ZCOchBZqvj0w5rveiNYcTnM/edit#gid=0\"\",\"\"RWA!F:BZ\"\"),44,0))\"),\"\")","v":""},{"$f":"IFERROR(__xludf.DUMMYFUNCTION(\"iferror(VLOOKUP(B718,IMPORTRANGE(\"\"https://docs.google.com/spreadsheets/d/1bphtMaJ6lFh0VVWIgQh8ZCOchBZqvj0w5rveiNYcTnM/edit#gid=0\"\",\"\"RWA!F:BZ\"\"),48,0))\"),\"\")","v":""},{"$f":"IFERROR(__xludf.DUMMYFUNCTION(\"iferror(VLOOKUP(B718,IMPORTRANGE(\"\"https://docs.google.com/spreadsheets/d/1bphtMaJ6lFh0VVWIgQh8ZCOchBZqvj0w5rveiNYcTnM/edit#gid=0\"\",\"\"RWA!F:BZ\"\"),49,0))\"),\"\")","v":""},{"$f":"IFERROR(__xludf.DUMMYFUNCTION(\"iferror(VLOOKUP(B718,IMPORTRANGE(\"\"https://docs.google.com/spreadsheets/d/1bphtMaJ6lFh0VVWIgQh8ZCOchBZqvj0w5rveiNYcTnM/edit#gid=0\"\",\"\"RWA!F:BZ\"\"),53,0))\"),\"\")","v":""}]
[null,null,null,{"$f":"IFERROR(__xludf.DUMMYFUNCTION(\"iferror(VLOOKUP(B719,IMPORTRANGE(\"\"https://docs.google.com/spreadsheets/d/1bphtMaJ6lFh0VVWIgQh8ZCOchBZqvj0w5rveiNYcTnM/edit#gid=0\"\",\"\"RWA!F:BZ\"\"),44,0))\"),\"\")","v":""},{"$f":"IFERROR(__xludf.DUMMYFUNCTION(\"iferror(VLOOKUP(B719,IMPORTRANGE(\"\"https://docs.google.com/spreadsheets/d/1bphtMaJ6lFh0VVWIgQh8ZCOchBZqvj0w5rveiNYcTnM/edit#gid=0\"\",\"\"RWA!F:BZ\"\"),48,0))\"),\"\")","v":""},{"$f":"IFERROR(__xludf.DUMMYFUNCTION(\"iferror(VLOOKUP(B719,IMPORTRANGE(\"\"https://docs.google.com/spreadsheets/d/1bphtMaJ6lFh0VVWIgQh8ZCOchBZqvj0w5rveiNYcTnM/edit#gid=0\"\",\"\"RWA!F:BZ\"\"),49,0))\"),\"\")","v":""},{"$f":"IFERROR(__xludf.DUMMYFUNCTION(\"iferror(VLOOKUP(B719,IMPORTRANGE(\"\"https://docs.google.com/spreadsheets/d/1bphtMaJ6lFh0VVWIgQh8ZCOchBZqvj0w5rveiNYcTnM/edit#gid=0\"\",\"\"RWA!F:BZ\"\"),53,0))\"),\"\")","v":""}]
[null,null,null,{"$f":"IFERROR(__xludf.DUMMYFUNCTION(\"iferror(VLOOKUP(B720,IMPORTRANGE(\"\"https://docs.google.com/spreadsheets/d/1bphtMaJ6lFh0VVWIgQh8ZCOchBZqvj0w5rveiNYcTnM/edit#gid=0\"\",\"\"RWA!F:BZ\"\"),44,0))\"),\"\")","v":""},{"$f":"IFERROR(__xludf.DUMMYFUNCTION(\"iferror(VLOOKUP(B720,IMPORTRANGE(\"\"https://docs.google.com/spreadsheets/d/1bphtMaJ6lFh0VVWIgQh8ZCOchBZqvj0w5rveiNYcTnM/edit#gid=0\"\",\"\"RWA!F:BZ\"\"),48,0))\"),\"\")","v":""},{"$f":"IFERROR(__xludf.DUMMYFUNCTION(\"iferror(VLOOKUP(B720,IMPORTRANGE(\"\"https://docs.google.com/spreadsheets/d/1bphtMaJ6lFh0VVWIgQh8ZCOchBZqvj0w5rveiNYcTnM/edit#gid=0\"\",\"\"RWA!F:BZ\"\"),49,0))\"),\"\")","v":""},{"$f":"IFERROR(__xludf.DUMMYFUNCTION(\"iferror(VLOOKUP(B720,IMPORTRANGE(\"\"https://docs.google.com/spreadsheets/d/1bphtMaJ6lFh0VVWIgQh8ZCOchBZqvj0w5rveiNYcTnM/edit#gid=0\"\",\"\"RWA!F:BZ\"\"),53,0))\"),\"\")","v":""}]
[null,null,null,{"$f":"IFERROR(__xludf.DUMMYFUNCTION(\"iferror(VLOOKUP(B721,IMPORTRANGE(\"\"https://docs.google.com/spreadsheets/d/1bphtMaJ6lFh0VVWIgQh8ZCOchBZqvj0w5rveiNYcTnM/edit#gid=0\"\",\"\"RWA!F:BZ\"\"),44,0))\"),\"\")","v":""},{"$f":"IFERROR(__xludf.DUMMYFUNCTION(\"iferror(VLOOKUP(B721,IMPORTRANGE(\"\"https://docs.google.com/spreadsheets/d/1bphtMaJ6lFh0VVWIgQh8ZCOchBZqvj0w5rveiNYcTnM/edit#gid=0\"\",\"\"RWA!F:BZ\"\"),48,0))\"),\"\")","v":""},{"$f":"IFERROR(__xludf.DUMMYFUNCTION(\"iferror(VLOOKUP(B721,IMPORTRANGE(\"\"https://docs.google.com/spreadsheets/d/1bphtMaJ6lFh0VVWIgQh8ZCOchBZqvj0w5rveiNYcTnM/edit#gid=0\"\",\"\"RWA!F:BZ\"\"),49,0))\"),\"\")","v":""},{"$f":"IFERROR(__xludf.DUMMYFUNCTION(\"iferror(VLOOKUP(B721,IMPORTRANGE(\"\"https://docs.google.com/spreadsheets/d/1bphtMaJ6lFh0VVWIgQh8ZCOchBZqvj0w5rveiNYcTnM/edit#gid=0\"\",\"\"RWA!F:BZ\"\"),53,0))\"),\"\")","v":""}]
[null,null,null,{"$f":"IFERROR(__xludf.DUMMYFUNCTION(\"iferror(VLOOKUP(B722,IMPORTRANGE(\"\"https://docs.google.com/spreadsheets/d/1bphtMaJ6lFh0VVWIgQh8ZCOchBZqvj0w5rveiNYcTnM/edit#gid=0\"\",\"\"RWA!F:BZ\"\"),44,0))\"),\"\")","v":""},{"$f":"IFERROR(__xludf.DUMMYFUNCTION(\"iferror(VLOOKUP(B722,IMPORTRANGE(\"\"https://docs.google.com/spreadsheets/d/1bphtMaJ6lFh0VVWIgQh8ZCOchBZqvj0w5rveiNYcTnM/edit#gid=0\"\",\"\"RWA!F:BZ\"\"),48,0))\"),\"\")","v":""},{"$f":"IFERROR(__xludf.DUMMYFUNCTION(\"iferror(VLOOKUP(B722,IMPORTRANGE(\"\"https://docs.google.com/spreadsheets/d/1bphtMaJ6lFh0VVWIgQh8ZCOchBZqvj0w5rveiNYcTnM/edit#gid=0\"\",\"\"RWA!F:BZ\"\"),49,0))\"),\"\")","v":""},{"$f":"IFERROR(__xludf.DUMMYFUNCTION(\"iferror(VLOOKUP(B722,IMPORTRANGE(\"\"https://docs.google.com/spreadsheets/d/1bphtMaJ6lFh0VVWIgQh8ZCOchBZqvj0w5rveiNYcTnM/edit#gid=0\"\",\"\"RWA!F:BZ\"\"),53,0))\"),\"\")","v":""}]
[null,null,null,{"$f":"IFERROR(__xludf.DUMMYFUNCTION(\"iferror(VLOOKUP(B723,IMPORTRANGE(\"\"https://docs.google.com/spreadsheets/d/1bphtMaJ6lFh0VVWIgQh8ZCOchBZqvj0w5rveiNYcTnM/edit#gid=0\"\",\"\"RWA!F:BZ\"\"),44,0))\"),\"\")","v":""},{"$f":"IFERROR(__xludf.DUMMYFUNCTION(\"iferror(VLOOKUP(B723,IMPORTRANGE(\"\"https://docs.google.com/spreadsheets/d/1bphtMaJ6lFh0VVWIgQh8ZCOchBZqvj0w5rveiNYcTnM/edit#gid=0\"\",\"\"RWA!F:BZ\"\"),48,0))\"),\"\")","v":""},{"$f":"IFERROR(__xludf.DUMMYFUNCTION(\"iferror(VLOOKUP(B723,IMPORTRANGE(\"\"https://docs.google.com/spreadsheets/d/1bphtMaJ6lFh0VVWIgQh8ZCOchBZqvj0w5rveiNYcTnM/edit#gid=0\"\",\"\"RWA!F:BZ\"\"),49,0))\"),\"\")","v":""},{"$f":"IFERROR(__xludf.DUMMYFUNCTION(\"iferror(VLOOKUP(B723,IMPORTRANGE(\"\"https://docs.google.com/spreadsheets/d/1bphtMaJ6lFh0VVWIgQh8ZCOchBZqvj0w5rveiNYcTnM/edit#gid=0\"\",\"\"RWA!F:BZ\"\"),53,0))\"),\"\")","v":""}]
[null,null,null,{"$f":"IFERROR(__xludf.DUMMYFUNCTION(\"iferror(VLOOKUP(B724,IMPORTRANGE(\"\"https://docs.google.com/spreadsheets/d/1bphtMaJ6lFh0VVWIgQh8ZCOchBZqvj0w5rveiNYcTnM/edit#gid=0\"\",\"\"RWA!F:BZ\"\"),44,0))\"),\"\")","v":""},{"$f":"IFERROR(__xludf.DUMMYFUNCTION(\"iferror(VLOOKUP(B724,IMPORTRANGE(\"\"https://docs.google.com/spreadsheets/d/1bphtMaJ6lFh0VVWIgQh8ZCOchBZqvj0w5rveiNYcTnM/edit#gid=0\"\",\"\"RWA!F:BZ\"\"),48,0))\"),\"\")","v":""},{"$f":"IFERROR(__xludf.DUMMYFUNCTION(\"iferror(VLOOKUP(B724,IMPORTRANGE(\"\"https://docs.google.com/spreadsheets/d/1bphtMaJ6lFh0VVWIgQh8ZCOchBZqvj0w5rveiNYcTnM/edit#gid=0\"\",\"\"RWA!F:BZ\"\"),49,0))\"),\"\")","v":""},{"$f":"IFERROR(__xludf.DUMMYFUNCTION(\"iferror(VLOOKUP(B724,IMPORTRANGE(\"\"https://docs.google.com/spreadsheets/d/1bphtMaJ6lFh0VVWIgQh8ZCOchBZqvj0w5rveiNYcTnM/edit#gid=0\"\",\"\"RWA!F:BZ\"\"),53,0))\"),\"\")","v":""}]
[null,null,null,{"$f":"IFERROR(__xludf.DUMMYFUNCTION(\"iferror(VLOOKUP(B725,IMPORTRANGE(\"\"https://docs.google.com/spreadsheets/d/1bphtMaJ6lFh0VVWIgQh8ZCOchBZqvj0w5rveiNYcTnM/edit#gid=0\"\",\"\"RWA!F:BZ\"\"),44,0))\"),\"\")","v":""},{"$f":"IFERROR(__xludf.DUMMYFUNCTION(\"iferror(VLOOKUP(B725,IMPORTRANGE(\"\"https://docs.google.com/spreadsheets/d/1bphtMaJ6lFh0VVWIgQh8ZCOchBZqvj0w5rveiNYcTnM/edit#gid=0\"\",\"\"RWA!F:BZ\"\"),48,0))\"),\"\")","v":""},{"$f":"IFERROR(__xludf.DUMMYFUNCTION(\"iferror(VLOOKUP(B725,IMPORTRANGE(\"\"https://docs.google.com/spreadsheets/d/1bphtMaJ6lFh0VVWIgQh8ZCOchBZqvj0w5rveiNYcTnM/edit#gid=0\"\",\"\"RWA!F:BZ\"\"),49,0))\"),\"\")","v":""},{"$f":"IFERROR(__xludf.DUMMYFUNCTION(\"iferror(VLOOKUP(B725,IMPORTRANGE(\"\"https://docs.google.com/spreadsheets/d/1bphtMaJ6lFh0VVWIgQh8ZCOchBZqvj0w5rveiNYcTnM/edit#gid=0\"\",\"\"RWA!F:BZ\"\"),53,0))\"),\"\")","v":""}]
[null,null,null,{"$f":"IFERROR(__xludf.DUMMYFUNCTION(\"iferror(VLOOKUP(B726,IMPORTRANGE(\"\"https://docs.google.com/spreadsheets/d/1bphtMaJ6lFh0VVWIgQh8ZCOchBZqvj0w5rveiNYcTnM/edit#gid=0\"\",\"\"RWA!F:BZ\"\"),44,0))\"),\"\")","v":""},{"$f":"IFERROR(__xludf.DUMMYFUNCTION(\"iferror(VLOOKUP(B726,IMPORTRANGE(\"\"https://docs.google.com/spreadsheets/d/1bphtMaJ6lFh0VVWIgQh8ZCOchBZqvj0w5rveiNYcTnM/edit#gid=0\"\",\"\"RWA!F:BZ\"\"),48,0))\"),\"\")","v":""},{"$f":"IFERROR(__xludf.DUMMYFUNCTION(\"iferror(VLOOKUP(B726,IMPORTRANGE(\"\"https://docs.google.com/spreadsheets/d/1bphtMaJ6lFh0VVWIgQh8ZCOchBZqvj0w5rveiNYcTnM/edit#gid=0\"\",\"\"RWA!F:BZ\"\"),49,0))\"),\"\")","v":""},{"$f":"IFERROR(__xludf.DUMMYFUNCTION(\"iferror(VLOOKUP(B726,IMPORTRANGE(\"\"https://docs.google.com/spreadsheets/d/1bphtMaJ6lFh0VVWIgQh8ZCOchBZqvj0w5rveiNYcTnM/edit#gid=0\"\",\"\"RWA!F:BZ\"\"),53,0))\"),\"\")","v":""}]
[null,null,null,{"$f":"IFERROR(__xludf.DUMMYFUNCTION(\"iferror(VLOOKUP(B727,IMPORTRANGE(\"\"https://docs.google.com/spreadsheets/d/1bphtMaJ6lFh0VVWIgQh8ZCOchBZqvj0w5rveiNYcTnM/edit#gid=0\"\",\"\"RWA!F:BZ\"\"),44,0))\"),\"\")","v":""},{"$f":"IFERROR(__xludf.DUMMYFUNCTION(\"iferror(VLOOKUP(B727,IMPORTRANGE(\"\"https://docs.google.com/spreadsheets/d/1bphtMaJ6lFh0VVWIgQh8ZCOchBZqvj0w5rveiNYcTnM/edit#gid=0\"\",\"\"RWA!F:BZ\"\"),48,0))\"),\"\")","v":""},{"$f":"IFERROR(__xludf.DUMMYFUNCTION(\"iferror(VLOOKUP(B727,IMPORTRANGE(\"\"https://docs.google.com/spreadsheets/d/1bphtMaJ6lFh0VVWIgQh8ZCOchBZqvj0w5rveiNYcTnM/edit#gid=0\"\",\"\"RWA!F:BZ\"\"),49,0))\"),\"\")","v":""},{"$f":"IFERROR(__xludf.DUMMYFUNCTION(\"iferror(VLOOKUP(B727,IMPORTRANGE(\"\"https://docs.google.com/spreadsheets/d/1bphtMaJ6lFh0VVWIgQh8ZCOchBZqvj0w5rveiNYcTnM/edit#gid=0\"\",\"\"RWA!F:BZ\"\"),53,0))\"),\"\")","v":""}]
[null,null,null,{"$f":"IFERROR(__xludf.DUMMYFUNCTION(\"iferror(VLOOKUP(B728,IMPORTRANGE(\"\"https://docs.google.com/spreadsheets/d/1bphtMaJ6lFh0VVWIgQh8ZCOchBZqvj0w5rveiNYcTnM/edit#gid=0\"\",\"\"RWA!F:BZ\"\"),44,0))\"),\"\")","v":""},{"$f":"IFERROR(__xludf.DUMMYFUNCTION(\"iferror(VLOOKUP(B728,IMPORTRANGE(\"\"https://docs.google.com/spreadsheets/d/1bphtMaJ6lFh0VVWIgQh8ZCOchBZqvj0w5rveiNYcTnM/edit#gid=0\"\",\"\"RWA!F:BZ\"\"),48,0))\"),\"\")","v":""},{"$f":"IFERROR(__xludf.DUMMYFUNCTION(\"iferror(VLOOKUP(B728,IMPORTRANGE(\"\"https://docs.google.com/spreadsheets/d/1bphtMaJ6lFh0VVWIgQh8ZCOchBZqvj0w5rveiNYcTnM/edit#gid=0\"\",\"\"RWA!F:BZ\"\"),49,0))\"),\"\")","v":""},{"$f":"IFERROR(__xludf.DUMMYFUNCTION(\"iferror(VLOOKUP(B728,IMPORTRANGE(\"\"https://docs.google.com/spreadsheets/d/1bphtMaJ6lFh0VVWIgQh8ZCOchBZqvj0w5rveiNYcTnM/edit#gid=0\"\",\"\"RWA!F:BZ\"\"),53,0))\"),\"\")","v":""}]
[null,null,null,{"$f":"IFERROR(__xludf.DUMMYFUNCTION(\"iferror(VLOOKUP(B729,IMPORTRANGE(\"\"https://docs.google.com/spreadsheets/d/1bphtMaJ6lFh0VVWIgQh8ZCOchBZqvj0w5rveiNYcTnM/edit#gid=0\"\",\"\"RWA!F:BZ\"\"),44,0))\"),\"\")","v":""},{"$f":"IFERROR(__xludf.DUMMYFUNCTION(\"iferror(VLOOKUP(B729,IMPORTRANGE(\"\"https://docs.google.com/spreadsheets/d/1bphtMaJ6lFh0VVWIgQh8ZCOchBZqvj0w5rveiNYcTnM/edit#gid=0\"\",\"\"RWA!F:BZ\"\"),48,0))\"),\"\")","v":""},{"$f":"IFERROR(__xludf.DUMMYFUNCTION(\"iferror(VLOOKUP(B729,IMPORTRANGE(\"\"https://docs.google.com/spreadsheets/d/1bphtMaJ6lFh0VVWIgQh8ZCOchBZqvj0w5rveiNYcTnM/edit#gid=0\"\",\"\"RWA!F:BZ\"\"),49,0))\"),\"\")","v":""},{"$f":"IFERROR(__xludf.DUMMYFUNCTION(\"iferror(VLOOKUP(B729,IMPORTRANGE(\"\"https://docs.google.com/spreadsheets/d/1bphtMaJ6lFh0VVWIgQh8ZCOchBZqvj0w5rveiNYcTnM/edit#gid=0\"\",\"\"RWA!F:BZ\"\"),53,0))\"),\"\")","v":""}]
[null,null,null,{"$f":"IFERROR(__xludf.DUMMYFUNCTION(\"iferror(VLOOKUP(B730,IMPORTRANGE(\"\"https://docs.google.com/spreadsheets/d/1bphtMaJ6lFh0VVWIgQh8ZCOchBZqvj0w5rveiNYcTnM/edit#gid=0\"\",\"\"RWA!F:BZ\"\"),44,0))\"),\"\")","v":""},{"$f":"IFERROR(__xludf.DUMMYFUNCTION(\"iferror(VLOOKUP(B730,IMPORTRANGE(\"\"https://docs.google.com/spreadsheets/d/1bphtMaJ6lFh0VVWIgQh8ZCOchBZqvj0w5rveiNYcTnM/edit#gid=0\"\",\"\"RWA!F:BZ\"\"),48,0))\"),\"\")","v":""},{"$f":"IFERROR(__xludf.DUMMYFUNCTION(\"iferror(VLOOKUP(B730,IMPORTRANGE(\"\"https://docs.google.com/spreadsheets/d/1bphtMaJ6lFh0VVWIgQh8ZCOchBZqvj0w5rveiNYcTnM/edit#gid=0\"\",\"\"RWA!F:BZ\"\"),49,0))\"),\"\")","v":""},{"$f":"IFERROR(__xludf.DUMMYFUNCTION(\"iferror(VLOOKUP(B730,IMPORTRANGE(\"\"https://docs.google.com/spreadsheets/d/1bphtMaJ6lFh0VVWIgQh8ZCOchBZqvj0w5rveiNYcTnM/edit#gid=0\"\",\"\"RWA!F:BZ\"\"),53,0))\"),\"\")","v":""}]
[null,null,null,{"$f":"IFERROR(__xludf.DUMMYFUNCTION(\"iferror(VLOOKUP(B731,IMPORTRANGE(\"\"https://docs.google.com/spreadsheets/d/1bphtMaJ6lFh0VVWIgQh8ZCOchBZqvj0w5rveiNYcTnM/edit#gid=0\"\",\"\"RWA!F:BZ\"\"),44,0))\"),\"\")","v":""},{"$f":"IFERROR(__xludf.DUMMYFUNCTION(\"iferror(VLOOKUP(B731,IMPORTRANGE(\"\"https://docs.google.com/spreadsheets/d/1bphtMaJ6lFh0VVWIgQh8ZCOchBZqvj0w5rveiNYcTnM/edit#gid=0\"\",\"\"RWA!F:BZ\"\"),48,0))\"),\"\")","v":""},{"$f":"IFERROR(__xludf.DUMMYFUNCTION(\"iferror(VLOOKUP(B731,IMPORTRANGE(\"\"https://docs.google.com/spreadsheets/d/1bphtMaJ6lFh0VVWIgQh8ZCOchBZqvj0w5rveiNYcTnM/edit#gid=0\"\",\"\"RWA!F:BZ\"\"),49,0))\"),\"\")","v":""},{"$f":"IFERROR(__xludf.DUMMYFUNCTION(\"iferror(VLOOKUP(B731,IMPORTRANGE(\"\"https://docs.google.com/spreadsheets/d/1bphtMaJ6lFh0VVWIgQh8ZCOchBZqvj0w5rveiNYcTnM/edit#gid=0\"\",\"\"RWA!F:BZ\"\"),53,0))\"),\"\")","v":""}]
[null,null,null,{"$f":"IFERROR(__xludf.DUMMYFUNCTION(\"iferror(VLOOKUP(B732,IMPORTRANGE(\"\"https://docs.google.com/spreadsheets/d/1bphtMaJ6lFh0VVWIgQh8ZCOchBZqvj0w5rveiNYcTnM/edit#gid=0\"\",\"\"RWA!F:BZ\"\"),44,0))\"),\"\")","v":""},{"$f":"IFERROR(__xludf.DUMMYFUNCTION(\"iferror(VLOOKUP(B732,IMPORTRANGE(\"\"https://docs.google.com/spreadsheets/d/1bphtMaJ6lFh0VVWIgQh8ZCOchBZqvj0w5rveiNYcTnM/edit#gid=0\"\",\"\"RWA!F:BZ\"\"),48,0))\"),\"\")","v":""},{"$f":"IFERROR(__xludf.DUMMYFUNCTION(\"iferror(VLOOKUP(B732,IMPORTRANGE(\"\"https://docs.google.com/spreadsheets/d/1bphtMaJ6lFh0VVWIgQh8ZCOchBZqvj0w5rveiNYcTnM/edit#gid=0\"\",\"\"RWA!F:BZ\"\"),49,0))\"),\"\")","v":""},{"$f":"IFERROR(__xludf.DUMMYFUNCTION(\"iferror(VLOOKUP(B732,IMPORTRANGE(\"\"https://docs.google.com/spreadsheets/d/1bphtMaJ6lFh0VVWIgQh8ZCOchBZqvj0w5rveiNYcTnM/edit#gid=0\"\",\"\"RWA!F:BZ\"\"),53,0))\"),\"\")","v":""}]
[null,null,null,{"$f":"IFERROR(__xludf.DUMMYFUNCTION(\"iferror(VLOOKUP(B733,IMPORTRANGE(\"\"https://docs.google.com/spreadsheets/d/1bphtMaJ6lFh0VVWIgQh8ZCOchBZqvj0w5rveiNYcTnM/edit#gid=0\"\",\"\"RWA!F:BZ\"\"),44,0))\"),\"\")","v":""},{"$f":"IFERROR(__xludf.DUMMYFUNCTION(\"iferror(VLOOKUP(B733,IMPORTRANGE(\"\"https://docs.google.com/spreadsheets/d/1bphtMaJ6lFh0VVWIgQh8ZCOchBZqvj0w5rveiNYcTnM/edit#gid=0\"\",\"\"RWA!F:BZ\"\"),48,0))\"),\"\")","v":""},{"$f":"IFERROR(__xludf.DUMMYFUNCTION(\"iferror(VLOOKUP(B733,IMPORTRANGE(\"\"https://docs.google.com/spreadsheets/d/1bphtMaJ6lFh0VVWIgQh8ZCOchBZqvj0w5rveiNYcTnM/edit#gid=0\"\",\"\"RWA!F:BZ\"\"),49,0))\"),\"\")","v":""},{"$f":"IFERROR(__xludf.DUMMYFUNCTION(\"iferror(VLOOKUP(B733,IMPORTRANGE(\"\"https://docs.google.com/spreadsheets/d/1bphtMaJ6lFh0VVWIgQh8ZCOchBZqvj0w5rveiNYcTnM/edit#gid=0\"\",\"\"RWA!F:BZ\"\"),53,0))\"),\"\")","v":""}]
[null,null,null,{"$f":"IFERROR(__xludf.DUMMYFUNCTION(\"iferror(VLOOKUP(B734,IMPORTRANGE(\"\"https://docs.google.com/spreadsheets/d/1bphtMaJ6lFh0VVWIgQh8ZCOchBZqvj0w5rveiNYcTnM/edit#gid=0\"\",\"\"RWA!F:BZ\"\"),44,0))\"),\"\")","v":""},{"$f":"IFERROR(__xludf.DUMMYFUNCTION(\"iferror(VLOOKUP(B734,IMPORTRANGE(\"\"https://docs.google.com/spreadsheets/d/1bphtMaJ6lFh0VVWIgQh8ZCOchBZqvj0w5rveiNYcTnM/edit#gid=0\"\",\"\"RWA!F:BZ\"\"),48,0))\"),\"\")","v":""},{"$f":"IFERROR(__xludf.DUMMYFUNCTION(\"iferror(VLOOKUP(B734,IMPORTRANGE(\"\"https://docs.google.com/spreadsheets/d/1bphtMaJ6lFh0VVWIgQh8ZCOchBZqvj0w5rveiNYcTnM/edit#gid=0\"\",\"\"RWA!F:BZ\"\"),49,0))\"),\"\")","v":""},{"$f":"IFERROR(__xludf.DUMMYFUNCTION(\"iferror(VLOOKUP(B734,IMPORTRANGE(\"\"https://docs.google.com/spreadsheets/d/1bphtMaJ6lFh0VVWIgQh8ZCOchBZqvj0w5rveiNYcTnM/edit#gid=0\"\",\"\"RWA!F:BZ\"\"),53,0))\"),\"\")","v":""}]
[null,null,null,{"$f":"IFERROR(__xludf.DUMMYFUNCTION(\"iferror(VLOOKUP(B735,IMPORTRANGE(\"\"https://docs.google.com/spreadsheets/d/1bphtMaJ6lFh0VVWIgQh8ZCOchBZqvj0w5rveiNYcTnM/edit#gid=0\"\",\"\"RWA!F:BZ\"\"),44,0))\"),\"\")","v":""},{"$f":"IFERROR(__xludf.DUMMYFUNCTION(\"iferror(VLOOKUP(B735,IMPORTRANGE(\"\"https://docs.google.com/spreadsheets/d/1bphtMaJ6lFh0VVWIgQh8ZCOchBZqvj0w5rveiNYcTnM/edit#gid=0\"\",\"\"RWA!F:BZ\"\"),48,0))\"),\"\")","v":""},{"$f":"IFERROR(__xludf.DUMMYFUNCTION(\"iferror(VLOOKUP(B735,IMPORTRANGE(\"\"https://docs.google.com/spreadsheets/d/1bphtMaJ6lFh0VVWIgQh8ZCOchBZqvj0w5rveiNYcTnM/edit#gid=0\"\",\"\"RWA!F:BZ\"\"),49,0))\"),\"\")","v":""},{"$f":"IFERROR(__xludf.DUMMYFUNCTION(\"iferror(VLOOKUP(B735,IMPORTRANGE(\"\"https://docs.google.com/spreadsheets/d/1bphtMaJ6lFh0VVWIgQh8ZCOchBZqvj0w5rveiNYcTnM/edit#gid=0\"\",\"\"RWA!F:BZ\"\"),53,0))\"),\"\")","v":""}]
[null,null,null,{"$f":"IFERROR(__xludf.DUMMYFUNCTION(\"iferror(VLOOKUP(B736,IMPORTRANGE(\"\"https://docs.google.com/spreadsheets/d/1bphtMaJ6lFh0VVWIgQh8ZCOchBZqvj0w5rveiNYcTnM/edit#gid=0\"\",\"\"RWA!F:BZ\"\"),44,0))\"),\"\")","v":""},{"$f":"IFERROR(__xludf.DUMMYFUNCTION(\"iferror(VLOOKUP(B736,IMPORTRANGE(\"\"https://docs.google.com/spreadsheets/d/1bphtMaJ6lFh0VVWIgQh8ZCOchBZqvj0w5rveiNYcTnM/edit#gid=0\"\",\"\"RWA!F:BZ\"\"),48,0))\"),\"\")","v":""},{"$f":"IFERROR(__xludf.DUMMYFUNCTION(\"iferror(VLOOKUP(B736,IMPORTRANGE(\"\"https://docs.google.com/spreadsheets/d/1bphtMaJ6lFh0VVWIgQh8ZCOchBZqvj0w5rveiNYcTnM/edit#gid=0\"\",\"\"RWA!F:BZ\"\"),49,0))\"),\"\")","v":""},{"$f":"IFERROR(__xludf.DUMMYFUNCTION(\"iferror(VLOOKUP(B736,IMPORTRANGE(\"\"https://docs.google.com/spreadsheets/d/1bphtMaJ6lFh0VVWIgQh8ZCOchBZqvj0w5rveiNYcTnM/edit#gid=0\"\",\"\"RWA!F:BZ\"\"),53,0))\"),\"\")","v":""}]
[null,null,null,{"$f":"IFERROR(__xludf.DUMMYFUNCTION(\"iferror(VLOOKUP(B737,IMPORTRANGE(\"\"https://docs.google.com/spreadsheets/d/1bphtMaJ6lFh0VVWIgQh8ZCOchBZqvj0w5rveiNYcTnM/edit#gid=0\"\",\"\"RWA!F:BZ\"\"),44,0))\"),\"\")","v":""},{"$f":"IFERROR(__xludf.DUMMYFUNCTION(\"iferror(VLOOKUP(B737,IMPORTRANGE(\"\"https://docs.google.com/spreadsheets/d/1bphtMaJ6lFh0VVWIgQh8ZCOchBZqvj0w5rveiNYcTnM/edit#gid=0\"\",\"\"RWA!F:BZ\"\"),48,0))\"),\"\")","v":""},{"$f":"IFERROR(__xludf.DUMMYFUNCTION(\"iferror(VLOOKUP(B737,IMPORTRANGE(\"\"https://docs.google.com/spreadsheets/d/1bphtMaJ6lFh0VVWIgQh8ZCOchBZqvj0w5rveiNYcTnM/edit#gid=0\"\",\"\"RWA!F:BZ\"\"),49,0))\"),\"\")","v":""},{"$f":"IFERROR(__xludf.DUMMYFUNCTION(\"iferror(VLOOKUP(B737,IMPORTRANGE(\"\"https://docs.google.com/spreadsheets/d/1bphtMaJ6lFh0VVWIgQh8ZCOchBZqvj0w5rveiNYcTnM/edit#gid=0\"\",\"\"RWA!F:BZ\"\"),53,0))\"),\"\")","v":""}]
[null,null,null,{"$f":"IFERROR(__xludf.DUMMYFUNCTION(\"iferror(VLOOKUP(B738,IMPORTRANGE(\"\"https://docs.google.com/spreadsheets/d/1bphtMaJ6lFh0VVWIgQh8ZCOchBZqvj0w5rveiNYcTnM/edit#gid=0\"\",\"\"RWA!F:BZ\"\"),44,0))\"),\"\")","v":""},{"$f":"IFERROR(__xludf.DUMMYFUNCTION(\"iferror(VLOOKUP(B738,IMPORTRANGE(\"\"https://docs.google.com/spreadsheets/d/1bphtMaJ6lFh0VVWIgQh8ZCOchBZqvj0w5rveiNYcTnM/edit#gid=0\"\",\"\"RWA!F:BZ\"\"),48,0))\"),\"\")","v":""},{"$f":"IFERROR(__xludf.DUMMYFUNCTION(\"iferror(VLOOKUP(B738,IMPORTRANGE(\"\"https://docs.google.com/spreadsheets/d/1bphtMaJ6lFh0VVWIgQh8ZCOchBZqvj0w5rveiNYcTnM/edit#gid=0\"\",\"\"RWA!F:BZ\"\"),49,0))\"),\"\")","v":""},{"$f":"IFERROR(__xludf.DUMMYFUNCTION(\"iferror(VLOOKUP(B738,IMPORTRANGE(\"\"https://docs.google.com/spreadsheets/d/1bphtMaJ6lFh0VVWIgQh8ZCOchBZqvj0w5rveiNYcTnM/edit#gid=0\"\",\"\"RWA!F:BZ\"\"),53,0))\"),\"\")","v":""}]
[null,null,null,{"$f":"IFERROR(__xludf.DUMMYFUNCTION(\"iferror(VLOOKUP(B739,IMPORTRANGE(\"\"https://docs.google.com/spreadsheets/d/1bphtMaJ6lFh0VVWIgQh8ZCOchBZqvj0w5rveiNYcTnM/edit#gid=0\"\",\"\"RWA!F:BZ\"\"),44,0))\"),\"\")","v":""},{"$f":"IFERROR(__xludf.DUMMYFUNCTION(\"iferror(VLOOKUP(B739,IMPORTRANGE(\"\"https://docs.google.com/spreadsheets/d/1bphtMaJ6lFh0VVWIgQh8ZCOchBZqvj0w5rveiNYcTnM/edit#gid=0\"\",\"\"RWA!F:BZ\"\"),48,0))\"),\"\")","v":""},{"$f":"IFERROR(__xludf.DUMMYFUNCTION(\"iferror(VLOOKUP(B739,IMPORTRANGE(\"\"https://docs.google.com/spreadsheets/d/1bphtMaJ6lFh0VVWIgQh8ZCOchBZqvj0w5rveiNYcTnM/edit#gid=0\"\",\"\"RWA!F:BZ\"\"),49,0))\"),\"\")","v":""},{"$f":"IFERROR(__xludf.DUMMYFUNCTION(\"iferror(VLOOKUP(B739,IMPORTRANGE(\"\"https://docs.google.com/spreadsheets/d/1bphtMaJ6lFh0VVWIgQh8ZCOchBZqvj0w5rveiNYcTnM/edit#gid=0\"\",\"\"RWA!F:BZ\"\"),53,0))\"),\"\")","v":""}]
[null,null,null,{"$f":"IFERROR(__xludf.DUMMYFUNCTION(\"iferror(VLOOKUP(B740,IMPORTRANGE(\"\"https://docs.google.com/spreadsheets/d/1bphtMaJ6lFh0VVWIgQh8ZCOchBZqvj0w5rveiNYcTnM/edit#gid=0\"\",\"\"RWA!F:BZ\"\"),44,0))\"),\"\")","v":""},{"$f":"IFERROR(__xludf.DUMMYFUNCTION(\"iferror(VLOOKUP(B740,IMPORTRANGE(\"\"https://docs.google.com/spreadsheets/d/1bphtMaJ6lFh0VVWIgQh8ZCOchBZqvj0w5rveiNYcTnM/edit#gid=0\"\",\"\"RWA!F:BZ\"\"),48,0))\"),\"\")","v":""},{"$f":"IFERROR(__xludf.DUMMYFUNCTION(\"iferror(VLOOKUP(B740,IMPORTRANGE(\"\"https://docs.google.com/spreadsheets/d/1bphtMaJ6lFh0VVWIgQh8ZCOchBZqvj0w5rveiNYcTnM/edit#gid=0\"\",\"\"RWA!F:BZ\"\"),49,0))\"),\"\")","v":""},{"$f":"IFERROR(__xludf.DUMMYFUNCTION(\"iferror(VLOOKUP(B740,IMPORTRANGE(\"\"https://docs.google.com/spreadsheets/d/1bphtMaJ6lFh0VVWIgQh8ZCOchBZqvj0w5rveiNYcTnM/edit#gid=0\"\",\"\"RWA!F:BZ\"\"),53,0))\"),\"\")","v":""}]
[null,null,null,{"$f":"IFERROR(__xludf.DUMMYFUNCTION(\"iferror(VLOOKUP(B741,IMPORTRANGE(\"\"https://docs.google.com/spreadsheets/d/1bphtMaJ6lFh0VVWIgQh8ZCOchBZqvj0w5rveiNYcTnM/edit#gid=0\"\",\"\"RWA!F:BZ\"\"),44,0))\"),\"\")","v":""},{"$f":"IFERROR(__xludf.DUMMYFUNCTION(\"iferror(VLOOKUP(B741,IMPORTRANGE(\"\"https://docs.google.com/spreadsheets/d/1bphtMaJ6lFh0VVWIgQh8ZCOchBZqvj0w5rveiNYcTnM/edit#gid=0\"\",\"\"RWA!F:BZ\"\"),48,0))\"),\"\")","v":""},{"$f":"IFERROR(__xludf.DUMMYFUNCTION(\"iferror(VLOOKUP(B741,IMPORTRANGE(\"\"https://docs.google.com/spreadsheets/d/1bphtMaJ6lFh0VVWIgQh8ZCOchBZqvj0w5rveiNYcTnM/edit#gid=0\"\",\"\"RWA!F:BZ\"\"),49,0))\"),\"\")","v":""},{"$f":"IFERROR(__xludf.DUMMYFUNCTION(\"iferror(VLOOKUP(B741,IMPORTRANGE(\"\"https://docs.google.com/spreadsheets/d/1bphtMaJ6lFh0VVWIgQh8ZCOchBZqvj0w5rveiNYcTnM/edit#gid=0\"\",\"\"RWA!F:BZ\"\"),53,0))\"),\"\")","v":""}]
[null,null,null,{"$f":"IFERROR(__xludf.DUMMYFUNCTION(\"iferror(VLOOKUP(B742,IMPORTRANGE(\"\"https://docs.google.com/spreadsheets/d/1bphtMaJ6lFh0VVWIgQh8ZCOchBZqvj0w5rveiNYcTnM/edit#gid=0\"\",\"\"RWA!F:BZ\"\"),44,0))\"),\"\")","v":""},{"$f":"IFERROR(__xludf.DUMMYFUNCTION(\"iferror(VLOOKUP(B742,IMPORTRANGE(\"\"https://docs.google.com/spreadsheets/d/1bphtMaJ6lFh0VVWIgQh8ZCOchBZqvj0w5rveiNYcTnM/edit#gid=0\"\",\"\"RWA!F:BZ\"\"),48,0))\"),\"\")","v":""},{"$f":"IFERROR(__xludf.DUMMYFUNCTION(\"iferror(VLOOKUP(B742,IMPORTRANGE(\"\"https://docs.google.com/spreadsheets/d/1bphtMaJ6lFh0VVWIgQh8ZCOchBZqvj0w5rveiNYcTnM/edit#gid=0\"\",\"\"RWA!F:BZ\"\"),49,0))\"),\"\")","v":""},{"$f":"IFERROR(__xludf.DUMMYFUNCTION(\"iferror(VLOOKUP(B742,IMPORTRANGE(\"\"https://docs.google.com/spreadsheets/d/1bphtMaJ6lFh0VVWIgQh8ZCOchBZqvj0w5rveiNYcTnM/edit#gid=0\"\",\"\"RWA!F:BZ\"\"),53,0))\"),\"\")","v":""}]
[null,null,null,{"$f":"IFERROR(__xludf.DUMMYFUNCTION(\"iferror(VLOOKUP(B743,IMPORTRANGE(\"\"https://docs.google.com/spreadsheets/d/1bphtMaJ6lFh0VVWIgQh8ZCOchBZqvj0w5rveiNYcTnM/edit#gid=0\"\",\"\"RWA!F:BZ\"\"),44,0))\"),\"\")","v":""},{"$f":"IFERROR(__xludf.DUMMYFUNCTION(\"iferror(VLOOKUP(B743,IMPORTRANGE(\"\"https://docs.google.com/spreadsheets/d/1bphtMaJ6lFh0VVWIgQh8ZCOchBZqvj0w5rveiNYcTnM/edit#gid=0\"\",\"\"RWA!F:BZ\"\"),48,0))\"),\"\")","v":""},{"$f":"IFERROR(__xludf.DUMMYFUNCTION(\"iferror(VLOOKUP(B743,IMPORTRANGE(\"\"https://docs.google.com/spreadsheets/d/1bphtMaJ6lFh0VVWIgQh8ZCOchBZqvj0w5rveiNYcTnM/edit#gid=0\"\",\"\"RWA!F:BZ\"\"),49,0))\"),\"\")","v":""},{"$f":"IFERROR(__xludf.DUMMYFUNCTION(\"iferror(VLOOKUP(B743,IMPORTRANGE(\"\"https://docs.google.com/spreadsheets/d/1bphtMaJ6lFh0VVWIgQh8ZCOchBZqvj0w5rveiNYcTnM/edit#gid=0\"\",\"\"RWA!F:BZ\"\"),53,0))\"),\"\")","v":""}]
[null,null,null,{"$f":"IFERROR(__xludf.DUMMYFUNCTION(\"iferror(VLOOKUP(B744,IMPORTRANGE(\"\"https://docs.google.com/spreadsheets/d/1bphtMaJ6lFh0VVWIgQh8ZCOchBZqvj0w5rveiNYcTnM/edit#gid=0\"\",\"\"RWA!F:BZ\"\"),44,0))\"),\"\")","v":""},{"$f":"IFERROR(__xludf.DUMMYFUNCTION(\"iferror(VLOOKUP(B744,IMPORTRANGE(\"\"https://docs.google.com/spreadsheets/d/1bphtMaJ6lFh0VVWIgQh8ZCOchBZqvj0w5rveiNYcTnM/edit#gid=0\"\",\"\"RWA!F:BZ\"\"),48,0))\"),\"\")","v":""},{"$f":"IFERROR(__xludf.DUMMYFUNCTION(\"iferror(VLOOKUP(B744,IMPORTRANGE(\"\"https://docs.google.com/spreadsheets/d/1bphtMaJ6lFh0VVWIgQh8ZCOchBZqvj0w5rveiNYcTnM/edit#gid=0\"\",\"\"RWA!F:BZ\"\"),49,0))\"),\"\")","v":""},{"$f":"IFERROR(__xludf.DUMMYFUNCTION(\"iferror(VLOOKUP(B744,IMPORTRANGE(\"\"https://docs.google.com/spreadsheets/d/1bphtMaJ6lFh0VVWIgQh8ZCOchBZqvj0w5rveiNYcTnM/edit#gid=0\"\",\"\"RWA!F:BZ\"\"),53,0))\"),\"\")","v":""}]
[null,null,null,{"$f":"IFERROR(__xludf.DUMMYFUNCTION(\"iferror(VLOOKUP(B745,IMPORTRANGE(\"\"https://docs.google.com/spreadsheets/d/1bphtMaJ6lFh0VVWIgQh8ZCOchBZqvj0w5rveiNYcTnM/edit#gid=0\"\",\"\"RWA!F:BZ\"\"),44,0))\"),\"\")","v":""},{"$f":"IFERROR(__xludf.DUMMYFUNCTION(\"iferror(VLOOKUP(B745,IMPORTRANGE(\"\"https://docs.google.com/spreadsheets/d/1bphtMaJ6lFh0VVWIgQh8ZCOchBZqvj0w5rveiNYcTnM/edit#gid=0\"\",\"\"RWA!F:BZ\"\"),48,0))\"),\"\")","v":""},{"$f":"IFERROR(__xludf.DUMMYFUNCTION(\"iferror(VLOOKUP(B745,IMPORTRANGE(\"\"https://docs.google.com/spreadsheets/d/1bphtMaJ6lFh0VVWIgQh8ZCOchBZqvj0w5rveiNYcTnM/edit#gid=0\"\",\"\"RWA!F:BZ\"\"),49,0))\"),\"\")","v":""},{"$f":"IFERROR(__xludf.DUMMYFUNCTION(\"iferror(VLOOKUP(B745,IMPORTRANGE(\"\"https://docs.google.com/spreadsheets/d/1bphtMaJ6lFh0VVWIgQh8ZCOchBZqvj0w5rveiNYcTnM/edit#gid=0\"\",\"\"RWA!F:BZ\"\"),53,0))\"),\"\")","v":""}]
[null,null,null,{"$f":"IFERROR(__xludf.DUMMYFUNCTION(\"iferror(VLOOKUP(B746,IMPORTRANGE(\"\"https://docs.google.com/spreadsheets/d/1bphtMaJ6lFh0VVWIgQh8ZCOchBZqvj0w5rveiNYcTnM/edit#gid=0\"\",\"\"RWA!F:BZ\"\"),44,0))\"),\"\")","v":""},{"$f":"IFERROR(__xludf.DUMMYFUNCTION(\"iferror(VLOOKUP(B746,IMPORTRANGE(\"\"https://docs.google.com/spreadsheets/d/1bphtMaJ6lFh0VVWIgQh8ZCOchBZqvj0w5rveiNYcTnM/edit#gid=0\"\",\"\"RWA!F:BZ\"\"),48,0))\"),\"\")","v":""},{"$f":"IFERROR(__xludf.DUMMYFUNCTION(\"iferror(VLOOKUP(B746,IMPORTRANGE(\"\"https://docs.google.com/spreadsheets/d/1bphtMaJ6lFh0VVWIgQh8ZCOchBZqvj0w5rveiNYcTnM/edit#gid=0\"\",\"\"RWA!F:BZ\"\"),49,0))\"),\"\")","v":""},{"$f":"IFERROR(__xludf.DUMMYFUNCTION(\"iferror(VLOOKUP(B746,IMPORTRANGE(\"\"https://docs.google.com/spreadsheets/d/1bphtMaJ6lFh0VVWIgQh8ZCOchBZqvj0w5rveiNYcTnM/edit#gid=0\"\",\"\"RWA!F:BZ\"\"),53,0))\"),\"\")","v":""}]
[null,null,null,{"$f":"IFERROR(__xludf.DUMMYFUNCTION(\"iferror(VLOOKUP(B747,IMPORTRANGE(\"\"https://docs.google.com/spreadsheets/d/1bphtMaJ6lFh0VVWIgQh8ZCOchBZqvj0w5rveiNYcTnM/edit#gid=0\"\",\"\"RWA!F:BZ\"\"),44,0))\"),\"\")","v":""},{"$f":"IFERROR(__xludf.DUMMYFUNCTION(\"iferror(VLOOKUP(B747,IMPORTRANGE(\"\"https://docs.google.com/spreadsheets/d/1bphtMaJ6lFh0VVWIgQh8ZCOchBZqvj0w5rveiNYcTnM/edit#gid=0\"\",\"\"RWA!F:BZ\"\"),48,0))\"),\"\")","v":""},{"$f":"IFERROR(__xludf.DUMMYFUNCTION(\"iferror(VLOOKUP(B747,IMPORTRANGE(\"\"https://docs.google.com/spreadsheets/d/1bphtMaJ6lFh0VVWIgQh8ZCOchBZqvj0w5rveiNYcTnM/edit#gid=0\"\",\"\"RWA!F:BZ\"\"),49,0))\"),\"\")","v":""},{"$f":"IFERROR(__xludf.DUMMYFUNCTION(\"iferror(VLOOKUP(B747,IMPORTRANGE(\"\"https://docs.google.com/spreadsheets/d/1bphtMaJ6lFh0VVWIgQh8ZCOchBZqvj0w5rveiNYcTnM/edit#gid=0\"\",\"\"RWA!F:BZ\"\"),53,0))\"),\"\")","v":""}]
[null,null,null,{"$f":"IFERROR(__xludf.DUMMYFUNCTION(\"iferror(VLOOKUP(B748,IMPORTRANGE(\"\"https://docs.google.com/spreadsheets/d/1bphtMaJ6lFh0VVWIgQh8ZCOchBZqvj0w5rveiNYcTnM/edit#gid=0\"\",\"\"RWA!F:BZ\"\"),44,0))\"),\"\")","v":""},{"$f":"IFERROR(__xludf.DUMMYFUNCTION(\"iferror(VLOOKUP(B748,IMPORTRANGE(\"\"https://docs.google.com/spreadsheets/d/1bphtMaJ6lFh0VVWIgQh8ZCOchBZqvj0w5rveiNYcTnM/edit#gid=0\"\",\"\"RWA!F:BZ\"\"),48,0))\"),\"\")","v":""},{"$f":"IFERROR(__xludf.DUMMYFUNCTION(\"iferror(VLOOKUP(B748,IMPORTRANGE(\"\"https://docs.google.com/spreadsheets/d/1bphtMaJ6lFh0VVWIgQh8ZCOchBZqvj0w5rveiNYcTnM/edit#gid=0\"\",\"\"RWA!F:BZ\"\"),49,0))\"),\"\")","v":""},{"$f":"IFERROR(__xludf.DUMMYFUNCTION(\"iferror(VLOOKUP(B748,IMPORTRANGE(\"\"https://docs.google.com/spreadsheets/d/1bphtMaJ6lFh0VVWIgQh8ZCOchBZqvj0w5rveiNYcTnM/edit#gid=0\"\",\"\"RWA!F:BZ\"\"),53,0))\"),\"\")","v":""}]
[null,null,null,{"$f":"IFERROR(__xludf.DUMMYFUNCTION(\"iferror(VLOOKUP(B749,IMPORTRANGE(\"\"https://docs.google.com/spreadsheets/d/1bphtMaJ6lFh0VVWIgQh8ZCOchBZqvj0w5rveiNYcTnM/edit#gid=0\"\",\"\"RWA!F:BZ\"\"),44,0))\"),\"\")","v":""},{"$f":"IFERROR(__xludf.DUMMYFUNCTION(\"iferror(VLOOKUP(B749,IMPORTRANGE(\"\"https://docs.google.com/spreadsheets/d/1bphtMaJ6lFh0VVWIgQh8ZCOchBZqvj0w5rveiNYcTnM/edit#gid=0\"\",\"\"RWA!F:BZ\"\"),48,0))\"),\"\")","v":""},{"$f":"IFERROR(__xludf.DUMMYFUNCTION(\"iferror(VLOOKUP(B749,IMPORTRANGE(\"\"https://docs.google.com/spreadsheets/d/1bphtMaJ6lFh0VVWIgQh8ZCOchBZqvj0w5rveiNYcTnM/edit#gid=0\"\",\"\"RWA!F:BZ\"\"),49,0))\"),\"\")","v":""},{"$f":"IFERROR(__xludf.DUMMYFUNCTION(\"iferror(VLOOKUP(B749,IMPORTRANGE(\"\"https://docs.google.com/spreadsheets/d/1bphtMaJ6lFh0VVWIgQh8ZCOchBZqvj0w5rveiNYcTnM/edit#gid=0\"\",\"\"RWA!F:BZ\"\"),53,0))\"),\"\")","v":""}]
[null,null,null,{"$f":"IFERROR(__xludf.DUMMYFUNCTION(\"iferror(VLOOKUP(B750,IMPORTRANGE(\"\"https://docs.google.com/spreadsheets/d/1bphtMaJ6lFh0VVWIgQh8ZCOchBZqvj0w5rveiNYcTnM/edit#gid=0\"\",\"\"RWA!F:BZ\"\"),44,0))\"),\"\")","v":""},{"$f":"IFERROR(__xludf.DUMMYFUNCTION(\"iferror(VLOOKUP(B750,IMPORTRANGE(\"\"https://docs.google.com/spreadsheets/d/1bphtMaJ6lFh0VVWIgQh8ZCOchBZqvj0w5rveiNYcTnM/edit#gid=0\"\",\"\"RWA!F:BZ\"\"),48,0))\"),\"\")","v":""},{"$f":"IFERROR(__xludf.DUMMYFUNCTION(\"iferror(VLOOKUP(B750,IMPORTRANGE(\"\"https://docs.google.com/spreadsheets/d/1bphtMaJ6lFh0VVWIgQh8ZCOchBZqvj0w5rveiNYcTnM/edit#gid=0\"\",\"\"RWA!F:BZ\"\"),49,0))\"),\"\")","v":""},{"$f":"IFERROR(__xludf.DUMMYFUNCTION(\"iferror(VLOOKUP(B750,IMPORTRANGE(\"\"https://docs.google.com/spreadsheets/d/1bphtMaJ6lFh0VVWIgQh8ZCOchBZqvj0w5rveiNYcTnM/edit#gid=0\"\",\"\"RWA!F:BZ\"\"),53,0))\"),\"\")","v":""}]
[null,null,null,{"$f":"IFERROR(__xludf.DUMMYFUNCTION(\"iferror(VLOOKUP(B751,IMPORTRANGE(\"\"https://docs.google.com/spreadsheets/d/1bphtMaJ6lFh0VVWIgQh8ZCOchBZqvj0w5rveiNYcTnM/edit#gid=0\"\",\"\"RWA!F:BZ\"\"),44,0))\"),\"\")","v":""},{"$f":"IFERROR(__xludf.DUMMYFUNCTION(\"iferror(VLOOKUP(B751,IMPORTRANGE(\"\"https://docs.google.com/spreadsheets/d/1bphtMaJ6lFh0VVWIgQh8ZCOchBZqvj0w5rveiNYcTnM/edit#gid=0\"\",\"\"RWA!F:BZ\"\"),48,0))\"),\"\")","v":""},{"$f":"IFERROR(__xludf.DUMMYFUNCTION(\"iferror(VLOOKUP(B751,IMPORTRANGE(\"\"https://docs.google.com/spreadsheets/d/1bphtMaJ6lFh0VVWIgQh8ZCOchBZqvj0w5rveiNYcTnM/edit#gid=0\"\",\"\"RWA!F:BZ\"\"),49,0))\"),\"\")","v":""},{"$f":"IFERROR(__xludf.DUMMYFUNCTION(\"iferror(VLOOKUP(B751,IMPORTRANGE(\"\"https://docs.google.com/spreadsheets/d/1bphtMaJ6lFh0VVWIgQh8ZCOchBZqvj0w5rveiNYcTnM/edit#gid=0\"\",\"\"RWA!F:BZ\"\"),53,0))\"),\"\")","v":""}]
[null,null,null,{"$f":"IFERROR(__xludf.DUMMYFUNCTION(\"iferror(VLOOKUP(B752,IMPORTRANGE(\"\"https://docs.google.com/spreadsheets/d/1bphtMaJ6lFh0VVWIgQh8ZCOchBZqvj0w5rveiNYcTnM/edit#gid=0\"\",\"\"RWA!F:BZ\"\"),44,0))\"),\"\")","v":""},{"$f":"IFERROR(__xludf.DUMMYFUNCTION(\"iferror(VLOOKUP(B752,IMPORTRANGE(\"\"https://docs.google.com/spreadsheets/d/1bphtMaJ6lFh0VVWIgQh8ZCOchBZqvj0w5rveiNYcTnM/edit#gid=0\"\",\"\"RWA!F:BZ\"\"),48,0))\"),\"\")","v":""},{"$f":"IFERROR(__xludf.DUMMYFUNCTION(\"iferror(VLOOKUP(B752,IMPORTRANGE(\"\"https://docs.google.com/spreadsheets/d/1bphtMaJ6lFh0VVWIgQh8ZCOchBZqvj0w5rveiNYcTnM/edit#gid=0\"\",\"\"RWA!F:BZ\"\"),49,0))\"),\"\")","v":""},{"$f":"IFERROR(__xludf.DUMMYFUNCTION(\"iferror(VLOOKUP(B752,IMPORTRANGE(\"\"https://docs.google.com/spreadsheets/d/1bphtMaJ6lFh0VVWIgQh8ZCOchBZqvj0w5rveiNYcTnM/edit#gid=0\"\",\"\"RWA!F:BZ\"\"),53,0))\"),\"\")","v":""}]
[null,null,null,{"$f":"IFERROR(__xludf.DUMMYFUNCTION(\"iferror(VLOOKUP(B753,IMPORTRANGE(\"\"https://docs.google.com/spreadsheets/d/1bphtMaJ6lFh0VVWIgQh8ZCOchBZqvj0w5rveiNYcTnM/edit#gid=0\"\",\"\"RWA!F:BZ\"\"),44,0))\"),\"\")","v":""},{"$f":"IFERROR(__xludf.DUMMYFUNCTION(\"iferror(VLOOKUP(B753,IMPORTRANGE(\"\"https://docs.google.com/spreadsheets/d/1bphtMaJ6lFh0VVWIgQh8ZCOchBZqvj0w5rveiNYcTnM/edit#gid=0\"\",\"\"RWA!F:BZ\"\"),48,0))\"),\"\")","v":""},{"$f":"IFERROR(__xludf.DUMMYFUNCTION(\"iferror(VLOOKUP(B753,IMPORTRANGE(\"\"https://docs.google.com/spreadsheets/d/1bphtMaJ6lFh0VVWIgQh8ZCOchBZqvj0w5rveiNYcTnM/edit#gid=0\"\",\"\"RWA!F:BZ\"\"),49,0))\"),\"\")","v":""},{"$f":"IFERROR(__xludf.DUMMYFUNCTION(\"iferror(VLOOKUP(B753,IMPORTRANGE(\"\"https://docs.google.com/spreadsheets/d/1bphtMaJ6lFh0VVWIgQh8ZCOchBZqvj0w5rveiNYcTnM/edit#gid=0\"\",\"\"RWA!F:BZ\"\"),53,0))\"),\"\")","v":""}]
[null,null,null,{"$f":"IFERROR(__xludf.DUMMYFUNCTION(\"iferror(VLOOKUP(B754,IMPORTRANGE(\"\"https://docs.google.com/spreadsheets/d/1bphtMaJ6lFh0VVWIgQh8ZCOchBZqvj0w5rveiNYcTnM/edit#gid=0\"\",\"\"RWA!F:BZ\"\"),44,0))\"),\"\")","v":""},{"$f":"IFERROR(__xludf.DUMMYFUNCTION(\"iferror(VLOOKUP(B754,IMPORTRANGE(\"\"https://docs.google.com/spreadsheets/d/1bphtMaJ6lFh0VVWIgQh8ZCOchBZqvj0w5rveiNYcTnM/edit#gid=0\"\",\"\"RWA!F:BZ\"\"),48,0))\"),\"\")","v":""},{"$f":"IFERROR(__xludf.DUMMYFUNCTION(\"iferror(VLOOKUP(B754,IMPORTRANGE(\"\"https://docs.google.com/spreadsheets/d/1bphtMaJ6lFh0VVWIgQh8ZCOchBZqvj0w5rveiNYcTnM/edit#gid=0\"\",\"\"RWA!F:BZ\"\"),49,0))\"),\"\")","v":""},{"$f":"IFERROR(__xludf.DUMMYFUNCTION(\"iferror(VLOOKUP(B754,IMPORTRANGE(\"\"https://docs.google.com/spreadsheets/d/1bphtMaJ6lFh0VVWIgQh8ZCOchBZqvj0w5rveiNYcTnM/edit#gid=0\"\",\"\"RWA!F:BZ\"\"),53,0))\"),\"\")","v":""}]
[null,null,null,{"$f":"IFERROR(__xludf.DUMMYFUNCTION(\"iferror(VLOOKUP(B755,IMPORTRANGE(\"\"https://docs.google.com/spreadsheets/d/1bphtMaJ6lFh0VVWIgQh8ZCOchBZqvj0w5rveiNYcTnM/edit#gid=0\"\",\"\"RWA!F:BZ\"\"),44,0))\"),\"\")","v":""},{"$f":"IFERROR(__xludf.DUMMYFUNCTION(\"iferror(VLOOKUP(B755,IMPORTRANGE(\"\"https://docs.google.com/spreadsheets/d/1bphtMaJ6lFh0VVWIgQh8ZCOchBZqvj0w5rveiNYcTnM/edit#gid=0\"\",\"\"RWA!F:BZ\"\"),48,0))\"),\"\")","v":""},{"$f":"IFERROR(__xludf.DUMMYFUNCTION(\"iferror(VLOOKUP(B755,IMPORTRANGE(\"\"https://docs.google.com/spreadsheets/d/1bphtMaJ6lFh0VVWIgQh8ZCOchBZqvj0w5rveiNYcTnM/edit#gid=0\"\",\"\"RWA!F:BZ\"\"),49,0))\"),\"\")","v":""},{"$f":"IFERROR(__xludf.DUMMYFUNCTION(\"iferror(VLOOKUP(B755,IMPORTRANGE(\"\"https://docs.google.com/spreadsheets/d/1bphtMaJ6lFh0VVWIgQh8ZCOchBZqvj0w5rveiNYcTnM/edit#gid=0\"\",\"\"RWA!F:BZ\"\"),53,0))\"),\"\")","v":""}]
[null,null,null,{"$f":"IFERROR(__xludf.DUMMYFUNCTION(\"iferror(VLOOKUP(B756,IMPORTRANGE(\"\"https://docs.google.com/spreadsheets/d/1bphtMaJ6lFh0VVWIgQh8ZCOchBZqvj0w5rveiNYcTnM/edit#gid=0\"\",\"\"RWA!F:BZ\"\"),44,0))\"),\"\")","v":""},{"$f":"IFERROR(__xludf.DUMMYFUNCTION(\"iferror(VLOOKUP(B756,IMPORTRANGE(\"\"https://docs.google.com/spreadsheets/d/1bphtMaJ6lFh0VVWIgQh8ZCOchBZqvj0w5rveiNYcTnM/edit#gid=0\"\",\"\"RWA!F:BZ\"\"),48,0))\"),\"\")","v":""},{"$f":"IFERROR(__xludf.DUMMYFUNCTION(\"iferror(VLOOKUP(B756,IMPORTRANGE(\"\"https://docs.google.com/spreadsheets/d/1bphtMaJ6lFh0VVWIgQh8ZCOchBZqvj0w5rveiNYcTnM/edit#gid=0\"\",\"\"RWA!F:BZ\"\"),49,0))\"),\"\")","v":""},{"$f":"IFERROR(__xludf.DUMMYFUNCTION(\"iferror(VLOOKUP(B756,IMPORTRANGE(\"\"https://docs.google.com/spreadsheets/d/1bphtMaJ6lFh0VVWIgQh8ZCOchBZqvj0w5rveiNYcTnM/edit#gid=0\"\",\"\"RWA!F:BZ\"\"),53,0))\"),\"\")","v":""}]
[null,null,null,{"$f":"IFERROR(__xludf.DUMMYFUNCTION(\"iferror(VLOOKUP(B757,IMPORTRANGE(\"\"https://docs.google.com/spreadsheets/d/1bphtMaJ6lFh0VVWIgQh8ZCOchBZqvj0w5rveiNYcTnM/edit#gid=0\"\",\"\"RWA!F:BZ\"\"),44,0))\"),\"\")","v":""},{"$f":"IFERROR(__xludf.DUMMYFUNCTION(\"iferror(VLOOKUP(B757,IMPORTRANGE(\"\"https://docs.google.com/spreadsheets/d/1bphtMaJ6lFh0VVWIgQh8ZCOchBZqvj0w5rveiNYcTnM/edit#gid=0\"\",\"\"RWA!F:BZ\"\"),48,0))\"),\"\")","v":""},{"$f":"IFERROR(__xludf.DUMMYFUNCTION(\"iferror(VLOOKUP(B757,IMPORTRANGE(\"\"https://docs.google.com/spreadsheets/d/1bphtMaJ6lFh0VVWIgQh8ZCOchBZqvj0w5rveiNYcTnM/edit#gid=0\"\",\"\"RWA!F:BZ\"\"),49,0))\"),\"\")","v":""},{"$f":"IFERROR(__xludf.DUMMYFUNCTION(\"iferror(VLOOKUP(B757,IMPORTRANGE(\"\"https://docs.google.com/spreadsheets/d/1bphtMaJ6lFh0VVWIgQh8ZCOchBZqvj0w5rveiNYcTnM/edit#gid=0\"\",\"\"RWA!F:BZ\"\"),53,0))\"),\"\")","v":""}]
[null,null,null,{"$f":"IFERROR(__xludf.DUMMYFUNCTION(\"iferror(VLOOKUP(B758,IMPORTRANGE(\"\"https://docs.google.com/spreadsheets/d/1bphtMaJ6lFh0VVWIgQh8ZCOchBZqvj0w5rveiNYcTnM/edit#gid=0\"\",\"\"RWA!F:BZ\"\"),44,0))\"),\"\")","v":""},{"$f":"IFERROR(__xludf.DUMMYFUNCTION(\"iferror(VLOOKUP(B758,IMPORTRANGE(\"\"https://docs.google.com/spreadsheets/d/1bphtMaJ6lFh0VVWIgQh8ZCOchBZqvj0w5rveiNYcTnM/edit#gid=0\"\",\"\"RWA!F:BZ\"\"),48,0))\"),\"\")","v":""},{"$f":"IFERROR(__xludf.DUMMYFUNCTION(\"iferror(VLOOKUP(B758,IMPORTRANGE(\"\"https://docs.google.com/spreadsheets/d/1bphtMaJ6lFh0VVWIgQh8ZCOchBZqvj0w5rveiNYcTnM/edit#gid=0\"\",\"\"RWA!F:BZ\"\"),49,0))\"),\"\")","v":""},{"$f":"IFERROR(__xludf.DUMMYFUNCTION(\"iferror(VLOOKUP(B758,IMPORTRANGE(\"\"https://docs.google.com/spreadsheets/d/1bphtMaJ6lFh0VVWIgQh8ZCOchBZqvj0w5rveiNYcTnM/edit#gid=0\"\",\"\"RWA!F:BZ\"\"),53,0))\"),\"\")","v":""}]
[null,null,null,{"$f":"IFERROR(__xludf.DUMMYFUNCTION(\"iferror(VLOOKUP(B759,IMPORTRANGE(\"\"https://docs.google.com/spreadsheets/d/1bphtMaJ6lFh0VVWIgQh8ZCOchBZqvj0w5rveiNYcTnM/edit#gid=0\"\",\"\"RWA!F:BZ\"\"),44,0))\"),\"\")","v":""},{"$f":"IFERROR(__xludf.DUMMYFUNCTION(\"iferror(VLOOKUP(B759,IMPORTRANGE(\"\"https://docs.google.com/spreadsheets/d/1bphtMaJ6lFh0VVWIgQh8ZCOchBZqvj0w5rveiNYcTnM/edit#gid=0\"\",\"\"RWA!F:BZ\"\"),48,0))\"),\"\")","v":""},{"$f":"IFERROR(__xludf.DUMMYFUNCTION(\"iferror(VLOOKUP(B759,IMPORTRANGE(\"\"https://docs.google.com/spreadsheets/d/1bphtMaJ6lFh0VVWIgQh8ZCOchBZqvj0w5rveiNYcTnM/edit#gid=0\"\",\"\"RWA!F:BZ\"\"),49,0))\"),\"\")","v":""},{"$f":"IFERROR(__xludf.DUMMYFUNCTION(\"iferror(VLOOKUP(B759,IMPORTRANGE(\"\"https://docs.google.com/spreadsheets/d/1bphtMaJ6lFh0VVWIgQh8ZCOchBZqvj0w5rveiNYcTnM/edit#gid=0\"\",\"\"RWA!F:BZ\"\"),53,0))\"),\"\")","v":""}]
[null,null,null,{"$f":"IFERROR(__xludf.DUMMYFUNCTION(\"iferror(VLOOKUP(B760,IMPORTRANGE(\"\"https://docs.google.com/spreadsheets/d/1bphtMaJ6lFh0VVWIgQh8ZCOchBZqvj0w5rveiNYcTnM/edit#gid=0\"\",\"\"RWA!F:BZ\"\"),44,0))\"),\"\")","v":""},{"$f":"IFERROR(__xludf.DUMMYFUNCTION(\"iferror(VLOOKUP(B760,IMPORTRANGE(\"\"https://docs.google.com/spreadsheets/d/1bphtMaJ6lFh0VVWIgQh8ZCOchBZqvj0w5rveiNYcTnM/edit#gid=0\"\",\"\"RWA!F:BZ\"\"),48,0))\"),\"\")","v":""},{"$f":"IFERROR(__xludf.DUMMYFUNCTION(\"iferror(VLOOKUP(B760,IMPORTRANGE(\"\"https://docs.google.com/spreadsheets/d/1bphtMaJ6lFh0VVWIgQh8ZCOchBZqvj0w5rveiNYcTnM/edit#gid=0\"\",\"\"RWA!F:BZ\"\"),49,0))\"),\"\")","v":""},{"$f":"IFERROR(__xludf.DUMMYFUNCTION(\"iferror(VLOOKUP(B760,IMPORTRANGE(\"\"https://docs.google.com/spreadsheets/d/1bphtMaJ6lFh0VVWIgQh8ZCOchBZqvj0w5rveiNYcTnM/edit#gid=0\"\",\"\"RWA!F:BZ\"\"),53,0))\"),\"\")","v":""}]
[null,null,null,{"$f":"IFERROR(__xludf.DUMMYFUNCTION(\"iferror(VLOOKUP(B761,IMPORTRANGE(\"\"https://docs.google.com/spreadsheets/d/1bphtMaJ6lFh0VVWIgQh8ZCOchBZqvj0w5rveiNYcTnM/edit#gid=0\"\",\"\"RWA!F:BZ\"\"),44,0))\"),\"\")","v":""},{"$f":"IFERROR(__xludf.DUMMYFUNCTION(\"iferror(VLOOKUP(B761,IMPORTRANGE(\"\"https://docs.google.com/spreadsheets/d/1bphtMaJ6lFh0VVWIgQh8ZCOchBZqvj0w5rveiNYcTnM/edit#gid=0\"\",\"\"RWA!F:BZ\"\"),48,0))\"),\"\")","v":""},{"$f":"IFERROR(__xludf.DUMMYFUNCTION(\"iferror(VLOOKUP(B761,IMPORTRANGE(\"\"https://docs.google.com/spreadsheets/d/1bphtMaJ6lFh0VVWIgQh8ZCOchBZqvj0w5rveiNYcTnM/edit#gid=0\"\",\"\"RWA!F:BZ\"\"),49,0))\"),\"\")","v":""},{"$f":"IFERROR(__xludf.DUMMYFUNCTION(\"iferror(VLOOKUP(B761,IMPORTRANGE(\"\"https://docs.google.com/spreadsheets/d/1bphtMaJ6lFh0VVWIgQh8ZCOchBZqvj0w5rveiNYcTnM/edit#gid=0\"\",\"\"RWA!F:BZ\"\"),53,0))\"),\"\")","v":""}]
[null,null,null,{"$f":"IFERROR(__xludf.DUMMYFUNCTION(\"iferror(VLOOKUP(B762,IMPORTRANGE(\"\"https://docs.google.com/spreadsheets/d/1bphtMaJ6lFh0VVWIgQh8ZCOchBZqvj0w5rveiNYcTnM/edit#gid=0\"\",\"\"RWA!F:BZ\"\"),44,0))\"),\"\")","v":""},{"$f":"IFERROR(__xludf.DUMMYFUNCTION(\"iferror(VLOOKUP(B762,IMPORTRANGE(\"\"https://docs.google.com/spreadsheets/d/1bphtMaJ6lFh0VVWIgQh8ZCOchBZqvj0w5rveiNYcTnM/edit#gid=0\"\",\"\"RWA!F:BZ\"\"),48,0))\"),\"\")","v":""},{"$f":"IFERROR(__xludf.DUMMYFUNCTION(\"iferror(VLOOKUP(B762,IMPORTRANGE(\"\"https://docs.google.com/spreadsheets/d/1bphtMaJ6lFh0VVWIgQh8ZCOchBZqvj0w5rveiNYcTnM/edit#gid=0\"\",\"\"RWA!F:BZ\"\"),49,0))\"),\"\")","v":""},{"$f":"IFERROR(__xludf.DUMMYFUNCTION(\"iferror(VLOOKUP(B762,IMPORTRANGE(\"\"https://docs.google.com/spreadsheets/d/1bphtMaJ6lFh0VVWIgQh8ZCOchBZqvj0w5rveiNYcTnM/edit#gid=0\"\",\"\"RWA!F:BZ\"\"),53,0))\"),\"\")","v":""}]
[null,null,null,{"$f":"IFERROR(__xludf.DUMMYFUNCTION(\"iferror(VLOOKUP(B763,IMPORTRANGE(\"\"https://docs.google.com/spreadsheets/d/1bphtMaJ6lFh0VVWIgQh8ZCOchBZqvj0w5rveiNYcTnM/edit#gid=0\"\",\"\"RWA!F:BZ\"\"),44,0))\"),\"\")","v":""},{"$f":"IFERROR(__xludf.DUMMYFUNCTION(\"iferror(VLOOKUP(B763,IMPORTRANGE(\"\"https://docs.google.com/spreadsheets/d/1bphtMaJ6lFh0VVWIgQh8ZCOchBZqvj0w5rveiNYcTnM/edit#gid=0\"\",\"\"RWA!F:BZ\"\"),48,0))\"),\"\")","v":""},{"$f":"IFERROR(__xludf.DUMMYFUNCTION(\"iferror(VLOOKUP(B763,IMPORTRANGE(\"\"https://docs.google.com/spreadsheets/d/1bphtMaJ6lFh0VVWIgQh8ZCOchBZqvj0w5rveiNYcTnM/edit#gid=0\"\",\"\"RWA!F:BZ\"\"),49,0))\"),\"\")","v":""},{"$f":"IFERROR(__xludf.DUMMYFUNCTION(\"iferror(VLOOKUP(B763,IMPORTRANGE(\"\"https://docs.google.com/spreadsheets/d/1bphtMaJ6lFh0VVWIgQh8ZCOchBZqvj0w5rveiNYcTnM/edit#gid=0\"\",\"\"RWA!F:BZ\"\"),53,0))\"),\"\")","v":""}]
[null,null,null,{"$f":"IFERROR(__xludf.DUMMYFUNCTION(\"iferror(VLOOKUP(B764,IMPORTRANGE(\"\"https://docs.google.com/spreadsheets/d/1bphtMaJ6lFh0VVWIgQh8ZCOchBZqvj0w5rveiNYcTnM/edit#gid=0\"\",\"\"RWA!F:BZ\"\"),44,0))\"),\"\")","v":""},{"$f":"IFERROR(__xludf.DUMMYFUNCTION(\"iferror(VLOOKUP(B764,IMPORTRANGE(\"\"https://docs.google.com/spreadsheets/d/1bphtMaJ6lFh0VVWIgQh8ZCOchBZqvj0w5rveiNYcTnM/edit#gid=0\"\",\"\"RWA!F:BZ\"\"),48,0))\"),\"\")","v":""},{"$f":"IFERROR(__xludf.DUMMYFUNCTION(\"iferror(VLOOKUP(B764,IMPORTRANGE(\"\"https://docs.google.com/spreadsheets/d/1bphtMaJ6lFh0VVWIgQh8ZCOchBZqvj0w5rveiNYcTnM/edit#gid=0\"\",\"\"RWA!F:BZ\"\"),49,0))\"),\"\")","v":""},{"$f":"IFERROR(__xludf.DUMMYFUNCTION(\"iferror(VLOOKUP(B764,IMPORTRANGE(\"\"https://docs.google.com/spreadsheets/d/1bphtMaJ6lFh0VVWIgQh8ZCOchBZqvj0w5rveiNYcTnM/edit#gid=0\"\",\"\"RWA!F:BZ\"\"),53,0))\"),\"\")","v":""}]
[null,null,null,{"$f":"IFERROR(__xludf.DUMMYFUNCTION(\"iferror(VLOOKUP(B765,IMPORTRANGE(\"\"https://docs.google.com/spreadsheets/d/1bphtMaJ6lFh0VVWIgQh8ZCOchBZqvj0w5rveiNYcTnM/edit#gid=0\"\",\"\"RWA!F:BZ\"\"),44,0))\"),\"\")","v":""},{"$f":"IFERROR(__xludf.DUMMYFUNCTION(\"iferror(VLOOKUP(B765,IMPORTRANGE(\"\"https://docs.google.com/spreadsheets/d/1bphtMaJ6lFh0VVWIgQh8ZCOchBZqvj0w5rveiNYcTnM/edit#gid=0\"\",\"\"RWA!F:BZ\"\"),48,0))\"),\"\")","v":""},{"$f":"IFERROR(__xludf.DUMMYFUNCTION(\"iferror(VLOOKUP(B765,IMPORTRANGE(\"\"https://docs.google.com/spreadsheets/d/1bphtMaJ6lFh0VVWIgQh8ZCOchBZqvj0w5rveiNYcTnM/edit#gid=0\"\",\"\"RWA!F:BZ\"\"),49,0))\"),\"\")","v":""},{"$f":"IFERROR(__xludf.DUMMYFUNCTION(\"iferror(VLOOKUP(B765,IMPORTRANGE(\"\"https://docs.google.com/spreadsheets/d/1bphtMaJ6lFh0VVWIgQh8ZCOchBZqvj0w5rveiNYcTnM/edit#gid=0\"\",\"\"RWA!F:BZ\"\"),53,0))\"),\"\")","v":""}]
[null,null,null,{"$f":"IFERROR(__xludf.DUMMYFUNCTION(\"iferror(VLOOKUP(B766,IMPORTRANGE(\"\"https://docs.google.com/spreadsheets/d/1bphtMaJ6lFh0VVWIgQh8ZCOchBZqvj0w5rveiNYcTnM/edit#gid=0\"\",\"\"RWA!F:BZ\"\"),44,0))\"),\"\")","v":""},{"$f":"IFERROR(__xludf.DUMMYFUNCTION(\"iferror(VLOOKUP(B766,IMPORTRANGE(\"\"https://docs.google.com/spreadsheets/d/1bphtMaJ6lFh0VVWIgQh8ZCOchBZqvj0w5rveiNYcTnM/edit#gid=0\"\",\"\"RWA!F:BZ\"\"),48,0))\"),\"\")","v":""},{"$f":"IFERROR(__xludf.DUMMYFUNCTION(\"iferror(VLOOKUP(B766,IMPORTRANGE(\"\"https://docs.google.com/spreadsheets/d/1bphtMaJ6lFh0VVWIgQh8ZCOchBZqvj0w5rveiNYcTnM/edit#gid=0\"\",\"\"RWA!F:BZ\"\"),49,0))\"),\"\")","v":""},{"$f":"IFERROR(__xludf.DUMMYFUNCTION(\"iferror(VLOOKUP(B766,IMPORTRANGE(\"\"https://docs.google.com/spreadsheets/d/1bphtMaJ6lFh0VVWIgQh8ZCOchBZqvj0w5rveiNYcTnM/edit#gid=0\"\",\"\"RWA!F:BZ\"\"),53,0))\"),\"\")","v":""}]
[null,null,null,{"$f":"IFERROR(__xludf.DUMMYFUNCTION(\"iferror(VLOOKUP(B767,IMPORTRANGE(\"\"https://docs.google.com/spreadsheets/d/1bphtMaJ6lFh0VVWIgQh8ZCOchBZqvj0w5rveiNYcTnM/edit#gid=0\"\",\"\"RWA!F:BZ\"\"),44,0))\"),\"\")","v":""},{"$f":"IFERROR(__xludf.DUMMYFUNCTION(\"iferror(VLOOKUP(B767,IMPORTRANGE(\"\"https://docs.google.com/spreadsheets/d/1bphtMaJ6lFh0VVWIgQh8ZCOchBZqvj0w5rveiNYcTnM/edit#gid=0\"\",\"\"RWA!F:BZ\"\"),48,0))\"),\"\")","v":""},{"$f":"IFERROR(__xludf.DUMMYFUNCTION(\"iferror(VLOOKUP(B767,IMPORTRANGE(\"\"https://docs.google.com/spreadsheets/d/1bphtMaJ6lFh0VVWIgQh8ZCOchBZqvj0w5rveiNYcTnM/edit#gid=0\"\",\"\"RWA!F:BZ\"\"),49,0))\"),\"\")","v":""},{"$f":"IFERROR(__xludf.DUMMYFUNCTION(\"iferror(VLOOKUP(B767,IMPORTRANGE(\"\"https://docs.google.com/spreadsheets/d/1bphtMaJ6lFh0VVWIgQh8ZCOchBZqvj0w5rveiNYcTnM/edit#gid=0\"\",\"\"RWA!F:BZ\"\"),53,0))\"),\"\")","v":""}]
[null,null,null,{"$f":"IFERROR(__xludf.DUMMYFUNCTION(\"iferror(VLOOKUP(B768,IMPORTRANGE(\"\"https://docs.google.com/spreadsheets/d/1bphtMaJ6lFh0VVWIgQh8ZCOchBZqvj0w5rveiNYcTnM/edit#gid=0\"\",\"\"RWA!F:BZ\"\"),44,0))\"),\"\")","v":""},{"$f":"IFERROR(__xludf.DUMMYFUNCTION(\"iferror(VLOOKUP(B768,IMPORTRANGE(\"\"https://docs.google.com/spreadsheets/d/1bphtMaJ6lFh0VVWIgQh8ZCOchBZqvj0w5rveiNYcTnM/edit#gid=0\"\",\"\"RWA!F:BZ\"\"),48,0))\"),\"\")","v":""},{"$f":"IFERROR(__xludf.DUMMYFUNCTION(\"iferror(VLOOKUP(B768,IMPORTRANGE(\"\"https://docs.google.com/spreadsheets/d/1bphtMaJ6lFh0VVWIgQh8ZCOchBZqvj0w5rveiNYcTnM/edit#gid=0\"\",\"\"RWA!F:BZ\"\"),49,0))\"),\"\")","v":""},{"$f":"IFERROR(__xludf.DUMMYFUNCTION(\"iferror(VLOOKUP(B768,IMPORTRANGE(\"\"https://docs.google.com/spreadsheets/d/1bphtMaJ6lFh0VVWIgQh8ZCOchBZqvj0w5rveiNYcTnM/edit#gid=0\"\",\"\"RWA!F:BZ\"\"),53,0))\"),\"\")","v":""}]
[null,null,null,{"$f":"IFERROR(__xludf.DUMMYFUNCTION(\"iferror(VLOOKUP(B769,IMPORTRANGE(\"\"https://docs.google.com/spreadsheets/d/1bphtMaJ6lFh0VVWIgQh8ZCOchBZqvj0w5rveiNYcTnM/edit#gid=0\"\",\"\"RWA!F:BZ\"\"),44,0))\"),\"\")","v":""},{"$f":"IFERROR(__xludf.DUMMYFUNCTION(\"iferror(VLOOKUP(B769,IMPORTRANGE(\"\"https://docs.google.com/spreadsheets/d/1bphtMaJ6lFh0VVWIgQh8ZCOchBZqvj0w5rveiNYcTnM/edit#gid=0\"\",\"\"RWA!F:BZ\"\"),48,0))\"),\"\")","v":""},{"$f":"IFERROR(__xludf.DUMMYFUNCTION(\"iferror(VLOOKUP(B769,IMPORTRANGE(\"\"https://docs.google.com/spreadsheets/d/1bphtMaJ6lFh0VVWIgQh8ZCOchBZqvj0w5rveiNYcTnM/edit#gid=0\"\",\"\"RWA!F:BZ\"\"),49,0))\"),\"\")","v":""},{"$f":"IFERROR(__xludf.DUMMYFUNCTION(\"iferror(VLOOKUP(B769,IMPORTRANGE(\"\"https://docs.google.com/spreadsheets/d/1bphtMaJ6lFh0VVWIgQh8ZCOchBZqvj0w5rveiNYcTnM/edit#gid=0\"\",\"\"RWA!F:BZ\"\"),53,0))\"),\"\")","v":""}]
[null,null,null,{"$f":"IFERROR(__xludf.DUMMYFUNCTION(\"iferror(VLOOKUP(B770,IMPORTRANGE(\"\"https://docs.google.com/spreadsheets/d/1bphtMaJ6lFh0VVWIgQh8ZCOchBZqvj0w5rveiNYcTnM/edit#gid=0\"\",\"\"RWA!F:BZ\"\"),44,0))\"),\"\")","v":""},{"$f":"IFERROR(__xludf.DUMMYFUNCTION(\"iferror(VLOOKUP(B770,IMPORTRANGE(\"\"https://docs.google.com/spreadsheets/d/1bphtMaJ6lFh0VVWIgQh8ZCOchBZqvj0w5rveiNYcTnM/edit#gid=0\"\",\"\"RWA!F:BZ\"\"),48,0))\"),\"\")","v":""},{"$f":"IFERROR(__xludf.DUMMYFUNCTION(\"iferror(VLOOKUP(B770,IMPORTRANGE(\"\"https://docs.google.com/spreadsheets/d/1bphtMaJ6lFh0VVWIgQh8ZCOchBZqvj0w5rveiNYcTnM/edit#gid=0\"\",\"\"RWA!F:BZ\"\"),49,0))\"),\"\")","v":""},{"$f":"IFERROR(__xludf.DUMMYFUNCTION(\"iferror(VLOOKUP(B770,IMPORTRANGE(\"\"https://docs.google.com/spreadsheets/d/1bphtMaJ6lFh0VVWIgQh8ZCOchBZqvj0w5rveiNYcTnM/edit#gid=0\"\",\"\"RWA!F:BZ\"\"),53,0))\"),\"\")","v":""}]
[null,null,null,{"$f":"IFERROR(__xludf.DUMMYFUNCTION(\"iferror(VLOOKUP(B771,IMPORTRANGE(\"\"https://docs.google.com/spreadsheets/d/1bphtMaJ6lFh0VVWIgQh8ZCOchBZqvj0w5rveiNYcTnM/edit#gid=0\"\",\"\"RWA!F:BZ\"\"),44,0))\"),\"\")","v":""},{"$f":"IFERROR(__xludf.DUMMYFUNCTION(\"iferror(VLOOKUP(B771,IMPORTRANGE(\"\"https://docs.google.com/spreadsheets/d/1bphtMaJ6lFh0VVWIgQh8ZCOchBZqvj0w5rveiNYcTnM/edit#gid=0\"\",\"\"RWA!F:BZ\"\"),48,0))\"),\"\")","v":""},{"$f":"IFERROR(__xludf.DUMMYFUNCTION(\"iferror(VLOOKUP(B771,IMPORTRANGE(\"\"https://docs.google.com/spreadsheets/d/1bphtMaJ6lFh0VVWIgQh8ZCOchBZqvj0w5rveiNYcTnM/edit#gid=0\"\",\"\"RWA!F:BZ\"\"),49,0))\"),\"\")","v":""},{"$f":"IFERROR(__xludf.DUMMYFUNCTION(\"iferror(VLOOKUP(B771,IMPORTRANGE(\"\"https://docs.google.com/spreadsheets/d/1bphtMaJ6lFh0VVWIgQh8ZCOchBZqvj0w5rveiNYcTnM/edit#gid=0\"\",\"\"RWA!F:BZ\"\"),53,0))\"),\"\")","v":""}]
[null,null,null,{"$f":"IFERROR(__xludf.DUMMYFUNCTION(\"iferror(VLOOKUP(B772,IMPORTRANGE(\"\"https://docs.google.com/spreadsheets/d/1bphtMaJ6lFh0VVWIgQh8ZCOchBZqvj0w5rveiNYcTnM/edit#gid=0\"\",\"\"RWA!F:BZ\"\"),44,0))\"),\"\")","v":""},{"$f":"IFERROR(__xludf.DUMMYFUNCTION(\"iferror(VLOOKUP(B772,IMPORTRANGE(\"\"https://docs.google.com/spreadsheets/d/1bphtMaJ6lFh0VVWIgQh8ZCOchBZqvj0w5rveiNYcTnM/edit#gid=0\"\",\"\"RWA!F:BZ\"\"),48,0))\"),\"\")","v":""},{"$f":"IFERROR(__xludf.DUMMYFUNCTION(\"iferror(VLOOKUP(B772,IMPORTRANGE(\"\"https://docs.google.com/spreadsheets/d/1bphtMaJ6lFh0VVWIgQh8ZCOchBZqvj0w5rveiNYcTnM/edit#gid=0\"\",\"\"RWA!F:BZ\"\"),49,0))\"),\"\")","v":""},{"$f":"IFERROR(__xludf.DUMMYFUNCTION(\"iferror(VLOOKUP(B772,IMPORTRANGE(\"\"https://docs.google.com/spreadsheets/d/1bphtMaJ6lFh0VVWIgQh8ZCOchBZqvj0w5rveiNYcTnM/edit#gid=0\"\",\"\"RWA!F:BZ\"\"),53,0))\"),\"\")","v":""}]
[null,null,null,{"$f":"IFERROR(__xludf.DUMMYFUNCTION(\"iferror(VLOOKUP(B773,IMPORTRANGE(\"\"https://docs.google.com/spreadsheets/d/1bphtMaJ6lFh0VVWIgQh8ZCOchBZqvj0w5rveiNYcTnM/edit#gid=0\"\",\"\"RWA!F:BZ\"\"),44,0))\"),\"\")","v":""},{"$f":"IFERROR(__xludf.DUMMYFUNCTION(\"iferror(VLOOKUP(B773,IMPORTRANGE(\"\"https://docs.google.com/spreadsheets/d/1bphtMaJ6lFh0VVWIgQh8ZCOchBZqvj0w5rveiNYcTnM/edit#gid=0\"\",\"\"RWA!F:BZ\"\"),48,0))\"),\"\")","v":""},{"$f":"IFERROR(__xludf.DUMMYFUNCTION(\"iferror(VLOOKUP(B773,IMPORTRANGE(\"\"https://docs.google.com/spreadsheets/d/1bphtMaJ6lFh0VVWIgQh8ZCOchBZqvj0w5rveiNYcTnM/edit#gid=0\"\",\"\"RWA!F:BZ\"\"),49,0))\"),\"\")","v":""},{"$f":"IFERROR(__xludf.DUMMYFUNCTION(\"iferror(VLOOKUP(B773,IMPORTRANGE(\"\"https://docs.google.com/spreadsheets/d/1bphtMaJ6lFh0VVWIgQh8ZCOchBZqvj0w5rveiNYcTnM/edit#gid=0\"\",\"\"RWA!F:BZ\"\"),53,0))\"),\"\")","v":""}]
[null,null,null,{"$f":"IFERROR(__xludf.DUMMYFUNCTION(\"iferror(VLOOKUP(B774,IMPORTRANGE(\"\"https://docs.google.com/spreadsheets/d/1bphtMaJ6lFh0VVWIgQh8ZCOchBZqvj0w5rveiNYcTnM/edit#gid=0\"\",\"\"RWA!F:BZ\"\"),44,0))\"),\"\")","v":""},{"$f":"IFERROR(__xludf.DUMMYFUNCTION(\"iferror(VLOOKUP(B774,IMPORTRANGE(\"\"https://docs.google.com/spreadsheets/d/1bphtMaJ6lFh0VVWIgQh8ZCOchBZqvj0w5rveiNYcTnM/edit#gid=0\"\",\"\"RWA!F:BZ\"\"),48,0))\"),\"\")","v":""},{"$f":"IFERROR(__xludf.DUMMYFUNCTION(\"iferror(VLOOKUP(B774,IMPORTRANGE(\"\"https://docs.google.com/spreadsheets/d/1bphtMaJ6lFh0VVWIgQh8ZCOchBZqvj0w5rveiNYcTnM/edit#gid=0\"\",\"\"RWA!F:BZ\"\"),49,0))\"),\"\")","v":""},{"$f":"IFERROR(__xludf.DUMMYFUNCTION(\"iferror(VLOOKUP(B774,IMPORTRANGE(\"\"https://docs.google.com/spreadsheets/d/1bphtMaJ6lFh0VVWIgQh8ZCOchBZqvj0w5rveiNYcTnM/edit#gid=0\"\",\"\"RWA!F:BZ\"\"),53,0))\"),\"\")","v":""}]
[null,null,null,{"$f":"IFERROR(__xludf.DUMMYFUNCTION(\"iferror(VLOOKUP(B775,IMPORTRANGE(\"\"https://docs.google.com/spreadsheets/d/1bphtMaJ6lFh0VVWIgQh8ZCOchBZqvj0w5rveiNYcTnM/edit#gid=0\"\",\"\"RWA!F:BZ\"\"),44,0))\"),\"\")","v":""},{"$f":"IFERROR(__xludf.DUMMYFUNCTION(\"iferror(VLOOKUP(B775,IMPORTRANGE(\"\"https://docs.google.com/spreadsheets/d/1bphtMaJ6lFh0VVWIgQh8ZCOchBZqvj0w5rveiNYcTnM/edit#gid=0\"\",\"\"RWA!F:BZ\"\"),48,0))\"),\"\")","v":""},{"$f":"IFERROR(__xludf.DUMMYFUNCTION(\"iferror(VLOOKUP(B775,IMPORTRANGE(\"\"https://docs.google.com/spreadsheets/d/1bphtMaJ6lFh0VVWIgQh8ZCOchBZqvj0w5rveiNYcTnM/edit#gid=0\"\",\"\"RWA!F:BZ\"\"),49,0))\"),\"\")","v":""},{"$f":"IFERROR(__xludf.DUMMYFUNCTION(\"iferror(VLOOKUP(B775,IMPORTRANGE(\"\"https://docs.google.com/spreadsheets/d/1bphtMaJ6lFh0VVWIgQh8ZCOchBZqvj0w5rveiNYcTnM/edit#gid=0\"\",\"\"RWA!F:BZ\"\"),53,0))\"),\"\")","v":""}]
[null,null,null,{"$f":"IFERROR(__xludf.DUMMYFUNCTION(\"iferror(VLOOKUP(B776,IMPORTRANGE(\"\"https://docs.google.com/spreadsheets/d/1bphtMaJ6lFh0VVWIgQh8ZCOchBZqvj0w5rveiNYcTnM/edit#gid=0\"\",\"\"RWA!F:BZ\"\"),44,0))\"),\"\")","v":""},{"$f":"IFERROR(__xludf.DUMMYFUNCTION(\"iferror(VLOOKUP(B776,IMPORTRANGE(\"\"https://docs.google.com/spreadsheets/d/1bphtMaJ6lFh0VVWIgQh8ZCOchBZqvj0w5rveiNYcTnM/edit#gid=0\"\",\"\"RWA!F:BZ\"\"),48,0))\"),\"\")","v":""},{"$f":"IFERROR(__xludf.DUMMYFUNCTION(\"iferror(VLOOKUP(B776,IMPORTRANGE(\"\"https://docs.google.com/spreadsheets/d/1bphtMaJ6lFh0VVWIgQh8ZCOchBZqvj0w5rveiNYcTnM/edit#gid=0\"\",\"\"RWA!F:BZ\"\"),49,0))\"),\"\")","v":""},{"$f":"IFERROR(__xludf.DUMMYFUNCTION(\"iferror(VLOOKUP(B776,IMPORTRANGE(\"\"https://docs.google.com/spreadsheets/d/1bphtMaJ6lFh0VVWIgQh8ZCOchBZqvj0w5rveiNYcTnM/edit#gid=0\"\",\"\"RWA!F:BZ\"\"),53,0))\"),\"\")","v":""}]
[null,null,null,{"$f":"IFERROR(__xludf.DUMMYFUNCTION(\"iferror(VLOOKUP(B777,IMPORTRANGE(\"\"https://docs.google.com/spreadsheets/d/1bphtMaJ6lFh0VVWIgQh8ZCOchBZqvj0w5rveiNYcTnM/edit#gid=0\"\",\"\"RWA!F:BZ\"\"),44,0))\"),\"\")","v":""},{"$f":"IFERROR(__xludf.DUMMYFUNCTION(\"iferror(VLOOKUP(B777,IMPORTRANGE(\"\"https://docs.google.com/spreadsheets/d/1bphtMaJ6lFh0VVWIgQh8ZCOchBZqvj0w5rveiNYcTnM/edit#gid=0\"\",\"\"RWA!F:BZ\"\"),48,0))\"),\"\")","v":""},{"$f":"IFERROR(__xludf.DUMMYFUNCTION(\"iferror(VLOOKUP(B777,IMPORTRANGE(\"\"https://docs.google.com/spreadsheets/d/1bphtMaJ6lFh0VVWIgQh8ZCOchBZqvj0w5rveiNYcTnM/edit#gid=0\"\",\"\"RWA!F:BZ\"\"),49,0))\"),\"\")","v":""},{"$f":"IFERROR(__xludf.DUMMYFUNCTION(\"iferror(VLOOKUP(B777,IMPORTRANGE(\"\"https://docs.google.com/spreadsheets/d/1bphtMaJ6lFh0VVWIgQh8ZCOchBZqvj0w5rveiNYcTnM/edit#gid=0\"\",\"\"RWA!F:BZ\"\"),53,0))\"),\"\")","v":""}]
[null,null,null,{"$f":"IFERROR(__xludf.DUMMYFUNCTION(\"iferror(VLOOKUP(B778,IMPORTRANGE(\"\"https://docs.google.com/spreadsheets/d/1bphtMaJ6lFh0VVWIgQh8ZCOchBZqvj0w5rveiNYcTnM/edit#gid=0\"\",\"\"RWA!F:BZ\"\"),44,0))\"),\"\")","v":""},{"$f":"IFERROR(__xludf.DUMMYFUNCTION(\"iferror(VLOOKUP(B778,IMPORTRANGE(\"\"https://docs.google.com/spreadsheets/d/1bphtMaJ6lFh0VVWIgQh8ZCOchBZqvj0w5rveiNYcTnM/edit#gid=0\"\",\"\"RWA!F:BZ\"\"),48,0))\"),\"\")","v":""},{"$f":"IFERROR(__xludf.DUMMYFUNCTION(\"iferror(VLOOKUP(B778,IMPORTRANGE(\"\"https://docs.google.com/spreadsheets/d/1bphtMaJ6lFh0VVWIgQh8ZCOchBZqvj0w5rveiNYcTnM/edit#gid=0\"\",\"\"RWA!F:BZ\"\"),49,0))\"),\"\")","v":""},{"$f":"IFERROR(__xludf.DUMMYFUNCTION(\"iferror(VLOOKUP(B778,IMPORTRANGE(\"\"https://docs.google.com/spreadsheets/d/1bphtMaJ6lFh0VVWIgQh8ZCOchBZqvj0w5rveiNYcTnM/edit#gid=0\"\",\"\"RWA!F:BZ\"\"),53,0))\"),\"\")","v":""}]
[null,null,null,{"$f":"IFERROR(__xludf.DUMMYFUNCTION(\"iferror(VLOOKUP(B779,IMPORTRANGE(\"\"https://docs.google.com/spreadsheets/d/1bphtMaJ6lFh0VVWIgQh8ZCOchBZqvj0w5rveiNYcTnM/edit#gid=0\"\",\"\"RWA!F:BZ\"\"),44,0))\"),\"\")","v":""},{"$f":"IFERROR(__xludf.DUMMYFUNCTION(\"iferror(VLOOKUP(B779,IMPORTRANGE(\"\"https://docs.google.com/spreadsheets/d/1bphtMaJ6lFh0VVWIgQh8ZCOchBZqvj0w5rveiNYcTnM/edit#gid=0\"\",\"\"RWA!F:BZ\"\"),48,0))\"),\"\")","v":""},{"$f":"IFERROR(__xludf.DUMMYFUNCTION(\"iferror(VLOOKUP(B779,IMPORTRANGE(\"\"https://docs.google.com/spreadsheets/d/1bphtMaJ6lFh0VVWIgQh8ZCOchBZqvj0w5rveiNYcTnM/edit#gid=0\"\",\"\"RWA!F:BZ\"\"),49,0))\"),\"\")","v":""},{"$f":"IFERROR(__xludf.DUMMYFUNCTION(\"iferror(VLOOKUP(B779,IMPORTRANGE(\"\"https://docs.google.com/spreadsheets/d/1bphtMaJ6lFh0VVWIgQh8ZCOchBZqvj0w5rveiNYcTnM/edit#gid=0\"\",\"\"RWA!F:BZ\"\"),53,0))\"),\"\")","v":""}]
[null,null,null,{"$f":"IFERROR(__xludf.DUMMYFUNCTION(\"iferror(VLOOKUP(B780,IMPORTRANGE(\"\"https://docs.google.com/spreadsheets/d/1bphtMaJ6lFh0VVWIgQh8ZCOchBZqvj0w5rveiNYcTnM/edit#gid=0\"\",\"\"RWA!F:BZ\"\"),44,0))\"),\"\")","v":""},{"$f":"IFERROR(__xludf.DUMMYFUNCTION(\"iferror(VLOOKUP(B780,IMPORTRANGE(\"\"https://docs.google.com/spreadsheets/d/1bphtMaJ6lFh0VVWIgQh8ZCOchBZqvj0w5rveiNYcTnM/edit#gid=0\"\",\"\"RWA!F:BZ\"\"),48,0))\"),\"\")","v":""},{"$f":"IFERROR(__xludf.DUMMYFUNCTION(\"iferror(VLOOKUP(B780,IMPORTRANGE(\"\"https://docs.google.com/spreadsheets/d/1bphtMaJ6lFh0VVWIgQh8ZCOchBZqvj0w5rveiNYcTnM/edit#gid=0\"\",\"\"RWA!F:BZ\"\"),49,0))\"),\"\")","v":""},{"$f":"IFERROR(__xludf.DUMMYFUNCTION(\"iferror(VLOOKUP(B780,IMPORTRANGE(\"\"https://docs.google.com/spreadsheets/d/1bphtMaJ6lFh0VVWIgQh8ZCOchBZqvj0w5rveiNYcTnM/edit#gid=0\"\",\"\"RWA!F:BZ\"\"),53,0))\"),\"\")","v":""}]
[null,null,null,{"$f":"IFERROR(__xludf.DUMMYFUNCTION(\"iferror(VLOOKUP(B781,IMPORTRANGE(\"\"https://docs.google.com/spreadsheets/d/1bphtMaJ6lFh0VVWIgQh8ZCOchBZqvj0w5rveiNYcTnM/edit#gid=0\"\",\"\"RWA!F:BZ\"\"),44,0))\"),\"\")","v":""},{"$f":"IFERROR(__xludf.DUMMYFUNCTION(\"iferror(VLOOKUP(B781,IMPORTRANGE(\"\"https://docs.google.com/spreadsheets/d/1bphtMaJ6lFh0VVWIgQh8ZCOchBZqvj0w5rveiNYcTnM/edit#gid=0\"\",\"\"RWA!F:BZ\"\"),48,0))\"),\"\")","v":""},{"$f":"IFERROR(__xludf.DUMMYFUNCTION(\"iferror(VLOOKUP(B781,IMPORTRANGE(\"\"https://docs.google.com/spreadsheets/d/1bphtMaJ6lFh0VVWIgQh8ZCOchBZqvj0w5rveiNYcTnM/edit#gid=0\"\",\"\"RWA!F:BZ\"\"),49,0))\"),\"\")","v":""},{"$f":"IFERROR(__xludf.DUMMYFUNCTION(\"iferror(VLOOKUP(B781,IMPORTRANGE(\"\"https://docs.google.com/spreadsheets/d/1bphtMaJ6lFh0VVWIgQh8ZCOchBZqvj0w5rveiNYcTnM/edit#gid=0\"\",\"\"RWA!F:BZ\"\"),53,0))\"),\"\")","v":""}]
[null,null,null,{"$f":"IFERROR(__xludf.DUMMYFUNCTION(\"iferror(VLOOKUP(B782,IMPORTRANGE(\"\"https://docs.google.com/spreadsheets/d/1bphtMaJ6lFh0VVWIgQh8ZCOchBZqvj0w5rveiNYcTnM/edit#gid=0\"\",\"\"RWA!F:BZ\"\"),44,0))\"),\"\")","v":""},{"$f":"IFERROR(__xludf.DUMMYFUNCTION(\"iferror(VLOOKUP(B782,IMPORTRANGE(\"\"https://docs.google.com/spreadsheets/d/1bphtMaJ6lFh0VVWIgQh8ZCOchBZqvj0w5rveiNYcTnM/edit#gid=0\"\",\"\"RWA!F:BZ\"\"),48,0))\"),\"\")","v":""},{"$f":"IFERROR(__xludf.DUMMYFUNCTION(\"iferror(VLOOKUP(B782,IMPORTRANGE(\"\"https://docs.google.com/spreadsheets/d/1bphtMaJ6lFh0VVWIgQh8ZCOchBZqvj0w5rveiNYcTnM/edit#gid=0\"\",\"\"RWA!F:BZ\"\"),49,0))\"),\"\")","v":""},{"$f":"IFERROR(__xludf.DUMMYFUNCTION(\"iferror(VLOOKUP(B782,IMPORTRANGE(\"\"https://docs.google.com/spreadsheets/d/1bphtMaJ6lFh0VVWIgQh8ZCOchBZqvj0w5rveiNYcTnM/edit#gid=0\"\",\"\"RWA!F:BZ\"\"),53,0))\"),\"\")","v":""}]
[null,null,null,{"$f":"IFERROR(__xludf.DUMMYFUNCTION(\"iferror(VLOOKUP(B783,IMPORTRANGE(\"\"https://docs.google.com/spreadsheets/d/1bphtMaJ6lFh0VVWIgQh8ZCOchBZqvj0w5rveiNYcTnM/edit#gid=0\"\",\"\"RWA!F:BZ\"\"),44,0))\"),\"\")","v":""},{"$f":"IFERROR(__xludf.DUMMYFUNCTION(\"iferror(VLOOKUP(B783,IMPORTRANGE(\"\"https://docs.google.com/spreadsheets/d/1bphtMaJ6lFh0VVWIgQh8ZCOchBZqvj0w5rveiNYcTnM/edit#gid=0\"\",\"\"RWA!F:BZ\"\"),48,0))\"),\"\")","v":""},{"$f":"IFERROR(__xludf.DUMMYFUNCTION(\"iferror(VLOOKUP(B783,IMPORTRANGE(\"\"https://docs.google.com/spreadsheets/d/1bphtMaJ6lFh0VVWIgQh8ZCOchBZqvj0w5rveiNYcTnM/edit#gid=0\"\",\"\"RWA!F:BZ\"\"),49,0))\"),\"\")","v":""},{"$f":"IFERROR(__xludf.DUMMYFUNCTION(\"iferror(VLOOKUP(B783,IMPORTRANGE(\"\"https://docs.google.com/spreadsheets/d/1bphtMaJ6lFh0VVWIgQh8ZCOchBZqvj0w5rveiNYcTnM/edit#gid=0\"\",\"\"RWA!F:BZ\"\"),53,0))\"),\"\")","v":""}]
[null,null,null,{"$f":"IFERROR(__xludf.DUMMYFUNCTION(\"iferror(VLOOKUP(B784,IMPORTRANGE(\"\"https://docs.google.com/spreadsheets/d/1bphtMaJ6lFh0VVWIgQh8ZCOchBZqvj0w5rveiNYcTnM/edit#gid=0\"\",\"\"RWA!F:BZ\"\"),44,0))\"),\"\")","v":""},{"$f":"IFERROR(__xludf.DUMMYFUNCTION(\"iferror(VLOOKUP(B784,IMPORTRANGE(\"\"https://docs.google.com/spreadsheets/d/1bphtMaJ6lFh0VVWIgQh8ZCOchBZqvj0w5rveiNYcTnM/edit#gid=0\"\",\"\"RWA!F:BZ\"\"),48,0))\"),\"\")","v":""},{"$f":"IFERROR(__xludf.DUMMYFUNCTION(\"iferror(VLOOKUP(B784,IMPORTRANGE(\"\"https://docs.google.com/spreadsheets/d/1bphtMaJ6lFh0VVWIgQh8ZCOchBZqvj0w5rveiNYcTnM/edit#gid=0\"\",\"\"RWA!F:BZ\"\"),49,0))\"),\"\")","v":""},{"$f":"IFERROR(__xludf.DUMMYFUNCTION(\"iferror(VLOOKUP(B784,IMPORTRANGE(\"\"https://docs.google.com/spreadsheets/d/1bphtMaJ6lFh0VVWIgQh8ZCOchBZqvj0w5rveiNYcTnM/edit#gid=0\"\",\"\"RWA!F:BZ\"\"),53,0))\"),\"\")","v":""}]
[null,null,null,{"$f":"IFERROR(__xludf.DUMMYFUNCTION(\"iferror(VLOOKUP(B785,IMPORTRANGE(\"\"https://docs.google.com/spreadsheets/d/1bphtMaJ6lFh0VVWIgQh8ZCOchBZqvj0w5rveiNYcTnM/edit#gid=0\"\",\"\"RWA!F:BZ\"\"),44,0))\"),\"\")","v":""},{"$f":"IFERROR(__xludf.DUMMYFUNCTION(\"iferror(VLOOKUP(B785,IMPORTRANGE(\"\"https://docs.google.com/spreadsheets/d/1bphtMaJ6lFh0VVWIgQh8ZCOchBZqvj0w5rveiNYcTnM/edit#gid=0\"\",\"\"RWA!F:BZ\"\"),48,0))\"),\"\")","v":""},{"$f":"IFERROR(__xludf.DUMMYFUNCTION(\"iferror(VLOOKUP(B785,IMPORTRANGE(\"\"https://docs.google.com/spreadsheets/d/1bphtMaJ6lFh0VVWIgQh8ZCOchBZqvj0w5rveiNYcTnM/edit#gid=0\"\",\"\"RWA!F:BZ\"\"),49,0))\"),\"\")","v":""},{"$f":"IFERROR(__xludf.DUMMYFUNCTION(\"iferror(VLOOKUP(B785,IMPORTRANGE(\"\"https://docs.google.com/spreadsheets/d/1bphtMaJ6lFh0VVWIgQh8ZCOchBZqvj0w5rveiNYcTnM/edit#gid=0\"\",\"\"RWA!F:BZ\"\"),53,0))\"),\"\")","v":""}]
[null,null,null,{"$f":"IFERROR(__xludf.DUMMYFUNCTION(\"iferror(VLOOKUP(B786,IMPORTRANGE(\"\"https://docs.google.com/spreadsheets/d/1bphtMaJ6lFh0VVWIgQh8ZCOchBZqvj0w5rveiNYcTnM/edit#gid=0\"\",\"\"RWA!F:BZ\"\"),44,0))\"),\"\")","v":""},{"$f":"IFERROR(__xludf.DUMMYFUNCTION(\"iferror(VLOOKUP(B786,IMPORTRANGE(\"\"https://docs.google.com/spreadsheets/d/1bphtMaJ6lFh0VVWIgQh8ZCOchBZqvj0w5rveiNYcTnM/edit#gid=0\"\",\"\"RWA!F:BZ\"\"),48,0))\"),\"\")","v":""},{"$f":"IFERROR(__xludf.DUMMYFUNCTION(\"iferror(VLOOKUP(B786,IMPORTRANGE(\"\"https://docs.google.com/spreadsheets/d/1bphtMaJ6lFh0VVWIgQh8ZCOchBZqvj0w5rveiNYcTnM/edit#gid=0\"\",\"\"RWA!F:BZ\"\"),49,0))\"),\"\")","v":""},{"$f":"IFERROR(__xludf.DUMMYFUNCTION(\"iferror(VLOOKUP(B786,IMPORTRANGE(\"\"https://docs.google.com/spreadsheets/d/1bphtMaJ6lFh0VVWIgQh8ZCOchBZqvj0w5rveiNYcTnM/edit#gid=0\"\",\"\"RWA!F:BZ\"\"),53,0))\"),\"\")","v":""}]
[null,null,null,{"$f":"IFERROR(__xludf.DUMMYFUNCTION(\"iferror(VLOOKUP(B787,IMPORTRANGE(\"\"https://docs.google.com/spreadsheets/d/1bphtMaJ6lFh0VVWIgQh8ZCOchBZqvj0w5rveiNYcTnM/edit#gid=0\"\",\"\"RWA!F:BZ\"\"),44,0))\"),\"\")","v":""},{"$f":"IFERROR(__xludf.DUMMYFUNCTION(\"iferror(VLOOKUP(B787,IMPORTRANGE(\"\"https://docs.google.com/spreadsheets/d/1bphtMaJ6lFh0VVWIgQh8ZCOchBZqvj0w5rveiNYcTnM/edit#gid=0\"\",\"\"RWA!F:BZ\"\"),48,0))\"),\"\")","v":""},{"$f":"IFERROR(__xludf.DUMMYFUNCTION(\"iferror(VLOOKUP(B787,IMPORTRANGE(\"\"https://docs.google.com/spreadsheets/d/1bphtMaJ6lFh0VVWIgQh8ZCOchBZqvj0w5rveiNYcTnM/edit#gid=0\"\",\"\"RWA!F:BZ\"\"),49,0))\"),\"\")","v":""},{"$f":"IFERROR(__xludf.DUMMYFUNCTION(\"iferror(VLOOKUP(B787,IMPORTRANGE(\"\"https://docs.google.com/spreadsheets/d/1bphtMaJ6lFh0VVWIgQh8ZCOchBZqvj0w5rveiNYcTnM/edit#gid=0\"\",\"\"RWA!F:BZ\"\"),53,0))\"),\"\")","v":""}]
[null,null,null,{"$f":"IFERROR(__xludf.DUMMYFUNCTION(\"iferror(VLOOKUP(B788,IMPORTRANGE(\"\"https://docs.google.com/spreadsheets/d/1bphtMaJ6lFh0VVWIgQh8ZCOchBZqvj0w5rveiNYcTnM/edit#gid=0\"\",\"\"RWA!F:BZ\"\"),44,0))\"),\"\")","v":""},{"$f":"IFERROR(__xludf.DUMMYFUNCTION(\"iferror(VLOOKUP(B788,IMPORTRANGE(\"\"https://docs.google.com/spreadsheets/d/1bphtMaJ6lFh0VVWIgQh8ZCOchBZqvj0w5rveiNYcTnM/edit#gid=0\"\",\"\"RWA!F:BZ\"\"),48,0))\"),\"\")","v":""},{"$f":"IFERROR(__xludf.DUMMYFUNCTION(\"iferror(VLOOKUP(B788,IMPORTRANGE(\"\"https://docs.google.com/spreadsheets/d/1bphtMaJ6lFh0VVWIgQh8ZCOchBZqvj0w5rveiNYcTnM/edit#gid=0\"\",\"\"RWA!F:BZ\"\"),49,0))\"),\"\")","v":""},{"$f":"IFERROR(__xludf.DUMMYFUNCTION(\"iferror(VLOOKUP(B788,IMPORTRANGE(\"\"https://docs.google.com/spreadsheets/d/1bphtMaJ6lFh0VVWIgQh8ZCOchBZqvj0w5rveiNYcTnM/edit#gid=0\"\",\"\"RWA!F:BZ\"\"),53,0))\"),\"\")","v":""}]
[null,null,null,{"$f":"IFERROR(__xludf.DUMMYFUNCTION(\"iferror(VLOOKUP(B789,IMPORTRANGE(\"\"https://docs.google.com/spreadsheets/d/1bphtMaJ6lFh0VVWIgQh8ZCOchBZqvj0w5rveiNYcTnM/edit#gid=0\"\",\"\"RWA!F:BZ\"\"),44,0))\"),\"\")","v":""},{"$f":"IFERROR(__xludf.DUMMYFUNCTION(\"iferror(VLOOKUP(B789,IMPORTRANGE(\"\"https://docs.google.com/spreadsheets/d/1bphtMaJ6lFh0VVWIgQh8ZCOchBZqvj0w5rveiNYcTnM/edit#gid=0\"\",\"\"RWA!F:BZ\"\"),48,0))\"),\"\")","v":""},{"$f":"IFERROR(__xludf.DUMMYFUNCTION(\"iferror(VLOOKUP(B789,IMPORTRANGE(\"\"https://docs.google.com/spreadsheets/d/1bphtMaJ6lFh0VVWIgQh8ZCOchBZqvj0w5rveiNYcTnM/edit#gid=0\"\",\"\"RWA!F:BZ\"\"),49,0))\"),\"\")","v":""},{"$f":"IFERROR(__xludf.DUMMYFUNCTION(\"iferror(VLOOKUP(B789,IMPORTRANGE(\"\"https://docs.google.com/spreadsheets/d/1bphtMaJ6lFh0VVWIgQh8ZCOchBZqvj0w5rveiNYcTnM/edit#gid=0\"\",\"\"RWA!F:BZ\"\"),53,0))\"),\"\")","v":""}]
[null,null,null,{"$f":"IFERROR(__xludf.DUMMYFUNCTION(\"iferror(VLOOKUP(B790,IMPORTRANGE(\"\"https://docs.google.com/spreadsheets/d/1bphtMaJ6lFh0VVWIgQh8ZCOchBZqvj0w5rveiNYcTnM/edit#gid=0\"\",\"\"RWA!F:BZ\"\"),44,0))\"),\"\")","v":""},{"$f":"IFERROR(__xludf.DUMMYFUNCTION(\"iferror(VLOOKUP(B790,IMPORTRANGE(\"\"https://docs.google.com/spreadsheets/d/1bphtMaJ6lFh0VVWIgQh8ZCOchBZqvj0w5rveiNYcTnM/edit#gid=0\"\",\"\"RWA!F:BZ\"\"),48,0))\"),\"\")","v":""},{"$f":"IFERROR(__xludf.DUMMYFUNCTION(\"iferror(VLOOKUP(B790,IMPORTRANGE(\"\"https://docs.google.com/spreadsheets/d/1bphtMaJ6lFh0VVWIgQh8ZCOchBZqvj0w5rveiNYcTnM/edit#gid=0\"\",\"\"RWA!F:BZ\"\"),49,0))\"),\"\")","v":""},{"$f":"IFERROR(__xludf.DUMMYFUNCTION(\"iferror(VLOOKUP(B790,IMPORTRANGE(\"\"https://docs.google.com/spreadsheets/d/1bphtMaJ6lFh0VVWIgQh8ZCOchBZqvj0w5rveiNYcTnM/edit#gid=0\"\",\"\"RWA!F:BZ\"\"),53,0))\"),\"\")","v":""}]
[null,null,null,{"$f":"IFERROR(__xludf.DUMMYFUNCTION(\"iferror(VLOOKUP(B791,IMPORTRANGE(\"\"https://docs.google.com/spreadsheets/d/1bphtMaJ6lFh0VVWIgQh8ZCOchBZqvj0w5rveiNYcTnM/edit#gid=0\"\",\"\"RWA!F:BZ\"\"),44,0))\"),\"\")","v":""},{"$f":"IFERROR(__xludf.DUMMYFUNCTION(\"iferror(VLOOKUP(B791,IMPORTRANGE(\"\"https://docs.google.com/spreadsheets/d/1bphtMaJ6lFh0VVWIgQh8ZCOchBZqvj0w5rveiNYcTnM/edit#gid=0\"\",\"\"RWA!F:BZ\"\"),48,0))\"),\"\")","v":""},{"$f":"IFERROR(__xludf.DUMMYFUNCTION(\"iferror(VLOOKUP(B791,IMPORTRANGE(\"\"https://docs.google.com/spreadsheets/d/1bphtMaJ6lFh0VVWIgQh8ZCOchBZqvj0w5rveiNYcTnM/edit#gid=0\"\",\"\"RWA!F:BZ\"\"),49,0))\"),\"\")","v":""},{"$f":"IFERROR(__xludf.DUMMYFUNCTION(\"iferror(VLOOKUP(B791,IMPORTRANGE(\"\"https://docs.google.com/spreadsheets/d/1bphtMaJ6lFh0VVWIgQh8ZCOchBZqvj0w5rveiNYcTnM/edit#gid=0\"\",\"\"RWA!F:BZ\"\"),53,0))\"),\"\")","v":""}]
[null,null,null,{"$f":"IFERROR(__xludf.DUMMYFUNCTION(\"iferror(VLOOKUP(B792,IMPORTRANGE(\"\"https://docs.google.com/spreadsheets/d/1bphtMaJ6lFh0VVWIgQh8ZCOchBZqvj0w5rveiNYcTnM/edit#gid=0\"\",\"\"RWA!F:BZ\"\"),44,0))\"),\"\")","v":""},{"$f":"IFERROR(__xludf.DUMMYFUNCTION(\"iferror(VLOOKUP(B792,IMPORTRANGE(\"\"https://docs.google.com/spreadsheets/d/1bphtMaJ6lFh0VVWIgQh8ZCOchBZqvj0w5rveiNYcTnM/edit#gid=0\"\",\"\"RWA!F:BZ\"\"),48,0))\"),\"\")","v":""},{"$f":"IFERROR(__xludf.DUMMYFUNCTION(\"iferror(VLOOKUP(B792,IMPORTRANGE(\"\"https://docs.google.com/spreadsheets/d/1bphtMaJ6lFh0VVWIgQh8ZCOchBZqvj0w5rveiNYcTnM/edit#gid=0\"\",\"\"RWA!F:BZ\"\"),49,0))\"),\"\")","v":""},{"$f":"IFERROR(__xludf.DUMMYFUNCTION(\"iferror(VLOOKUP(B792,IMPORTRANGE(\"\"https://docs.google.com/spreadsheets/d/1bphtMaJ6lFh0VVWIgQh8ZCOchBZqvj0w5rveiNYcTnM/edit#gid=0\"\",\"\"RWA!F:BZ\"\"),53,0))\"),\"\")","v":""}]
[null,null,null,{"$f":"IFERROR(__xludf.DUMMYFUNCTION(\"iferror(VLOOKUP(B793,IMPORTRANGE(\"\"https://docs.google.com/spreadsheets/d/1bphtMaJ6lFh0VVWIgQh8ZCOchBZqvj0w5rveiNYcTnM/edit#gid=0\"\",\"\"RWA!F:BZ\"\"),44,0))\"),\"\")","v":""},{"$f":"IFERROR(__xludf.DUMMYFUNCTION(\"iferror(VLOOKUP(B793,IMPORTRANGE(\"\"https://docs.google.com/spreadsheets/d/1bphtMaJ6lFh0VVWIgQh8ZCOchBZqvj0w5rveiNYcTnM/edit#gid=0\"\",\"\"RWA!F:BZ\"\"),48,0))\"),\"\")","v":""},{"$f":"IFERROR(__xludf.DUMMYFUNCTION(\"iferror(VLOOKUP(B793,IMPORTRANGE(\"\"https://docs.google.com/spreadsheets/d/1bphtMaJ6lFh0VVWIgQh8ZCOchBZqvj0w5rveiNYcTnM/edit#gid=0\"\",\"\"RWA!F:BZ\"\"),49,0))\"),\"\")","v":""},{"$f":"IFERROR(__xludf.DUMMYFUNCTION(\"iferror(VLOOKUP(B793,IMPORTRANGE(\"\"https://docs.google.com/spreadsheets/d/1bphtMaJ6lFh0VVWIgQh8ZCOchBZqvj0w5rveiNYcTnM/edit#gid=0\"\",\"\"RWA!F:BZ\"\"),53,0))\"),\"\")","v":""}]
[null,null,null,{"$f":"IFERROR(__xludf.DUMMYFUNCTION(\"iferror(VLOOKUP(B794,IMPORTRANGE(\"\"https://docs.google.com/spreadsheets/d/1bphtMaJ6lFh0VVWIgQh8ZCOchBZqvj0w5rveiNYcTnM/edit#gid=0\"\",\"\"RWA!F:BZ\"\"),44,0))\"),\"\")","v":""},{"$f":"IFERROR(__xludf.DUMMYFUNCTION(\"iferror(VLOOKUP(B794,IMPORTRANGE(\"\"https://docs.google.com/spreadsheets/d/1bphtMaJ6lFh0VVWIgQh8ZCOchBZqvj0w5rveiNYcTnM/edit#gid=0\"\",\"\"RWA!F:BZ\"\"),48,0))\"),\"\")","v":""},{"$f":"IFERROR(__xludf.DUMMYFUNCTION(\"iferror(VLOOKUP(B794,IMPORTRANGE(\"\"https://docs.google.com/spreadsheets/d/1bphtMaJ6lFh0VVWIgQh8ZCOchBZqvj0w5rveiNYcTnM/edit#gid=0\"\",\"\"RWA!F:BZ\"\"),49,0))\"),\"\")","v":""},{"$f":"IFERROR(__xludf.DUMMYFUNCTION(\"iferror(VLOOKUP(B794,IMPORTRANGE(\"\"https://docs.google.com/spreadsheets/d/1bphtMaJ6lFh0VVWIgQh8ZCOchBZqvj0w5rveiNYcTnM/edit#gid=0\"\",\"\"RWA!F:BZ\"\"),53,0))\"),\"\")","v":""}]
[null,null,null,{"$f":"IFERROR(__xludf.DUMMYFUNCTION(\"iferror(VLOOKUP(B795,IMPORTRANGE(\"\"https://docs.google.com/spreadsheets/d/1bphtMaJ6lFh0VVWIgQh8ZCOchBZqvj0w5rveiNYcTnM/edit#gid=0\"\",\"\"RWA!F:BZ\"\"),44,0))\"),\"\")","v":""},{"$f":"IFERROR(__xludf.DUMMYFUNCTION(\"iferror(VLOOKUP(B795,IMPORTRANGE(\"\"https://docs.google.com/spreadsheets/d/1bphtMaJ6lFh0VVWIgQh8ZCOchBZqvj0w5rveiNYcTnM/edit#gid=0\"\",\"\"RWA!F:BZ\"\"),48,0))\"),\"\")","v":""},{"$f":"IFERROR(__xludf.DUMMYFUNCTION(\"iferror(VLOOKUP(B795,IMPORTRANGE(\"\"https://docs.google.com/spreadsheets/d/1bphtMaJ6lFh0VVWIgQh8ZCOchBZqvj0w5rveiNYcTnM/edit#gid=0\"\",\"\"RWA!F:BZ\"\"),49,0))\"),\"\")","v":""},{"$f":"IFERROR(__xludf.DUMMYFUNCTION(\"iferror(VLOOKUP(B795,IMPORTRANGE(\"\"https://docs.google.com/spreadsheets/d/1bphtMaJ6lFh0VVWIgQh8ZCOchBZqvj0w5rveiNYcTnM/edit#gid=0\"\",\"\"RWA!F:BZ\"\"),53,0))\"),\"\")","v":""}]
[null,null,null,{"$f":"IFERROR(__xludf.DUMMYFUNCTION(\"iferror(VLOOKUP(B796,IMPORTRANGE(\"\"https://docs.google.com/spreadsheets/d/1bphtMaJ6lFh0VVWIgQh8ZCOchBZqvj0w5rveiNYcTnM/edit#gid=0\"\",\"\"RWA!F:BZ\"\"),44,0))\"),\"\")","v":""},{"$f":"IFERROR(__xludf.DUMMYFUNCTION(\"iferror(VLOOKUP(B796,IMPORTRANGE(\"\"https://docs.google.com/spreadsheets/d/1bphtMaJ6lFh0VVWIgQh8ZCOchBZqvj0w5rveiNYcTnM/edit#gid=0\"\",\"\"RWA!F:BZ\"\"),48,0))\"),\"\")","v":""},{"$f":"IFERROR(__xludf.DUMMYFUNCTION(\"iferror(VLOOKUP(B796,IMPORTRANGE(\"\"https://docs.google.com/spreadsheets/d/1bphtMaJ6lFh0VVWIgQh8ZCOchBZqvj0w5rveiNYcTnM/edit#gid=0\"\",\"\"RWA!F:BZ\"\"),49,0))\"),\"\")","v":""},{"$f":"IFERROR(__xludf.DUMMYFUNCTION(\"iferror(VLOOKUP(B796,IMPORTRANGE(\"\"https://docs.google.com/spreadsheets/d/1bphtMaJ6lFh0VVWIgQh8ZCOchBZqvj0w5rveiNYcTnM/edit#gid=0\"\",\"\"RWA!F:BZ\"\"),53,0))\"),\"\")","v":""}]
[null,null,null,{"$f":"IFERROR(__xludf.DUMMYFUNCTION(\"iferror(VLOOKUP(B797,IMPORTRANGE(\"\"https://docs.google.com/spreadsheets/d/1bphtMaJ6lFh0VVWIgQh8ZCOchBZqvj0w5rveiNYcTnM/edit#gid=0\"\",\"\"RWA!F:BZ\"\"),44,0))\"),\"\")","v":""},{"$f":"IFERROR(__xludf.DUMMYFUNCTION(\"iferror(VLOOKUP(B797,IMPORTRANGE(\"\"https://docs.google.com/spreadsheets/d/1bphtMaJ6lFh0VVWIgQh8ZCOchBZqvj0w5rveiNYcTnM/edit#gid=0\"\",\"\"RWA!F:BZ\"\"),48,0))\"),\"\")","v":""},{"$f":"IFERROR(__xludf.DUMMYFUNCTION(\"iferror(VLOOKUP(B797,IMPORTRANGE(\"\"https://docs.google.com/spreadsheets/d/1bphtMaJ6lFh0VVWIgQh8ZCOchBZqvj0w5rveiNYcTnM/edit#gid=0\"\",\"\"RWA!F:BZ\"\"),49,0))\"),\"\")","v":""},{"$f":"IFERROR(__xludf.DUMMYFUNCTION(\"iferror(VLOOKUP(B797,IMPORTRANGE(\"\"https://docs.google.com/spreadsheets/d/1bphtMaJ6lFh0VVWIgQh8ZCOchBZqvj0w5rveiNYcTnM/edit#gid=0\"\",\"\"RWA!F:BZ\"\"),53,0))\"),\"\")","v":""}]
[null,null,null,{"$f":"IFERROR(__xludf.DUMMYFUNCTION(\"iferror(VLOOKUP(B798,IMPORTRANGE(\"\"https://docs.google.com/spreadsheets/d/1bphtMaJ6lFh0VVWIgQh8ZCOchBZqvj0w5rveiNYcTnM/edit#gid=0\"\",\"\"RWA!F:BZ\"\"),44,0))\"),\"\")","v":""},{"$f":"IFERROR(__xludf.DUMMYFUNCTION(\"iferror(VLOOKUP(B798,IMPORTRANGE(\"\"https://docs.google.com/spreadsheets/d/1bphtMaJ6lFh0VVWIgQh8ZCOchBZqvj0w5rveiNYcTnM/edit#gid=0\"\",\"\"RWA!F:BZ\"\"),48,0))\"),\"\")","v":""},{"$f":"IFERROR(__xludf.DUMMYFUNCTION(\"iferror(VLOOKUP(B798,IMPORTRANGE(\"\"https://docs.google.com/spreadsheets/d/1bphtMaJ6lFh0VVWIgQh8ZCOchBZqvj0w5rveiNYcTnM/edit#gid=0\"\",\"\"RWA!F:BZ\"\"),49,0))\"),\"\")","v":""},{"$f":"IFERROR(__xludf.DUMMYFUNCTION(\"iferror(VLOOKUP(B798,IMPORTRANGE(\"\"https://docs.google.com/spreadsheets/d/1bphtMaJ6lFh0VVWIgQh8ZCOchBZqvj0w5rveiNYcTnM/edit#gid=0\"\",\"\"RWA!F:BZ\"\"),53,0))\"),\"\")","v":""}]
[null,null,null,{"$f":"IFERROR(__xludf.DUMMYFUNCTION(\"iferror(VLOOKUP(B799,IMPORTRANGE(\"\"https://docs.google.com/spreadsheets/d/1bphtMaJ6lFh0VVWIgQh8ZCOchBZqvj0w5rveiNYcTnM/edit#gid=0\"\",\"\"RWA!F:BZ\"\"),44,0))\"),\"\")","v":""},{"$f":"IFERROR(__xludf.DUMMYFUNCTION(\"iferror(VLOOKUP(B799,IMPORTRANGE(\"\"https://docs.google.com/spreadsheets/d/1bphtMaJ6lFh0VVWIgQh8ZCOchBZqvj0w5rveiNYcTnM/edit#gid=0\"\",\"\"RWA!F:BZ\"\"),48,0))\"),\"\")","v":""},{"$f":"IFERROR(__xludf.DUMMYFUNCTION(\"iferror(VLOOKUP(B799,IMPORTRANGE(\"\"https://docs.google.com/spreadsheets/d/1bphtMaJ6lFh0VVWIgQh8ZCOchBZqvj0w5rveiNYcTnM/edit#gid=0\"\",\"\"RWA!F:BZ\"\"),49,0))\"),\"\")","v":""},{"$f":"IFERROR(__xludf.DUMMYFUNCTION(\"iferror(VLOOKUP(B799,IMPORTRANGE(\"\"https://docs.google.com/spreadsheets/d/1bphtMaJ6lFh0VVWIgQh8ZCOchBZqvj0w5rveiNYcTnM/edit#gid=0\"\",\"\"RWA!F:BZ\"\"),53,0))\"),\"\")","v":""}]
[null,null,null,{"$f":"IFERROR(__xludf.DUMMYFUNCTION(\"iferror(VLOOKUP(B800,IMPORTRANGE(\"\"https://docs.google.com/spreadsheets/d/1bphtMaJ6lFh0VVWIgQh8ZCOchBZqvj0w5rveiNYcTnM/edit#gid=0\"\",\"\"RWA!F:BZ\"\"),44,0))\"),\"\")","v":""},{"$f":"IFERROR(__xludf.DUMMYFUNCTION(\"iferror(VLOOKUP(B800,IMPORTRANGE(\"\"https://docs.google.com/spreadsheets/d/1bphtMaJ6lFh0VVWIgQh8ZCOchBZqvj0w5rveiNYcTnM/edit#gid=0\"\",\"\"RWA!F:BZ\"\"),48,0))\"),\"\")","v":""},{"$f":"IFERROR(__xludf.DUMMYFUNCTION(\"iferror(VLOOKUP(B800,IMPORTRANGE(\"\"https://docs.google.com/spreadsheets/d/1bphtMaJ6lFh0VVWIgQh8ZCOchBZqvj0w5rveiNYcTnM/edit#gid=0\"\",\"\"RWA!F:BZ\"\"),49,0))\"),\"\")","v":""},{"$f":"IFERROR(__xludf.DUMMYFUNCTION(\"iferror(VLOOKUP(B800,IMPORTRANGE(\"\"https://docs.google.com/spreadsheets/d/1bphtMaJ6lFh0VVWIgQh8ZCOchBZqvj0w5rveiNYcTnM/edit#gid=0\"\",\"\"RWA!F:BZ\"\"),53,0))\"),\"\")","v":""}]
[null,null,null,{"$f":"IFERROR(__xludf.DUMMYFUNCTION(\"iferror(VLOOKUP(B801,IMPORTRANGE(\"\"https://docs.google.com/spreadsheets/d/1bphtMaJ6lFh0VVWIgQh8ZCOchBZqvj0w5rveiNYcTnM/edit#gid=0\"\",\"\"RWA!F:BZ\"\"),44,0))\"),\"\")","v":""},{"$f":"IFERROR(__xludf.DUMMYFUNCTION(\"iferror(VLOOKUP(B801,IMPORTRANGE(\"\"https://docs.google.com/spreadsheets/d/1bphtMaJ6lFh0VVWIgQh8ZCOchBZqvj0w5rveiNYcTnM/edit#gid=0\"\",\"\"RWA!F:BZ\"\"),48,0))\"),\"\")","v":""},{"$f":"IFERROR(__xludf.DUMMYFUNCTION(\"iferror(VLOOKUP(B801,IMPORTRANGE(\"\"https://docs.google.com/spreadsheets/d/1bphtMaJ6lFh0VVWIgQh8ZCOchBZqvj0w5rveiNYcTnM/edit#gid=0\"\",\"\"RWA!F:BZ\"\"),49,0))\"),\"\")","v":""},{"$f":"IFERROR(__xludf.DUMMYFUNCTION(\"iferror(VLOOKUP(B801,IMPORTRANGE(\"\"https://docs.google.com/spreadsheets/d/1bphtMaJ6lFh0VVWIgQh8ZCOchBZqvj0w5rveiNYcTnM/edit#gid=0\"\",\"\"RWA!F:BZ\"\"),53,0))\"),\"\")","v":""}]
[null,null,null,{"$f":"IFERROR(__xludf.DUMMYFUNCTION(\"iferror(VLOOKUP(B802,IMPORTRANGE(\"\"https://docs.google.com/spreadsheets/d/1bphtMaJ6lFh0VVWIgQh8ZCOchBZqvj0w5rveiNYcTnM/edit#gid=0\"\",\"\"RWA!F:BZ\"\"),44,0))\"),\"\")","v":""},{"$f":"IFERROR(__xludf.DUMMYFUNCTION(\"iferror(VLOOKUP(B802,IMPORTRANGE(\"\"https://docs.google.com/spreadsheets/d/1bphtMaJ6lFh0VVWIgQh8ZCOchBZqvj0w5rveiNYcTnM/edit#gid=0\"\",\"\"RWA!F:BZ\"\"),48,0))\"),\"\")","v":""},{"$f":"IFERROR(__xludf.DUMMYFUNCTION(\"iferror(VLOOKUP(B802,IMPORTRANGE(\"\"https://docs.google.com/spreadsheets/d/1bphtMaJ6lFh0VVWIgQh8ZCOchBZqvj0w5rveiNYcTnM/edit#gid=0\"\",\"\"RWA!F:BZ\"\"),49,0))\"),\"\")","v":""},{"$f":"IFERROR(__xludf.DUMMYFUNCTION(\"iferror(VLOOKUP(B802,IMPORTRANGE(\"\"https://docs.google.com/spreadsheets/d/1bphtMaJ6lFh0VVWIgQh8ZCOchBZqvj0w5rveiNYcTnM/edit#gid=0\"\",\"\"RWA!F:BZ\"\"),53,0))\"),\"\")","v":""}]
[null,null,null,{"$f":"IFERROR(__xludf.DUMMYFUNCTION(\"iferror(VLOOKUP(B803,IMPORTRANGE(\"\"https://docs.google.com/spreadsheets/d/1bphtMaJ6lFh0VVWIgQh8ZCOchBZqvj0w5rveiNYcTnM/edit#gid=0\"\",\"\"RWA!F:BZ\"\"),44,0))\"),\"\")","v":""},{"$f":"IFERROR(__xludf.DUMMYFUNCTION(\"iferror(VLOOKUP(B803,IMPORTRANGE(\"\"https://docs.google.com/spreadsheets/d/1bphtMaJ6lFh0VVWIgQh8ZCOchBZqvj0w5rveiNYcTnM/edit#gid=0\"\",\"\"RWA!F:BZ\"\"),48,0))\"),\"\")","v":""},{"$f":"IFERROR(__xludf.DUMMYFUNCTION(\"iferror(VLOOKUP(B803,IMPORTRANGE(\"\"https://docs.google.com/spreadsheets/d/1bphtMaJ6lFh0VVWIgQh8ZCOchBZqvj0w5rveiNYcTnM/edit#gid=0\"\",\"\"RWA!F:BZ\"\"),49,0))\"),\"\")","v":""},{"$f":"IFERROR(__xludf.DUMMYFUNCTION(\"iferror(VLOOKUP(B803,IMPORTRANGE(\"\"https://docs.google.com/spreadsheets/d/1bphtMaJ6lFh0VVWIgQh8ZCOchBZqvj0w5rveiNYcTnM/edit#gid=0\"\",\"\"RWA!F:BZ\"\"),53,0))\"),\"\")","v":""}]
[null,null,null,{"$f":"IFERROR(__xludf.DUMMYFUNCTION(\"iferror(VLOOKUP(B804,IMPORTRANGE(\"\"https://docs.google.com/spreadsheets/d/1bphtMaJ6lFh0VVWIgQh8ZCOchBZqvj0w5rveiNYcTnM/edit#gid=0\"\",\"\"RWA!F:BZ\"\"),44,0))\"),\"\")","v":""},{"$f":"IFERROR(__xludf.DUMMYFUNCTION(\"iferror(VLOOKUP(B804,IMPORTRANGE(\"\"https://docs.google.com/spreadsheets/d/1bphtMaJ6lFh0VVWIgQh8ZCOchBZqvj0w5rveiNYcTnM/edit#gid=0\"\",\"\"RWA!F:BZ\"\"),48,0))\"),\"\")","v":""},{"$f":"IFERROR(__xludf.DUMMYFUNCTION(\"iferror(VLOOKUP(B804,IMPORTRANGE(\"\"https://docs.google.com/spreadsheets/d/1bphtMaJ6lFh0VVWIgQh8ZCOchBZqvj0w5rveiNYcTnM/edit#gid=0\"\",\"\"RWA!F:BZ\"\"),49,0))\"),\"\")","v":""},{"$f":"IFERROR(__xludf.DUMMYFUNCTION(\"iferror(VLOOKUP(B804,IMPORTRANGE(\"\"https://docs.google.com/spreadsheets/d/1bphtMaJ6lFh0VVWIgQh8ZCOchBZqvj0w5rveiNYcTnM/edit#gid=0\"\",\"\"RWA!F:BZ\"\"),53,0))\"),\"\")","v":""}]
[null,null,null,{"$f":"IFERROR(__xludf.DUMMYFUNCTION(\"iferror(VLOOKUP(B805,IMPORTRANGE(\"\"https://docs.google.com/spreadsheets/d/1bphtMaJ6lFh0VVWIgQh8ZCOchBZqvj0w5rveiNYcTnM/edit#gid=0\"\",\"\"RWA!F:BZ\"\"),44,0))\"),\"\")","v":""},{"$f":"IFERROR(__xludf.DUMMYFUNCTION(\"iferror(VLOOKUP(B805,IMPORTRANGE(\"\"https://docs.google.com/spreadsheets/d/1bphtMaJ6lFh0VVWIgQh8ZCOchBZqvj0w5rveiNYcTnM/edit#gid=0\"\",\"\"RWA!F:BZ\"\"),48,0))\"),\"\")","v":""},{"$f":"IFERROR(__xludf.DUMMYFUNCTION(\"iferror(VLOOKUP(B805,IMPORTRANGE(\"\"https://docs.google.com/spreadsheets/d/1bphtMaJ6lFh0VVWIgQh8ZCOchBZqvj0w5rveiNYcTnM/edit#gid=0\"\",\"\"RWA!F:BZ\"\"),49,0))\"),\"\")","v":""},{"$f":"IFERROR(__xludf.DUMMYFUNCTION(\"iferror(VLOOKUP(B805,IMPORTRANGE(\"\"https://docs.google.com/spreadsheets/d/1bphtMaJ6lFh0VVWIgQh8ZCOchBZqvj0w5rveiNYcTnM/edit#gid=0\"\",\"\"RWA!F:BZ\"\"),53,0))\"),\"\")","v":""}]
[null,null,null,{"$f":"IFERROR(__xludf.DUMMYFUNCTION(\"iferror(VLOOKUP(B806,IMPORTRANGE(\"\"https://docs.google.com/spreadsheets/d/1bphtMaJ6lFh0VVWIgQh8ZCOchBZqvj0w5rveiNYcTnM/edit#gid=0\"\",\"\"RWA!F:BZ\"\"),44,0))\"),\"\")","v":""},{"$f":"IFERROR(__xludf.DUMMYFUNCTION(\"iferror(VLOOKUP(B806,IMPORTRANGE(\"\"https://docs.google.com/spreadsheets/d/1bphtMaJ6lFh0VVWIgQh8ZCOchBZqvj0w5rveiNYcTnM/edit#gid=0\"\",\"\"RWA!F:BZ\"\"),48,0))\"),\"\")","v":""},{"$f":"IFERROR(__xludf.DUMMYFUNCTION(\"iferror(VLOOKUP(B806,IMPORTRANGE(\"\"https://docs.google.com/spreadsheets/d/1bphtMaJ6lFh0VVWIgQh8ZCOchBZqvj0w5rveiNYcTnM/edit#gid=0\"\",\"\"RWA!F:BZ\"\"),49,0))\"),\"\")","v":""},{"$f":"IFERROR(__xludf.DUMMYFUNCTION(\"iferror(VLOOKUP(B806,IMPORTRANGE(\"\"https://docs.google.com/spreadsheets/d/1bphtMaJ6lFh0VVWIgQh8ZCOchBZqvj0w5rveiNYcTnM/edit#gid=0\"\",\"\"RWA!F:BZ\"\"),53,0))\"),\"\")","v":""}]
[null,null,null,{"$f":"IFERROR(__xludf.DUMMYFUNCTION(\"iferror(VLOOKUP(B807,IMPORTRANGE(\"\"https://docs.google.com/spreadsheets/d/1bphtMaJ6lFh0VVWIgQh8ZCOchBZqvj0w5rveiNYcTnM/edit#gid=0\"\",\"\"RWA!F:BZ\"\"),44,0))\"),\"\")","v":""},{"$f":"IFERROR(__xludf.DUMMYFUNCTION(\"iferror(VLOOKUP(B807,IMPORTRANGE(\"\"https://docs.google.com/spreadsheets/d/1bphtMaJ6lFh0VVWIgQh8ZCOchBZqvj0w5rveiNYcTnM/edit#gid=0\"\",\"\"RWA!F:BZ\"\"),48,0))\"),\"\")","v":""},{"$f":"IFERROR(__xludf.DUMMYFUNCTION(\"iferror(VLOOKUP(B807,IMPORTRANGE(\"\"https://docs.google.com/spreadsheets/d/1bphtMaJ6lFh0VVWIgQh8ZCOchBZqvj0w5rveiNYcTnM/edit#gid=0\"\",\"\"RWA!F:BZ\"\"),49,0))\"),\"\")","v":""},{"$f":"IFERROR(__xludf.DUMMYFUNCTION(\"iferror(VLOOKUP(B807,IMPORTRANGE(\"\"https://docs.google.com/spreadsheets/d/1bphtMaJ6lFh0VVWIgQh8ZCOchBZqvj0w5rveiNYcTnM/edit#gid=0\"\",\"\"RWA!F:BZ\"\"),53,0))\"),\"\")","v":""}]
[null,null,null,{"$f":"IFERROR(__xludf.DUMMYFUNCTION(\"iferror(VLOOKUP(B808,IMPORTRANGE(\"\"https://docs.google.com/spreadsheets/d/1bphtMaJ6lFh0VVWIgQh8ZCOchBZqvj0w5rveiNYcTnM/edit#gid=0\"\",\"\"RWA!F:BZ\"\"),44,0))\"),\"\")","v":""},{"$f":"IFERROR(__xludf.DUMMYFUNCTION(\"iferror(VLOOKUP(B808,IMPORTRANGE(\"\"https://docs.google.com/spreadsheets/d/1bphtMaJ6lFh0VVWIgQh8ZCOchBZqvj0w5rveiNYcTnM/edit#gid=0\"\",\"\"RWA!F:BZ\"\"),48,0))\"),\"\")","v":""},{"$f":"IFERROR(__xludf.DUMMYFUNCTION(\"iferror(VLOOKUP(B808,IMPORTRANGE(\"\"https://docs.google.com/spreadsheets/d/1bphtMaJ6lFh0VVWIgQh8ZCOchBZqvj0w5rveiNYcTnM/edit#gid=0\"\",\"\"RWA!F:BZ\"\"),49,0))\"),\"\")","v":""},{"$f":"IFERROR(__xludf.DUMMYFUNCTION(\"iferror(VLOOKUP(B808,IMPORTRANGE(\"\"https://docs.google.com/spreadsheets/d/1bphtMaJ6lFh0VVWIgQh8ZCOchBZqvj0w5rveiNYcTnM/edit#gid=0\"\",\"\"RWA!F:BZ\"\"),53,0))\"),\"\")","v":""}]
[null,null,null,{"$f":"IFERROR(__xludf.DUMMYFUNCTION(\"iferror(VLOOKUP(B809,IMPORTRANGE(\"\"https://docs.google.com/spreadsheets/d/1bphtMaJ6lFh0VVWIgQh8ZCOchBZqvj0w5rveiNYcTnM/edit#gid=0\"\",\"\"RWA!F:BZ\"\"),44,0))\"),\"\")","v":""},{"$f":"IFERROR(__xludf.DUMMYFUNCTION(\"iferror(VLOOKUP(B809,IMPORTRANGE(\"\"https://docs.google.com/spreadsheets/d/1bphtMaJ6lFh0VVWIgQh8ZCOchBZqvj0w5rveiNYcTnM/edit#gid=0\"\",\"\"RWA!F:BZ\"\"),48,0))\"),\"\")","v":""},{"$f":"IFERROR(__xludf.DUMMYFUNCTION(\"iferror(VLOOKUP(B809,IMPORTRANGE(\"\"https://docs.google.com/spreadsheets/d/1bphtMaJ6lFh0VVWIgQh8ZCOchBZqvj0w5rveiNYcTnM/edit#gid=0\"\",\"\"RWA!F:BZ\"\"),49,0))\"),\"\")","v":""},{"$f":"IFERROR(__xludf.DUMMYFUNCTION(\"iferror(VLOOKUP(B809,IMPORTRANGE(\"\"https://docs.google.com/spreadsheets/d/1bphtMaJ6lFh0VVWIgQh8ZCOchBZqvj0w5rveiNYcTnM/edit#gid=0\"\",\"\"RWA!F:BZ\"\"),53,0))\"),\"\")","v":""}]
[null,null,null,{"$f":"IFERROR(__xludf.DUMMYFUNCTION(\"iferror(VLOOKUP(B810,IMPORTRANGE(\"\"https://docs.google.com/spreadsheets/d/1bphtMaJ6lFh0VVWIgQh8ZCOchBZqvj0w5rveiNYcTnM/edit#gid=0\"\",\"\"RWA!F:BZ\"\"),44,0))\"),\"\")","v":""},{"$f":"IFERROR(__xludf.DUMMYFUNCTION(\"iferror(VLOOKUP(B810,IMPORTRANGE(\"\"https://docs.google.com/spreadsheets/d/1bphtMaJ6lFh0VVWIgQh8ZCOchBZqvj0w5rveiNYcTnM/edit#gid=0\"\",\"\"RWA!F:BZ\"\"),48,0))\"),\"\")","v":""},{"$f":"IFERROR(__xludf.DUMMYFUNCTION(\"iferror(VLOOKUP(B810,IMPORTRANGE(\"\"https://docs.google.com/spreadsheets/d/1bphtMaJ6lFh0VVWIgQh8ZCOchBZqvj0w5rveiNYcTnM/edit#gid=0\"\",\"\"RWA!F:BZ\"\"),49,0))\"),\"\")","v":""},{"$f":"IFERROR(__xludf.DUMMYFUNCTION(\"iferror(VLOOKUP(B810,IMPORTRANGE(\"\"https://docs.google.com/spreadsheets/d/1bphtMaJ6lFh0VVWIgQh8ZCOchBZqvj0w5rveiNYcTnM/edit#gid=0\"\",\"\"RWA!F:BZ\"\"),53,0))\"),\"\")","v":""}]
[null,null,null,{"$f":"IFERROR(__xludf.DUMMYFUNCTION(\"iferror(VLOOKUP(B811,IMPORTRANGE(\"\"https://docs.google.com/spreadsheets/d/1bphtMaJ6lFh0VVWIgQh8ZCOchBZqvj0w5rveiNYcTnM/edit#gid=0\"\",\"\"RWA!F:BZ\"\"),44,0))\"),\"\")","v":""},{"$f":"IFERROR(__xludf.DUMMYFUNCTION(\"iferror(VLOOKUP(B811,IMPORTRANGE(\"\"https://docs.google.com/spreadsheets/d/1bphtMaJ6lFh0VVWIgQh8ZCOchBZqvj0w5rveiNYcTnM/edit#gid=0\"\",\"\"RWA!F:BZ\"\"),48,0))\"),\"\")","v":""},{"$f":"IFERROR(__xludf.DUMMYFUNCTION(\"iferror(VLOOKUP(B811,IMPORTRANGE(\"\"https://docs.google.com/spreadsheets/d/1bphtMaJ6lFh0VVWIgQh8ZCOchBZqvj0w5rveiNYcTnM/edit#gid=0\"\",\"\"RWA!F:BZ\"\"),49,0))\"),\"\")","v":""},{"$f":"IFERROR(__xludf.DUMMYFUNCTION(\"iferror(VLOOKUP(B811,IMPORTRANGE(\"\"https://docs.google.com/spreadsheets/d/1bphtMaJ6lFh0VVWIgQh8ZCOchBZqvj0w5rveiNYcTnM/edit#gid=0\"\",\"\"RWA!F:BZ\"\"),53,0))\"),\"\")","v":""}]
[null,null,null,{"$f":"IFERROR(__xludf.DUMMYFUNCTION(\"iferror(VLOOKUP(B812,IMPORTRANGE(\"\"https://docs.google.com/spreadsheets/d/1bphtMaJ6lFh0VVWIgQh8ZCOchBZqvj0w5rveiNYcTnM/edit#gid=0\"\",\"\"RWA!F:BZ\"\"),44,0))\"),\"\")","v":""},{"$f":"IFERROR(__xludf.DUMMYFUNCTION(\"iferror(VLOOKUP(B812,IMPORTRANGE(\"\"https://docs.google.com/spreadsheets/d/1bphtMaJ6lFh0VVWIgQh8ZCOchBZqvj0w5rveiNYcTnM/edit#gid=0\"\",\"\"RWA!F:BZ\"\"),48,0))\"),\"\")","v":""},{"$f":"IFERROR(__xludf.DUMMYFUNCTION(\"iferror(VLOOKUP(B812,IMPORTRANGE(\"\"https://docs.google.com/spreadsheets/d/1bphtMaJ6lFh0VVWIgQh8ZCOchBZqvj0w5rveiNYcTnM/edit#gid=0\"\",\"\"RWA!F:BZ\"\"),49,0))\"),\"\")","v":""},{"$f":"IFERROR(__xludf.DUMMYFUNCTION(\"iferror(VLOOKUP(B812,IMPORTRANGE(\"\"https://docs.google.com/spreadsheets/d/1bphtMaJ6lFh0VVWIgQh8ZCOchBZqvj0w5rveiNYcTnM/edit#gid=0\"\",\"\"RWA!F:BZ\"\"),53,0))\"),\"\")","v":""}]
[null,null,null,{"$f":"IFERROR(__xludf.DUMMYFUNCTION(\"iferror(VLOOKUP(B813,IMPORTRANGE(\"\"https://docs.google.com/spreadsheets/d/1bphtMaJ6lFh0VVWIgQh8ZCOchBZqvj0w5rveiNYcTnM/edit#gid=0\"\",\"\"RWA!F:BZ\"\"),44,0))\"),\"\")","v":""},{"$f":"IFERROR(__xludf.DUMMYFUNCTION(\"iferror(VLOOKUP(B813,IMPORTRANGE(\"\"https://docs.google.com/spreadsheets/d/1bphtMaJ6lFh0VVWIgQh8ZCOchBZqvj0w5rveiNYcTnM/edit#gid=0\"\",\"\"RWA!F:BZ\"\"),48,0))\"),\"\")","v":""},{"$f":"IFERROR(__xludf.DUMMYFUNCTION(\"iferror(VLOOKUP(B813,IMPORTRANGE(\"\"https://docs.google.com/spreadsheets/d/1bphtMaJ6lFh0VVWIgQh8ZCOchBZqvj0w5rveiNYcTnM/edit#gid=0\"\",\"\"RWA!F:BZ\"\"),49,0))\"),\"\")","v":""},{"$f":"IFERROR(__xludf.DUMMYFUNCTION(\"iferror(VLOOKUP(B813,IMPORTRANGE(\"\"https://docs.google.com/spreadsheets/d/1bphtMaJ6lFh0VVWIgQh8ZCOchBZqvj0w5rveiNYcTnM/edit#gid=0\"\",\"\"RWA!F:BZ\"\"),53,0))\"),\"\")","v":""}]
[null,null,null,{"$f":"IFERROR(__xludf.DUMMYFUNCTION(\"iferror(VLOOKUP(B814,IMPORTRANGE(\"\"https://docs.google.com/spreadsheets/d/1bphtMaJ6lFh0VVWIgQh8ZCOchBZqvj0w5rveiNYcTnM/edit#gid=0\"\",\"\"RWA!F:BZ\"\"),44,0))\"),\"\")","v":""},{"$f":"IFERROR(__xludf.DUMMYFUNCTION(\"iferror(VLOOKUP(B814,IMPORTRANGE(\"\"https://docs.google.com/spreadsheets/d/1bphtMaJ6lFh0VVWIgQh8ZCOchBZqvj0w5rveiNYcTnM/edit#gid=0\"\",\"\"RWA!F:BZ\"\"),48,0))\"),\"\")","v":""},{"$f":"IFERROR(__xludf.DUMMYFUNCTION(\"iferror(VLOOKUP(B814,IMPORTRANGE(\"\"https://docs.google.com/spreadsheets/d/1bphtMaJ6lFh0VVWIgQh8ZCOchBZqvj0w5rveiNYcTnM/edit#gid=0\"\",\"\"RWA!F:BZ\"\"),49,0))\"),\"\")","v":""},{"$f":"IFERROR(__xludf.DUMMYFUNCTION(\"iferror(VLOOKUP(B814,IMPORTRANGE(\"\"https://docs.google.com/spreadsheets/d/1bphtMaJ6lFh0VVWIgQh8ZCOchBZqvj0w5rveiNYcTnM/edit#gid=0\"\",\"\"RWA!F:BZ\"\"),53,0))\"),\"\")","v":""}]
[null,null,null,{"$f":"IFERROR(__xludf.DUMMYFUNCTION(\"iferror(VLOOKUP(B815,IMPORTRANGE(\"\"https://docs.google.com/spreadsheets/d/1bphtMaJ6lFh0VVWIgQh8ZCOchBZqvj0w5rveiNYcTnM/edit#gid=0\"\",\"\"RWA!F:BZ\"\"),44,0))\"),\"\")","v":""},{"$f":"IFERROR(__xludf.DUMMYFUNCTION(\"iferror(VLOOKUP(B815,IMPORTRANGE(\"\"https://docs.google.com/spreadsheets/d/1bphtMaJ6lFh0VVWIgQh8ZCOchBZqvj0w5rveiNYcTnM/edit#gid=0\"\",\"\"RWA!F:BZ\"\"),48,0))\"),\"\")","v":""},{"$f":"IFERROR(__xludf.DUMMYFUNCTION(\"iferror(VLOOKUP(B815,IMPORTRANGE(\"\"https://docs.google.com/spreadsheets/d/1bphtMaJ6lFh0VVWIgQh8ZCOchBZqvj0w5rveiNYcTnM/edit#gid=0\"\",\"\"RWA!F:BZ\"\"),49,0))\"),\"\")","v":""},{"$f":"IFERROR(__xludf.DUMMYFUNCTION(\"iferror(VLOOKUP(B815,IMPORTRANGE(\"\"https://docs.google.com/spreadsheets/d/1bphtMaJ6lFh0VVWIgQh8ZCOchBZqvj0w5rveiNYcTnM/edit#gid=0\"\",\"\"RWA!F:BZ\"\"),53,0))\"),\"\")","v":""}]
[null,null,null,{"$f":"IFERROR(__xludf.DUMMYFUNCTION(\"iferror(VLOOKUP(B816,IMPORTRANGE(\"\"https://docs.google.com/spreadsheets/d/1bphtMaJ6lFh0VVWIgQh8ZCOchBZqvj0w5rveiNYcTnM/edit#gid=0\"\",\"\"RWA!F:BZ\"\"),44,0))\"),\"\")","v":""},{"$f":"IFERROR(__xludf.DUMMYFUNCTION(\"iferror(VLOOKUP(B816,IMPORTRANGE(\"\"https://docs.google.com/spreadsheets/d/1bphtMaJ6lFh0VVWIgQh8ZCOchBZqvj0w5rveiNYcTnM/edit#gid=0\"\",\"\"RWA!F:BZ\"\"),48,0))\"),\"\")","v":""},{"$f":"IFERROR(__xludf.DUMMYFUNCTION(\"iferror(VLOOKUP(B816,IMPORTRANGE(\"\"https://docs.google.com/spreadsheets/d/1bphtMaJ6lFh0VVWIgQh8ZCOchBZqvj0w5rveiNYcTnM/edit#gid=0\"\",\"\"RWA!F:BZ\"\"),49,0))\"),\"\")","v":""},{"$f":"IFERROR(__xludf.DUMMYFUNCTION(\"iferror(VLOOKUP(B816,IMPORTRANGE(\"\"https://docs.google.com/spreadsheets/d/1bphtMaJ6lFh0VVWIgQh8ZCOchBZqvj0w5rveiNYcTnM/edit#gid=0\"\",\"\"RWA!F:BZ\"\"),53,0))\"),\"\")","v":""}]
[null,null,null,{"$f":"IFERROR(__xludf.DUMMYFUNCTION(\"iferror(VLOOKUP(B817,IMPORTRANGE(\"\"https://docs.google.com/spreadsheets/d/1bphtMaJ6lFh0VVWIgQh8ZCOchBZqvj0w5rveiNYcTnM/edit#gid=0\"\",\"\"RWA!F:BZ\"\"),44,0))\"),\"\")","v":""},{"$f":"IFERROR(__xludf.DUMMYFUNCTION(\"iferror(VLOOKUP(B817,IMPORTRANGE(\"\"https://docs.google.com/spreadsheets/d/1bphtMaJ6lFh0VVWIgQh8ZCOchBZqvj0w5rveiNYcTnM/edit#gid=0\"\",\"\"RWA!F:BZ\"\"),48,0))\"),\"\")","v":""},{"$f":"IFERROR(__xludf.DUMMYFUNCTION(\"iferror(VLOOKUP(B817,IMPORTRANGE(\"\"https://docs.google.com/spreadsheets/d/1bphtMaJ6lFh0VVWIgQh8ZCOchBZqvj0w5rveiNYcTnM/edit#gid=0\"\",\"\"RWA!F:BZ\"\"),49,0))\"),\"\")","v":""},{"$f":"IFERROR(__xludf.DUMMYFUNCTION(\"iferror(VLOOKUP(B817,IMPORTRANGE(\"\"https://docs.google.com/spreadsheets/d/1bphtMaJ6lFh0VVWIgQh8ZCOchBZqvj0w5rveiNYcTnM/edit#gid=0\"\",\"\"RWA!F:BZ\"\"),53,0))\"),\"\")","v":""}]
[null,null,null,{"$f":"IFERROR(__xludf.DUMMYFUNCTION(\"iferror(VLOOKUP(B818,IMPORTRANGE(\"\"https://docs.google.com/spreadsheets/d/1bphtMaJ6lFh0VVWIgQh8ZCOchBZqvj0w5rveiNYcTnM/edit#gid=0\"\",\"\"RWA!F:BZ\"\"),44,0))\"),\"\")","v":""},{"$f":"IFERROR(__xludf.DUMMYFUNCTION(\"iferror(VLOOKUP(B818,IMPORTRANGE(\"\"https://docs.google.com/spreadsheets/d/1bphtMaJ6lFh0VVWIgQh8ZCOchBZqvj0w5rveiNYcTnM/edit#gid=0\"\",\"\"RWA!F:BZ\"\"),48,0))\"),\"\")","v":""},{"$f":"IFERROR(__xludf.DUMMYFUNCTION(\"iferror(VLOOKUP(B818,IMPORTRANGE(\"\"https://docs.google.com/spreadsheets/d/1bphtMaJ6lFh0VVWIgQh8ZCOchBZqvj0w5rveiNYcTnM/edit#gid=0\"\",\"\"RWA!F:BZ\"\"),49,0))\"),\"\")","v":""},{"$f":"IFERROR(__xludf.DUMMYFUNCTION(\"iferror(VLOOKUP(B818,IMPORTRANGE(\"\"https://docs.google.com/spreadsheets/d/1bphtMaJ6lFh0VVWIgQh8ZCOchBZqvj0w5rveiNYcTnM/edit#gid=0\"\",\"\"RWA!F:BZ\"\"),53,0))\"),\"\")","v":""}]
[null,null,null,{"$f":"IFERROR(__xludf.DUMMYFUNCTION(\"iferror(VLOOKUP(B819,IMPORTRANGE(\"\"https://docs.google.com/spreadsheets/d/1bphtMaJ6lFh0VVWIgQh8ZCOchBZqvj0w5rveiNYcTnM/edit#gid=0\"\",\"\"RWA!F:BZ\"\"),44,0))\"),\"\")","v":""},{"$f":"IFERROR(__xludf.DUMMYFUNCTION(\"iferror(VLOOKUP(B819,IMPORTRANGE(\"\"https://docs.google.com/spreadsheets/d/1bphtMaJ6lFh0VVWIgQh8ZCOchBZqvj0w5rveiNYcTnM/edit#gid=0\"\",\"\"RWA!F:BZ\"\"),48,0))\"),\"\")","v":""},{"$f":"IFERROR(__xludf.DUMMYFUNCTION(\"iferror(VLOOKUP(B819,IMPORTRANGE(\"\"https://docs.google.com/spreadsheets/d/1bphtMaJ6lFh0VVWIgQh8ZCOchBZqvj0w5rveiNYcTnM/edit#gid=0\"\",\"\"RWA!F:BZ\"\"),49,0))\"),\"\")","v":""},{"$f":"IFERROR(__xludf.DUMMYFUNCTION(\"iferror(VLOOKUP(B819,IMPORTRANGE(\"\"https://docs.google.com/spreadsheets/d/1bphtMaJ6lFh0VVWIgQh8ZCOchBZqvj0w5rveiNYcTnM/edit#gid=0\"\",\"\"RWA!F:BZ\"\"),53,0))\"),\"\")","v":""}]
[null,null,null,{"$f":"IFERROR(__xludf.DUMMYFUNCTION(\"iferror(VLOOKUP(B820,IMPORTRANGE(\"\"https://docs.google.com/spreadsheets/d/1bphtMaJ6lFh0VVWIgQh8ZCOchBZqvj0w5rveiNYcTnM/edit#gid=0\"\",\"\"RWA!F:BZ\"\"),44,0))\"),\"\")","v":""},{"$f":"IFERROR(__xludf.DUMMYFUNCTION(\"iferror(VLOOKUP(B820,IMPORTRANGE(\"\"https://docs.google.com/spreadsheets/d/1bphtMaJ6lFh0VVWIgQh8ZCOchBZqvj0w5rveiNYcTnM/edit#gid=0\"\",\"\"RWA!F:BZ\"\"),48,0))\"),\"\")","v":""},{"$f":"IFERROR(__xludf.DUMMYFUNCTION(\"iferror(VLOOKUP(B820,IMPORTRANGE(\"\"https://docs.google.com/spreadsheets/d/1bphtMaJ6lFh0VVWIgQh8ZCOchBZqvj0w5rveiNYcTnM/edit#gid=0\"\",\"\"RWA!F:BZ\"\"),49,0))\"),\"\")","v":""},{"$f":"IFERROR(__xludf.DUMMYFUNCTION(\"iferror(VLOOKUP(B820,IMPORTRANGE(\"\"https://docs.google.com/spreadsheets/d/1bphtMaJ6lFh0VVWIgQh8ZCOchBZqvj0w5rveiNYcTnM/edit#gid=0\"\",\"\"RWA!F:BZ\"\"),53,0))\"),\"\")","v":""}]
[null,null,null,{"$f":"IFERROR(__xludf.DUMMYFUNCTION(\"iferror(VLOOKUP(B821,IMPORTRANGE(\"\"https://docs.google.com/spreadsheets/d/1bphtMaJ6lFh0VVWIgQh8ZCOchBZqvj0w5rveiNYcTnM/edit#gid=0\"\",\"\"RWA!F:BZ\"\"),44,0))\"),\"\")","v":""},{"$f":"IFERROR(__xludf.DUMMYFUNCTION(\"iferror(VLOOKUP(B821,IMPORTRANGE(\"\"https://docs.google.com/spreadsheets/d/1bphtMaJ6lFh0VVWIgQh8ZCOchBZqvj0w5rveiNYcTnM/edit#gid=0\"\",\"\"RWA!F:BZ\"\"),48,0))\"),\"\")","v":""},{"$f":"IFERROR(__xludf.DUMMYFUNCTION(\"iferror(VLOOKUP(B821,IMPORTRANGE(\"\"https://docs.google.com/spreadsheets/d/1bphtMaJ6lFh0VVWIgQh8ZCOchBZqvj0w5rveiNYcTnM/edit#gid=0\"\",\"\"RWA!F:BZ\"\"),49,0))\"),\"\")","v":""},{"$f":"IFERROR(__xludf.DUMMYFUNCTION(\"iferror(VLOOKUP(B821,IMPORTRANGE(\"\"https://docs.google.com/spreadsheets/d/1bphtMaJ6lFh0VVWIgQh8ZCOchBZqvj0w5rveiNYcTnM/edit#gid=0\"\",\"\"RWA!F:BZ\"\"),53,0))\"),\"\")","v":""}]
[null,null,null,{"$f":"IFERROR(__xludf.DUMMYFUNCTION(\"iferror(VLOOKUP(B822,IMPORTRANGE(\"\"https://docs.google.com/spreadsheets/d/1bphtMaJ6lFh0VVWIgQh8ZCOchBZqvj0w5rveiNYcTnM/edit#gid=0\"\",\"\"RWA!F:BZ\"\"),44,0))\"),\"\")","v":""},{"$f":"IFERROR(__xludf.DUMMYFUNCTION(\"iferror(VLOOKUP(B822,IMPORTRANGE(\"\"https://docs.google.com/spreadsheets/d/1bphtMaJ6lFh0VVWIgQh8ZCOchBZqvj0w5rveiNYcTnM/edit#gid=0\"\",\"\"RWA!F:BZ\"\"),48,0))\"),\"\")","v":""},{"$f":"IFERROR(__xludf.DUMMYFUNCTION(\"iferror(VLOOKUP(B822,IMPORTRANGE(\"\"https://docs.google.com/spreadsheets/d/1bphtMaJ6lFh0VVWIgQh8ZCOchBZqvj0w5rveiNYcTnM/edit#gid=0\"\",\"\"RWA!F:BZ\"\"),49,0))\"),\"\")","v":""},{"$f":"IFERROR(__xludf.DUMMYFUNCTION(\"iferror(VLOOKUP(B822,IMPORTRANGE(\"\"https://docs.google.com/spreadsheets/d/1bphtMaJ6lFh0VVWIgQh8ZCOchBZqvj0w5rveiNYcTnM/edit#gid=0\"\",\"\"RWA!F:BZ\"\"),53,0))\"),\"\")","v":""}]
[null,null,null,{"$f":"IFERROR(__xludf.DUMMYFUNCTION(\"iferror(VLOOKUP(B823,IMPORTRANGE(\"\"https://docs.google.com/spreadsheets/d/1bphtMaJ6lFh0VVWIgQh8ZCOchBZqvj0w5rveiNYcTnM/edit#gid=0\"\",\"\"RWA!F:BZ\"\"),44,0))\"),\"\")","v":""},{"$f":"IFERROR(__xludf.DUMMYFUNCTION(\"iferror(VLOOKUP(B823,IMPORTRANGE(\"\"https://docs.google.com/spreadsheets/d/1bphtMaJ6lFh0VVWIgQh8ZCOchBZqvj0w5rveiNYcTnM/edit#gid=0\"\",\"\"RWA!F:BZ\"\"),48,0))\"),\"\")","v":""},{"$f":"IFERROR(__xludf.DUMMYFUNCTION(\"iferror(VLOOKUP(B823,IMPORTRANGE(\"\"https://docs.google.com/spreadsheets/d/1bphtMaJ6lFh0VVWIgQh8ZCOchBZqvj0w5rveiNYcTnM/edit#gid=0\"\",\"\"RWA!F:BZ\"\"),49,0))\"),\"\")","v":""},{"$f":"IFERROR(__xludf.DUMMYFUNCTION(\"iferror(VLOOKUP(B823,IMPORTRANGE(\"\"https://docs.google.com/spreadsheets/d/1bphtMaJ6lFh0VVWIgQh8ZCOchBZqvj0w5rveiNYcTnM/edit#gid=0\"\",\"\"RWA!F:BZ\"\"),53,0))\"),\"\")","v":""}]
[null,null,null,{"$f":"IFERROR(__xludf.DUMMYFUNCTION(\"iferror(VLOOKUP(B824,IMPORTRANGE(\"\"https://docs.google.com/spreadsheets/d/1bphtMaJ6lFh0VVWIgQh8ZCOchBZqvj0w5rveiNYcTnM/edit#gid=0\"\",\"\"RWA!F:BZ\"\"),44,0))\"),\"\")","v":""},{"$f":"IFERROR(__xludf.DUMMYFUNCTION(\"iferror(VLOOKUP(B824,IMPORTRANGE(\"\"https://docs.google.com/spreadsheets/d/1bphtMaJ6lFh0VVWIgQh8ZCOchBZqvj0w5rveiNYcTnM/edit#gid=0\"\",\"\"RWA!F:BZ\"\"),48,0))\"),\"\")","v":""},{"$f":"IFERROR(__xludf.DUMMYFUNCTION(\"iferror(VLOOKUP(B824,IMPORTRANGE(\"\"https://docs.google.com/spreadsheets/d/1bphtMaJ6lFh0VVWIgQh8ZCOchBZqvj0w5rveiNYcTnM/edit#gid=0\"\",\"\"RWA!F:BZ\"\"),49,0))\"),\"\")","v":""},{"$f":"IFERROR(__xludf.DUMMYFUNCTION(\"iferror(VLOOKUP(B824,IMPORTRANGE(\"\"https://docs.google.com/spreadsheets/d/1bphtMaJ6lFh0VVWIgQh8ZCOchBZqvj0w5rveiNYcTnM/edit#gid=0\"\",\"\"RWA!F:BZ\"\"),53,0))\"),\"\")","v":""}]
[null,null,null,{"$f":"IFERROR(__xludf.DUMMYFUNCTION(\"iferror(VLOOKUP(B825,IMPORTRANGE(\"\"https://docs.google.com/spreadsheets/d/1bphtMaJ6lFh0VVWIgQh8ZCOchBZqvj0w5rveiNYcTnM/edit#gid=0\"\",\"\"RWA!F:BZ\"\"),44,0))\"),\"\")","v":""},{"$f":"IFERROR(__xludf.DUMMYFUNCTION(\"iferror(VLOOKUP(B825,IMPORTRANGE(\"\"https://docs.google.com/spreadsheets/d/1bphtMaJ6lFh0VVWIgQh8ZCOchBZqvj0w5rveiNYcTnM/edit#gid=0\"\",\"\"RWA!F:BZ\"\"),48,0))\"),\"\")","v":""},{"$f":"IFERROR(__xludf.DUMMYFUNCTION(\"iferror(VLOOKUP(B825,IMPORTRANGE(\"\"https://docs.google.com/spreadsheets/d/1bphtMaJ6lFh0VVWIgQh8ZCOchBZqvj0w5rveiNYcTnM/edit#gid=0\"\",\"\"RWA!F:BZ\"\"),49,0))\"),\"\")","v":""},{"$f":"IFERROR(__xludf.DUMMYFUNCTION(\"iferror(VLOOKUP(B825,IMPORTRANGE(\"\"https://docs.google.com/spreadsheets/d/1bphtMaJ6lFh0VVWIgQh8ZCOchBZqvj0w5rveiNYcTnM/edit#gid=0\"\",\"\"RWA!F:BZ\"\"),53,0))\"),\"\")","v":""}]
[null,null,null,{"$f":"IFERROR(__xludf.DUMMYFUNCTION(\"iferror(VLOOKUP(B826,IMPORTRANGE(\"\"https://docs.google.com/spreadsheets/d/1bphtMaJ6lFh0VVWIgQh8ZCOchBZqvj0w5rveiNYcTnM/edit#gid=0\"\",\"\"RWA!F:BZ\"\"),44,0))\"),\"\")","v":""},{"$f":"IFERROR(__xludf.DUMMYFUNCTION(\"iferror(VLOOKUP(B826,IMPORTRANGE(\"\"https://docs.google.com/spreadsheets/d/1bphtMaJ6lFh0VVWIgQh8ZCOchBZqvj0w5rveiNYcTnM/edit#gid=0\"\",\"\"RWA!F:BZ\"\"),48,0))\"),\"\")","v":""},{"$f":"IFERROR(__xludf.DUMMYFUNCTION(\"iferror(VLOOKUP(B826,IMPORTRANGE(\"\"https://docs.google.com/spreadsheets/d/1bphtMaJ6lFh0VVWIgQh8ZCOchBZqvj0w5rveiNYcTnM/edit#gid=0\"\",\"\"RWA!F:BZ\"\"),49,0))\"),\"\")","v":""},{"$f":"IFERROR(__xludf.DUMMYFUNCTION(\"iferror(VLOOKUP(B826,IMPORTRANGE(\"\"https://docs.google.com/spreadsheets/d/1bphtMaJ6lFh0VVWIgQh8ZCOchBZqvj0w5rveiNYcTnM/edit#gid=0\"\",\"\"RWA!F:BZ\"\"),53,0))\"),\"\")","v":""}]
[null,null,null,{"$f":"IFERROR(__xludf.DUMMYFUNCTION(\"iferror(VLOOKUP(B827,IMPORTRANGE(\"\"https://docs.google.com/spreadsheets/d/1bphtMaJ6lFh0VVWIgQh8ZCOchBZqvj0w5rveiNYcTnM/edit#gid=0\"\",\"\"RWA!F:BZ\"\"),44,0))\"),\"\")","v":""},{"$f":"IFERROR(__xludf.DUMMYFUNCTION(\"iferror(VLOOKUP(B827,IMPORTRANGE(\"\"https://docs.google.com/spreadsheets/d/1bphtMaJ6lFh0VVWIgQh8ZCOchBZqvj0w5rveiNYcTnM/edit#gid=0\"\",\"\"RWA!F:BZ\"\"),48,0))\"),\"\")","v":""},{"$f":"IFERROR(__xludf.DUMMYFUNCTION(\"iferror(VLOOKUP(B827,IMPORTRANGE(\"\"https://docs.google.com/spreadsheets/d/1bphtMaJ6lFh0VVWIgQh8ZCOchBZqvj0w5rveiNYcTnM/edit#gid=0\"\",\"\"RWA!F:BZ\"\"),49,0))\"),\"\")","v":""},{"$f":"IFERROR(__xludf.DUMMYFUNCTION(\"iferror(VLOOKUP(B827,IMPORTRANGE(\"\"https://docs.google.com/spreadsheets/d/1bphtMaJ6lFh0VVWIgQh8ZCOchBZqvj0w5rveiNYcTnM/edit#gid=0\"\",\"\"RWA!F:BZ\"\"),53,0))\"),\"\")","v":""}]
[null,null,null,{"$f":"IFERROR(__xludf.DUMMYFUNCTION(\"iferror(VLOOKUP(B828,IMPORTRANGE(\"\"https://docs.google.com/spreadsheets/d/1bphtMaJ6lFh0VVWIgQh8ZCOchBZqvj0w5rveiNYcTnM/edit#gid=0\"\",\"\"RWA!F:BZ\"\"),44,0))\"),\"\")","v":""},{"$f":"IFERROR(__xludf.DUMMYFUNCTION(\"iferror(VLOOKUP(B828,IMPORTRANGE(\"\"https://docs.google.com/spreadsheets/d/1bphtMaJ6lFh0VVWIgQh8ZCOchBZqvj0w5rveiNYcTnM/edit#gid=0\"\",\"\"RWA!F:BZ\"\"),48,0))\"),\"\")","v":""},{"$f":"IFERROR(__xludf.DUMMYFUNCTION(\"iferror(VLOOKUP(B828,IMPORTRANGE(\"\"https://docs.google.com/spreadsheets/d/1bphtMaJ6lFh0VVWIgQh8ZCOchBZqvj0w5rveiNYcTnM/edit#gid=0\"\",\"\"RWA!F:BZ\"\"),49,0))\"),\"\")","v":""},{"$f":"IFERROR(__xludf.DUMMYFUNCTION(\"iferror(VLOOKUP(B828,IMPORTRANGE(\"\"https://docs.google.com/spreadsheets/d/1bphtMaJ6lFh0VVWIgQh8ZCOchBZqvj0w5rveiNYcTnM/edit#gid=0\"\",\"\"RWA!F:BZ\"\"),53,0))\"),\"\")","v":""}]
[null,null,null,{"$f":"IFERROR(__xludf.DUMMYFUNCTION(\"iferror(VLOOKUP(B829,IMPORTRANGE(\"\"https://docs.google.com/spreadsheets/d/1bphtMaJ6lFh0VVWIgQh8ZCOchBZqvj0w5rveiNYcTnM/edit#gid=0\"\",\"\"RWA!F:BZ\"\"),44,0))\"),\"\")","v":""},{"$f":"IFERROR(__xludf.DUMMYFUNCTION(\"iferror(VLOOKUP(B829,IMPORTRANGE(\"\"https://docs.google.com/spreadsheets/d/1bphtMaJ6lFh0VVWIgQh8ZCOchBZqvj0w5rveiNYcTnM/edit#gid=0\"\",\"\"RWA!F:BZ\"\"),48,0))\"),\"\")","v":""},{"$f":"IFERROR(__xludf.DUMMYFUNCTION(\"iferror(VLOOKUP(B829,IMPORTRANGE(\"\"https://docs.google.com/spreadsheets/d/1bphtMaJ6lFh0VVWIgQh8ZCOchBZqvj0w5rveiNYcTnM/edit#gid=0\"\",\"\"RWA!F:BZ\"\"),49,0))\"),\"\")","v":""},{"$f":"IFERROR(__xludf.DUMMYFUNCTION(\"iferror(VLOOKUP(B829,IMPORTRANGE(\"\"https://docs.google.com/spreadsheets/d/1bphtMaJ6lFh0VVWIgQh8ZCOchBZqvj0w5rveiNYcTnM/edit#gid=0\"\",\"\"RWA!F:BZ\"\"),53,0))\"),\"\")","v":""}]
[null,null,null,{"$f":"IFERROR(__xludf.DUMMYFUNCTION(\"iferror(VLOOKUP(B830,IMPORTRANGE(\"\"https://docs.google.com/spreadsheets/d/1bphtMaJ6lFh0VVWIgQh8ZCOchBZqvj0w5rveiNYcTnM/edit#gid=0\"\",\"\"RWA!F:BZ\"\"),44,0))\"),\"\")","v":""},{"$f":"IFERROR(__xludf.DUMMYFUNCTION(\"iferror(VLOOKUP(B830,IMPORTRANGE(\"\"https://docs.google.com/spreadsheets/d/1bphtMaJ6lFh0VVWIgQh8ZCOchBZqvj0w5rveiNYcTnM/edit#gid=0\"\",\"\"RWA!F:BZ\"\"),48,0))\"),\"\")","v":""},{"$f":"IFERROR(__xludf.DUMMYFUNCTION(\"iferror(VLOOKUP(B830,IMPORTRANGE(\"\"https://docs.google.com/spreadsheets/d/1bphtMaJ6lFh0VVWIgQh8ZCOchBZqvj0w5rveiNYcTnM/edit#gid=0\"\",\"\"RWA!F:BZ\"\"),49,0))\"),\"\")","v":""},{"$f":"IFERROR(__xludf.DUMMYFUNCTION(\"iferror(VLOOKUP(B830,IMPORTRANGE(\"\"https://docs.google.com/spreadsheets/d/1bphtMaJ6lFh0VVWIgQh8ZCOchBZqvj0w5rveiNYcTnM/edit#gid=0\"\",\"\"RWA!F:BZ\"\"),53,0))\"),\"\")","v":""}]
[null,null,null,{"$f":"IFERROR(__xludf.DUMMYFUNCTION(\"iferror(VLOOKUP(B831,IMPORTRANGE(\"\"https://docs.google.com/spreadsheets/d/1bphtMaJ6lFh0VVWIgQh8ZCOchBZqvj0w5rveiNYcTnM/edit#gid=0\"\",\"\"RWA!F:BZ\"\"),44,0))\"),\"\")","v":""},{"$f":"IFERROR(__xludf.DUMMYFUNCTION(\"iferror(VLOOKUP(B831,IMPORTRANGE(\"\"https://docs.google.com/spreadsheets/d/1bphtMaJ6lFh0VVWIgQh8ZCOchBZqvj0w5rveiNYcTnM/edit#gid=0\"\",\"\"RWA!F:BZ\"\"),48,0))\"),\"\")","v":""},{"$f":"IFERROR(__xludf.DUMMYFUNCTION(\"iferror(VLOOKUP(B831,IMPORTRANGE(\"\"https://docs.google.com/spreadsheets/d/1bphtMaJ6lFh0VVWIgQh8ZCOchBZqvj0w5rveiNYcTnM/edit#gid=0\"\",\"\"RWA!F:BZ\"\"),49,0))\"),\"\")","v":""},{"$f":"IFERROR(__xludf.DUMMYFUNCTION(\"iferror(VLOOKUP(B831,IMPORTRANGE(\"\"https://docs.google.com/spreadsheets/d/1bphtMaJ6lFh0VVWIgQh8ZCOchBZqvj0w5rveiNYcTnM/edit#gid=0\"\",\"\"RWA!F:BZ\"\"),53,0))\"),\"\")","v":""}]
[null,null,null,{"$f":"IFERROR(__xludf.DUMMYFUNCTION(\"iferror(VLOOKUP(B832,IMPORTRANGE(\"\"https://docs.google.com/spreadsheets/d/1bphtMaJ6lFh0VVWIgQh8ZCOchBZqvj0w5rveiNYcTnM/edit#gid=0\"\",\"\"RWA!F:BZ\"\"),44,0))\"),\"\")","v":""},{"$f":"IFERROR(__xludf.DUMMYFUNCTION(\"iferror(VLOOKUP(B832,IMPORTRANGE(\"\"https://docs.google.com/spreadsheets/d/1bphtMaJ6lFh0VVWIgQh8ZCOchBZqvj0w5rveiNYcTnM/edit#gid=0\"\",\"\"RWA!F:BZ\"\"),48,0))\"),\"\")","v":""},{"$f":"IFERROR(__xludf.DUMMYFUNCTION(\"iferror(VLOOKUP(B832,IMPORTRANGE(\"\"https://docs.google.com/spreadsheets/d/1bphtMaJ6lFh0VVWIgQh8ZCOchBZqvj0w5rveiNYcTnM/edit#gid=0\"\",\"\"RWA!F:BZ\"\"),49,0))\"),\"\")","v":""},{"$f":"IFERROR(__xludf.DUMMYFUNCTION(\"iferror(VLOOKUP(B832,IMPORTRANGE(\"\"https://docs.google.com/spreadsheets/d/1bphtMaJ6lFh0VVWIgQh8ZCOchBZqvj0w5rveiNYcTnM/edit#gid=0\"\",\"\"RWA!F:BZ\"\"),53,0))\"),\"\")","v":""}]
[null,null,null,{"$f":"IFERROR(__xludf.DUMMYFUNCTION(\"iferror(VLOOKUP(B833,IMPORTRANGE(\"\"https://docs.google.com/spreadsheets/d/1bphtMaJ6lFh0VVWIgQh8ZCOchBZqvj0w5rveiNYcTnM/edit#gid=0\"\",\"\"RWA!F:BZ\"\"),44,0))\"),\"\")","v":""},{"$f":"IFERROR(__xludf.DUMMYFUNCTION(\"iferror(VLOOKUP(B833,IMPORTRANGE(\"\"https://docs.google.com/spreadsheets/d/1bphtMaJ6lFh0VVWIgQh8ZCOchBZqvj0w5rveiNYcTnM/edit#gid=0\"\",\"\"RWA!F:BZ\"\"),48,0))\"),\"\")","v":""},{"$f":"IFERROR(__xludf.DUMMYFUNCTION(\"iferror(VLOOKUP(B833,IMPORTRANGE(\"\"https://docs.google.com/spreadsheets/d/1bphtMaJ6lFh0VVWIgQh8ZCOchBZqvj0w5rveiNYcTnM/edit#gid=0\"\",\"\"RWA!F:BZ\"\"),49,0))\"),\"\")","v":""},{"$f":"IFERROR(__xludf.DUMMYFUNCTION(\"iferror(VLOOKUP(B833,IMPORTRANGE(\"\"https://docs.google.com/spreadsheets/d/1bphtMaJ6lFh0VVWIgQh8ZCOchBZqvj0w5rveiNYcTnM/edit#gid=0\"\",\"\"RWA!F:BZ\"\"),53,0))\"),\"\")","v":""}]
[null,null,null,{"$f":"IFERROR(__xludf.DUMMYFUNCTION(\"iferror(VLOOKUP(B834,IMPORTRANGE(\"\"https://docs.google.com/spreadsheets/d/1bphtMaJ6lFh0VVWIgQh8ZCOchBZqvj0w5rveiNYcTnM/edit#gid=0\"\",\"\"RWA!F:BZ\"\"),44,0))\"),\"\")","v":""},{"$f":"IFERROR(__xludf.DUMMYFUNCTION(\"iferror(VLOOKUP(B834,IMPORTRANGE(\"\"https://docs.google.com/spreadsheets/d/1bphtMaJ6lFh0VVWIgQh8ZCOchBZqvj0w5rveiNYcTnM/edit#gid=0\"\",\"\"RWA!F:BZ\"\"),48,0))\"),\"\")","v":""},{"$f":"IFERROR(__xludf.DUMMYFUNCTION(\"iferror(VLOOKUP(B834,IMPORTRANGE(\"\"https://docs.google.com/spreadsheets/d/1bphtMaJ6lFh0VVWIgQh8ZCOchBZqvj0w5rveiNYcTnM/edit#gid=0\"\",\"\"RWA!F:BZ\"\"),49,0))\"),\"\")","v":""},{"$f":"IFERROR(__xludf.DUMMYFUNCTION(\"iferror(VLOOKUP(B834,IMPORTRANGE(\"\"https://docs.google.com/spreadsheets/d/1bphtMaJ6lFh0VVWIgQh8ZCOchBZqvj0w5rveiNYcTnM/edit#gid=0\"\",\"\"RWA!F:BZ\"\"),53,0))\"),\"\")","v":""}]
[null,null,null,{"$f":"IFERROR(__xludf.DUMMYFUNCTION(\"iferror(VLOOKUP(B835,IMPORTRANGE(\"\"https://docs.google.com/spreadsheets/d/1bphtMaJ6lFh0VVWIgQh8ZCOchBZqvj0w5rveiNYcTnM/edit#gid=0\"\",\"\"RWA!F:BZ\"\"),44,0))\"),\"\")","v":""},{"$f":"IFERROR(__xludf.DUMMYFUNCTION(\"iferror(VLOOKUP(B835,IMPORTRANGE(\"\"https://docs.google.com/spreadsheets/d/1bphtMaJ6lFh0VVWIgQh8ZCOchBZqvj0w5rveiNYcTnM/edit#gid=0\"\",\"\"RWA!F:BZ\"\"),48,0))\"),\"\")","v":""},{"$f":"IFERROR(__xludf.DUMMYFUNCTION(\"iferror(VLOOKUP(B835,IMPORTRANGE(\"\"https://docs.google.com/spreadsheets/d/1bphtMaJ6lFh0VVWIgQh8ZCOchBZqvj0w5rveiNYcTnM/edit#gid=0\"\",\"\"RWA!F:BZ\"\"),49,0))\"),\"\")","v":""},{"$f":"IFERROR(__xludf.DUMMYFUNCTION(\"iferror(VLOOKUP(B835,IMPORTRANGE(\"\"https://docs.google.com/spreadsheets/d/1bphtMaJ6lFh0VVWIgQh8ZCOchBZqvj0w5rveiNYcTnM/edit#gid=0\"\",\"\"RWA!F:BZ\"\"),53,0))\"),\"\")","v":""}]
[null,null,null,{"$f":"IFERROR(__xludf.DUMMYFUNCTION(\"iferror(VLOOKUP(B836,IMPORTRANGE(\"\"https://docs.google.com/spreadsheets/d/1bphtMaJ6lFh0VVWIgQh8ZCOchBZqvj0w5rveiNYcTnM/edit#gid=0\"\",\"\"RWA!F:BZ\"\"),44,0))\"),\"\")","v":""},{"$f":"IFERROR(__xludf.DUMMYFUNCTION(\"iferror(VLOOKUP(B836,IMPORTRANGE(\"\"https://docs.google.com/spreadsheets/d/1bphtMaJ6lFh0VVWIgQh8ZCOchBZqvj0w5rveiNYcTnM/edit#gid=0\"\",\"\"RWA!F:BZ\"\"),48,0))\"),\"\")","v":""},{"$f":"IFERROR(__xludf.DUMMYFUNCTION(\"iferror(VLOOKUP(B836,IMPORTRANGE(\"\"https://docs.google.com/spreadsheets/d/1bphtMaJ6lFh0VVWIgQh8ZCOchBZqvj0w5rveiNYcTnM/edit#gid=0\"\",\"\"RWA!F:BZ\"\"),49,0))\"),\"\")","v":""},{"$f":"IFERROR(__xludf.DUMMYFUNCTION(\"iferror(VLOOKUP(B836,IMPORTRANGE(\"\"https://docs.google.com/spreadsheets/d/1bphtMaJ6lFh0VVWIgQh8ZCOchBZqvj0w5rveiNYcTnM/edit#gid=0\"\",\"\"RWA!F:BZ\"\"),53,0))\"),\"\")","v":""}]
[null,null,null,{"$f":"IFERROR(__xludf.DUMMYFUNCTION(\"iferror(VLOOKUP(B837,IMPORTRANGE(\"\"https://docs.google.com/spreadsheets/d/1bphtMaJ6lFh0VVWIgQh8ZCOchBZqvj0w5rveiNYcTnM/edit#gid=0\"\",\"\"RWA!F:BZ\"\"),44,0))\"),\"\")","v":""},{"$f":"IFERROR(__xludf.DUMMYFUNCTION(\"iferror(VLOOKUP(B837,IMPORTRANGE(\"\"https://docs.google.com/spreadsheets/d/1bphtMaJ6lFh0VVWIgQh8ZCOchBZqvj0w5rveiNYcTnM/edit#gid=0\"\",\"\"RWA!F:BZ\"\"),48,0))\"),\"\")","v":""},{"$f":"IFERROR(__xludf.DUMMYFUNCTION(\"iferror(VLOOKUP(B837,IMPORTRANGE(\"\"https://docs.google.com/spreadsheets/d/1bphtMaJ6lFh0VVWIgQh8ZCOchBZqvj0w5rveiNYcTnM/edit#gid=0\"\",\"\"RWA!F:BZ\"\"),49,0))\"),\"\")","v":""},{"$f":"IFERROR(__xludf.DUMMYFUNCTION(\"iferror(VLOOKUP(B837,IMPORTRANGE(\"\"https://docs.google.com/spreadsheets/d/1bphtMaJ6lFh0VVWIgQh8ZCOchBZqvj0w5rveiNYcTnM/edit#gid=0\"\",\"\"RWA!F:BZ\"\"),53,0))\"),\"\")","v":""}]
[null,null,null,{"$f":"IFERROR(__xludf.DUMMYFUNCTION(\"iferror(VLOOKUP(B838,IMPORTRANGE(\"\"https://docs.google.com/spreadsheets/d/1bphtMaJ6lFh0VVWIgQh8ZCOchBZqvj0w5rveiNYcTnM/edit#gid=0\"\",\"\"RWA!F:BZ\"\"),44,0))\"),\"\")","v":""},{"$f":"IFERROR(__xludf.DUMMYFUNCTION(\"iferror(VLOOKUP(B838,IMPORTRANGE(\"\"https://docs.google.com/spreadsheets/d/1bphtMaJ6lFh0VVWIgQh8ZCOchBZqvj0w5rveiNYcTnM/edit#gid=0\"\",\"\"RWA!F:BZ\"\"),48,0))\"),\"\")","v":""},{"$f":"IFERROR(__xludf.DUMMYFUNCTION(\"iferror(VLOOKUP(B838,IMPORTRANGE(\"\"https://docs.google.com/spreadsheets/d/1bphtMaJ6lFh0VVWIgQh8ZCOchBZqvj0w5rveiNYcTnM/edit#gid=0\"\",\"\"RWA!F:BZ\"\"),49,0))\"),\"\")","v":""},{"$f":"IFERROR(__xludf.DUMMYFUNCTION(\"iferror(VLOOKUP(B838,IMPORTRANGE(\"\"https://docs.google.com/spreadsheets/d/1bphtMaJ6lFh0VVWIgQh8ZCOchBZqvj0w5rveiNYcTnM/edit#gid=0\"\",\"\"RWA!F:BZ\"\"),53,0))\"),\"\")","v":""}]
[null,null,null,{"$f":"IFERROR(__xludf.DUMMYFUNCTION(\"iferror(VLOOKUP(B839,IMPORTRANGE(\"\"https://docs.google.com/spreadsheets/d/1bphtMaJ6lFh0VVWIgQh8ZCOchBZqvj0w5rveiNYcTnM/edit#gid=0\"\",\"\"RWA!F:BZ\"\"),44,0))\"),\"\")","v":""},{"$f":"IFERROR(__xludf.DUMMYFUNCTION(\"iferror(VLOOKUP(B839,IMPORTRANGE(\"\"https://docs.google.com/spreadsheets/d/1bphtMaJ6lFh0VVWIgQh8ZCOchBZqvj0w5rveiNYcTnM/edit#gid=0\"\",\"\"RWA!F:BZ\"\"),48,0))\"),\"\")","v":""},{"$f":"IFERROR(__xludf.DUMMYFUNCTION(\"iferror(VLOOKUP(B839,IMPORTRANGE(\"\"https://docs.google.com/spreadsheets/d/1bphtMaJ6lFh0VVWIgQh8ZCOchBZqvj0w5rveiNYcTnM/edit#gid=0\"\",\"\"RWA!F:BZ\"\"),49,0))\"),\"\")","v":""},{"$f":"IFERROR(__xludf.DUMMYFUNCTION(\"iferror(VLOOKUP(B839,IMPORTRANGE(\"\"https://docs.google.com/spreadsheets/d/1bphtMaJ6lFh0VVWIgQh8ZCOchBZqvj0w5rveiNYcTnM/edit#gid=0\"\",\"\"RWA!F:BZ\"\"),53,0))\"),\"\")","v":""}]
[null,null,null,{"$f":"IFERROR(__xludf.DUMMYFUNCTION(\"iferror(VLOOKUP(B840,IMPORTRANGE(\"\"https://docs.google.com/spreadsheets/d/1bphtMaJ6lFh0VVWIgQh8ZCOchBZqvj0w5rveiNYcTnM/edit#gid=0\"\",\"\"RWA!F:BZ\"\"),44,0))\"),\"\")","v":""},{"$f":"IFERROR(__xludf.DUMMYFUNCTION(\"iferror(VLOOKUP(B840,IMPORTRANGE(\"\"https://docs.google.com/spreadsheets/d/1bphtMaJ6lFh0VVWIgQh8ZCOchBZqvj0w5rveiNYcTnM/edit#gid=0\"\",\"\"RWA!F:BZ\"\"),48,0))\"),\"\")","v":""},{"$f":"IFERROR(__xludf.DUMMYFUNCTION(\"iferror(VLOOKUP(B840,IMPORTRANGE(\"\"https://docs.google.com/spreadsheets/d/1bphtMaJ6lFh0VVWIgQh8ZCOchBZqvj0w5rveiNYcTnM/edit#gid=0\"\",\"\"RWA!F:BZ\"\"),49,0))\"),\"\")","v":""},{"$f":"IFERROR(__xludf.DUMMYFUNCTION(\"iferror(VLOOKUP(B840,IMPORTRANGE(\"\"https://docs.google.com/spreadsheets/d/1bphtMaJ6lFh0VVWIgQh8ZCOchBZqvj0w5rveiNYcTnM/edit#gid=0\"\",\"\"RWA!F:BZ\"\"),53,0))\"),\"\")","v":""}]
[null,null,null,{"$f":"IFERROR(__xludf.DUMMYFUNCTION(\"iferror(VLOOKUP(B841,IMPORTRANGE(\"\"https://docs.google.com/spreadsheets/d/1bphtMaJ6lFh0VVWIgQh8ZCOchBZqvj0w5rveiNYcTnM/edit#gid=0\"\",\"\"RWA!F:BZ\"\"),44,0))\"),\"\")","v":""},{"$f":"IFERROR(__xludf.DUMMYFUNCTION(\"iferror(VLOOKUP(B841,IMPORTRANGE(\"\"https://docs.google.com/spreadsheets/d/1bphtMaJ6lFh0VVWIgQh8ZCOchBZqvj0w5rveiNYcTnM/edit#gid=0\"\",\"\"RWA!F:BZ\"\"),48,0))\"),\"\")","v":""},{"$f":"IFERROR(__xludf.DUMMYFUNCTION(\"iferror(VLOOKUP(B841,IMPORTRANGE(\"\"https://docs.google.com/spreadsheets/d/1bphtMaJ6lFh0VVWIgQh8ZCOchBZqvj0w5rveiNYcTnM/edit#gid=0\"\",\"\"RWA!F:BZ\"\"),49,0))\"),\"\")","v":""},{"$f":"IFERROR(__xludf.DUMMYFUNCTION(\"iferror(VLOOKUP(B841,IMPORTRANGE(\"\"https://docs.google.com/spreadsheets/d/1bphtMaJ6lFh0VVWIgQh8ZCOchBZqvj0w5rveiNYcTnM/edit#gid=0\"\",\"\"RWA!F:BZ\"\"),53,0))\"),\"\")","v":""}]
[null,null,null,{"$f":"IFERROR(__xludf.DUMMYFUNCTION(\"iferror(VLOOKUP(B842,IMPORTRANGE(\"\"https://docs.google.com/spreadsheets/d/1bphtMaJ6lFh0VVWIgQh8ZCOchBZqvj0w5rveiNYcTnM/edit#gid=0\"\",\"\"RWA!F:BZ\"\"),44,0))\"),\"\")","v":""},{"$f":"IFERROR(__xludf.DUMMYFUNCTION(\"iferror(VLOOKUP(B842,IMPORTRANGE(\"\"https://docs.google.com/spreadsheets/d/1bphtMaJ6lFh0VVWIgQh8ZCOchBZqvj0w5rveiNYcTnM/edit#gid=0\"\",\"\"RWA!F:BZ\"\"),48,0))\"),\"\")","v":""},{"$f":"IFERROR(__xludf.DUMMYFUNCTION(\"iferror(VLOOKUP(B842,IMPORTRANGE(\"\"https://docs.google.com/spreadsheets/d/1bphtMaJ6lFh0VVWIgQh8ZCOchBZqvj0w5rveiNYcTnM/edit#gid=0\"\",\"\"RWA!F:BZ\"\"),49,0))\"),\"\")","v":""},{"$f":"IFERROR(__xludf.DUMMYFUNCTION(\"iferror(VLOOKUP(B842,IMPORTRANGE(\"\"https://docs.google.com/spreadsheets/d/1bphtMaJ6lFh0VVWIgQh8ZCOchBZqvj0w5rveiNYcTnM/edit#gid=0\"\",\"\"RWA!F:BZ\"\"),53,0))\"),\"\")","v":""}]
[null,null,null,{"$f":"IFERROR(__xludf.DUMMYFUNCTION(\"iferror(VLOOKUP(B843,IMPORTRANGE(\"\"https://docs.google.com/spreadsheets/d/1bphtMaJ6lFh0VVWIgQh8ZCOchBZqvj0w5rveiNYcTnM/edit#gid=0\"\",\"\"RWA!F:BZ\"\"),44,0))\"),\"\")","v":""},{"$f":"IFERROR(__xludf.DUMMYFUNCTION(\"iferror(VLOOKUP(B843,IMPORTRANGE(\"\"https://docs.google.com/spreadsheets/d/1bphtMaJ6lFh0VVWIgQh8ZCOchBZqvj0w5rveiNYcTnM/edit#gid=0\"\",\"\"RWA!F:BZ\"\"),48,0))\"),\"\")","v":""},{"$f":"IFERROR(__xludf.DUMMYFUNCTION(\"iferror(VLOOKUP(B843,IMPORTRANGE(\"\"https://docs.google.com/spreadsheets/d/1bphtMaJ6lFh0VVWIgQh8ZCOchBZqvj0w5rveiNYcTnM/edit#gid=0\"\",\"\"RWA!F:BZ\"\"),49,0))\"),\"\")","v":""},{"$f":"IFERROR(__xludf.DUMMYFUNCTION(\"iferror(VLOOKUP(B843,IMPORTRANGE(\"\"https://docs.google.com/spreadsheets/d/1bphtMaJ6lFh0VVWIgQh8ZCOchBZqvj0w5rveiNYcTnM/edit#gid=0\"\",\"\"RWA!F:BZ\"\"),53,0))\"),\"\")","v":""}]
[null,null,null,{"$f":"IFERROR(__xludf.DUMMYFUNCTION(\"iferror(VLOOKUP(B844,IMPORTRANGE(\"\"https://docs.google.com/spreadsheets/d/1bphtMaJ6lFh0VVWIgQh8ZCOchBZqvj0w5rveiNYcTnM/edit#gid=0\"\",\"\"RWA!F:BZ\"\"),44,0))\"),\"\")","v":""},{"$f":"IFERROR(__xludf.DUMMYFUNCTION(\"iferror(VLOOKUP(B844,IMPORTRANGE(\"\"https://docs.google.com/spreadsheets/d/1bphtMaJ6lFh0VVWIgQh8ZCOchBZqvj0w5rveiNYcTnM/edit#gid=0\"\",\"\"RWA!F:BZ\"\"),48,0))\"),\"\")","v":""},{"$f":"IFERROR(__xludf.DUMMYFUNCTION(\"iferror(VLOOKUP(B844,IMPORTRANGE(\"\"https://docs.google.com/spreadsheets/d/1bphtMaJ6lFh0VVWIgQh8ZCOchBZqvj0w5rveiNYcTnM/edit#gid=0\"\",\"\"RWA!F:BZ\"\"),49,0))\"),\"\")","v":""},{"$f":"IFERROR(__xludf.DUMMYFUNCTION(\"iferror(VLOOKUP(B844,IMPORTRANGE(\"\"https://docs.google.com/spreadsheets/d/1bphtMaJ6lFh0VVWIgQh8ZCOchBZqvj0w5rveiNYcTnM/edit#gid=0\"\",\"\"RWA!F:BZ\"\"),53,0))\"),\"\")","v":""}]
[null,null,null,{"$f":"IFERROR(__xludf.DUMMYFUNCTION(\"iferror(VLOOKUP(B845,IMPORTRANGE(\"\"https://docs.google.com/spreadsheets/d/1bphtMaJ6lFh0VVWIgQh8ZCOchBZqvj0w5rveiNYcTnM/edit#gid=0\"\",\"\"RWA!F:BZ\"\"),44,0))\"),\"\")","v":""},{"$f":"IFERROR(__xludf.DUMMYFUNCTION(\"iferror(VLOOKUP(B845,IMPORTRANGE(\"\"https://docs.google.com/spreadsheets/d/1bphtMaJ6lFh0VVWIgQh8ZCOchBZqvj0w5rveiNYcTnM/edit#gid=0\"\",\"\"RWA!F:BZ\"\"),48,0))\"),\"\")","v":""},{"$f":"IFERROR(__xludf.DUMMYFUNCTION(\"iferror(VLOOKUP(B845,IMPORTRANGE(\"\"https://docs.google.com/spreadsheets/d/1bphtMaJ6lFh0VVWIgQh8ZCOchBZqvj0w5rveiNYcTnM/edit#gid=0\"\",\"\"RWA!F:BZ\"\"),49,0))\"),\"\")","v":""},{"$f":"IFERROR(__xludf.DUMMYFUNCTION(\"iferror(VLOOKUP(B845,IMPORTRANGE(\"\"https://docs.google.com/spreadsheets/d/1bphtMaJ6lFh0VVWIgQh8ZCOchBZqvj0w5rveiNYcTnM/edit#gid=0\"\",\"\"RWA!F:BZ\"\"),53,0))\"),\"\")","v":""}]
[null,null,null,{"$f":"IFERROR(__xludf.DUMMYFUNCTION(\"iferror(VLOOKUP(B846,IMPORTRANGE(\"\"https://docs.google.com/spreadsheets/d/1bphtMaJ6lFh0VVWIgQh8ZCOchBZqvj0w5rveiNYcTnM/edit#gid=0\"\",\"\"RWA!F:BZ\"\"),44,0))\"),\"\")","v":""},{"$f":"IFERROR(__xludf.DUMMYFUNCTION(\"iferror(VLOOKUP(B846,IMPORTRANGE(\"\"https://docs.google.com/spreadsheets/d/1bphtMaJ6lFh0VVWIgQh8ZCOchBZqvj0w5rveiNYcTnM/edit#gid=0\"\",\"\"RWA!F:BZ\"\"),48,0))\"),\"\")","v":""},{"$f":"IFERROR(__xludf.DUMMYFUNCTION(\"iferror(VLOOKUP(B846,IMPORTRANGE(\"\"https://docs.google.com/spreadsheets/d/1bphtMaJ6lFh0VVWIgQh8ZCOchBZqvj0w5rveiNYcTnM/edit#gid=0\"\",\"\"RWA!F:BZ\"\"),49,0))\"),\"\")","v":""},{"$f":"IFERROR(__xludf.DUMMYFUNCTION(\"iferror(VLOOKUP(B846,IMPORTRANGE(\"\"https://docs.google.com/spreadsheets/d/1bphtMaJ6lFh0VVWIgQh8ZCOchBZqvj0w5rveiNYcTnM/edit#gid=0\"\",\"\"RWA!F:BZ\"\"),53,0))\"),\"\")","v":""}]
[null,null,null,{"$f":"IFERROR(__xludf.DUMMYFUNCTION(\"iferror(VLOOKUP(B847,IMPORTRANGE(\"\"https://docs.google.com/spreadsheets/d/1bphtMaJ6lFh0VVWIgQh8ZCOchBZqvj0w5rveiNYcTnM/edit#gid=0\"\",\"\"RWA!F:BZ\"\"),44,0))\"),\"\")","v":""},{"$f":"IFERROR(__xludf.DUMMYFUNCTION(\"iferror(VLOOKUP(B847,IMPORTRANGE(\"\"https://docs.google.com/spreadsheets/d/1bphtMaJ6lFh0VVWIgQh8ZCOchBZqvj0w5rveiNYcTnM/edit#gid=0\"\",\"\"RWA!F:BZ\"\"),48,0))\"),\"\")","v":""},{"$f":"IFERROR(__xludf.DUMMYFUNCTION(\"iferror(VLOOKUP(B847,IMPORTRANGE(\"\"https://docs.google.com/spreadsheets/d/1bphtMaJ6lFh0VVWIgQh8ZCOchBZqvj0w5rveiNYcTnM/edit#gid=0\"\",\"\"RWA!F:BZ\"\"),49,0))\"),\"\")","v":""},{"$f":"IFERROR(__xludf.DUMMYFUNCTION(\"iferror(VLOOKUP(B847,IMPORTRANGE(\"\"https://docs.google.com/spreadsheets/d/1bphtMaJ6lFh0VVWIgQh8ZCOchBZqvj0w5rveiNYcTnM/edit#gid=0\"\",\"\"RWA!F:BZ\"\"),53,0))\"),\"\")","v":""}]
[null,null,null,{"$f":"IFERROR(__xludf.DUMMYFUNCTION(\"iferror(VLOOKUP(B848,IMPORTRANGE(\"\"https://docs.google.com/spreadsheets/d/1bphtMaJ6lFh0VVWIgQh8ZCOchBZqvj0w5rveiNYcTnM/edit#gid=0\"\",\"\"RWA!F:BZ\"\"),44,0))\"),\"\")","v":""},{"$f":"IFERROR(__xludf.DUMMYFUNCTION(\"iferror(VLOOKUP(B848,IMPORTRANGE(\"\"https://docs.google.com/spreadsheets/d/1bphtMaJ6lFh0VVWIgQh8ZCOchBZqvj0w5rveiNYcTnM/edit#gid=0\"\",\"\"RWA!F:BZ\"\"),48,0))\"),\"\")","v":""},{"$f":"IFERROR(__xludf.DUMMYFUNCTION(\"iferror(VLOOKUP(B848,IMPORTRANGE(\"\"https://docs.google.com/spreadsheets/d/1bphtMaJ6lFh0VVWIgQh8ZCOchBZqvj0w5rveiNYcTnM/edit#gid=0\"\",\"\"RWA!F:BZ\"\"),49,0))\"),\"\")","v":""},{"$f":"IFERROR(__xludf.DUMMYFUNCTION(\"iferror(VLOOKUP(B848,IMPORTRANGE(\"\"https://docs.google.com/spreadsheets/d/1bphtMaJ6lFh0VVWIgQh8ZCOchBZqvj0w5rveiNYcTnM/edit#gid=0\"\",\"\"RWA!F:BZ\"\"),53,0))\"),\"\")","v":""}]
[null,null,null,{"$f":"IFERROR(__xludf.DUMMYFUNCTION(\"iferror(VLOOKUP(B849,IMPORTRANGE(\"\"https://docs.google.com/spreadsheets/d/1bphtMaJ6lFh0VVWIgQh8ZCOchBZqvj0w5rveiNYcTnM/edit#gid=0\"\",\"\"RWA!F:BZ\"\"),44,0))\"),\"\")","v":""},{"$f":"IFERROR(__xludf.DUMMYFUNCTION(\"iferror(VLOOKUP(B849,IMPORTRANGE(\"\"https://docs.google.com/spreadsheets/d/1bphtMaJ6lFh0VVWIgQh8ZCOchBZqvj0w5rveiNYcTnM/edit#gid=0\"\",\"\"RWA!F:BZ\"\"),48,0))\"),\"\")","v":""},{"$f":"IFERROR(__xludf.DUMMYFUNCTION(\"iferror(VLOOKUP(B849,IMPORTRANGE(\"\"https://docs.google.com/spreadsheets/d/1bphtMaJ6lFh0VVWIgQh8ZCOchBZqvj0w5rveiNYcTnM/edit#gid=0\"\",\"\"RWA!F:BZ\"\"),49,0))\"),\"\")","v":""},{"$f":"IFERROR(__xludf.DUMMYFUNCTION(\"iferror(VLOOKUP(B849,IMPORTRANGE(\"\"https://docs.google.com/spreadsheets/d/1bphtMaJ6lFh0VVWIgQh8ZCOchBZqvj0w5rveiNYcTnM/edit#gid=0\"\",\"\"RWA!F:BZ\"\"),53,0))\"),\"\")","v":""}]
[null,null,null,{"$f":"IFERROR(__xludf.DUMMYFUNCTION(\"iferror(VLOOKUP(B850,IMPORTRANGE(\"\"https://docs.google.com/spreadsheets/d/1bphtMaJ6lFh0VVWIgQh8ZCOchBZqvj0w5rveiNYcTnM/edit#gid=0\"\",\"\"RWA!F:BZ\"\"),44,0))\"),\"\")","v":""},{"$f":"IFERROR(__xludf.DUMMYFUNCTION(\"iferror(VLOOKUP(B850,IMPORTRANGE(\"\"https://docs.google.com/spreadsheets/d/1bphtMaJ6lFh0VVWIgQh8ZCOchBZqvj0w5rveiNYcTnM/edit#gid=0\"\",\"\"RWA!F:BZ\"\"),48,0))\"),\"\")","v":""},{"$f":"IFERROR(__xludf.DUMMYFUNCTION(\"iferror(VLOOKUP(B850,IMPORTRANGE(\"\"https://docs.google.com/spreadsheets/d/1bphtMaJ6lFh0VVWIgQh8ZCOchBZqvj0w5rveiNYcTnM/edit#gid=0\"\",\"\"RWA!F:BZ\"\"),49,0))\"),\"\")","v":""},{"$f":"IFERROR(__xludf.DUMMYFUNCTION(\"iferror(VLOOKUP(B850,IMPORTRANGE(\"\"https://docs.google.com/spreadsheets/d/1bphtMaJ6lFh0VVWIgQh8ZCOchBZqvj0w5rveiNYcTnM/edit#gid=0\"\",\"\"RWA!F:BZ\"\"),53,0))\"),\"\")","v":""}]
[null,null,null,{"$f":"IFERROR(__xludf.DUMMYFUNCTION(\"iferror(VLOOKUP(B851,IMPORTRANGE(\"\"https://docs.google.com/spreadsheets/d/1bphtMaJ6lFh0VVWIgQh8ZCOchBZqvj0w5rveiNYcTnM/edit#gid=0\"\",\"\"RWA!F:BZ\"\"),44,0))\"),\"\")","v":""},{"$f":"IFERROR(__xludf.DUMMYFUNCTION(\"iferror(VLOOKUP(B851,IMPORTRANGE(\"\"https://docs.google.com/spreadsheets/d/1bphtMaJ6lFh0VVWIgQh8ZCOchBZqvj0w5rveiNYcTnM/edit#gid=0\"\",\"\"RWA!F:BZ\"\"),48,0))\"),\"\")","v":""},{"$f":"IFERROR(__xludf.DUMMYFUNCTION(\"iferror(VLOOKUP(B851,IMPORTRANGE(\"\"https://docs.google.com/spreadsheets/d/1bphtMaJ6lFh0VVWIgQh8ZCOchBZqvj0w5rveiNYcTnM/edit#gid=0\"\",\"\"RWA!F:BZ\"\"),49,0))\"),\"\")","v":""},{"$f":"IFERROR(__xludf.DUMMYFUNCTION(\"iferror(VLOOKUP(B851,IMPORTRANGE(\"\"https://docs.google.com/spreadsheets/d/1bphtMaJ6lFh0VVWIgQh8ZCOchBZqvj0w5rveiNYcTnM/edit#gid=0\"\",\"\"RWA!F:BZ\"\"),53,0))\"),\"\")","v":""}]
[null,null,null,{"$f":"IFERROR(__xludf.DUMMYFUNCTION(\"iferror(VLOOKUP(B852,IMPORTRANGE(\"\"https://docs.google.com/spreadsheets/d/1bphtMaJ6lFh0VVWIgQh8ZCOchBZqvj0w5rveiNYcTnM/edit#gid=0\"\",\"\"RWA!F:BZ\"\"),44,0))\"),\"\")","v":""},{"$f":"IFERROR(__xludf.DUMMYFUNCTION(\"iferror(VLOOKUP(B852,IMPORTRANGE(\"\"https://docs.google.com/spreadsheets/d/1bphtMaJ6lFh0VVWIgQh8ZCOchBZqvj0w5rveiNYcTnM/edit#gid=0\"\",\"\"RWA!F:BZ\"\"),48,0))\"),\"\")","v":""},{"$f":"IFERROR(__xludf.DUMMYFUNCTION(\"iferror(VLOOKUP(B852,IMPORTRANGE(\"\"https://docs.google.com/spreadsheets/d/1bphtMaJ6lFh0VVWIgQh8ZCOchBZqvj0w5rveiNYcTnM/edit#gid=0\"\",\"\"RWA!F:BZ\"\"),49,0))\"),\"\")","v":""},{"$f":"IFERROR(__xludf.DUMMYFUNCTION(\"iferror(VLOOKUP(B852,IMPORTRANGE(\"\"https://docs.google.com/spreadsheets/d/1bphtMaJ6lFh0VVWIgQh8ZCOchBZqvj0w5rveiNYcTnM/edit#gid=0\"\",\"\"RWA!F:BZ\"\"),53,0))\"),\"\")","v":""}]
[null,null,null,{"$f":"IFERROR(__xludf.DUMMYFUNCTION(\"iferror(VLOOKUP(B853,IMPORTRANGE(\"\"https://docs.google.com/spreadsheets/d/1bphtMaJ6lFh0VVWIgQh8ZCOchBZqvj0w5rveiNYcTnM/edit#gid=0\"\",\"\"RWA!F:BZ\"\"),44,0))\"),\"\")","v":""},{"$f":"IFERROR(__xludf.DUMMYFUNCTION(\"iferror(VLOOKUP(B853,IMPORTRANGE(\"\"https://docs.google.com/spreadsheets/d/1bphtMaJ6lFh0VVWIgQh8ZCOchBZqvj0w5rveiNYcTnM/edit#gid=0\"\",\"\"RWA!F:BZ\"\"),48,0))\"),\"\")","v":""},{"$f":"IFERROR(__xludf.DUMMYFUNCTION(\"iferror(VLOOKUP(B853,IMPORTRANGE(\"\"https://docs.google.com/spreadsheets/d/1bphtMaJ6lFh0VVWIgQh8ZCOchBZqvj0w5rveiNYcTnM/edit#gid=0\"\",\"\"RWA!F:BZ\"\"),49,0))\"),\"\")","v":""},{"$f":"IFERROR(__xludf.DUMMYFUNCTION(\"iferror(VLOOKUP(B853,IMPORTRANGE(\"\"https://docs.google.com/spreadsheets/d/1bphtMaJ6lFh0VVWIgQh8ZCOchBZqvj0w5rveiNYcTnM/edit#gid=0\"\",\"\"RWA!F:BZ\"\"),53,0))\"),\"\")","v":""}]
[null,null,null,{"$f":"IFERROR(__xludf.DUMMYFUNCTION(\"iferror(VLOOKUP(B854,IMPORTRANGE(\"\"https://docs.google.com/spreadsheets/d/1bphtMaJ6lFh0VVWIgQh8ZCOchBZqvj0w5rveiNYcTnM/edit#gid=0\"\",\"\"RWA!F:BZ\"\"),44,0))\"),\"\")","v":""},{"$f":"IFERROR(__xludf.DUMMYFUNCTION(\"iferror(VLOOKUP(B854,IMPORTRANGE(\"\"https://docs.google.com/spreadsheets/d/1bphtMaJ6lFh0VVWIgQh8ZCOchBZqvj0w5rveiNYcTnM/edit#gid=0\"\",\"\"RWA!F:BZ\"\"),48,0))\"),\"\")","v":""},{"$f":"IFERROR(__xludf.DUMMYFUNCTION(\"iferror(VLOOKUP(B854,IMPORTRANGE(\"\"https://docs.google.com/spreadsheets/d/1bphtMaJ6lFh0VVWIgQh8ZCOchBZqvj0w5rveiNYcTnM/edit#gid=0\"\",\"\"RWA!F:BZ\"\"),49,0))\"),\"\")","v":""},{"$f":"IFERROR(__xludf.DUMMYFUNCTION(\"iferror(VLOOKUP(B854,IMPORTRANGE(\"\"https://docs.google.com/spreadsheets/d/1bphtMaJ6lFh0VVWIgQh8ZCOchBZqvj0w5rveiNYcTnM/edit#gid=0\"\",\"\"RWA!F:BZ\"\"),53,0))\"),\"\")","v":""}]
[null,null,null,{"$f":"IFERROR(__xludf.DUMMYFUNCTION(\"iferror(VLOOKUP(B855,IMPORTRANGE(\"\"https://docs.google.com/spreadsheets/d/1bphtMaJ6lFh0VVWIgQh8ZCOchBZqvj0w5rveiNYcTnM/edit#gid=0\"\",\"\"RWA!F:BZ\"\"),44,0))\"),\"\")","v":""},{"$f":"IFERROR(__xludf.DUMMYFUNCTION(\"iferror(VLOOKUP(B855,IMPORTRANGE(\"\"https://docs.google.com/spreadsheets/d/1bphtMaJ6lFh0VVWIgQh8ZCOchBZqvj0w5rveiNYcTnM/edit#gid=0\"\",\"\"RWA!F:BZ\"\"),48,0))\"),\"\")","v":""},{"$f":"IFERROR(__xludf.DUMMYFUNCTION(\"iferror(VLOOKUP(B855,IMPORTRANGE(\"\"https://docs.google.com/spreadsheets/d/1bphtMaJ6lFh0VVWIgQh8ZCOchBZqvj0w5rveiNYcTnM/edit#gid=0\"\",\"\"RWA!F:BZ\"\"),49,0))\"),\"\")","v":""},{"$f":"IFERROR(__xludf.DUMMYFUNCTION(\"iferror(VLOOKUP(B855,IMPORTRANGE(\"\"https://docs.google.com/spreadsheets/d/1bphtMaJ6lFh0VVWIgQh8ZCOchBZqvj0w5rveiNYcTnM/edit#gid=0\"\",\"\"RWA!F:BZ\"\"),53,0))\"),\"\")","v":""}]
[null,null,null,{"$f":"IFERROR(__xludf.DUMMYFUNCTION(\"iferror(VLOOKUP(B856,IMPORTRANGE(\"\"https://docs.google.com/spreadsheets/d/1bphtMaJ6lFh0VVWIgQh8ZCOchBZqvj0w5rveiNYcTnM/edit#gid=0\"\",\"\"RWA!F:BZ\"\"),44,0))\"),\"\")","v":""},{"$f":"IFERROR(__xludf.DUMMYFUNCTION(\"iferror(VLOOKUP(B856,IMPORTRANGE(\"\"https://docs.google.com/spreadsheets/d/1bphtMaJ6lFh0VVWIgQh8ZCOchBZqvj0w5rveiNYcTnM/edit#gid=0\"\",\"\"RWA!F:BZ\"\"),48,0))\"),\"\")","v":""},{"$f":"IFERROR(__xludf.DUMMYFUNCTION(\"iferror(VLOOKUP(B856,IMPORTRANGE(\"\"https://docs.google.com/spreadsheets/d/1bphtMaJ6lFh0VVWIgQh8ZCOchBZqvj0w5rveiNYcTnM/edit#gid=0\"\",\"\"RWA!F:BZ\"\"),49,0))\"),\"\")","v":""},{"$f":"IFERROR(__xludf.DUMMYFUNCTION(\"iferror(VLOOKUP(B856,IMPORTRANGE(\"\"https://docs.google.com/spreadsheets/d/1bphtMaJ6lFh0VVWIgQh8ZCOchBZqvj0w5rveiNYcTnM/edit#gid=0\"\",\"\"RWA!F:BZ\"\"),53,0))\"),\"\")","v":""}]
[null,null,null,{"$f":"IFERROR(__xludf.DUMMYFUNCTION(\"iferror(VLOOKUP(B857,IMPORTRANGE(\"\"https://docs.google.com/spreadsheets/d/1bphtMaJ6lFh0VVWIgQh8ZCOchBZqvj0w5rveiNYcTnM/edit#gid=0\"\",\"\"RWA!F:BZ\"\"),44,0))\"),\"\")","v":""},{"$f":"IFERROR(__xludf.DUMMYFUNCTION(\"iferror(VLOOKUP(B857,IMPORTRANGE(\"\"https://docs.google.com/spreadsheets/d/1bphtMaJ6lFh0VVWIgQh8ZCOchBZqvj0w5rveiNYcTnM/edit#gid=0\"\",\"\"RWA!F:BZ\"\"),48,0))\"),\"\")","v":""},{"$f":"IFERROR(__xludf.DUMMYFUNCTION(\"iferror(VLOOKUP(B857,IMPORTRANGE(\"\"https://docs.google.com/spreadsheets/d/1bphtMaJ6lFh0VVWIgQh8ZCOchBZqvj0w5rveiNYcTnM/edit#gid=0\"\",\"\"RWA!F:BZ\"\"),49,0))\"),\"\")","v":""},{"$f":"IFERROR(__xludf.DUMMYFUNCTION(\"iferror(VLOOKUP(B857,IMPORTRANGE(\"\"https://docs.google.com/spreadsheets/d/1bphtMaJ6lFh0VVWIgQh8ZCOchBZqvj0w5rveiNYcTnM/edit#gid=0\"\",\"\"RWA!F:BZ\"\"),53,0))\"),\"\")","v":""}]
[null,null,null,{"$f":"IFERROR(__xludf.DUMMYFUNCTION(\"iferror(VLOOKUP(B858,IMPORTRANGE(\"\"https://docs.google.com/spreadsheets/d/1bphtMaJ6lFh0VVWIgQh8ZCOchBZqvj0w5rveiNYcTnM/edit#gid=0\"\",\"\"RWA!F:BZ\"\"),44,0))\"),\"\")","v":""},{"$f":"IFERROR(__xludf.DUMMYFUNCTION(\"iferror(VLOOKUP(B858,IMPORTRANGE(\"\"https://docs.google.com/spreadsheets/d/1bphtMaJ6lFh0VVWIgQh8ZCOchBZqvj0w5rveiNYcTnM/edit#gid=0\"\",\"\"RWA!F:BZ\"\"),48,0))\"),\"\")","v":""},{"$f":"IFERROR(__xludf.DUMMYFUNCTION(\"iferror(VLOOKUP(B858,IMPORTRANGE(\"\"https://docs.google.com/spreadsheets/d/1bphtMaJ6lFh0VVWIgQh8ZCOchBZqvj0w5rveiNYcTnM/edit#gid=0\"\",\"\"RWA!F:BZ\"\"),49,0))\"),\"\")","v":""},{"$f":"IFERROR(__xludf.DUMMYFUNCTION(\"iferror(VLOOKUP(B858,IMPORTRANGE(\"\"https://docs.google.com/spreadsheets/d/1bphtMaJ6lFh0VVWIgQh8ZCOchBZqvj0w5rveiNYcTnM/edit#gid=0\"\",\"\"RWA!F:BZ\"\"),53,0))\"),\"\")","v":""}]
[null,null,null,{"$f":"IFERROR(__xludf.DUMMYFUNCTION(\"iferror(VLOOKUP(B859,IMPORTRANGE(\"\"https://docs.google.com/spreadsheets/d/1bphtMaJ6lFh0VVWIgQh8ZCOchBZqvj0w5rveiNYcTnM/edit#gid=0\"\",\"\"RWA!F:BZ\"\"),44,0))\"),\"\")","v":""},{"$f":"IFERROR(__xludf.DUMMYFUNCTION(\"iferror(VLOOKUP(B859,IMPORTRANGE(\"\"https://docs.google.com/spreadsheets/d/1bphtMaJ6lFh0VVWIgQh8ZCOchBZqvj0w5rveiNYcTnM/edit#gid=0\"\",\"\"RWA!F:BZ\"\"),48,0))\"),\"\")","v":""},{"$f":"IFERROR(__xludf.DUMMYFUNCTION(\"iferror(VLOOKUP(B859,IMPORTRANGE(\"\"https://docs.google.com/spreadsheets/d/1bphtMaJ6lFh0VVWIgQh8ZCOchBZqvj0w5rveiNYcTnM/edit#gid=0\"\",\"\"RWA!F:BZ\"\"),49,0))\"),\"\")","v":""},{"$f":"IFERROR(__xludf.DUMMYFUNCTION(\"iferror(VLOOKUP(B859,IMPORTRANGE(\"\"https://docs.google.com/spreadsheets/d/1bphtMaJ6lFh0VVWIgQh8ZCOchBZqvj0w5rveiNYcTnM/edit#gid=0\"\",\"\"RWA!F:BZ\"\"),53,0))\"),\"\")","v":""}]
[null,null,null,{"$f":"IFERROR(__xludf.DUMMYFUNCTION(\"iferror(VLOOKUP(B860,IMPORTRANGE(\"\"https://docs.google.com/spreadsheets/d/1bphtMaJ6lFh0VVWIgQh8ZCOchBZqvj0w5rveiNYcTnM/edit#gid=0\"\",\"\"RWA!F:BZ\"\"),44,0))\"),\"\")","v":""},{"$f":"IFERROR(__xludf.DUMMYFUNCTION(\"iferror(VLOOKUP(B860,IMPORTRANGE(\"\"https://docs.google.com/spreadsheets/d/1bphtMaJ6lFh0VVWIgQh8ZCOchBZqvj0w5rveiNYcTnM/edit#gid=0\"\",\"\"RWA!F:BZ\"\"),48,0))\"),\"\")","v":""},{"$f":"IFERROR(__xludf.DUMMYFUNCTION(\"iferror(VLOOKUP(B860,IMPORTRANGE(\"\"https://docs.google.com/spreadsheets/d/1bphtMaJ6lFh0VVWIgQh8ZCOchBZqvj0w5rveiNYcTnM/edit#gid=0\"\",\"\"RWA!F:BZ\"\"),49,0))\"),\"\")","v":""},{"$f":"IFERROR(__xludf.DUMMYFUNCTION(\"iferror(VLOOKUP(B860,IMPORTRANGE(\"\"https://docs.google.com/spreadsheets/d/1bphtMaJ6lFh0VVWIgQh8ZCOchBZqvj0w5rveiNYcTnM/edit#gid=0\"\",\"\"RWA!F:BZ\"\"),53,0))\"),\"\")","v":""}]
[null,null,null,{"$f":"IFERROR(__xludf.DUMMYFUNCTION(\"iferror(VLOOKUP(B861,IMPORTRANGE(\"\"https://docs.google.com/spreadsheets/d/1bphtMaJ6lFh0VVWIgQh8ZCOchBZqvj0w5rveiNYcTnM/edit#gid=0\"\",\"\"RWA!F:BZ\"\"),44,0))\"),\"\")","v":""},{"$f":"IFERROR(__xludf.DUMMYFUNCTION(\"iferror(VLOOKUP(B861,IMPORTRANGE(\"\"https://docs.google.com/spreadsheets/d/1bphtMaJ6lFh0VVWIgQh8ZCOchBZqvj0w5rveiNYcTnM/edit#gid=0\"\",\"\"RWA!F:BZ\"\"),48,0))\"),\"\")","v":""},{"$f":"IFERROR(__xludf.DUMMYFUNCTION(\"iferror(VLOOKUP(B861,IMPORTRANGE(\"\"https://docs.google.com/spreadsheets/d/1bphtMaJ6lFh0VVWIgQh8ZCOchBZqvj0w5rveiNYcTnM/edit#gid=0\"\",\"\"RWA!F:BZ\"\"),49,0))\"),\"\")","v":""},{"$f":"IFERROR(__xludf.DUMMYFUNCTION(\"iferror(VLOOKUP(B861,IMPORTRANGE(\"\"https://docs.google.com/spreadsheets/d/1bphtMaJ6lFh0VVWIgQh8ZCOchBZqvj0w5rveiNYcTnM/edit#gid=0\"\",\"\"RWA!F:BZ\"\"),53,0))\"),\"\")","v":""}]
[null,null,null,{"$f":"IFERROR(__xludf.DUMMYFUNCTION(\"iferror(VLOOKUP(B862,IMPORTRANGE(\"\"https://docs.google.com/spreadsheets/d/1bphtMaJ6lFh0VVWIgQh8ZCOchBZqvj0w5rveiNYcTnM/edit#gid=0\"\",\"\"RWA!F:BZ\"\"),44,0))\"),\"\")","v":""},{"$f":"IFERROR(__xludf.DUMMYFUNCTION(\"iferror(VLOOKUP(B862,IMPORTRANGE(\"\"https://docs.google.com/spreadsheets/d/1bphtMaJ6lFh0VVWIgQh8ZCOchBZqvj0w5rveiNYcTnM/edit#gid=0\"\",\"\"RWA!F:BZ\"\"),48,0))\"),\"\")","v":""},{"$f":"IFERROR(__xludf.DUMMYFUNCTION(\"iferror(VLOOKUP(B862,IMPORTRANGE(\"\"https://docs.google.com/spreadsheets/d/1bphtMaJ6lFh0VVWIgQh8ZCOchBZqvj0w5rveiNYcTnM/edit#gid=0\"\",\"\"RWA!F:BZ\"\"),49,0))\"),\"\")","v":""},{"$f":"IFERROR(__xludf.DUMMYFUNCTION(\"iferror(VLOOKUP(B862,IMPORTRANGE(\"\"https://docs.google.com/spreadsheets/d/1bphtMaJ6lFh0VVWIgQh8ZCOchBZqvj0w5rveiNYcTnM/edit#gid=0\"\",\"\"RWA!F:BZ\"\"),53,0))\"),\"\")","v":""}]
[null,null,null,{"$f":"IFERROR(__xludf.DUMMYFUNCTION(\"iferror(VLOOKUP(B863,IMPORTRANGE(\"\"https://docs.google.com/spreadsheets/d/1bphtMaJ6lFh0VVWIgQh8ZCOchBZqvj0w5rveiNYcTnM/edit#gid=0\"\",\"\"RWA!F:BZ\"\"),44,0))\"),\"\")","v":""},{"$f":"IFERROR(__xludf.DUMMYFUNCTION(\"iferror(VLOOKUP(B863,IMPORTRANGE(\"\"https://docs.google.com/spreadsheets/d/1bphtMaJ6lFh0VVWIgQh8ZCOchBZqvj0w5rveiNYcTnM/edit#gid=0\"\",\"\"RWA!F:BZ\"\"),48,0))\"),\"\")","v":""},{"$f":"IFERROR(__xludf.DUMMYFUNCTION(\"iferror(VLOOKUP(B863,IMPORTRANGE(\"\"https://docs.google.com/spreadsheets/d/1bphtMaJ6lFh0VVWIgQh8ZCOchBZqvj0w5rveiNYcTnM/edit#gid=0\"\",\"\"RWA!F:BZ\"\"),49,0))\"),\"\")","v":""},{"$f":"IFERROR(__xludf.DUMMYFUNCTION(\"iferror(VLOOKUP(B863,IMPORTRANGE(\"\"https://docs.google.com/spreadsheets/d/1bphtMaJ6lFh0VVWIgQh8ZCOchBZqvj0w5rveiNYcTnM/edit#gid=0\"\",\"\"RWA!F:BZ\"\"),53,0))\"),\"\")","v":""}]
[null,null,null,{"$f":"IFERROR(__xludf.DUMMYFUNCTION(\"iferror(VLOOKUP(B864,IMPORTRANGE(\"\"https://docs.google.com/spreadsheets/d/1bphtMaJ6lFh0VVWIgQh8ZCOchBZqvj0w5rveiNYcTnM/edit#gid=0\"\",\"\"RWA!F:BZ\"\"),44,0))\"),\"\")","v":""},{"$f":"IFERROR(__xludf.DUMMYFUNCTION(\"iferror(VLOOKUP(B864,IMPORTRANGE(\"\"https://docs.google.com/spreadsheets/d/1bphtMaJ6lFh0VVWIgQh8ZCOchBZqvj0w5rveiNYcTnM/edit#gid=0\"\",\"\"RWA!F:BZ\"\"),48,0))\"),\"\")","v":""},{"$f":"IFERROR(__xludf.DUMMYFUNCTION(\"iferror(VLOOKUP(B864,IMPORTRANGE(\"\"https://docs.google.com/spreadsheets/d/1bphtMaJ6lFh0VVWIgQh8ZCOchBZqvj0w5rveiNYcTnM/edit#gid=0\"\",\"\"RWA!F:BZ\"\"),49,0))\"),\"\")","v":""},{"$f":"IFERROR(__xludf.DUMMYFUNCTION(\"iferror(VLOOKUP(B864,IMPORTRANGE(\"\"https://docs.google.com/spreadsheets/d/1bphtMaJ6lFh0VVWIgQh8ZCOchBZqvj0w5rveiNYcTnM/edit#gid=0\"\",\"\"RWA!F:BZ\"\"),53,0))\"),\"\")","v":""}]
[null,null,null,{"$f":"IFERROR(__xludf.DUMMYFUNCTION(\"iferror(VLOOKUP(B865,IMPORTRANGE(\"\"https://docs.google.com/spreadsheets/d/1bphtMaJ6lFh0VVWIgQh8ZCOchBZqvj0w5rveiNYcTnM/edit#gid=0\"\",\"\"RWA!F:BZ\"\"),44,0))\"),\"\")","v":""},{"$f":"IFERROR(__xludf.DUMMYFUNCTION(\"iferror(VLOOKUP(B865,IMPORTRANGE(\"\"https://docs.google.com/spreadsheets/d/1bphtMaJ6lFh0VVWIgQh8ZCOchBZqvj0w5rveiNYcTnM/edit#gid=0\"\",\"\"RWA!F:BZ\"\"),48,0))\"),\"\")","v":""},{"$f":"IFERROR(__xludf.DUMMYFUNCTION(\"iferror(VLOOKUP(B865,IMPORTRANGE(\"\"https://docs.google.com/spreadsheets/d/1bphtMaJ6lFh0VVWIgQh8ZCOchBZqvj0w5rveiNYcTnM/edit#gid=0\"\",\"\"RWA!F:BZ\"\"),49,0))\"),\"\")","v":""},{"$f":"IFERROR(__xludf.DUMMYFUNCTION(\"iferror(VLOOKUP(B865,IMPORTRANGE(\"\"https://docs.google.com/spreadsheets/d/1bphtMaJ6lFh0VVWIgQh8ZCOchBZqvj0w5rveiNYcTnM/edit#gid=0\"\",\"\"RWA!F:BZ\"\"),53,0))\"),\"\")","v":""}]
[null,null,null,{"$f":"IFERROR(__xludf.DUMMYFUNCTION(\"iferror(VLOOKUP(B866,IMPORTRANGE(\"\"https://docs.google.com/spreadsheets/d/1bphtMaJ6lFh0VVWIgQh8ZCOchBZqvj0w5rveiNYcTnM/edit#gid=0\"\",\"\"RWA!F:BZ\"\"),44,0))\"),\"\")","v":""},{"$f":"IFERROR(__xludf.DUMMYFUNCTION(\"iferror(VLOOKUP(B866,IMPORTRANGE(\"\"https://docs.google.com/spreadsheets/d/1bphtMaJ6lFh0VVWIgQh8ZCOchBZqvj0w5rveiNYcTnM/edit#gid=0\"\",\"\"RWA!F:BZ\"\"),48,0))\"),\"\")","v":""},{"$f":"IFERROR(__xludf.DUMMYFUNCTION(\"iferror(VLOOKUP(B866,IMPORTRANGE(\"\"https://docs.google.com/spreadsheets/d/1bphtMaJ6lFh0VVWIgQh8ZCOchBZqvj0w5rveiNYcTnM/edit#gid=0\"\",\"\"RWA!F:BZ\"\"),49,0))\"),\"\")","v":""},{"$f":"IFERROR(__xludf.DUMMYFUNCTION(\"iferror(VLOOKUP(B866,IMPORTRANGE(\"\"https://docs.google.com/spreadsheets/d/1bphtMaJ6lFh0VVWIgQh8ZCOchBZqvj0w5rveiNYcTnM/edit#gid=0\"\",\"\"RWA!F:BZ\"\"),53,0))\"),\"\")","v":""}]
[null,null,null,{"$f":"IFERROR(__xludf.DUMMYFUNCTION(\"iferror(VLOOKUP(B867,IMPORTRANGE(\"\"https://docs.google.com/spreadsheets/d/1bphtMaJ6lFh0VVWIgQh8ZCOchBZqvj0w5rveiNYcTnM/edit#gid=0\"\",\"\"RWA!F:BZ\"\"),44,0))\"),\"\")","v":""},{"$f":"IFERROR(__xludf.DUMMYFUNCTION(\"iferror(VLOOKUP(B867,IMPORTRANGE(\"\"https://docs.google.com/spreadsheets/d/1bphtMaJ6lFh0VVWIgQh8ZCOchBZqvj0w5rveiNYcTnM/edit#gid=0\"\",\"\"RWA!F:BZ\"\"),48,0))\"),\"\")","v":""},{"$f":"IFERROR(__xludf.DUMMYFUNCTION(\"iferror(VLOOKUP(B867,IMPORTRANGE(\"\"https://docs.google.com/spreadsheets/d/1bphtMaJ6lFh0VVWIgQh8ZCOchBZqvj0w5rveiNYcTnM/edit#gid=0\"\",\"\"RWA!F:BZ\"\"),49,0))\"),\"\")","v":""},{"$f":"IFERROR(__xludf.DUMMYFUNCTION(\"iferror(VLOOKUP(B867,IMPORTRANGE(\"\"https://docs.google.com/spreadsheets/d/1bphtMaJ6lFh0VVWIgQh8ZCOchBZqvj0w5rveiNYcTnM/edit#gid=0\"\",\"\"RWA!F:BZ\"\"),53,0))\"),\"\")","v":""}]
[null,null,null,{"$f":"IFERROR(__xludf.DUMMYFUNCTION(\"iferror(VLOOKUP(B868,IMPORTRANGE(\"\"https://docs.google.com/spreadsheets/d/1bphtMaJ6lFh0VVWIgQh8ZCOchBZqvj0w5rveiNYcTnM/edit#gid=0\"\",\"\"RWA!F:BZ\"\"),44,0))\"),\"\")","v":""},{"$f":"IFERROR(__xludf.DUMMYFUNCTION(\"iferror(VLOOKUP(B868,IMPORTRANGE(\"\"https://docs.google.com/spreadsheets/d/1bphtMaJ6lFh0VVWIgQh8ZCOchBZqvj0w5rveiNYcTnM/edit#gid=0\"\",\"\"RWA!F:BZ\"\"),48,0))\"),\"\")","v":""},{"$f":"IFERROR(__xludf.DUMMYFUNCTION(\"iferror(VLOOKUP(B868,IMPORTRANGE(\"\"https://docs.google.com/spreadsheets/d/1bphtMaJ6lFh0VVWIgQh8ZCOchBZqvj0w5rveiNYcTnM/edit#gid=0\"\",\"\"RWA!F:BZ\"\"),49,0))\"),\"\")","v":""},{"$f":"IFERROR(__xludf.DUMMYFUNCTION(\"iferror(VLOOKUP(B868,IMPORTRANGE(\"\"https://docs.google.com/spreadsheets/d/1bphtMaJ6lFh0VVWIgQh8ZCOchBZqvj0w5rveiNYcTnM/edit#gid=0\"\",\"\"RWA!F:BZ\"\"),53,0))\"),\"\")","v":""}]
[null,null,null,{"$f":"IFERROR(__xludf.DUMMYFUNCTION(\"iferror(VLOOKUP(B869,IMPORTRANGE(\"\"https://docs.google.com/spreadsheets/d/1bphtMaJ6lFh0VVWIgQh8ZCOchBZqvj0w5rveiNYcTnM/edit#gid=0\"\",\"\"RWA!F:BZ\"\"),44,0))\"),\"\")","v":""},{"$f":"IFERROR(__xludf.DUMMYFUNCTION(\"iferror(VLOOKUP(B869,IMPORTRANGE(\"\"https://docs.google.com/spreadsheets/d/1bphtMaJ6lFh0VVWIgQh8ZCOchBZqvj0w5rveiNYcTnM/edit#gid=0\"\",\"\"RWA!F:BZ\"\"),48,0))\"),\"\")","v":""},{"$f":"IFERROR(__xludf.DUMMYFUNCTION(\"iferror(VLOOKUP(B869,IMPORTRANGE(\"\"https://docs.google.com/spreadsheets/d/1bphtMaJ6lFh0VVWIgQh8ZCOchBZqvj0w5rveiNYcTnM/edit#gid=0\"\",\"\"RWA!F:BZ\"\"),49,0))\"),\"\")","v":""},{"$f":"IFERROR(__xludf.DUMMYFUNCTION(\"iferror(VLOOKUP(B869,IMPORTRANGE(\"\"https://docs.google.com/spreadsheets/d/1bphtMaJ6lFh0VVWIgQh8ZCOchBZqvj0w5rveiNYcTnM/edit#gid=0\"\",\"\"RWA!F:BZ\"\"),53,0))\"),\"\")","v":""}]
[null,null,null,{"$f":"IFERROR(__xludf.DUMMYFUNCTION(\"iferror(VLOOKUP(B870,IMPORTRANGE(\"\"https://docs.google.com/spreadsheets/d/1bphtMaJ6lFh0VVWIgQh8ZCOchBZqvj0w5rveiNYcTnM/edit#gid=0\"\",\"\"RWA!F:BZ\"\"),44,0))\"),\"\")","v":""},{"$f":"IFERROR(__xludf.DUMMYFUNCTION(\"iferror(VLOOKUP(B870,IMPORTRANGE(\"\"https://docs.google.com/spreadsheets/d/1bphtMaJ6lFh0VVWIgQh8ZCOchBZqvj0w5rveiNYcTnM/edit#gid=0\"\",\"\"RWA!F:BZ\"\"),48,0))\"),\"\")","v":""},{"$f":"IFERROR(__xludf.DUMMYFUNCTION(\"iferror(VLOOKUP(B870,IMPORTRANGE(\"\"https://docs.google.com/spreadsheets/d/1bphtMaJ6lFh0VVWIgQh8ZCOchBZqvj0w5rveiNYcTnM/edit#gid=0\"\",\"\"RWA!F:BZ\"\"),49,0))\"),\"\")","v":""},{"$f":"IFERROR(__xludf.DUMMYFUNCTION(\"iferror(VLOOKUP(B870,IMPORTRANGE(\"\"https://docs.google.com/spreadsheets/d/1bphtMaJ6lFh0VVWIgQh8ZCOchBZqvj0w5rveiNYcTnM/edit#gid=0\"\",\"\"RWA!F:BZ\"\"),53,0))\"),\"\")","v":""}]
[null,null,null,{"$f":"IFERROR(__xludf.DUMMYFUNCTION(\"iferror(VLOOKUP(B871,IMPORTRANGE(\"\"https://docs.google.com/spreadsheets/d/1bphtMaJ6lFh0VVWIgQh8ZCOchBZqvj0w5rveiNYcTnM/edit#gid=0\"\",\"\"RWA!F:BZ\"\"),44,0))\"),\"\")","v":""},{"$f":"IFERROR(__xludf.DUMMYFUNCTION(\"iferror(VLOOKUP(B871,IMPORTRANGE(\"\"https://docs.google.com/spreadsheets/d/1bphtMaJ6lFh0VVWIgQh8ZCOchBZqvj0w5rveiNYcTnM/edit#gid=0\"\",\"\"RWA!F:BZ\"\"),48,0))\"),\"\")","v":""},{"$f":"IFERROR(__xludf.DUMMYFUNCTION(\"iferror(VLOOKUP(B871,IMPORTRANGE(\"\"https://docs.google.com/spreadsheets/d/1bphtMaJ6lFh0VVWIgQh8ZCOchBZqvj0w5rveiNYcTnM/edit#gid=0\"\",\"\"RWA!F:BZ\"\"),49,0))\"),\"\")","v":""},{"$f":"IFERROR(__xludf.DUMMYFUNCTION(\"iferror(VLOOKUP(B871,IMPORTRANGE(\"\"https://docs.google.com/spreadsheets/d/1bphtMaJ6lFh0VVWIgQh8ZCOchBZqvj0w5rveiNYcTnM/edit#gid=0\"\",\"\"RWA!F:BZ\"\"),53,0))\"),\"\")","v":""}]
[null,null,null,{"$f":"IFERROR(__xludf.DUMMYFUNCTION(\"iferror(VLOOKUP(B872,IMPORTRANGE(\"\"https://docs.google.com/spreadsheets/d/1bphtMaJ6lFh0VVWIgQh8ZCOchBZqvj0w5rveiNYcTnM/edit#gid=0\"\",\"\"RWA!F:BZ\"\"),44,0))\"),\"\")","v":""},{"$f":"IFERROR(__xludf.DUMMYFUNCTION(\"iferror(VLOOKUP(B872,IMPORTRANGE(\"\"https://docs.google.com/spreadsheets/d/1bphtMaJ6lFh0VVWIgQh8ZCOchBZqvj0w5rveiNYcTnM/edit#gid=0\"\",\"\"RWA!F:BZ\"\"),48,0))\"),\"\")","v":""},{"$f":"IFERROR(__xludf.DUMMYFUNCTION(\"iferror(VLOOKUP(B872,IMPORTRANGE(\"\"https://docs.google.com/spreadsheets/d/1bphtMaJ6lFh0VVWIgQh8ZCOchBZqvj0w5rveiNYcTnM/edit#gid=0\"\",\"\"RWA!F:BZ\"\"),49,0))\"),\"\")","v":""},{"$f":"IFERROR(__xludf.DUMMYFUNCTION(\"iferror(VLOOKUP(B872,IMPORTRANGE(\"\"https://docs.google.com/spreadsheets/d/1bphtMaJ6lFh0VVWIgQh8ZCOchBZqvj0w5rveiNYcTnM/edit#gid=0\"\",\"\"RWA!F:BZ\"\"),53,0))\"),\"\")","v":""}]
[null,null,null,{"$f":"IFERROR(__xludf.DUMMYFUNCTION(\"iferror(VLOOKUP(B873,IMPORTRANGE(\"\"https://docs.google.com/spreadsheets/d/1bphtMaJ6lFh0VVWIgQh8ZCOchBZqvj0w5rveiNYcTnM/edit#gid=0\"\",\"\"RWA!F:BZ\"\"),44,0))\"),\"\")","v":""},{"$f":"IFERROR(__xludf.DUMMYFUNCTION(\"iferror(VLOOKUP(B873,IMPORTRANGE(\"\"https://docs.google.com/spreadsheets/d/1bphtMaJ6lFh0VVWIgQh8ZCOchBZqvj0w5rveiNYcTnM/edit#gid=0\"\",\"\"RWA!F:BZ\"\"),48,0))\"),\"\")","v":""},{"$f":"IFERROR(__xludf.DUMMYFUNCTION(\"iferror(VLOOKUP(B873,IMPORTRANGE(\"\"https://docs.google.com/spreadsheets/d/1bphtMaJ6lFh0VVWIgQh8ZCOchBZqvj0w5rveiNYcTnM/edit#gid=0\"\",\"\"RWA!F:BZ\"\"),49,0))\"),\"\")","v":""},{"$f":"IFERROR(__xludf.DUMMYFUNCTION(\"iferror(VLOOKUP(B873,IMPORTRANGE(\"\"https://docs.google.com/spreadsheets/d/1bphtMaJ6lFh0VVWIgQh8ZCOchBZqvj0w5rveiNYcTnM/edit#gid=0\"\",\"\"RWA!F:BZ\"\"),53,0))\"),\"\")","v":""}]
[null,null,null,{"$f":"IFERROR(__xludf.DUMMYFUNCTION(\"iferror(VLOOKUP(B874,IMPORTRANGE(\"\"https://docs.google.com/spreadsheets/d/1bphtMaJ6lFh0VVWIgQh8ZCOchBZqvj0w5rveiNYcTnM/edit#gid=0\"\",\"\"RWA!F:BZ\"\"),44,0))\"),\"\")","v":""},{"$f":"IFERROR(__xludf.DUMMYFUNCTION(\"iferror(VLOOKUP(B874,IMPORTRANGE(\"\"https://docs.google.com/spreadsheets/d/1bphtMaJ6lFh0VVWIgQh8ZCOchBZqvj0w5rveiNYcTnM/edit#gid=0\"\",\"\"RWA!F:BZ\"\"),48,0))\"),\"\")","v":""},{"$f":"IFERROR(__xludf.DUMMYFUNCTION(\"iferror(VLOOKUP(B874,IMPORTRANGE(\"\"https://docs.google.com/spreadsheets/d/1bphtMaJ6lFh0VVWIgQh8ZCOchBZqvj0w5rveiNYcTnM/edit#gid=0\"\",\"\"RWA!F:BZ\"\"),49,0))\"),\"\")","v":""},{"$f":"IFERROR(__xludf.DUMMYFUNCTION(\"iferror(VLOOKUP(B874,IMPORTRANGE(\"\"https://docs.google.com/spreadsheets/d/1bphtMaJ6lFh0VVWIgQh8ZCOchBZqvj0w5rveiNYcTnM/edit#gid=0\"\",\"\"RWA!F:BZ\"\"),53,0))\"),\"\")","v":""}]
[null,null,null,{"$f":"IFERROR(__xludf.DUMMYFUNCTION(\"iferror(VLOOKUP(B875,IMPORTRANGE(\"\"https://docs.google.com/spreadsheets/d/1bphtMaJ6lFh0VVWIgQh8ZCOchBZqvj0w5rveiNYcTnM/edit#gid=0\"\",\"\"RWA!F:BZ\"\"),44,0))\"),\"\")","v":""},{"$f":"IFERROR(__xludf.DUMMYFUNCTION(\"iferror(VLOOKUP(B875,IMPORTRANGE(\"\"https://docs.google.com/spreadsheets/d/1bphtMaJ6lFh0VVWIgQh8ZCOchBZqvj0w5rveiNYcTnM/edit#gid=0\"\",\"\"RWA!F:BZ\"\"),48,0))\"),\"\")","v":""},{"$f":"IFERROR(__xludf.DUMMYFUNCTION(\"iferror(VLOOKUP(B875,IMPORTRANGE(\"\"https://docs.google.com/spreadsheets/d/1bphtMaJ6lFh0VVWIgQh8ZCOchBZqvj0w5rveiNYcTnM/edit#gid=0\"\",\"\"RWA!F:BZ\"\"),49,0))\"),\"\")","v":""},{"$f":"IFERROR(__xludf.DUMMYFUNCTION(\"iferror(VLOOKUP(B875,IMPORTRANGE(\"\"https://docs.google.com/spreadsheets/d/1bphtMaJ6lFh0VVWIgQh8ZCOchBZqvj0w5rveiNYcTnM/edit#gid=0\"\",\"\"RWA!F:BZ\"\"),53,0))\"),\"\")","v":""}]
[null,null,null,{"$f":"IFERROR(__xludf.DUMMYFUNCTION(\"iferror(VLOOKUP(B876,IMPORTRANGE(\"\"https://docs.google.com/spreadsheets/d/1bphtMaJ6lFh0VVWIgQh8ZCOchBZqvj0w5rveiNYcTnM/edit#gid=0\"\",\"\"RWA!F:BZ\"\"),44,0))\"),\"\")","v":""},{"$f":"IFERROR(__xludf.DUMMYFUNCTION(\"iferror(VLOOKUP(B876,IMPORTRANGE(\"\"https://docs.google.com/spreadsheets/d/1bphtMaJ6lFh0VVWIgQh8ZCOchBZqvj0w5rveiNYcTnM/edit#gid=0\"\",\"\"RWA!F:BZ\"\"),48,0))\"),\"\")","v":""},{"$f":"IFERROR(__xludf.DUMMYFUNCTION(\"iferror(VLOOKUP(B876,IMPORTRANGE(\"\"https://docs.google.com/spreadsheets/d/1bphtMaJ6lFh0VVWIgQh8ZCOchBZqvj0w5rveiNYcTnM/edit#gid=0\"\",\"\"RWA!F:BZ\"\"),49,0))\"),\"\")","v":""},{"$f":"IFERROR(__xludf.DUMMYFUNCTION(\"iferror(VLOOKUP(B876,IMPORTRANGE(\"\"https://docs.google.com/spreadsheets/d/1bphtMaJ6lFh0VVWIgQh8ZCOchBZqvj0w5rveiNYcTnM/edit#gid=0\"\",\"\"RWA!F:BZ\"\"),53,0))\"),\"\")","v":""}]
[null,null,null,{"$f":"IFERROR(__xludf.DUMMYFUNCTION(\"iferror(VLOOKUP(B877,IMPORTRANGE(\"\"https://docs.google.com/spreadsheets/d/1bphtMaJ6lFh0VVWIgQh8ZCOchBZqvj0w5rveiNYcTnM/edit#gid=0\"\",\"\"RWA!F:BZ\"\"),44,0))\"),\"\")","v":""},{"$f":"IFERROR(__xludf.DUMMYFUNCTION(\"iferror(VLOOKUP(B877,IMPORTRANGE(\"\"https://docs.google.com/spreadsheets/d/1bphtMaJ6lFh0VVWIgQh8ZCOchBZqvj0w5rveiNYcTnM/edit#gid=0\"\",\"\"RWA!F:BZ\"\"),48,0))\"),\"\")","v":""},{"$f":"IFERROR(__xludf.DUMMYFUNCTION(\"iferror(VLOOKUP(B877,IMPORTRANGE(\"\"https://docs.google.com/spreadsheets/d/1bphtMaJ6lFh0VVWIgQh8ZCOchBZqvj0w5rveiNYcTnM/edit#gid=0\"\",\"\"RWA!F:BZ\"\"),49,0))\"),\"\")","v":""},{"$f":"IFERROR(__xludf.DUMMYFUNCTION(\"iferror(VLOOKUP(B877,IMPORTRANGE(\"\"https://docs.google.com/spreadsheets/d/1bphtMaJ6lFh0VVWIgQh8ZCOchBZqvj0w5rveiNYcTnM/edit#gid=0\"\",\"\"RWA!F:BZ\"\"),53,0))\"),\"\")","v":""}]
[null,null,null,{"$f":"IFERROR(__xludf.DUMMYFUNCTION(\"iferror(VLOOKUP(B878,IMPORTRANGE(\"\"https://docs.google.com/spreadsheets/d/1bphtMaJ6lFh0VVWIgQh8ZCOchBZqvj0w5rveiNYcTnM/edit#gid=0\"\",\"\"RWA!F:BZ\"\"),44,0))\"),\"\")","v":""},{"$f":"IFERROR(__xludf.DUMMYFUNCTION(\"iferror(VLOOKUP(B878,IMPORTRANGE(\"\"https://docs.google.com/spreadsheets/d/1bphtMaJ6lFh0VVWIgQh8ZCOchBZqvj0w5rveiNYcTnM/edit#gid=0\"\",\"\"RWA!F:BZ\"\"),48,0))\"),\"\")","v":""},{"$f":"IFERROR(__xludf.DUMMYFUNCTION(\"iferror(VLOOKUP(B878,IMPORTRANGE(\"\"https://docs.google.com/spreadsheets/d/1bphtMaJ6lFh0VVWIgQh8ZCOchBZqvj0w5rveiNYcTnM/edit#gid=0\"\",\"\"RWA!F:BZ\"\"),49,0))\"),\"\")","v":""},{"$f":"IFERROR(__xludf.DUMMYFUNCTION(\"iferror(VLOOKUP(B878,IMPORTRANGE(\"\"https://docs.google.com/spreadsheets/d/1bphtMaJ6lFh0VVWIgQh8ZCOchBZqvj0w5rveiNYcTnM/edit#gid=0\"\",\"\"RWA!F:BZ\"\"),53,0))\"),\"\")","v":""}]
[null,null,null,{"$f":"IFERROR(__xludf.DUMMYFUNCTION(\"iferror(VLOOKUP(B879,IMPORTRANGE(\"\"https://docs.google.com/spreadsheets/d/1bphtMaJ6lFh0VVWIgQh8ZCOchBZqvj0w5rveiNYcTnM/edit#gid=0\"\",\"\"RWA!F:BZ\"\"),44,0))\"),\"\")","v":""},{"$f":"IFERROR(__xludf.DUMMYFUNCTION(\"iferror(VLOOKUP(B879,IMPORTRANGE(\"\"https://docs.google.com/spreadsheets/d/1bphtMaJ6lFh0VVWIgQh8ZCOchBZqvj0w5rveiNYcTnM/edit#gid=0\"\",\"\"RWA!F:BZ\"\"),48,0))\"),\"\")","v":""},{"$f":"IFERROR(__xludf.DUMMYFUNCTION(\"iferror(VLOOKUP(B879,IMPORTRANGE(\"\"https://docs.google.com/spreadsheets/d/1bphtMaJ6lFh0VVWIgQh8ZCOchBZqvj0w5rveiNYcTnM/edit#gid=0\"\",\"\"RWA!F:BZ\"\"),49,0))\"),\"\")","v":""},{"$f":"IFERROR(__xludf.DUMMYFUNCTION(\"iferror(VLOOKUP(B879,IMPORTRANGE(\"\"https://docs.google.com/spreadsheets/d/1bphtMaJ6lFh0VVWIgQh8ZCOchBZqvj0w5rveiNYcTnM/edit#gid=0\"\",\"\"RWA!F:BZ\"\"),53,0))\"),\"\")","v":""}]
[null,null,null,{"$f":"IFERROR(__xludf.DUMMYFUNCTION(\"iferror(VLOOKUP(B880,IMPORTRANGE(\"\"https://docs.google.com/spreadsheets/d/1bphtMaJ6lFh0VVWIgQh8ZCOchBZqvj0w5rveiNYcTnM/edit#gid=0\"\",\"\"RWA!F:BZ\"\"),44,0))\"),\"\")","v":""},{"$f":"IFERROR(__xludf.DUMMYFUNCTION(\"iferror(VLOOKUP(B880,IMPORTRANGE(\"\"https://docs.google.com/spreadsheets/d/1bphtMaJ6lFh0VVWIgQh8ZCOchBZqvj0w5rveiNYcTnM/edit#gid=0\"\",\"\"RWA!F:BZ\"\"),48,0))\"),\"\")","v":""},{"$f":"IFERROR(__xludf.DUMMYFUNCTION(\"iferror(VLOOKUP(B880,IMPORTRANGE(\"\"https://docs.google.com/spreadsheets/d/1bphtMaJ6lFh0VVWIgQh8ZCOchBZqvj0w5rveiNYcTnM/edit#gid=0\"\",\"\"RWA!F:BZ\"\"),49,0))\"),\"\")","v":""},{"$f":"IFERROR(__xludf.DUMMYFUNCTION(\"iferror(VLOOKUP(B880,IMPORTRANGE(\"\"https://docs.google.com/spreadsheets/d/1bphtMaJ6lFh0VVWIgQh8ZCOchBZqvj0w5rveiNYcTnM/edit#gid=0\"\",\"\"RWA!F:BZ\"\"),53,0))\"),\"\")","v":""}]
[null,null,null,{"$f":"IFERROR(__xludf.DUMMYFUNCTION(\"iferror(VLOOKUP(B881,IMPORTRANGE(\"\"https://docs.google.com/spreadsheets/d/1bphtMaJ6lFh0VVWIgQh8ZCOchBZqvj0w5rveiNYcTnM/edit#gid=0\"\",\"\"RWA!F:BZ\"\"),44,0))\"),\"\")","v":""},{"$f":"IFERROR(__xludf.DUMMYFUNCTION(\"iferror(VLOOKUP(B881,IMPORTRANGE(\"\"https://docs.google.com/spreadsheets/d/1bphtMaJ6lFh0VVWIgQh8ZCOchBZqvj0w5rveiNYcTnM/edit#gid=0\"\",\"\"RWA!F:BZ\"\"),48,0))\"),\"\")","v":""},{"$f":"IFERROR(__xludf.DUMMYFUNCTION(\"iferror(VLOOKUP(B881,IMPORTRANGE(\"\"https://docs.google.com/spreadsheets/d/1bphtMaJ6lFh0VVWIgQh8ZCOchBZqvj0w5rveiNYcTnM/edit#gid=0\"\",\"\"RWA!F:BZ\"\"),49,0))\"),\"\")","v":""},{"$f":"IFERROR(__xludf.DUMMYFUNCTION(\"iferror(VLOOKUP(B881,IMPORTRANGE(\"\"https://docs.google.com/spreadsheets/d/1bphtMaJ6lFh0VVWIgQh8ZCOchBZqvj0w5rveiNYcTnM/edit#gid=0\"\",\"\"RWA!F:BZ\"\"),53,0))\"),\"\")","v":""}]
[null,null,null,{"$f":"IFERROR(__xludf.DUMMYFUNCTION(\"iferror(VLOOKUP(B882,IMPORTRANGE(\"\"https://docs.google.com/spreadsheets/d/1bphtMaJ6lFh0VVWIgQh8ZCOchBZqvj0w5rveiNYcTnM/edit#gid=0\"\",\"\"RWA!F:BZ\"\"),44,0))\"),\"\")","v":""},{"$f":"IFERROR(__xludf.DUMMYFUNCTION(\"iferror(VLOOKUP(B882,IMPORTRANGE(\"\"https://docs.google.com/spreadsheets/d/1bphtMaJ6lFh0VVWIgQh8ZCOchBZqvj0w5rveiNYcTnM/edit#gid=0\"\",\"\"RWA!F:BZ\"\"),48,0))\"),\"\")","v":""},{"$f":"IFERROR(__xludf.DUMMYFUNCTION(\"iferror(VLOOKUP(B882,IMPORTRANGE(\"\"https://docs.google.com/spreadsheets/d/1bphtMaJ6lFh0VVWIgQh8ZCOchBZqvj0w5rveiNYcTnM/edit#gid=0\"\",\"\"RWA!F:BZ\"\"),49,0))\"),\"\")","v":""},{"$f":"IFERROR(__xludf.DUMMYFUNCTION(\"iferror(VLOOKUP(B882,IMPORTRANGE(\"\"https://docs.google.com/spreadsheets/d/1bphtMaJ6lFh0VVWIgQh8ZCOchBZqvj0w5rveiNYcTnM/edit#gid=0\"\",\"\"RWA!F:BZ\"\"),53,0))\"),\"\")","v":""}]
[null,null,null,{"$f":"IFERROR(__xludf.DUMMYFUNCTION(\"iferror(VLOOKUP(B883,IMPORTRANGE(\"\"https://docs.google.com/spreadsheets/d/1bphtMaJ6lFh0VVWIgQh8ZCOchBZqvj0w5rveiNYcTnM/edit#gid=0\"\",\"\"RWA!F:BZ\"\"),44,0))\"),\"\")","v":""},{"$f":"IFERROR(__xludf.DUMMYFUNCTION(\"iferror(VLOOKUP(B883,IMPORTRANGE(\"\"https://docs.google.com/spreadsheets/d/1bphtMaJ6lFh0VVWIgQh8ZCOchBZqvj0w5rveiNYcTnM/edit#gid=0\"\",\"\"RWA!F:BZ\"\"),48,0))\"),\"\")","v":""},{"$f":"IFERROR(__xludf.DUMMYFUNCTION(\"iferror(VLOOKUP(B883,IMPORTRANGE(\"\"https://docs.google.com/spreadsheets/d/1bphtMaJ6lFh0VVWIgQh8ZCOchBZqvj0w5rveiNYcTnM/edit#gid=0\"\",\"\"RWA!F:BZ\"\"),49,0))\"),\"\")","v":""},{"$f":"IFERROR(__xludf.DUMMYFUNCTION(\"iferror(VLOOKUP(B883,IMPORTRANGE(\"\"https://docs.google.com/spreadsheets/d/1bphtMaJ6lFh0VVWIgQh8ZCOchBZqvj0w5rveiNYcTnM/edit#gid=0\"\",\"\"RWA!F:BZ\"\"),53,0))\"),\"\")","v":""}]
[null,null,null,{"$f":"IFERROR(__xludf.DUMMYFUNCTION(\"iferror(VLOOKUP(B884,IMPORTRANGE(\"\"https://docs.google.com/spreadsheets/d/1bphtMaJ6lFh0VVWIgQh8ZCOchBZqvj0w5rveiNYcTnM/edit#gid=0\"\",\"\"RWA!F:BZ\"\"),44,0))\"),\"\")","v":""},{"$f":"IFERROR(__xludf.DUMMYFUNCTION(\"iferror(VLOOKUP(B884,IMPORTRANGE(\"\"https://docs.google.com/spreadsheets/d/1bphtMaJ6lFh0VVWIgQh8ZCOchBZqvj0w5rveiNYcTnM/edit#gid=0\"\",\"\"RWA!F:BZ\"\"),48,0))\"),\"\")","v":""},{"$f":"IFERROR(__xludf.DUMMYFUNCTION(\"iferror(VLOOKUP(B884,IMPORTRANGE(\"\"https://docs.google.com/spreadsheets/d/1bphtMaJ6lFh0VVWIgQh8ZCOchBZqvj0w5rveiNYcTnM/edit#gid=0\"\",\"\"RWA!F:BZ\"\"),49,0))\"),\"\")","v":""},{"$f":"IFERROR(__xludf.DUMMYFUNCTION(\"iferror(VLOOKUP(B884,IMPORTRANGE(\"\"https://docs.google.com/spreadsheets/d/1bphtMaJ6lFh0VVWIgQh8ZCOchBZqvj0w5rveiNYcTnM/edit#gid=0\"\",\"\"RWA!F:BZ\"\"),53,0))\"),\"\")","v":""}]
[null,null,null,{"$f":"IFERROR(__xludf.DUMMYFUNCTION(\"iferror(VLOOKUP(B885,IMPORTRANGE(\"\"https://docs.google.com/spreadsheets/d/1bphtMaJ6lFh0VVWIgQh8ZCOchBZqvj0w5rveiNYcTnM/edit#gid=0\"\",\"\"RWA!F:BZ\"\"),44,0))\"),\"\")","v":""},{"$f":"IFERROR(__xludf.DUMMYFUNCTION(\"iferror(VLOOKUP(B885,IMPORTRANGE(\"\"https://docs.google.com/spreadsheets/d/1bphtMaJ6lFh0VVWIgQh8ZCOchBZqvj0w5rveiNYcTnM/edit#gid=0\"\",\"\"RWA!F:BZ\"\"),48,0))\"),\"\")","v":""},{"$f":"IFERROR(__xludf.DUMMYFUNCTION(\"iferror(VLOOKUP(B885,IMPORTRANGE(\"\"https://docs.google.com/spreadsheets/d/1bphtMaJ6lFh0VVWIgQh8ZCOchBZqvj0w5rveiNYcTnM/edit#gid=0\"\",\"\"RWA!F:BZ\"\"),49,0))\"),\"\")","v":""},{"$f":"IFERROR(__xludf.DUMMYFUNCTION(\"iferror(VLOOKUP(B885,IMPORTRANGE(\"\"https://docs.google.com/spreadsheets/d/1bphtMaJ6lFh0VVWIgQh8ZCOchBZqvj0w5rveiNYcTnM/edit#gid=0\"\",\"\"RWA!F:BZ\"\"),53,0))\"),\"\")","v":""}]
[null,null,null,{"$f":"IFERROR(__xludf.DUMMYFUNCTION(\"iferror(VLOOKUP(B886,IMPORTRANGE(\"\"https://docs.google.com/spreadsheets/d/1bphtMaJ6lFh0VVWIgQh8ZCOchBZqvj0w5rveiNYcTnM/edit#gid=0\"\",\"\"RWA!F:BZ\"\"),44,0))\"),\"\")","v":""},{"$f":"IFERROR(__xludf.DUMMYFUNCTION(\"iferror(VLOOKUP(B886,IMPORTRANGE(\"\"https://docs.google.com/spreadsheets/d/1bphtMaJ6lFh0VVWIgQh8ZCOchBZqvj0w5rveiNYcTnM/edit#gid=0\"\",\"\"RWA!F:BZ\"\"),48,0))\"),\"\")","v":""},{"$f":"IFERROR(__xludf.DUMMYFUNCTION(\"iferror(VLOOKUP(B886,IMPORTRANGE(\"\"https://docs.google.com/spreadsheets/d/1bphtMaJ6lFh0VVWIgQh8ZCOchBZqvj0w5rveiNYcTnM/edit#gid=0\"\",\"\"RWA!F:BZ\"\"),49,0))\"),\"\")","v":""},{"$f":"IFERROR(__xludf.DUMMYFUNCTION(\"iferror(VLOOKUP(B886,IMPORTRANGE(\"\"https://docs.google.com/spreadsheets/d/1bphtMaJ6lFh0VVWIgQh8ZCOchBZqvj0w5rveiNYcTnM/edit#gid=0\"\",\"\"RWA!F:BZ\"\"),53,0))\"),\"\")","v":""}]
[null,null,null,{"$f":"IFERROR(__xludf.DUMMYFUNCTION(\"iferror(VLOOKUP(B887,IMPORTRANGE(\"\"https://docs.google.com/spreadsheets/d/1bphtMaJ6lFh0VVWIgQh8ZCOchBZqvj0w5rveiNYcTnM/edit#gid=0\"\",\"\"RWA!F:BZ\"\"),44,0))\"),\"\")","v":""},{"$f":"IFERROR(__xludf.DUMMYFUNCTION(\"iferror(VLOOKUP(B887,IMPORTRANGE(\"\"https://docs.google.com/spreadsheets/d/1bphtMaJ6lFh0VVWIgQh8ZCOchBZqvj0w5rveiNYcTnM/edit#gid=0\"\",\"\"RWA!F:BZ\"\"),48,0))\"),\"\")","v":""},{"$f":"IFERROR(__xludf.DUMMYFUNCTION(\"iferror(VLOOKUP(B887,IMPORTRANGE(\"\"https://docs.google.com/spreadsheets/d/1bphtMaJ6lFh0VVWIgQh8ZCOchBZqvj0w5rveiNYcTnM/edit#gid=0\"\",\"\"RWA!F:BZ\"\"),49,0))\"),\"\")","v":""},{"$f":"IFERROR(__xludf.DUMMYFUNCTION(\"iferror(VLOOKUP(B887,IMPORTRANGE(\"\"https://docs.google.com/spreadsheets/d/1bphtMaJ6lFh0VVWIgQh8ZCOchBZqvj0w5rveiNYcTnM/edit#gid=0\"\",\"\"RWA!F:BZ\"\"),53,0))\"),\"\")","v":""}]
[null,null,null,{"$f":"IFERROR(__xludf.DUMMYFUNCTION(\"iferror(VLOOKUP(B888,IMPORTRANGE(\"\"https://docs.google.com/spreadsheets/d/1bphtMaJ6lFh0VVWIgQh8ZCOchBZqvj0w5rveiNYcTnM/edit#gid=0\"\",\"\"RWA!F:BZ\"\"),44,0))\"),\"\")","v":""},{"$f":"IFERROR(__xludf.DUMMYFUNCTION(\"iferror(VLOOKUP(B888,IMPORTRANGE(\"\"https://docs.google.com/spreadsheets/d/1bphtMaJ6lFh0VVWIgQh8ZCOchBZqvj0w5rveiNYcTnM/edit#gid=0\"\",\"\"RWA!F:BZ\"\"),48,0))\"),\"\")","v":""},{"$f":"IFERROR(__xludf.DUMMYFUNCTION(\"iferror(VLOOKUP(B888,IMPORTRANGE(\"\"https://docs.google.com/spreadsheets/d/1bphtMaJ6lFh0VVWIgQh8ZCOchBZqvj0w5rveiNYcTnM/edit#gid=0\"\",\"\"RWA!F:BZ\"\"),49,0))\"),\"\")","v":""},{"$f":"IFERROR(__xludf.DUMMYFUNCTION(\"iferror(VLOOKUP(B888,IMPORTRANGE(\"\"https://docs.google.com/spreadsheets/d/1bphtMaJ6lFh0VVWIgQh8ZCOchBZqvj0w5rveiNYcTnM/edit#gid=0\"\",\"\"RWA!F:BZ\"\"),53,0))\"),\"\")","v":""}]
[null,null,null,{"$f":"IFERROR(__xludf.DUMMYFUNCTION(\"iferror(VLOOKUP(B889,IMPORTRANGE(\"\"https://docs.google.com/spreadsheets/d/1bphtMaJ6lFh0VVWIgQh8ZCOchBZqvj0w5rveiNYcTnM/edit#gid=0\"\",\"\"RWA!F:BZ\"\"),44,0))\"),\"\")","v":""},{"$f":"IFERROR(__xludf.DUMMYFUNCTION(\"iferror(VLOOKUP(B889,IMPORTRANGE(\"\"https://docs.google.com/spreadsheets/d/1bphtMaJ6lFh0VVWIgQh8ZCOchBZqvj0w5rveiNYcTnM/edit#gid=0\"\",\"\"RWA!F:BZ\"\"),48,0))\"),\"\")","v":""},{"$f":"IFERROR(__xludf.DUMMYFUNCTION(\"iferror(VLOOKUP(B889,IMPORTRANGE(\"\"https://docs.google.com/spreadsheets/d/1bphtMaJ6lFh0VVWIgQh8ZCOchBZqvj0w5rveiNYcTnM/edit#gid=0\"\",\"\"RWA!F:BZ\"\"),49,0))\"),\"\")","v":""},{"$f":"IFERROR(__xludf.DUMMYFUNCTION(\"iferror(VLOOKUP(B889,IMPORTRANGE(\"\"https://docs.google.com/spreadsheets/d/1bphtMaJ6lFh0VVWIgQh8ZCOchBZqvj0w5rveiNYcTnM/edit#gid=0\"\",\"\"RWA!F:BZ\"\"),53,0))\"),\"\")","v":""}]
[null,null,null,{"$f":"IFERROR(__xludf.DUMMYFUNCTION(\"iferror(VLOOKUP(B890,IMPORTRANGE(\"\"https://docs.google.com/spreadsheets/d/1bphtMaJ6lFh0VVWIgQh8ZCOchBZqvj0w5rveiNYcTnM/edit#gid=0\"\",\"\"RWA!F:BZ\"\"),44,0))\"),\"\")","v":""},{"$f":"IFERROR(__xludf.DUMMYFUNCTION(\"iferror(VLOOKUP(B890,IMPORTRANGE(\"\"https://docs.google.com/spreadsheets/d/1bphtMaJ6lFh0VVWIgQh8ZCOchBZqvj0w5rveiNYcTnM/edit#gid=0\"\",\"\"RWA!F:BZ\"\"),48,0))\"),\"\")","v":""},{"$f":"IFERROR(__xludf.DUMMYFUNCTION(\"iferror(VLOOKUP(B890,IMPORTRANGE(\"\"https://docs.google.com/spreadsheets/d/1bphtMaJ6lFh0VVWIgQh8ZCOchBZqvj0w5rveiNYcTnM/edit#gid=0\"\",\"\"RWA!F:BZ\"\"),49,0))\"),\"\")","v":""},{"$f":"IFERROR(__xludf.DUMMYFUNCTION(\"iferror(VLOOKUP(B890,IMPORTRANGE(\"\"https://docs.google.com/spreadsheets/d/1bphtMaJ6lFh0VVWIgQh8ZCOchBZqvj0w5rveiNYcTnM/edit#gid=0\"\",\"\"RWA!F:BZ\"\"),53,0))\"),\"\")","v":""}]
[null,null,null,{"$f":"IFERROR(__xludf.DUMMYFUNCTION(\"iferror(VLOOKUP(B891,IMPORTRANGE(\"\"https://docs.google.com/spreadsheets/d/1bphtMaJ6lFh0VVWIgQh8ZCOchBZqvj0w5rveiNYcTnM/edit#gid=0\"\",\"\"RWA!F:BZ\"\"),44,0))\"),\"\")","v":""},{"$f":"IFERROR(__xludf.DUMMYFUNCTION(\"iferror(VLOOKUP(B891,IMPORTRANGE(\"\"https://docs.google.com/spreadsheets/d/1bphtMaJ6lFh0VVWIgQh8ZCOchBZqvj0w5rveiNYcTnM/edit#gid=0\"\",\"\"RWA!F:BZ\"\"),48,0))\"),\"\")","v":""},{"$f":"IFERROR(__xludf.DUMMYFUNCTION(\"iferror(VLOOKUP(B891,IMPORTRANGE(\"\"https://docs.google.com/spreadsheets/d/1bphtMaJ6lFh0VVWIgQh8ZCOchBZqvj0w5rveiNYcTnM/edit#gid=0\"\",\"\"RWA!F:BZ\"\"),49,0))\"),\"\")","v":""},{"$f":"IFERROR(__xludf.DUMMYFUNCTION(\"iferror(VLOOKUP(B891,IMPORTRANGE(\"\"https://docs.google.com/spreadsheets/d/1bphtMaJ6lFh0VVWIgQh8ZCOchBZqvj0w5rveiNYcTnM/edit#gid=0\"\",\"\"RWA!F:BZ\"\"),53,0))\"),\"\")","v":""}]
[null,null,null,{"$f":"IFERROR(__xludf.DUMMYFUNCTION(\"iferror(VLOOKUP(B892,IMPORTRANGE(\"\"https://docs.google.com/spreadsheets/d/1bphtMaJ6lFh0VVWIgQh8ZCOchBZqvj0w5rveiNYcTnM/edit#gid=0\"\",\"\"RWA!F:BZ\"\"),44,0))\"),\"\")","v":""},{"$f":"IFERROR(__xludf.DUMMYFUNCTION(\"iferror(VLOOKUP(B892,IMPORTRANGE(\"\"https://docs.google.com/spreadsheets/d/1bphtMaJ6lFh0VVWIgQh8ZCOchBZqvj0w5rveiNYcTnM/edit#gid=0\"\",\"\"RWA!F:BZ\"\"),48,0))\"),\"\")","v":""},{"$f":"IFERROR(__xludf.DUMMYFUNCTION(\"iferror(VLOOKUP(B892,IMPORTRANGE(\"\"https://docs.google.com/spreadsheets/d/1bphtMaJ6lFh0VVWIgQh8ZCOchBZqvj0w5rveiNYcTnM/edit#gid=0\"\",\"\"RWA!F:BZ\"\"),49,0))\"),\"\")","v":""},{"$f":"IFERROR(__xludf.DUMMYFUNCTION(\"iferror(VLOOKUP(B892,IMPORTRANGE(\"\"https://docs.google.com/spreadsheets/d/1bphtMaJ6lFh0VVWIgQh8ZCOchBZqvj0w5rveiNYcTnM/edit#gid=0\"\",\"\"RWA!F:BZ\"\"),53,0))\"),\"\")","v":""}]
[null,null,null,{"$f":"IFERROR(__xludf.DUMMYFUNCTION(\"iferror(VLOOKUP(B893,IMPORTRANGE(\"\"https://docs.google.com/spreadsheets/d/1bphtMaJ6lFh0VVWIgQh8ZCOchBZqvj0w5rveiNYcTnM/edit#gid=0\"\",\"\"RWA!F:BZ\"\"),44,0))\"),\"\")","v":""},{"$f":"IFERROR(__xludf.DUMMYFUNCTION(\"iferror(VLOOKUP(B893,IMPORTRANGE(\"\"https://docs.google.com/spreadsheets/d/1bphtMaJ6lFh0VVWIgQh8ZCOchBZqvj0w5rveiNYcTnM/edit#gid=0\"\",\"\"RWA!F:BZ\"\"),48,0))\"),\"\")","v":""},{"$f":"IFERROR(__xludf.DUMMYFUNCTION(\"iferror(VLOOKUP(B893,IMPORTRANGE(\"\"https://docs.google.com/spreadsheets/d/1bphtMaJ6lFh0VVWIgQh8ZCOchBZqvj0w5rveiNYcTnM/edit#gid=0\"\",\"\"RWA!F:BZ\"\"),49,0))\"),\"\")","v":""},{"$f":"IFERROR(__xludf.DUMMYFUNCTION(\"iferror(VLOOKUP(B893,IMPORTRANGE(\"\"https://docs.google.com/spreadsheets/d/1bphtMaJ6lFh0VVWIgQh8ZCOchBZqvj0w5rveiNYcTnM/edit#gid=0\"\",\"\"RWA!F:BZ\"\"),53,0))\"),\"\")","v":""}]
[null,null,null,{"$f":"IFERROR(__xludf.DUMMYFUNCTION(\"iferror(VLOOKUP(B894,IMPORTRANGE(\"\"https://docs.google.com/spreadsheets/d/1bphtMaJ6lFh0VVWIgQh8ZCOchBZqvj0w5rveiNYcTnM/edit#gid=0\"\",\"\"RWA!F:BZ\"\"),44,0))\"),\"\")","v":""},{"$f":"IFERROR(__xludf.DUMMYFUNCTION(\"iferror(VLOOKUP(B894,IMPORTRANGE(\"\"https://docs.google.com/spreadsheets/d/1bphtMaJ6lFh0VVWIgQh8ZCOchBZqvj0w5rveiNYcTnM/edit#gid=0\"\",\"\"RWA!F:BZ\"\"),48,0))\"),\"\")","v":""},{"$f":"IFERROR(__xludf.DUMMYFUNCTION(\"iferror(VLOOKUP(B894,IMPORTRANGE(\"\"https://docs.google.com/spreadsheets/d/1bphtMaJ6lFh0VVWIgQh8ZCOchBZqvj0w5rveiNYcTnM/edit#gid=0\"\",\"\"RWA!F:BZ\"\"),49,0))\"),\"\")","v":""},{"$f":"IFERROR(__xludf.DUMMYFUNCTION(\"iferror(VLOOKUP(B894,IMPORTRANGE(\"\"https://docs.google.com/spreadsheets/d/1bphtMaJ6lFh0VVWIgQh8ZCOchBZqvj0w5rveiNYcTnM/edit#gid=0\"\",\"\"RWA!F:BZ\"\"),53,0))\"),\"\")","v":""}]
[null,null,null,{"$f":"IFERROR(__xludf.DUMMYFUNCTION(\"iferror(VLOOKUP(B895,IMPORTRANGE(\"\"https://docs.google.com/spreadsheets/d/1bphtMaJ6lFh0VVWIgQh8ZCOchBZqvj0w5rveiNYcTnM/edit#gid=0\"\",\"\"RWA!F:BZ\"\"),44,0))\"),\"\")","v":""},{"$f":"IFERROR(__xludf.DUMMYFUNCTION(\"iferror(VLOOKUP(B895,IMPORTRANGE(\"\"https://docs.google.com/spreadsheets/d/1bphtMaJ6lFh0VVWIgQh8ZCOchBZqvj0w5rveiNYcTnM/edit#gid=0\"\",\"\"RWA!F:BZ\"\"),48,0))\"),\"\")","v":""},{"$f":"IFERROR(__xludf.DUMMYFUNCTION(\"iferror(VLOOKUP(B895,IMPORTRANGE(\"\"https://docs.google.com/spreadsheets/d/1bphtMaJ6lFh0VVWIgQh8ZCOchBZqvj0w5rveiNYcTnM/edit#gid=0\"\",\"\"RWA!F:BZ\"\"),49,0))\"),\"\")","v":""},{"$f":"IFERROR(__xludf.DUMMYFUNCTION(\"iferror(VLOOKUP(B895,IMPORTRANGE(\"\"https://docs.google.com/spreadsheets/d/1bphtMaJ6lFh0VVWIgQh8ZCOchBZqvj0w5rveiNYcTnM/edit#gid=0\"\",\"\"RWA!F:BZ\"\"),53,0))\"),\"\")","v":""}]
[null,null,null,{"$f":"IFERROR(__xludf.DUMMYFUNCTION(\"iferror(VLOOKUP(B896,IMPORTRANGE(\"\"https://docs.google.com/spreadsheets/d/1bphtMaJ6lFh0VVWIgQh8ZCOchBZqvj0w5rveiNYcTnM/edit#gid=0\"\",\"\"RWA!F:BZ\"\"),44,0))\"),\"\")","v":""},{"$f":"IFERROR(__xludf.DUMMYFUNCTION(\"iferror(VLOOKUP(B896,IMPORTRANGE(\"\"https://docs.google.com/spreadsheets/d/1bphtMaJ6lFh0VVWIgQh8ZCOchBZqvj0w5rveiNYcTnM/edit#gid=0\"\",\"\"RWA!F:BZ\"\"),48,0))\"),\"\")","v":""},{"$f":"IFERROR(__xludf.DUMMYFUNCTION(\"iferror(VLOOKUP(B896,IMPORTRANGE(\"\"https://docs.google.com/spreadsheets/d/1bphtMaJ6lFh0VVWIgQh8ZCOchBZqvj0w5rveiNYcTnM/edit#gid=0\"\",\"\"RWA!F:BZ\"\"),49,0))\"),\"\")","v":""},{"$f":"IFERROR(__xludf.DUMMYFUNCTION(\"iferror(VLOOKUP(B896,IMPORTRANGE(\"\"https://docs.google.com/spreadsheets/d/1bphtMaJ6lFh0VVWIgQh8ZCOchBZqvj0w5rveiNYcTnM/edit#gid=0\"\",\"\"RWA!F:BZ\"\"),53,0))\"),\"\")","v":""}]
[null,null,null,{"$f":"IFERROR(__xludf.DUMMYFUNCTION(\"iferror(VLOOKUP(B897,IMPORTRANGE(\"\"https://docs.google.com/spreadsheets/d/1bphtMaJ6lFh0VVWIgQh8ZCOchBZqvj0w5rveiNYcTnM/edit#gid=0\"\",\"\"RWA!F:BZ\"\"),44,0))\"),\"\")","v":""},{"$f":"IFERROR(__xludf.DUMMYFUNCTION(\"iferror(VLOOKUP(B897,IMPORTRANGE(\"\"https://docs.google.com/spreadsheets/d/1bphtMaJ6lFh0VVWIgQh8ZCOchBZqvj0w5rveiNYcTnM/edit#gid=0\"\",\"\"RWA!F:BZ\"\"),48,0))\"),\"\")","v":""},{"$f":"IFERROR(__xludf.DUMMYFUNCTION(\"iferror(VLOOKUP(B897,IMPORTRANGE(\"\"https://docs.google.com/spreadsheets/d/1bphtMaJ6lFh0VVWIgQh8ZCOchBZqvj0w5rveiNYcTnM/edit#gid=0\"\",\"\"RWA!F:BZ\"\"),49,0))\"),\"\")","v":""},{"$f":"IFERROR(__xludf.DUMMYFUNCTION(\"iferror(VLOOKUP(B897,IMPORTRANGE(\"\"https://docs.google.com/spreadsheets/d/1bphtMaJ6lFh0VVWIgQh8ZCOchBZqvj0w5rveiNYcTnM/edit#gid=0\"\",\"\"RWA!F:BZ\"\"),53,0))\"),\"\")","v":""}]
[null,null,null,{"$f":"IFERROR(__xludf.DUMMYFUNCTION(\"iferror(VLOOKUP(B898,IMPORTRANGE(\"\"https://docs.google.com/spreadsheets/d/1bphtMaJ6lFh0VVWIgQh8ZCOchBZqvj0w5rveiNYcTnM/edit#gid=0\"\",\"\"RWA!F:BZ\"\"),44,0))\"),\"\")","v":""},{"$f":"IFERROR(__xludf.DUMMYFUNCTION(\"iferror(VLOOKUP(B898,IMPORTRANGE(\"\"https://docs.google.com/spreadsheets/d/1bphtMaJ6lFh0VVWIgQh8ZCOchBZqvj0w5rveiNYcTnM/edit#gid=0\"\",\"\"RWA!F:BZ\"\"),48,0))\"),\"\")","v":""},{"$f":"IFERROR(__xludf.DUMMYFUNCTION(\"iferror(VLOOKUP(B898,IMPORTRANGE(\"\"https://docs.google.com/spreadsheets/d/1bphtMaJ6lFh0VVWIgQh8ZCOchBZqvj0w5rveiNYcTnM/edit#gid=0\"\",\"\"RWA!F:BZ\"\"),49,0))\"),\"\")","v":""},{"$f":"IFERROR(__xludf.DUMMYFUNCTION(\"iferror(VLOOKUP(B898,IMPORTRANGE(\"\"https://docs.google.com/spreadsheets/d/1bphtMaJ6lFh0VVWIgQh8ZCOchBZqvj0w5rveiNYcTnM/edit#gid=0\"\",\"\"RWA!F:BZ\"\"),53,0))\"),\"\")","v":""}]
[null,null,null,{"$f":"IFERROR(__xludf.DUMMYFUNCTION(\"iferror(VLOOKUP(B899,IMPORTRANGE(\"\"https://docs.google.com/spreadsheets/d/1bphtMaJ6lFh0VVWIgQh8ZCOchBZqvj0w5rveiNYcTnM/edit#gid=0\"\",\"\"RWA!F:BZ\"\"),44,0))\"),\"\")","v":""},{"$f":"IFERROR(__xludf.DUMMYFUNCTION(\"iferror(VLOOKUP(B899,IMPORTRANGE(\"\"https://docs.google.com/spreadsheets/d/1bphtMaJ6lFh0VVWIgQh8ZCOchBZqvj0w5rveiNYcTnM/edit#gid=0\"\",\"\"RWA!F:BZ\"\"),48,0))\"),\"\")","v":""},{"$f":"IFERROR(__xludf.DUMMYFUNCTION(\"iferror(VLOOKUP(B899,IMPORTRANGE(\"\"https://docs.google.com/spreadsheets/d/1bphtMaJ6lFh0VVWIgQh8ZCOchBZqvj0w5rveiNYcTnM/edit#gid=0\"\",\"\"RWA!F:BZ\"\"),49,0))\"),\"\")","v":""},{"$f":"IFERROR(__xludf.DUMMYFUNCTION(\"iferror(VLOOKUP(B899,IMPORTRANGE(\"\"https://docs.google.com/spreadsheets/d/1bphtMaJ6lFh0VVWIgQh8ZCOchBZqvj0w5rveiNYcTnM/edit#gid=0\"\",\"\"RWA!F:BZ\"\"),53,0))\"),\"\")","v":""}]
[null,null,null,{"$f":"IFERROR(__xludf.DUMMYFUNCTION(\"iferror(VLOOKUP(B900,IMPORTRANGE(\"\"https://docs.google.com/spreadsheets/d/1bphtMaJ6lFh0VVWIgQh8ZCOchBZqvj0w5rveiNYcTnM/edit#gid=0\"\",\"\"RWA!F:BZ\"\"),44,0))\"),\"\")","v":""},{"$f":"IFERROR(__xludf.DUMMYFUNCTION(\"iferror(VLOOKUP(B900,IMPORTRANGE(\"\"https://docs.google.com/spreadsheets/d/1bphtMaJ6lFh0VVWIgQh8ZCOchBZqvj0w5rveiNYcTnM/edit#gid=0\"\",\"\"RWA!F:BZ\"\"),48,0))\"),\"\")","v":""},{"$f":"IFERROR(__xludf.DUMMYFUNCTION(\"iferror(VLOOKUP(B900,IMPORTRANGE(\"\"https://docs.google.com/spreadsheets/d/1bphtMaJ6lFh0VVWIgQh8ZCOchBZqvj0w5rveiNYcTnM/edit#gid=0\"\",\"\"RWA!F:BZ\"\"),49,0))\"),\"\")","v":""},{"$f":"IFERROR(__xludf.DUMMYFUNCTION(\"iferror(VLOOKUP(B900,IMPORTRANGE(\"\"https://docs.google.com/spreadsheets/d/1bphtMaJ6lFh0VVWIgQh8ZCOchBZqvj0w5rveiNYcTnM/edit#gid=0\"\",\"\"RWA!F:BZ\"\"),53,0))\"),\"\")","v":""}]
[null,null,null,{"$f":"IFERROR(__xludf.DUMMYFUNCTION(\"iferror(VLOOKUP(B901,IMPORTRANGE(\"\"https://docs.google.com/spreadsheets/d/1bphtMaJ6lFh0VVWIgQh8ZCOchBZqvj0w5rveiNYcTnM/edit#gid=0\"\",\"\"RWA!F:BZ\"\"),44,0))\"),\"\")","v":""},{"$f":"IFERROR(__xludf.DUMMYFUNCTION(\"iferror(VLOOKUP(B901,IMPORTRANGE(\"\"https://docs.google.com/spreadsheets/d/1bphtMaJ6lFh0VVWIgQh8ZCOchBZqvj0w5rveiNYcTnM/edit#gid=0\"\",\"\"RWA!F:BZ\"\"),48,0))\"),\"\")","v":""},{"$f":"IFERROR(__xludf.DUMMYFUNCTION(\"iferror(VLOOKUP(B901,IMPORTRANGE(\"\"https://docs.google.com/spreadsheets/d/1bphtMaJ6lFh0VVWIgQh8ZCOchBZqvj0w5rveiNYcTnM/edit#gid=0\"\",\"\"RWA!F:BZ\"\"),49,0))\"),\"\")","v":""},{"$f":"IFERROR(__xludf.DUMMYFUNCTION(\"iferror(VLOOKUP(B901,IMPORTRANGE(\"\"https://docs.google.com/spreadsheets/d/1bphtMaJ6lFh0VVWIgQh8ZCOchBZqvj0w5rveiNYcTnM/edit#gid=0\"\",\"\"RWA!F:BZ\"\"),53,0))\"),\"\")","v":""}]
[null,null,null,{"$f":"IFERROR(__xludf.DUMMYFUNCTION(\"iferror(VLOOKUP(B902,IMPORTRANGE(\"\"https://docs.google.com/spreadsheets/d/1bphtMaJ6lFh0VVWIgQh8ZCOchBZqvj0w5rveiNYcTnM/edit#gid=0\"\",\"\"RWA!F:BZ\"\"),44,0))\"),\"\")","v":""},{"$f":"IFERROR(__xludf.DUMMYFUNCTION(\"iferror(VLOOKUP(B902,IMPORTRANGE(\"\"https://docs.google.com/spreadsheets/d/1bphtMaJ6lFh0VVWIgQh8ZCOchBZqvj0w5rveiNYcTnM/edit#gid=0\"\",\"\"RWA!F:BZ\"\"),48,0))\"),\"\")","v":""},{"$f":"IFERROR(__xludf.DUMMYFUNCTION(\"iferror(VLOOKUP(B902,IMPORTRANGE(\"\"https://docs.google.com/spreadsheets/d/1bphtMaJ6lFh0VVWIgQh8ZCOchBZqvj0w5rveiNYcTnM/edit#gid=0\"\",\"\"RWA!F:BZ\"\"),49,0))\"),\"\")","v":""},{"$f":"IFERROR(__xludf.DUMMYFUNCTION(\"iferror(VLOOKUP(B902,IMPORTRANGE(\"\"https://docs.google.com/spreadsheets/d/1bphtMaJ6lFh0VVWIgQh8ZCOchBZqvj0w5rveiNYcTnM/edit#gid=0\"\",\"\"RWA!F:BZ\"\"),53,0))\"),\"\")","v":""}]
[null,null,null,{"$f":"IFERROR(__xludf.DUMMYFUNCTION(\"iferror(VLOOKUP(B903,IMPORTRANGE(\"\"https://docs.google.com/spreadsheets/d/1bphtMaJ6lFh0VVWIgQh8ZCOchBZqvj0w5rveiNYcTnM/edit#gid=0\"\",\"\"RWA!F:BZ\"\"),44,0))\"),\"\")","v":""},{"$f":"IFERROR(__xludf.DUMMYFUNCTION(\"iferror(VLOOKUP(B903,IMPORTRANGE(\"\"https://docs.google.com/spreadsheets/d/1bphtMaJ6lFh0VVWIgQh8ZCOchBZqvj0w5rveiNYcTnM/edit#gid=0\"\",\"\"RWA!F:BZ\"\"),48,0))\"),\"\")","v":""},{"$f":"IFERROR(__xludf.DUMMYFUNCTION(\"iferror(VLOOKUP(B903,IMPORTRANGE(\"\"https://docs.google.com/spreadsheets/d/1bphtMaJ6lFh0VVWIgQh8ZCOchBZqvj0w5rveiNYcTnM/edit#gid=0\"\",\"\"RWA!F:BZ\"\"),49,0))\"),\"\")","v":""},{"$f":"IFERROR(__xludf.DUMMYFUNCTION(\"iferror(VLOOKUP(B903,IMPORTRANGE(\"\"https://docs.google.com/spreadsheets/d/1bphtMaJ6lFh0VVWIgQh8ZCOchBZqvj0w5rveiNYcTnM/edit#gid=0\"\",\"\"RWA!F:BZ\"\"),53,0))\"),\"\")","v":""}]
[null,null,null,{"$f":"IFERROR(__xludf.DUMMYFUNCTION(\"iferror(VLOOKUP(B904,IMPORTRANGE(\"\"https://docs.google.com/spreadsheets/d/1bphtMaJ6lFh0VVWIgQh8ZCOchBZqvj0w5rveiNYcTnM/edit#gid=0\"\",\"\"RWA!F:BZ\"\"),44,0))\"),\"\")","v":""},{"$f":"IFERROR(__xludf.DUMMYFUNCTION(\"iferror(VLOOKUP(B904,IMPORTRANGE(\"\"https://docs.google.com/spreadsheets/d/1bphtMaJ6lFh0VVWIgQh8ZCOchBZqvj0w5rveiNYcTnM/edit#gid=0\"\",\"\"RWA!F:BZ\"\"),48,0))\"),\"\")","v":""},{"$f":"IFERROR(__xludf.DUMMYFUNCTION(\"iferror(VLOOKUP(B904,IMPORTRANGE(\"\"https://docs.google.com/spreadsheets/d/1bphtMaJ6lFh0VVWIgQh8ZCOchBZqvj0w5rveiNYcTnM/edit#gid=0\"\",\"\"RWA!F:BZ\"\"),49,0))\"),\"\")","v":""},{"$f":"IFERROR(__xludf.DUMMYFUNCTION(\"iferror(VLOOKUP(B904,IMPORTRANGE(\"\"https://docs.google.com/spreadsheets/d/1bphtMaJ6lFh0VVWIgQh8ZCOchBZqvj0w5rveiNYcTnM/edit#gid=0\"\",\"\"RWA!F:BZ\"\"),53,0))\"),\"\")","v":""}]
[null,null,null,{"$f":"IFERROR(__xludf.DUMMYFUNCTION(\"iferror(VLOOKUP(B905,IMPORTRANGE(\"\"https://docs.google.com/spreadsheets/d/1bphtMaJ6lFh0VVWIgQh8ZCOchBZqvj0w5rveiNYcTnM/edit#gid=0\"\",\"\"RWA!F:BZ\"\"),44,0))\"),\"\")","v":""},{"$f":"IFERROR(__xludf.DUMMYFUNCTION(\"iferror(VLOOKUP(B905,IMPORTRANGE(\"\"https://docs.google.com/spreadsheets/d/1bphtMaJ6lFh0VVWIgQh8ZCOchBZqvj0w5rveiNYcTnM/edit#gid=0\"\",\"\"RWA!F:BZ\"\"),48,0))\"),\"\")","v":""},{"$f":"IFERROR(__xludf.DUMMYFUNCTION(\"iferror(VLOOKUP(B905,IMPORTRANGE(\"\"https://docs.google.com/spreadsheets/d/1bphtMaJ6lFh0VVWIgQh8ZCOchBZqvj0w5rveiNYcTnM/edit#gid=0\"\",\"\"RWA!F:BZ\"\"),49,0))\"),\"\")","v":""},{"$f":"IFERROR(__xludf.DUMMYFUNCTION(\"iferror(VLOOKUP(B905,IMPORTRANGE(\"\"https://docs.google.com/spreadsheets/d/1bphtMaJ6lFh0VVWIgQh8ZCOchBZqvj0w5rveiNYcTnM/edit#gid=0\"\",\"\"RWA!F:BZ\"\"),53,0))\"),\"\")","v":""}]
[null,null,null,{"$f":"IFERROR(__xludf.DUMMYFUNCTION(\"iferror(VLOOKUP(B906,IMPORTRANGE(\"\"https://docs.google.com/spreadsheets/d/1bphtMaJ6lFh0VVWIgQh8ZCOchBZqvj0w5rveiNYcTnM/edit#gid=0\"\",\"\"RWA!F:BZ\"\"),44,0))\"),\"\")","v":""},{"$f":"IFERROR(__xludf.DUMMYFUNCTION(\"iferror(VLOOKUP(B906,IMPORTRANGE(\"\"https://docs.google.com/spreadsheets/d/1bphtMaJ6lFh0VVWIgQh8ZCOchBZqvj0w5rveiNYcTnM/edit#gid=0\"\",\"\"RWA!F:BZ\"\"),48,0))\"),\"\")","v":""},{"$f":"IFERROR(__xludf.DUMMYFUNCTION(\"iferror(VLOOKUP(B906,IMPORTRANGE(\"\"https://docs.google.com/spreadsheets/d/1bphtMaJ6lFh0VVWIgQh8ZCOchBZqvj0w5rveiNYcTnM/edit#gid=0\"\",\"\"RWA!F:BZ\"\"),49,0))\"),\"\")","v":""},{"$f":"IFERROR(__xludf.DUMMYFUNCTION(\"iferror(VLOOKUP(B906,IMPORTRANGE(\"\"https://docs.google.com/spreadsheets/d/1bphtMaJ6lFh0VVWIgQh8ZCOchBZqvj0w5rveiNYcTnM/edit#gid=0\"\",\"\"RWA!F:BZ\"\"),53,0))\"),\"\")","v":""}]
[null,null,null,{"$f":"IFERROR(__xludf.DUMMYFUNCTION(\"iferror(VLOOKUP(B907,IMPORTRANGE(\"\"https://docs.google.com/spreadsheets/d/1bphtMaJ6lFh0VVWIgQh8ZCOchBZqvj0w5rveiNYcTnM/edit#gid=0\"\",\"\"RWA!F:BZ\"\"),44,0))\"),\"\")","v":""},{"$f":"IFERROR(__xludf.DUMMYFUNCTION(\"iferror(VLOOKUP(B907,IMPORTRANGE(\"\"https://docs.google.com/spreadsheets/d/1bphtMaJ6lFh0VVWIgQh8ZCOchBZqvj0w5rveiNYcTnM/edit#gid=0\"\",\"\"RWA!F:BZ\"\"),48,0))\"),\"\")","v":""},{"$f":"IFERROR(__xludf.DUMMYFUNCTION(\"iferror(VLOOKUP(B907,IMPORTRANGE(\"\"https://docs.google.com/spreadsheets/d/1bphtMaJ6lFh0VVWIgQh8ZCOchBZqvj0w5rveiNYcTnM/edit#gid=0\"\",\"\"RWA!F:BZ\"\"),49,0))\"),\"\")","v":""},{"$f":"IFERROR(__xludf.DUMMYFUNCTION(\"iferror(VLOOKUP(B907,IMPORTRANGE(\"\"https://docs.google.com/spreadsheets/d/1bphtMaJ6lFh0VVWIgQh8ZCOchBZqvj0w5rveiNYcTnM/edit#gid=0\"\",\"\"RWA!F:BZ\"\"),53,0))\"),\"\")","v":""}]
[null,null,null,{"$f":"IFERROR(__xludf.DUMMYFUNCTION(\"iferror(VLOOKUP(B908,IMPORTRANGE(\"\"https://docs.google.com/spreadsheets/d/1bphtMaJ6lFh0VVWIgQh8ZCOchBZqvj0w5rveiNYcTnM/edit#gid=0\"\",\"\"RWA!F:BZ\"\"),44,0))\"),\"\")","v":""},{"$f":"IFERROR(__xludf.DUMMYFUNCTION(\"iferror(VLOOKUP(B908,IMPORTRANGE(\"\"https://docs.google.com/spreadsheets/d/1bphtMaJ6lFh0VVWIgQh8ZCOchBZqvj0w5rveiNYcTnM/edit#gid=0\"\",\"\"RWA!F:BZ\"\"),48,0))\"),\"\")","v":""},{"$f":"IFERROR(__xludf.DUMMYFUNCTION(\"iferror(VLOOKUP(B908,IMPORTRANGE(\"\"https://docs.google.com/spreadsheets/d/1bphtMaJ6lFh0VVWIgQh8ZCOchBZqvj0w5rveiNYcTnM/edit#gid=0\"\",\"\"RWA!F:BZ\"\"),49,0))\"),\"\")","v":""},{"$f":"IFERROR(__xludf.DUMMYFUNCTION(\"iferror(VLOOKUP(B908,IMPORTRANGE(\"\"https://docs.google.com/spreadsheets/d/1bphtMaJ6lFh0VVWIgQh8ZCOchBZqvj0w5rveiNYcTnM/edit#gid=0\"\",\"\"RWA!F:BZ\"\"),53,0))\"),\"\")","v":""}]
[null,null,null,{"$f":"IFERROR(__xludf.DUMMYFUNCTION(\"iferror(VLOOKUP(B909,IMPORTRANGE(\"\"https://docs.google.com/spreadsheets/d/1bphtMaJ6lFh0VVWIgQh8ZCOchBZqvj0w5rveiNYcTnM/edit#gid=0\"\",\"\"RWA!F:BZ\"\"),44,0))\"),\"\")","v":""},{"$f":"IFERROR(__xludf.DUMMYFUNCTION(\"iferror(VLOOKUP(B909,IMPORTRANGE(\"\"https://docs.google.com/spreadsheets/d/1bphtMaJ6lFh0VVWIgQh8ZCOchBZqvj0w5rveiNYcTnM/edit#gid=0\"\",\"\"RWA!F:BZ\"\"),48,0))\"),\"\")","v":""},{"$f":"IFERROR(__xludf.DUMMYFUNCTION(\"iferror(VLOOKUP(B909,IMPORTRANGE(\"\"https://docs.google.com/spreadsheets/d/1bphtMaJ6lFh0VVWIgQh8ZCOchBZqvj0w5rveiNYcTnM/edit#gid=0\"\",\"\"RWA!F:BZ\"\"),49,0))\"),\"\")","v":""},{"$f":"IFERROR(__xludf.DUMMYFUNCTION(\"iferror(VLOOKUP(B909,IMPORTRANGE(\"\"https://docs.google.com/spreadsheets/d/1bphtMaJ6lFh0VVWIgQh8ZCOchBZqvj0w5rveiNYcTnM/edit#gid=0\"\",\"\"RWA!F:BZ\"\"),53,0))\"),\"\")","v":""}]
[null,null,null,{"$f":"IFERROR(__xludf.DUMMYFUNCTION(\"iferror(VLOOKUP(B910,IMPORTRANGE(\"\"https://docs.google.com/spreadsheets/d/1bphtMaJ6lFh0VVWIgQh8ZCOchBZqvj0w5rveiNYcTnM/edit#gid=0\"\",\"\"RWA!F:BZ\"\"),44,0))\"),\"\")","v":""},{"$f":"IFERROR(__xludf.DUMMYFUNCTION(\"iferror(VLOOKUP(B910,IMPORTRANGE(\"\"https://docs.google.com/spreadsheets/d/1bphtMaJ6lFh0VVWIgQh8ZCOchBZqvj0w5rveiNYcTnM/edit#gid=0\"\",\"\"RWA!F:BZ\"\"),48,0))\"),\"\")","v":""},{"$f":"IFERROR(__xludf.DUMMYFUNCTION(\"iferror(VLOOKUP(B910,IMPORTRANGE(\"\"https://docs.google.com/spreadsheets/d/1bphtMaJ6lFh0VVWIgQh8ZCOchBZqvj0w5rveiNYcTnM/edit#gid=0\"\",\"\"RWA!F:BZ\"\"),49,0))\"),\"\")","v":""},{"$f":"IFERROR(__xludf.DUMMYFUNCTION(\"iferror(VLOOKUP(B910,IMPORTRANGE(\"\"https://docs.google.com/spreadsheets/d/1bphtMaJ6lFh0VVWIgQh8ZCOchBZqvj0w5rveiNYcTnM/edit#gid=0\"\",\"\"RWA!F:BZ\"\"),53,0))\"),\"\")","v":""}]
[null,null,null,{"$f":"IFERROR(__xludf.DUMMYFUNCTION(\"iferror(VLOOKUP(B911,IMPORTRANGE(\"\"https://docs.google.com/spreadsheets/d/1bphtMaJ6lFh0VVWIgQh8ZCOchBZqvj0w5rveiNYcTnM/edit#gid=0\"\",\"\"RWA!F:BZ\"\"),44,0))\"),\"\")","v":""},{"$f":"IFERROR(__xludf.DUMMYFUNCTION(\"iferror(VLOOKUP(B911,IMPORTRANGE(\"\"https://docs.google.com/spreadsheets/d/1bphtMaJ6lFh0VVWIgQh8ZCOchBZqvj0w5rveiNYcTnM/edit#gid=0\"\",\"\"RWA!F:BZ\"\"),48,0))\"),\"\")","v":""},{"$f":"IFERROR(__xludf.DUMMYFUNCTION(\"iferror(VLOOKUP(B911,IMPORTRANGE(\"\"https://docs.google.com/spreadsheets/d/1bphtMaJ6lFh0VVWIgQh8ZCOchBZqvj0w5rveiNYcTnM/edit#gid=0\"\",\"\"RWA!F:BZ\"\"),49,0))\"),\"\")","v":""},{"$f":"IFERROR(__xludf.DUMMYFUNCTION(\"iferror(VLOOKUP(B911,IMPORTRANGE(\"\"https://docs.google.com/spreadsheets/d/1bphtMaJ6lFh0VVWIgQh8ZCOchBZqvj0w5rveiNYcTnM/edit#gid=0\"\",\"\"RWA!F:BZ\"\"),53,0))\"),\"\")","v":""}]
[null,null,null,{"$f":"IFERROR(__xludf.DUMMYFUNCTION(\"iferror(VLOOKUP(B912,IMPORTRANGE(\"\"https://docs.google.com/spreadsheets/d/1bphtMaJ6lFh0VVWIgQh8ZCOchBZqvj0w5rveiNYcTnM/edit#gid=0\"\",\"\"RWA!F:BZ\"\"),44,0))\"),\"\")","v":""},{"$f":"IFERROR(__xludf.DUMMYFUNCTION(\"iferror(VLOOKUP(B912,IMPORTRANGE(\"\"https://docs.google.com/spreadsheets/d/1bphtMaJ6lFh0VVWIgQh8ZCOchBZqvj0w5rveiNYcTnM/edit#gid=0\"\",\"\"RWA!F:BZ\"\"),48,0))\"),\"\")","v":""},{"$f":"IFERROR(__xludf.DUMMYFUNCTION(\"iferror(VLOOKUP(B912,IMPORTRANGE(\"\"https://docs.google.com/spreadsheets/d/1bphtMaJ6lFh0VVWIgQh8ZCOchBZqvj0w5rveiNYcTnM/edit#gid=0\"\",\"\"RWA!F:BZ\"\"),49,0))\"),\"\")","v":""},{"$f":"IFERROR(__xludf.DUMMYFUNCTION(\"iferror(VLOOKUP(B912,IMPORTRANGE(\"\"https://docs.google.com/spreadsheets/d/1bphtMaJ6lFh0VVWIgQh8ZCOchBZqvj0w5rveiNYcTnM/edit#gid=0\"\",\"\"RWA!F:BZ\"\"),53,0))\"),\"\")","v":""}]
[null,null,null,{"$f":"IFERROR(__xludf.DUMMYFUNCTION(\"iferror(VLOOKUP(B913,IMPORTRANGE(\"\"https://docs.google.com/spreadsheets/d/1bphtMaJ6lFh0VVWIgQh8ZCOchBZqvj0w5rveiNYcTnM/edit#gid=0\"\",\"\"RWA!F:BZ\"\"),44,0))\"),\"\")","v":""},{"$f":"IFERROR(__xludf.DUMMYFUNCTION(\"iferror(VLOOKUP(B913,IMPORTRANGE(\"\"https://docs.google.com/spreadsheets/d/1bphtMaJ6lFh0VVWIgQh8ZCOchBZqvj0w5rveiNYcTnM/edit#gid=0\"\",\"\"RWA!F:BZ\"\"),48,0))\"),\"\")","v":""},{"$f":"IFERROR(__xludf.DUMMYFUNCTION(\"iferror(VLOOKUP(B913,IMPORTRANGE(\"\"https://docs.google.com/spreadsheets/d/1bphtMaJ6lFh0VVWIgQh8ZCOchBZqvj0w5rveiNYcTnM/edit#gid=0\"\",\"\"RWA!F:BZ\"\"),49,0))\"),\"\")","v":""},{"$f":"IFERROR(__xludf.DUMMYFUNCTION(\"iferror(VLOOKUP(B913,IMPORTRANGE(\"\"https://docs.google.com/spreadsheets/d/1bphtMaJ6lFh0VVWIgQh8ZCOchBZqvj0w5rveiNYcTnM/edit#gid=0\"\",\"\"RWA!F:BZ\"\"),53,0))\"),\"\")","v":""}]
[null,null,null,{"$f":"IFERROR(__xludf.DUMMYFUNCTION(\"iferror(VLOOKUP(B914,IMPORTRANGE(\"\"https://docs.google.com/spreadsheets/d/1bphtMaJ6lFh0VVWIgQh8ZCOchBZqvj0w5rveiNYcTnM/edit#gid=0\"\",\"\"RWA!F:BZ\"\"),44,0))\"),\"\")","v":""},{"$f":"IFERROR(__xludf.DUMMYFUNCTION(\"iferror(VLOOKUP(B914,IMPORTRANGE(\"\"https://docs.google.com/spreadsheets/d/1bphtMaJ6lFh0VVWIgQh8ZCOchBZqvj0w5rveiNYcTnM/edit#gid=0\"\",\"\"RWA!F:BZ\"\"),48,0))\"),\"\")","v":""},{"$f":"IFERROR(__xludf.DUMMYFUNCTION(\"iferror(VLOOKUP(B914,IMPORTRANGE(\"\"https://docs.google.com/spreadsheets/d/1bphtMaJ6lFh0VVWIgQh8ZCOchBZqvj0w5rveiNYcTnM/edit#gid=0\"\",\"\"RWA!F:BZ\"\"),49,0))\"),\"\")","v":""},{"$f":"IFERROR(__xludf.DUMMYFUNCTION(\"iferror(VLOOKUP(B914,IMPORTRANGE(\"\"https://docs.google.com/spreadsheets/d/1bphtMaJ6lFh0VVWIgQh8ZCOchBZqvj0w5rveiNYcTnM/edit#gid=0\"\",\"\"RWA!F:BZ\"\"),53,0))\"),\"\")","v":""}]
[null,null,null,{"$f":"IFERROR(__xludf.DUMMYFUNCTION(\"iferror(VLOOKUP(B915,IMPORTRANGE(\"\"https://docs.google.com/spreadsheets/d/1bphtMaJ6lFh0VVWIgQh8ZCOchBZqvj0w5rveiNYcTnM/edit#gid=0\"\",\"\"RWA!F:BZ\"\"),44,0))\"),\"\")","v":""},{"$f":"IFERROR(__xludf.DUMMYFUNCTION(\"iferror(VLOOKUP(B915,IMPORTRANGE(\"\"https://docs.google.com/spreadsheets/d/1bphtMaJ6lFh0VVWIgQh8ZCOchBZqvj0w5rveiNYcTnM/edit#gid=0\"\",\"\"RWA!F:BZ\"\"),48,0))\"),\"\")","v":""},{"$f":"IFERROR(__xludf.DUMMYFUNCTION(\"iferror(VLOOKUP(B915,IMPORTRANGE(\"\"https://docs.google.com/spreadsheets/d/1bphtMaJ6lFh0VVWIgQh8ZCOchBZqvj0w5rveiNYcTnM/edit#gid=0\"\",\"\"RWA!F:BZ\"\"),49,0))\"),\"\")","v":""},{"$f":"IFERROR(__xludf.DUMMYFUNCTION(\"iferror(VLOOKUP(B915,IMPORTRANGE(\"\"https://docs.google.com/spreadsheets/d/1bphtMaJ6lFh0VVWIgQh8ZCOchBZqvj0w5rveiNYcTnM/edit#gid=0\"\",\"\"RWA!F:BZ\"\"),53,0))\"),\"\")","v":""}]
[null,null,null,{"$f":"IFERROR(__xludf.DUMMYFUNCTION(\"iferror(VLOOKUP(B916,IMPORTRANGE(\"\"https://docs.google.com/spreadsheets/d/1bphtMaJ6lFh0VVWIgQh8ZCOchBZqvj0w5rveiNYcTnM/edit#gid=0\"\",\"\"RWA!F:BZ\"\"),44,0))\"),\"\")","v":""},{"$f":"IFERROR(__xludf.DUMMYFUNCTION(\"iferror(VLOOKUP(B916,IMPORTRANGE(\"\"https://docs.google.com/spreadsheets/d/1bphtMaJ6lFh0VVWIgQh8ZCOchBZqvj0w5rveiNYcTnM/edit#gid=0\"\",\"\"RWA!F:BZ\"\"),48,0))\"),\"\")","v":""},{"$f":"IFERROR(__xludf.DUMMYFUNCTION(\"iferror(VLOOKUP(B916,IMPORTRANGE(\"\"https://docs.google.com/spreadsheets/d/1bphtMaJ6lFh0VVWIgQh8ZCOchBZqvj0w5rveiNYcTnM/edit#gid=0\"\",\"\"RWA!F:BZ\"\"),49,0))\"),\"\")","v":""},{"$f":"IFERROR(__xludf.DUMMYFUNCTION(\"iferror(VLOOKUP(B916,IMPORTRANGE(\"\"https://docs.google.com/spreadsheets/d/1bphtMaJ6lFh0VVWIgQh8ZCOchBZqvj0w5rveiNYcTnM/edit#gid=0\"\",\"\"RWA!F:BZ\"\"),53,0))\"),\"\")","v":""}]
[null,null,null,{"$f":"IFERROR(__xludf.DUMMYFUNCTION(\"iferror(VLOOKUP(B917,IMPORTRANGE(\"\"https://docs.google.com/spreadsheets/d/1bphtMaJ6lFh0VVWIgQh8ZCOchBZqvj0w5rveiNYcTnM/edit#gid=0\"\",\"\"RWA!F:BZ\"\"),44,0))\"),\"\")","v":""},{"$f":"IFERROR(__xludf.DUMMYFUNCTION(\"iferror(VLOOKUP(B917,IMPORTRANGE(\"\"https://docs.google.com/spreadsheets/d/1bphtMaJ6lFh0VVWIgQh8ZCOchBZqvj0w5rveiNYcTnM/edit#gid=0\"\",\"\"RWA!F:BZ\"\"),48,0))\"),\"\")","v":""},{"$f":"IFERROR(__xludf.DUMMYFUNCTION(\"iferror(VLOOKUP(B917,IMPORTRANGE(\"\"https://docs.google.com/spreadsheets/d/1bphtMaJ6lFh0VVWIgQh8ZCOchBZqvj0w5rveiNYcTnM/edit#gid=0\"\",\"\"RWA!F:BZ\"\"),49,0))\"),\"\")","v":""},{"$f":"IFERROR(__xludf.DUMMYFUNCTION(\"iferror(VLOOKUP(B917,IMPORTRANGE(\"\"https://docs.google.com/spreadsheets/d/1bphtMaJ6lFh0VVWIgQh8ZCOchBZqvj0w5rveiNYcTnM/edit#gid=0\"\",\"\"RWA!F:BZ\"\"),53,0))\"),\"\")","v":""}]
[null,null,null,{"$f":"IFERROR(__xludf.DUMMYFUNCTION(\"iferror(VLOOKUP(B918,IMPORTRANGE(\"\"https://docs.google.com/spreadsheets/d/1bphtMaJ6lFh0VVWIgQh8ZCOchBZqvj0w5rveiNYcTnM/edit#gid=0\"\",\"\"RWA!F:BZ\"\"),44,0))\"),\"\")","v":""},{"$f":"IFERROR(__xludf.DUMMYFUNCTION(\"iferror(VLOOKUP(B918,IMPORTRANGE(\"\"https://docs.google.com/spreadsheets/d/1bphtMaJ6lFh0VVWIgQh8ZCOchBZqvj0w5rveiNYcTnM/edit#gid=0\"\",\"\"RWA!F:BZ\"\"),48,0))\"),\"\")","v":""},{"$f":"IFERROR(__xludf.DUMMYFUNCTION(\"iferror(VLOOKUP(B918,IMPORTRANGE(\"\"https://docs.google.com/spreadsheets/d/1bphtMaJ6lFh0VVWIgQh8ZCOchBZqvj0w5rveiNYcTnM/edit#gid=0\"\",\"\"RWA!F:BZ\"\"),49,0))\"),\"\")","v":""},{"$f":"IFERROR(__xludf.DUMMYFUNCTION(\"iferror(VLOOKUP(B918,IMPORTRANGE(\"\"https://docs.google.com/spreadsheets/d/1bphtMaJ6lFh0VVWIgQh8ZCOchBZqvj0w5rveiNYcTnM/edit#gid=0\"\",\"\"RWA!F:BZ\"\"),53,0))\"),\"\")","v":""}]
[null,null,null,{"$f":"IFERROR(__xludf.DUMMYFUNCTION(\"iferror(VLOOKUP(B919,IMPORTRANGE(\"\"https://docs.google.com/spreadsheets/d/1bphtMaJ6lFh0VVWIgQh8ZCOchBZqvj0w5rveiNYcTnM/edit#gid=0\"\",\"\"RWA!F:BZ\"\"),44,0))\"),\"\")","v":""},{"$f":"IFERROR(__xludf.DUMMYFUNCTION(\"iferror(VLOOKUP(B919,IMPORTRANGE(\"\"https://docs.google.com/spreadsheets/d/1bphtMaJ6lFh0VVWIgQh8ZCOchBZqvj0w5rveiNYcTnM/edit#gid=0\"\",\"\"RWA!F:BZ\"\"),48,0))\"),\"\")","v":""},{"$f":"IFERROR(__xludf.DUMMYFUNCTION(\"iferror(VLOOKUP(B919,IMPORTRANGE(\"\"https://docs.google.com/spreadsheets/d/1bphtMaJ6lFh0VVWIgQh8ZCOchBZqvj0w5rveiNYcTnM/edit#gid=0\"\",\"\"RWA!F:BZ\"\"),49,0))\"),\"\")","v":""},{"$f":"IFERROR(__xludf.DUMMYFUNCTION(\"iferror(VLOOKUP(B919,IMPORTRANGE(\"\"https://docs.google.com/spreadsheets/d/1bphtMaJ6lFh0VVWIgQh8ZCOchBZqvj0w5rveiNYcTnM/edit#gid=0\"\",\"\"RWA!F:BZ\"\"),53,0))\"),\"\")","v":""}]
[null,null,null,{"$f":"IFERROR(__xludf.DUMMYFUNCTION(\"iferror(VLOOKUP(B920,IMPORTRANGE(\"\"https://docs.google.com/spreadsheets/d/1bphtMaJ6lFh0VVWIgQh8ZCOchBZqvj0w5rveiNYcTnM/edit#gid=0\"\",\"\"RWA!F:BZ\"\"),44,0))\"),\"\")","v":""},{"$f":"IFERROR(__xludf.DUMMYFUNCTION(\"iferror(VLOOKUP(B920,IMPORTRANGE(\"\"https://docs.google.com/spreadsheets/d/1bphtMaJ6lFh0VVWIgQh8ZCOchBZqvj0w5rveiNYcTnM/edit#gid=0\"\",\"\"RWA!F:BZ\"\"),48,0))\"),\"\")","v":""},{"$f":"IFERROR(__xludf.DUMMYFUNCTION(\"iferror(VLOOKUP(B920,IMPORTRANGE(\"\"https://docs.google.com/spreadsheets/d/1bphtMaJ6lFh0VVWIgQh8ZCOchBZqvj0w5rveiNYcTnM/edit#gid=0\"\",\"\"RWA!F:BZ\"\"),49,0))\"),\"\")","v":""},{"$f":"IFERROR(__xludf.DUMMYFUNCTION(\"iferror(VLOOKUP(B920,IMPORTRANGE(\"\"https://docs.google.com/spreadsheets/d/1bphtMaJ6lFh0VVWIgQh8ZCOchBZqvj0w5rveiNYcTnM/edit#gid=0\"\",\"\"RWA!F:BZ\"\"),53,0))\"),\"\")","v":""}]
[null,null,null,{"$f":"IFERROR(__xludf.DUMMYFUNCTION(\"iferror(VLOOKUP(B921,IMPORTRANGE(\"\"https://docs.google.com/spreadsheets/d/1bphtMaJ6lFh0VVWIgQh8ZCOchBZqvj0w5rveiNYcTnM/edit#gid=0\"\",\"\"RWA!F:BZ\"\"),44,0))\"),\"\")","v":""},{"$f":"IFERROR(__xludf.DUMMYFUNCTION(\"iferror(VLOOKUP(B921,IMPORTRANGE(\"\"https://docs.google.com/spreadsheets/d/1bphtMaJ6lFh0VVWIgQh8ZCOchBZqvj0w5rveiNYcTnM/edit#gid=0\"\",\"\"RWA!F:BZ\"\"),48,0))\"),\"\")","v":""},{"$f":"IFERROR(__xludf.DUMMYFUNCTION(\"iferror(VLOOKUP(B921,IMPORTRANGE(\"\"https://docs.google.com/spreadsheets/d/1bphtMaJ6lFh0VVWIgQh8ZCOchBZqvj0w5rveiNYcTnM/edit#gid=0\"\",\"\"RWA!F:BZ\"\"),49,0))\"),\"\")","v":""},{"$f":"IFERROR(__xludf.DUMMYFUNCTION(\"iferror(VLOOKUP(B921,IMPORTRANGE(\"\"https://docs.google.com/spreadsheets/d/1bphtMaJ6lFh0VVWIgQh8ZCOchBZqvj0w5rveiNYcTnM/edit#gid=0\"\",\"\"RWA!F:BZ\"\"),53,0))\"),\"\")","v":""}]
[null,null,null,{"$f":"IFERROR(__xludf.DUMMYFUNCTION(\"iferror(VLOOKUP(B922,IMPORTRANGE(\"\"https://docs.google.com/spreadsheets/d/1bphtMaJ6lFh0VVWIgQh8ZCOchBZqvj0w5rveiNYcTnM/edit#gid=0\"\",\"\"RWA!F:BZ\"\"),44,0))\"),\"\")","v":""},{"$f":"IFERROR(__xludf.DUMMYFUNCTION(\"iferror(VLOOKUP(B922,IMPORTRANGE(\"\"https://docs.google.com/spreadsheets/d/1bphtMaJ6lFh0VVWIgQh8ZCOchBZqvj0w5rveiNYcTnM/edit#gid=0\"\",\"\"RWA!F:BZ\"\"),48,0))\"),\"\")","v":""},{"$f":"IFERROR(__xludf.DUMMYFUNCTION(\"iferror(VLOOKUP(B922,IMPORTRANGE(\"\"https://docs.google.com/spreadsheets/d/1bphtMaJ6lFh0VVWIgQh8ZCOchBZqvj0w5rveiNYcTnM/edit#gid=0\"\",\"\"RWA!F:BZ\"\"),49,0))\"),\"\")","v":""},{"$f":"IFERROR(__xludf.DUMMYFUNCTION(\"iferror(VLOOKUP(B922,IMPORTRANGE(\"\"https://docs.google.com/spreadsheets/d/1bphtMaJ6lFh0VVWIgQh8ZCOchBZqvj0w5rveiNYcTnM/edit#gid=0\"\",\"\"RWA!F:BZ\"\"),53,0))\"),\"\")","v":""}]
[null,null,null,{"$f":"IFERROR(__xludf.DUMMYFUNCTION(\"iferror(VLOOKUP(B923,IMPORTRANGE(\"\"https://docs.google.com/spreadsheets/d/1bphtMaJ6lFh0VVWIgQh8ZCOchBZqvj0w5rveiNYcTnM/edit#gid=0\"\",\"\"RWA!F:BZ\"\"),44,0))\"),\"\")","v":""},{"$f":"IFERROR(__xludf.DUMMYFUNCTION(\"iferror(VLOOKUP(B923,IMPORTRANGE(\"\"https://docs.google.com/spreadsheets/d/1bphtMaJ6lFh0VVWIgQh8ZCOchBZqvj0w5rveiNYcTnM/edit#gid=0\"\",\"\"RWA!F:BZ\"\"),48,0))\"),\"\")","v":""},{"$f":"IFERROR(__xludf.DUMMYFUNCTION(\"iferror(VLOOKUP(B923,IMPORTRANGE(\"\"https://docs.google.com/spreadsheets/d/1bphtMaJ6lFh0VVWIgQh8ZCOchBZqvj0w5rveiNYcTnM/edit#gid=0\"\",\"\"RWA!F:BZ\"\"),49,0))\"),\"\")","v":""},{"$f":"IFERROR(__xludf.DUMMYFUNCTION(\"iferror(VLOOKUP(B923,IMPORTRANGE(\"\"https://docs.google.com/spreadsheets/d/1bphtMaJ6lFh0VVWIgQh8ZCOchBZqvj0w5rveiNYcTnM/edit#gid=0\"\",\"\"RWA!F:BZ\"\"),53,0))\"),\"\")","v":""}]
[null,null,null,{"$f":"IFERROR(__xludf.DUMMYFUNCTION(\"iferror(VLOOKUP(B924,IMPORTRANGE(\"\"https://docs.google.com/spreadsheets/d/1bphtMaJ6lFh0VVWIgQh8ZCOchBZqvj0w5rveiNYcTnM/edit#gid=0\"\",\"\"RWA!F:BZ\"\"),44,0))\"),\"\")","v":""},{"$f":"IFERROR(__xludf.DUMMYFUNCTION(\"iferror(VLOOKUP(B924,IMPORTRANGE(\"\"https://docs.google.com/spreadsheets/d/1bphtMaJ6lFh0VVWIgQh8ZCOchBZqvj0w5rveiNYcTnM/edit#gid=0\"\",\"\"RWA!F:BZ\"\"),48,0))\"),\"\")","v":""},{"$f":"IFERROR(__xludf.DUMMYFUNCTION(\"iferror(VLOOKUP(B924,IMPORTRANGE(\"\"https://docs.google.com/spreadsheets/d/1bphtMaJ6lFh0VVWIgQh8ZCOchBZqvj0w5rveiNYcTnM/edit#gid=0\"\",\"\"RWA!F:BZ\"\"),49,0))\"),\"\")","v":""},{"$f":"IFERROR(__xludf.DUMMYFUNCTION(\"iferror(VLOOKUP(B924,IMPORTRANGE(\"\"https://docs.google.com/spreadsheets/d/1bphtMaJ6lFh0VVWIgQh8ZCOchBZqvj0w5rveiNYcTnM/edit#gid=0\"\",\"\"RWA!F:BZ\"\"),53,0))\"),\"\")","v":""}]
[null,null,null,{"$f":"IFERROR(__xludf.DUMMYFUNCTION(\"iferror(VLOOKUP(B925,IMPORTRANGE(\"\"https://docs.google.com/spreadsheets/d/1bphtMaJ6lFh0VVWIgQh8ZCOchBZqvj0w5rveiNYcTnM/edit#gid=0\"\",\"\"RWA!F:BZ\"\"),44,0))\"),\"\")","v":""},{"$f":"IFERROR(__xludf.DUMMYFUNCTION(\"iferror(VLOOKUP(B925,IMPORTRANGE(\"\"https://docs.google.com/spreadsheets/d/1bphtMaJ6lFh0VVWIgQh8ZCOchBZqvj0w5rveiNYcTnM/edit#gid=0\"\",\"\"RWA!F:BZ\"\"),48,0))\"),\"\")","v":""},{"$f":"IFERROR(__xludf.DUMMYFUNCTION(\"iferror(VLOOKUP(B925,IMPORTRANGE(\"\"https://docs.google.com/spreadsheets/d/1bphtMaJ6lFh0VVWIgQh8ZCOchBZqvj0w5rveiNYcTnM/edit#gid=0\"\",\"\"RWA!F:BZ\"\"),49,0))\"),\"\")","v":""},{"$f":"IFERROR(__xludf.DUMMYFUNCTION(\"iferror(VLOOKUP(B925,IMPORTRANGE(\"\"https://docs.google.com/spreadsheets/d/1bphtMaJ6lFh0VVWIgQh8ZCOchBZqvj0w5rveiNYcTnM/edit#gid=0\"\",\"\"RWA!F:BZ\"\"),53,0))\"),\"\")","v":""}]
[null,null,null,{"$f":"IFERROR(__xludf.DUMMYFUNCTION(\"iferror(VLOOKUP(B926,IMPORTRANGE(\"\"https://docs.google.com/spreadsheets/d/1bphtMaJ6lFh0VVWIgQh8ZCOchBZqvj0w5rveiNYcTnM/edit#gid=0\"\",\"\"RWA!F:BZ\"\"),44,0))\"),\"\")","v":""},{"$f":"IFERROR(__xludf.DUMMYFUNCTION(\"iferror(VLOOKUP(B926,IMPORTRANGE(\"\"https://docs.google.com/spreadsheets/d/1bphtMaJ6lFh0VVWIgQh8ZCOchBZqvj0w5rveiNYcTnM/edit#gid=0\"\",\"\"RWA!F:BZ\"\"),48,0))\"),\"\")","v":""},{"$f":"IFERROR(__xludf.DUMMYFUNCTION(\"iferror(VLOOKUP(B926,IMPORTRANGE(\"\"https://docs.google.com/spreadsheets/d/1bphtMaJ6lFh0VVWIgQh8ZCOchBZqvj0w5rveiNYcTnM/edit#gid=0\"\",\"\"RWA!F:BZ\"\"),49,0))\"),\"\")","v":""},{"$f":"IFERROR(__xludf.DUMMYFUNCTION(\"iferror(VLOOKUP(B926,IMPORTRANGE(\"\"https://docs.google.com/spreadsheets/d/1bphtMaJ6lFh0VVWIgQh8ZCOchBZqvj0w5rveiNYcTnM/edit#gid=0\"\",\"\"RWA!F:BZ\"\"),53,0))\"),\"\")","v":""}]
[null,null,null,{"$f":"IFERROR(__xludf.DUMMYFUNCTION(\"iferror(VLOOKUP(B927,IMPORTRANGE(\"\"https://docs.google.com/spreadsheets/d/1bphtMaJ6lFh0VVWIgQh8ZCOchBZqvj0w5rveiNYcTnM/edit#gid=0\"\",\"\"RWA!F:BZ\"\"),44,0))\"),\"\")","v":""},{"$f":"IFERROR(__xludf.DUMMYFUNCTION(\"iferror(VLOOKUP(B927,IMPORTRANGE(\"\"https://docs.google.com/spreadsheets/d/1bphtMaJ6lFh0VVWIgQh8ZCOchBZqvj0w5rveiNYcTnM/edit#gid=0\"\",\"\"RWA!F:BZ\"\"),48,0))\"),\"\")","v":""},{"$f":"IFERROR(__xludf.DUMMYFUNCTION(\"iferror(VLOOKUP(B927,IMPORTRANGE(\"\"https://docs.google.com/spreadsheets/d/1bphtMaJ6lFh0VVWIgQh8ZCOchBZqvj0w5rveiNYcTnM/edit#gid=0\"\",\"\"RWA!F:BZ\"\"),49,0))\"),\"\")","v":""},{"$f":"IFERROR(__xludf.DUMMYFUNCTION(\"iferror(VLOOKUP(B927,IMPORTRANGE(\"\"https://docs.google.com/spreadsheets/d/1bphtMaJ6lFh0VVWIgQh8ZCOchBZqvj0w5rveiNYcTnM/edit#gid=0\"\",\"\"RWA!F:BZ\"\"),53,0))\"),\"\")","v":""}]
[null,null,null,{"$f":"IFERROR(__xludf.DUMMYFUNCTION(\"iferror(VLOOKUP(B928,IMPORTRANGE(\"\"https://docs.google.com/spreadsheets/d/1bphtMaJ6lFh0VVWIgQh8ZCOchBZqvj0w5rveiNYcTnM/edit#gid=0\"\",\"\"RWA!F:BZ\"\"),44,0))\"),\"\")","v":""},{"$f":"IFERROR(__xludf.DUMMYFUNCTION(\"iferror(VLOOKUP(B928,IMPORTRANGE(\"\"https://docs.google.com/spreadsheets/d/1bphtMaJ6lFh0VVWIgQh8ZCOchBZqvj0w5rveiNYcTnM/edit#gid=0\"\",\"\"RWA!F:BZ\"\"),48,0))\"),\"\")","v":""},{"$f":"IFERROR(__xludf.DUMMYFUNCTION(\"iferror(VLOOKUP(B928,IMPORTRANGE(\"\"https://docs.google.com/spreadsheets/d/1bphtMaJ6lFh0VVWIgQh8ZCOchBZqvj0w5rveiNYcTnM/edit#gid=0\"\",\"\"RWA!F:BZ\"\"),49,0))\"),\"\")","v":""},{"$f":"IFERROR(__xludf.DUMMYFUNCTION(\"iferror(VLOOKUP(B928,IMPORTRANGE(\"\"https://docs.google.com/spreadsheets/d/1bphtMaJ6lFh0VVWIgQh8ZCOchBZqvj0w5rveiNYcTnM/edit#gid=0\"\",\"\"RWA!F:BZ\"\"),53,0))\"),\"\")","v":""}]
[null,null,null,{"$f":"IFERROR(__xludf.DUMMYFUNCTION(\"iferror(VLOOKUP(B929,IMPORTRANGE(\"\"https://docs.google.com/spreadsheets/d/1bphtMaJ6lFh0VVWIgQh8ZCOchBZqvj0w5rveiNYcTnM/edit#gid=0\"\",\"\"RWA!F:BZ\"\"),44,0))\"),\"\")","v":""},{"$f":"IFERROR(__xludf.DUMMYFUNCTION(\"iferror(VLOOKUP(B929,IMPORTRANGE(\"\"https://docs.google.com/spreadsheets/d/1bphtMaJ6lFh0VVWIgQh8ZCOchBZqvj0w5rveiNYcTnM/edit#gid=0\"\",\"\"RWA!F:BZ\"\"),48,0))\"),\"\")","v":""},{"$f":"IFERROR(__xludf.DUMMYFUNCTION(\"iferror(VLOOKUP(B929,IMPORTRANGE(\"\"https://docs.google.com/spreadsheets/d/1bphtMaJ6lFh0VVWIgQh8ZCOchBZqvj0w5rveiNYcTnM/edit#gid=0\"\",\"\"RWA!F:BZ\"\"),49,0))\"),\"\")","v":""},{"$f":"IFERROR(__xludf.DUMMYFUNCTION(\"iferror(VLOOKUP(B929,IMPORTRANGE(\"\"https://docs.google.com/spreadsheets/d/1bphtMaJ6lFh0VVWIgQh8ZCOchBZqvj0w5rveiNYcTnM/edit#gid=0\"\",\"\"RWA!F:BZ\"\"),53,0))\"),\"\")","v":""}]
[null,null,null,{"$f":"IFERROR(__xludf.DUMMYFUNCTION(\"iferror(VLOOKUP(B930,IMPORTRANGE(\"\"https://docs.google.com/spreadsheets/d/1bphtMaJ6lFh0VVWIgQh8ZCOchBZqvj0w5rveiNYcTnM/edit#gid=0\"\",\"\"RWA!F:BZ\"\"),44,0))\"),\"\")","v":""},{"$f":"IFERROR(__xludf.DUMMYFUNCTION(\"iferror(VLOOKUP(B930,IMPORTRANGE(\"\"https://docs.google.com/spreadsheets/d/1bphtMaJ6lFh0VVWIgQh8ZCOchBZqvj0w5rveiNYcTnM/edit#gid=0\"\",\"\"RWA!F:BZ\"\"),48,0))\"),\"\")","v":""},{"$f":"IFERROR(__xludf.DUMMYFUNCTION(\"iferror(VLOOKUP(B930,IMPORTRANGE(\"\"https://docs.google.com/spreadsheets/d/1bphtMaJ6lFh0VVWIgQh8ZCOchBZqvj0w5rveiNYcTnM/edit#gid=0\"\",\"\"RWA!F:BZ\"\"),49,0))\"),\"\")","v":""},{"$f":"IFERROR(__xludf.DUMMYFUNCTION(\"iferror(VLOOKUP(B930,IMPORTRANGE(\"\"https://docs.google.com/spreadsheets/d/1bphtMaJ6lFh0VVWIgQh8ZCOchBZqvj0w5rveiNYcTnM/edit#gid=0\"\",\"\"RWA!F:BZ\"\"),53,0))\"),\"\")","v":""}]
[null,null,null,{"$f":"IFERROR(__xludf.DUMMYFUNCTION(\"iferror(VLOOKUP(B931,IMPORTRANGE(\"\"https://docs.google.com/spreadsheets/d/1bphtMaJ6lFh0VVWIgQh8ZCOchBZqvj0w5rveiNYcTnM/edit#gid=0\"\",\"\"RWA!F:BZ\"\"),44,0))\"),\"\")","v":""},{"$f":"IFERROR(__xludf.DUMMYFUNCTION(\"iferror(VLOOKUP(B931,IMPORTRANGE(\"\"https://docs.google.com/spreadsheets/d/1bphtMaJ6lFh0VVWIgQh8ZCOchBZqvj0w5rveiNYcTnM/edit#gid=0\"\",\"\"RWA!F:BZ\"\"),48,0))\"),\"\")","v":""},{"$f":"IFERROR(__xludf.DUMMYFUNCTION(\"iferror(VLOOKUP(B931,IMPORTRANGE(\"\"https://docs.google.com/spreadsheets/d/1bphtMaJ6lFh0VVWIgQh8ZCOchBZqvj0w5rveiNYcTnM/edit#gid=0\"\",\"\"RWA!F:BZ\"\"),49,0))\"),\"\")","v":""},{"$f":"IFERROR(__xludf.DUMMYFUNCTION(\"iferror(VLOOKUP(B931,IMPORTRANGE(\"\"https://docs.google.com/spreadsheets/d/1bphtMaJ6lFh0VVWIgQh8ZCOchBZqvj0w5rveiNYcTnM/edit#gid=0\"\",\"\"RWA!F:BZ\"\"),53,0))\"),\"\")","v":""}]
[null,null,null,{"$f":"IFERROR(__xludf.DUMMYFUNCTION(\"iferror(VLOOKUP(B932,IMPORTRANGE(\"\"https://docs.google.com/spreadsheets/d/1bphtMaJ6lFh0VVWIgQh8ZCOchBZqvj0w5rveiNYcTnM/edit#gid=0\"\",\"\"RWA!F:BZ\"\"),44,0))\"),\"\")","v":""},{"$f":"IFERROR(__xludf.DUMMYFUNCTION(\"iferror(VLOOKUP(B932,IMPORTRANGE(\"\"https://docs.google.com/spreadsheets/d/1bphtMaJ6lFh0VVWIgQh8ZCOchBZqvj0w5rveiNYcTnM/edit#gid=0\"\",\"\"RWA!F:BZ\"\"),48,0))\"),\"\")","v":""},{"$f":"IFERROR(__xludf.DUMMYFUNCTION(\"iferror(VLOOKUP(B932,IMPORTRANGE(\"\"https://docs.google.com/spreadsheets/d/1bphtMaJ6lFh0VVWIgQh8ZCOchBZqvj0w5rveiNYcTnM/edit#gid=0\"\",\"\"RWA!F:BZ\"\"),49,0))\"),\"\")","v":""},{"$f":"IFERROR(__xludf.DUMMYFUNCTION(\"iferror(VLOOKUP(B932,IMPORTRANGE(\"\"https://docs.google.com/spreadsheets/d/1bphtMaJ6lFh0VVWIgQh8ZCOchBZqvj0w5rveiNYcTnM/edit#gid=0\"\",\"\"RWA!F:BZ\"\"),53,0))\"),\"\")","v":""}]
[null,null,null,{"$f":"IFERROR(__xludf.DUMMYFUNCTION(\"iferror(VLOOKUP(B933,IMPORTRANGE(\"\"https://docs.google.com/spreadsheets/d/1bphtMaJ6lFh0VVWIgQh8ZCOchBZqvj0w5rveiNYcTnM/edit#gid=0\"\",\"\"RWA!F:BZ\"\"),44,0))\"),\"\")","v":""},{"$f":"IFERROR(__xludf.DUMMYFUNCTION(\"iferror(VLOOKUP(B933,IMPORTRANGE(\"\"https://docs.google.com/spreadsheets/d/1bphtMaJ6lFh0VVWIgQh8ZCOchBZqvj0w5rveiNYcTnM/edit#gid=0\"\",\"\"RWA!F:BZ\"\"),48,0))\"),\"\")","v":""},{"$f":"IFERROR(__xludf.DUMMYFUNCTION(\"iferror(VLOOKUP(B933,IMPORTRANGE(\"\"https://docs.google.com/spreadsheets/d/1bphtMaJ6lFh0VVWIgQh8ZCOchBZqvj0w5rveiNYcTnM/edit#gid=0\"\",\"\"RWA!F:BZ\"\"),49,0))\"),\"\")","v":""},{"$f":"IFERROR(__xludf.DUMMYFUNCTION(\"iferror(VLOOKUP(B933,IMPORTRANGE(\"\"https://docs.google.com/spreadsheets/d/1bphtMaJ6lFh0VVWIgQh8ZCOchBZqvj0w5rveiNYcTnM/edit#gid=0\"\",\"\"RWA!F:BZ\"\"),53,0))\"),\"\")","v":""}]
[null,null,null,{"$f":"IFERROR(__xludf.DUMMYFUNCTION(\"iferror(VLOOKUP(B934,IMPORTRANGE(\"\"https://docs.google.com/spreadsheets/d/1bphtMaJ6lFh0VVWIgQh8ZCOchBZqvj0w5rveiNYcTnM/edit#gid=0\"\",\"\"RWA!F:BZ\"\"),44,0))\"),\"\")","v":""},{"$f":"IFERROR(__xludf.DUMMYFUNCTION(\"iferror(VLOOKUP(B934,IMPORTRANGE(\"\"https://docs.google.com/spreadsheets/d/1bphtMaJ6lFh0VVWIgQh8ZCOchBZqvj0w5rveiNYcTnM/edit#gid=0\"\",\"\"RWA!F:BZ\"\"),48,0))\"),\"\")","v":""},{"$f":"IFERROR(__xludf.DUMMYFUNCTION(\"iferror(VLOOKUP(B934,IMPORTRANGE(\"\"https://docs.google.com/spreadsheets/d/1bphtMaJ6lFh0VVWIgQh8ZCOchBZqvj0w5rveiNYcTnM/edit#gid=0\"\",\"\"RWA!F:BZ\"\"),49,0))\"),\"\")","v":""},{"$f":"IFERROR(__xludf.DUMMYFUNCTION(\"iferror(VLOOKUP(B934,IMPORTRANGE(\"\"https://docs.google.com/spreadsheets/d/1bphtMaJ6lFh0VVWIgQh8ZCOchBZqvj0w5rveiNYcTnM/edit#gid=0\"\",\"\"RWA!F:BZ\"\"),53,0))\"),\"\")","v":""}]
[null,null,null,{"$f":"IFERROR(__xludf.DUMMYFUNCTION(\"iferror(VLOOKUP(B935,IMPORTRANGE(\"\"https://docs.google.com/spreadsheets/d/1bphtMaJ6lFh0VVWIgQh8ZCOchBZqvj0w5rveiNYcTnM/edit#gid=0\"\",\"\"RWA!F:BZ\"\"),44,0))\"),\"\")","v":""},{"$f":"IFERROR(__xludf.DUMMYFUNCTION(\"iferror(VLOOKUP(B935,IMPORTRANGE(\"\"https://docs.google.com/spreadsheets/d/1bphtMaJ6lFh0VVWIgQh8ZCOchBZqvj0w5rveiNYcTnM/edit#gid=0\"\",\"\"RWA!F:BZ\"\"),48,0))\"),\"\")","v":""},{"$f":"IFERROR(__xludf.DUMMYFUNCTION(\"iferror(VLOOKUP(B935,IMPORTRANGE(\"\"https://docs.google.com/spreadsheets/d/1bphtMaJ6lFh0VVWIgQh8ZCOchBZqvj0w5rveiNYcTnM/edit#gid=0\"\",\"\"RWA!F:BZ\"\"),49,0))\"),\"\")","v":""},{"$f":"IFERROR(__xludf.DUMMYFUNCTION(\"iferror(VLOOKUP(B935,IMPORTRANGE(\"\"https://docs.google.com/spreadsheets/d/1bphtMaJ6lFh0VVWIgQh8ZCOchBZqvj0w5rveiNYcTnM/edit#gid=0\"\",\"\"RWA!F:BZ\"\"),53,0))\"),\"\")","v":""}]
[null,null,null,{"$f":"IFERROR(__xludf.DUMMYFUNCTION(\"iferror(VLOOKUP(B936,IMPORTRANGE(\"\"https://docs.google.com/spreadsheets/d/1bphtMaJ6lFh0VVWIgQh8ZCOchBZqvj0w5rveiNYcTnM/edit#gid=0\"\",\"\"RWA!F:BZ\"\"),44,0))\"),\"\")","v":""},{"$f":"IFERROR(__xludf.DUMMYFUNCTION(\"iferror(VLOOKUP(B936,IMPORTRANGE(\"\"https://docs.google.com/spreadsheets/d/1bphtMaJ6lFh0VVWIgQh8ZCOchBZqvj0w5rveiNYcTnM/edit#gid=0\"\",\"\"RWA!F:BZ\"\"),48,0))\"),\"\")","v":""},{"$f":"IFERROR(__xludf.DUMMYFUNCTION(\"iferror(VLOOKUP(B936,IMPORTRANGE(\"\"https://docs.google.com/spreadsheets/d/1bphtMaJ6lFh0VVWIgQh8ZCOchBZqvj0w5rveiNYcTnM/edit#gid=0\"\",\"\"RWA!F:BZ\"\"),49,0))\"),\"\")","v":""},{"$f":"IFERROR(__xludf.DUMMYFUNCTION(\"iferror(VLOOKUP(B936,IMPORTRANGE(\"\"https://docs.google.com/spreadsheets/d/1bphtMaJ6lFh0VVWIgQh8ZCOchBZqvj0w5rveiNYcTnM/edit#gid=0\"\",\"\"RWA!F:BZ\"\"),53,0))\"),\"\")","v":""}]
[null,null,null,{"$f":"IFERROR(__xludf.DUMMYFUNCTION(\"iferror(VLOOKUP(B937,IMPORTRANGE(\"\"https://docs.google.com/spreadsheets/d/1bphtMaJ6lFh0VVWIgQh8ZCOchBZqvj0w5rveiNYcTnM/edit#gid=0\"\",\"\"RWA!F:BZ\"\"),44,0))\"),\"\")","v":""},{"$f":"IFERROR(__xludf.DUMMYFUNCTION(\"iferror(VLOOKUP(B937,IMPORTRANGE(\"\"https://docs.google.com/spreadsheets/d/1bphtMaJ6lFh0VVWIgQh8ZCOchBZqvj0w5rveiNYcTnM/edit#gid=0\"\",\"\"RWA!F:BZ\"\"),48,0))\"),\"\")","v":""},{"$f":"IFERROR(__xludf.DUMMYFUNCTION(\"iferror(VLOOKUP(B937,IMPORTRANGE(\"\"https://docs.google.com/spreadsheets/d/1bphtMaJ6lFh0VVWIgQh8ZCOchBZqvj0w5rveiNYcTnM/edit#gid=0\"\",\"\"RWA!F:BZ\"\"),49,0))\"),\"\")","v":""},{"$f":"IFERROR(__xludf.DUMMYFUNCTION(\"iferror(VLOOKUP(B937,IMPORTRANGE(\"\"https://docs.google.com/spreadsheets/d/1bphtMaJ6lFh0VVWIgQh8ZCOchBZqvj0w5rveiNYcTnM/edit#gid=0\"\",\"\"RWA!F:BZ\"\"),53,0))\"),\"\")","v":""}]
[null,null,null,{"$f":"IFERROR(__xludf.DUMMYFUNCTION(\"iferror(VLOOKUP(B938,IMPORTRANGE(\"\"https://docs.google.com/spreadsheets/d/1bphtMaJ6lFh0VVWIgQh8ZCOchBZqvj0w5rveiNYcTnM/edit#gid=0\"\",\"\"RWA!F:BZ\"\"),44,0))\"),\"\")","v":""},{"$f":"IFERROR(__xludf.DUMMYFUNCTION(\"iferror(VLOOKUP(B938,IMPORTRANGE(\"\"https://docs.google.com/spreadsheets/d/1bphtMaJ6lFh0VVWIgQh8ZCOchBZqvj0w5rveiNYcTnM/edit#gid=0\"\",\"\"RWA!F:BZ\"\"),48,0))\"),\"\")","v":""},{"$f":"IFERROR(__xludf.DUMMYFUNCTION(\"iferror(VLOOKUP(B938,IMPORTRANGE(\"\"https://docs.google.com/spreadsheets/d/1bphtMaJ6lFh0VVWIgQh8ZCOchBZqvj0w5rveiNYcTnM/edit#gid=0\"\",\"\"RWA!F:BZ\"\"),49,0))\"),\"\")","v":""},{"$f":"IFERROR(__xludf.DUMMYFUNCTION(\"iferror(VLOOKUP(B938,IMPORTRANGE(\"\"https://docs.google.com/spreadsheets/d/1bphtMaJ6lFh0VVWIgQh8ZCOchBZqvj0w5rveiNYcTnM/edit#gid=0\"\",\"\"RWA!F:BZ\"\"),53,0))\"),\"\")","v":""}]
[null,null,null,{"$f":"IFERROR(__xludf.DUMMYFUNCTION(\"iferror(VLOOKUP(B939,IMPORTRANGE(\"\"https://docs.google.com/spreadsheets/d/1bphtMaJ6lFh0VVWIgQh8ZCOchBZqvj0w5rveiNYcTnM/edit#gid=0\"\",\"\"RWA!F:BZ\"\"),44,0))\"),\"\")","v":""},{"$f":"IFERROR(__xludf.DUMMYFUNCTION(\"iferror(VLOOKUP(B939,IMPORTRANGE(\"\"https://docs.google.com/spreadsheets/d/1bphtMaJ6lFh0VVWIgQh8ZCOchBZqvj0w5rveiNYcTnM/edit#gid=0\"\",\"\"RWA!F:BZ\"\"),48,0))\"),\"\")","v":""},{"$f":"IFERROR(__xludf.DUMMYFUNCTION(\"iferror(VLOOKUP(B939,IMPORTRANGE(\"\"https://docs.google.com/spreadsheets/d/1bphtMaJ6lFh0VVWIgQh8ZCOchBZqvj0w5rveiNYcTnM/edit#gid=0\"\",\"\"RWA!F:BZ\"\"),49,0))\"),\"\")","v":""},{"$f":"IFERROR(__xludf.DUMMYFUNCTION(\"iferror(VLOOKUP(B939,IMPORTRANGE(\"\"https://docs.google.com/spreadsheets/d/1bphtMaJ6lFh0VVWIgQh8ZCOchBZqvj0w5rveiNYcTnM/edit#gid=0\"\",\"\"RWA!F:BZ\"\"),53,0))\"),\"\")","v":""}]
[null,null,null,{"$f":"IFERROR(__xludf.DUMMYFUNCTION(\"iferror(VLOOKUP(B940,IMPORTRANGE(\"\"https://docs.google.com/spreadsheets/d/1bphtMaJ6lFh0VVWIgQh8ZCOchBZqvj0w5rveiNYcTnM/edit#gid=0\"\",\"\"RWA!F:BZ\"\"),44,0))\"),\"\")","v":""},{"$f":"IFERROR(__xludf.DUMMYFUNCTION(\"iferror(VLOOKUP(B940,IMPORTRANGE(\"\"https://docs.google.com/spreadsheets/d/1bphtMaJ6lFh0VVWIgQh8ZCOchBZqvj0w5rveiNYcTnM/edit#gid=0\"\",\"\"RWA!F:BZ\"\"),48,0))\"),\"\")","v":""},{"$f":"IFERROR(__xludf.DUMMYFUNCTION(\"iferror(VLOOKUP(B940,IMPORTRANGE(\"\"https://docs.google.com/spreadsheets/d/1bphtMaJ6lFh0VVWIgQh8ZCOchBZqvj0w5rveiNYcTnM/edit#gid=0\"\",\"\"RWA!F:BZ\"\"),49,0))\"),\"\")","v":""},{"$f":"IFERROR(__xludf.DUMMYFUNCTION(\"iferror(VLOOKUP(B940,IMPORTRANGE(\"\"https://docs.google.com/spreadsheets/d/1bphtMaJ6lFh0VVWIgQh8ZCOchBZqvj0w5rveiNYcTnM/edit#gid=0\"\",\"\"RWA!F:BZ\"\"),53,0))\"),\"\")","v":""}]
[null,null,null,{"$f":"IFERROR(__xludf.DUMMYFUNCTION(\"iferror(VLOOKUP(B941,IMPORTRANGE(\"\"https://docs.google.com/spreadsheets/d/1bphtMaJ6lFh0VVWIgQh8ZCOchBZqvj0w5rveiNYcTnM/edit#gid=0\"\",\"\"RWA!F:BZ\"\"),44,0))\"),\"\")","v":""},{"$f":"IFERROR(__xludf.DUMMYFUNCTION(\"iferror(VLOOKUP(B941,IMPORTRANGE(\"\"https://docs.google.com/spreadsheets/d/1bphtMaJ6lFh0VVWIgQh8ZCOchBZqvj0w5rveiNYcTnM/edit#gid=0\"\",\"\"RWA!F:BZ\"\"),48,0))\"),\"\")","v":""},{"$f":"IFERROR(__xludf.DUMMYFUNCTION(\"iferror(VLOOKUP(B941,IMPORTRANGE(\"\"https://docs.google.com/spreadsheets/d/1bphtMaJ6lFh0VVWIgQh8ZCOchBZqvj0w5rveiNYcTnM/edit#gid=0\"\",\"\"RWA!F:BZ\"\"),49,0))\"),\"\")","v":""},{"$f":"IFERROR(__xludf.DUMMYFUNCTION(\"iferror(VLOOKUP(B941,IMPORTRANGE(\"\"https://docs.google.com/spreadsheets/d/1bphtMaJ6lFh0VVWIgQh8ZCOchBZqvj0w5rveiNYcTnM/edit#gid=0\"\",\"\"RWA!F:BZ\"\"),53,0))\"),\"\")","v":""}]
[null,null,null,{"$f":"IFERROR(__xludf.DUMMYFUNCTION(\"iferror(VLOOKUP(B942,IMPORTRANGE(\"\"https://docs.google.com/spreadsheets/d/1bphtMaJ6lFh0VVWIgQh8ZCOchBZqvj0w5rveiNYcTnM/edit#gid=0\"\",\"\"RWA!F:BZ\"\"),44,0))\"),\"\")","v":""},{"$f":"IFERROR(__xludf.DUMMYFUNCTION(\"iferror(VLOOKUP(B942,IMPORTRANGE(\"\"https://docs.google.com/spreadsheets/d/1bphtMaJ6lFh0VVWIgQh8ZCOchBZqvj0w5rveiNYcTnM/edit#gid=0\"\",\"\"RWA!F:BZ\"\"),48,0))\"),\"\")","v":""},{"$f":"IFERROR(__xludf.DUMMYFUNCTION(\"iferror(VLOOKUP(B942,IMPORTRANGE(\"\"https://docs.google.com/spreadsheets/d/1bphtMaJ6lFh0VVWIgQh8ZCOchBZqvj0w5rveiNYcTnM/edit#gid=0\"\",\"\"RWA!F:BZ\"\"),49,0))\"),\"\")","v":""},{"$f":"IFERROR(__xludf.DUMMYFUNCTION(\"iferror(VLOOKUP(B942,IMPORTRANGE(\"\"https://docs.google.com/spreadsheets/d/1bphtMaJ6lFh0VVWIgQh8ZCOchBZqvj0w5rveiNYcTnM/edit#gid=0\"\",\"\"RWA!F:BZ\"\"),53,0))\"),\"\")","v":""}]
[null,null,null,{"$f":"IFERROR(__xludf.DUMMYFUNCTION(\"iferror(VLOOKUP(B943,IMPORTRANGE(\"\"https://docs.google.com/spreadsheets/d/1bphtMaJ6lFh0VVWIgQh8ZCOchBZqvj0w5rveiNYcTnM/edit#gid=0\"\",\"\"RWA!F:BZ\"\"),44,0))\"),\"\")","v":""},{"$f":"IFERROR(__xludf.DUMMYFUNCTION(\"iferror(VLOOKUP(B943,IMPORTRANGE(\"\"https://docs.google.com/spreadsheets/d/1bphtMaJ6lFh0VVWIgQh8ZCOchBZqvj0w5rveiNYcTnM/edit#gid=0\"\",\"\"RWA!F:BZ\"\"),48,0))\"),\"\")","v":""},{"$f":"IFERROR(__xludf.DUMMYFUNCTION(\"iferror(VLOOKUP(B943,IMPORTRANGE(\"\"https://docs.google.com/spreadsheets/d/1bphtMaJ6lFh0VVWIgQh8ZCOchBZqvj0w5rveiNYcTnM/edit#gid=0\"\",\"\"RWA!F:BZ\"\"),49,0))\"),\"\")","v":""},{"$f":"IFERROR(__xludf.DUMMYFUNCTION(\"iferror(VLOOKUP(B943,IMPORTRANGE(\"\"https://docs.google.com/spreadsheets/d/1bphtMaJ6lFh0VVWIgQh8ZCOchBZqvj0w5rveiNYcTnM/edit#gid=0\"\",\"\"RWA!F:BZ\"\"),53,0))\"),\"\")","v":""}]
[null,null,null,{"$f":"IFERROR(__xludf.DUMMYFUNCTION(\"iferror(VLOOKUP(B944,IMPORTRANGE(\"\"https://docs.google.com/spreadsheets/d/1bphtMaJ6lFh0VVWIgQh8ZCOchBZqvj0w5rveiNYcTnM/edit#gid=0\"\",\"\"RWA!F:BZ\"\"),44,0))\"),\"\")","v":""},{"$f":"IFERROR(__xludf.DUMMYFUNCTION(\"iferror(VLOOKUP(B944,IMPORTRANGE(\"\"https://docs.google.com/spreadsheets/d/1bphtMaJ6lFh0VVWIgQh8ZCOchBZqvj0w5rveiNYcTnM/edit#gid=0\"\",\"\"RWA!F:BZ\"\"),48,0))\"),\"\")","v":""},{"$f":"IFERROR(__xludf.DUMMYFUNCTION(\"iferror(VLOOKUP(B944,IMPORTRANGE(\"\"https://docs.google.com/spreadsheets/d/1bphtMaJ6lFh0VVWIgQh8ZCOchBZqvj0w5rveiNYcTnM/edit#gid=0\"\",\"\"RWA!F:BZ\"\"),49,0))\"),\"\")","v":""},{"$f":"IFERROR(__xludf.DUMMYFUNCTION(\"iferror(VLOOKUP(B944,IMPORTRANGE(\"\"https://docs.google.com/spreadsheets/d/1bphtMaJ6lFh0VVWIgQh8ZCOchBZqvj0w5rveiNYcTnM/edit#gid=0\"\",\"\"RWA!F:BZ\"\"),53,0))\"),\"\")","v":""}]
[null,null,null,{"$f":"IFERROR(__xludf.DUMMYFUNCTION(\"iferror(VLOOKUP(B945,IMPORTRANGE(\"\"https://docs.google.com/spreadsheets/d/1bphtMaJ6lFh0VVWIgQh8ZCOchBZqvj0w5rveiNYcTnM/edit#gid=0\"\",\"\"RWA!F:BZ\"\"),44,0))\"),\"\")","v":""},{"$f":"IFERROR(__xludf.DUMMYFUNCTION(\"iferror(VLOOKUP(B945,IMPORTRANGE(\"\"https://docs.google.com/spreadsheets/d/1bphtMaJ6lFh0VVWIgQh8ZCOchBZqvj0w5rveiNYcTnM/edit#gid=0\"\",\"\"RWA!F:BZ\"\"),48,0))\"),\"\")","v":""},{"$f":"IFERROR(__xludf.DUMMYFUNCTION(\"iferror(VLOOKUP(B945,IMPORTRANGE(\"\"https://docs.google.com/spreadsheets/d/1bphtMaJ6lFh0VVWIgQh8ZCOchBZqvj0w5rveiNYcTnM/edit#gid=0\"\",\"\"RWA!F:BZ\"\"),49,0))\"),\"\")","v":""},{"$f":"IFERROR(__xludf.DUMMYFUNCTION(\"iferror(VLOOKUP(B945,IMPORTRANGE(\"\"https://docs.google.com/spreadsheets/d/1bphtMaJ6lFh0VVWIgQh8ZCOchBZqvj0w5rveiNYcTnM/edit#gid=0\"\",\"\"RWA!F:BZ\"\"),53,0))\"),\"\")","v":""}]
[null,null,null,{"$f":"IFERROR(__xludf.DUMMYFUNCTION(\"iferror(VLOOKUP(B946,IMPORTRANGE(\"\"https://docs.google.com/spreadsheets/d/1bphtMaJ6lFh0VVWIgQh8ZCOchBZqvj0w5rveiNYcTnM/edit#gid=0\"\",\"\"RWA!F:BZ\"\"),44,0))\"),\"\")","v":""},{"$f":"IFERROR(__xludf.DUMMYFUNCTION(\"iferror(VLOOKUP(B946,IMPORTRANGE(\"\"https://docs.google.com/spreadsheets/d/1bphtMaJ6lFh0VVWIgQh8ZCOchBZqvj0w5rveiNYcTnM/edit#gid=0\"\",\"\"RWA!F:BZ\"\"),48,0))\"),\"\")","v":""},{"$f":"IFERROR(__xludf.DUMMYFUNCTION(\"iferror(VLOOKUP(B946,IMPORTRANGE(\"\"https://docs.google.com/spreadsheets/d/1bphtMaJ6lFh0VVWIgQh8ZCOchBZqvj0w5rveiNYcTnM/edit#gid=0\"\",\"\"RWA!F:BZ\"\"),49,0))\"),\"\")","v":""},{"$f":"IFERROR(__xludf.DUMMYFUNCTION(\"iferror(VLOOKUP(B946,IMPORTRANGE(\"\"https://docs.google.com/spreadsheets/d/1bphtMaJ6lFh0VVWIgQh8ZCOchBZqvj0w5rveiNYcTnM/edit#gid=0\"\",\"\"RWA!F:BZ\"\"),53,0))\"),\"\")","v":""}]
[null,null,null,{"$f":"IFERROR(__xludf.DUMMYFUNCTION(\"iferror(VLOOKUP(B947,IMPORTRANGE(\"\"https://docs.google.com/spreadsheets/d/1bphtMaJ6lFh0VVWIgQh8ZCOchBZqvj0w5rveiNYcTnM/edit#gid=0\"\",\"\"RWA!F:BZ\"\"),44,0))\"),\"\")","v":""},{"$f":"IFERROR(__xludf.DUMMYFUNCTION(\"iferror(VLOOKUP(B947,IMPORTRANGE(\"\"https://docs.google.com/spreadsheets/d/1bphtMaJ6lFh0VVWIgQh8ZCOchBZqvj0w5rveiNYcTnM/edit#gid=0\"\",\"\"RWA!F:BZ\"\"),48,0))\"),\"\")","v":""},{"$f":"IFERROR(__xludf.DUMMYFUNCTION(\"iferror(VLOOKUP(B947,IMPORTRANGE(\"\"https://docs.google.com/spreadsheets/d/1bphtMaJ6lFh0VVWIgQh8ZCOchBZqvj0w5rveiNYcTnM/edit#gid=0\"\",\"\"RWA!F:BZ\"\"),49,0))\"),\"\")","v":""},{"$f":"IFERROR(__xludf.DUMMYFUNCTION(\"iferror(VLOOKUP(B947,IMPORTRANGE(\"\"https://docs.google.com/spreadsheets/d/1bphtMaJ6lFh0VVWIgQh8ZCOchBZqvj0w5rveiNYcTnM/edit#gid=0\"\",\"\"RWA!F:BZ\"\"),53,0))\"),\"\")","v":""}]
[null,null,null,{"$f":"IFERROR(__xludf.DUMMYFUNCTION(\"iferror(VLOOKUP(B948,IMPORTRANGE(\"\"https://docs.google.com/spreadsheets/d/1bphtMaJ6lFh0VVWIgQh8ZCOchBZqvj0w5rveiNYcTnM/edit#gid=0\"\",\"\"RWA!F:BZ\"\"),44,0))\"),\"\")","v":""},{"$f":"IFERROR(__xludf.DUMMYFUNCTION(\"iferror(VLOOKUP(B948,IMPORTRANGE(\"\"https://docs.google.com/spreadsheets/d/1bphtMaJ6lFh0VVWIgQh8ZCOchBZqvj0w5rveiNYcTnM/edit#gid=0\"\",\"\"RWA!F:BZ\"\"),48,0))\"),\"\")","v":""},{"$f":"IFERROR(__xludf.DUMMYFUNCTION(\"iferror(VLOOKUP(B948,IMPORTRANGE(\"\"https://docs.google.com/spreadsheets/d/1bphtMaJ6lFh0VVWIgQh8ZCOchBZqvj0w5rveiNYcTnM/edit#gid=0\"\",\"\"RWA!F:BZ\"\"),49,0))\"),\"\")","v":""},{"$f":"IFERROR(__xludf.DUMMYFUNCTION(\"iferror(VLOOKUP(B948,IMPORTRANGE(\"\"https://docs.google.com/spreadsheets/d/1bphtMaJ6lFh0VVWIgQh8ZCOchBZqvj0w5rveiNYcTnM/edit#gid=0\"\",\"\"RWA!F:BZ\"\"),53,0))\"),\"\")","v":""}]
[null,null,null,{"$f":"IFERROR(__xludf.DUMMYFUNCTION(\"iferror(VLOOKUP(B949,IMPORTRANGE(\"\"https://docs.google.com/spreadsheets/d/1bphtMaJ6lFh0VVWIgQh8ZCOchBZqvj0w5rveiNYcTnM/edit#gid=0\"\",\"\"RWA!F:BZ\"\"),44,0))\"),\"\")","v":""},{"$f":"IFERROR(__xludf.DUMMYFUNCTION(\"iferror(VLOOKUP(B949,IMPORTRANGE(\"\"https://docs.google.com/spreadsheets/d/1bphtMaJ6lFh0VVWIgQh8ZCOchBZqvj0w5rveiNYcTnM/edit#gid=0\"\",\"\"RWA!F:BZ\"\"),48,0))\"),\"\")","v":""},{"$f":"IFERROR(__xludf.DUMMYFUNCTION(\"iferror(VLOOKUP(B949,IMPORTRANGE(\"\"https://docs.google.com/spreadsheets/d/1bphtMaJ6lFh0VVWIgQh8ZCOchBZqvj0w5rveiNYcTnM/edit#gid=0\"\",\"\"RWA!F:BZ\"\"),49,0))\"),\"\")","v":""},{"$f":"IFERROR(__xludf.DUMMYFUNCTION(\"iferror(VLOOKUP(B949,IMPORTRANGE(\"\"https://docs.google.com/spreadsheets/d/1bphtMaJ6lFh0VVWIgQh8ZCOchBZqvj0w5rveiNYcTnM/edit#gid=0\"\",\"\"RWA!F:BZ\"\"),53,0))\"),\"\")","v":""}]
[null,null,null,{"$f":"IFERROR(__xludf.DUMMYFUNCTION(\"iferror(VLOOKUP(B950,IMPORTRANGE(\"\"https://docs.google.com/spreadsheets/d/1bphtMaJ6lFh0VVWIgQh8ZCOchBZqvj0w5rveiNYcTnM/edit#gid=0\"\",\"\"RWA!F:BZ\"\"),44,0))\"),\"\")","v":""},{"$f":"IFERROR(__xludf.DUMMYFUNCTION(\"iferror(VLOOKUP(B950,IMPORTRANGE(\"\"https://docs.google.com/spreadsheets/d/1bphtMaJ6lFh0VVWIgQh8ZCOchBZqvj0w5rveiNYcTnM/edit#gid=0\"\",\"\"RWA!F:BZ\"\"),48,0))\"),\"\")","v":""},{"$f":"IFERROR(__xludf.DUMMYFUNCTION(\"iferror(VLOOKUP(B950,IMPORTRANGE(\"\"https://docs.google.com/spreadsheets/d/1bphtMaJ6lFh0VVWIgQh8ZCOchBZqvj0w5rveiNYcTnM/edit#gid=0\"\",\"\"RWA!F:BZ\"\"),49,0))\"),\"\")","v":""},{"$f":"IFERROR(__xludf.DUMMYFUNCTION(\"iferror(VLOOKUP(B950,IMPORTRANGE(\"\"https://docs.google.com/spreadsheets/d/1bphtMaJ6lFh0VVWIgQh8ZCOchBZqvj0w5rveiNYcTnM/edit#gid=0\"\",\"\"RWA!F:BZ\"\"),53,0))\"),\"\")","v":""}]
[null,null,null,{"$f":"IFERROR(__xludf.DUMMYFUNCTION(\"iferror(VLOOKUP(B951,IMPORTRANGE(\"\"https://docs.google.com/spreadsheets/d/1bphtMaJ6lFh0VVWIgQh8ZCOchBZqvj0w5rveiNYcTnM/edit#gid=0\"\",\"\"RWA!F:BZ\"\"),44,0))\"),\"\")","v":""},{"$f":"IFERROR(__xludf.DUMMYFUNCTION(\"iferror(VLOOKUP(B951,IMPORTRANGE(\"\"https://docs.google.com/spreadsheets/d/1bphtMaJ6lFh0VVWIgQh8ZCOchBZqvj0w5rveiNYcTnM/edit#gid=0\"\",\"\"RWA!F:BZ\"\"),48,0))\"),\"\")","v":""},{"$f":"IFERROR(__xludf.DUMMYFUNCTION(\"iferror(VLOOKUP(B951,IMPORTRANGE(\"\"https://docs.google.com/spreadsheets/d/1bphtMaJ6lFh0VVWIgQh8ZCOchBZqvj0w5rveiNYcTnM/edit#gid=0\"\",\"\"RWA!F:BZ\"\"),49,0))\"),\"\")","v":""},{"$f":"IFERROR(__xludf.DUMMYFUNCTION(\"iferror(VLOOKUP(B951,IMPORTRANGE(\"\"https://docs.google.com/spreadsheets/d/1bphtMaJ6lFh0VVWIgQh8ZCOchBZqvj0w5rveiNYcTnM/edit#gid=0\"\",\"\"RWA!F:BZ\"\"),53,0))\"),\"\")","v":""}]
[null,null,null,{"$f":"IFERROR(__xludf.DUMMYFUNCTION(\"iferror(VLOOKUP(B952,IMPORTRANGE(\"\"https://docs.google.com/spreadsheets/d/1bphtMaJ6lFh0VVWIgQh8ZCOchBZqvj0w5rveiNYcTnM/edit#gid=0\"\",\"\"RWA!F:BZ\"\"),44,0))\"),\"\")","v":""},{"$f":"IFERROR(__xludf.DUMMYFUNCTION(\"iferror(VLOOKUP(B952,IMPORTRANGE(\"\"https://docs.google.com/spreadsheets/d/1bphtMaJ6lFh0VVWIgQh8ZCOchBZqvj0w5rveiNYcTnM/edit#gid=0\"\",\"\"RWA!F:BZ\"\"),48,0))\"),\"\")","v":""},{"$f":"IFERROR(__xludf.DUMMYFUNCTION(\"iferror(VLOOKUP(B952,IMPORTRANGE(\"\"https://docs.google.com/spreadsheets/d/1bphtMaJ6lFh0VVWIgQh8ZCOchBZqvj0w5rveiNYcTnM/edit#gid=0\"\",\"\"RWA!F:BZ\"\"),49,0))\"),\"\")","v":""},{"$f":"IFERROR(__xludf.DUMMYFUNCTION(\"iferror(VLOOKUP(B952,IMPORTRANGE(\"\"https://docs.google.com/spreadsheets/d/1bphtMaJ6lFh0VVWIgQh8ZCOchBZqvj0w5rveiNYcTnM/edit#gid=0\"\",\"\"RWA!F:BZ\"\"),53,0))\"),\"\")","v":""}]
[null,null,null,{"$f":"IFERROR(__xludf.DUMMYFUNCTION(\"iferror(VLOOKUP(B953,IMPORTRANGE(\"\"https://docs.google.com/spreadsheets/d/1bphtMaJ6lFh0VVWIgQh8ZCOchBZqvj0w5rveiNYcTnM/edit#gid=0\"\",\"\"RWA!F:BZ\"\"),44,0))\"),\"\")","v":""},{"$f":"IFERROR(__xludf.DUMMYFUNCTION(\"iferror(VLOOKUP(B953,IMPORTRANGE(\"\"https://docs.google.com/spreadsheets/d/1bphtMaJ6lFh0VVWIgQh8ZCOchBZqvj0w5rveiNYcTnM/edit#gid=0\"\",\"\"RWA!F:BZ\"\"),48,0))\"),\"\")","v":""},{"$f":"IFERROR(__xludf.DUMMYFUNCTION(\"iferror(VLOOKUP(B953,IMPORTRANGE(\"\"https://docs.google.com/spreadsheets/d/1bphtMaJ6lFh0VVWIgQh8ZCOchBZqvj0w5rveiNYcTnM/edit#gid=0\"\",\"\"RWA!F:BZ\"\"),49,0))\"),\"\")","v":""},{"$f":"IFERROR(__xludf.DUMMYFUNCTION(\"iferror(VLOOKUP(B953,IMPORTRANGE(\"\"https://docs.google.com/spreadsheets/d/1bphtMaJ6lFh0VVWIgQh8ZCOchBZqvj0w5rveiNYcTnM/edit#gid=0\"\",\"\"RWA!F:BZ\"\"),53,0))\"),\"\")","v":""}]
[null,null,null,{"$f":"IFERROR(__xludf.DUMMYFUNCTION(\"iferror(VLOOKUP(B954,IMPORTRANGE(\"\"https://docs.google.com/spreadsheets/d/1bphtMaJ6lFh0VVWIgQh8ZCOchBZqvj0w5rveiNYcTnM/edit#gid=0\"\",\"\"RWA!F:BZ\"\"),44,0))\"),\"\")","v":""},{"$f":"IFERROR(__xludf.DUMMYFUNCTION(\"iferror(VLOOKUP(B954,IMPORTRANGE(\"\"https://docs.google.com/spreadsheets/d/1bphtMaJ6lFh0VVWIgQh8ZCOchBZqvj0w5rveiNYcTnM/edit#gid=0\"\",\"\"RWA!F:BZ\"\"),48,0))\"),\"\")","v":""},{"$f":"IFERROR(__xludf.DUMMYFUNCTION(\"iferror(VLOOKUP(B954,IMPORTRANGE(\"\"https://docs.google.com/spreadsheets/d/1bphtMaJ6lFh0VVWIgQh8ZCOchBZqvj0w5rveiNYcTnM/edit#gid=0\"\",\"\"RWA!F:BZ\"\"),49,0))\"),\"\")","v":""},{"$f":"IFERROR(__xludf.DUMMYFUNCTION(\"iferror(VLOOKUP(B954,IMPORTRANGE(\"\"https://docs.google.com/spreadsheets/d/1bphtMaJ6lFh0VVWIgQh8ZCOchBZqvj0w5rveiNYcTnM/edit#gid=0\"\",\"\"RWA!F:BZ\"\"),53,0))\"),\"\")","v":""}]
[null,null,null,{"$f":"IFERROR(__xludf.DUMMYFUNCTION(\"iferror(VLOOKUP(B955,IMPORTRANGE(\"\"https://docs.google.com/spreadsheets/d/1bphtMaJ6lFh0VVWIgQh8ZCOchBZqvj0w5rveiNYcTnM/edit#gid=0\"\",\"\"RWA!F:BZ\"\"),44,0))\"),\"\")","v":""},{"$f":"IFERROR(__xludf.DUMMYFUNCTION(\"iferror(VLOOKUP(B955,IMPORTRANGE(\"\"https://docs.google.com/spreadsheets/d/1bphtMaJ6lFh0VVWIgQh8ZCOchBZqvj0w5rveiNYcTnM/edit#gid=0\"\",\"\"RWA!F:BZ\"\"),48,0))\"),\"\")","v":""},{"$f":"IFERROR(__xludf.DUMMYFUNCTION(\"iferror(VLOOKUP(B955,IMPORTRANGE(\"\"https://docs.google.com/spreadsheets/d/1bphtMaJ6lFh0VVWIgQh8ZCOchBZqvj0w5rveiNYcTnM/edit#gid=0\"\",\"\"RWA!F:BZ\"\"),49,0))\"),\"\")","v":""},{"$f":"IFERROR(__xludf.DUMMYFUNCTION(\"iferror(VLOOKUP(B955,IMPORTRANGE(\"\"https://docs.google.com/spreadsheets/d/1bphtMaJ6lFh0VVWIgQh8ZCOchBZqvj0w5rveiNYcTnM/edit#gid=0\"\",\"\"RWA!F:BZ\"\"),53,0))\"),\"\")","v":""}]
[null,null,null,{"$f":"IFERROR(__xludf.DUMMYFUNCTION(\"iferror(VLOOKUP(B956,IMPORTRANGE(\"\"https://docs.google.com/spreadsheets/d/1bphtMaJ6lFh0VVWIgQh8ZCOchBZqvj0w5rveiNYcTnM/edit#gid=0\"\",\"\"RWA!F:BZ\"\"),44,0))\"),\"\")","v":""},{"$f":"IFERROR(__xludf.DUMMYFUNCTION(\"iferror(VLOOKUP(B956,IMPORTRANGE(\"\"https://docs.google.com/spreadsheets/d/1bphtMaJ6lFh0VVWIgQh8ZCOchBZqvj0w5rveiNYcTnM/edit#gid=0\"\",\"\"RWA!F:BZ\"\"),48,0))\"),\"\")","v":""},{"$f":"IFERROR(__xludf.DUMMYFUNCTION(\"iferror(VLOOKUP(B956,IMPORTRANGE(\"\"https://docs.google.com/spreadsheets/d/1bphtMaJ6lFh0VVWIgQh8ZCOchBZqvj0w5rveiNYcTnM/edit#gid=0\"\",\"\"RWA!F:BZ\"\"),49,0))\"),\"\")","v":""},{"$f":"IFERROR(__xludf.DUMMYFUNCTION(\"iferror(VLOOKUP(B956,IMPORTRANGE(\"\"https://docs.google.com/spreadsheets/d/1bphtMaJ6lFh0VVWIgQh8ZCOchBZqvj0w5rveiNYcTnM/edit#gid=0\"\",\"\"RWA!F:BZ\"\"),53,0))\"),\"\")","v":""}]
[null,null,null,{"$f":"IFERROR(__xludf.DUMMYFUNCTION(\"iferror(VLOOKUP(B957,IMPORTRANGE(\"\"https://docs.google.com/spreadsheets/d/1bphtMaJ6lFh0VVWIgQh8ZCOchBZqvj0w5rveiNYcTnM/edit#gid=0\"\",\"\"RWA!F:BZ\"\"),44,0))\"),\"\")","v":""},{"$f":"IFERROR(__xludf.DUMMYFUNCTION(\"iferror(VLOOKUP(B957,IMPORTRANGE(\"\"https://docs.google.com/spreadsheets/d/1bphtMaJ6lFh0VVWIgQh8ZCOchBZqvj0w5rveiNYcTnM/edit#gid=0\"\",\"\"RWA!F:BZ\"\"),48,0))\"),\"\")","v":""},{"$f":"IFERROR(__xludf.DUMMYFUNCTION(\"iferror(VLOOKUP(B957,IMPORTRANGE(\"\"https://docs.google.com/spreadsheets/d/1bphtMaJ6lFh0VVWIgQh8ZCOchBZqvj0w5rveiNYcTnM/edit#gid=0\"\",\"\"RWA!F:BZ\"\"),49,0))\"),\"\")","v":""},{"$f":"IFERROR(__xludf.DUMMYFUNCTION(\"iferror(VLOOKUP(B957,IMPORTRANGE(\"\"https://docs.google.com/spreadsheets/d/1bphtMaJ6lFh0VVWIgQh8ZCOchBZqvj0w5rveiNYcTnM/edit#gid=0\"\",\"\"RWA!F:BZ\"\"),53,0))\"),\"\")","v":""}]
[null,null,null,{"$f":"IFERROR(__xludf.DUMMYFUNCTION(\"iferror(VLOOKUP(B958,IMPORTRANGE(\"\"https://docs.google.com/spreadsheets/d/1bphtMaJ6lFh0VVWIgQh8ZCOchBZqvj0w5rveiNYcTnM/edit#gid=0\"\",\"\"RWA!F:BZ\"\"),44,0))\"),\"\")","v":""},{"$f":"IFERROR(__xludf.DUMMYFUNCTION(\"iferror(VLOOKUP(B958,IMPORTRANGE(\"\"https://docs.google.com/spreadsheets/d/1bphtMaJ6lFh0VVWIgQh8ZCOchBZqvj0w5rveiNYcTnM/edit#gid=0\"\",\"\"RWA!F:BZ\"\"),48,0))\"),\"\")","v":""},{"$f":"IFERROR(__xludf.DUMMYFUNCTION(\"iferror(VLOOKUP(B958,IMPORTRANGE(\"\"https://docs.google.com/spreadsheets/d/1bphtMaJ6lFh0VVWIgQh8ZCOchBZqvj0w5rveiNYcTnM/edit#gid=0\"\",\"\"RWA!F:BZ\"\"),49,0))\"),\"\")","v":""},{"$f":"IFERROR(__xludf.DUMMYFUNCTION(\"iferror(VLOOKUP(B958,IMPORTRANGE(\"\"https://docs.google.com/spreadsheets/d/1bphtMaJ6lFh0VVWIgQh8ZCOchBZqvj0w5rveiNYcTnM/edit#gid=0\"\",\"\"RWA!F:BZ\"\"),53,0))\"),\"\")","v":""}]
[null,null,null,{"$f":"IFERROR(__xludf.DUMMYFUNCTION(\"iferror(VLOOKUP(B959,IMPORTRANGE(\"\"https://docs.google.com/spreadsheets/d/1bphtMaJ6lFh0VVWIgQh8ZCOchBZqvj0w5rveiNYcTnM/edit#gid=0\"\",\"\"RWA!F:BZ\"\"),44,0))\"),\"\")","v":""},{"$f":"IFERROR(__xludf.DUMMYFUNCTION(\"iferror(VLOOKUP(B959,IMPORTRANGE(\"\"https://docs.google.com/spreadsheets/d/1bphtMaJ6lFh0VVWIgQh8ZCOchBZqvj0w5rveiNYcTnM/edit#gid=0\"\",\"\"RWA!F:BZ\"\"),48,0))\"),\"\")","v":""},{"$f":"IFERROR(__xludf.DUMMYFUNCTION(\"iferror(VLOOKUP(B959,IMPORTRANGE(\"\"https://docs.google.com/spreadsheets/d/1bphtMaJ6lFh0VVWIgQh8ZCOchBZqvj0w5rveiNYcTnM/edit#gid=0\"\",\"\"RWA!F:BZ\"\"),49,0))\"),\"\")","v":""},{"$f":"IFERROR(__xludf.DUMMYFUNCTION(\"iferror(VLOOKUP(B959,IMPORTRANGE(\"\"https://docs.google.com/spreadsheets/d/1bphtMaJ6lFh0VVWIgQh8ZCOchBZqvj0w5rveiNYcTnM/edit#gid=0\"\",\"\"RWA!F:BZ\"\"),53,0))\"),\"\")","v":""}]
[null,null,null,{"$f":"IFERROR(__xludf.DUMMYFUNCTION(\"iferror(VLOOKUP(B960,IMPORTRANGE(\"\"https://docs.google.com/spreadsheets/d/1bphtMaJ6lFh0VVWIgQh8ZCOchBZqvj0w5rveiNYcTnM/edit#gid=0\"\",\"\"RWA!F:BZ\"\"),44,0))\"),\"\")","v":""},{"$f":"IFERROR(__xludf.DUMMYFUNCTION(\"iferror(VLOOKUP(B960,IMPORTRANGE(\"\"https://docs.google.com/spreadsheets/d/1bphtMaJ6lFh0VVWIgQh8ZCOchBZqvj0w5rveiNYcTnM/edit#gid=0\"\",\"\"RWA!F:BZ\"\"),48,0))\"),\"\")","v":""},{"$f":"IFERROR(__xludf.DUMMYFUNCTION(\"iferror(VLOOKUP(B960,IMPORTRANGE(\"\"https://docs.google.com/spreadsheets/d/1bphtMaJ6lFh0VVWIgQh8ZCOchBZqvj0w5rveiNYcTnM/edit#gid=0\"\",\"\"RWA!F:BZ\"\"),49,0))\"),\"\")","v":""},{"$f":"IFERROR(__xludf.DUMMYFUNCTION(\"iferror(VLOOKUP(B960,IMPORTRANGE(\"\"https://docs.google.com/spreadsheets/d/1bphtMaJ6lFh0VVWIgQh8ZCOchBZqvj0w5rveiNYcTnM/edit#gid=0\"\",\"\"RWA!F:BZ\"\"),53,0))\"),\"\")","v":""}]
[null,null,null,{"$f":"IFERROR(__xludf.DUMMYFUNCTION(\"iferror(VLOOKUP(B961,IMPORTRANGE(\"\"https://docs.google.com/spreadsheets/d/1bphtMaJ6lFh0VVWIgQh8ZCOchBZqvj0w5rveiNYcTnM/edit#gid=0\"\",\"\"RWA!F:BZ\"\"),44,0))\"),\"\")","v":""},{"$f":"IFERROR(__xludf.DUMMYFUNCTION(\"iferror(VLOOKUP(B961,IMPORTRANGE(\"\"https://docs.google.com/spreadsheets/d/1bphtMaJ6lFh0VVWIgQh8ZCOchBZqvj0w5rveiNYcTnM/edit#gid=0\"\",\"\"RWA!F:BZ\"\"),48,0))\"),\"\")","v":""},{"$f":"IFERROR(__xludf.DUMMYFUNCTION(\"iferror(VLOOKUP(B961,IMPORTRANGE(\"\"https://docs.google.com/spreadsheets/d/1bphtMaJ6lFh0VVWIgQh8ZCOchBZqvj0w5rveiNYcTnM/edit#gid=0\"\",\"\"RWA!F:BZ\"\"),49,0))\"),\"\")","v":""},{"$f":"IFERROR(__xludf.DUMMYFUNCTION(\"iferror(VLOOKUP(B961,IMPORTRANGE(\"\"https://docs.google.com/spreadsheets/d/1bphtMaJ6lFh0VVWIgQh8ZCOchBZqvj0w5rveiNYcTnM/edit#gid=0\"\",\"\"RWA!F:BZ\"\"),53,0))\"),\"\")","v":""}]
[null,null,null,{"$f":"IFERROR(__xludf.DUMMYFUNCTION(\"iferror(VLOOKUP(B962,IMPORTRANGE(\"\"https://docs.google.com/spreadsheets/d/1bphtMaJ6lFh0VVWIgQh8ZCOchBZqvj0w5rveiNYcTnM/edit#gid=0\"\",\"\"RWA!F:BZ\"\"),44,0))\"),\"\")","v":""},{"$f":"IFERROR(__xludf.DUMMYFUNCTION(\"iferror(VLOOKUP(B962,IMPORTRANGE(\"\"https://docs.google.com/spreadsheets/d/1bphtMaJ6lFh0VVWIgQh8ZCOchBZqvj0w5rveiNYcTnM/edit#gid=0\"\",\"\"RWA!F:BZ\"\"),48,0))\"),\"\")","v":""},{"$f":"IFERROR(__xludf.DUMMYFUNCTION(\"iferror(VLOOKUP(B962,IMPORTRANGE(\"\"https://docs.google.com/spreadsheets/d/1bphtMaJ6lFh0VVWIgQh8ZCOchBZqvj0w5rveiNYcTnM/edit#gid=0\"\",\"\"RWA!F:BZ\"\"),49,0))\"),\"\")","v":""},{"$f":"IFERROR(__xludf.DUMMYFUNCTION(\"iferror(VLOOKUP(B962,IMPORTRANGE(\"\"https://docs.google.com/spreadsheets/d/1bphtMaJ6lFh0VVWIgQh8ZCOchBZqvj0w5rveiNYcTnM/edit#gid=0\"\",\"\"RWA!F:BZ\"\"),53,0))\"),\"\")","v":""}]
[null,null,null,{"$f":"IFERROR(__xludf.DUMMYFUNCTION(\"iferror(VLOOKUP(B963,IMPORTRANGE(\"\"https://docs.google.com/spreadsheets/d/1bphtMaJ6lFh0VVWIgQh8ZCOchBZqvj0w5rveiNYcTnM/edit#gid=0\"\",\"\"RWA!F:BZ\"\"),44,0))\"),\"\")","v":""},{"$f":"IFERROR(__xludf.DUMMYFUNCTION(\"iferror(VLOOKUP(B963,IMPORTRANGE(\"\"https://docs.google.com/spreadsheets/d/1bphtMaJ6lFh0VVWIgQh8ZCOchBZqvj0w5rveiNYcTnM/edit#gid=0\"\",\"\"RWA!F:BZ\"\"),48,0))\"),\"\")","v":""},{"$f":"IFERROR(__xludf.DUMMYFUNCTION(\"iferror(VLOOKUP(B963,IMPORTRANGE(\"\"https://docs.google.com/spreadsheets/d/1bphtMaJ6lFh0VVWIgQh8ZCOchBZqvj0w5rveiNYcTnM/edit#gid=0\"\",\"\"RWA!F:BZ\"\"),49,0))\"),\"\")","v":""},{"$f":"IFERROR(__xludf.DUMMYFUNCTION(\"iferror(VLOOKUP(B963,IMPORTRANGE(\"\"https://docs.google.com/spreadsheets/d/1bphtMaJ6lFh0VVWIgQh8ZCOchBZqvj0w5rveiNYcTnM/edit#gid=0\"\",\"\"RWA!F:BZ\"\"),53,0))\"),\"\")","v":""}]
[null,null,null,{"$f":"IFERROR(__xludf.DUMMYFUNCTION(\"iferror(VLOOKUP(B964,IMPORTRANGE(\"\"https://docs.google.com/spreadsheets/d/1bphtMaJ6lFh0VVWIgQh8ZCOchBZqvj0w5rveiNYcTnM/edit#gid=0\"\",\"\"RWA!F:BZ\"\"),44,0))\"),\"\")","v":""},{"$f":"IFERROR(__xludf.DUMMYFUNCTION(\"iferror(VLOOKUP(B964,IMPORTRANGE(\"\"https://docs.google.com/spreadsheets/d/1bphtMaJ6lFh0VVWIgQh8ZCOchBZqvj0w5rveiNYcTnM/edit#gid=0\"\",\"\"RWA!F:BZ\"\"),48,0))\"),\"\")","v":""},{"$f":"IFERROR(__xludf.DUMMYFUNCTION(\"iferror(VLOOKUP(B964,IMPORTRANGE(\"\"https://docs.google.com/spreadsheets/d/1bphtMaJ6lFh0VVWIgQh8ZCOchBZqvj0w5rveiNYcTnM/edit#gid=0\"\",\"\"RWA!F:BZ\"\"),49,0))\"),\"\")","v":""},{"$f":"IFERROR(__xludf.DUMMYFUNCTION(\"iferror(VLOOKUP(B964,IMPORTRANGE(\"\"https://docs.google.com/spreadsheets/d/1bphtMaJ6lFh0VVWIgQh8ZCOchBZqvj0w5rveiNYcTnM/edit#gid=0\"\",\"\"RWA!F:BZ\"\"),53,0))\"),\"\")","v":""}]
[null,null,null,{"$f":"IFERROR(__xludf.DUMMYFUNCTION(\"iferror(VLOOKUP(B965,IMPORTRANGE(\"\"https://docs.google.com/spreadsheets/d/1bphtMaJ6lFh0VVWIgQh8ZCOchBZqvj0w5rveiNYcTnM/edit#gid=0\"\",\"\"RWA!F:BZ\"\"),44,0))\"),\"\")","v":""},{"$f":"IFERROR(__xludf.DUMMYFUNCTION(\"iferror(VLOOKUP(B965,IMPORTRANGE(\"\"https://docs.google.com/spreadsheets/d/1bphtMaJ6lFh0VVWIgQh8ZCOchBZqvj0w5rveiNYcTnM/edit#gid=0\"\",\"\"RWA!F:BZ\"\"),48,0))\"),\"\")","v":""},{"$f":"IFERROR(__xludf.DUMMYFUNCTION(\"iferror(VLOOKUP(B965,IMPORTRANGE(\"\"https://docs.google.com/spreadsheets/d/1bphtMaJ6lFh0VVWIgQh8ZCOchBZqvj0w5rveiNYcTnM/edit#gid=0\"\",\"\"RWA!F:BZ\"\"),49,0))\"),\"\")","v":""},{"$f":"IFERROR(__xludf.DUMMYFUNCTION(\"iferror(VLOOKUP(B965,IMPORTRANGE(\"\"https://docs.google.com/spreadsheets/d/1bphtMaJ6lFh0VVWIgQh8ZCOchBZqvj0w5rveiNYcTnM/edit#gid=0\"\",\"\"RWA!F:BZ\"\"),53,0))\"),\"\")","v":""}]
[null,null,null,{"$f":"IFERROR(__xludf.DUMMYFUNCTION(\"iferror(VLOOKUP(B966,IMPORTRANGE(\"\"https://docs.google.com/spreadsheets/d/1bphtMaJ6lFh0VVWIgQh8ZCOchBZqvj0w5rveiNYcTnM/edit#gid=0\"\",\"\"RWA!F:BZ\"\"),44,0))\"),\"\")","v":""},{"$f":"IFERROR(__xludf.DUMMYFUNCTION(\"iferror(VLOOKUP(B966,IMPORTRANGE(\"\"https://docs.google.com/spreadsheets/d/1bphtMaJ6lFh0VVWIgQh8ZCOchBZqvj0w5rveiNYcTnM/edit#gid=0\"\",\"\"RWA!F:BZ\"\"),48,0))\"),\"\")","v":""},{"$f":"IFERROR(__xludf.DUMMYFUNCTION(\"iferror(VLOOKUP(B966,IMPORTRANGE(\"\"https://docs.google.com/spreadsheets/d/1bphtMaJ6lFh0VVWIgQh8ZCOchBZqvj0w5rveiNYcTnM/edit#gid=0\"\",\"\"RWA!F:BZ\"\"),49,0))\"),\"\")","v":""},{"$f":"IFERROR(__xludf.DUMMYFUNCTION(\"iferror(VLOOKUP(B966,IMPORTRANGE(\"\"https://docs.google.com/spreadsheets/d/1bphtMaJ6lFh0VVWIgQh8ZCOchBZqvj0w5rveiNYcTnM/edit#gid=0\"\",\"\"RWA!F:BZ\"\"),53,0))\"),\"\")","v":""}]
[null,null,null,{"$f":"IFERROR(__xludf.DUMMYFUNCTION(\"iferror(VLOOKUP(B967,IMPORTRANGE(\"\"https://docs.google.com/spreadsheets/d/1bphtMaJ6lFh0VVWIgQh8ZCOchBZqvj0w5rveiNYcTnM/edit#gid=0\"\",\"\"RWA!F:BZ\"\"),44,0))\"),\"\")","v":""},{"$f":"IFERROR(__xludf.DUMMYFUNCTION(\"iferror(VLOOKUP(B967,IMPORTRANGE(\"\"https://docs.google.com/spreadsheets/d/1bphtMaJ6lFh0VVWIgQh8ZCOchBZqvj0w5rveiNYcTnM/edit#gid=0\"\",\"\"RWA!F:BZ\"\"),48,0))\"),\"\")","v":""},{"$f":"IFERROR(__xludf.DUMMYFUNCTION(\"iferror(VLOOKUP(B967,IMPORTRANGE(\"\"https://docs.google.com/spreadsheets/d/1bphtMaJ6lFh0VVWIgQh8ZCOchBZqvj0w5rveiNYcTnM/edit#gid=0\"\",\"\"RWA!F:BZ\"\"),49,0))\"),\"\")","v":""},{"$f":"IFERROR(__xludf.DUMMYFUNCTION(\"iferror(VLOOKUP(B967,IMPORTRANGE(\"\"https://docs.google.com/spreadsheets/d/1bphtMaJ6lFh0VVWIgQh8ZCOchBZqvj0w5rveiNYcTnM/edit#gid=0\"\",\"\"RWA!F:BZ\"\"),53,0))\"),\"\")","v":""}]
[null,null,null,{"$f":"IFERROR(__xludf.DUMMYFUNCTION(\"iferror(VLOOKUP(B968,IMPORTRANGE(\"\"https://docs.google.com/spreadsheets/d/1bphtMaJ6lFh0VVWIgQh8ZCOchBZqvj0w5rveiNYcTnM/edit#gid=0\"\",\"\"RWA!F:BZ\"\"),44,0))\"),\"\")","v":""},{"$f":"IFERROR(__xludf.DUMMYFUNCTION(\"iferror(VLOOKUP(B968,IMPORTRANGE(\"\"https://docs.google.com/spreadsheets/d/1bphtMaJ6lFh0VVWIgQh8ZCOchBZqvj0w5rveiNYcTnM/edit#gid=0\"\",\"\"RWA!F:BZ\"\"),48,0))\"),\"\")","v":""},{"$f":"IFERROR(__xludf.DUMMYFUNCTION(\"iferror(VLOOKUP(B968,IMPORTRANGE(\"\"https://docs.google.com/spreadsheets/d/1bphtMaJ6lFh0VVWIgQh8ZCOchBZqvj0w5rveiNYcTnM/edit#gid=0\"\",\"\"RWA!F:BZ\"\"),49,0))\"),\"\")","v":""},{"$f":"IFERROR(__xludf.DUMMYFUNCTION(\"iferror(VLOOKUP(B968,IMPORTRANGE(\"\"https://docs.google.com/spreadsheets/d/1bphtMaJ6lFh0VVWIgQh8ZCOchBZqvj0w5rveiNYcTnM/edit#gid=0\"\",\"\"RWA!F:BZ\"\"),53,0))\"),\"\")","v":""}]
[null,null,null,{"$f":"IFERROR(__xludf.DUMMYFUNCTION(\"iferror(VLOOKUP(B969,IMPORTRANGE(\"\"https://docs.google.com/spreadsheets/d/1bphtMaJ6lFh0VVWIgQh8ZCOchBZqvj0w5rveiNYcTnM/edit#gid=0\"\",\"\"RWA!F:BZ\"\"),44,0))\"),\"\")","v":""},{"$f":"IFERROR(__xludf.DUMMYFUNCTION(\"iferror(VLOOKUP(B969,IMPORTRANGE(\"\"https://docs.google.com/spreadsheets/d/1bphtMaJ6lFh0VVWIgQh8ZCOchBZqvj0w5rveiNYcTnM/edit#gid=0\"\",\"\"RWA!F:BZ\"\"),48,0))\"),\"\")","v":""},{"$f":"IFERROR(__xludf.DUMMYFUNCTION(\"iferror(VLOOKUP(B969,IMPORTRANGE(\"\"https://docs.google.com/spreadsheets/d/1bphtMaJ6lFh0VVWIgQh8ZCOchBZqvj0w5rveiNYcTnM/edit#gid=0\"\",\"\"RWA!F:BZ\"\"),49,0))\"),\"\")","v":""},{"$f":"IFERROR(__xludf.DUMMYFUNCTION(\"iferror(VLOOKUP(B969,IMPORTRANGE(\"\"https://docs.google.com/spreadsheets/d/1bphtMaJ6lFh0VVWIgQh8ZCOchBZqvj0w5rveiNYcTnM/edit#gid=0\"\",\"\"RWA!F:BZ\"\"),53,0))\"),\"\")","v":""}]
[null,null,null,{"$f":"IFERROR(__xludf.DUMMYFUNCTION(\"iferror(VLOOKUP(B970,IMPORTRANGE(\"\"https://docs.google.com/spreadsheets/d/1bphtMaJ6lFh0VVWIgQh8ZCOchBZqvj0w5rveiNYcTnM/edit#gid=0\"\",\"\"RWA!F:BZ\"\"),44,0))\"),\"\")","v":""},{"$f":"IFERROR(__xludf.DUMMYFUNCTION(\"iferror(VLOOKUP(B970,IMPORTRANGE(\"\"https://docs.google.com/spreadsheets/d/1bphtMaJ6lFh0VVWIgQh8ZCOchBZqvj0w5rveiNYcTnM/edit#gid=0\"\",\"\"RWA!F:BZ\"\"),48,0))\"),\"\")","v":""},{"$f":"IFERROR(__xludf.DUMMYFUNCTION(\"iferror(VLOOKUP(B970,IMPORTRANGE(\"\"https://docs.google.com/spreadsheets/d/1bphtMaJ6lFh0VVWIgQh8ZCOchBZqvj0w5rveiNYcTnM/edit#gid=0\"\",\"\"RWA!F:BZ\"\"),49,0))\"),\"\")","v":""},{"$f":"IFERROR(__xludf.DUMMYFUNCTION(\"iferror(VLOOKUP(B970,IMPORTRANGE(\"\"https://docs.google.com/spreadsheets/d/1bphtMaJ6lFh0VVWIgQh8ZCOchBZqvj0w5rveiNYcTnM/edit#gid=0\"\",\"\"RWA!F:BZ\"\"),53,0))\"),\"\")","v":""}]
[null,null,null,{"$f":"IFERROR(__xludf.DUMMYFUNCTION(\"iferror(VLOOKUP(B971,IMPORTRANGE(\"\"https://docs.google.com/spreadsheets/d/1bphtMaJ6lFh0VVWIgQh8ZCOchBZqvj0w5rveiNYcTnM/edit#gid=0\"\",\"\"RWA!F:BZ\"\"),44,0))\"),\"\")","v":""},{"$f":"IFERROR(__xludf.DUMMYFUNCTION(\"iferror(VLOOKUP(B971,IMPORTRANGE(\"\"https://docs.google.com/spreadsheets/d/1bphtMaJ6lFh0VVWIgQh8ZCOchBZqvj0w5rveiNYcTnM/edit#gid=0\"\",\"\"RWA!F:BZ\"\"),48,0))\"),\"\")","v":""},{"$f":"IFERROR(__xludf.DUMMYFUNCTION(\"iferror(VLOOKUP(B971,IMPORTRANGE(\"\"https://docs.google.com/spreadsheets/d/1bphtMaJ6lFh0VVWIgQh8ZCOchBZqvj0w5rveiNYcTnM/edit#gid=0\"\",\"\"RWA!F:BZ\"\"),49,0))\"),\"\")","v":""},{"$f":"IFERROR(__xludf.DUMMYFUNCTION(\"iferror(VLOOKUP(B971,IMPORTRANGE(\"\"https://docs.google.com/spreadsheets/d/1bphtMaJ6lFh0VVWIgQh8ZCOchBZqvj0w5rveiNYcTnM/edit#gid=0\"\",\"\"RWA!F:BZ\"\"),53,0))\"),\"\")","v":""}]
[null,null,null,{"$f":"IFERROR(__xludf.DUMMYFUNCTION(\"iferror(VLOOKUP(B972,IMPORTRANGE(\"\"https://docs.google.com/spreadsheets/d/1bphtMaJ6lFh0VVWIgQh8ZCOchBZqvj0w5rveiNYcTnM/edit#gid=0\"\",\"\"RWA!F:BZ\"\"),44,0))\"),\"\")","v":""},{"$f":"IFERROR(__xludf.DUMMYFUNCTION(\"iferror(VLOOKUP(B972,IMPORTRANGE(\"\"https://docs.google.com/spreadsheets/d/1bphtMaJ6lFh0VVWIgQh8ZCOchBZqvj0w5rveiNYcTnM/edit#gid=0\"\",\"\"RWA!F:BZ\"\"),48,0))\"),\"\")","v":""},{"$f":"IFERROR(__xludf.DUMMYFUNCTION(\"iferror(VLOOKUP(B972,IMPORTRANGE(\"\"https://docs.google.com/spreadsheets/d/1bphtMaJ6lFh0VVWIgQh8ZCOchBZqvj0w5rveiNYcTnM/edit#gid=0\"\",\"\"RWA!F:BZ\"\"),49,0))\"),\"\")","v":""},{"$f":"IFERROR(__xludf.DUMMYFUNCTION(\"iferror(VLOOKUP(B972,IMPORTRANGE(\"\"https://docs.google.com/spreadsheets/d/1bphtMaJ6lFh0VVWIgQh8ZCOchBZqvj0w5rveiNYcTnM/edit#gid=0\"\",\"\"RWA!F:BZ\"\"),53,0))\"),\"\")","v":""}]
[null,null,null,{"$f":"IFERROR(__xludf.DUMMYFUNCTION(\"iferror(VLOOKUP(B973,IMPORTRANGE(\"\"https://docs.google.com/spreadsheets/d/1bphtMaJ6lFh0VVWIgQh8ZCOchBZqvj0w5rveiNYcTnM/edit#gid=0\"\",\"\"RWA!F:BZ\"\"),44,0))\"),\"\")","v":""},{"$f":"IFERROR(__xludf.DUMMYFUNCTION(\"iferror(VLOOKUP(B973,IMPORTRANGE(\"\"https://docs.google.com/spreadsheets/d/1bphtMaJ6lFh0VVWIgQh8ZCOchBZqvj0w5rveiNYcTnM/edit#gid=0\"\",\"\"RWA!F:BZ\"\"),48,0))\"),\"\")","v":""},{"$f":"IFERROR(__xludf.DUMMYFUNCTION(\"iferror(VLOOKUP(B973,IMPORTRANGE(\"\"https://docs.google.com/spreadsheets/d/1bphtMaJ6lFh0VVWIgQh8ZCOchBZqvj0w5rveiNYcTnM/edit#gid=0\"\",\"\"RWA!F:BZ\"\"),49,0))\"),\"\")","v":""},{"$f":"IFERROR(__xludf.DUMMYFUNCTION(\"iferror(VLOOKUP(B973,IMPORTRANGE(\"\"https://docs.google.com/spreadsheets/d/1bphtMaJ6lFh0VVWIgQh8ZCOchBZqvj0w5rveiNYcTnM/edit#gid=0\"\",\"\"RWA!F:BZ\"\"),53,0))\"),\"\")","v":""}]
[null,null,null,{"$f":"IFERROR(__xludf.DUMMYFUNCTION(\"iferror(VLOOKUP(B974,IMPORTRANGE(\"\"https://docs.google.com/spreadsheets/d/1bphtMaJ6lFh0VVWIgQh8ZCOchBZqvj0w5rveiNYcTnM/edit#gid=0\"\",\"\"RWA!F:BZ\"\"),44,0))\"),\"\")","v":""},{"$f":"IFERROR(__xludf.DUMMYFUNCTION(\"iferror(VLOOKUP(B974,IMPORTRANGE(\"\"https://docs.google.com/spreadsheets/d/1bphtMaJ6lFh0VVWIgQh8ZCOchBZqvj0w5rveiNYcTnM/edit#gid=0\"\",\"\"RWA!F:BZ\"\"),48,0))\"),\"\")","v":""},{"$f":"IFERROR(__xludf.DUMMYFUNCTION(\"iferror(VLOOKUP(B974,IMPORTRANGE(\"\"https://docs.google.com/spreadsheets/d/1bphtMaJ6lFh0VVWIgQh8ZCOchBZqvj0w5rveiNYcTnM/edit#gid=0\"\",\"\"RWA!F:BZ\"\"),49,0))\"),\"\")","v":""},{"$f":"IFERROR(__xludf.DUMMYFUNCTION(\"iferror(VLOOKUP(B974,IMPORTRANGE(\"\"https://docs.google.com/spreadsheets/d/1bphtMaJ6lFh0VVWIgQh8ZCOchBZqvj0w5rveiNYcTnM/edit#gid=0\"\",\"\"RWA!F:BZ\"\"),53,0))\"),\"\")","v":""}]
[null,null,null,{"$f":"IFERROR(__xludf.DUMMYFUNCTION(\"iferror(VLOOKUP(B975,IMPORTRANGE(\"\"https://docs.google.com/spreadsheets/d/1bphtMaJ6lFh0VVWIgQh8ZCOchBZqvj0w5rveiNYcTnM/edit#gid=0\"\",\"\"RWA!F:BZ\"\"),44,0))\"),\"\")","v":""},{"$f":"IFERROR(__xludf.DUMMYFUNCTION(\"iferror(VLOOKUP(B975,IMPORTRANGE(\"\"https://docs.google.com/spreadsheets/d/1bphtMaJ6lFh0VVWIgQh8ZCOchBZqvj0w5rveiNYcTnM/edit#gid=0\"\",\"\"RWA!F:BZ\"\"),48,0))\"),\"\")","v":""},{"$f":"IFERROR(__xludf.DUMMYFUNCTION(\"iferror(VLOOKUP(B975,IMPORTRANGE(\"\"https://docs.google.com/spreadsheets/d/1bphtMaJ6lFh0VVWIgQh8ZCOchBZqvj0w5rveiNYcTnM/edit#gid=0\"\",\"\"RWA!F:BZ\"\"),49,0))\"),\"\")","v":""},{"$f":"IFERROR(__xludf.DUMMYFUNCTION(\"iferror(VLOOKUP(B975,IMPORTRANGE(\"\"https://docs.google.com/spreadsheets/d/1bphtMaJ6lFh0VVWIgQh8ZCOchBZqvj0w5rveiNYcTnM/edit#gid=0\"\",\"\"RWA!F:BZ\"\"),53,0))\"),\"\")","v":""}]
[null,null,null,{"$f":"IFERROR(__xludf.DUMMYFUNCTION(\"iferror(VLOOKUP(B976,IMPORTRANGE(\"\"https://docs.google.com/spreadsheets/d/1bphtMaJ6lFh0VVWIgQh8ZCOchBZqvj0w5rveiNYcTnM/edit#gid=0\"\",\"\"RWA!F:BZ\"\"),44,0))\"),\"\")","v":""},{"$f":"IFERROR(__xludf.DUMMYFUNCTION(\"iferror(VLOOKUP(B976,IMPORTRANGE(\"\"https://docs.google.com/spreadsheets/d/1bphtMaJ6lFh0VVWIgQh8ZCOchBZqvj0w5rveiNYcTnM/edit#gid=0\"\",\"\"RWA!F:BZ\"\"),48,0))\"),\"\")","v":""},{"$f":"IFERROR(__xludf.DUMMYFUNCTION(\"iferror(VLOOKUP(B976,IMPORTRANGE(\"\"https://docs.google.com/spreadsheets/d/1bphtMaJ6lFh0VVWIgQh8ZCOchBZqvj0w5rveiNYcTnM/edit#gid=0\"\",\"\"RWA!F:BZ\"\"),49,0))\"),\"\")","v":""},{"$f":"IFERROR(__xludf.DUMMYFUNCTION(\"iferror(VLOOKUP(B976,IMPORTRANGE(\"\"https://docs.google.com/spreadsheets/d/1bphtMaJ6lFh0VVWIgQh8ZCOchBZqvj0w5rveiNYcTnM/edit#gid=0\"\",\"\"RWA!F:BZ\"\"),53,0))\"),\"\")","v":""}]
[null,null,null,{"$f":"IFERROR(__xludf.DUMMYFUNCTION(\"iferror(VLOOKUP(B977,IMPORTRANGE(\"\"https://docs.google.com/spreadsheets/d/1bphtMaJ6lFh0VVWIgQh8ZCOchBZqvj0w5rveiNYcTnM/edit#gid=0\"\",\"\"RWA!F:BZ\"\"),44,0))\"),\"\")","v":""},{"$f":"IFERROR(__xludf.DUMMYFUNCTION(\"iferror(VLOOKUP(B977,IMPORTRANGE(\"\"https://docs.google.com/spreadsheets/d/1bphtMaJ6lFh0VVWIgQh8ZCOchBZqvj0w5rveiNYcTnM/edit#gid=0\"\",\"\"RWA!F:BZ\"\"),48,0))\"),\"\")","v":""},{"$f":"IFERROR(__xludf.DUMMYFUNCTION(\"iferror(VLOOKUP(B977,IMPORTRANGE(\"\"https://docs.google.com/spreadsheets/d/1bphtMaJ6lFh0VVWIgQh8ZCOchBZqvj0w5rveiNYcTnM/edit#gid=0\"\",\"\"RWA!F:BZ\"\"),49,0))\"),\"\")","v":""},{"$f":"IFERROR(__xludf.DUMMYFUNCTION(\"iferror(VLOOKUP(B977,IMPORTRANGE(\"\"https://docs.google.com/spreadsheets/d/1bphtMaJ6lFh0VVWIgQh8ZCOchBZqvj0w5rveiNYcTnM/edit#gid=0\"\",\"\"RWA!F:BZ\"\"),53,0))\"),\"\")","v":""}]
[null,null,null,{"$f":"IFERROR(__xludf.DUMMYFUNCTION(\"iferror(VLOOKUP(B978,IMPORTRANGE(\"\"https://docs.google.com/spreadsheets/d/1bphtMaJ6lFh0VVWIgQh8ZCOchBZqvj0w5rveiNYcTnM/edit#gid=0\"\",\"\"RWA!F:BZ\"\"),44,0))\"),\"\")","v":""},{"$f":"IFERROR(__xludf.DUMMYFUNCTION(\"iferror(VLOOKUP(B978,IMPORTRANGE(\"\"https://docs.google.com/spreadsheets/d/1bphtMaJ6lFh0VVWIgQh8ZCOchBZqvj0w5rveiNYcTnM/edit#gid=0\"\",\"\"RWA!F:BZ\"\"),48,0))\"),\"\")","v":""},{"$f":"IFERROR(__xludf.DUMMYFUNCTION(\"iferror(VLOOKUP(B978,IMPORTRANGE(\"\"https://docs.google.com/spreadsheets/d/1bphtMaJ6lFh0VVWIgQh8ZCOchBZqvj0w5rveiNYcTnM/edit#gid=0\"\",\"\"RWA!F:BZ\"\"),49,0))\"),\"\")","v":""},{"$f":"IFERROR(__xludf.DUMMYFUNCTION(\"iferror(VLOOKUP(B978,IMPORTRANGE(\"\"https://docs.google.com/spreadsheets/d/1bphtMaJ6lFh0VVWIgQh8ZCOchBZqvj0w5rveiNYcTnM/edit#gid=0\"\",\"\"RWA!F:BZ\"\"),53,0))\"),\"\")","v":""}]
[null,null,null,{"$f":"IFERROR(__xludf.DUMMYFUNCTION(\"iferror(VLOOKUP(B979,IMPORTRANGE(\"\"https://docs.google.com/spreadsheets/d/1bphtMaJ6lFh0VVWIgQh8ZCOchBZqvj0w5rveiNYcTnM/edit#gid=0\"\",\"\"RWA!F:BZ\"\"),44,0))\"),\"\")","v":""},{"$f":"IFERROR(__xludf.DUMMYFUNCTION(\"iferror(VLOOKUP(B979,IMPORTRANGE(\"\"https://docs.google.com/spreadsheets/d/1bphtMaJ6lFh0VVWIgQh8ZCOchBZqvj0w5rveiNYcTnM/edit#gid=0\"\",\"\"RWA!F:BZ\"\"),48,0))\"),\"\")","v":""},{"$f":"IFERROR(__xludf.DUMMYFUNCTION(\"iferror(VLOOKUP(B979,IMPORTRANGE(\"\"https://docs.google.com/spreadsheets/d/1bphtMaJ6lFh0VVWIgQh8ZCOchBZqvj0w5rveiNYcTnM/edit#gid=0\"\",\"\"RWA!F:BZ\"\"),49,0))\"),\"\")","v":""},{"$f":"IFERROR(__xludf.DUMMYFUNCTION(\"iferror(VLOOKUP(B979,IMPORTRANGE(\"\"https://docs.google.com/spreadsheets/d/1bphtMaJ6lFh0VVWIgQh8ZCOchBZqvj0w5rveiNYcTnM/edit#gid=0\"\",\"\"RWA!F:BZ\"\"),53,0))\"),\"\")","v":""}]
[null,null,null,{"$f":"IFERROR(__xludf.DUMMYFUNCTION(\"iferror(VLOOKUP(B980,IMPORTRANGE(\"\"https://docs.google.com/spreadsheets/d/1bphtMaJ6lFh0VVWIgQh8ZCOchBZqvj0w5rveiNYcTnM/edit#gid=0\"\",\"\"RWA!F:BZ\"\"),44,0))\"),\"\")","v":""},{"$f":"IFERROR(__xludf.DUMMYFUNCTION(\"iferror(VLOOKUP(B980,IMPORTRANGE(\"\"https://docs.google.com/spreadsheets/d/1bphtMaJ6lFh0VVWIgQh8ZCOchBZqvj0w5rveiNYcTnM/edit#gid=0\"\",\"\"RWA!F:BZ\"\"),48,0))\"),\"\")","v":""},{"$f":"IFERROR(__xludf.DUMMYFUNCTION(\"iferror(VLOOKUP(B980,IMPORTRANGE(\"\"https://docs.google.com/spreadsheets/d/1bphtMaJ6lFh0VVWIgQh8ZCOchBZqvj0w5rveiNYcTnM/edit#gid=0\"\",\"\"RWA!F:BZ\"\"),49,0))\"),\"\")","v":""},{"$f":"IFERROR(__xludf.DUMMYFUNCTION(\"iferror(VLOOKUP(B980,IMPORTRANGE(\"\"https://docs.google.com/spreadsheets/d/1bphtMaJ6lFh0VVWIgQh8ZCOchBZqvj0w5rveiNYcTnM/edit#gid=0\"\",\"\"RWA!F:BZ\"\"),53,0))\"),\"\")","v":""}]
[null,null,null,{"$f":"IFERROR(__xludf.DUMMYFUNCTION(\"iferror(VLOOKUP(B981,IMPORTRANGE(\"\"https://docs.google.com/spreadsheets/d/1bphtMaJ6lFh0VVWIgQh8ZCOchBZqvj0w5rveiNYcTnM/edit#gid=0\"\",\"\"RWA!F:BZ\"\"),44,0))\"),\"\")","v":""},{"$f":"IFERROR(__xludf.DUMMYFUNCTION(\"iferror(VLOOKUP(B981,IMPORTRANGE(\"\"https://docs.google.com/spreadsheets/d/1bphtMaJ6lFh0VVWIgQh8ZCOchBZqvj0w5rveiNYcTnM/edit#gid=0\"\",\"\"RWA!F:BZ\"\"),48,0))\"),\"\")","v":""},{"$f":"IFERROR(__xludf.DUMMYFUNCTION(\"iferror(VLOOKUP(B981,IMPORTRANGE(\"\"https://docs.google.com/spreadsheets/d/1bphtMaJ6lFh0VVWIgQh8ZCOchBZqvj0w5rveiNYcTnM/edit#gid=0\"\",\"\"RWA!F:BZ\"\"),49,0))\"),\"\")","v":""},{"$f":"IFERROR(__xludf.DUMMYFUNCTION(\"iferror(VLOOKUP(B981,IMPORTRANGE(\"\"https://docs.google.com/spreadsheets/d/1bphtMaJ6lFh0VVWIgQh8ZCOchBZqvj0w5rveiNYcTnM/edit#gid=0\"\",\"\"RWA!F:BZ\"\"),53,0))\"),\"\")","v":""}]
[null,null,null,{"$f":"IFERROR(__xludf.DUMMYFUNCTION(\"iferror(VLOOKUP(B982,IMPORTRANGE(\"\"https://docs.google.com/spreadsheets/d/1bphtMaJ6lFh0VVWIgQh8ZCOchBZqvj0w5rveiNYcTnM/edit#gid=0\"\",\"\"RWA!F:BZ\"\"),44,0))\"),\"\")","v":""},{"$f":"IFERROR(__xludf.DUMMYFUNCTION(\"iferror(VLOOKUP(B982,IMPORTRANGE(\"\"https://docs.google.com/spreadsheets/d/1bphtMaJ6lFh0VVWIgQh8ZCOchBZqvj0w5rveiNYcTnM/edit#gid=0\"\",\"\"RWA!F:BZ\"\"),48,0))\"),\"\")","v":""},{"$f":"IFERROR(__xludf.DUMMYFUNCTION(\"iferror(VLOOKUP(B982,IMPORTRANGE(\"\"https://docs.google.com/spreadsheets/d/1bphtMaJ6lFh0VVWIgQh8ZCOchBZqvj0w5rveiNYcTnM/edit#gid=0\"\",\"\"RWA!F:BZ\"\"),49,0))\"),\"\")","v":""},{"$f":"IFERROR(__xludf.DUMMYFUNCTION(\"iferror(VLOOKUP(B982,IMPORTRANGE(\"\"https://docs.google.com/spreadsheets/d/1bphtMaJ6lFh0VVWIgQh8ZCOchBZqvj0w5rveiNYcTnM/edit#gid=0\"\",\"\"RWA!F:BZ\"\"),53,0))\"),\"\")","v":""}]
[null,null,null,{"$f":"IFERROR(__xludf.DUMMYFUNCTION(\"iferror(VLOOKUP(B983,IMPORTRANGE(\"\"https://docs.google.com/spreadsheets/d/1bphtMaJ6lFh0VVWIgQh8ZCOchBZqvj0w5rveiNYcTnM/edit#gid=0\"\",\"\"RWA!F:BZ\"\"),44,0))\"),\"\")","v":""},{"$f":"IFERROR(__xludf.DUMMYFUNCTION(\"iferror(VLOOKUP(B983,IMPORTRANGE(\"\"https://docs.google.com/spreadsheets/d/1bphtMaJ6lFh0VVWIgQh8ZCOchBZqvj0w5rveiNYcTnM/edit#gid=0\"\",\"\"RWA!F:BZ\"\"),48,0))\"),\"\")","v":""},{"$f":"IFERROR(__xludf.DUMMYFUNCTION(\"iferror(VLOOKUP(B983,IMPORTRANGE(\"\"https://docs.google.com/spreadsheets/d/1bphtMaJ6lFh0VVWIgQh8ZCOchBZqvj0w5rveiNYcTnM/edit#gid=0\"\",\"\"RWA!F:BZ\"\"),49,0))\"),\"\")","v":""},{"$f":"IFERROR(__xludf.DUMMYFUNCTION(\"iferror(VLOOKUP(B983,IMPORTRANGE(\"\"https://docs.google.com/spreadsheets/d/1bphtMaJ6lFh0VVWIgQh8ZCOchBZqvj0w5rveiNYcTnM/edit#gid=0\"\",\"\"RWA!F:BZ\"\"),53,0))\"),\"\")","v":""}]
[null,null,null,{"$f":"IFERROR(__xludf.DUMMYFUNCTION(\"iferror(VLOOKUP(B984,IMPORTRANGE(\"\"https://docs.google.com/spreadsheets/d/1bphtMaJ6lFh0VVWIgQh8ZCOchBZqvj0w5rveiNYcTnM/edit#gid=0\"\",\"\"RWA!F:BZ\"\"),44,0))\"),\"\")","v":""},{"$f":"IFERROR(__xludf.DUMMYFUNCTION(\"iferror(VLOOKUP(B984,IMPORTRANGE(\"\"https://docs.google.com/spreadsheets/d/1bphtMaJ6lFh0VVWIgQh8ZCOchBZqvj0w5rveiNYcTnM/edit#gid=0\"\",\"\"RWA!F:BZ\"\"),48,0))\"),\"\")","v":""},{"$f":"IFERROR(__xludf.DUMMYFUNCTION(\"iferror(VLOOKUP(B984,IMPORTRANGE(\"\"https://docs.google.com/spreadsheets/d/1bphtMaJ6lFh0VVWIgQh8ZCOchBZqvj0w5rveiNYcTnM/edit#gid=0\"\",\"\"RWA!F:BZ\"\"),49,0))\"),\"\")","v":""},{"$f":"IFERROR(__xludf.DUMMYFUNCTION(\"iferror(VLOOKUP(B984,IMPORTRANGE(\"\"https://docs.google.com/spreadsheets/d/1bphtMaJ6lFh0VVWIgQh8ZCOchBZqvj0w5rveiNYcTnM/edit#gid=0\"\",\"\"RWA!F:BZ\"\"),53,0))\"),\"\")","v":""}]
[null,null,null,{"$f":"IFERROR(__xludf.DUMMYFUNCTION(\"iferror(VLOOKUP(B985,IMPORTRANGE(\"\"https://docs.google.com/spreadsheets/d/1bphtMaJ6lFh0VVWIgQh8ZCOchBZqvj0w5rveiNYcTnM/edit#gid=0\"\",\"\"RWA!F:BZ\"\"),44,0))\"),\"\")","v":""},{"$f":"IFERROR(__xludf.DUMMYFUNCTION(\"iferror(VLOOKUP(B985,IMPORTRANGE(\"\"https://docs.google.com/spreadsheets/d/1bphtMaJ6lFh0VVWIgQh8ZCOchBZqvj0w5rveiNYcTnM/edit#gid=0\"\",\"\"RWA!F:BZ\"\"),48,0))\"),\"\")","v":""},{"$f":"IFERROR(__xludf.DUMMYFUNCTION(\"iferror(VLOOKUP(B985,IMPORTRANGE(\"\"https://docs.google.com/spreadsheets/d/1bphtMaJ6lFh0VVWIgQh8ZCOchBZqvj0w5rveiNYcTnM/edit#gid=0\"\",\"\"RWA!F:BZ\"\"),49,0))\"),\"\")","v":""},{"$f":"IFERROR(__xludf.DUMMYFUNCTION(\"iferror(VLOOKUP(B985,IMPORTRANGE(\"\"https://docs.google.com/spreadsheets/d/1bphtMaJ6lFh0VVWIgQh8ZCOchBZqvj0w5rveiNYcTnM/edit#gid=0\"\",\"\"RWA!F:BZ\"\"),53,0))\"),\"\")","v":""}]
[null,null,null,{"$f":"IFERROR(__xludf.DUMMYFUNCTION(\"iferror(VLOOKUP(B986,IMPORTRANGE(\"\"https://docs.google.com/spreadsheets/d/1bphtMaJ6lFh0VVWIgQh8ZCOchBZqvj0w5rveiNYcTnM/edit#gid=0\"\",\"\"RWA!F:BZ\"\"),44,0))\"),\"\")","v":""},{"$f":"IFERROR(__xludf.DUMMYFUNCTION(\"iferror(VLOOKUP(B986,IMPORTRANGE(\"\"https://docs.google.com/spreadsheets/d/1bphtMaJ6lFh0VVWIgQh8ZCOchBZqvj0w5rveiNYcTnM/edit#gid=0\"\",\"\"RWA!F:BZ\"\"),48,0))\"),\"\")","v":""},{"$f":"IFERROR(__xludf.DUMMYFUNCTION(\"iferror(VLOOKUP(B986,IMPORTRANGE(\"\"https://docs.google.com/spreadsheets/d/1bphtMaJ6lFh0VVWIgQh8ZCOchBZqvj0w5rveiNYcTnM/edit#gid=0\"\",\"\"RWA!F:BZ\"\"),49,0))\"),\"\")","v":""},{"$f":"IFERROR(__xludf.DUMMYFUNCTION(\"iferror(VLOOKUP(B986,IMPORTRANGE(\"\"https://docs.google.com/spreadsheets/d/1bphtMaJ6lFh0VVWIgQh8ZCOchBZqvj0w5rveiNYcTnM/edit#gid=0\"\",\"\"RWA!F:BZ\"\"),53,0))\"),\"\")","v":""}]
[null,null,null,{"$f":"IFERROR(__xludf.DUMMYFUNCTION(\"iferror(VLOOKUP(B987,IMPORTRANGE(\"\"https://docs.google.com/spreadsheets/d/1bphtMaJ6lFh0VVWIgQh8ZCOchBZqvj0w5rveiNYcTnM/edit#gid=0\"\",\"\"RWA!F:BZ\"\"),44,0))\"),\"\")","v":""},{"$f":"IFERROR(__xludf.DUMMYFUNCTION(\"iferror(VLOOKUP(B987,IMPORTRANGE(\"\"https://docs.google.com/spreadsheets/d/1bphtMaJ6lFh0VVWIgQh8ZCOchBZqvj0w5rveiNYcTnM/edit#gid=0\"\",\"\"RWA!F:BZ\"\"),48,0))\"),\"\")","v":""},{"$f":"IFERROR(__xludf.DUMMYFUNCTION(\"iferror(VLOOKUP(B987,IMPORTRANGE(\"\"https://docs.google.com/spreadsheets/d/1bphtMaJ6lFh0VVWIgQh8ZCOchBZqvj0w5rveiNYcTnM/edit#gid=0\"\",\"\"RWA!F:BZ\"\"),49,0))\"),\"\")","v":""},{"$f":"IFERROR(__xludf.DUMMYFUNCTION(\"iferror(VLOOKUP(B987,IMPORTRANGE(\"\"https://docs.google.com/spreadsheets/d/1bphtMaJ6lFh0VVWIgQh8ZCOchBZqvj0w5rveiNYcTnM/edit#gid=0\"\",\"\"RWA!F:BZ\"\"),53,0))\"),\"\")","v":""}]
[null,null,null,{"$f":"IFERROR(__xludf.DUMMYFUNCTION(\"iferror(VLOOKUP(B988,IMPORTRANGE(\"\"https://docs.google.com/spreadsheets/d/1bphtMaJ6lFh0VVWIgQh8ZCOchBZqvj0w5rveiNYcTnM/edit#gid=0\"\",\"\"RWA!F:BZ\"\"),44,0))\"),\"\")","v":""},{"$f":"IFERROR(__xludf.DUMMYFUNCTION(\"iferror(VLOOKUP(B988,IMPORTRANGE(\"\"https://docs.google.com/spreadsheets/d/1bphtMaJ6lFh0VVWIgQh8ZCOchBZqvj0w5rveiNYcTnM/edit#gid=0\"\",\"\"RWA!F:BZ\"\"),48,0))\"),\"\")","v":""},{"$f":"IFERROR(__xludf.DUMMYFUNCTION(\"iferror(VLOOKUP(B988,IMPORTRANGE(\"\"https://docs.google.com/spreadsheets/d/1bphtMaJ6lFh0VVWIgQh8ZCOchBZqvj0w5rveiNYcTnM/edit#gid=0\"\",\"\"RWA!F:BZ\"\"),49,0))\"),\"\")","v":""},{"$f":"IFERROR(__xludf.DUMMYFUNCTION(\"iferror(VLOOKUP(B988,IMPORTRANGE(\"\"https://docs.google.com/spreadsheets/d/1bphtMaJ6lFh0VVWIgQh8ZCOchBZqvj0w5rveiNYcTnM/edit#gid=0\"\",\"\"RWA!F:BZ\"\"),53,0))\"),\"\")","v":""}]
[null,null,null,{"$f":"IFERROR(__xludf.DUMMYFUNCTION(\"iferror(VLOOKUP(B989,IMPORTRANGE(\"\"https://docs.google.com/spreadsheets/d/1bphtMaJ6lFh0VVWIgQh8ZCOchBZqvj0w5rveiNYcTnM/edit#gid=0\"\",\"\"RWA!F:BZ\"\"),44,0))\"),\"\")","v":""},{"$f":"IFERROR(__xludf.DUMMYFUNCTION(\"iferror(VLOOKUP(B989,IMPORTRANGE(\"\"https://docs.google.com/spreadsheets/d/1bphtMaJ6lFh0VVWIgQh8ZCOchBZqvj0w5rveiNYcTnM/edit#gid=0\"\",\"\"RWA!F:BZ\"\"),48,0))\"),\"\")","v":""},{"$f":"IFERROR(__xludf.DUMMYFUNCTION(\"iferror(VLOOKUP(B989,IMPORTRANGE(\"\"https://docs.google.com/spreadsheets/d/1bphtMaJ6lFh0VVWIgQh8ZCOchBZqvj0w5rveiNYcTnM/edit#gid=0\"\",\"\"RWA!F:BZ\"\"),49,0))\"),\"\")","v":""},{"$f":"IFERROR(__xludf.DUMMYFUNCTION(\"iferror(VLOOKUP(B989,IMPORTRANGE(\"\"https://docs.google.com/spreadsheets/d/1bphtMaJ6lFh0VVWIgQh8ZCOchBZqvj0w5rveiNYcTnM/edit#gid=0\"\",\"\"RWA!F:BZ\"\"),53,0))\"),\"\")","v":""}]
[null,null,null,{"$f":"IFERROR(__xludf.DUMMYFUNCTION(\"iferror(VLOOKUP(B990,IMPORTRANGE(\"\"https://docs.google.com/spreadsheets/d/1bphtMaJ6lFh0VVWIgQh8ZCOchBZqvj0w5rveiNYcTnM/edit#gid=0\"\",\"\"RWA!F:BZ\"\"),44,0))\"),\"\")","v":""},{"$f":"IFERROR(__xludf.DUMMYFUNCTION(\"iferror(VLOOKUP(B990,IMPORTRANGE(\"\"https://docs.google.com/spreadsheets/d/1bphtMaJ6lFh0VVWIgQh8ZCOchBZqvj0w5rveiNYcTnM/edit#gid=0\"\",\"\"RWA!F:BZ\"\"),48,0))\"),\"\")","v":""},{"$f":"IFERROR(__xludf.DUMMYFUNCTION(\"iferror(VLOOKUP(B990,IMPORTRANGE(\"\"https://docs.google.com/spreadsheets/d/1bphtMaJ6lFh0VVWIgQh8ZCOchBZqvj0w5rveiNYcTnM/edit#gid=0\"\",\"\"RWA!F:BZ\"\"),49,0))\"),\"\")","v":""},{"$f":"IFERROR(__xludf.DUMMYFUNCTION(\"iferror(VLOOKUP(B990,IMPORTRANGE(\"\"https://docs.google.com/spreadsheets/d/1bphtMaJ6lFh0VVWIgQh8ZCOchBZqvj0w5rveiNYcTnM/edit#gid=0\"\",\"\"RWA!F:BZ\"\"),53,0))\"),\"\")","v":""}]
[null,null,null,{"$f":"IFERROR(__xludf.DUMMYFUNCTION(\"iferror(VLOOKUP(B991,IMPORTRANGE(\"\"https://docs.google.com/spreadsheets/d/1bphtMaJ6lFh0VVWIgQh8ZCOchBZqvj0w5rveiNYcTnM/edit#gid=0\"\",\"\"RWA!F:BZ\"\"),44,0))\"),\"\")","v":""},{"$f":"IFERROR(__xludf.DUMMYFUNCTION(\"iferror(VLOOKUP(B991,IMPORTRANGE(\"\"https://docs.google.com/spreadsheets/d/1bphtMaJ6lFh0VVWIgQh8ZCOchBZqvj0w5rveiNYcTnM/edit#gid=0\"\",\"\"RWA!F:BZ\"\"),48,0))\"),\"\")","v":""},{"$f":"IFERROR(__xludf.DUMMYFUNCTION(\"iferror(VLOOKUP(B991,IMPORTRANGE(\"\"https://docs.google.com/spreadsheets/d/1bphtMaJ6lFh0VVWIgQh8ZCOchBZqvj0w5rveiNYcTnM/edit#gid=0\"\",\"\"RWA!F:BZ\"\"),49,0))\"),\"\")","v":""},{"$f":"IFERROR(__xludf.DUMMYFUNCTION(\"iferror(VLOOKUP(B991,IMPORTRANGE(\"\"https://docs.google.com/spreadsheets/d/1bphtMaJ6lFh0VVWIgQh8ZCOchBZqvj0w5rveiNYcTnM/edit#gid=0\"\",\"\"RWA!F:BZ\"\"),53,0))\"),\"\")","v":""}]
[null,null,null,{"$f":"IFERROR(__xludf.DUMMYFUNCTION(\"iferror(VLOOKUP(B992,IMPORTRANGE(\"\"https://docs.google.com/spreadsheets/d/1bphtMaJ6lFh0VVWIgQh8ZCOchBZqvj0w5rveiNYcTnM/edit#gid=0\"\",\"\"RWA!F:BZ\"\"),44,0))\"),\"\")","v":""},{"$f":"IFERROR(__xludf.DUMMYFUNCTION(\"iferror(VLOOKUP(B992,IMPORTRANGE(\"\"https://docs.google.com/spreadsheets/d/1bphtMaJ6lFh0VVWIgQh8ZCOchBZqvj0w5rveiNYcTnM/edit#gid=0\"\",\"\"RWA!F:BZ\"\"),48,0))\"),\"\")","v":""},{"$f":"IFERROR(__xludf.DUMMYFUNCTION(\"iferror(VLOOKUP(B992,IMPORTRANGE(\"\"https://docs.google.com/spreadsheets/d/1bphtMaJ6lFh0VVWIgQh8ZCOchBZqvj0w5rveiNYcTnM/edit#gid=0\"\",\"\"RWA!F:BZ\"\"),49,0))\"),\"\")","v":""},{"$f":"IFERROR(__xludf.DUMMYFUNCTION(\"iferror(VLOOKUP(B992,IMPORTRANGE(\"\"https://docs.google.com/spreadsheets/d/1bphtMaJ6lFh0VVWIgQh8ZCOchBZqvj0w5rveiNYcTnM/edit#gid=0\"\",\"\"RWA!F:BZ\"\"),53,0))\"),\"\")","v":""}]
[null,null,null,{"$f":"IFERROR(__xludf.DUMMYFUNCTION(\"iferror(VLOOKUP(B993,IMPORTRANGE(\"\"https://docs.google.com/spreadsheets/d/1bphtMaJ6lFh0VVWIgQh8ZCOchBZqvj0w5rveiNYcTnM/edit#gid=0\"\",\"\"RWA!F:BZ\"\"),44,0))\"),\"\")","v":""},{"$f":"IFERROR(__xludf.DUMMYFUNCTION(\"iferror(VLOOKUP(B993,IMPORTRANGE(\"\"https://docs.google.com/spreadsheets/d/1bphtMaJ6lFh0VVWIgQh8ZCOchBZqvj0w5rveiNYcTnM/edit#gid=0\"\",\"\"RWA!F:BZ\"\"),48,0))\"),\"\")","v":""},{"$f":"IFERROR(__xludf.DUMMYFUNCTION(\"iferror(VLOOKUP(B993,IMPORTRANGE(\"\"https://docs.google.com/spreadsheets/d/1bphtMaJ6lFh0VVWIgQh8ZCOchBZqvj0w5rveiNYcTnM/edit#gid=0\"\",\"\"RWA!F:BZ\"\"),49,0))\"),\"\")","v":""},{"$f":"IFERROR(__xludf.DUMMYFUNCTION(\"iferror(VLOOKUP(B993,IMPORTRANGE(\"\"https://docs.google.com/spreadsheets/d/1bphtMaJ6lFh0VVWIgQh8ZCOchBZqvj0w5rveiNYcTnM/edit#gid=0\"\",\"\"RWA!F:BZ\"\"),53,0))\"),\"\")","v":""}]
[null,null,null,{"$f":"IFERROR(__xludf.DUMMYFUNCTION(\"iferror(VLOOKUP(B994,IMPORTRANGE(\"\"https://docs.google.com/spreadsheets/d/1bphtMaJ6lFh0VVWIgQh8ZCOchBZqvj0w5rveiNYcTnM/edit#gid=0\"\",\"\"RWA!F:BZ\"\"),44,0))\"),\"\")","v":""},{"$f":"IFERROR(__xludf.DUMMYFUNCTION(\"iferror(VLOOKUP(B994,IMPORTRANGE(\"\"https://docs.google.com/spreadsheets/d/1bphtMaJ6lFh0VVWIgQh8ZCOchBZqvj0w5rveiNYcTnM/edit#gid=0\"\",\"\"RWA!F:BZ\"\"),48,0))\"),\"\")","v":""},{"$f":"IFERROR(__xludf.DUMMYFUNCTION(\"iferror(VLOOKUP(B994,IMPORTRANGE(\"\"https://docs.google.com/spreadsheets/d/1bphtMaJ6lFh0VVWIgQh8ZCOchBZqvj0w5rveiNYcTnM/edit#gid=0\"\",\"\"RWA!F:BZ\"\"),49,0))\"),\"\")","v":""},{"$f":"IFERROR(__xludf.DUMMYFUNCTION(\"iferror(VLOOKUP(B994,IMPORTRANGE(\"\"https://docs.google.com/spreadsheets/d/1bphtMaJ6lFh0VVWIgQh8ZCOchBZqvj0w5rveiNYcTnM/edit#gid=0\"\",\"\"RWA!F:BZ\"\"),53,0))\"),\"\")","v":""}]
[null,null,null,{"$f":"IFERROR(__xludf.DUMMYFUNCTION(\"iferror(VLOOKUP(B995,IMPORTRANGE(\"\"https://docs.google.com/spreadsheets/d/1bphtMaJ6lFh0VVWIgQh8ZCOchBZqvj0w5rveiNYcTnM/edit#gid=0\"\",\"\"RWA!F:BZ\"\"),44,0))\"),\"\")","v":""},{"$f":"IFERROR(__xludf.DUMMYFUNCTION(\"iferror(VLOOKUP(B995,IMPORTRANGE(\"\"https://docs.google.com/spreadsheets/d/1bphtMaJ6lFh0VVWIgQh8ZCOchBZqvj0w5rveiNYcTnM/edit#gid=0\"\",\"\"RWA!F:BZ\"\"),48,0))\"),\"\")","v":""},{"$f":"IFERROR(__xludf.DUMMYFUNCTION(\"iferror(VLOOKUP(B995,IMPORTRANGE(\"\"https://docs.google.com/spreadsheets/d/1bphtMaJ6lFh0VVWIgQh8ZCOchBZqvj0w5rveiNYcTnM/edit#gid=0\"\",\"\"RWA!F:BZ\"\"),49,0))\"),\"\")","v":""},{"$f":"IFERROR(__xludf.DUMMYFUNCTION(\"iferror(VLOOKUP(B995,IMPORTRANGE(\"\"https://docs.google.com/spreadsheets/d/1bphtMaJ6lFh0VVWIgQh8ZCOchBZqvj0w5rveiNYcTnM/edit#gid=0\"\",\"\"RWA!F:BZ\"\"),53,0))\"),\"\")","v":""}]
[null,null,null,{"$f":"IFERROR(__xludf.DUMMYFUNCTION(\"iferror(VLOOKUP(B996,IMPORTRANGE(\"\"https://docs.google.com/spreadsheets/d/1bphtMaJ6lFh0VVWIgQh8ZCOchBZqvj0w5rveiNYcTnM/edit#gid=0\"\",\"\"RWA!F:BZ\"\"),44,0))\"),\"\")","v":""},{"$f":"IFERROR(__xludf.DUMMYFUNCTION(\"iferror(VLOOKUP(B996,IMPORTRANGE(\"\"https://docs.google.com/spreadsheets/d/1bphtMaJ6lFh0VVWIgQh8ZCOchBZqvj0w5rveiNYcTnM/edit#gid=0\"\",\"\"RWA!F:BZ\"\"),48,0))\"),\"\")","v":""},{"$f":"IFERROR(__xludf.DUMMYFUNCTION(\"iferror(VLOOKUP(B996,IMPORTRANGE(\"\"https://docs.google.com/spreadsheets/d/1bphtMaJ6lFh0VVWIgQh8ZCOchBZqvj0w5rveiNYcTnM/edit#gid=0\"\",\"\"RWA!F:BZ\"\"),49,0))\"),\"\")","v":""},{"$f":"IFERROR(__xludf.DUMMYFUNCTION(\"iferror(VLOOKUP(B996,IMPORTRANGE(\"\"https://docs.google.com/spreadsheets/d/1bphtMaJ6lFh0VVWIgQh8ZCOchBZqvj0w5rveiNYcTnM/edit#gid=0\"\",\"\"RWA!F:BZ\"\"),53,0))\"),\"\")","v":""}]
[null,null,null,{"$f":"IFERROR(__xludf.DUMMYFUNCTION(\"iferror(VLOOKUP(B997,IMPORTRANGE(\"\"https://docs.google.com/spreadsheets/d/1bphtMaJ6lFh0VVWIgQh8ZCOchBZqvj0w5rveiNYcTnM/edit#gid=0\"\",\"\"RWA!F:BZ\"\"),44,0))\"),\"\")","v":""},{"$f":"IFERROR(__xludf.DUMMYFUNCTION(\"iferror(VLOOKUP(B997,IMPORTRANGE(\"\"https://docs.google.com/spreadsheets/d/1bphtMaJ6lFh0VVWIgQh8ZCOchBZqvj0w5rveiNYcTnM/edit#gid=0\"\",\"\"RWA!F:BZ\"\"),48,0))\"),\"\")","v":""},{"$f":"IFERROR(__xludf.DUMMYFUNCTION(\"iferror(VLOOKUP(B997,IMPORTRANGE(\"\"https://docs.google.com/spreadsheets/d/1bphtMaJ6lFh0VVWIgQh8ZCOchBZqvj0w5rveiNYcTnM/edit#gid=0\"\",\"\"RWA!F:BZ\"\"),49,0))\"),\"\")","v":""},{"$f":"IFERROR(__xludf.DUMMYFUNCTION(\"iferror(VLOOKUP(B997,IMPORTRANGE(\"\"https://docs.google.com/spreadsheets/d/1bphtMaJ6lFh0VVWIgQh8ZCOchBZqvj0w5rveiNYcTnM/edit#gid=0\"\",\"\"RWA!F:BZ\"\"),53,0))\"),\"\")","v":""}]
[null,null,null,{"$f":"IFERROR(__xludf.DUMMYFUNCTION(\"iferror(VLOOKUP(B998,IMPORTRANGE(\"\"https://docs.google.com/spreadsheets/d/1bphtMaJ6lFh0VVWIgQh8ZCOchBZqvj0w5rveiNYcTnM/edit#gid=0\"\",\"\"RWA!F:BZ\"\"),44,0))\"),\"\")","v":""},{"$f":"IFERROR(__xludf.DUMMYFUNCTION(\"iferror(VLOOKUP(B998,IMPORTRANGE(\"\"https://docs.google.com/spreadsheets/d/1bphtMaJ6lFh0VVWIgQh8ZCOchBZqvj0w5rveiNYcTnM/edit#gid=0\"\",\"\"RWA!F:BZ\"\"),48,0))\"),\"\")","v":""},{"$f":"IFERROR(__xludf.DUMMYFUNCTION(\"iferror(VLOOKUP(B998,IMPORTRANGE(\"\"https://docs.google.com/spreadsheets/d/1bphtMaJ6lFh0VVWIgQh8ZCOchBZqvj0w5rveiNYcTnM/edit#gid=0\"\",\"\"RWA!F:BZ\"\"),49,0))\"),\"\")","v":""},{"$f":"IFERROR(__xludf.DUMMYFUNCTION(\"iferror(VLOOKUP(B998,IMPORTRANGE(\"\"https://docs.google.com/spreadsheets/d/1bphtMaJ6lFh0VVWIgQh8ZCOchBZqvj0w5rveiNYcTnM/edit#gid=0\"\",\"\"RWA!F:BZ\"\"),53,0))\"),\"\")","v":""}]
[null,null,null,{"$f":"IFERROR(__xludf.DUMMYFUNCTION(\"iferror(VLOOKUP(B999,IMPORTRANGE(\"\"https://docs.google.com/spreadsheets/d/1bphtMaJ6lFh0VVWIgQh8ZCOchBZqvj0w5rveiNYcTnM/edit#gid=0\"\",\"\"RWA!F:BZ\"\"),44,0))\"),\"\")","v":""},{"$f":"IFERROR(__xludf.DUMMYFUNCTION(\"iferror(VLOOKUP(B999,IMPORTRANGE(\"\"https://docs.google.com/spreadsheets/d/1bphtMaJ6lFh0VVWIgQh8ZCOchBZqvj0w5rveiNYcTnM/edit#gid=0\"\",\"\"RWA!F:BZ\"\"),48,0))\"),\"\")","v":""},{"$f":"IFERROR(__xludf.DUMMYFUNCTION(\"iferror(VLOOKUP(B999,IMPORTRANGE(\"\"https://docs.google.com/spreadsheets/d/1bphtMaJ6lFh0VVWIgQh8ZCOchBZqvj0w5rveiNYcTnM/edit#gid=0\"\",\"\"RWA!F:BZ\"\"),49,0))\"),\"\")","v":""},{"$f":"IFERROR(__xludf.DUMMYFUNCTION(\"iferror(VLOOKUP(B999,IMPORTRANGE(\"\"https://docs.google.com/spreadsheets/d/1bphtMaJ6lFh0VVWIgQh8ZCOchBZqvj0w5rveiNYcTnM/edit#gid=0\"\",\"\"RWA!F:BZ\"\"),53,0))\"),\"\")","v":""}]
[null,null,null,{"$f":"IFERROR(__xludf.DUMMYFUNCTION(\"iferror(VLOOKUP(B1000,IMPORTRANGE(\"\"https://docs.google.com/spreadsheets/d/1bphtMaJ6lFh0VVWIgQh8ZCOchBZqvj0w5rveiNYcTnM/edit#gid=0\"\",\"\"RWA!F:BZ\"\"),44,0))\"),\"\")","v":""},{"$f":"IFERROR(__xludf.DUMMYFUNCTION(\"iferror(VLOOKUP(B1000,IMPORTRANGE(\"\"https://docs.google.com/spreadsheets/d/1bphtMaJ6lFh0VVWIgQh8ZCOchBZqvj0w5rveiNYcTnM/edit#gid=0\"\",\"\"RWA!F:BZ\"\"),48,0))\"),\"\")","v":""},{"$f":"IFERROR(__xludf.DUMMYFUNCTION(\"iferror(VLOOKUP(B1000,IMPORTRANGE(\"\"https://docs.google.com/spreadsheets/d/1bphtMaJ6lFh0VVWIgQh8ZCOchBZqvj0w5rveiNYcTnM/edit#gid=0\"\",\"\"RWA!F:BZ\"\"),49,0))\"),\"\")","v":""},{"$f":"IFERROR(__xludf.DUMMYFUNCTION(\"iferror(VLOOKUP(B1000,IMPORTRANGE(\"\"https://docs.google.com/spreadsheets/d/1bphtMaJ6lFh0VVWIgQh8ZCOchBZqvj0w5rveiNYcTnM/edit#gid=0\"\",\"\"RWA!F:BZ\"\"),53,0))\"),\"\")","v":""}]