{"text_format":"2","workbook":"xlsx","n_sheets":1,"sheets":["001 - A (18x24 In)"],"not_rendered":{"charts":0,"images":0,"macros":0,"external_links":0,"defined_names":0,"comments":0,"pivot_tables":0},"unopened":[],"bounds":{"document_bytes":16777216,"sheet_cells":100000,"run_cost":"one","rows_first":2000,"rows_last":500,"rows_between":2000,"halvings":0,"cell_chars":16384,"cell_head_chars":4096},"cells_cut":0,"cells_raw":0,"read":"whole","date_system":"1900"}

{"sheet":"001 - A (18x24 In)","index":0,"n_rows":1000,"n_cols":6,"rows_kept":1000,"cut":false,"hidden":false,"merged":[[246,0,246,1]]}
["RWA Name","Frame Placement","Minimum Order Quantity(No Of Lifts)","Locality","Captive Households (no of flats)","Approx Reach"]
["(Tower-K) Amarprakash Temple Waves","left",6,"Kundrathur",230,920]
["(Tower-K) Amarprakash Temple Waves","Right",6,"Kundrathur",230,920]
["(Tower-L) Amarprakash Temple Waves","left",2,"Kundrathur",114,456]
["(Tower-L) Amarprakash Temple Waves","Right",2,"Kundrathur",114,456]
["(Tower-M) Amarprakash Temple Waves","left",2,"Kundrathur",350,1400]
["(Tower-M) Amarprakash Temple Waves","Right",2,"Kundrathur",350,1400]
["Adinath Shantiniketan","left",13,"Mannivakkam",428,1712]
["Adinath Shantiniketan","Right",13,"Mannivakkam",428,1712]
["Adroit District S","left",10,"Thalambur",394,1576]
["Adroit District S","Right",10,"Thalambur",394,1576]
["Akila heights","left",12,"Sembakkam",368,1472]
["Akila heights","Right",12,"Sembakkam",368,1472]
["AKS SERENITY","left",6,"Ayanambakkam",147,588]
["AKS SERENITY","Right",6,"Ayanambakkam",147,588]
["Akshaya Metropolis","left",22,"Chengalpattu",420,1680]
["Akshaya Metropolis","Right",22,"Chengalpattu",420,1680]
["Akshaya pacific city","left",8,"Mogappair West",118,472]
["Akshaya pacific city","Right",8,"Mogappair West",118,472]
["Alta Vida Apartments","left",11,"Kelambakkam,",298,1192]
["Alta Vida Apartments","Right",11,"Kelambakkam,",298,1192]
["Alta Vida Apartments","Center",11,"Kelambakkam,",298,1192]
["Amarprakash - Palm Riveria","left",14,"Irandankattalai","N/A","N/A"]
["Amarprakash - Palm Riveria","Right",14,"Irandankattalai","N/A","N/A"]
["Amarprakash The Royal Castle","left",28,"THirumudivakkam",987,3948]
["Amarprakash The Royal Castle","Right",28,"THirumudivakkam",987,3948]
["Amarprakash The Royal Castle","Center",28,"THirumudivakkam",987,3948]
["Ankur Vasanthi","left",1,"Choolai",26,104]
["Ankur Vasanthi","Right",1,"Choolai",26,104]
["Appaswamy Bloomingdale","left",22,"N/A","N/A","N/A"]
["Appaswamy Bloomingdale","Right",22,"N/A","N/A","N/A"]
["Appaswamy Bloomingdale","Center",22,"N/A","N/A","N/A"]
["Platina Apartment","left",7,"N/A","N/A","N/A"]
["Platina Apartment","Right",7,"N/A","N/A","N/A"]
["Appaswamy Cityside","left",8,"Perungudi",136,544]
["Appaswamy Cityside","Right",8,"Perungudi",136,544]
["Appaswamy Greensville","left",6,"Sholinganallur",320,1280]
["Appaswamy Greensville","Right",6,"Sholinganallur",320,1280]
["Arihant Heirloom","left",16,"Thazhambur",256,1024]
["Arihant Heirloom","Right",16,"Thazhambur",256,1024]
["Arihant Shivshakthi","left",4,"Periamet",60,240]
["Arihant Shivshakthi","Right",4,"Periamet",60,240]
["Aristo Apartment","left",2,"Urapakkam,",50,200]
["Aristo Apartment","Right",2,"Urapakkam,",50,200]
["Arun Excello Sankara","left",6,"Mambakkam",256,1024]
["Arun Excello Sankara","Right",6,"Mambakkam",256,1024]
["Asian Garden","left",4,"Villivakkam",60,240]
["Asian Garden","Right",4,"Villivakkam",60,240]
["Balaji Enclave","left",4,"Nerkundram",116,464]
["Balaji Enclave","Right",4,"Nerkundram",116,464]
["Bashyam Navarathna","left",8,"Chrompet",200,800]
["Bashyam Navarathna","Right",8,"Chrompet",200,800]
["BBC City Park","left",12,"Porur",120,480]
["BBC City Park","Right",12,"Porur",120,480]
["Brindhavan Towers","left",11,"K K Nagar",564,2256]
["Brindhavan Towers","Right",11,"K K Nagar",564,2256]
["Casa Grand Asta","left",10,"Korattur",325,1300]
["Casa Grand Asta","Right",10,"Korattur",325,1300]
["Casagrand Irene","left",15,"Manapakkam",305,1220]
["Casagrand Irene","Right",15,"Manapakkam",305,1220]
["Casagrand Primera","left",10,"Mugalivakkam,",188,752]
["Casagrand Primera","Right",10,"Mugalivakkam,",188,752]
["Casagrand Woodside","left",8,"Manapakkam",216,864]
["Casagrand Woodside","Right",8,"Manapakkam",216,864]
["Cherry Blossom","left",1,"Ayanambakkam",60,240]
["Chitra Township","left",6,"Pallavaram",182,728]
["Chitra Township","Right",6,"Pallavaram",182,728]
["Crescent Heights","left",4,"Semmanjeri",118,472]
["Crescent Heights","Right",4,"Semmanjeri",118,472]
["DABC Begonia","left",5,"Mambakkam",124,496]
["DABC Begonia","Right",5,"Mambakkam",124,496]
["DLF Gardencity","left",26,"Semmancheri",1748,6992]
["DLF Gardencity","Right",26,"Semmancheri",1748,6992]
["Doshi Etopia 2","left",8,"Perungudi",214,856]
["Doshi Etopia 2","Right",8,"Perungudi",214,856]
["Doshi Etopia Phase 1","left",8,"Perungudi",170,680]
["Doshi Etopia Phase 1","Right",8,"Perungudi",170,680]
["Doshi Trinity Park","left",3,"Sembakkam",63,252]
["Doshi Trinity Park","Right",3,"Sembakkam",63,252]
["DPR Marathi Peace","left",4,"Mugaliwakkam",100,400]
["DPR Marathi Peace","Right",4,"Mugaliwakkam",100,400]
["Emaar Grace - Tower 14","left",1,"Tondiarpet",164,656]
["Emaar Grace - Tower 14","Right",2,"Tondiarpet",164,656]
["ETA Rosedale Apartment","left",6,"Padur",364,1456]
["ETA Rosedale Apartment","Right",6,"Padur",364,1456]
["ETA Star Verde","left",4,"Porur",128,512]
["ETA Star Verde","Right",4,"Porur",128,512]
["Godrej Azure","left",6,"Padur",288,1152]
["Godrej Azure","Right",6,"Padur",288,1152]
["Godrej Palmgrove Apartment","left",16,"Chembarampakkam",490,1960]
["Godrej Palmgrove Apartment","Right",16,"Chembarampakkam",490,1960]
["Grihalakshmi Apartments","left",8,"Tondiarpet",187,748]
["Grihalakshmi Apartments","Right",8,"Tondiarpet",187,748]
["Hansa Citrine Apartment","left",2,"Thiruvottiyur",40,160]
["Hansa Citrine Apartment","Right",2,"Thiruvottiyur",40,160]
["Hansa Ruby","left",2,"Tiruvottiyur",40,160]
["Hansa Ruby","Right",2,"Tiruvottiyur",40,160]
["Hazel","left",8,"avadi",630,2520]
["Hazel","Right",8,"avadi",630,2520]
["Hiranandani Amalfi","Right",6,"Egattur",175,700]
["Imperial Towers","left",6,"Egattur",207,828]
["Imperial Towers","Right",6,"Egattur",207,828]
["Jains Abhineet","left",28,"Villivakkam,",152,608]
["Jains Abhineet","Right",28,"Villivakkam,",152,608]
["Jains Abhisek","left",12,"East Tambaram",244,976]
["Jains Abhisek","Right",12,"East Tambaram",244,976]
["Jains Ashraya Apartment","left",4,"Virugambakkam",140,560]
["Jains Ashraya Apartment","Right",4,"Virugambakkam",140,560]
["Jains Green Acres","left",21,"Pallavaram",684,2736]
["Jains Green Acres","Right",21,"Pallavaram",684,2736]
["Jamals Palazzo","left",4,"Keelkattalai",199,796]
["Jamals Palazzo","Right",4,"Keelkattalai",199,796]
["KG Earth Homes","left",10,"Siruseri",320,1280]
["KG Earth Homes","Right",10,"Siruseri",320,1280]
["KG Good Fortune","left",6,"Perumbakkam",176,704]
["KG Good Fortune","Right",6,"Perumbakkam",176,704]
["Kochar Arjun Garden","left",7,"Gerugambakkam",136,544]
["Kochar Arjun Garden","Right",7,"Gerugambakkam",136,544]
["Krita Apartment","left",15,"Selaiyur",146,584]
["Krita Apartment","Right",15,"Selaiyur",146,584]
["La Celeste Xs Real","left",24,"Mugalivakkam",420,1680]
["La Celeste Xs Real","Right",24,"Mugalivakkam",420,1680]
["Lakeside 1","left",6,"Puzhal",144,576]
["Lakeside 1","Right",6,"Puzhal",144,576]
["Magizhmadhi Apartment","left",4,"Ayyapakkam",168,672]
["Magizhmadhi Apartment","Right",4,"Ayyapakkam",168,672]
["Maple orchard (Ben Foundation)","left",8,"Anna Nagar West",210,840]
["Maple orchard (Ben Foundation)","Right",8,"Anna Nagar West",210,840]
["Marutham Royalwoods","left",3,"Vandalur",92,368]
["Marutham Royalwoods","Right",3,"Vandalur",92,368]
["Mithila Apartment","left",4,"Pallavaram",119,476]
["Mithila Apartment","Right",4,"Pallavaram",119,476]
["Muktha Nirmaan","left",4,"Porur",120,480]
["Muktha Nirmaan","Right",4,"Porur",120,480]
["Narumukhai","left",2,"Velachery",160,640]
["Narumukhai","Right",2,"Velachery",160,640]
["Newry Shanmita Apartment","left",9,"Medavakkam",168,672]
["Newry Shanmita Apartment","Right",9,"Medavakkam",168,672]
["NPL Anjli","left",13,"Villivakkam",196,784]
["NPL Anjli","Right",13,"Villivakkam",196,784]
["Optima Upgrade","left",8,"Avadi",180,720]
["Optima Upgrade","Right",8,"Avadi",180,720]
["Oxygen by Urban Tree","left",22,"Perumbakkam",636,2544]
["Oxygen by Urban Tree","Right",22,"Perumbakkam",636,2544]
["Pace Adarsa Apartments","left",12,"Tambaram",364,1456]
["Pace Adarsa Apartments","Right",12,"Tambaram",364,1456]
["Plaza tranquil acres phase 2","left",13,"Kovilambakkam",250,1000]
["Plaza tranquil acres phase 2","Right",13,"Kovilambakkam",250,1000]
["Pratibha Apartment","left",2,"T. Nagar",60,240]
["Pratibha Apartment","Right",2,"T. Nagar",60,240]
["Pristine Pavilion","left",10,"Chengalpattu",430,1720]
["Pristine Pavilion","Right",9,"Chengalpattu",430,1720]
["Pristine Pavilion","Center",9,"Chengalpattu",430,1720]
["Radiance Sapphire","left",2,"sholinganalur",104,416]
["Radiance Sapphire","Right",2,"sholinganalur",104,416]
["Raga Amrita","left",7,"Medavakkam",56,224]
["Raga Amrita","Right",7,"Medavakkam",56,224]
["Ragamalika Phase 1","left",3,"Medavakkam,",100,400]
["Ragamalika Phase 1","Right",3,"Medavakkam,",100,400]
["Ragamalika Phase 2","left",5,"Medavakkam",125,500]
["Ragamalika Phase 2","Right",5,"Medavakkam",125,500]
["Rajkham Silver Crest","left",7,"Madurapakkam",140,560]
["Rajkham Silver Crest","Right",7,"Madurapakkam",140,560]
["Ramaniyam Magnum","left",8,"Kottivakkam",219,876]
["Ramaniyam Magnum","Right",8,"Kottivakkam",219,876]
["Ramaniyam Ocean Dew","left",6,"Pallikaranai",283,1132]
["Ramaniyam Ocean Dew","Right",6,"Pallikaranai",283,1132]
["RC Blossoms","left",7,"Perumbakkam",142,568]
["RC Blossoms","Right",8,"Perumbakkam",142,568]
["S&P Essense","left",12,"Ayanambakkam",185,740]
["S&P Essense","Right",12,"Ayanambakkam",185,740]
["S&S Uni5","left",4,"Korattur",128,512]
["S&S Uni5","Right",4,"Korattur",128,512]
["Sabari Terrace","left",4,"Sholinganallur",85,340]
["Sabari Terrace","Right",4,"Sholinganallur",85,340]
["Salma Pineridge","left",4,"Velachery",66,264]
["Salma Pineridge","Right",4,"Velachery",66,264]
["Santorini by TATA Value Homes","left",24,"Kuthambakkam",450,1800]
["Santorini by TATA Value Homes","Right",24,"Kuthambakkam",450,1800]
["Sidharth Upscale","Center",12,"Madhandapuram",388,1552]
["Sky Park Residences","left",4,"Pallavaram",180,720]
["Sky Park Residences","Right",4,"Pallavaram",180,720]
["Sunnyvale Apartment","left",10,"Ayanavaram",450,1800]
["Sunnyvale Apartment","Right",10,"Ayanavaram",450,1800]
["Suraj and Chand apartment","left",4,"Thiruvanmiyur",147,588]
["Suraj and Chand apartment","Right",4,"Thiruvanmiyur",147,588]
["The Central Park East","left",12,"Sholinganallur",191,764]
["The Central Park East","Right",12,"Sholinganallur",191,764]
["TVS Green Hills","left",12,"Perungalathur",448,1792]
["TVS Green Hills","Right",12,"Perungalathur",448,1792]
["Vaikund Sundaram","left",20,"Karapakkam",385,1540]
["Vaikund Sundaram","Right",20,"Karapakkam",385,1540]
["Valencia Apartment","left",15,"Egattur",256,1024]
["Valencia Apartment","Right",15,"Egattur",256,1024]
["Vandalur Park Residency","left",9,"Urapakkam",280,1120]
["Vandalur Park Residency","Right",9,"Urapakkam",280,1120]
["VGN Imperia Phase 3","left",8,"Maduravoyal",168,672]
["VGN Imperia Phase 3","Right",8,"Maduravoyal",168,672]
["VGN Imperia Phase 4","left",4,"Maduravoyal",120,480]
["VGN Imperia Phase 4","Right",4,"Maduravoyal",120,480]
["VGN Minerva","left",43,"Arumbakkam",572,2288]
["VGN Minerva","Right",43,"Arumbakkam",572,2288]
["VGN Stafford","left",39,"Avadi",1280,5120]
["VGN Stafford","Right",39,"Avadi",1280,5120]
["VGN Zodiac Ville","left",3,"Mogappair",64,256]
["VGN Zodiac Ville","Right",3,"Mogappair",64,256]
["Vijay shanthi Park Avenue","left",14,"Kandigai",420,1680]
["Vijay shanthi Park Avenue","Right",14,"Kandigai",420,1680]
["Wow by Urban Tree","left",10,"Medavakkam",160,640]
["Wow by Urban Tree","Right",10,"Medavakkam",160,640]
["XS Real Harmony","left",6,"Padur",228,912]
["XS Real Harmony","Right",6,"Padur",228,912]
["XS Real Symphony","left",4,"Padur",228,912]
["XS Real Symphony","Right",4,"Padur",228,912]
["Yuga Kalpataru Apartments","left",6,"Koyambedu",216,864]
["Yuga Kalpataru Apartments","Right",7,"Koyambedu",216,864]
["Appaswamy Trellis","left",6,"Vadapalani",252,1008]
["Appaswamy Trellis","Right",6,"Vadapalani",252,1008]
["Jains Inseli Park","left",20,"Padur",808,3232]
["Jains Inseli Park","Right",20,"Padur",808,3232]
["Khurinji Zinnia","left",4,"Tambaram",126,504]
["Khurinji Zinnia","Right",4,"Tambaram",126,504]
["GT Cholayil Residency","left",7,"Koyambedu",139,556]
["GT Cholayil Residency","Right",7,"Koyambedu",139,556]
["TVH Svasti","left",9,"THoraipakkam",300,1200]
["TVH Svasti","Right",9,"THoraipakkam",300,1200]
["Osian Chlorophyll","left",14,"Porur",1050,4200]
["Osian Chlorophyll","Right",15,"Porur",1050,4200]
["Narumukhai","left",2,"Velachery",160,640]
["Narumukhai","Right",2,"Velachery",160,640]
["VGN Amity(new)","left",6,"Avadi",271,1084]
["VGN Amity(new)","Right",6,"Avadi",271,1084]
["Casagrand Smart Town","left",16,"N/A","N/A","N/A"]
["Casagrand Smart Town","Right",16,"N/A","N/A","N/A"]
["Air View Apartment","left",7,"N/A","N/A","N/A"]
["Air View Apartment","Right",7,"N/A","N/A","N/A"]
["XS Real Catalunya City - Flamenco","left",2,"N/A","N/A","N/A"]
["XS Real Catalunya City - Flamenco","Right",2,"N/A","N/A","N/A"]
["Alliance Orchid Springs - Hibiscus","left",4,"N/A","N/A","N/A"]
["Alliance Orchid Springs - Hibiscus","Right",4,"N/A","N/A","N/A"]
["Jamals Luxor","left",5,"N/A","N/A","N/A"]
["Jamals Luxor","Right",5,"N/A","N/A","N/A"]
["LML Prakriti","left",10,"N/A","N/A","N/A"]
["LML Prakriti","Right",10,"N/A","N/A","N/A"]
["Green Acres Phase 2","left",5,"N/A","N/A","N/A"]
["Green Acres Phase 2","Right",5,"N/A","N/A","N/A"]
["Total",null,{"$f":"SUM(C2:C246)","v":2282},{"$f":"IFERROR(__xludf.DUMMYFUNCTION(\"iferror(VLOOKUP(B247,IMPORTRANGE(\"\"https://docs.google.com/spreadsheets/d/1c3Ia3eDo4sfDZb6ajW2WVML4MhoKXWIVRbYqnsZgQRs/edit#gid=0\"\",\"\"RWA!F:BZ\"\"),44,0))\"),\"\")","v":""},{"$f":"SUM(E2:E246)","v":60748},{"$f":"SUM(F2:F246)","v":242992}]
[null,null,null,{"$f":"IFERROR(__xludf.DUMMYFUNCTION(\"iferror(VLOOKUP(B248,IMPORTRANGE(\"\"https://docs.google.com/spreadsheets/d/1c3Ia3eDo4sfDZb6ajW2WVML4MhoKXWIVRbYqnsZgQRs/edit#gid=0\"\",\"\"RWA!F:BZ\"\"),44,0))\"),\"\")","v":""},{"$f":"IFERROR(__xludf.DUMMYFUNCTION(\"iferror(VLOOKUP(B248,IMPORTRANGE(\"\"https://docs.google.com/spreadsheets/d/1c3Ia3eDo4sfDZb6ajW2WVML4MhoKXWIVRbYqnsZgQRs/edit#gid=0\"\",\"\"RWA!F:BZ\"\"),48,0))\"),\"\")","v":""},{"$f":"IFERROR(__xludf.DUMMYFUNCTION(\"iferror(VLOOKUP(B248,IMPORTRANGE(\"\"https://docs.google.com/spreadsheets/d/1c3Ia3eDo4sfDZb6ajW2WVML4MhoKXWIVRbYqnsZgQRs/edit#gid=0\"\",\"\"RWA!F:BZ\"\"),49,0))\"),\"\")","v":""}]
[null,null,null,{"$f":"IFERROR(__xludf.DUMMYFUNCTION(\"iferror(VLOOKUP(B249,IMPORTRANGE(\"\"https://docs.google.com/spreadsheets/d/1c3Ia3eDo4sfDZb6ajW2WVML4MhoKXWIVRbYqnsZgQRs/edit#gid=0\"\",\"\"RWA!F:BZ\"\"),44,0))\"),\"\")","v":""},{"$f":"IFERROR(__xludf.DUMMYFUNCTION(\"iferror(VLOOKUP(B249,IMPORTRANGE(\"\"https://docs.google.com/spreadsheets/d/1c3Ia3eDo4sfDZb6ajW2WVML4MhoKXWIVRbYqnsZgQRs/edit#gid=0\"\",\"\"RWA!F:BZ\"\"),48,0))\"),\"\")","v":""},{"$f":"IFERROR(__xludf.DUMMYFUNCTION(\"iferror(VLOOKUP(B249,IMPORTRANGE(\"\"https://docs.google.com/spreadsheets/d/1c3Ia3eDo4sfDZb6ajW2WVML4MhoKXWIVRbYqnsZgQRs/edit#gid=0\"\",\"\"RWA!F:BZ\"\"),49,0))\"),\"\")","v":""}]
[null,null,null,{"$f":"IFERROR(__xludf.DUMMYFUNCTION(\"iferror(VLOOKUP(B250,IMPORTRANGE(\"\"https://docs.google.com/spreadsheets/d/1c3Ia3eDo4sfDZb6ajW2WVML4MhoKXWIVRbYqnsZgQRs/edit#gid=0\"\",\"\"RWA!F:BZ\"\"),44,0))\"),\"\")","v":""},{"$f":"IFERROR(__xludf.DUMMYFUNCTION(\"iferror(VLOOKUP(B250,IMPORTRANGE(\"\"https://docs.google.com/spreadsheets/d/1c3Ia3eDo4sfDZb6ajW2WVML4MhoKXWIVRbYqnsZgQRs/edit#gid=0\"\",\"\"RWA!F:BZ\"\"),48,0))\"),\"\")","v":""},{"$f":"IFERROR(__xludf.DUMMYFUNCTION(\"iferror(VLOOKUP(B250,IMPORTRANGE(\"\"https://docs.google.com/spreadsheets/d/1c3Ia3eDo4sfDZb6ajW2WVML4MhoKXWIVRbYqnsZgQRs/edit#gid=0\"\",\"\"RWA!F:BZ\"\"),49,0))\"),\"\")","v":""}]
[null,null,null,{"$f":"IFERROR(__xludf.DUMMYFUNCTION(\"iferror(VLOOKUP(B251,IMPORTRANGE(\"\"https://docs.google.com/spreadsheets/d/1c3Ia3eDo4sfDZb6ajW2WVML4MhoKXWIVRbYqnsZgQRs/edit#gid=0\"\",\"\"RWA!F:BZ\"\"),44,0))\"),\"\")","v":""},{"$f":"IFERROR(__xludf.DUMMYFUNCTION(\"iferror(VLOOKUP(B251,IMPORTRANGE(\"\"https://docs.google.com/spreadsheets/d/1c3Ia3eDo4sfDZb6ajW2WVML4MhoKXWIVRbYqnsZgQRs/edit#gid=0\"\",\"\"RWA!F:BZ\"\"),48,0))\"),\"\")","v":""},{"$f":"IFERROR(__xludf.DUMMYFUNCTION(\"iferror(VLOOKUP(B251,IMPORTRANGE(\"\"https://docs.google.com/spreadsheets/d/1c3Ia3eDo4sfDZb6ajW2WVML4MhoKXWIVRbYqnsZgQRs/edit#gid=0\"\",\"\"RWA!F:BZ\"\"),49,0))\"),\"\")","v":""}]
[null,null,null,{"$f":"IFERROR(__xludf.DUMMYFUNCTION(\"iferror(VLOOKUP(B252,IMPORTRANGE(\"\"https://docs.google.com/spreadsheets/d/1c3Ia3eDo4sfDZb6ajW2WVML4MhoKXWIVRbYqnsZgQRs/edit#gid=0\"\",\"\"RWA!F:BZ\"\"),44,0))\"),\"\")","v":""},{"$f":"IFERROR(__xludf.DUMMYFUNCTION(\"iferror(VLOOKUP(B252,IMPORTRANGE(\"\"https://docs.google.com/spreadsheets/d/1c3Ia3eDo4sfDZb6ajW2WVML4MhoKXWIVRbYqnsZgQRs/edit#gid=0\"\",\"\"RWA!F:BZ\"\"),48,0))\"),\"\")","v":""},{"$f":"IFERROR(__xludf.DUMMYFUNCTION(\"iferror(VLOOKUP(B252,IMPORTRANGE(\"\"https://docs.google.com/spreadsheets/d/1c3Ia3eDo4sfDZb6ajW2WVML4MhoKXWIVRbYqnsZgQRs/edit#gid=0\"\",\"\"RWA!F:BZ\"\"),49,0))\"),\"\")","v":""}]
[null,null,null,{"$f":"IFERROR(__xludf.DUMMYFUNCTION(\"iferror(VLOOKUP(B253,IMPORTRANGE(\"\"https://docs.google.com/spreadsheets/d/1c3Ia3eDo4sfDZb6ajW2WVML4MhoKXWIVRbYqnsZgQRs/edit#gid=0\"\",\"\"RWA!F:BZ\"\"),44,0))\"),\"\")","v":""},{"$f":"IFERROR(__xludf.DUMMYFUNCTION(\"iferror(VLOOKUP(B253,IMPORTRANGE(\"\"https://docs.google.com/spreadsheets/d/1c3Ia3eDo4sfDZb6ajW2WVML4MhoKXWIVRbYqnsZgQRs/edit#gid=0\"\",\"\"RWA!F:BZ\"\"),48,0))\"),\"\")","v":""},{"$f":"IFERROR(__xludf.DUMMYFUNCTION(\"iferror(VLOOKUP(B253,IMPORTRANGE(\"\"https://docs.google.com/spreadsheets/d/1c3Ia3eDo4sfDZb6ajW2WVML4MhoKXWIVRbYqnsZgQRs/edit#gid=0\"\",\"\"RWA!F:BZ\"\"),49,0))\"),\"\")","v":""}]
[null,null,null,{"$f":"IFERROR(__xludf.DUMMYFUNCTION(\"iferror(VLOOKUP(B254,IMPORTRANGE(\"\"https://docs.google.com/spreadsheets/d/1c3Ia3eDo4sfDZb6ajW2WVML4MhoKXWIVRbYqnsZgQRs/edit#gid=0\"\",\"\"RWA!F:BZ\"\"),44,0))\"),\"\")","v":""},{"$f":"IFERROR(__xludf.DUMMYFUNCTION(\"iferror(VLOOKUP(B254,IMPORTRANGE(\"\"https://docs.google.com/spreadsheets/d/1c3Ia3eDo4sfDZb6ajW2WVML4MhoKXWIVRbYqnsZgQRs/edit#gid=0\"\",\"\"RWA!F:BZ\"\"),48,0))\"),\"\")","v":""},{"$f":"IFERROR(__xludf.DUMMYFUNCTION(\"iferror(VLOOKUP(B254,IMPORTRANGE(\"\"https://docs.google.com/spreadsheets/d/1c3Ia3eDo4sfDZb6ajW2WVML4MhoKXWIVRbYqnsZgQRs/edit#gid=0\"\",\"\"RWA!F:BZ\"\"),49,0))\"),\"\")","v":""}]
[null,null,null,{"$f":"IFERROR(__xludf.DUMMYFUNCTION(\"iferror(VLOOKUP(B255,IMPORTRANGE(\"\"https://docs.google.com/spreadsheets/d/1c3Ia3eDo4sfDZb6ajW2WVML4MhoKXWIVRbYqnsZgQRs/edit#gid=0\"\",\"\"RWA!F:BZ\"\"),44,0))\"),\"\")","v":""},{"$f":"IFERROR(__xludf.DUMMYFUNCTION(\"iferror(VLOOKUP(B255,IMPORTRANGE(\"\"https://docs.google.com/spreadsheets/d/1c3Ia3eDo4sfDZb6ajW2WVML4MhoKXWIVRbYqnsZgQRs/edit#gid=0\"\",\"\"RWA!F:BZ\"\"),48,0))\"),\"\")","v":""},{"$f":"IFERROR(__xludf.DUMMYFUNCTION(\"iferror(VLOOKUP(B255,IMPORTRANGE(\"\"https://docs.google.com/spreadsheets/d/1c3Ia3eDo4sfDZb6ajW2WVML4MhoKXWIVRbYqnsZgQRs/edit#gid=0\"\",\"\"RWA!F:BZ\"\"),49,0))\"),\"\")","v":""}]
[null,null,null,{"$f":"IFERROR(__xludf.DUMMYFUNCTION(\"iferror(VLOOKUP(B256,IMPORTRANGE(\"\"https://docs.google.com/spreadsheets/d/1c3Ia3eDo4sfDZb6ajW2WVML4MhoKXWIVRbYqnsZgQRs/edit#gid=0\"\",\"\"RWA!F:BZ\"\"),44,0))\"),\"\")","v":""},{"$f":"IFERROR(__xludf.DUMMYFUNCTION(\"iferror(VLOOKUP(B256,IMPORTRANGE(\"\"https://docs.google.com/spreadsheets/d/1c3Ia3eDo4sfDZb6ajW2WVML4MhoKXWIVRbYqnsZgQRs/edit#gid=0\"\",\"\"RWA!F:BZ\"\"),48,0))\"),\"\")","v":""},{"$f":"IFERROR(__xludf.DUMMYFUNCTION(\"iferror(VLOOKUP(B256,IMPORTRANGE(\"\"https://docs.google.com/spreadsheets/d/1c3Ia3eDo4sfDZb6ajW2WVML4MhoKXWIVRbYqnsZgQRs/edit#gid=0\"\",\"\"RWA!F:BZ\"\"),49,0))\"),\"\")","v":""}]
[null,null,null,{"$f":"IFERROR(__xludf.DUMMYFUNCTION(\"iferror(VLOOKUP(B257,IMPORTRANGE(\"\"https://docs.google.com/spreadsheets/d/1c3Ia3eDo4sfDZb6ajW2WVML4MhoKXWIVRbYqnsZgQRs/edit#gid=0\"\",\"\"RWA!F:BZ\"\"),44,0))\"),\"\")","v":""},{"$f":"IFERROR(__xludf.DUMMYFUNCTION(\"iferror(VLOOKUP(B257,IMPORTRANGE(\"\"https://docs.google.com/spreadsheets/d/1c3Ia3eDo4sfDZb6ajW2WVML4MhoKXWIVRbYqnsZgQRs/edit#gid=0\"\",\"\"RWA!F:BZ\"\"),48,0))\"),\"\")","v":""},{"$f":"IFERROR(__xludf.DUMMYFUNCTION(\"iferror(VLOOKUP(B257,IMPORTRANGE(\"\"https://docs.google.com/spreadsheets/d/1c3Ia3eDo4sfDZb6ajW2WVML4MhoKXWIVRbYqnsZgQRs/edit#gid=0\"\",\"\"RWA!F:BZ\"\"),49,0))\"),\"\")","v":""}]
[null,null,null,{"$f":"IFERROR(__xludf.DUMMYFUNCTION(\"iferror(VLOOKUP(B258,IMPORTRANGE(\"\"https://docs.google.com/spreadsheets/d/1c3Ia3eDo4sfDZb6ajW2WVML4MhoKXWIVRbYqnsZgQRs/edit#gid=0\"\",\"\"RWA!F:BZ\"\"),44,0))\"),\"\")","v":""},{"$f":"IFERROR(__xludf.DUMMYFUNCTION(\"iferror(VLOOKUP(B258,IMPORTRANGE(\"\"https://docs.google.com/spreadsheets/d/1c3Ia3eDo4sfDZb6ajW2WVML4MhoKXWIVRbYqnsZgQRs/edit#gid=0\"\",\"\"RWA!F:BZ\"\"),48,0))\"),\"\")","v":""},{"$f":"IFERROR(__xludf.DUMMYFUNCTION(\"iferror(VLOOKUP(B258,IMPORTRANGE(\"\"https://docs.google.com/spreadsheets/d/1c3Ia3eDo4sfDZb6ajW2WVML4MhoKXWIVRbYqnsZgQRs/edit#gid=0\"\",\"\"RWA!F:BZ\"\"),49,0))\"),\"\")","v":""}]
[null,null,null,{"$f":"IFERROR(__xludf.DUMMYFUNCTION(\"iferror(VLOOKUP(B259,IMPORTRANGE(\"\"https://docs.google.com/spreadsheets/d/1c3Ia3eDo4sfDZb6ajW2WVML4MhoKXWIVRbYqnsZgQRs/edit#gid=0\"\",\"\"RWA!F:BZ\"\"),44,0))\"),\"\")","v":""},{"$f":"IFERROR(__xludf.DUMMYFUNCTION(\"iferror(VLOOKUP(B259,IMPORTRANGE(\"\"https://docs.google.com/spreadsheets/d/1c3Ia3eDo4sfDZb6ajW2WVML4MhoKXWIVRbYqnsZgQRs/edit#gid=0\"\",\"\"RWA!F:BZ\"\"),48,0))\"),\"\")","v":""},{"$f":"IFERROR(__xludf.DUMMYFUNCTION(\"iferror(VLOOKUP(B259,IMPORTRANGE(\"\"https://docs.google.com/spreadsheets/d/1c3Ia3eDo4sfDZb6ajW2WVML4MhoKXWIVRbYqnsZgQRs/edit#gid=0\"\",\"\"RWA!F:BZ\"\"),49,0))\"),\"\")","v":""}]
[null,null,null,{"$f":"IFERROR(__xludf.DUMMYFUNCTION(\"iferror(VLOOKUP(B260,IMPORTRANGE(\"\"https://docs.google.com/spreadsheets/d/1c3Ia3eDo4sfDZb6ajW2WVML4MhoKXWIVRbYqnsZgQRs/edit#gid=0\"\",\"\"RWA!F:BZ\"\"),44,0))\"),\"\")","v":""},{"$f":"IFERROR(__xludf.DUMMYFUNCTION(\"iferror(VLOOKUP(B260,IMPORTRANGE(\"\"https://docs.google.com/spreadsheets/d/1c3Ia3eDo4sfDZb6ajW2WVML4MhoKXWIVRbYqnsZgQRs/edit#gid=0\"\",\"\"RWA!F:BZ\"\"),48,0))\"),\"\")","v":""},{"$f":"IFERROR(__xludf.DUMMYFUNCTION(\"iferror(VLOOKUP(B260,IMPORTRANGE(\"\"https://docs.google.com/spreadsheets/d/1c3Ia3eDo4sfDZb6ajW2WVML4MhoKXWIVRbYqnsZgQRs/edit#gid=0\"\",\"\"RWA!F:BZ\"\"),49,0))\"),\"\")","v":""}]
[null,null,null,{"$f":"IFERROR(__xludf.DUMMYFUNCTION(\"iferror(VLOOKUP(B261,IMPORTRANGE(\"\"https://docs.google.com/spreadsheets/d/1c3Ia3eDo4sfDZb6ajW2WVML4MhoKXWIVRbYqnsZgQRs/edit#gid=0\"\",\"\"RWA!F:BZ\"\"),44,0))\"),\"\")","v":""},{"$f":"IFERROR(__xludf.DUMMYFUNCTION(\"iferror(VLOOKUP(B261,IMPORTRANGE(\"\"https://docs.google.com/spreadsheets/d/1c3Ia3eDo4sfDZb6ajW2WVML4MhoKXWIVRbYqnsZgQRs/edit#gid=0\"\",\"\"RWA!F:BZ\"\"),48,0))\"),\"\")","v":""},{"$f":"IFERROR(__xludf.DUMMYFUNCTION(\"iferror(VLOOKUP(B261,IMPORTRANGE(\"\"https://docs.google.com/spreadsheets/d/1c3Ia3eDo4sfDZb6ajW2WVML4MhoKXWIVRbYqnsZgQRs/edit#gid=0\"\",\"\"RWA!F:BZ\"\"),49,0))\"),\"\")","v":""}]
[null,null,null,{"$f":"IFERROR(__xludf.DUMMYFUNCTION(\"iferror(VLOOKUP(B262,IMPORTRANGE(\"\"https://docs.google.com/spreadsheets/d/1c3Ia3eDo4sfDZb6ajW2WVML4MhoKXWIVRbYqnsZgQRs/edit#gid=0\"\",\"\"RWA!F:BZ\"\"),44,0))\"),\"\")","v":""},{"$f":"IFERROR(__xludf.DUMMYFUNCTION(\"iferror(VLOOKUP(B262,IMPORTRANGE(\"\"https://docs.google.com/spreadsheets/d/1c3Ia3eDo4sfDZb6ajW2WVML4MhoKXWIVRbYqnsZgQRs/edit#gid=0\"\",\"\"RWA!F:BZ\"\"),48,0))\"),\"\")","v":""},{"$f":"IFERROR(__xludf.DUMMYFUNCTION(\"iferror(VLOOKUP(B262,IMPORTRANGE(\"\"https://docs.google.com/spreadsheets/d/1c3Ia3eDo4sfDZb6ajW2WVML4MhoKXWIVRbYqnsZgQRs/edit#gid=0\"\",\"\"RWA!F:BZ\"\"),49,0))\"),\"\")","v":""}]
[null,null,null,{"$f":"IFERROR(__xludf.DUMMYFUNCTION(\"iferror(VLOOKUP(B263,IMPORTRANGE(\"\"https://docs.google.com/spreadsheets/d/1c3Ia3eDo4sfDZb6ajW2WVML4MhoKXWIVRbYqnsZgQRs/edit#gid=0\"\",\"\"RWA!F:BZ\"\"),44,0))\"),\"\")","v":""},{"$f":"IFERROR(__xludf.DUMMYFUNCTION(\"iferror(VLOOKUP(B263,IMPORTRANGE(\"\"https://docs.google.com/spreadsheets/d/1c3Ia3eDo4sfDZb6ajW2WVML4MhoKXWIVRbYqnsZgQRs/edit#gid=0\"\",\"\"RWA!F:BZ\"\"),48,0))\"),\"\")","v":""},{"$f":"IFERROR(__xludf.DUMMYFUNCTION(\"iferror(VLOOKUP(B263,IMPORTRANGE(\"\"https://docs.google.com/spreadsheets/d/1c3Ia3eDo4sfDZb6ajW2WVML4MhoKXWIVRbYqnsZgQRs/edit#gid=0\"\",\"\"RWA!F:BZ\"\"),49,0))\"),\"\")","v":""}]
[null,null,null,{"$f":"IFERROR(__xludf.DUMMYFUNCTION(\"iferror(VLOOKUP(B264,IMPORTRANGE(\"\"https://docs.google.com/spreadsheets/d/1c3Ia3eDo4sfDZb6ajW2WVML4MhoKXWIVRbYqnsZgQRs/edit#gid=0\"\",\"\"RWA!F:BZ\"\"),44,0))\"),\"\")","v":""},{"$f":"IFERROR(__xludf.DUMMYFUNCTION(\"iferror(VLOOKUP(B264,IMPORTRANGE(\"\"https://docs.google.com/spreadsheets/d/1c3Ia3eDo4sfDZb6ajW2WVML4MhoKXWIVRbYqnsZgQRs/edit#gid=0\"\",\"\"RWA!F:BZ\"\"),48,0))\"),\"\")","v":""},{"$f":"IFERROR(__xludf.DUMMYFUNCTION(\"iferror(VLOOKUP(B264,IMPORTRANGE(\"\"https://docs.google.com/spreadsheets/d/1c3Ia3eDo4sfDZb6ajW2WVML4MhoKXWIVRbYqnsZgQRs/edit#gid=0\"\",\"\"RWA!F:BZ\"\"),49,0))\"),\"\")","v":""}]
[null,null,null,{"$f":"IFERROR(__xludf.DUMMYFUNCTION(\"iferror(VLOOKUP(B265,IMPORTRANGE(\"\"https://docs.google.com/spreadsheets/d/1c3Ia3eDo4sfDZb6ajW2WVML4MhoKXWIVRbYqnsZgQRs/edit#gid=0\"\",\"\"RWA!F:BZ\"\"),44,0))\"),\"\")","v":""},{"$f":"IFERROR(__xludf.DUMMYFUNCTION(\"iferror(VLOOKUP(B265,IMPORTRANGE(\"\"https://docs.google.com/spreadsheets/d/1c3Ia3eDo4sfDZb6ajW2WVML4MhoKXWIVRbYqnsZgQRs/edit#gid=0\"\",\"\"RWA!F:BZ\"\"),48,0))\"),\"\")","v":""},{"$f":"IFERROR(__xludf.DUMMYFUNCTION(\"iferror(VLOOKUP(B265,IMPORTRANGE(\"\"https://docs.google.com/spreadsheets/d/1c3Ia3eDo4sfDZb6ajW2WVML4MhoKXWIVRbYqnsZgQRs/edit#gid=0\"\",\"\"RWA!F:BZ\"\"),49,0))\"),\"\")","v":""}]
[null,null,null,{"$f":"IFERROR(__xludf.DUMMYFUNCTION(\"iferror(VLOOKUP(B266,IMPORTRANGE(\"\"https://docs.google.com/spreadsheets/d/1c3Ia3eDo4sfDZb6ajW2WVML4MhoKXWIVRbYqnsZgQRs/edit#gid=0\"\",\"\"RWA!F:BZ\"\"),44,0))\"),\"\")","v":""},{"$f":"IFERROR(__xludf.DUMMYFUNCTION(\"iferror(VLOOKUP(B266,IMPORTRANGE(\"\"https://docs.google.com/spreadsheets/d/1c3Ia3eDo4sfDZb6ajW2WVML4MhoKXWIVRbYqnsZgQRs/edit#gid=0\"\",\"\"RWA!F:BZ\"\"),48,0))\"),\"\")","v":""},{"$f":"IFERROR(__xludf.DUMMYFUNCTION(\"iferror(VLOOKUP(B266,IMPORTRANGE(\"\"https://docs.google.com/spreadsheets/d/1c3Ia3eDo4sfDZb6ajW2WVML4MhoKXWIVRbYqnsZgQRs/edit#gid=0\"\",\"\"RWA!F:BZ\"\"),49,0))\"),\"\")","v":""}]
[null,null,null,{"$f":"IFERROR(__xludf.DUMMYFUNCTION(\"iferror(VLOOKUP(B267,IMPORTRANGE(\"\"https://docs.google.com/spreadsheets/d/1c3Ia3eDo4sfDZb6ajW2WVML4MhoKXWIVRbYqnsZgQRs/edit#gid=0\"\",\"\"RWA!F:BZ\"\"),44,0))\"),\"\")","v":""},{"$f":"IFERROR(__xludf.DUMMYFUNCTION(\"iferror(VLOOKUP(B267,IMPORTRANGE(\"\"https://docs.google.com/spreadsheets/d/1c3Ia3eDo4sfDZb6ajW2WVML4MhoKXWIVRbYqnsZgQRs/edit#gid=0\"\",\"\"RWA!F:BZ\"\"),48,0))\"),\"\")","v":""},{"$f":"IFERROR(__xludf.DUMMYFUNCTION(\"iferror(VLOOKUP(B267,IMPORTRANGE(\"\"https://docs.google.com/spreadsheets/d/1c3Ia3eDo4sfDZb6ajW2WVML4MhoKXWIVRbYqnsZgQRs/edit#gid=0\"\",\"\"RWA!F:BZ\"\"),49,0))\"),\"\")","v":""}]
[null,null,null,{"$f":"IFERROR(__xludf.DUMMYFUNCTION(\"iferror(VLOOKUP(B268,IMPORTRANGE(\"\"https://docs.google.com/spreadsheets/d/1c3Ia3eDo4sfDZb6ajW2WVML4MhoKXWIVRbYqnsZgQRs/edit#gid=0\"\",\"\"RWA!F:BZ\"\"),44,0))\"),\"\")","v":""},{"$f":"IFERROR(__xludf.DUMMYFUNCTION(\"iferror(VLOOKUP(B268,IMPORTRANGE(\"\"https://docs.google.com/spreadsheets/d/1c3Ia3eDo4sfDZb6ajW2WVML4MhoKXWIVRbYqnsZgQRs/edit#gid=0\"\",\"\"RWA!F:BZ\"\"),48,0))\"),\"\")","v":""},{"$f":"IFERROR(__xludf.DUMMYFUNCTION(\"iferror(VLOOKUP(B268,IMPORTRANGE(\"\"https://docs.google.com/spreadsheets/d/1c3Ia3eDo4sfDZb6ajW2WVML4MhoKXWIVRbYqnsZgQRs/edit#gid=0\"\",\"\"RWA!F:BZ\"\"),49,0))\"),\"\")","v":""}]
[null,null,null,{"$f":"IFERROR(__xludf.DUMMYFUNCTION(\"iferror(VLOOKUP(B269,IMPORTRANGE(\"\"https://docs.google.com/spreadsheets/d/1c3Ia3eDo4sfDZb6ajW2WVML4MhoKXWIVRbYqnsZgQRs/edit#gid=0\"\",\"\"RWA!F:BZ\"\"),44,0))\"),\"\")","v":""},{"$f":"IFERROR(__xludf.DUMMYFUNCTION(\"iferror(VLOOKUP(B269,IMPORTRANGE(\"\"https://docs.google.com/spreadsheets/d/1c3Ia3eDo4sfDZb6ajW2WVML4MhoKXWIVRbYqnsZgQRs/edit#gid=0\"\",\"\"RWA!F:BZ\"\"),48,0))\"),\"\")","v":""},{"$f":"IFERROR(__xludf.DUMMYFUNCTION(\"iferror(VLOOKUP(B269,IMPORTRANGE(\"\"https://docs.google.com/spreadsheets/d/1c3Ia3eDo4sfDZb6ajW2WVML4MhoKXWIVRbYqnsZgQRs/edit#gid=0\"\",\"\"RWA!F:BZ\"\"),49,0))\"),\"\")","v":""}]
[null,null,null,{"$f":"IFERROR(__xludf.DUMMYFUNCTION(\"iferror(VLOOKUP(B270,IMPORTRANGE(\"\"https://docs.google.com/spreadsheets/d/1c3Ia3eDo4sfDZb6ajW2WVML4MhoKXWIVRbYqnsZgQRs/edit#gid=0\"\",\"\"RWA!F:BZ\"\"),44,0))\"),\"\")","v":""},{"$f":"IFERROR(__xludf.DUMMYFUNCTION(\"iferror(VLOOKUP(B270,IMPORTRANGE(\"\"https://docs.google.com/spreadsheets/d/1c3Ia3eDo4sfDZb6ajW2WVML4MhoKXWIVRbYqnsZgQRs/edit#gid=0\"\",\"\"RWA!F:BZ\"\"),48,0))\"),\"\")","v":""},{"$f":"IFERROR(__xludf.DUMMYFUNCTION(\"iferror(VLOOKUP(B270,IMPORTRANGE(\"\"https://docs.google.com/spreadsheets/d/1c3Ia3eDo4sfDZb6ajW2WVML4MhoKXWIVRbYqnsZgQRs/edit#gid=0\"\",\"\"RWA!F:BZ\"\"),49,0))\"),\"\")","v":""}]
[null,null,null,{"$f":"IFERROR(__xludf.DUMMYFUNCTION(\"iferror(VLOOKUP(B271,IMPORTRANGE(\"\"https://docs.google.com/spreadsheets/d/1c3Ia3eDo4sfDZb6ajW2WVML4MhoKXWIVRbYqnsZgQRs/edit#gid=0\"\",\"\"RWA!F:BZ\"\"),44,0))\"),\"\")","v":""},{"$f":"IFERROR(__xludf.DUMMYFUNCTION(\"iferror(VLOOKUP(B271,IMPORTRANGE(\"\"https://docs.google.com/spreadsheets/d/1c3Ia3eDo4sfDZb6ajW2WVML4MhoKXWIVRbYqnsZgQRs/edit#gid=0\"\",\"\"RWA!F:BZ\"\"),48,0))\"),\"\")","v":""},{"$f":"IFERROR(__xludf.DUMMYFUNCTION(\"iferror(VLOOKUP(B271,IMPORTRANGE(\"\"https://docs.google.com/spreadsheets/d/1c3Ia3eDo4sfDZb6ajW2WVML4MhoKXWIVRbYqnsZgQRs/edit#gid=0\"\",\"\"RWA!F:BZ\"\"),49,0))\"),\"\")","v":""}]
[null,null,null,{"$f":"IFERROR(__xludf.DUMMYFUNCTION(\"iferror(VLOOKUP(B272,IMPORTRANGE(\"\"https://docs.google.com/spreadsheets/d/1c3Ia3eDo4sfDZb6ajW2WVML4MhoKXWIVRbYqnsZgQRs/edit#gid=0\"\",\"\"RWA!F:BZ\"\"),44,0))\"),\"\")","v":""},{"$f":"IFERROR(__xludf.DUMMYFUNCTION(\"iferror(VLOOKUP(B272,IMPORTRANGE(\"\"https://docs.google.com/spreadsheets/d/1c3Ia3eDo4sfDZb6ajW2WVML4MhoKXWIVRbYqnsZgQRs/edit#gid=0\"\",\"\"RWA!F:BZ\"\"),48,0))\"),\"\")","v":""},{"$f":"IFERROR(__xludf.DUMMYFUNCTION(\"iferror(VLOOKUP(B272,IMPORTRANGE(\"\"https://docs.google.com/spreadsheets/d/1c3Ia3eDo4sfDZb6ajW2WVML4MhoKXWIVRbYqnsZgQRs/edit#gid=0\"\",\"\"RWA!F:BZ\"\"),49,0))\"),\"\")","v":""}]
[null,null,null,{"$f":"IFERROR(__xludf.DUMMYFUNCTION(\"iferror(VLOOKUP(B273,IMPORTRANGE(\"\"https://docs.google.com/spreadsheets/d/1c3Ia3eDo4sfDZb6ajW2WVML4MhoKXWIVRbYqnsZgQRs/edit#gid=0\"\",\"\"RWA!F:BZ\"\"),44,0))\"),\"\")","v":""},{"$f":"IFERROR(__xludf.DUMMYFUNCTION(\"iferror(VLOOKUP(B273,IMPORTRANGE(\"\"https://docs.google.com/spreadsheets/d/1c3Ia3eDo4sfDZb6ajW2WVML4MhoKXWIVRbYqnsZgQRs/edit#gid=0\"\",\"\"RWA!F:BZ\"\"),48,0))\"),\"\")","v":""},{"$f":"IFERROR(__xludf.DUMMYFUNCTION(\"iferror(VLOOKUP(B273,IMPORTRANGE(\"\"https://docs.google.com/spreadsheets/d/1c3Ia3eDo4sfDZb6ajW2WVML4MhoKXWIVRbYqnsZgQRs/edit#gid=0\"\",\"\"RWA!F:BZ\"\"),49,0))\"),\"\")","v":""}]
[null,null,null,{"$f":"IFERROR(__xludf.DUMMYFUNCTION(\"iferror(VLOOKUP(B274,IMPORTRANGE(\"\"https://docs.google.com/spreadsheets/d/1c3Ia3eDo4sfDZb6ajW2WVML4MhoKXWIVRbYqnsZgQRs/edit#gid=0\"\",\"\"RWA!F:BZ\"\"),44,0))\"),\"\")","v":""},{"$f":"IFERROR(__xludf.DUMMYFUNCTION(\"iferror(VLOOKUP(B274,IMPORTRANGE(\"\"https://docs.google.com/spreadsheets/d/1c3Ia3eDo4sfDZb6ajW2WVML4MhoKXWIVRbYqnsZgQRs/edit#gid=0\"\",\"\"RWA!F:BZ\"\"),48,0))\"),\"\")","v":""},{"$f":"IFERROR(__xludf.DUMMYFUNCTION(\"iferror(VLOOKUP(B274,IMPORTRANGE(\"\"https://docs.google.com/spreadsheets/d/1c3Ia3eDo4sfDZb6ajW2WVML4MhoKXWIVRbYqnsZgQRs/edit#gid=0\"\",\"\"RWA!F:BZ\"\"),49,0))\"),\"\")","v":""}]
[null,null,null,{"$f":"IFERROR(__xludf.DUMMYFUNCTION(\"iferror(VLOOKUP(B275,IMPORTRANGE(\"\"https://docs.google.com/spreadsheets/d/1c3Ia3eDo4sfDZb6ajW2WVML4MhoKXWIVRbYqnsZgQRs/edit#gid=0\"\",\"\"RWA!F:BZ\"\"),44,0))\"),\"\")","v":""},{"$f":"IFERROR(__xludf.DUMMYFUNCTION(\"iferror(VLOOKUP(B275,IMPORTRANGE(\"\"https://docs.google.com/spreadsheets/d/1c3Ia3eDo4sfDZb6ajW2WVML4MhoKXWIVRbYqnsZgQRs/edit#gid=0\"\",\"\"RWA!F:BZ\"\"),48,0))\"),\"\")","v":""},{"$f":"IFERROR(__xludf.DUMMYFUNCTION(\"iferror(VLOOKUP(B275,IMPORTRANGE(\"\"https://docs.google.com/spreadsheets/d/1c3Ia3eDo4sfDZb6ajW2WVML4MhoKXWIVRbYqnsZgQRs/edit#gid=0\"\",\"\"RWA!F:BZ\"\"),49,0))\"),\"\")","v":""}]
[null,null,null,{"$f":"IFERROR(__xludf.DUMMYFUNCTION(\"iferror(VLOOKUP(B276,IMPORTRANGE(\"\"https://docs.google.com/spreadsheets/d/1c3Ia3eDo4sfDZb6ajW2WVML4MhoKXWIVRbYqnsZgQRs/edit#gid=0\"\",\"\"RWA!F:BZ\"\"),44,0))\"),\"\")","v":""},{"$f":"IFERROR(__xludf.DUMMYFUNCTION(\"iferror(VLOOKUP(B276,IMPORTRANGE(\"\"https://docs.google.com/spreadsheets/d/1c3Ia3eDo4sfDZb6ajW2WVML4MhoKXWIVRbYqnsZgQRs/edit#gid=0\"\",\"\"RWA!F:BZ\"\"),48,0))\"),\"\")","v":""},{"$f":"IFERROR(__xludf.DUMMYFUNCTION(\"iferror(VLOOKUP(B276,IMPORTRANGE(\"\"https://docs.google.com/spreadsheets/d/1c3Ia3eDo4sfDZb6ajW2WVML4MhoKXWIVRbYqnsZgQRs/edit#gid=0\"\",\"\"RWA!F:BZ\"\"),49,0))\"),\"\")","v":""}]
[null,null,null,{"$f":"IFERROR(__xludf.DUMMYFUNCTION(\"iferror(VLOOKUP(B277,IMPORTRANGE(\"\"https://docs.google.com/spreadsheets/d/1c3Ia3eDo4sfDZb6ajW2WVML4MhoKXWIVRbYqnsZgQRs/edit#gid=0\"\",\"\"RWA!F:BZ\"\"),44,0))\"),\"\")","v":""},{"$f":"IFERROR(__xludf.DUMMYFUNCTION(\"iferror(VLOOKUP(B277,IMPORTRANGE(\"\"https://docs.google.com/spreadsheets/d/1c3Ia3eDo4sfDZb6ajW2WVML4MhoKXWIVRbYqnsZgQRs/edit#gid=0\"\",\"\"RWA!F:BZ\"\"),48,0))\"),\"\")","v":""},{"$f":"IFERROR(__xludf.DUMMYFUNCTION(\"iferror(VLOOKUP(B277,IMPORTRANGE(\"\"https://docs.google.com/spreadsheets/d/1c3Ia3eDo4sfDZb6ajW2WVML4MhoKXWIVRbYqnsZgQRs/edit#gid=0\"\",\"\"RWA!F:BZ\"\"),49,0))\"),\"\")","v":""}]
[null,null,null,{"$f":"IFERROR(__xludf.DUMMYFUNCTION(\"iferror(VLOOKUP(B278,IMPORTRANGE(\"\"https://docs.google.com/spreadsheets/d/1c3Ia3eDo4sfDZb6ajW2WVML4MhoKXWIVRbYqnsZgQRs/edit#gid=0\"\",\"\"RWA!F:BZ\"\"),44,0))\"),\"\")","v":""},{"$f":"IFERROR(__xludf.DUMMYFUNCTION(\"iferror(VLOOKUP(B278,IMPORTRANGE(\"\"https://docs.google.com/spreadsheets/d/1c3Ia3eDo4sfDZb6ajW2WVML4MhoKXWIVRbYqnsZgQRs/edit#gid=0\"\",\"\"RWA!F:BZ\"\"),48,0))\"),\"\")","v":""},{"$f":"IFERROR(__xludf.DUMMYFUNCTION(\"iferror(VLOOKUP(B278,IMPORTRANGE(\"\"https://docs.google.com/spreadsheets/d/1c3Ia3eDo4sfDZb6ajW2WVML4MhoKXWIVRbYqnsZgQRs/edit#gid=0\"\",\"\"RWA!F:BZ\"\"),49,0))\"),\"\")","v":""}]
[null,null,null,{"$f":"IFERROR(__xludf.DUMMYFUNCTION(\"iferror(VLOOKUP(B279,IMPORTRANGE(\"\"https://docs.google.com/spreadsheets/d/1c3Ia3eDo4sfDZb6ajW2WVML4MhoKXWIVRbYqnsZgQRs/edit#gid=0\"\",\"\"RWA!F:BZ\"\"),44,0))\"),\"\")","v":""},{"$f":"IFERROR(__xludf.DUMMYFUNCTION(\"iferror(VLOOKUP(B279,IMPORTRANGE(\"\"https://docs.google.com/spreadsheets/d/1c3Ia3eDo4sfDZb6ajW2WVML4MhoKXWIVRbYqnsZgQRs/edit#gid=0\"\",\"\"RWA!F:BZ\"\"),48,0))\"),\"\")","v":""},{"$f":"IFERROR(__xludf.DUMMYFUNCTION(\"iferror(VLOOKUP(B279,IMPORTRANGE(\"\"https://docs.google.com/spreadsheets/d/1c3Ia3eDo4sfDZb6ajW2WVML4MhoKXWIVRbYqnsZgQRs/edit#gid=0\"\",\"\"RWA!F:BZ\"\"),49,0))\"),\"\")","v":""}]
[null,null,null,{"$f":"IFERROR(__xludf.DUMMYFUNCTION(\"iferror(VLOOKUP(B280,IMPORTRANGE(\"\"https://docs.google.com/spreadsheets/d/1c3Ia3eDo4sfDZb6ajW2WVML4MhoKXWIVRbYqnsZgQRs/edit#gid=0\"\",\"\"RWA!F:BZ\"\"),44,0))\"),\"\")","v":""},{"$f":"IFERROR(__xludf.DUMMYFUNCTION(\"iferror(VLOOKUP(B280,IMPORTRANGE(\"\"https://docs.google.com/spreadsheets/d/1c3Ia3eDo4sfDZb6ajW2WVML4MhoKXWIVRbYqnsZgQRs/edit#gid=0\"\",\"\"RWA!F:BZ\"\"),48,0))\"),\"\")","v":""},{"$f":"IFERROR(__xludf.DUMMYFUNCTION(\"iferror(VLOOKUP(B280,IMPORTRANGE(\"\"https://docs.google.com/spreadsheets/d/1c3Ia3eDo4sfDZb6ajW2WVML4MhoKXWIVRbYqnsZgQRs/edit#gid=0\"\",\"\"RWA!F:BZ\"\"),49,0))\"),\"\")","v":""}]
[null,null,null,{"$f":"IFERROR(__xludf.DUMMYFUNCTION(\"iferror(VLOOKUP(B281,IMPORTRANGE(\"\"https://docs.google.com/spreadsheets/d/1c3Ia3eDo4sfDZb6ajW2WVML4MhoKXWIVRbYqnsZgQRs/edit#gid=0\"\",\"\"RWA!F:BZ\"\"),44,0))\"),\"\")","v":""},{"$f":"IFERROR(__xludf.DUMMYFUNCTION(\"iferror(VLOOKUP(B281,IMPORTRANGE(\"\"https://docs.google.com/spreadsheets/d/1c3Ia3eDo4sfDZb6ajW2WVML4MhoKXWIVRbYqnsZgQRs/edit#gid=0\"\",\"\"RWA!F:BZ\"\"),48,0))\"),\"\")","v":""},{"$f":"IFERROR(__xludf.DUMMYFUNCTION(\"iferror(VLOOKUP(B281,IMPORTRANGE(\"\"https://docs.google.com/spreadsheets/d/1c3Ia3eDo4sfDZb6ajW2WVML4MhoKXWIVRbYqnsZgQRs/edit#gid=0\"\",\"\"RWA!F:BZ\"\"),49,0))\"),\"\")","v":""}]
[null,null,null,{"$f":"IFERROR(__xludf.DUMMYFUNCTION(\"iferror(VLOOKUP(B282,IMPORTRANGE(\"\"https://docs.google.com/spreadsheets/d/1c3Ia3eDo4sfDZb6ajW2WVML4MhoKXWIVRbYqnsZgQRs/edit#gid=0\"\",\"\"RWA!F:BZ\"\"),44,0))\"),\"\")","v":""},{"$f":"IFERROR(__xludf.DUMMYFUNCTION(\"iferror(VLOOKUP(B282,IMPORTRANGE(\"\"https://docs.google.com/spreadsheets/d/1c3Ia3eDo4sfDZb6ajW2WVML4MhoKXWIVRbYqnsZgQRs/edit#gid=0\"\",\"\"RWA!F:BZ\"\"),48,0))\"),\"\")","v":""},{"$f":"IFERROR(__xludf.DUMMYFUNCTION(\"iferror(VLOOKUP(B282,IMPORTRANGE(\"\"https://docs.google.com/spreadsheets/d/1c3Ia3eDo4sfDZb6ajW2WVML4MhoKXWIVRbYqnsZgQRs/edit#gid=0\"\",\"\"RWA!F:BZ\"\"),49,0))\"),\"\")","v":""}]
[null,null,null,{"$f":"IFERROR(__xludf.DUMMYFUNCTION(\"iferror(VLOOKUP(B283,IMPORTRANGE(\"\"https://docs.google.com/spreadsheets/d/1c3Ia3eDo4sfDZb6ajW2WVML4MhoKXWIVRbYqnsZgQRs/edit#gid=0\"\",\"\"RWA!F:BZ\"\"),44,0))\"),\"\")","v":""},{"$f":"IFERROR(__xludf.DUMMYFUNCTION(\"iferror(VLOOKUP(B283,IMPORTRANGE(\"\"https://docs.google.com/spreadsheets/d/1c3Ia3eDo4sfDZb6ajW2WVML4MhoKXWIVRbYqnsZgQRs/edit#gid=0\"\",\"\"RWA!F:BZ\"\"),48,0))\"),\"\")","v":""},{"$f":"IFERROR(__xludf.DUMMYFUNCTION(\"iferror(VLOOKUP(B283,IMPORTRANGE(\"\"https://docs.google.com/spreadsheets/d/1c3Ia3eDo4sfDZb6ajW2WVML4MhoKXWIVRbYqnsZgQRs/edit#gid=0\"\",\"\"RWA!F:BZ\"\"),49,0))\"),\"\")","v":""}]
[null,null,null,{"$f":"IFERROR(__xludf.DUMMYFUNCTION(\"iferror(VLOOKUP(B284,IMPORTRANGE(\"\"https://docs.google.com/spreadsheets/d/1c3Ia3eDo4sfDZb6ajW2WVML4MhoKXWIVRbYqnsZgQRs/edit#gid=0\"\",\"\"RWA!F:BZ\"\"),44,0))\"),\"\")","v":""},{"$f":"IFERROR(__xludf.DUMMYFUNCTION(\"iferror(VLOOKUP(B284,IMPORTRANGE(\"\"https://docs.google.com/spreadsheets/d/1c3Ia3eDo4sfDZb6ajW2WVML4MhoKXWIVRbYqnsZgQRs/edit#gid=0\"\",\"\"RWA!F:BZ\"\"),48,0))\"),\"\")","v":""},{"$f":"IFERROR(__xludf.DUMMYFUNCTION(\"iferror(VLOOKUP(B284,IMPORTRANGE(\"\"https://docs.google.com/spreadsheets/d/1c3Ia3eDo4sfDZb6ajW2WVML4MhoKXWIVRbYqnsZgQRs/edit#gid=0\"\",\"\"RWA!F:BZ\"\"),49,0))\"),\"\")","v":""}]
[null,null,null,{"$f":"IFERROR(__xludf.DUMMYFUNCTION(\"iferror(VLOOKUP(B285,IMPORTRANGE(\"\"https://docs.google.com/spreadsheets/d/1c3Ia3eDo4sfDZb6ajW2WVML4MhoKXWIVRbYqnsZgQRs/edit#gid=0\"\",\"\"RWA!F:BZ\"\"),44,0))\"),\"\")","v":""},{"$f":"IFERROR(__xludf.DUMMYFUNCTION(\"iferror(VLOOKUP(B285,IMPORTRANGE(\"\"https://docs.google.com/spreadsheets/d/1c3Ia3eDo4sfDZb6ajW2WVML4MhoKXWIVRbYqnsZgQRs/edit#gid=0\"\",\"\"RWA!F:BZ\"\"),48,0))\"),\"\")","v":""},{"$f":"IFERROR(__xludf.DUMMYFUNCTION(\"iferror(VLOOKUP(B285,IMPORTRANGE(\"\"https://docs.google.com/spreadsheets/d/1c3Ia3eDo4sfDZb6ajW2WVML4MhoKXWIVRbYqnsZgQRs/edit#gid=0\"\",\"\"RWA!F:BZ\"\"),49,0))\"),\"\")","v":""}]
[null,null,null,{"$f":"IFERROR(__xludf.DUMMYFUNCTION(\"iferror(VLOOKUP(B286,IMPORTRANGE(\"\"https://docs.google.com/spreadsheets/d/1c3Ia3eDo4sfDZb6ajW2WVML4MhoKXWIVRbYqnsZgQRs/edit#gid=0\"\",\"\"RWA!F:BZ\"\"),44,0))\"),\"\")","v":""},{"$f":"IFERROR(__xludf.DUMMYFUNCTION(\"iferror(VLOOKUP(B286,IMPORTRANGE(\"\"https://docs.google.com/spreadsheets/d/1c3Ia3eDo4sfDZb6ajW2WVML4MhoKXWIVRbYqnsZgQRs/edit#gid=0\"\",\"\"RWA!F:BZ\"\"),48,0))\"),\"\")","v":""},{"$f":"IFERROR(__xludf.DUMMYFUNCTION(\"iferror(VLOOKUP(B286,IMPORTRANGE(\"\"https://docs.google.com/spreadsheets/d/1c3Ia3eDo4sfDZb6ajW2WVML4MhoKXWIVRbYqnsZgQRs/edit#gid=0\"\",\"\"RWA!F:BZ\"\"),49,0))\"),\"\")","v":""}]
[null,null,null,{"$f":"IFERROR(__xludf.DUMMYFUNCTION(\"iferror(VLOOKUP(B287,IMPORTRANGE(\"\"https://docs.google.com/spreadsheets/d/1c3Ia3eDo4sfDZb6ajW2WVML4MhoKXWIVRbYqnsZgQRs/edit#gid=0\"\",\"\"RWA!F:BZ\"\"),44,0))\"),\"\")","v":""},{"$f":"IFERROR(__xludf.DUMMYFUNCTION(\"iferror(VLOOKUP(B287,IMPORTRANGE(\"\"https://docs.google.com/spreadsheets/d/1c3Ia3eDo4sfDZb6ajW2WVML4MhoKXWIVRbYqnsZgQRs/edit#gid=0\"\",\"\"RWA!F:BZ\"\"),48,0))\"),\"\")","v":""},{"$f":"IFERROR(__xludf.DUMMYFUNCTION(\"iferror(VLOOKUP(B287,IMPORTRANGE(\"\"https://docs.google.com/spreadsheets/d/1c3Ia3eDo4sfDZb6ajW2WVML4MhoKXWIVRbYqnsZgQRs/edit#gid=0\"\",\"\"RWA!F:BZ\"\"),49,0))\"),\"\")","v":""}]
[null,null,null,{"$f":"IFERROR(__xludf.DUMMYFUNCTION(\"iferror(VLOOKUP(B288,IMPORTRANGE(\"\"https://docs.google.com/spreadsheets/d/1c3Ia3eDo4sfDZb6ajW2WVML4MhoKXWIVRbYqnsZgQRs/edit#gid=0\"\",\"\"RWA!F:BZ\"\"),44,0))\"),\"\")","v":""},{"$f":"IFERROR(__xludf.DUMMYFUNCTION(\"iferror(VLOOKUP(B288,IMPORTRANGE(\"\"https://docs.google.com/spreadsheets/d/1c3Ia3eDo4sfDZb6ajW2WVML4MhoKXWIVRbYqnsZgQRs/edit#gid=0\"\",\"\"RWA!F:BZ\"\"),48,0))\"),\"\")","v":""},{"$f":"IFERROR(__xludf.DUMMYFUNCTION(\"iferror(VLOOKUP(B288,IMPORTRANGE(\"\"https://docs.google.com/spreadsheets/d/1c3Ia3eDo4sfDZb6ajW2WVML4MhoKXWIVRbYqnsZgQRs/edit#gid=0\"\",\"\"RWA!F:BZ\"\"),49,0))\"),\"\")","v":""}]
[null,null,null,{"$f":"IFERROR(__xludf.DUMMYFUNCTION(\"iferror(VLOOKUP(B289,IMPORTRANGE(\"\"https://docs.google.com/spreadsheets/d/1c3Ia3eDo4sfDZb6ajW2WVML4MhoKXWIVRbYqnsZgQRs/edit#gid=0\"\",\"\"RWA!F:BZ\"\"),44,0))\"),\"\")","v":""},{"$f":"IFERROR(__xludf.DUMMYFUNCTION(\"iferror(VLOOKUP(B289,IMPORTRANGE(\"\"https://docs.google.com/spreadsheets/d/1c3Ia3eDo4sfDZb6ajW2WVML4MhoKXWIVRbYqnsZgQRs/edit#gid=0\"\",\"\"RWA!F:BZ\"\"),48,0))\"),\"\")","v":""},{"$f":"IFERROR(__xludf.DUMMYFUNCTION(\"iferror(VLOOKUP(B289,IMPORTRANGE(\"\"https://docs.google.com/spreadsheets/d/1c3Ia3eDo4sfDZb6ajW2WVML4MhoKXWIVRbYqnsZgQRs/edit#gid=0\"\",\"\"RWA!F:BZ\"\"),49,0))\"),\"\")","v":""}]
[null,null,null,{"$f":"IFERROR(__xludf.DUMMYFUNCTION(\"iferror(VLOOKUP(B290,IMPORTRANGE(\"\"https://docs.google.com/spreadsheets/d/1c3Ia3eDo4sfDZb6ajW2WVML4MhoKXWIVRbYqnsZgQRs/edit#gid=0\"\",\"\"RWA!F:BZ\"\"),44,0))\"),\"\")","v":""},{"$f":"IFERROR(__xludf.DUMMYFUNCTION(\"iferror(VLOOKUP(B290,IMPORTRANGE(\"\"https://docs.google.com/spreadsheets/d/1c3Ia3eDo4sfDZb6ajW2WVML4MhoKXWIVRbYqnsZgQRs/edit#gid=0\"\",\"\"RWA!F:BZ\"\"),48,0))\"),\"\")","v":""},{"$f":"IFERROR(__xludf.DUMMYFUNCTION(\"iferror(VLOOKUP(B290,IMPORTRANGE(\"\"https://docs.google.com/spreadsheets/d/1c3Ia3eDo4sfDZb6ajW2WVML4MhoKXWIVRbYqnsZgQRs/edit#gid=0\"\",\"\"RWA!F:BZ\"\"),49,0))\"),\"\")","v":""}]
[null,null,null,{"$f":"IFERROR(__xludf.DUMMYFUNCTION(\"iferror(VLOOKUP(B291,IMPORTRANGE(\"\"https://docs.google.com/spreadsheets/d/1c3Ia3eDo4sfDZb6ajW2WVML4MhoKXWIVRbYqnsZgQRs/edit#gid=0\"\",\"\"RWA!F:BZ\"\"),44,0))\"),\"\")","v":""},{"$f":"IFERROR(__xludf.DUMMYFUNCTION(\"iferror(VLOOKUP(B291,IMPORTRANGE(\"\"https://docs.google.com/spreadsheets/d/1c3Ia3eDo4sfDZb6ajW2WVML4MhoKXWIVRbYqnsZgQRs/edit#gid=0\"\",\"\"RWA!F:BZ\"\"),48,0))\"),\"\")","v":""},{"$f":"IFERROR(__xludf.DUMMYFUNCTION(\"iferror(VLOOKUP(B291,IMPORTRANGE(\"\"https://docs.google.com/spreadsheets/d/1c3Ia3eDo4sfDZb6ajW2WVML4MhoKXWIVRbYqnsZgQRs/edit#gid=0\"\",\"\"RWA!F:BZ\"\"),49,0))\"),\"\")","v":""}]
[null,null,null,{"$f":"IFERROR(__xludf.DUMMYFUNCTION(\"iferror(VLOOKUP(B292,IMPORTRANGE(\"\"https://docs.google.com/spreadsheets/d/1c3Ia3eDo4sfDZb6ajW2WVML4MhoKXWIVRbYqnsZgQRs/edit#gid=0\"\",\"\"RWA!F:BZ\"\"),44,0))\"),\"\")","v":""},{"$f":"IFERROR(__xludf.DUMMYFUNCTION(\"iferror(VLOOKUP(B292,IMPORTRANGE(\"\"https://docs.google.com/spreadsheets/d/1c3Ia3eDo4sfDZb6ajW2WVML4MhoKXWIVRbYqnsZgQRs/edit#gid=0\"\",\"\"RWA!F:BZ\"\"),48,0))\"),\"\")","v":""},{"$f":"IFERROR(__xludf.DUMMYFUNCTION(\"iferror(VLOOKUP(B292,IMPORTRANGE(\"\"https://docs.google.com/spreadsheets/d/1c3Ia3eDo4sfDZb6ajW2WVML4MhoKXWIVRbYqnsZgQRs/edit#gid=0\"\",\"\"RWA!F:BZ\"\"),49,0))\"),\"\")","v":""}]
[null,null,null,{"$f":"IFERROR(__xludf.DUMMYFUNCTION(\"iferror(VLOOKUP(B293,IMPORTRANGE(\"\"https://docs.google.com/spreadsheets/d/1c3Ia3eDo4sfDZb6ajW2WVML4MhoKXWIVRbYqnsZgQRs/edit#gid=0\"\",\"\"RWA!F:BZ\"\"),44,0))\"),\"\")","v":""},{"$f":"IFERROR(__xludf.DUMMYFUNCTION(\"iferror(VLOOKUP(B293,IMPORTRANGE(\"\"https://docs.google.com/spreadsheets/d/1c3Ia3eDo4sfDZb6ajW2WVML4MhoKXWIVRbYqnsZgQRs/edit#gid=0\"\",\"\"RWA!F:BZ\"\"),48,0))\"),\"\")","v":""},{"$f":"IFERROR(__xludf.DUMMYFUNCTION(\"iferror(VLOOKUP(B293,IMPORTRANGE(\"\"https://docs.google.com/spreadsheets/d/1c3Ia3eDo4sfDZb6ajW2WVML4MhoKXWIVRbYqnsZgQRs/edit#gid=0\"\",\"\"RWA!F:BZ\"\"),49,0))\"),\"\")","v":""}]
[null,null,null,{"$f":"IFERROR(__xludf.DUMMYFUNCTION(\"iferror(VLOOKUP(B294,IMPORTRANGE(\"\"https://docs.google.com/spreadsheets/d/1c3Ia3eDo4sfDZb6ajW2WVML4MhoKXWIVRbYqnsZgQRs/edit#gid=0\"\",\"\"RWA!F:BZ\"\"),44,0))\"),\"\")","v":""},{"$f":"IFERROR(__xludf.DUMMYFUNCTION(\"iferror(VLOOKUP(B294,IMPORTRANGE(\"\"https://docs.google.com/spreadsheets/d/1c3Ia3eDo4sfDZb6ajW2WVML4MhoKXWIVRbYqnsZgQRs/edit#gid=0\"\",\"\"RWA!F:BZ\"\"),48,0))\"),\"\")","v":""},{"$f":"IFERROR(__xludf.DUMMYFUNCTION(\"iferror(VLOOKUP(B294,IMPORTRANGE(\"\"https://docs.google.com/spreadsheets/d/1c3Ia3eDo4sfDZb6ajW2WVML4MhoKXWIVRbYqnsZgQRs/edit#gid=0\"\",\"\"RWA!F:BZ\"\"),49,0))\"),\"\")","v":""}]
[null,null,null,{"$f":"IFERROR(__xludf.DUMMYFUNCTION(\"iferror(VLOOKUP(B295,IMPORTRANGE(\"\"https://docs.google.com/spreadsheets/d/1c3Ia3eDo4sfDZb6ajW2WVML4MhoKXWIVRbYqnsZgQRs/edit#gid=0\"\",\"\"RWA!F:BZ\"\"),44,0))\"),\"\")","v":""},{"$f":"IFERROR(__xludf.DUMMYFUNCTION(\"iferror(VLOOKUP(B295,IMPORTRANGE(\"\"https://docs.google.com/spreadsheets/d/1c3Ia3eDo4sfDZb6ajW2WVML4MhoKXWIVRbYqnsZgQRs/edit#gid=0\"\",\"\"RWA!F:BZ\"\"),48,0))\"),\"\")","v":""},{"$f":"IFERROR(__xludf.DUMMYFUNCTION(\"iferror(VLOOKUP(B295,IMPORTRANGE(\"\"https://docs.google.com/spreadsheets/d/1c3Ia3eDo4sfDZb6ajW2WVML4MhoKXWIVRbYqnsZgQRs/edit#gid=0\"\",\"\"RWA!F:BZ\"\"),49,0))\"),\"\")","v":""}]
[null,null,null,{"$f":"IFERROR(__xludf.DUMMYFUNCTION(\"iferror(VLOOKUP(B296,IMPORTRANGE(\"\"https://docs.google.com/spreadsheets/d/1c3Ia3eDo4sfDZb6ajW2WVML4MhoKXWIVRbYqnsZgQRs/edit#gid=0\"\",\"\"RWA!F:BZ\"\"),44,0))\"),\"\")","v":""},{"$f":"IFERROR(__xludf.DUMMYFUNCTION(\"iferror(VLOOKUP(B296,IMPORTRANGE(\"\"https://docs.google.com/spreadsheets/d/1c3Ia3eDo4sfDZb6ajW2WVML4MhoKXWIVRbYqnsZgQRs/edit#gid=0\"\",\"\"RWA!F:BZ\"\"),48,0))\"),\"\")","v":""},{"$f":"IFERROR(__xludf.DUMMYFUNCTION(\"iferror(VLOOKUP(B296,IMPORTRANGE(\"\"https://docs.google.com/spreadsheets/d/1c3Ia3eDo4sfDZb6ajW2WVML4MhoKXWIVRbYqnsZgQRs/edit#gid=0\"\",\"\"RWA!F:BZ\"\"),49,0))\"),\"\")","v":""}]
[null,null,null,{"$f":"IFERROR(__xludf.DUMMYFUNCTION(\"iferror(VLOOKUP(B297,IMPORTRANGE(\"\"https://docs.google.com/spreadsheets/d/1c3Ia3eDo4sfDZb6ajW2WVML4MhoKXWIVRbYqnsZgQRs/edit#gid=0\"\",\"\"RWA!F:BZ\"\"),44,0))\"),\"\")","v":""},{"$f":"IFERROR(__xludf.DUMMYFUNCTION(\"iferror(VLOOKUP(B297,IMPORTRANGE(\"\"https://docs.google.com/spreadsheets/d/1c3Ia3eDo4sfDZb6ajW2WVML4MhoKXWIVRbYqnsZgQRs/edit#gid=0\"\",\"\"RWA!F:BZ\"\"),48,0))\"),\"\")","v":""},{"$f":"IFERROR(__xludf.DUMMYFUNCTION(\"iferror(VLOOKUP(B297,IMPORTRANGE(\"\"https://docs.google.com/spreadsheets/d/1c3Ia3eDo4sfDZb6ajW2WVML4MhoKXWIVRbYqnsZgQRs/edit#gid=0\"\",\"\"RWA!F:BZ\"\"),49,0))\"),\"\")","v":""}]
[null,null,null,{"$f":"IFERROR(__xludf.DUMMYFUNCTION(\"iferror(VLOOKUP(B298,IMPORTRANGE(\"\"https://docs.google.com/spreadsheets/d/1c3Ia3eDo4sfDZb6ajW2WVML4MhoKXWIVRbYqnsZgQRs/edit#gid=0\"\",\"\"RWA!F:BZ\"\"),44,0))\"),\"\")","v":""},{"$f":"IFERROR(__xludf.DUMMYFUNCTION(\"iferror(VLOOKUP(B298,IMPORTRANGE(\"\"https://docs.google.com/spreadsheets/d/1c3Ia3eDo4sfDZb6ajW2WVML4MhoKXWIVRbYqnsZgQRs/edit#gid=0\"\",\"\"RWA!F:BZ\"\"),48,0))\"),\"\")","v":""},{"$f":"IFERROR(__xludf.DUMMYFUNCTION(\"iferror(VLOOKUP(B298,IMPORTRANGE(\"\"https://docs.google.com/spreadsheets/d/1c3Ia3eDo4sfDZb6ajW2WVML4MhoKXWIVRbYqnsZgQRs/edit#gid=0\"\",\"\"RWA!F:BZ\"\"),49,0))\"),\"\")","v":""}]
[null,null,null,{"$f":"IFERROR(__xludf.DUMMYFUNCTION(\"iferror(VLOOKUP(B299,IMPORTRANGE(\"\"https://docs.google.com/spreadsheets/d/1c3Ia3eDo4sfDZb6ajW2WVML4MhoKXWIVRbYqnsZgQRs/edit#gid=0\"\",\"\"RWA!F:BZ\"\"),44,0))\"),\"\")","v":""},{"$f":"IFERROR(__xludf.DUMMYFUNCTION(\"iferror(VLOOKUP(B299,IMPORTRANGE(\"\"https://docs.google.com/spreadsheets/d/1c3Ia3eDo4sfDZb6ajW2WVML4MhoKXWIVRbYqnsZgQRs/edit#gid=0\"\",\"\"RWA!F:BZ\"\"),48,0))\"),\"\")","v":""},{"$f":"IFERROR(__xludf.DUMMYFUNCTION(\"iferror(VLOOKUP(B299,IMPORTRANGE(\"\"https://docs.google.com/spreadsheets/d/1c3Ia3eDo4sfDZb6ajW2WVML4MhoKXWIVRbYqnsZgQRs/edit#gid=0\"\",\"\"RWA!F:BZ\"\"),49,0))\"),\"\")","v":""}]
[null,null,null,{"$f":"IFERROR(__xludf.DUMMYFUNCTION(\"iferror(VLOOKUP(B300,IMPORTRANGE(\"\"https://docs.google.com/spreadsheets/d/1c3Ia3eDo4sfDZb6ajW2WVML4MhoKXWIVRbYqnsZgQRs/edit#gid=0\"\",\"\"RWA!F:BZ\"\"),44,0))\"),\"\")","v":""},{"$f":"IFERROR(__xludf.DUMMYFUNCTION(\"iferror(VLOOKUP(B300,IMPORTRANGE(\"\"https://docs.google.com/spreadsheets/d/1c3Ia3eDo4sfDZb6ajW2WVML4MhoKXWIVRbYqnsZgQRs/edit#gid=0\"\",\"\"RWA!F:BZ\"\"),48,0))\"),\"\")","v":""},{"$f":"IFERROR(__xludf.DUMMYFUNCTION(\"iferror(VLOOKUP(B300,IMPORTRANGE(\"\"https://docs.google.com/spreadsheets/d/1c3Ia3eDo4sfDZb6ajW2WVML4MhoKXWIVRbYqnsZgQRs/edit#gid=0\"\",\"\"RWA!F:BZ\"\"),49,0))\"),\"\")","v":""}]
[null,null,null,{"$f":"IFERROR(__xludf.DUMMYFUNCTION(\"iferror(VLOOKUP(B301,IMPORTRANGE(\"\"https://docs.google.com/spreadsheets/d/1c3Ia3eDo4sfDZb6ajW2WVML4MhoKXWIVRbYqnsZgQRs/edit#gid=0\"\",\"\"RWA!F:BZ\"\"),44,0))\"),\"\")","v":""},{"$f":"IFERROR(__xludf.DUMMYFUNCTION(\"iferror(VLOOKUP(B301,IMPORTRANGE(\"\"https://docs.google.com/spreadsheets/d/1c3Ia3eDo4sfDZb6ajW2WVML4MhoKXWIVRbYqnsZgQRs/edit#gid=0\"\",\"\"RWA!F:BZ\"\"),48,0))\"),\"\")","v":""},{"$f":"IFERROR(__xludf.DUMMYFUNCTION(\"iferror(VLOOKUP(B301,IMPORTRANGE(\"\"https://docs.google.com/spreadsheets/d/1c3Ia3eDo4sfDZb6ajW2WVML4MhoKXWIVRbYqnsZgQRs/edit#gid=0\"\",\"\"RWA!F:BZ\"\"),49,0))\"),\"\")","v":""}]
[null,null,null,{"$f":"IFERROR(__xludf.DUMMYFUNCTION(\"iferror(VLOOKUP(B302,IMPORTRANGE(\"\"https://docs.google.com/spreadsheets/d/1c3Ia3eDo4sfDZb6ajW2WVML4MhoKXWIVRbYqnsZgQRs/edit#gid=0\"\",\"\"RWA!F:BZ\"\"),44,0))\"),\"\")","v":""},{"$f":"IFERROR(__xludf.DUMMYFUNCTION(\"iferror(VLOOKUP(B302,IMPORTRANGE(\"\"https://docs.google.com/spreadsheets/d/1c3Ia3eDo4sfDZb6ajW2WVML4MhoKXWIVRbYqnsZgQRs/edit#gid=0\"\",\"\"RWA!F:BZ\"\"),48,0))\"),\"\")","v":""},{"$f":"IFERROR(__xludf.DUMMYFUNCTION(\"iferror(VLOOKUP(B302,IMPORTRANGE(\"\"https://docs.google.com/spreadsheets/d/1c3Ia3eDo4sfDZb6ajW2WVML4MhoKXWIVRbYqnsZgQRs/edit#gid=0\"\",\"\"RWA!F:BZ\"\"),49,0))\"),\"\")","v":""}]
[null,null,null,{"$f":"IFERROR(__xludf.DUMMYFUNCTION(\"iferror(VLOOKUP(B303,IMPORTRANGE(\"\"https://docs.google.com/spreadsheets/d/1c3Ia3eDo4sfDZb6ajW2WVML4MhoKXWIVRbYqnsZgQRs/edit#gid=0\"\",\"\"RWA!F:BZ\"\"),44,0))\"),\"\")","v":""},{"$f":"IFERROR(__xludf.DUMMYFUNCTION(\"iferror(VLOOKUP(B303,IMPORTRANGE(\"\"https://docs.google.com/spreadsheets/d/1c3Ia3eDo4sfDZb6ajW2WVML4MhoKXWIVRbYqnsZgQRs/edit#gid=0\"\",\"\"RWA!F:BZ\"\"),48,0))\"),\"\")","v":""},{"$f":"IFERROR(__xludf.DUMMYFUNCTION(\"iferror(VLOOKUP(B303,IMPORTRANGE(\"\"https://docs.google.com/spreadsheets/d/1c3Ia3eDo4sfDZb6ajW2WVML4MhoKXWIVRbYqnsZgQRs/edit#gid=0\"\",\"\"RWA!F:BZ\"\"),49,0))\"),\"\")","v":""}]
[null,null,null,{"$f":"IFERROR(__xludf.DUMMYFUNCTION(\"iferror(VLOOKUP(B304,IMPORTRANGE(\"\"https://docs.google.com/spreadsheets/d/1c3Ia3eDo4sfDZb6ajW2WVML4MhoKXWIVRbYqnsZgQRs/edit#gid=0\"\",\"\"RWA!F:BZ\"\"),44,0))\"),\"\")","v":""},{"$f":"IFERROR(__xludf.DUMMYFUNCTION(\"iferror(VLOOKUP(B304,IMPORTRANGE(\"\"https://docs.google.com/spreadsheets/d/1c3Ia3eDo4sfDZb6ajW2WVML4MhoKXWIVRbYqnsZgQRs/edit#gid=0\"\",\"\"RWA!F:BZ\"\"),48,0))\"),\"\")","v":""},{"$f":"IFERROR(__xludf.DUMMYFUNCTION(\"iferror(VLOOKUP(B304,IMPORTRANGE(\"\"https://docs.google.com/spreadsheets/d/1c3Ia3eDo4sfDZb6ajW2WVML4MhoKXWIVRbYqnsZgQRs/edit#gid=0\"\",\"\"RWA!F:BZ\"\"),49,0))\"),\"\")","v":""}]
[null,null,null,{"$f":"IFERROR(__xludf.DUMMYFUNCTION(\"iferror(VLOOKUP(B305,IMPORTRANGE(\"\"https://docs.google.com/spreadsheets/d/1c3Ia3eDo4sfDZb6ajW2WVML4MhoKXWIVRbYqnsZgQRs/edit#gid=0\"\",\"\"RWA!F:BZ\"\"),44,0))\"),\"\")","v":""},{"$f":"IFERROR(__xludf.DUMMYFUNCTION(\"iferror(VLOOKUP(B305,IMPORTRANGE(\"\"https://docs.google.com/spreadsheets/d/1c3Ia3eDo4sfDZb6ajW2WVML4MhoKXWIVRbYqnsZgQRs/edit#gid=0\"\",\"\"RWA!F:BZ\"\"),48,0))\"),\"\")","v":""},{"$f":"IFERROR(__xludf.DUMMYFUNCTION(\"iferror(VLOOKUP(B305,IMPORTRANGE(\"\"https://docs.google.com/spreadsheets/d/1c3Ia3eDo4sfDZb6ajW2WVML4MhoKXWIVRbYqnsZgQRs/edit#gid=0\"\",\"\"RWA!F:BZ\"\"),49,0))\"),\"\")","v":""}]
[null,null,null,{"$f":"IFERROR(__xludf.DUMMYFUNCTION(\"iferror(VLOOKUP(B306,IMPORTRANGE(\"\"https://docs.google.com/spreadsheets/d/1c3Ia3eDo4sfDZb6ajW2WVML4MhoKXWIVRbYqnsZgQRs/edit#gid=0\"\",\"\"RWA!F:BZ\"\"),44,0))\"),\"\")","v":""},{"$f":"IFERROR(__xludf.DUMMYFUNCTION(\"iferror(VLOOKUP(B306,IMPORTRANGE(\"\"https://docs.google.com/spreadsheets/d/1c3Ia3eDo4sfDZb6ajW2WVML4MhoKXWIVRbYqnsZgQRs/edit#gid=0\"\",\"\"RWA!F:BZ\"\"),48,0))\"),\"\")","v":""},{"$f":"IFERROR(__xludf.DUMMYFUNCTION(\"iferror(VLOOKUP(B306,IMPORTRANGE(\"\"https://docs.google.com/spreadsheets/d/1c3Ia3eDo4sfDZb6ajW2WVML4MhoKXWIVRbYqnsZgQRs/edit#gid=0\"\",\"\"RWA!F:BZ\"\"),49,0))\"),\"\")","v":""}]
[null,null,null,{"$f":"IFERROR(__xludf.DUMMYFUNCTION(\"iferror(VLOOKUP(B307,IMPORTRANGE(\"\"https://docs.google.com/spreadsheets/d/1c3Ia3eDo4sfDZb6ajW2WVML4MhoKXWIVRbYqnsZgQRs/edit#gid=0\"\",\"\"RWA!F:BZ\"\"),44,0))\"),\"\")","v":""},{"$f":"IFERROR(__xludf.DUMMYFUNCTION(\"iferror(VLOOKUP(B307,IMPORTRANGE(\"\"https://docs.google.com/spreadsheets/d/1c3Ia3eDo4sfDZb6ajW2WVML4MhoKXWIVRbYqnsZgQRs/edit#gid=0\"\",\"\"RWA!F:BZ\"\"),48,0))\"),\"\")","v":""},{"$f":"IFERROR(__xludf.DUMMYFUNCTION(\"iferror(VLOOKUP(B307,IMPORTRANGE(\"\"https://docs.google.com/spreadsheets/d/1c3Ia3eDo4sfDZb6ajW2WVML4MhoKXWIVRbYqnsZgQRs/edit#gid=0\"\",\"\"RWA!F:BZ\"\"),49,0))\"),\"\")","v":""}]
[null,null,null,{"$f":"IFERROR(__xludf.DUMMYFUNCTION(\"iferror(VLOOKUP(B308,IMPORTRANGE(\"\"https://docs.google.com/spreadsheets/d/1c3Ia3eDo4sfDZb6ajW2WVML4MhoKXWIVRbYqnsZgQRs/edit#gid=0\"\",\"\"RWA!F:BZ\"\"),44,0))\"),\"\")","v":""},{"$f":"IFERROR(__xludf.DUMMYFUNCTION(\"iferror(VLOOKUP(B308,IMPORTRANGE(\"\"https://docs.google.com/spreadsheets/d/1c3Ia3eDo4sfDZb6ajW2WVML4MhoKXWIVRbYqnsZgQRs/edit#gid=0\"\",\"\"RWA!F:BZ\"\"),48,0))\"),\"\")","v":""},{"$f":"IFERROR(__xludf.DUMMYFUNCTION(\"iferror(VLOOKUP(B308,IMPORTRANGE(\"\"https://docs.google.com/spreadsheets/d/1c3Ia3eDo4sfDZb6ajW2WVML4MhoKXWIVRbYqnsZgQRs/edit#gid=0\"\",\"\"RWA!F:BZ\"\"),49,0))\"),\"\")","v":""}]
[null,null,null,{"$f":"IFERROR(__xludf.DUMMYFUNCTION(\"iferror(VLOOKUP(B309,IMPORTRANGE(\"\"https://docs.google.com/spreadsheets/d/1c3Ia3eDo4sfDZb6ajW2WVML4MhoKXWIVRbYqnsZgQRs/edit#gid=0\"\",\"\"RWA!F:BZ\"\"),44,0))\"),\"\")","v":""},{"$f":"IFERROR(__xludf.DUMMYFUNCTION(\"iferror(VLOOKUP(B309,IMPORTRANGE(\"\"https://docs.google.com/spreadsheets/d/1c3Ia3eDo4sfDZb6ajW2WVML4MhoKXWIVRbYqnsZgQRs/edit#gid=0\"\",\"\"RWA!F:BZ\"\"),48,0))\"),\"\")","v":""},{"$f":"IFERROR(__xludf.DUMMYFUNCTION(\"iferror(VLOOKUP(B309,IMPORTRANGE(\"\"https://docs.google.com/spreadsheets/d/1c3Ia3eDo4sfDZb6ajW2WVML4MhoKXWIVRbYqnsZgQRs/edit#gid=0\"\",\"\"RWA!F:BZ\"\"),49,0))\"),\"\")","v":""}]
[null,null,null,{"$f":"IFERROR(__xludf.DUMMYFUNCTION(\"iferror(VLOOKUP(B310,IMPORTRANGE(\"\"https://docs.google.com/spreadsheets/d/1c3Ia3eDo4sfDZb6ajW2WVML4MhoKXWIVRbYqnsZgQRs/edit#gid=0\"\",\"\"RWA!F:BZ\"\"),44,0))\"),\"\")","v":""},{"$f":"IFERROR(__xludf.DUMMYFUNCTION(\"iferror(VLOOKUP(B310,IMPORTRANGE(\"\"https://docs.google.com/spreadsheets/d/1c3Ia3eDo4sfDZb6ajW2WVML4MhoKXWIVRbYqnsZgQRs/edit#gid=0\"\",\"\"RWA!F:BZ\"\"),48,0))\"),\"\")","v":""},{"$f":"IFERROR(__xludf.DUMMYFUNCTION(\"iferror(VLOOKUP(B310,IMPORTRANGE(\"\"https://docs.google.com/spreadsheets/d/1c3Ia3eDo4sfDZb6ajW2WVML4MhoKXWIVRbYqnsZgQRs/edit#gid=0\"\",\"\"RWA!F:BZ\"\"),49,0))\"),\"\")","v":""}]
[null,null,null,{"$f":"IFERROR(__xludf.DUMMYFUNCTION(\"iferror(VLOOKUP(B311,IMPORTRANGE(\"\"https://docs.google.com/spreadsheets/d/1c3Ia3eDo4sfDZb6ajW2WVML4MhoKXWIVRbYqnsZgQRs/edit#gid=0\"\",\"\"RWA!F:BZ\"\"),44,0))\"),\"\")","v":""},{"$f":"IFERROR(__xludf.DUMMYFUNCTION(\"iferror(VLOOKUP(B311,IMPORTRANGE(\"\"https://docs.google.com/spreadsheets/d/1c3Ia3eDo4sfDZb6ajW2WVML4MhoKXWIVRbYqnsZgQRs/edit#gid=0\"\",\"\"RWA!F:BZ\"\"),48,0))\"),\"\")","v":""},{"$f":"IFERROR(__xludf.DUMMYFUNCTION(\"iferror(VLOOKUP(B311,IMPORTRANGE(\"\"https://docs.google.com/spreadsheets/d/1c3Ia3eDo4sfDZb6ajW2WVML4MhoKXWIVRbYqnsZgQRs/edit#gid=0\"\",\"\"RWA!F:BZ\"\"),49,0))\"),\"\")","v":""}]
[null,null,null,{"$f":"IFERROR(__xludf.DUMMYFUNCTION(\"iferror(VLOOKUP(B312,IMPORTRANGE(\"\"https://docs.google.com/spreadsheets/d/1c3Ia3eDo4sfDZb6ajW2WVML4MhoKXWIVRbYqnsZgQRs/edit#gid=0\"\",\"\"RWA!F:BZ\"\"),44,0))\"),\"\")","v":""},{"$f":"IFERROR(__xludf.DUMMYFUNCTION(\"iferror(VLOOKUP(B312,IMPORTRANGE(\"\"https://docs.google.com/spreadsheets/d/1c3Ia3eDo4sfDZb6ajW2WVML4MhoKXWIVRbYqnsZgQRs/edit#gid=0\"\",\"\"RWA!F:BZ\"\"),48,0))\"),\"\")","v":""},{"$f":"IFERROR(__xludf.DUMMYFUNCTION(\"iferror(VLOOKUP(B312,IMPORTRANGE(\"\"https://docs.google.com/spreadsheets/d/1c3Ia3eDo4sfDZb6ajW2WVML4MhoKXWIVRbYqnsZgQRs/edit#gid=0\"\",\"\"RWA!F:BZ\"\"),49,0))\"),\"\")","v":""}]
[null,null,null,{"$f":"IFERROR(__xludf.DUMMYFUNCTION(\"iferror(VLOOKUP(B313,IMPORTRANGE(\"\"https://docs.google.com/spreadsheets/d/1c3Ia3eDo4sfDZb6ajW2WVML4MhoKXWIVRbYqnsZgQRs/edit#gid=0\"\",\"\"RWA!F:BZ\"\"),44,0))\"),\"\")","v":""},{"$f":"IFERROR(__xludf.DUMMYFUNCTION(\"iferror(VLOOKUP(B313,IMPORTRANGE(\"\"https://docs.google.com/spreadsheets/d/1c3Ia3eDo4sfDZb6ajW2WVML4MhoKXWIVRbYqnsZgQRs/edit#gid=0\"\",\"\"RWA!F:BZ\"\"),48,0))\"),\"\")","v":""},{"$f":"IFERROR(__xludf.DUMMYFUNCTION(\"iferror(VLOOKUP(B313,IMPORTRANGE(\"\"https://docs.google.com/spreadsheets/d/1c3Ia3eDo4sfDZb6ajW2WVML4MhoKXWIVRbYqnsZgQRs/edit#gid=0\"\",\"\"RWA!F:BZ\"\"),49,0))\"),\"\")","v":""}]
[null,null,null,{"$f":"IFERROR(__xludf.DUMMYFUNCTION(\"iferror(VLOOKUP(B314,IMPORTRANGE(\"\"https://docs.google.com/spreadsheets/d/1c3Ia3eDo4sfDZb6ajW2WVML4MhoKXWIVRbYqnsZgQRs/edit#gid=0\"\",\"\"RWA!F:BZ\"\"),44,0))\"),\"\")","v":""},{"$f":"IFERROR(__xludf.DUMMYFUNCTION(\"iferror(VLOOKUP(B314,IMPORTRANGE(\"\"https://docs.google.com/spreadsheets/d/1c3Ia3eDo4sfDZb6ajW2WVML4MhoKXWIVRbYqnsZgQRs/edit#gid=0\"\",\"\"RWA!F:BZ\"\"),48,0))\"),\"\")","v":""},{"$f":"IFERROR(__xludf.DUMMYFUNCTION(\"iferror(VLOOKUP(B314,IMPORTRANGE(\"\"https://docs.google.com/spreadsheets/d/1c3Ia3eDo4sfDZb6ajW2WVML4MhoKXWIVRbYqnsZgQRs/edit#gid=0\"\",\"\"RWA!F:BZ\"\"),49,0))\"),\"\")","v":""}]
[null,null,null,{"$f":"IFERROR(__xludf.DUMMYFUNCTION(\"iferror(VLOOKUP(B315,IMPORTRANGE(\"\"https://docs.google.com/spreadsheets/d/1c3Ia3eDo4sfDZb6ajW2WVML4MhoKXWIVRbYqnsZgQRs/edit#gid=0\"\",\"\"RWA!F:BZ\"\"),44,0))\"),\"\")","v":""},{"$f":"IFERROR(__xludf.DUMMYFUNCTION(\"iferror(VLOOKUP(B315,IMPORTRANGE(\"\"https://docs.google.com/spreadsheets/d/1c3Ia3eDo4sfDZb6ajW2WVML4MhoKXWIVRbYqnsZgQRs/edit#gid=0\"\",\"\"RWA!F:BZ\"\"),48,0))\"),\"\")","v":""},{"$f":"IFERROR(__xludf.DUMMYFUNCTION(\"iferror(VLOOKUP(B315,IMPORTRANGE(\"\"https://docs.google.com/spreadsheets/d/1c3Ia3eDo4sfDZb6ajW2WVML4MhoKXWIVRbYqnsZgQRs/edit#gid=0\"\",\"\"RWA!F:BZ\"\"),49,0))\"),\"\")","v":""}]
[null,null,null,{"$f":"IFERROR(__xludf.DUMMYFUNCTION(\"iferror(VLOOKUP(B316,IMPORTRANGE(\"\"https://docs.google.com/spreadsheets/d/1c3Ia3eDo4sfDZb6ajW2WVML4MhoKXWIVRbYqnsZgQRs/edit#gid=0\"\",\"\"RWA!F:BZ\"\"),44,0))\"),\"\")","v":""},{"$f":"IFERROR(__xludf.DUMMYFUNCTION(\"iferror(VLOOKUP(B316,IMPORTRANGE(\"\"https://docs.google.com/spreadsheets/d/1c3Ia3eDo4sfDZb6ajW2WVML4MhoKXWIVRbYqnsZgQRs/edit#gid=0\"\",\"\"RWA!F:BZ\"\"),48,0))\"),\"\")","v":""},{"$f":"IFERROR(__xludf.DUMMYFUNCTION(\"iferror(VLOOKUP(B316,IMPORTRANGE(\"\"https://docs.google.com/spreadsheets/d/1c3Ia3eDo4sfDZb6ajW2WVML4MhoKXWIVRbYqnsZgQRs/edit#gid=0\"\",\"\"RWA!F:BZ\"\"),49,0))\"),\"\")","v":""}]
[null,null,null,{"$f":"IFERROR(__xludf.DUMMYFUNCTION(\"iferror(VLOOKUP(B317,IMPORTRANGE(\"\"https://docs.google.com/spreadsheets/d/1c3Ia3eDo4sfDZb6ajW2WVML4MhoKXWIVRbYqnsZgQRs/edit#gid=0\"\",\"\"RWA!F:BZ\"\"),44,0))\"),\"\")","v":""},{"$f":"IFERROR(__xludf.DUMMYFUNCTION(\"iferror(VLOOKUP(B317,IMPORTRANGE(\"\"https://docs.google.com/spreadsheets/d/1c3Ia3eDo4sfDZb6ajW2WVML4MhoKXWIVRbYqnsZgQRs/edit#gid=0\"\",\"\"RWA!F:BZ\"\"),48,0))\"),\"\")","v":""},{"$f":"IFERROR(__xludf.DUMMYFUNCTION(\"iferror(VLOOKUP(B317,IMPORTRANGE(\"\"https://docs.google.com/spreadsheets/d/1c3Ia3eDo4sfDZb6ajW2WVML4MhoKXWIVRbYqnsZgQRs/edit#gid=0\"\",\"\"RWA!F:BZ\"\"),49,0))\"),\"\")","v":""}]
[null,null,null,{"$f":"IFERROR(__xludf.DUMMYFUNCTION(\"iferror(VLOOKUP(B318,IMPORTRANGE(\"\"https://docs.google.com/spreadsheets/d/1c3Ia3eDo4sfDZb6ajW2WVML4MhoKXWIVRbYqnsZgQRs/edit#gid=0\"\",\"\"RWA!F:BZ\"\"),44,0))\"),\"\")","v":""},{"$f":"IFERROR(__xludf.DUMMYFUNCTION(\"iferror(VLOOKUP(B318,IMPORTRANGE(\"\"https://docs.google.com/spreadsheets/d/1c3Ia3eDo4sfDZb6ajW2WVML4MhoKXWIVRbYqnsZgQRs/edit#gid=0\"\",\"\"RWA!F:BZ\"\"),48,0))\"),\"\")","v":""},{"$f":"IFERROR(__xludf.DUMMYFUNCTION(\"iferror(VLOOKUP(B318,IMPORTRANGE(\"\"https://docs.google.com/spreadsheets/d/1c3Ia3eDo4sfDZb6ajW2WVML4MhoKXWIVRbYqnsZgQRs/edit#gid=0\"\",\"\"RWA!F:BZ\"\"),49,0))\"),\"\")","v":""}]
[null,null,null,{"$f":"IFERROR(__xludf.DUMMYFUNCTION(\"iferror(VLOOKUP(B319,IMPORTRANGE(\"\"https://docs.google.com/spreadsheets/d/1c3Ia3eDo4sfDZb6ajW2WVML4MhoKXWIVRbYqnsZgQRs/edit#gid=0\"\",\"\"RWA!F:BZ\"\"),44,0))\"),\"\")","v":""},{"$f":"IFERROR(__xludf.DUMMYFUNCTION(\"iferror(VLOOKUP(B319,IMPORTRANGE(\"\"https://docs.google.com/spreadsheets/d/1c3Ia3eDo4sfDZb6ajW2WVML4MhoKXWIVRbYqnsZgQRs/edit#gid=0\"\",\"\"RWA!F:BZ\"\"),48,0))\"),\"\")","v":""},{"$f":"IFERROR(__xludf.DUMMYFUNCTION(\"iferror(VLOOKUP(B319,IMPORTRANGE(\"\"https://docs.google.com/spreadsheets/d/1c3Ia3eDo4sfDZb6ajW2WVML4MhoKXWIVRbYqnsZgQRs/edit#gid=0\"\",\"\"RWA!F:BZ\"\"),49,0))\"),\"\")","v":""}]
[null,null,null,{"$f":"IFERROR(__xludf.DUMMYFUNCTION(\"iferror(VLOOKUP(B320,IMPORTRANGE(\"\"https://docs.google.com/spreadsheets/d/1c3Ia3eDo4sfDZb6ajW2WVML4MhoKXWIVRbYqnsZgQRs/edit#gid=0\"\",\"\"RWA!F:BZ\"\"),44,0))\"),\"\")","v":""},{"$f":"IFERROR(__xludf.DUMMYFUNCTION(\"iferror(VLOOKUP(B320,IMPORTRANGE(\"\"https://docs.google.com/spreadsheets/d/1c3Ia3eDo4sfDZb6ajW2WVML4MhoKXWIVRbYqnsZgQRs/edit#gid=0\"\",\"\"RWA!F:BZ\"\"),48,0))\"),\"\")","v":""},{"$f":"IFERROR(__xludf.DUMMYFUNCTION(\"iferror(VLOOKUP(B320,IMPORTRANGE(\"\"https://docs.google.com/spreadsheets/d/1c3Ia3eDo4sfDZb6ajW2WVML4MhoKXWIVRbYqnsZgQRs/edit#gid=0\"\",\"\"RWA!F:BZ\"\"),49,0))\"),\"\")","v":""}]
[null,null,null,{"$f":"IFERROR(__xludf.DUMMYFUNCTION(\"iferror(VLOOKUP(B321,IMPORTRANGE(\"\"https://docs.google.com/spreadsheets/d/1c3Ia3eDo4sfDZb6ajW2WVML4MhoKXWIVRbYqnsZgQRs/edit#gid=0\"\",\"\"RWA!F:BZ\"\"),44,0))\"),\"\")","v":""},{"$f":"IFERROR(__xludf.DUMMYFUNCTION(\"iferror(VLOOKUP(B321,IMPORTRANGE(\"\"https://docs.google.com/spreadsheets/d/1c3Ia3eDo4sfDZb6ajW2WVML4MhoKXWIVRbYqnsZgQRs/edit#gid=0\"\",\"\"RWA!F:BZ\"\"),48,0))\"),\"\")","v":""},{"$f":"IFERROR(__xludf.DUMMYFUNCTION(\"iferror(VLOOKUP(B321,IMPORTRANGE(\"\"https://docs.google.com/spreadsheets/d/1c3Ia3eDo4sfDZb6ajW2WVML4MhoKXWIVRbYqnsZgQRs/edit#gid=0\"\",\"\"RWA!F:BZ\"\"),49,0))\"),\"\")","v":""}]
[null,null,null,{"$f":"IFERROR(__xludf.DUMMYFUNCTION(\"iferror(VLOOKUP(B322,IMPORTRANGE(\"\"https://docs.google.com/spreadsheets/d/1c3Ia3eDo4sfDZb6ajW2WVML4MhoKXWIVRbYqnsZgQRs/edit#gid=0\"\",\"\"RWA!F:BZ\"\"),44,0))\"),\"\")","v":""},{"$f":"IFERROR(__xludf.DUMMYFUNCTION(\"iferror(VLOOKUP(B322,IMPORTRANGE(\"\"https://docs.google.com/spreadsheets/d/1c3Ia3eDo4sfDZb6ajW2WVML4MhoKXWIVRbYqnsZgQRs/edit#gid=0\"\",\"\"RWA!F:BZ\"\"),48,0))\"),\"\")","v":""},{"$f":"IFERROR(__xludf.DUMMYFUNCTION(\"iferror(VLOOKUP(B322,IMPORTRANGE(\"\"https://docs.google.com/spreadsheets/d/1c3Ia3eDo4sfDZb6ajW2WVML4MhoKXWIVRbYqnsZgQRs/edit#gid=0\"\",\"\"RWA!F:BZ\"\"),49,0))\"),\"\")","v":""}]
[null,null,null,{"$f":"IFERROR(__xludf.DUMMYFUNCTION(\"iferror(VLOOKUP(B323,IMPORTRANGE(\"\"https://docs.google.com/spreadsheets/d/1c3Ia3eDo4sfDZb6ajW2WVML4MhoKXWIVRbYqnsZgQRs/edit#gid=0\"\",\"\"RWA!F:BZ\"\"),44,0))\"),\"\")","v":""},{"$f":"IFERROR(__xludf.DUMMYFUNCTION(\"iferror(VLOOKUP(B323,IMPORTRANGE(\"\"https://docs.google.com/spreadsheets/d/1c3Ia3eDo4sfDZb6ajW2WVML4MhoKXWIVRbYqnsZgQRs/edit#gid=0\"\",\"\"RWA!F:BZ\"\"),48,0))\"),\"\")","v":""},{"$f":"IFERROR(__xludf.DUMMYFUNCTION(\"iferror(VLOOKUP(B323,IMPORTRANGE(\"\"https://docs.google.com/spreadsheets/d/1c3Ia3eDo4sfDZb6ajW2WVML4MhoKXWIVRbYqnsZgQRs/edit#gid=0\"\",\"\"RWA!F:BZ\"\"),49,0))\"),\"\")","v":""}]
[null,null,null,{"$f":"IFERROR(__xludf.DUMMYFUNCTION(\"iferror(VLOOKUP(B324,IMPORTRANGE(\"\"https://docs.google.com/spreadsheets/d/1c3Ia3eDo4sfDZb6ajW2WVML4MhoKXWIVRbYqnsZgQRs/edit#gid=0\"\",\"\"RWA!F:BZ\"\"),44,0))\"),\"\")","v":""},{"$f":"IFERROR(__xludf.DUMMYFUNCTION(\"iferror(VLOOKUP(B324,IMPORTRANGE(\"\"https://docs.google.com/spreadsheets/d/1c3Ia3eDo4sfDZb6ajW2WVML4MhoKXWIVRbYqnsZgQRs/edit#gid=0\"\",\"\"RWA!F:BZ\"\"),48,0))\"),\"\")","v":""},{"$f":"IFERROR(__xludf.DUMMYFUNCTION(\"iferror(VLOOKUP(B324,IMPORTRANGE(\"\"https://docs.google.com/spreadsheets/d/1c3Ia3eDo4sfDZb6ajW2WVML4MhoKXWIVRbYqnsZgQRs/edit#gid=0\"\",\"\"RWA!F:BZ\"\"),49,0))\"),\"\")","v":""}]
[null,null,null,{"$f":"IFERROR(__xludf.DUMMYFUNCTION(\"iferror(VLOOKUP(B325,IMPORTRANGE(\"\"https://docs.google.com/spreadsheets/d/1c3Ia3eDo4sfDZb6ajW2WVML4MhoKXWIVRbYqnsZgQRs/edit#gid=0\"\",\"\"RWA!F:BZ\"\"),44,0))\"),\"\")","v":""},{"$f":"IFERROR(__xludf.DUMMYFUNCTION(\"iferror(VLOOKUP(B325,IMPORTRANGE(\"\"https://docs.google.com/spreadsheets/d/1c3Ia3eDo4sfDZb6ajW2WVML4MhoKXWIVRbYqnsZgQRs/edit#gid=0\"\",\"\"RWA!F:BZ\"\"),48,0))\"),\"\")","v":""},{"$f":"IFERROR(__xludf.DUMMYFUNCTION(\"iferror(VLOOKUP(B325,IMPORTRANGE(\"\"https://docs.google.com/spreadsheets/d/1c3Ia3eDo4sfDZb6ajW2WVML4MhoKXWIVRbYqnsZgQRs/edit#gid=0\"\",\"\"RWA!F:BZ\"\"),49,0))\"),\"\")","v":""}]
[null,null,null,{"$f":"IFERROR(__xludf.DUMMYFUNCTION(\"iferror(VLOOKUP(B326,IMPORTRANGE(\"\"https://docs.google.com/spreadsheets/d/1c3Ia3eDo4sfDZb6ajW2WVML4MhoKXWIVRbYqnsZgQRs/edit#gid=0\"\",\"\"RWA!F:BZ\"\"),44,0))\"),\"\")","v":""},{"$f":"IFERROR(__xludf.DUMMYFUNCTION(\"iferror(VLOOKUP(B326,IMPORTRANGE(\"\"https://docs.google.com/spreadsheets/d/1c3Ia3eDo4sfDZb6ajW2WVML4MhoKXWIVRbYqnsZgQRs/edit#gid=0\"\",\"\"RWA!F:BZ\"\"),48,0))\"),\"\")","v":""},{"$f":"IFERROR(__xludf.DUMMYFUNCTION(\"iferror(VLOOKUP(B326,IMPORTRANGE(\"\"https://docs.google.com/spreadsheets/d/1c3Ia3eDo4sfDZb6ajW2WVML4MhoKXWIVRbYqnsZgQRs/edit#gid=0\"\",\"\"RWA!F:BZ\"\"),49,0))\"),\"\")","v":""}]
[null,null,null,{"$f":"IFERROR(__xludf.DUMMYFUNCTION(\"iferror(VLOOKUP(B327,IMPORTRANGE(\"\"https://docs.google.com/spreadsheets/d/1c3Ia3eDo4sfDZb6ajW2WVML4MhoKXWIVRbYqnsZgQRs/edit#gid=0\"\",\"\"RWA!F:BZ\"\"),44,0))\"),\"\")","v":""},{"$f":"IFERROR(__xludf.DUMMYFUNCTION(\"iferror(VLOOKUP(B327,IMPORTRANGE(\"\"https://docs.google.com/spreadsheets/d/1c3Ia3eDo4sfDZb6ajW2WVML4MhoKXWIVRbYqnsZgQRs/edit#gid=0\"\",\"\"RWA!F:BZ\"\"),48,0))\"),\"\")","v":""},{"$f":"IFERROR(__xludf.DUMMYFUNCTION(\"iferror(VLOOKUP(B327,IMPORTRANGE(\"\"https://docs.google.com/spreadsheets/d/1c3Ia3eDo4sfDZb6ajW2WVML4MhoKXWIVRbYqnsZgQRs/edit#gid=0\"\",\"\"RWA!F:BZ\"\"),49,0))\"),\"\")","v":""}]
[null,null,null,{"$f":"IFERROR(__xludf.DUMMYFUNCTION(\"iferror(VLOOKUP(B328,IMPORTRANGE(\"\"https://docs.google.com/spreadsheets/d/1c3Ia3eDo4sfDZb6ajW2WVML4MhoKXWIVRbYqnsZgQRs/edit#gid=0\"\",\"\"RWA!F:BZ\"\"),44,0))\"),\"\")","v":""},{"$f":"IFERROR(__xludf.DUMMYFUNCTION(\"iferror(VLOOKUP(B328,IMPORTRANGE(\"\"https://docs.google.com/spreadsheets/d/1c3Ia3eDo4sfDZb6ajW2WVML4MhoKXWIVRbYqnsZgQRs/edit#gid=0\"\",\"\"RWA!F:BZ\"\"),48,0))\"),\"\")","v":""},{"$f":"IFERROR(__xludf.DUMMYFUNCTION(\"iferror(VLOOKUP(B328,IMPORTRANGE(\"\"https://docs.google.com/spreadsheets/d/1c3Ia3eDo4sfDZb6ajW2WVML4MhoKXWIVRbYqnsZgQRs/edit#gid=0\"\",\"\"RWA!F:BZ\"\"),49,0))\"),\"\")","v":""}]
[null,null,null,{"$f":"IFERROR(__xludf.DUMMYFUNCTION(\"iferror(VLOOKUP(B329,IMPORTRANGE(\"\"https://docs.google.com/spreadsheets/d/1c3Ia3eDo4sfDZb6ajW2WVML4MhoKXWIVRbYqnsZgQRs/edit#gid=0\"\",\"\"RWA!F:BZ\"\"),44,0))\"),\"\")","v":""},{"$f":"IFERROR(__xludf.DUMMYFUNCTION(\"iferror(VLOOKUP(B329,IMPORTRANGE(\"\"https://docs.google.com/spreadsheets/d/1c3Ia3eDo4sfDZb6ajW2WVML4MhoKXWIVRbYqnsZgQRs/edit#gid=0\"\",\"\"RWA!F:BZ\"\"),48,0))\"),\"\")","v":""},{"$f":"IFERROR(__xludf.DUMMYFUNCTION(\"iferror(VLOOKUP(B329,IMPORTRANGE(\"\"https://docs.google.com/spreadsheets/d/1c3Ia3eDo4sfDZb6ajW2WVML4MhoKXWIVRbYqnsZgQRs/edit#gid=0\"\",\"\"RWA!F:BZ\"\"),49,0))\"),\"\")","v":""}]
[null,null,null,{"$f":"IFERROR(__xludf.DUMMYFUNCTION(\"iferror(VLOOKUP(B330,IMPORTRANGE(\"\"https://docs.google.com/spreadsheets/d/1c3Ia3eDo4sfDZb6ajW2WVML4MhoKXWIVRbYqnsZgQRs/edit#gid=0\"\",\"\"RWA!F:BZ\"\"),44,0))\"),\"\")","v":""},{"$f":"IFERROR(__xludf.DUMMYFUNCTION(\"iferror(VLOOKUP(B330,IMPORTRANGE(\"\"https://docs.google.com/spreadsheets/d/1c3Ia3eDo4sfDZb6ajW2WVML4MhoKXWIVRbYqnsZgQRs/edit#gid=0\"\",\"\"RWA!F:BZ\"\"),48,0))\"),\"\")","v":""},{"$f":"IFERROR(__xludf.DUMMYFUNCTION(\"iferror(VLOOKUP(B330,IMPORTRANGE(\"\"https://docs.google.com/spreadsheets/d/1c3Ia3eDo4sfDZb6ajW2WVML4MhoKXWIVRbYqnsZgQRs/edit#gid=0\"\",\"\"RWA!F:BZ\"\"),49,0))\"),\"\")","v":""}]
[null,null,null,{"$f":"IFERROR(__xludf.DUMMYFUNCTION(\"iferror(VLOOKUP(B331,IMPORTRANGE(\"\"https://docs.google.com/spreadsheets/d/1c3Ia3eDo4sfDZb6ajW2WVML4MhoKXWIVRbYqnsZgQRs/edit#gid=0\"\",\"\"RWA!F:BZ\"\"),44,0))\"),\"\")","v":""},{"$f":"IFERROR(__xludf.DUMMYFUNCTION(\"iferror(VLOOKUP(B331,IMPORTRANGE(\"\"https://docs.google.com/spreadsheets/d/1c3Ia3eDo4sfDZb6ajW2WVML4MhoKXWIVRbYqnsZgQRs/edit#gid=0\"\",\"\"RWA!F:BZ\"\"),48,0))\"),\"\")","v":""},{"$f":"IFERROR(__xludf.DUMMYFUNCTION(\"iferror(VLOOKUP(B331,IMPORTRANGE(\"\"https://docs.google.com/spreadsheets/d/1c3Ia3eDo4sfDZb6ajW2WVML4MhoKXWIVRbYqnsZgQRs/edit#gid=0\"\",\"\"RWA!F:BZ\"\"),49,0))\"),\"\")","v":""}]
[null,null,null,{"$f":"IFERROR(__xludf.DUMMYFUNCTION(\"iferror(VLOOKUP(B332,IMPORTRANGE(\"\"https://docs.google.com/spreadsheets/d/1c3Ia3eDo4sfDZb6ajW2WVML4MhoKXWIVRbYqnsZgQRs/edit#gid=0\"\",\"\"RWA!F:BZ\"\"),44,0))\"),\"\")","v":""},{"$f":"IFERROR(__xludf.DUMMYFUNCTION(\"iferror(VLOOKUP(B332,IMPORTRANGE(\"\"https://docs.google.com/spreadsheets/d/1c3Ia3eDo4sfDZb6ajW2WVML4MhoKXWIVRbYqnsZgQRs/edit#gid=0\"\",\"\"RWA!F:BZ\"\"),48,0))\"),\"\")","v":""},{"$f":"IFERROR(__xludf.DUMMYFUNCTION(\"iferror(VLOOKUP(B332,IMPORTRANGE(\"\"https://docs.google.com/spreadsheets/d/1c3Ia3eDo4sfDZb6ajW2WVML4MhoKXWIVRbYqnsZgQRs/edit#gid=0\"\",\"\"RWA!F:BZ\"\"),49,0))\"),\"\")","v":""}]
[null,null,null,{"$f":"IFERROR(__xludf.DUMMYFUNCTION(\"iferror(VLOOKUP(B333,IMPORTRANGE(\"\"https://docs.google.com/spreadsheets/d/1c3Ia3eDo4sfDZb6ajW2WVML4MhoKXWIVRbYqnsZgQRs/edit#gid=0\"\",\"\"RWA!F:BZ\"\"),44,0))\"),\"\")","v":""},{"$f":"IFERROR(__xludf.DUMMYFUNCTION(\"iferror(VLOOKUP(B333,IMPORTRANGE(\"\"https://docs.google.com/spreadsheets/d/1c3Ia3eDo4sfDZb6ajW2WVML4MhoKXWIVRbYqnsZgQRs/edit#gid=0\"\",\"\"RWA!F:BZ\"\"),48,0))\"),\"\")","v":""},{"$f":"IFERROR(__xludf.DUMMYFUNCTION(\"iferror(VLOOKUP(B333,IMPORTRANGE(\"\"https://docs.google.com/spreadsheets/d/1c3Ia3eDo4sfDZb6ajW2WVML4MhoKXWIVRbYqnsZgQRs/edit#gid=0\"\",\"\"RWA!F:BZ\"\"),49,0))\"),\"\")","v":""}]
[null,null,null,{"$f":"IFERROR(__xludf.DUMMYFUNCTION(\"iferror(VLOOKUP(B334,IMPORTRANGE(\"\"https://docs.google.com/spreadsheets/d/1c3Ia3eDo4sfDZb6ajW2WVML4MhoKXWIVRbYqnsZgQRs/edit#gid=0\"\",\"\"RWA!F:BZ\"\"),44,0))\"),\"\")","v":""},{"$f":"IFERROR(__xludf.DUMMYFUNCTION(\"iferror(VLOOKUP(B334,IMPORTRANGE(\"\"https://docs.google.com/spreadsheets/d/1c3Ia3eDo4sfDZb6ajW2WVML4MhoKXWIVRbYqnsZgQRs/edit#gid=0\"\",\"\"RWA!F:BZ\"\"),48,0))\"),\"\")","v":""},{"$f":"IFERROR(__xludf.DUMMYFUNCTION(\"iferror(VLOOKUP(B334,IMPORTRANGE(\"\"https://docs.google.com/spreadsheets/d/1c3Ia3eDo4sfDZb6ajW2WVML4MhoKXWIVRbYqnsZgQRs/edit#gid=0\"\",\"\"RWA!F:BZ\"\"),49,0))\"),\"\")","v":""}]
[null,null,null,{"$f":"IFERROR(__xludf.DUMMYFUNCTION(\"iferror(VLOOKUP(B335,IMPORTRANGE(\"\"https://docs.google.com/spreadsheets/d/1c3Ia3eDo4sfDZb6ajW2WVML4MhoKXWIVRbYqnsZgQRs/edit#gid=0\"\",\"\"RWA!F:BZ\"\"),44,0))\"),\"\")","v":""},{"$f":"IFERROR(__xludf.DUMMYFUNCTION(\"iferror(VLOOKUP(B335,IMPORTRANGE(\"\"https://docs.google.com/spreadsheets/d/1c3Ia3eDo4sfDZb6ajW2WVML4MhoKXWIVRbYqnsZgQRs/edit#gid=0\"\",\"\"RWA!F:BZ\"\"),48,0))\"),\"\")","v":""},{"$f":"IFERROR(__xludf.DUMMYFUNCTION(\"iferror(VLOOKUP(B335,IMPORTRANGE(\"\"https://docs.google.com/spreadsheets/d/1c3Ia3eDo4sfDZb6ajW2WVML4MhoKXWIVRbYqnsZgQRs/edit#gid=0\"\",\"\"RWA!F:BZ\"\"),49,0))\"),\"\")","v":""}]
[null,null,null,{"$f":"IFERROR(__xludf.DUMMYFUNCTION(\"iferror(VLOOKUP(B336,IMPORTRANGE(\"\"https://docs.google.com/spreadsheets/d/1c3Ia3eDo4sfDZb6ajW2WVML4MhoKXWIVRbYqnsZgQRs/edit#gid=0\"\",\"\"RWA!F:BZ\"\"),44,0))\"),\"\")","v":""},{"$f":"IFERROR(__xludf.DUMMYFUNCTION(\"iferror(VLOOKUP(B336,IMPORTRANGE(\"\"https://docs.google.com/spreadsheets/d/1c3Ia3eDo4sfDZb6ajW2WVML4MhoKXWIVRbYqnsZgQRs/edit#gid=0\"\",\"\"RWA!F:BZ\"\"),48,0))\"),\"\")","v":""},{"$f":"IFERROR(__xludf.DUMMYFUNCTION(\"iferror(VLOOKUP(B336,IMPORTRANGE(\"\"https://docs.google.com/spreadsheets/d/1c3Ia3eDo4sfDZb6ajW2WVML4MhoKXWIVRbYqnsZgQRs/edit#gid=0\"\",\"\"RWA!F:BZ\"\"),49,0))\"),\"\")","v":""}]
[null,null,null,{"$f":"IFERROR(__xludf.DUMMYFUNCTION(\"iferror(VLOOKUP(B337,IMPORTRANGE(\"\"https://docs.google.com/spreadsheets/d/1c3Ia3eDo4sfDZb6ajW2WVML4MhoKXWIVRbYqnsZgQRs/edit#gid=0\"\",\"\"RWA!F:BZ\"\"),44,0))\"),\"\")","v":""},{"$f":"IFERROR(__xludf.DUMMYFUNCTION(\"iferror(VLOOKUP(B337,IMPORTRANGE(\"\"https://docs.google.com/spreadsheets/d/1c3Ia3eDo4sfDZb6ajW2WVML4MhoKXWIVRbYqnsZgQRs/edit#gid=0\"\",\"\"RWA!F:BZ\"\"),48,0))\"),\"\")","v":""},{"$f":"IFERROR(__xludf.DUMMYFUNCTION(\"iferror(VLOOKUP(B337,IMPORTRANGE(\"\"https://docs.google.com/spreadsheets/d/1c3Ia3eDo4sfDZb6ajW2WVML4MhoKXWIVRbYqnsZgQRs/edit#gid=0\"\",\"\"RWA!F:BZ\"\"),49,0))\"),\"\")","v":""}]
[null,null,null,{"$f":"IFERROR(__xludf.DUMMYFUNCTION(\"iferror(VLOOKUP(B338,IMPORTRANGE(\"\"https://docs.google.com/spreadsheets/d/1c3Ia3eDo4sfDZb6ajW2WVML4MhoKXWIVRbYqnsZgQRs/edit#gid=0\"\",\"\"RWA!F:BZ\"\"),44,0))\"),\"\")","v":""},{"$f":"IFERROR(__xludf.DUMMYFUNCTION(\"iferror(VLOOKUP(B338,IMPORTRANGE(\"\"https://docs.google.com/spreadsheets/d/1c3Ia3eDo4sfDZb6ajW2WVML4MhoKXWIVRbYqnsZgQRs/edit#gid=0\"\",\"\"RWA!F:BZ\"\"),48,0))\"),\"\")","v":""},{"$f":"IFERROR(__xludf.DUMMYFUNCTION(\"iferror(VLOOKUP(B338,IMPORTRANGE(\"\"https://docs.google.com/spreadsheets/d/1c3Ia3eDo4sfDZb6ajW2WVML4MhoKXWIVRbYqnsZgQRs/edit#gid=0\"\",\"\"RWA!F:BZ\"\"),49,0))\"),\"\")","v":""}]
[null,null,null,{"$f":"IFERROR(__xludf.DUMMYFUNCTION(\"iferror(VLOOKUP(B339,IMPORTRANGE(\"\"https://docs.google.com/spreadsheets/d/1c3Ia3eDo4sfDZb6ajW2WVML4MhoKXWIVRbYqnsZgQRs/edit#gid=0\"\",\"\"RWA!F:BZ\"\"),44,0))\"),\"\")","v":""},{"$f":"IFERROR(__xludf.DUMMYFUNCTION(\"iferror(VLOOKUP(B339,IMPORTRANGE(\"\"https://docs.google.com/spreadsheets/d/1c3Ia3eDo4sfDZb6ajW2WVML4MhoKXWIVRbYqnsZgQRs/edit#gid=0\"\",\"\"RWA!F:BZ\"\"),48,0))\"),\"\")","v":""},{"$f":"IFERROR(__xludf.DUMMYFUNCTION(\"iferror(VLOOKUP(B339,IMPORTRANGE(\"\"https://docs.google.com/spreadsheets/d/1c3Ia3eDo4sfDZb6ajW2WVML4MhoKXWIVRbYqnsZgQRs/edit#gid=0\"\",\"\"RWA!F:BZ\"\"),49,0))\"),\"\")","v":""}]
[null,null,null,{"$f":"IFERROR(__xludf.DUMMYFUNCTION(\"iferror(VLOOKUP(B340,IMPORTRANGE(\"\"https://docs.google.com/spreadsheets/d/1c3Ia3eDo4sfDZb6ajW2WVML4MhoKXWIVRbYqnsZgQRs/edit#gid=0\"\",\"\"RWA!F:BZ\"\"),44,0))\"),\"\")","v":""},{"$f":"IFERROR(__xludf.DUMMYFUNCTION(\"iferror(VLOOKUP(B340,IMPORTRANGE(\"\"https://docs.google.com/spreadsheets/d/1c3Ia3eDo4sfDZb6ajW2WVML4MhoKXWIVRbYqnsZgQRs/edit#gid=0\"\",\"\"RWA!F:BZ\"\"),48,0))\"),\"\")","v":""},{"$f":"IFERROR(__xludf.DUMMYFUNCTION(\"iferror(VLOOKUP(B340,IMPORTRANGE(\"\"https://docs.google.com/spreadsheets/d/1c3Ia3eDo4sfDZb6ajW2WVML4MhoKXWIVRbYqnsZgQRs/edit#gid=0\"\",\"\"RWA!F:BZ\"\"),49,0))\"),\"\")","v":""}]
[null,null,null,{"$f":"IFERROR(__xludf.DUMMYFUNCTION(\"iferror(VLOOKUP(B341,IMPORTRANGE(\"\"https://docs.google.com/spreadsheets/d/1c3Ia3eDo4sfDZb6ajW2WVML4MhoKXWIVRbYqnsZgQRs/edit#gid=0\"\",\"\"RWA!F:BZ\"\"),44,0))\"),\"\")","v":""},{"$f":"IFERROR(__xludf.DUMMYFUNCTION(\"iferror(VLOOKUP(B341,IMPORTRANGE(\"\"https://docs.google.com/spreadsheets/d/1c3Ia3eDo4sfDZb6ajW2WVML4MhoKXWIVRbYqnsZgQRs/edit#gid=0\"\",\"\"RWA!F:BZ\"\"),48,0))\"),\"\")","v":""},{"$f":"IFERROR(__xludf.DUMMYFUNCTION(\"iferror(VLOOKUP(B341,IMPORTRANGE(\"\"https://docs.google.com/spreadsheets/d/1c3Ia3eDo4sfDZb6ajW2WVML4MhoKXWIVRbYqnsZgQRs/edit#gid=0\"\",\"\"RWA!F:BZ\"\"),49,0))\"),\"\")","v":""}]
[null,null,null,{"$f":"IFERROR(__xludf.DUMMYFUNCTION(\"iferror(VLOOKUP(B342,IMPORTRANGE(\"\"https://docs.google.com/spreadsheets/d/1c3Ia3eDo4sfDZb6ajW2WVML4MhoKXWIVRbYqnsZgQRs/edit#gid=0\"\",\"\"RWA!F:BZ\"\"),44,0))\"),\"\")","v":""},{"$f":"IFERROR(__xludf.DUMMYFUNCTION(\"iferror(VLOOKUP(B342,IMPORTRANGE(\"\"https://docs.google.com/spreadsheets/d/1c3Ia3eDo4sfDZb6ajW2WVML4MhoKXWIVRbYqnsZgQRs/edit#gid=0\"\",\"\"RWA!F:BZ\"\"),48,0))\"),\"\")","v":""},{"$f":"IFERROR(__xludf.DUMMYFUNCTION(\"iferror(VLOOKUP(B342,IMPORTRANGE(\"\"https://docs.google.com/spreadsheets/d/1c3Ia3eDo4sfDZb6ajW2WVML4MhoKXWIVRbYqnsZgQRs/edit#gid=0\"\",\"\"RWA!F:BZ\"\"),49,0))\"),\"\")","v":""}]
[null,null,null,{"$f":"IFERROR(__xludf.DUMMYFUNCTION(\"iferror(VLOOKUP(B343,IMPORTRANGE(\"\"https://docs.google.com/spreadsheets/d/1c3Ia3eDo4sfDZb6ajW2WVML4MhoKXWIVRbYqnsZgQRs/edit#gid=0\"\",\"\"RWA!F:BZ\"\"),44,0))\"),\"\")","v":""},{"$f":"IFERROR(__xludf.DUMMYFUNCTION(\"iferror(VLOOKUP(B343,IMPORTRANGE(\"\"https://docs.google.com/spreadsheets/d/1c3Ia3eDo4sfDZb6ajW2WVML4MhoKXWIVRbYqnsZgQRs/edit#gid=0\"\",\"\"RWA!F:BZ\"\"),48,0))\"),\"\")","v":""},{"$f":"IFERROR(__xludf.DUMMYFUNCTION(\"iferror(VLOOKUP(B343,IMPORTRANGE(\"\"https://docs.google.com/spreadsheets/d/1c3Ia3eDo4sfDZb6ajW2WVML4MhoKXWIVRbYqnsZgQRs/edit#gid=0\"\",\"\"RWA!F:BZ\"\"),49,0))\"),\"\")","v":""}]
[null,null,null,{"$f":"IFERROR(__xludf.DUMMYFUNCTION(\"iferror(VLOOKUP(B344,IMPORTRANGE(\"\"https://docs.google.com/spreadsheets/d/1c3Ia3eDo4sfDZb6ajW2WVML4MhoKXWIVRbYqnsZgQRs/edit#gid=0\"\",\"\"RWA!F:BZ\"\"),44,0))\"),\"\")","v":""},{"$f":"IFERROR(__xludf.DUMMYFUNCTION(\"iferror(VLOOKUP(B344,IMPORTRANGE(\"\"https://docs.google.com/spreadsheets/d/1c3Ia3eDo4sfDZb6ajW2WVML4MhoKXWIVRbYqnsZgQRs/edit#gid=0\"\",\"\"RWA!F:BZ\"\"),48,0))\"),\"\")","v":""},{"$f":"IFERROR(__xludf.DUMMYFUNCTION(\"iferror(VLOOKUP(B344,IMPORTRANGE(\"\"https://docs.google.com/spreadsheets/d/1c3Ia3eDo4sfDZb6ajW2WVML4MhoKXWIVRbYqnsZgQRs/edit#gid=0\"\",\"\"RWA!F:BZ\"\"),49,0))\"),\"\")","v":""}]
[null,null,null,{"$f":"IFERROR(__xludf.DUMMYFUNCTION(\"iferror(VLOOKUP(B345,IMPORTRANGE(\"\"https://docs.google.com/spreadsheets/d/1c3Ia3eDo4sfDZb6ajW2WVML4MhoKXWIVRbYqnsZgQRs/edit#gid=0\"\",\"\"RWA!F:BZ\"\"),44,0))\"),\"\")","v":""},{"$f":"IFERROR(__xludf.DUMMYFUNCTION(\"iferror(VLOOKUP(B345,IMPORTRANGE(\"\"https://docs.google.com/spreadsheets/d/1c3Ia3eDo4sfDZb6ajW2WVML4MhoKXWIVRbYqnsZgQRs/edit#gid=0\"\",\"\"RWA!F:BZ\"\"),48,0))\"),\"\")","v":""},{"$f":"IFERROR(__xludf.DUMMYFUNCTION(\"iferror(VLOOKUP(B345,IMPORTRANGE(\"\"https://docs.google.com/spreadsheets/d/1c3Ia3eDo4sfDZb6ajW2WVML4MhoKXWIVRbYqnsZgQRs/edit#gid=0\"\",\"\"RWA!F:BZ\"\"),49,0))\"),\"\")","v":""}]
[null,null,null,{"$f":"IFERROR(__xludf.DUMMYFUNCTION(\"iferror(VLOOKUP(B346,IMPORTRANGE(\"\"https://docs.google.com/spreadsheets/d/1c3Ia3eDo4sfDZb6ajW2WVML4MhoKXWIVRbYqnsZgQRs/edit#gid=0\"\",\"\"RWA!F:BZ\"\"),44,0))\"),\"\")","v":""},{"$f":"IFERROR(__xludf.DUMMYFUNCTION(\"iferror(VLOOKUP(B346,IMPORTRANGE(\"\"https://docs.google.com/spreadsheets/d/1c3Ia3eDo4sfDZb6ajW2WVML4MhoKXWIVRbYqnsZgQRs/edit#gid=0\"\",\"\"RWA!F:BZ\"\"),48,0))\"),\"\")","v":""},{"$f":"IFERROR(__xludf.DUMMYFUNCTION(\"iferror(VLOOKUP(B346,IMPORTRANGE(\"\"https://docs.google.com/spreadsheets/d/1c3Ia3eDo4sfDZb6ajW2WVML4MhoKXWIVRbYqnsZgQRs/edit#gid=0\"\",\"\"RWA!F:BZ\"\"),49,0))\"),\"\")","v":""}]
[null,null,null,{"$f":"IFERROR(__xludf.DUMMYFUNCTION(\"iferror(VLOOKUP(B347,IMPORTRANGE(\"\"https://docs.google.com/spreadsheets/d/1c3Ia3eDo4sfDZb6ajW2WVML4MhoKXWIVRbYqnsZgQRs/edit#gid=0\"\",\"\"RWA!F:BZ\"\"),44,0))\"),\"\")","v":""},{"$f":"IFERROR(__xludf.DUMMYFUNCTION(\"iferror(VLOOKUP(B347,IMPORTRANGE(\"\"https://docs.google.com/spreadsheets/d/1c3Ia3eDo4sfDZb6ajW2WVML4MhoKXWIVRbYqnsZgQRs/edit#gid=0\"\",\"\"RWA!F:BZ\"\"),48,0))\"),\"\")","v":""},{"$f":"IFERROR(__xludf.DUMMYFUNCTION(\"iferror(VLOOKUP(B347,IMPORTRANGE(\"\"https://docs.google.com/spreadsheets/d/1c3Ia3eDo4sfDZb6ajW2WVML4MhoKXWIVRbYqnsZgQRs/edit#gid=0\"\",\"\"RWA!F:BZ\"\"),49,0))\"),\"\")","v":""}]
[null,null,null,{"$f":"IFERROR(__xludf.DUMMYFUNCTION(\"iferror(VLOOKUP(B348,IMPORTRANGE(\"\"https://docs.google.com/spreadsheets/d/1c3Ia3eDo4sfDZb6ajW2WVML4MhoKXWIVRbYqnsZgQRs/edit#gid=0\"\",\"\"RWA!F:BZ\"\"),44,0))\"),\"\")","v":""},{"$f":"IFERROR(__xludf.DUMMYFUNCTION(\"iferror(VLOOKUP(B348,IMPORTRANGE(\"\"https://docs.google.com/spreadsheets/d/1c3Ia3eDo4sfDZb6ajW2WVML4MhoKXWIVRbYqnsZgQRs/edit#gid=0\"\",\"\"RWA!F:BZ\"\"),48,0))\"),\"\")","v":""},{"$f":"IFERROR(__xludf.DUMMYFUNCTION(\"iferror(VLOOKUP(B348,IMPORTRANGE(\"\"https://docs.google.com/spreadsheets/d/1c3Ia3eDo4sfDZb6ajW2WVML4MhoKXWIVRbYqnsZgQRs/edit#gid=0\"\",\"\"RWA!F:BZ\"\"),49,0))\"),\"\")","v":""}]
[null,null,null,{"$f":"IFERROR(__xludf.DUMMYFUNCTION(\"iferror(VLOOKUP(B349,IMPORTRANGE(\"\"https://docs.google.com/spreadsheets/d/1c3Ia3eDo4sfDZb6ajW2WVML4MhoKXWIVRbYqnsZgQRs/edit#gid=0\"\",\"\"RWA!F:BZ\"\"),44,0))\"),\"\")","v":""},{"$f":"IFERROR(__xludf.DUMMYFUNCTION(\"iferror(VLOOKUP(B349,IMPORTRANGE(\"\"https://docs.google.com/spreadsheets/d/1c3Ia3eDo4sfDZb6ajW2WVML4MhoKXWIVRbYqnsZgQRs/edit#gid=0\"\",\"\"RWA!F:BZ\"\"),48,0))\"),\"\")","v":""},{"$f":"IFERROR(__xludf.DUMMYFUNCTION(\"iferror(VLOOKUP(B349,IMPORTRANGE(\"\"https://docs.google.com/spreadsheets/d/1c3Ia3eDo4sfDZb6ajW2WVML4MhoKXWIVRbYqnsZgQRs/edit#gid=0\"\",\"\"RWA!F:BZ\"\"),49,0))\"),\"\")","v":""}]
[null,null,null,{"$f":"IFERROR(__xludf.DUMMYFUNCTION(\"iferror(VLOOKUP(B350,IMPORTRANGE(\"\"https://docs.google.com/spreadsheets/d/1c3Ia3eDo4sfDZb6ajW2WVML4MhoKXWIVRbYqnsZgQRs/edit#gid=0\"\",\"\"RWA!F:BZ\"\"),44,0))\"),\"\")","v":""},{"$f":"IFERROR(__xludf.DUMMYFUNCTION(\"iferror(VLOOKUP(B350,IMPORTRANGE(\"\"https://docs.google.com/spreadsheets/d/1c3Ia3eDo4sfDZb6ajW2WVML4MhoKXWIVRbYqnsZgQRs/edit#gid=0\"\",\"\"RWA!F:BZ\"\"),48,0))\"),\"\")","v":""},{"$f":"IFERROR(__xludf.DUMMYFUNCTION(\"iferror(VLOOKUP(B350,IMPORTRANGE(\"\"https://docs.google.com/spreadsheets/d/1c3Ia3eDo4sfDZb6ajW2WVML4MhoKXWIVRbYqnsZgQRs/edit#gid=0\"\",\"\"RWA!F:BZ\"\"),49,0))\"),\"\")","v":""}]
[null,null,null,{"$f":"IFERROR(__xludf.DUMMYFUNCTION(\"iferror(VLOOKUP(B351,IMPORTRANGE(\"\"https://docs.google.com/spreadsheets/d/1c3Ia3eDo4sfDZb6ajW2WVML4MhoKXWIVRbYqnsZgQRs/edit#gid=0\"\",\"\"RWA!F:BZ\"\"),44,0))\"),\"\")","v":""},{"$f":"IFERROR(__xludf.DUMMYFUNCTION(\"iferror(VLOOKUP(B351,IMPORTRANGE(\"\"https://docs.google.com/spreadsheets/d/1c3Ia3eDo4sfDZb6ajW2WVML4MhoKXWIVRbYqnsZgQRs/edit#gid=0\"\",\"\"RWA!F:BZ\"\"),48,0))\"),\"\")","v":""},{"$f":"IFERROR(__xludf.DUMMYFUNCTION(\"iferror(VLOOKUP(B351,IMPORTRANGE(\"\"https://docs.google.com/spreadsheets/d/1c3Ia3eDo4sfDZb6ajW2WVML4MhoKXWIVRbYqnsZgQRs/edit#gid=0\"\",\"\"RWA!F:BZ\"\"),49,0))\"),\"\")","v":""}]
[null,null,null,{"$f":"IFERROR(__xludf.DUMMYFUNCTION(\"iferror(VLOOKUP(B352,IMPORTRANGE(\"\"https://docs.google.com/spreadsheets/d/1c3Ia3eDo4sfDZb6ajW2WVML4MhoKXWIVRbYqnsZgQRs/edit#gid=0\"\",\"\"RWA!F:BZ\"\"),44,0))\"),\"\")","v":""},{"$f":"IFERROR(__xludf.DUMMYFUNCTION(\"iferror(VLOOKUP(B352,IMPORTRANGE(\"\"https://docs.google.com/spreadsheets/d/1c3Ia3eDo4sfDZb6ajW2WVML4MhoKXWIVRbYqnsZgQRs/edit#gid=0\"\",\"\"RWA!F:BZ\"\"),48,0))\"),\"\")","v":""},{"$f":"IFERROR(__xludf.DUMMYFUNCTION(\"iferror(VLOOKUP(B352,IMPORTRANGE(\"\"https://docs.google.com/spreadsheets/d/1c3Ia3eDo4sfDZb6ajW2WVML4MhoKXWIVRbYqnsZgQRs/edit#gid=0\"\",\"\"RWA!F:BZ\"\"),49,0))\"),\"\")","v":""}]
[null,null,null,{"$f":"IFERROR(__xludf.DUMMYFUNCTION(\"iferror(VLOOKUP(B353,IMPORTRANGE(\"\"https://docs.google.com/spreadsheets/d/1c3Ia3eDo4sfDZb6ajW2WVML4MhoKXWIVRbYqnsZgQRs/edit#gid=0\"\",\"\"RWA!F:BZ\"\"),44,0))\"),\"\")","v":""},{"$f":"IFERROR(__xludf.DUMMYFUNCTION(\"iferror(VLOOKUP(B353,IMPORTRANGE(\"\"https://docs.google.com/spreadsheets/d/1c3Ia3eDo4sfDZb6ajW2WVML4MhoKXWIVRbYqnsZgQRs/edit#gid=0\"\",\"\"RWA!F:BZ\"\"),48,0))\"),\"\")","v":""},{"$f":"IFERROR(__xludf.DUMMYFUNCTION(\"iferror(VLOOKUP(B353,IMPORTRANGE(\"\"https://docs.google.com/spreadsheets/d/1c3Ia3eDo4sfDZb6ajW2WVML4MhoKXWIVRbYqnsZgQRs/edit#gid=0\"\",\"\"RWA!F:BZ\"\"),49,0))\"),\"\")","v":""}]
[null,null,null,{"$f":"IFERROR(__xludf.DUMMYFUNCTION(\"iferror(VLOOKUP(B354,IMPORTRANGE(\"\"https://docs.google.com/spreadsheets/d/1c3Ia3eDo4sfDZb6ajW2WVML4MhoKXWIVRbYqnsZgQRs/edit#gid=0\"\",\"\"RWA!F:BZ\"\"),44,0))\"),\"\")","v":""},{"$f":"IFERROR(__xludf.DUMMYFUNCTION(\"iferror(VLOOKUP(B354,IMPORTRANGE(\"\"https://docs.google.com/spreadsheets/d/1c3Ia3eDo4sfDZb6ajW2WVML4MhoKXWIVRbYqnsZgQRs/edit#gid=0\"\",\"\"RWA!F:BZ\"\"),48,0))\"),\"\")","v":""},{"$f":"IFERROR(__xludf.DUMMYFUNCTION(\"iferror(VLOOKUP(B354,IMPORTRANGE(\"\"https://docs.google.com/spreadsheets/d/1c3Ia3eDo4sfDZb6ajW2WVML4MhoKXWIVRbYqnsZgQRs/edit#gid=0\"\",\"\"RWA!F:BZ\"\"),49,0))\"),\"\")","v":""}]
[null,null,null,{"$f":"IFERROR(__xludf.DUMMYFUNCTION(\"iferror(VLOOKUP(B355,IMPORTRANGE(\"\"https://docs.google.com/spreadsheets/d/1c3Ia3eDo4sfDZb6ajW2WVML4MhoKXWIVRbYqnsZgQRs/edit#gid=0\"\",\"\"RWA!F:BZ\"\"),44,0))\"),\"\")","v":""},{"$f":"IFERROR(__xludf.DUMMYFUNCTION(\"iferror(VLOOKUP(B355,IMPORTRANGE(\"\"https://docs.google.com/spreadsheets/d/1c3Ia3eDo4sfDZb6ajW2WVML4MhoKXWIVRbYqnsZgQRs/edit#gid=0\"\",\"\"RWA!F:BZ\"\"),48,0))\"),\"\")","v":""},{"$f":"IFERROR(__xludf.DUMMYFUNCTION(\"iferror(VLOOKUP(B355,IMPORTRANGE(\"\"https://docs.google.com/spreadsheets/d/1c3Ia3eDo4sfDZb6ajW2WVML4MhoKXWIVRbYqnsZgQRs/edit#gid=0\"\",\"\"RWA!F:BZ\"\"),49,0))\"),\"\")","v":""}]
[null,null,null,{"$f":"IFERROR(__xludf.DUMMYFUNCTION(\"iferror(VLOOKUP(B356,IMPORTRANGE(\"\"https://docs.google.com/spreadsheets/d/1c3Ia3eDo4sfDZb6ajW2WVML4MhoKXWIVRbYqnsZgQRs/edit#gid=0\"\",\"\"RWA!F:BZ\"\"),44,0))\"),\"\")","v":""},{"$f":"IFERROR(__xludf.DUMMYFUNCTION(\"iferror(VLOOKUP(B356,IMPORTRANGE(\"\"https://docs.google.com/spreadsheets/d/1c3Ia3eDo4sfDZb6ajW2WVML4MhoKXWIVRbYqnsZgQRs/edit#gid=0\"\",\"\"RWA!F:BZ\"\"),48,0))\"),\"\")","v":""},{"$f":"IFERROR(__xludf.DUMMYFUNCTION(\"iferror(VLOOKUP(B356,IMPORTRANGE(\"\"https://docs.google.com/spreadsheets/d/1c3Ia3eDo4sfDZb6ajW2WVML4MhoKXWIVRbYqnsZgQRs/edit#gid=0\"\",\"\"RWA!F:BZ\"\"),49,0))\"),\"\")","v":""}]
[null,null,null,{"$f":"IFERROR(__xludf.DUMMYFUNCTION(\"iferror(VLOOKUP(B357,IMPORTRANGE(\"\"https://docs.google.com/spreadsheets/d/1c3Ia3eDo4sfDZb6ajW2WVML4MhoKXWIVRbYqnsZgQRs/edit#gid=0\"\",\"\"RWA!F:BZ\"\"),44,0))\"),\"\")","v":""},{"$f":"IFERROR(__xludf.DUMMYFUNCTION(\"iferror(VLOOKUP(B357,IMPORTRANGE(\"\"https://docs.google.com/spreadsheets/d/1c3Ia3eDo4sfDZb6ajW2WVML4MhoKXWIVRbYqnsZgQRs/edit#gid=0\"\",\"\"RWA!F:BZ\"\"),48,0))\"),\"\")","v":""},{"$f":"IFERROR(__xludf.DUMMYFUNCTION(\"iferror(VLOOKUP(B357,IMPORTRANGE(\"\"https://docs.google.com/spreadsheets/d/1c3Ia3eDo4sfDZb6ajW2WVML4MhoKXWIVRbYqnsZgQRs/edit#gid=0\"\",\"\"RWA!F:BZ\"\"),49,0))\"),\"\")","v":""}]
[null,null,null,{"$f":"IFERROR(__xludf.DUMMYFUNCTION(\"iferror(VLOOKUP(B358,IMPORTRANGE(\"\"https://docs.google.com/spreadsheets/d/1c3Ia3eDo4sfDZb6ajW2WVML4MhoKXWIVRbYqnsZgQRs/edit#gid=0\"\",\"\"RWA!F:BZ\"\"),44,0))\"),\"\")","v":""},{"$f":"IFERROR(__xludf.DUMMYFUNCTION(\"iferror(VLOOKUP(B358,IMPORTRANGE(\"\"https://docs.google.com/spreadsheets/d/1c3Ia3eDo4sfDZb6ajW2WVML4MhoKXWIVRbYqnsZgQRs/edit#gid=0\"\",\"\"RWA!F:BZ\"\"),48,0))\"),\"\")","v":""},{"$f":"IFERROR(__xludf.DUMMYFUNCTION(\"iferror(VLOOKUP(B358,IMPORTRANGE(\"\"https://docs.google.com/spreadsheets/d/1c3Ia3eDo4sfDZb6ajW2WVML4MhoKXWIVRbYqnsZgQRs/edit#gid=0\"\",\"\"RWA!F:BZ\"\"),49,0))\"),\"\")","v":""}]
[null,null,null,{"$f":"IFERROR(__xludf.DUMMYFUNCTION(\"iferror(VLOOKUP(B359,IMPORTRANGE(\"\"https://docs.google.com/spreadsheets/d/1c3Ia3eDo4sfDZb6ajW2WVML4MhoKXWIVRbYqnsZgQRs/edit#gid=0\"\",\"\"RWA!F:BZ\"\"),44,0))\"),\"\")","v":""},{"$f":"IFERROR(__xludf.DUMMYFUNCTION(\"iferror(VLOOKUP(B359,IMPORTRANGE(\"\"https://docs.google.com/spreadsheets/d/1c3Ia3eDo4sfDZb6ajW2WVML4MhoKXWIVRbYqnsZgQRs/edit#gid=0\"\",\"\"RWA!F:BZ\"\"),48,0))\"),\"\")","v":""},{"$f":"IFERROR(__xludf.DUMMYFUNCTION(\"iferror(VLOOKUP(B359,IMPORTRANGE(\"\"https://docs.google.com/spreadsheets/d/1c3Ia3eDo4sfDZb6ajW2WVML4MhoKXWIVRbYqnsZgQRs/edit#gid=0\"\",\"\"RWA!F:BZ\"\"),49,0))\"),\"\")","v":""}]
[null,null,null,{"$f":"IFERROR(__xludf.DUMMYFUNCTION(\"iferror(VLOOKUP(B360,IMPORTRANGE(\"\"https://docs.google.com/spreadsheets/d/1c3Ia3eDo4sfDZb6ajW2WVML4MhoKXWIVRbYqnsZgQRs/edit#gid=0\"\",\"\"RWA!F:BZ\"\"),44,0))\"),\"\")","v":""},{"$f":"IFERROR(__xludf.DUMMYFUNCTION(\"iferror(VLOOKUP(B360,IMPORTRANGE(\"\"https://docs.google.com/spreadsheets/d/1c3Ia3eDo4sfDZb6ajW2WVML4MhoKXWIVRbYqnsZgQRs/edit#gid=0\"\",\"\"RWA!F:BZ\"\"),48,0))\"),\"\")","v":""},{"$f":"IFERROR(__xludf.DUMMYFUNCTION(\"iferror(VLOOKUP(B360,IMPORTRANGE(\"\"https://docs.google.com/spreadsheets/d/1c3Ia3eDo4sfDZb6ajW2WVML4MhoKXWIVRbYqnsZgQRs/edit#gid=0\"\",\"\"RWA!F:BZ\"\"),49,0))\"),\"\")","v":""}]
[null,null,null,{"$f":"IFERROR(__xludf.DUMMYFUNCTION(\"iferror(VLOOKUP(B361,IMPORTRANGE(\"\"https://docs.google.com/spreadsheets/d/1c3Ia3eDo4sfDZb6ajW2WVML4MhoKXWIVRbYqnsZgQRs/edit#gid=0\"\",\"\"RWA!F:BZ\"\"),44,0))\"),\"\")","v":""},{"$f":"IFERROR(__xludf.DUMMYFUNCTION(\"iferror(VLOOKUP(B361,IMPORTRANGE(\"\"https://docs.google.com/spreadsheets/d/1c3Ia3eDo4sfDZb6ajW2WVML4MhoKXWIVRbYqnsZgQRs/edit#gid=0\"\",\"\"RWA!F:BZ\"\"),48,0))\"),\"\")","v":""},{"$f":"IFERROR(__xludf.DUMMYFUNCTION(\"iferror(VLOOKUP(B361,IMPORTRANGE(\"\"https://docs.google.com/spreadsheets/d/1c3Ia3eDo4sfDZb6ajW2WVML4MhoKXWIVRbYqnsZgQRs/edit#gid=0\"\",\"\"RWA!F:BZ\"\"),49,0))\"),\"\")","v":""}]
[null,null,null,{"$f":"IFERROR(__xludf.DUMMYFUNCTION(\"iferror(VLOOKUP(B362,IMPORTRANGE(\"\"https://docs.google.com/spreadsheets/d/1c3Ia3eDo4sfDZb6ajW2WVML4MhoKXWIVRbYqnsZgQRs/edit#gid=0\"\",\"\"RWA!F:BZ\"\"),44,0))\"),\"\")","v":""},{"$f":"IFERROR(__xludf.DUMMYFUNCTION(\"iferror(VLOOKUP(B362,IMPORTRANGE(\"\"https://docs.google.com/spreadsheets/d/1c3Ia3eDo4sfDZb6ajW2WVML4MhoKXWIVRbYqnsZgQRs/edit#gid=0\"\",\"\"RWA!F:BZ\"\"),48,0))\"),\"\")","v":""},{"$f":"IFERROR(__xludf.DUMMYFUNCTION(\"iferror(VLOOKUP(B362,IMPORTRANGE(\"\"https://docs.google.com/spreadsheets/d/1c3Ia3eDo4sfDZb6ajW2WVML4MhoKXWIVRbYqnsZgQRs/edit#gid=0\"\",\"\"RWA!F:BZ\"\"),49,0))\"),\"\")","v":""}]
[null,null,null,{"$f":"IFERROR(__xludf.DUMMYFUNCTION(\"iferror(VLOOKUP(B363,IMPORTRANGE(\"\"https://docs.google.com/spreadsheets/d/1c3Ia3eDo4sfDZb6ajW2WVML4MhoKXWIVRbYqnsZgQRs/edit#gid=0\"\",\"\"RWA!F:BZ\"\"),44,0))\"),\"\")","v":""},{"$f":"IFERROR(__xludf.DUMMYFUNCTION(\"iferror(VLOOKUP(B363,IMPORTRANGE(\"\"https://docs.google.com/spreadsheets/d/1c3Ia3eDo4sfDZb6ajW2WVML4MhoKXWIVRbYqnsZgQRs/edit#gid=0\"\",\"\"RWA!F:BZ\"\"),48,0))\"),\"\")","v":""},{"$f":"IFERROR(__xludf.DUMMYFUNCTION(\"iferror(VLOOKUP(B363,IMPORTRANGE(\"\"https://docs.google.com/spreadsheets/d/1c3Ia3eDo4sfDZb6ajW2WVML4MhoKXWIVRbYqnsZgQRs/edit#gid=0\"\",\"\"RWA!F:BZ\"\"),49,0))\"),\"\")","v":""}]
[null,null,null,{"$f":"IFERROR(__xludf.DUMMYFUNCTION(\"iferror(VLOOKUP(B364,IMPORTRANGE(\"\"https://docs.google.com/spreadsheets/d/1c3Ia3eDo4sfDZb6ajW2WVML4MhoKXWIVRbYqnsZgQRs/edit#gid=0\"\",\"\"RWA!F:BZ\"\"),44,0))\"),\"\")","v":""},{"$f":"IFERROR(__xludf.DUMMYFUNCTION(\"iferror(VLOOKUP(B364,IMPORTRANGE(\"\"https://docs.google.com/spreadsheets/d/1c3Ia3eDo4sfDZb6ajW2WVML4MhoKXWIVRbYqnsZgQRs/edit#gid=0\"\",\"\"RWA!F:BZ\"\"),48,0))\"),\"\")","v":""},{"$f":"IFERROR(__xludf.DUMMYFUNCTION(\"iferror(VLOOKUP(B364,IMPORTRANGE(\"\"https://docs.google.com/spreadsheets/d/1c3Ia3eDo4sfDZb6ajW2WVML4MhoKXWIVRbYqnsZgQRs/edit#gid=0\"\",\"\"RWA!F:BZ\"\"),49,0))\"),\"\")","v":""}]
[null,null,null,{"$f":"IFERROR(__xludf.DUMMYFUNCTION(\"iferror(VLOOKUP(B365,IMPORTRANGE(\"\"https://docs.google.com/spreadsheets/d/1c3Ia3eDo4sfDZb6ajW2WVML4MhoKXWIVRbYqnsZgQRs/edit#gid=0\"\",\"\"RWA!F:BZ\"\"),44,0))\"),\"\")","v":""},{"$f":"IFERROR(__xludf.DUMMYFUNCTION(\"iferror(VLOOKUP(B365,IMPORTRANGE(\"\"https://docs.google.com/spreadsheets/d/1c3Ia3eDo4sfDZb6ajW2WVML4MhoKXWIVRbYqnsZgQRs/edit#gid=0\"\",\"\"RWA!F:BZ\"\"),48,0))\"),\"\")","v":""},{"$f":"IFERROR(__xludf.DUMMYFUNCTION(\"iferror(VLOOKUP(B365,IMPORTRANGE(\"\"https://docs.google.com/spreadsheets/d/1c3Ia3eDo4sfDZb6ajW2WVML4MhoKXWIVRbYqnsZgQRs/edit#gid=0\"\",\"\"RWA!F:BZ\"\"),49,0))\"),\"\")","v":""}]
[null,null,null,{"$f":"IFERROR(__xludf.DUMMYFUNCTION(\"iferror(VLOOKUP(B366,IMPORTRANGE(\"\"https://docs.google.com/spreadsheets/d/1c3Ia3eDo4sfDZb6ajW2WVML4MhoKXWIVRbYqnsZgQRs/edit#gid=0\"\",\"\"RWA!F:BZ\"\"),44,0))\"),\"\")","v":""},{"$f":"IFERROR(__xludf.DUMMYFUNCTION(\"iferror(VLOOKUP(B366,IMPORTRANGE(\"\"https://docs.google.com/spreadsheets/d/1c3Ia3eDo4sfDZb6ajW2WVML4MhoKXWIVRbYqnsZgQRs/edit#gid=0\"\",\"\"RWA!F:BZ\"\"),48,0))\"),\"\")","v":""},{"$f":"IFERROR(__xludf.DUMMYFUNCTION(\"iferror(VLOOKUP(B366,IMPORTRANGE(\"\"https://docs.google.com/spreadsheets/d/1c3Ia3eDo4sfDZb6ajW2WVML4MhoKXWIVRbYqnsZgQRs/edit#gid=0\"\",\"\"RWA!F:BZ\"\"),49,0))\"),\"\")","v":""}]
[null,null,null,{"$f":"IFERROR(__xludf.DUMMYFUNCTION(\"iferror(VLOOKUP(B367,IMPORTRANGE(\"\"https://docs.google.com/spreadsheets/d/1c3Ia3eDo4sfDZb6ajW2WVML4MhoKXWIVRbYqnsZgQRs/edit#gid=0\"\",\"\"RWA!F:BZ\"\"),44,0))\"),\"\")","v":""},{"$f":"IFERROR(__xludf.DUMMYFUNCTION(\"iferror(VLOOKUP(B367,IMPORTRANGE(\"\"https://docs.google.com/spreadsheets/d/1c3Ia3eDo4sfDZb6ajW2WVML4MhoKXWIVRbYqnsZgQRs/edit#gid=0\"\",\"\"RWA!F:BZ\"\"),48,0))\"),\"\")","v":""},{"$f":"IFERROR(__xludf.DUMMYFUNCTION(\"iferror(VLOOKUP(B367,IMPORTRANGE(\"\"https://docs.google.com/spreadsheets/d/1c3Ia3eDo4sfDZb6ajW2WVML4MhoKXWIVRbYqnsZgQRs/edit#gid=0\"\",\"\"RWA!F:BZ\"\"),49,0))\"),\"\")","v":""}]
[null,null,null,{"$f":"IFERROR(__xludf.DUMMYFUNCTION(\"iferror(VLOOKUP(B368,IMPORTRANGE(\"\"https://docs.google.com/spreadsheets/d/1c3Ia3eDo4sfDZb6ajW2WVML4MhoKXWIVRbYqnsZgQRs/edit#gid=0\"\",\"\"RWA!F:BZ\"\"),44,0))\"),\"\")","v":""},{"$f":"IFERROR(__xludf.DUMMYFUNCTION(\"iferror(VLOOKUP(B368,IMPORTRANGE(\"\"https://docs.google.com/spreadsheets/d/1c3Ia3eDo4sfDZb6ajW2WVML4MhoKXWIVRbYqnsZgQRs/edit#gid=0\"\",\"\"RWA!F:BZ\"\"),48,0))\"),\"\")","v":""},{"$f":"IFERROR(__xludf.DUMMYFUNCTION(\"iferror(VLOOKUP(B368,IMPORTRANGE(\"\"https://docs.google.com/spreadsheets/d/1c3Ia3eDo4sfDZb6ajW2WVML4MhoKXWIVRbYqnsZgQRs/edit#gid=0\"\",\"\"RWA!F:BZ\"\"),49,0))\"),\"\")","v":""}]
[null,null,null,{"$f":"IFERROR(__xludf.DUMMYFUNCTION(\"iferror(VLOOKUP(B369,IMPORTRANGE(\"\"https://docs.google.com/spreadsheets/d/1c3Ia3eDo4sfDZb6ajW2WVML4MhoKXWIVRbYqnsZgQRs/edit#gid=0\"\",\"\"RWA!F:BZ\"\"),44,0))\"),\"\")","v":""},{"$f":"IFERROR(__xludf.DUMMYFUNCTION(\"iferror(VLOOKUP(B369,IMPORTRANGE(\"\"https://docs.google.com/spreadsheets/d/1c3Ia3eDo4sfDZb6ajW2WVML4MhoKXWIVRbYqnsZgQRs/edit#gid=0\"\",\"\"RWA!F:BZ\"\"),48,0))\"),\"\")","v":""},{"$f":"IFERROR(__xludf.DUMMYFUNCTION(\"iferror(VLOOKUP(B369,IMPORTRANGE(\"\"https://docs.google.com/spreadsheets/d/1c3Ia3eDo4sfDZb6ajW2WVML4MhoKXWIVRbYqnsZgQRs/edit#gid=0\"\",\"\"RWA!F:BZ\"\"),49,0))\"),\"\")","v":""}]
[null,null,null,{"$f":"IFERROR(__xludf.DUMMYFUNCTION(\"iferror(VLOOKUP(B370,IMPORTRANGE(\"\"https://docs.google.com/spreadsheets/d/1c3Ia3eDo4sfDZb6ajW2WVML4MhoKXWIVRbYqnsZgQRs/edit#gid=0\"\",\"\"RWA!F:BZ\"\"),44,0))\"),\"\")","v":""},{"$f":"IFERROR(__xludf.DUMMYFUNCTION(\"iferror(VLOOKUP(B370,IMPORTRANGE(\"\"https://docs.google.com/spreadsheets/d/1c3Ia3eDo4sfDZb6ajW2WVML4MhoKXWIVRbYqnsZgQRs/edit#gid=0\"\",\"\"RWA!F:BZ\"\"),48,0))\"),\"\")","v":""},{"$f":"IFERROR(__xludf.DUMMYFUNCTION(\"iferror(VLOOKUP(B370,IMPORTRANGE(\"\"https://docs.google.com/spreadsheets/d/1c3Ia3eDo4sfDZb6ajW2WVML4MhoKXWIVRbYqnsZgQRs/edit#gid=0\"\",\"\"RWA!F:BZ\"\"),49,0))\"),\"\")","v":""}]
[null,null,null,{"$f":"IFERROR(__xludf.DUMMYFUNCTION(\"iferror(VLOOKUP(B371,IMPORTRANGE(\"\"https://docs.google.com/spreadsheets/d/1c3Ia3eDo4sfDZb6ajW2WVML4MhoKXWIVRbYqnsZgQRs/edit#gid=0\"\",\"\"RWA!F:BZ\"\"),44,0))\"),\"\")","v":""},{"$f":"IFERROR(__xludf.DUMMYFUNCTION(\"iferror(VLOOKUP(B371,IMPORTRANGE(\"\"https://docs.google.com/spreadsheets/d/1c3Ia3eDo4sfDZb6ajW2WVML4MhoKXWIVRbYqnsZgQRs/edit#gid=0\"\",\"\"RWA!F:BZ\"\"),48,0))\"),\"\")","v":""},{"$f":"IFERROR(__xludf.DUMMYFUNCTION(\"iferror(VLOOKUP(B371,IMPORTRANGE(\"\"https://docs.google.com/spreadsheets/d/1c3Ia3eDo4sfDZb6ajW2WVML4MhoKXWIVRbYqnsZgQRs/edit#gid=0\"\",\"\"RWA!F:BZ\"\"),49,0))\"),\"\")","v":""}]
[null,null,null,{"$f":"IFERROR(__xludf.DUMMYFUNCTION(\"iferror(VLOOKUP(B372,IMPORTRANGE(\"\"https://docs.google.com/spreadsheets/d/1c3Ia3eDo4sfDZb6ajW2WVML4MhoKXWIVRbYqnsZgQRs/edit#gid=0\"\",\"\"RWA!F:BZ\"\"),44,0))\"),\"\")","v":""},{"$f":"IFERROR(__xludf.DUMMYFUNCTION(\"iferror(VLOOKUP(B372,IMPORTRANGE(\"\"https://docs.google.com/spreadsheets/d/1c3Ia3eDo4sfDZb6ajW2WVML4MhoKXWIVRbYqnsZgQRs/edit#gid=0\"\",\"\"RWA!F:BZ\"\"),48,0))\"),\"\")","v":""},{"$f":"IFERROR(__xludf.DUMMYFUNCTION(\"iferror(VLOOKUP(B372,IMPORTRANGE(\"\"https://docs.google.com/spreadsheets/d/1c3Ia3eDo4sfDZb6ajW2WVML4MhoKXWIVRbYqnsZgQRs/edit#gid=0\"\",\"\"RWA!F:BZ\"\"),49,0))\"),\"\")","v":""}]
[null,null,null,{"$f":"IFERROR(__xludf.DUMMYFUNCTION(\"iferror(VLOOKUP(B373,IMPORTRANGE(\"\"https://docs.google.com/spreadsheets/d/1c3Ia3eDo4sfDZb6ajW2WVML4MhoKXWIVRbYqnsZgQRs/edit#gid=0\"\",\"\"RWA!F:BZ\"\"),44,0))\"),\"\")","v":""},{"$f":"IFERROR(__xludf.DUMMYFUNCTION(\"iferror(VLOOKUP(B373,IMPORTRANGE(\"\"https://docs.google.com/spreadsheets/d/1c3Ia3eDo4sfDZb6ajW2WVML4MhoKXWIVRbYqnsZgQRs/edit#gid=0\"\",\"\"RWA!F:BZ\"\"),48,0))\"),\"\")","v":""},{"$f":"IFERROR(__xludf.DUMMYFUNCTION(\"iferror(VLOOKUP(B373,IMPORTRANGE(\"\"https://docs.google.com/spreadsheets/d/1c3Ia3eDo4sfDZb6ajW2WVML4MhoKXWIVRbYqnsZgQRs/edit#gid=0\"\",\"\"RWA!F:BZ\"\"),49,0))\"),\"\")","v":""}]
[null,null,null,{"$f":"IFERROR(__xludf.DUMMYFUNCTION(\"iferror(VLOOKUP(B374,IMPORTRANGE(\"\"https://docs.google.com/spreadsheets/d/1c3Ia3eDo4sfDZb6ajW2WVML4MhoKXWIVRbYqnsZgQRs/edit#gid=0\"\",\"\"RWA!F:BZ\"\"),44,0))\"),\"\")","v":""},{"$f":"IFERROR(__xludf.DUMMYFUNCTION(\"iferror(VLOOKUP(B374,IMPORTRANGE(\"\"https://docs.google.com/spreadsheets/d/1c3Ia3eDo4sfDZb6ajW2WVML4MhoKXWIVRbYqnsZgQRs/edit#gid=0\"\",\"\"RWA!F:BZ\"\"),48,0))\"),\"\")","v":""},{"$f":"IFERROR(__xludf.DUMMYFUNCTION(\"iferror(VLOOKUP(B374,IMPORTRANGE(\"\"https://docs.google.com/spreadsheets/d/1c3Ia3eDo4sfDZb6ajW2WVML4MhoKXWIVRbYqnsZgQRs/edit#gid=0\"\",\"\"RWA!F:BZ\"\"),49,0))\"),\"\")","v":""}]
[null,null,null,{"$f":"IFERROR(__xludf.DUMMYFUNCTION(\"iferror(VLOOKUP(B375,IMPORTRANGE(\"\"https://docs.google.com/spreadsheets/d/1c3Ia3eDo4sfDZb6ajW2WVML4MhoKXWIVRbYqnsZgQRs/edit#gid=0\"\",\"\"RWA!F:BZ\"\"),44,0))\"),\"\")","v":""},{"$f":"IFERROR(__xludf.DUMMYFUNCTION(\"iferror(VLOOKUP(B375,IMPORTRANGE(\"\"https://docs.google.com/spreadsheets/d/1c3Ia3eDo4sfDZb6ajW2WVML4MhoKXWIVRbYqnsZgQRs/edit#gid=0\"\",\"\"RWA!F:BZ\"\"),48,0))\"),\"\")","v":""},{"$f":"IFERROR(__xludf.DUMMYFUNCTION(\"iferror(VLOOKUP(B375,IMPORTRANGE(\"\"https://docs.google.com/spreadsheets/d/1c3Ia3eDo4sfDZb6ajW2WVML4MhoKXWIVRbYqnsZgQRs/edit#gid=0\"\",\"\"RWA!F:BZ\"\"),49,0))\"),\"\")","v":""}]
[null,null,null,{"$f":"IFERROR(__xludf.DUMMYFUNCTION(\"iferror(VLOOKUP(B376,IMPORTRANGE(\"\"https://docs.google.com/spreadsheets/d/1c3Ia3eDo4sfDZb6ajW2WVML4MhoKXWIVRbYqnsZgQRs/edit#gid=0\"\",\"\"RWA!F:BZ\"\"),44,0))\"),\"\")","v":""},{"$f":"IFERROR(__xludf.DUMMYFUNCTION(\"iferror(VLOOKUP(B376,IMPORTRANGE(\"\"https://docs.google.com/spreadsheets/d/1c3Ia3eDo4sfDZb6ajW2WVML4MhoKXWIVRbYqnsZgQRs/edit#gid=0\"\",\"\"RWA!F:BZ\"\"),48,0))\"),\"\")","v":""},{"$f":"IFERROR(__xludf.DUMMYFUNCTION(\"iferror(VLOOKUP(B376,IMPORTRANGE(\"\"https://docs.google.com/spreadsheets/d/1c3Ia3eDo4sfDZb6ajW2WVML4MhoKXWIVRbYqnsZgQRs/edit#gid=0\"\",\"\"RWA!F:BZ\"\"),49,0))\"),\"\")","v":""}]
[null,null,null,{"$f":"IFERROR(__xludf.DUMMYFUNCTION(\"iferror(VLOOKUP(B377,IMPORTRANGE(\"\"https://docs.google.com/spreadsheets/d/1c3Ia3eDo4sfDZb6ajW2WVML4MhoKXWIVRbYqnsZgQRs/edit#gid=0\"\",\"\"RWA!F:BZ\"\"),44,0))\"),\"\")","v":""},{"$f":"IFERROR(__xludf.DUMMYFUNCTION(\"iferror(VLOOKUP(B377,IMPORTRANGE(\"\"https://docs.google.com/spreadsheets/d/1c3Ia3eDo4sfDZb6ajW2WVML4MhoKXWIVRbYqnsZgQRs/edit#gid=0\"\",\"\"RWA!F:BZ\"\"),48,0))\"),\"\")","v":""},{"$f":"IFERROR(__xludf.DUMMYFUNCTION(\"iferror(VLOOKUP(B377,IMPORTRANGE(\"\"https://docs.google.com/spreadsheets/d/1c3Ia3eDo4sfDZb6ajW2WVML4MhoKXWIVRbYqnsZgQRs/edit#gid=0\"\",\"\"RWA!F:BZ\"\"),49,0))\"),\"\")","v":""}]
[null,null,null,{"$f":"IFERROR(__xludf.DUMMYFUNCTION(\"iferror(VLOOKUP(B378,IMPORTRANGE(\"\"https://docs.google.com/spreadsheets/d/1c3Ia3eDo4sfDZb6ajW2WVML4MhoKXWIVRbYqnsZgQRs/edit#gid=0\"\",\"\"RWA!F:BZ\"\"),44,0))\"),\"\")","v":""},{"$f":"IFERROR(__xludf.DUMMYFUNCTION(\"iferror(VLOOKUP(B378,IMPORTRANGE(\"\"https://docs.google.com/spreadsheets/d/1c3Ia3eDo4sfDZb6ajW2WVML4MhoKXWIVRbYqnsZgQRs/edit#gid=0\"\",\"\"RWA!F:BZ\"\"),48,0))\"),\"\")","v":""},{"$f":"IFERROR(__xludf.DUMMYFUNCTION(\"iferror(VLOOKUP(B378,IMPORTRANGE(\"\"https://docs.google.com/spreadsheets/d/1c3Ia3eDo4sfDZb6ajW2WVML4MhoKXWIVRbYqnsZgQRs/edit#gid=0\"\",\"\"RWA!F:BZ\"\"),49,0))\"),\"\")","v":""}]
[null,null,null,{"$f":"IFERROR(__xludf.DUMMYFUNCTION(\"iferror(VLOOKUP(B379,IMPORTRANGE(\"\"https://docs.google.com/spreadsheets/d/1c3Ia3eDo4sfDZb6ajW2WVML4MhoKXWIVRbYqnsZgQRs/edit#gid=0\"\",\"\"RWA!F:BZ\"\"),44,0))\"),\"\")","v":""},{"$f":"IFERROR(__xludf.DUMMYFUNCTION(\"iferror(VLOOKUP(B379,IMPORTRANGE(\"\"https://docs.google.com/spreadsheets/d/1c3Ia3eDo4sfDZb6ajW2WVML4MhoKXWIVRbYqnsZgQRs/edit#gid=0\"\",\"\"RWA!F:BZ\"\"),48,0))\"),\"\")","v":""},{"$f":"IFERROR(__xludf.DUMMYFUNCTION(\"iferror(VLOOKUP(B379,IMPORTRANGE(\"\"https://docs.google.com/spreadsheets/d/1c3Ia3eDo4sfDZb6ajW2WVML4MhoKXWIVRbYqnsZgQRs/edit#gid=0\"\",\"\"RWA!F:BZ\"\"),49,0))\"),\"\")","v":""}]
[null,null,null,{"$f":"IFERROR(__xludf.DUMMYFUNCTION(\"iferror(VLOOKUP(B380,IMPORTRANGE(\"\"https://docs.google.com/spreadsheets/d/1c3Ia3eDo4sfDZb6ajW2WVML4MhoKXWIVRbYqnsZgQRs/edit#gid=0\"\",\"\"RWA!F:BZ\"\"),44,0))\"),\"\")","v":""},{"$f":"IFERROR(__xludf.DUMMYFUNCTION(\"iferror(VLOOKUP(B380,IMPORTRANGE(\"\"https://docs.google.com/spreadsheets/d/1c3Ia3eDo4sfDZb6ajW2WVML4MhoKXWIVRbYqnsZgQRs/edit#gid=0\"\",\"\"RWA!F:BZ\"\"),48,0))\"),\"\")","v":""},{"$f":"IFERROR(__xludf.DUMMYFUNCTION(\"iferror(VLOOKUP(B380,IMPORTRANGE(\"\"https://docs.google.com/spreadsheets/d/1c3Ia3eDo4sfDZb6ajW2WVML4MhoKXWIVRbYqnsZgQRs/edit#gid=0\"\",\"\"RWA!F:BZ\"\"),49,0))\"),\"\")","v":""}]
[null,null,null,{"$f":"IFERROR(__xludf.DUMMYFUNCTION(\"iferror(VLOOKUP(B381,IMPORTRANGE(\"\"https://docs.google.com/spreadsheets/d/1c3Ia3eDo4sfDZb6ajW2WVML4MhoKXWIVRbYqnsZgQRs/edit#gid=0\"\",\"\"RWA!F:BZ\"\"),44,0))\"),\"\")","v":""},{"$f":"IFERROR(__xludf.DUMMYFUNCTION(\"iferror(VLOOKUP(B381,IMPORTRANGE(\"\"https://docs.google.com/spreadsheets/d/1c3Ia3eDo4sfDZb6ajW2WVML4MhoKXWIVRbYqnsZgQRs/edit#gid=0\"\",\"\"RWA!F:BZ\"\"),48,0))\"),\"\")","v":""},{"$f":"IFERROR(__xludf.DUMMYFUNCTION(\"iferror(VLOOKUP(B381,IMPORTRANGE(\"\"https://docs.google.com/spreadsheets/d/1c3Ia3eDo4sfDZb6ajW2WVML4MhoKXWIVRbYqnsZgQRs/edit#gid=0\"\",\"\"RWA!F:BZ\"\"),49,0))\"),\"\")","v":""}]
[null,null,null,{"$f":"IFERROR(__xludf.DUMMYFUNCTION(\"iferror(VLOOKUP(B382,IMPORTRANGE(\"\"https://docs.google.com/spreadsheets/d/1c3Ia3eDo4sfDZb6ajW2WVML4MhoKXWIVRbYqnsZgQRs/edit#gid=0\"\",\"\"RWA!F:BZ\"\"),44,0))\"),\"\")","v":""},{"$f":"IFERROR(__xludf.DUMMYFUNCTION(\"iferror(VLOOKUP(B382,IMPORTRANGE(\"\"https://docs.google.com/spreadsheets/d/1c3Ia3eDo4sfDZb6ajW2WVML4MhoKXWIVRbYqnsZgQRs/edit#gid=0\"\",\"\"RWA!F:BZ\"\"),48,0))\"),\"\")","v":""},{"$f":"IFERROR(__xludf.DUMMYFUNCTION(\"iferror(VLOOKUP(B382,IMPORTRANGE(\"\"https://docs.google.com/spreadsheets/d/1c3Ia3eDo4sfDZb6ajW2WVML4MhoKXWIVRbYqnsZgQRs/edit#gid=0\"\",\"\"RWA!F:BZ\"\"),49,0))\"),\"\")","v":""}]
[null,null,null,{"$f":"IFERROR(__xludf.DUMMYFUNCTION(\"iferror(VLOOKUP(B383,IMPORTRANGE(\"\"https://docs.google.com/spreadsheets/d/1c3Ia3eDo4sfDZb6ajW2WVML4MhoKXWIVRbYqnsZgQRs/edit#gid=0\"\",\"\"RWA!F:BZ\"\"),44,0))\"),\"\")","v":""},{"$f":"IFERROR(__xludf.DUMMYFUNCTION(\"iferror(VLOOKUP(B383,IMPORTRANGE(\"\"https://docs.google.com/spreadsheets/d/1c3Ia3eDo4sfDZb6ajW2WVML4MhoKXWIVRbYqnsZgQRs/edit#gid=0\"\",\"\"RWA!F:BZ\"\"),48,0))\"),\"\")","v":""},{"$f":"IFERROR(__xludf.DUMMYFUNCTION(\"iferror(VLOOKUP(B383,IMPORTRANGE(\"\"https://docs.google.com/spreadsheets/d/1c3Ia3eDo4sfDZb6ajW2WVML4MhoKXWIVRbYqnsZgQRs/edit#gid=0\"\",\"\"RWA!F:BZ\"\"),49,0))\"),\"\")","v":""}]
[null,null,null,{"$f":"IFERROR(__xludf.DUMMYFUNCTION(\"iferror(VLOOKUP(B384,IMPORTRANGE(\"\"https://docs.google.com/spreadsheets/d/1c3Ia3eDo4sfDZb6ajW2WVML4MhoKXWIVRbYqnsZgQRs/edit#gid=0\"\",\"\"RWA!F:BZ\"\"),44,0))\"),\"\")","v":""},{"$f":"IFERROR(__xludf.DUMMYFUNCTION(\"iferror(VLOOKUP(B384,IMPORTRANGE(\"\"https://docs.google.com/spreadsheets/d/1c3Ia3eDo4sfDZb6ajW2WVML4MhoKXWIVRbYqnsZgQRs/edit#gid=0\"\",\"\"RWA!F:BZ\"\"),48,0))\"),\"\")","v":""},{"$f":"IFERROR(__xludf.DUMMYFUNCTION(\"iferror(VLOOKUP(B384,IMPORTRANGE(\"\"https://docs.google.com/spreadsheets/d/1c3Ia3eDo4sfDZb6ajW2WVML4MhoKXWIVRbYqnsZgQRs/edit#gid=0\"\",\"\"RWA!F:BZ\"\"),49,0))\"),\"\")","v":""}]
[null,null,null,{"$f":"IFERROR(__xludf.DUMMYFUNCTION(\"iferror(VLOOKUP(B385,IMPORTRANGE(\"\"https://docs.google.com/spreadsheets/d/1c3Ia3eDo4sfDZb6ajW2WVML4MhoKXWIVRbYqnsZgQRs/edit#gid=0\"\",\"\"RWA!F:BZ\"\"),44,0))\"),\"\")","v":""},{"$f":"IFERROR(__xludf.DUMMYFUNCTION(\"iferror(VLOOKUP(B385,IMPORTRANGE(\"\"https://docs.google.com/spreadsheets/d/1c3Ia3eDo4sfDZb6ajW2WVML4MhoKXWIVRbYqnsZgQRs/edit#gid=0\"\",\"\"RWA!F:BZ\"\"),48,0))\"),\"\")","v":""},{"$f":"IFERROR(__xludf.DUMMYFUNCTION(\"iferror(VLOOKUP(B385,IMPORTRANGE(\"\"https://docs.google.com/spreadsheets/d/1c3Ia3eDo4sfDZb6ajW2WVML4MhoKXWIVRbYqnsZgQRs/edit#gid=0\"\",\"\"RWA!F:BZ\"\"),49,0))\"),\"\")","v":""}]
[null,null,null,{"$f":"IFERROR(__xludf.DUMMYFUNCTION(\"iferror(VLOOKUP(B386,IMPORTRANGE(\"\"https://docs.google.com/spreadsheets/d/1c3Ia3eDo4sfDZb6ajW2WVML4MhoKXWIVRbYqnsZgQRs/edit#gid=0\"\",\"\"RWA!F:BZ\"\"),44,0))\"),\"\")","v":""},{"$f":"IFERROR(__xludf.DUMMYFUNCTION(\"iferror(VLOOKUP(B386,IMPORTRANGE(\"\"https://docs.google.com/spreadsheets/d/1c3Ia3eDo4sfDZb6ajW2WVML4MhoKXWIVRbYqnsZgQRs/edit#gid=0\"\",\"\"RWA!F:BZ\"\"),48,0))\"),\"\")","v":""},{"$f":"IFERROR(__xludf.DUMMYFUNCTION(\"iferror(VLOOKUP(B386,IMPORTRANGE(\"\"https://docs.google.com/spreadsheets/d/1c3Ia3eDo4sfDZb6ajW2WVML4MhoKXWIVRbYqnsZgQRs/edit#gid=0\"\",\"\"RWA!F:BZ\"\"),49,0))\"),\"\")","v":""}]
[null,null,null,{"$f":"IFERROR(__xludf.DUMMYFUNCTION(\"iferror(VLOOKUP(B387,IMPORTRANGE(\"\"https://docs.google.com/spreadsheets/d/1c3Ia3eDo4sfDZb6ajW2WVML4MhoKXWIVRbYqnsZgQRs/edit#gid=0\"\",\"\"RWA!F:BZ\"\"),44,0))\"),\"\")","v":""},{"$f":"IFERROR(__xludf.DUMMYFUNCTION(\"iferror(VLOOKUP(B387,IMPORTRANGE(\"\"https://docs.google.com/spreadsheets/d/1c3Ia3eDo4sfDZb6ajW2WVML4MhoKXWIVRbYqnsZgQRs/edit#gid=0\"\",\"\"RWA!F:BZ\"\"),48,0))\"),\"\")","v":""},{"$f":"IFERROR(__xludf.DUMMYFUNCTION(\"iferror(VLOOKUP(B387,IMPORTRANGE(\"\"https://docs.google.com/spreadsheets/d/1c3Ia3eDo4sfDZb6ajW2WVML4MhoKXWIVRbYqnsZgQRs/edit#gid=0\"\",\"\"RWA!F:BZ\"\"),49,0))\"),\"\")","v":""}]
[null,null,null,{"$f":"IFERROR(__xludf.DUMMYFUNCTION(\"iferror(VLOOKUP(B388,IMPORTRANGE(\"\"https://docs.google.com/spreadsheets/d/1c3Ia3eDo4sfDZb6ajW2WVML4MhoKXWIVRbYqnsZgQRs/edit#gid=0\"\",\"\"RWA!F:BZ\"\"),44,0))\"),\"\")","v":""},{"$f":"IFERROR(__xludf.DUMMYFUNCTION(\"iferror(VLOOKUP(B388,IMPORTRANGE(\"\"https://docs.google.com/spreadsheets/d/1c3Ia3eDo4sfDZb6ajW2WVML4MhoKXWIVRbYqnsZgQRs/edit#gid=0\"\",\"\"RWA!F:BZ\"\"),48,0))\"),\"\")","v":""},{"$f":"IFERROR(__xludf.DUMMYFUNCTION(\"iferror(VLOOKUP(B388,IMPORTRANGE(\"\"https://docs.google.com/spreadsheets/d/1c3Ia3eDo4sfDZb6ajW2WVML4MhoKXWIVRbYqnsZgQRs/edit#gid=0\"\",\"\"RWA!F:BZ\"\"),49,0))\"),\"\")","v":""}]
[null,null,null,{"$f":"IFERROR(__xludf.DUMMYFUNCTION(\"iferror(VLOOKUP(B389,IMPORTRANGE(\"\"https://docs.google.com/spreadsheets/d/1c3Ia3eDo4sfDZb6ajW2WVML4MhoKXWIVRbYqnsZgQRs/edit#gid=0\"\",\"\"RWA!F:BZ\"\"),44,0))\"),\"\")","v":""},{"$f":"IFERROR(__xludf.DUMMYFUNCTION(\"iferror(VLOOKUP(B389,IMPORTRANGE(\"\"https://docs.google.com/spreadsheets/d/1c3Ia3eDo4sfDZb6ajW2WVML4MhoKXWIVRbYqnsZgQRs/edit#gid=0\"\",\"\"RWA!F:BZ\"\"),48,0))\"),\"\")","v":""},{"$f":"IFERROR(__xludf.DUMMYFUNCTION(\"iferror(VLOOKUP(B389,IMPORTRANGE(\"\"https://docs.google.com/spreadsheets/d/1c3Ia3eDo4sfDZb6ajW2WVML4MhoKXWIVRbYqnsZgQRs/edit#gid=0\"\",\"\"RWA!F:BZ\"\"),49,0))\"),\"\")","v":""}]
[null,null,null,{"$f":"IFERROR(__xludf.DUMMYFUNCTION(\"iferror(VLOOKUP(B390,IMPORTRANGE(\"\"https://docs.google.com/spreadsheets/d/1c3Ia3eDo4sfDZb6ajW2WVML4MhoKXWIVRbYqnsZgQRs/edit#gid=0\"\",\"\"RWA!F:BZ\"\"),44,0))\"),\"\")","v":""},{"$f":"IFERROR(__xludf.DUMMYFUNCTION(\"iferror(VLOOKUP(B390,IMPORTRANGE(\"\"https://docs.google.com/spreadsheets/d/1c3Ia3eDo4sfDZb6ajW2WVML4MhoKXWIVRbYqnsZgQRs/edit#gid=0\"\",\"\"RWA!F:BZ\"\"),48,0))\"),\"\")","v":""},{"$f":"IFERROR(__xludf.DUMMYFUNCTION(\"iferror(VLOOKUP(B390,IMPORTRANGE(\"\"https://docs.google.com/spreadsheets/d/1c3Ia3eDo4sfDZb6ajW2WVML4MhoKXWIVRbYqnsZgQRs/edit#gid=0\"\",\"\"RWA!F:BZ\"\"),49,0))\"),\"\")","v":""}]
[null,null,null,{"$f":"IFERROR(__xludf.DUMMYFUNCTION(\"iferror(VLOOKUP(B391,IMPORTRANGE(\"\"https://docs.google.com/spreadsheets/d/1c3Ia3eDo4sfDZb6ajW2WVML4MhoKXWIVRbYqnsZgQRs/edit#gid=0\"\",\"\"RWA!F:BZ\"\"),44,0))\"),\"\")","v":""},{"$f":"IFERROR(__xludf.DUMMYFUNCTION(\"iferror(VLOOKUP(B391,IMPORTRANGE(\"\"https://docs.google.com/spreadsheets/d/1c3Ia3eDo4sfDZb6ajW2WVML4MhoKXWIVRbYqnsZgQRs/edit#gid=0\"\",\"\"RWA!F:BZ\"\"),48,0))\"),\"\")","v":""},{"$f":"IFERROR(__xludf.DUMMYFUNCTION(\"iferror(VLOOKUP(B391,IMPORTRANGE(\"\"https://docs.google.com/spreadsheets/d/1c3Ia3eDo4sfDZb6ajW2WVML4MhoKXWIVRbYqnsZgQRs/edit#gid=0\"\",\"\"RWA!F:BZ\"\"),49,0))\"),\"\")","v":""}]
[null,null,null,{"$f":"IFERROR(__xludf.DUMMYFUNCTION(\"iferror(VLOOKUP(B392,IMPORTRANGE(\"\"https://docs.google.com/spreadsheets/d/1c3Ia3eDo4sfDZb6ajW2WVML4MhoKXWIVRbYqnsZgQRs/edit#gid=0\"\",\"\"RWA!F:BZ\"\"),44,0))\"),\"\")","v":""},{"$f":"IFERROR(__xludf.DUMMYFUNCTION(\"iferror(VLOOKUP(B392,IMPORTRANGE(\"\"https://docs.google.com/spreadsheets/d/1c3Ia3eDo4sfDZb6ajW2WVML4MhoKXWIVRbYqnsZgQRs/edit#gid=0\"\",\"\"RWA!F:BZ\"\"),48,0))\"),\"\")","v":""},{"$f":"IFERROR(__xludf.DUMMYFUNCTION(\"iferror(VLOOKUP(B392,IMPORTRANGE(\"\"https://docs.google.com/spreadsheets/d/1c3Ia3eDo4sfDZb6ajW2WVML4MhoKXWIVRbYqnsZgQRs/edit#gid=0\"\",\"\"RWA!F:BZ\"\"),49,0))\"),\"\")","v":""}]
[null,null,null,{"$f":"IFERROR(__xludf.DUMMYFUNCTION(\"iferror(VLOOKUP(B393,IMPORTRANGE(\"\"https://docs.google.com/spreadsheets/d/1c3Ia3eDo4sfDZb6ajW2WVML4MhoKXWIVRbYqnsZgQRs/edit#gid=0\"\",\"\"RWA!F:BZ\"\"),44,0))\"),\"\")","v":""},{"$f":"IFERROR(__xludf.DUMMYFUNCTION(\"iferror(VLOOKUP(B393,IMPORTRANGE(\"\"https://docs.google.com/spreadsheets/d/1c3Ia3eDo4sfDZb6ajW2WVML4MhoKXWIVRbYqnsZgQRs/edit#gid=0\"\",\"\"RWA!F:BZ\"\"),48,0))\"),\"\")","v":""},{"$f":"IFERROR(__xludf.DUMMYFUNCTION(\"iferror(VLOOKUP(B393,IMPORTRANGE(\"\"https://docs.google.com/spreadsheets/d/1c3Ia3eDo4sfDZb6ajW2WVML4MhoKXWIVRbYqnsZgQRs/edit#gid=0\"\",\"\"RWA!F:BZ\"\"),49,0))\"),\"\")","v":""}]
[null,null,null,{"$f":"IFERROR(__xludf.DUMMYFUNCTION(\"iferror(VLOOKUP(B394,IMPORTRANGE(\"\"https://docs.google.com/spreadsheets/d/1c3Ia3eDo4sfDZb6ajW2WVML4MhoKXWIVRbYqnsZgQRs/edit#gid=0\"\",\"\"RWA!F:BZ\"\"),44,0))\"),\"\")","v":""},{"$f":"IFERROR(__xludf.DUMMYFUNCTION(\"iferror(VLOOKUP(B394,IMPORTRANGE(\"\"https://docs.google.com/spreadsheets/d/1c3Ia3eDo4sfDZb6ajW2WVML4MhoKXWIVRbYqnsZgQRs/edit#gid=0\"\",\"\"RWA!F:BZ\"\"),48,0))\"),\"\")","v":""},{"$f":"IFERROR(__xludf.DUMMYFUNCTION(\"iferror(VLOOKUP(B394,IMPORTRANGE(\"\"https://docs.google.com/spreadsheets/d/1c3Ia3eDo4sfDZb6ajW2WVML4MhoKXWIVRbYqnsZgQRs/edit#gid=0\"\",\"\"RWA!F:BZ\"\"),49,0))\"),\"\")","v":""}]
[null,null,null,{"$f":"IFERROR(__xludf.DUMMYFUNCTION(\"iferror(VLOOKUP(B395,IMPORTRANGE(\"\"https://docs.google.com/spreadsheets/d/1c3Ia3eDo4sfDZb6ajW2WVML4MhoKXWIVRbYqnsZgQRs/edit#gid=0\"\",\"\"RWA!F:BZ\"\"),44,0))\"),\"\")","v":""},{"$f":"IFERROR(__xludf.DUMMYFUNCTION(\"iferror(VLOOKUP(B395,IMPORTRANGE(\"\"https://docs.google.com/spreadsheets/d/1c3Ia3eDo4sfDZb6ajW2WVML4MhoKXWIVRbYqnsZgQRs/edit#gid=0\"\",\"\"RWA!F:BZ\"\"),48,0))\"),\"\")","v":""},{"$f":"IFERROR(__xludf.DUMMYFUNCTION(\"iferror(VLOOKUP(B395,IMPORTRANGE(\"\"https://docs.google.com/spreadsheets/d/1c3Ia3eDo4sfDZb6ajW2WVML4MhoKXWIVRbYqnsZgQRs/edit#gid=0\"\",\"\"RWA!F:BZ\"\"),49,0))\"),\"\")","v":""}]
[null,null,null,{"$f":"IFERROR(__xludf.DUMMYFUNCTION(\"iferror(VLOOKUP(B396,IMPORTRANGE(\"\"https://docs.google.com/spreadsheets/d/1c3Ia3eDo4sfDZb6ajW2WVML4MhoKXWIVRbYqnsZgQRs/edit#gid=0\"\",\"\"RWA!F:BZ\"\"),44,0))\"),\"\")","v":""},{"$f":"IFERROR(__xludf.DUMMYFUNCTION(\"iferror(VLOOKUP(B396,IMPORTRANGE(\"\"https://docs.google.com/spreadsheets/d/1c3Ia3eDo4sfDZb6ajW2WVML4MhoKXWIVRbYqnsZgQRs/edit#gid=0\"\",\"\"RWA!F:BZ\"\"),48,0))\"),\"\")","v":""},{"$f":"IFERROR(__xludf.DUMMYFUNCTION(\"iferror(VLOOKUP(B396,IMPORTRANGE(\"\"https://docs.google.com/spreadsheets/d/1c3Ia3eDo4sfDZb6ajW2WVML4MhoKXWIVRbYqnsZgQRs/edit#gid=0\"\",\"\"RWA!F:BZ\"\"),49,0))\"),\"\")","v":""}]
[null,null,null,{"$f":"IFERROR(__xludf.DUMMYFUNCTION(\"iferror(VLOOKUP(B397,IMPORTRANGE(\"\"https://docs.google.com/spreadsheets/d/1c3Ia3eDo4sfDZb6ajW2WVML4MhoKXWIVRbYqnsZgQRs/edit#gid=0\"\",\"\"RWA!F:BZ\"\"),44,0))\"),\"\")","v":""},{"$f":"IFERROR(__xludf.DUMMYFUNCTION(\"iferror(VLOOKUP(B397,IMPORTRANGE(\"\"https://docs.google.com/spreadsheets/d/1c3Ia3eDo4sfDZb6ajW2WVML4MhoKXWIVRbYqnsZgQRs/edit#gid=0\"\",\"\"RWA!F:BZ\"\"),48,0))\"),\"\")","v":""},{"$f":"IFERROR(__xludf.DUMMYFUNCTION(\"iferror(VLOOKUP(B397,IMPORTRANGE(\"\"https://docs.google.com/spreadsheets/d/1c3Ia3eDo4sfDZb6ajW2WVML4MhoKXWIVRbYqnsZgQRs/edit#gid=0\"\",\"\"RWA!F:BZ\"\"),49,0))\"),\"\")","v":""}]
[null,null,null,{"$f":"IFERROR(__xludf.DUMMYFUNCTION(\"iferror(VLOOKUP(B398,IMPORTRANGE(\"\"https://docs.google.com/spreadsheets/d/1c3Ia3eDo4sfDZb6ajW2WVML4MhoKXWIVRbYqnsZgQRs/edit#gid=0\"\",\"\"RWA!F:BZ\"\"),44,0))\"),\"\")","v":""},{"$f":"IFERROR(__xludf.DUMMYFUNCTION(\"iferror(VLOOKUP(B398,IMPORTRANGE(\"\"https://docs.google.com/spreadsheets/d/1c3Ia3eDo4sfDZb6ajW2WVML4MhoKXWIVRbYqnsZgQRs/edit#gid=0\"\",\"\"RWA!F:BZ\"\"),48,0))\"),\"\")","v":""},{"$f":"IFERROR(__xludf.DUMMYFUNCTION(\"iferror(VLOOKUP(B398,IMPORTRANGE(\"\"https://docs.google.com/spreadsheets/d/1c3Ia3eDo4sfDZb6ajW2WVML4MhoKXWIVRbYqnsZgQRs/edit#gid=0\"\",\"\"RWA!F:BZ\"\"),49,0))\"),\"\")","v":""}]
[null,null,null,{"$f":"IFERROR(__xludf.DUMMYFUNCTION(\"iferror(VLOOKUP(B399,IMPORTRANGE(\"\"https://docs.google.com/spreadsheets/d/1c3Ia3eDo4sfDZb6ajW2WVML4MhoKXWIVRbYqnsZgQRs/edit#gid=0\"\",\"\"RWA!F:BZ\"\"),44,0))\"),\"\")","v":""},{"$f":"IFERROR(__xludf.DUMMYFUNCTION(\"iferror(VLOOKUP(B399,IMPORTRANGE(\"\"https://docs.google.com/spreadsheets/d/1c3Ia3eDo4sfDZb6ajW2WVML4MhoKXWIVRbYqnsZgQRs/edit#gid=0\"\",\"\"RWA!F:BZ\"\"),48,0))\"),\"\")","v":""},{"$f":"IFERROR(__xludf.DUMMYFUNCTION(\"iferror(VLOOKUP(B399,IMPORTRANGE(\"\"https://docs.google.com/spreadsheets/d/1c3Ia3eDo4sfDZb6ajW2WVML4MhoKXWIVRbYqnsZgQRs/edit#gid=0\"\",\"\"RWA!F:BZ\"\"),49,0))\"),\"\")","v":""}]
[null,null,null,{"$f":"IFERROR(__xludf.DUMMYFUNCTION(\"iferror(VLOOKUP(B400,IMPORTRANGE(\"\"https://docs.google.com/spreadsheets/d/1c3Ia3eDo4sfDZb6ajW2WVML4MhoKXWIVRbYqnsZgQRs/edit#gid=0\"\",\"\"RWA!F:BZ\"\"),44,0))\"),\"\")","v":""},{"$f":"IFERROR(__xludf.DUMMYFUNCTION(\"iferror(VLOOKUP(B400,IMPORTRANGE(\"\"https://docs.google.com/spreadsheets/d/1c3Ia3eDo4sfDZb6ajW2WVML4MhoKXWIVRbYqnsZgQRs/edit#gid=0\"\",\"\"RWA!F:BZ\"\"),48,0))\"),\"\")","v":""},{"$f":"IFERROR(__xludf.DUMMYFUNCTION(\"iferror(VLOOKUP(B400,IMPORTRANGE(\"\"https://docs.google.com/spreadsheets/d/1c3Ia3eDo4sfDZb6ajW2WVML4MhoKXWIVRbYqnsZgQRs/edit#gid=0\"\",\"\"RWA!F:BZ\"\"),49,0))\"),\"\")","v":""}]
[null,null,null,{"$f":"IFERROR(__xludf.DUMMYFUNCTION(\"iferror(VLOOKUP(B401,IMPORTRANGE(\"\"https://docs.google.com/spreadsheets/d/1c3Ia3eDo4sfDZb6ajW2WVML4MhoKXWIVRbYqnsZgQRs/edit#gid=0\"\",\"\"RWA!F:BZ\"\"),44,0))\"),\"\")","v":""},{"$f":"IFERROR(__xludf.DUMMYFUNCTION(\"iferror(VLOOKUP(B401,IMPORTRANGE(\"\"https://docs.google.com/spreadsheets/d/1c3Ia3eDo4sfDZb6ajW2WVML4MhoKXWIVRbYqnsZgQRs/edit#gid=0\"\",\"\"RWA!F:BZ\"\"),48,0))\"),\"\")","v":""},{"$f":"IFERROR(__xludf.DUMMYFUNCTION(\"iferror(VLOOKUP(B401,IMPORTRANGE(\"\"https://docs.google.com/spreadsheets/d/1c3Ia3eDo4sfDZb6ajW2WVML4MhoKXWIVRbYqnsZgQRs/edit#gid=0\"\",\"\"RWA!F:BZ\"\"),49,0))\"),\"\")","v":""}]
[null,null,null,{"$f":"IFERROR(__xludf.DUMMYFUNCTION(\"iferror(VLOOKUP(B402,IMPORTRANGE(\"\"https://docs.google.com/spreadsheets/d/1c3Ia3eDo4sfDZb6ajW2WVML4MhoKXWIVRbYqnsZgQRs/edit#gid=0\"\",\"\"RWA!F:BZ\"\"),44,0))\"),\"\")","v":""},{"$f":"IFERROR(__xludf.DUMMYFUNCTION(\"iferror(VLOOKUP(B402,IMPORTRANGE(\"\"https://docs.google.com/spreadsheets/d/1c3Ia3eDo4sfDZb6ajW2WVML4MhoKXWIVRbYqnsZgQRs/edit#gid=0\"\",\"\"RWA!F:BZ\"\"),48,0))\"),\"\")","v":""},{"$f":"IFERROR(__xludf.DUMMYFUNCTION(\"iferror(VLOOKUP(B402,IMPORTRANGE(\"\"https://docs.google.com/spreadsheets/d/1c3Ia3eDo4sfDZb6ajW2WVML4MhoKXWIVRbYqnsZgQRs/edit#gid=0\"\",\"\"RWA!F:BZ\"\"),49,0))\"),\"\")","v":""}]
[null,null,null,{"$f":"IFERROR(__xludf.DUMMYFUNCTION(\"iferror(VLOOKUP(B403,IMPORTRANGE(\"\"https://docs.google.com/spreadsheets/d/1c3Ia3eDo4sfDZb6ajW2WVML4MhoKXWIVRbYqnsZgQRs/edit#gid=0\"\",\"\"RWA!F:BZ\"\"),44,0))\"),\"\")","v":""},{"$f":"IFERROR(__xludf.DUMMYFUNCTION(\"iferror(VLOOKUP(B403,IMPORTRANGE(\"\"https://docs.google.com/spreadsheets/d/1c3Ia3eDo4sfDZb6ajW2WVML4MhoKXWIVRbYqnsZgQRs/edit#gid=0\"\",\"\"RWA!F:BZ\"\"),48,0))\"),\"\")","v":""},{"$f":"IFERROR(__xludf.DUMMYFUNCTION(\"iferror(VLOOKUP(B403,IMPORTRANGE(\"\"https://docs.google.com/spreadsheets/d/1c3Ia3eDo4sfDZb6ajW2WVML4MhoKXWIVRbYqnsZgQRs/edit#gid=0\"\",\"\"RWA!F:BZ\"\"),49,0))\"),\"\")","v":""}]
[null,null,null,{"$f":"IFERROR(__xludf.DUMMYFUNCTION(\"iferror(VLOOKUP(B404,IMPORTRANGE(\"\"https://docs.google.com/spreadsheets/d/1c3Ia3eDo4sfDZb6ajW2WVML4MhoKXWIVRbYqnsZgQRs/edit#gid=0\"\",\"\"RWA!F:BZ\"\"),44,0))\"),\"\")","v":""},{"$f":"IFERROR(__xludf.DUMMYFUNCTION(\"iferror(VLOOKUP(B404,IMPORTRANGE(\"\"https://docs.google.com/spreadsheets/d/1c3Ia3eDo4sfDZb6ajW2WVML4MhoKXWIVRbYqnsZgQRs/edit#gid=0\"\",\"\"RWA!F:BZ\"\"),48,0))\"),\"\")","v":""},{"$f":"IFERROR(__xludf.DUMMYFUNCTION(\"iferror(VLOOKUP(B404,IMPORTRANGE(\"\"https://docs.google.com/spreadsheets/d/1c3Ia3eDo4sfDZb6ajW2WVML4MhoKXWIVRbYqnsZgQRs/edit#gid=0\"\",\"\"RWA!F:BZ\"\"),49,0))\"),\"\")","v":""}]
[null,null,null,{"$f":"IFERROR(__xludf.DUMMYFUNCTION(\"iferror(VLOOKUP(B405,IMPORTRANGE(\"\"https://docs.google.com/spreadsheets/d/1c3Ia3eDo4sfDZb6ajW2WVML4MhoKXWIVRbYqnsZgQRs/edit#gid=0\"\",\"\"RWA!F:BZ\"\"),44,0))\"),\"\")","v":""},{"$f":"IFERROR(__xludf.DUMMYFUNCTION(\"iferror(VLOOKUP(B405,IMPORTRANGE(\"\"https://docs.google.com/spreadsheets/d/1c3Ia3eDo4sfDZb6ajW2WVML4MhoKXWIVRbYqnsZgQRs/edit#gid=0\"\",\"\"RWA!F:BZ\"\"),48,0))\"),\"\")","v":""},{"$f":"IFERROR(__xludf.DUMMYFUNCTION(\"iferror(VLOOKUP(B405,IMPORTRANGE(\"\"https://docs.google.com/spreadsheets/d/1c3Ia3eDo4sfDZb6ajW2WVML4MhoKXWIVRbYqnsZgQRs/edit#gid=0\"\",\"\"RWA!F:BZ\"\"),49,0))\"),\"\")","v":""}]
[null,null,null,{"$f":"IFERROR(__xludf.DUMMYFUNCTION(\"iferror(VLOOKUP(B406,IMPORTRANGE(\"\"https://docs.google.com/spreadsheets/d/1c3Ia3eDo4sfDZb6ajW2WVML4MhoKXWIVRbYqnsZgQRs/edit#gid=0\"\",\"\"RWA!F:BZ\"\"),44,0))\"),\"\")","v":""},{"$f":"IFERROR(__xludf.DUMMYFUNCTION(\"iferror(VLOOKUP(B406,IMPORTRANGE(\"\"https://docs.google.com/spreadsheets/d/1c3Ia3eDo4sfDZb6ajW2WVML4MhoKXWIVRbYqnsZgQRs/edit#gid=0\"\",\"\"RWA!F:BZ\"\"),48,0))\"),\"\")","v":""},{"$f":"IFERROR(__xludf.DUMMYFUNCTION(\"iferror(VLOOKUP(B406,IMPORTRANGE(\"\"https://docs.google.com/spreadsheets/d/1c3Ia3eDo4sfDZb6ajW2WVML4MhoKXWIVRbYqnsZgQRs/edit#gid=0\"\",\"\"RWA!F:BZ\"\"),49,0))\"),\"\")","v":""}]
[null,null,null,{"$f":"IFERROR(__xludf.DUMMYFUNCTION(\"iferror(VLOOKUP(B407,IMPORTRANGE(\"\"https://docs.google.com/spreadsheets/d/1c3Ia3eDo4sfDZb6ajW2WVML4MhoKXWIVRbYqnsZgQRs/edit#gid=0\"\",\"\"RWA!F:BZ\"\"),44,0))\"),\"\")","v":""},{"$f":"IFERROR(__xludf.DUMMYFUNCTION(\"iferror(VLOOKUP(B407,IMPORTRANGE(\"\"https://docs.google.com/spreadsheets/d/1c3Ia3eDo4sfDZb6ajW2WVML4MhoKXWIVRbYqnsZgQRs/edit#gid=0\"\",\"\"RWA!F:BZ\"\"),48,0))\"),\"\")","v":""},{"$f":"IFERROR(__xludf.DUMMYFUNCTION(\"iferror(VLOOKUP(B407,IMPORTRANGE(\"\"https://docs.google.com/spreadsheets/d/1c3Ia3eDo4sfDZb6ajW2WVML4MhoKXWIVRbYqnsZgQRs/edit#gid=0\"\",\"\"RWA!F:BZ\"\"),49,0))\"),\"\")","v":""}]
[null,null,null,{"$f":"IFERROR(__xludf.DUMMYFUNCTION(\"iferror(VLOOKUP(B408,IMPORTRANGE(\"\"https://docs.google.com/spreadsheets/d/1c3Ia3eDo4sfDZb6ajW2WVML4MhoKXWIVRbYqnsZgQRs/edit#gid=0\"\",\"\"RWA!F:BZ\"\"),44,0))\"),\"\")","v":""},{"$f":"IFERROR(__xludf.DUMMYFUNCTION(\"iferror(VLOOKUP(B408,IMPORTRANGE(\"\"https://docs.google.com/spreadsheets/d/1c3Ia3eDo4sfDZb6ajW2WVML4MhoKXWIVRbYqnsZgQRs/edit#gid=0\"\",\"\"RWA!F:BZ\"\"),48,0))\"),\"\")","v":""},{"$f":"IFERROR(__xludf.DUMMYFUNCTION(\"iferror(VLOOKUP(B408,IMPORTRANGE(\"\"https://docs.google.com/spreadsheets/d/1c3Ia3eDo4sfDZb6ajW2WVML4MhoKXWIVRbYqnsZgQRs/edit#gid=0\"\",\"\"RWA!F:BZ\"\"),49,0))\"),\"\")","v":""}]
[null,null,null,{"$f":"IFERROR(__xludf.DUMMYFUNCTION(\"iferror(VLOOKUP(B409,IMPORTRANGE(\"\"https://docs.google.com/spreadsheets/d/1c3Ia3eDo4sfDZb6ajW2WVML4MhoKXWIVRbYqnsZgQRs/edit#gid=0\"\",\"\"RWA!F:BZ\"\"),44,0))\"),\"\")","v":""},{"$f":"IFERROR(__xludf.DUMMYFUNCTION(\"iferror(VLOOKUP(B409,IMPORTRANGE(\"\"https://docs.google.com/spreadsheets/d/1c3Ia3eDo4sfDZb6ajW2WVML4MhoKXWIVRbYqnsZgQRs/edit#gid=0\"\",\"\"RWA!F:BZ\"\"),48,0))\"),\"\")","v":""},{"$f":"IFERROR(__xludf.DUMMYFUNCTION(\"iferror(VLOOKUP(B409,IMPORTRANGE(\"\"https://docs.google.com/spreadsheets/d/1c3Ia3eDo4sfDZb6ajW2WVML4MhoKXWIVRbYqnsZgQRs/edit#gid=0\"\",\"\"RWA!F:BZ\"\"),49,0))\"),\"\")","v":""}]
[null,null,null,{"$f":"IFERROR(__xludf.DUMMYFUNCTION(\"iferror(VLOOKUP(B410,IMPORTRANGE(\"\"https://docs.google.com/spreadsheets/d/1c3Ia3eDo4sfDZb6ajW2WVML4MhoKXWIVRbYqnsZgQRs/edit#gid=0\"\",\"\"RWA!F:BZ\"\"),44,0))\"),\"\")","v":""},{"$f":"IFERROR(__xludf.DUMMYFUNCTION(\"iferror(VLOOKUP(B410,IMPORTRANGE(\"\"https://docs.google.com/spreadsheets/d/1c3Ia3eDo4sfDZb6ajW2WVML4MhoKXWIVRbYqnsZgQRs/edit#gid=0\"\",\"\"RWA!F:BZ\"\"),48,0))\"),\"\")","v":""},{"$f":"IFERROR(__xludf.DUMMYFUNCTION(\"iferror(VLOOKUP(B410,IMPORTRANGE(\"\"https://docs.google.com/spreadsheets/d/1c3Ia3eDo4sfDZb6ajW2WVML4MhoKXWIVRbYqnsZgQRs/edit#gid=0\"\",\"\"RWA!F:BZ\"\"),49,0))\"),\"\")","v":""}]
[null,null,null,{"$f":"IFERROR(__xludf.DUMMYFUNCTION(\"iferror(VLOOKUP(B411,IMPORTRANGE(\"\"https://docs.google.com/spreadsheets/d/1c3Ia3eDo4sfDZb6ajW2WVML4MhoKXWIVRbYqnsZgQRs/edit#gid=0\"\",\"\"RWA!F:BZ\"\"),44,0))\"),\"\")","v":""},{"$f":"IFERROR(__xludf.DUMMYFUNCTION(\"iferror(VLOOKUP(B411,IMPORTRANGE(\"\"https://docs.google.com/spreadsheets/d/1c3Ia3eDo4sfDZb6ajW2WVML4MhoKXWIVRbYqnsZgQRs/edit#gid=0\"\",\"\"RWA!F:BZ\"\"),48,0))\"),\"\")","v":""},{"$f":"IFERROR(__xludf.DUMMYFUNCTION(\"iferror(VLOOKUP(B411,IMPORTRANGE(\"\"https://docs.google.com/spreadsheets/d/1c3Ia3eDo4sfDZb6ajW2WVML4MhoKXWIVRbYqnsZgQRs/edit#gid=0\"\",\"\"RWA!F:BZ\"\"),49,0))\"),\"\")","v":""}]
[null,null,null,{"$f":"IFERROR(__xludf.DUMMYFUNCTION(\"iferror(VLOOKUP(B412,IMPORTRANGE(\"\"https://docs.google.com/spreadsheets/d/1c3Ia3eDo4sfDZb6ajW2WVML4MhoKXWIVRbYqnsZgQRs/edit#gid=0\"\",\"\"RWA!F:BZ\"\"),44,0))\"),\"\")","v":""},{"$f":"IFERROR(__xludf.DUMMYFUNCTION(\"iferror(VLOOKUP(B412,IMPORTRANGE(\"\"https://docs.google.com/spreadsheets/d/1c3Ia3eDo4sfDZb6ajW2WVML4MhoKXWIVRbYqnsZgQRs/edit#gid=0\"\",\"\"RWA!F:BZ\"\"),48,0))\"),\"\")","v":""},{"$f":"IFERROR(__xludf.DUMMYFUNCTION(\"iferror(VLOOKUP(B412,IMPORTRANGE(\"\"https://docs.google.com/spreadsheets/d/1c3Ia3eDo4sfDZb6ajW2WVML4MhoKXWIVRbYqnsZgQRs/edit#gid=0\"\",\"\"RWA!F:BZ\"\"),49,0))\"),\"\")","v":""}]
[null,null,null,{"$f":"IFERROR(__xludf.DUMMYFUNCTION(\"iferror(VLOOKUP(B413,IMPORTRANGE(\"\"https://docs.google.com/spreadsheets/d/1c3Ia3eDo4sfDZb6ajW2WVML4MhoKXWIVRbYqnsZgQRs/edit#gid=0\"\",\"\"RWA!F:BZ\"\"),44,0))\"),\"\")","v":""},{"$f":"IFERROR(__xludf.DUMMYFUNCTION(\"iferror(VLOOKUP(B413,IMPORTRANGE(\"\"https://docs.google.com/spreadsheets/d/1c3Ia3eDo4sfDZb6ajW2WVML4MhoKXWIVRbYqnsZgQRs/edit#gid=0\"\",\"\"RWA!F:BZ\"\"),48,0))\"),\"\")","v":""},{"$f":"IFERROR(__xludf.DUMMYFUNCTION(\"iferror(VLOOKUP(B413,IMPORTRANGE(\"\"https://docs.google.com/spreadsheets/d/1c3Ia3eDo4sfDZb6ajW2WVML4MhoKXWIVRbYqnsZgQRs/edit#gid=0\"\",\"\"RWA!F:BZ\"\"),49,0))\"),\"\")","v":""}]
[null,null,null,{"$f":"IFERROR(__xludf.DUMMYFUNCTION(\"iferror(VLOOKUP(B414,IMPORTRANGE(\"\"https://docs.google.com/spreadsheets/d/1c3Ia3eDo4sfDZb6ajW2WVML4MhoKXWIVRbYqnsZgQRs/edit#gid=0\"\",\"\"RWA!F:BZ\"\"),44,0))\"),\"\")","v":""},{"$f":"IFERROR(__xludf.DUMMYFUNCTION(\"iferror(VLOOKUP(B414,IMPORTRANGE(\"\"https://docs.google.com/spreadsheets/d/1c3Ia3eDo4sfDZb6ajW2WVML4MhoKXWIVRbYqnsZgQRs/edit#gid=0\"\",\"\"RWA!F:BZ\"\"),48,0))\"),\"\")","v":""},{"$f":"IFERROR(__xludf.DUMMYFUNCTION(\"iferror(VLOOKUP(B414,IMPORTRANGE(\"\"https://docs.google.com/spreadsheets/d/1c3Ia3eDo4sfDZb6ajW2WVML4MhoKXWIVRbYqnsZgQRs/edit#gid=0\"\",\"\"RWA!F:BZ\"\"),49,0))\"),\"\")","v":""}]
[null,null,null,{"$f":"IFERROR(__xludf.DUMMYFUNCTION(\"iferror(VLOOKUP(B415,IMPORTRANGE(\"\"https://docs.google.com/spreadsheets/d/1c3Ia3eDo4sfDZb6ajW2WVML4MhoKXWIVRbYqnsZgQRs/edit#gid=0\"\",\"\"RWA!F:BZ\"\"),44,0))\"),\"\")","v":""},{"$f":"IFERROR(__xludf.DUMMYFUNCTION(\"iferror(VLOOKUP(B415,IMPORTRANGE(\"\"https://docs.google.com/spreadsheets/d/1c3Ia3eDo4sfDZb6ajW2WVML4MhoKXWIVRbYqnsZgQRs/edit#gid=0\"\",\"\"RWA!F:BZ\"\"),48,0))\"),\"\")","v":""},{"$f":"IFERROR(__xludf.DUMMYFUNCTION(\"iferror(VLOOKUP(B415,IMPORTRANGE(\"\"https://docs.google.com/spreadsheets/d/1c3Ia3eDo4sfDZb6ajW2WVML4MhoKXWIVRbYqnsZgQRs/edit#gid=0\"\",\"\"RWA!F:BZ\"\"),49,0))\"),\"\")","v":""}]
[null,null,null,{"$f":"IFERROR(__xludf.DUMMYFUNCTION(\"iferror(VLOOKUP(B416,IMPORTRANGE(\"\"https://docs.google.com/spreadsheets/d/1c3Ia3eDo4sfDZb6ajW2WVML4MhoKXWIVRbYqnsZgQRs/edit#gid=0\"\",\"\"RWA!F:BZ\"\"),44,0))\"),\"\")","v":""},{"$f":"IFERROR(__xludf.DUMMYFUNCTION(\"iferror(VLOOKUP(B416,IMPORTRANGE(\"\"https://docs.google.com/spreadsheets/d/1c3Ia3eDo4sfDZb6ajW2WVML4MhoKXWIVRbYqnsZgQRs/edit#gid=0\"\",\"\"RWA!F:BZ\"\"),48,0))\"),\"\")","v":""},{"$f":"IFERROR(__xludf.DUMMYFUNCTION(\"iferror(VLOOKUP(B416,IMPORTRANGE(\"\"https://docs.google.com/spreadsheets/d/1c3Ia3eDo4sfDZb6ajW2WVML4MhoKXWIVRbYqnsZgQRs/edit#gid=0\"\",\"\"RWA!F:BZ\"\"),49,0))\"),\"\")","v":""}]
[null,null,null,{"$f":"IFERROR(__xludf.DUMMYFUNCTION(\"iferror(VLOOKUP(B417,IMPORTRANGE(\"\"https://docs.google.com/spreadsheets/d/1c3Ia3eDo4sfDZb6ajW2WVML4MhoKXWIVRbYqnsZgQRs/edit#gid=0\"\",\"\"RWA!F:BZ\"\"),44,0))\"),\"\")","v":""},{"$f":"IFERROR(__xludf.DUMMYFUNCTION(\"iferror(VLOOKUP(B417,IMPORTRANGE(\"\"https://docs.google.com/spreadsheets/d/1c3Ia3eDo4sfDZb6ajW2WVML4MhoKXWIVRbYqnsZgQRs/edit#gid=0\"\",\"\"RWA!F:BZ\"\"),48,0))\"),\"\")","v":""},{"$f":"IFERROR(__xludf.DUMMYFUNCTION(\"iferror(VLOOKUP(B417,IMPORTRANGE(\"\"https://docs.google.com/spreadsheets/d/1c3Ia3eDo4sfDZb6ajW2WVML4MhoKXWIVRbYqnsZgQRs/edit#gid=0\"\",\"\"RWA!F:BZ\"\"),49,0))\"),\"\")","v":""}]
[null,null,null,{"$f":"IFERROR(__xludf.DUMMYFUNCTION(\"iferror(VLOOKUP(B418,IMPORTRANGE(\"\"https://docs.google.com/spreadsheets/d/1c3Ia3eDo4sfDZb6ajW2WVML4MhoKXWIVRbYqnsZgQRs/edit#gid=0\"\",\"\"RWA!F:BZ\"\"),44,0))\"),\"\")","v":""},{"$f":"IFERROR(__xludf.DUMMYFUNCTION(\"iferror(VLOOKUP(B418,IMPORTRANGE(\"\"https://docs.google.com/spreadsheets/d/1c3Ia3eDo4sfDZb6ajW2WVML4MhoKXWIVRbYqnsZgQRs/edit#gid=0\"\",\"\"RWA!F:BZ\"\"),48,0))\"),\"\")","v":""},{"$f":"IFERROR(__xludf.DUMMYFUNCTION(\"iferror(VLOOKUP(B418,IMPORTRANGE(\"\"https://docs.google.com/spreadsheets/d/1c3Ia3eDo4sfDZb6ajW2WVML4MhoKXWIVRbYqnsZgQRs/edit#gid=0\"\",\"\"RWA!F:BZ\"\"),49,0))\"),\"\")","v":""}]
[null,null,null,{"$f":"IFERROR(__xludf.DUMMYFUNCTION(\"iferror(VLOOKUP(B419,IMPORTRANGE(\"\"https://docs.google.com/spreadsheets/d/1c3Ia3eDo4sfDZb6ajW2WVML4MhoKXWIVRbYqnsZgQRs/edit#gid=0\"\",\"\"RWA!F:BZ\"\"),44,0))\"),\"\")","v":""},{"$f":"IFERROR(__xludf.DUMMYFUNCTION(\"iferror(VLOOKUP(B419,IMPORTRANGE(\"\"https://docs.google.com/spreadsheets/d/1c3Ia3eDo4sfDZb6ajW2WVML4MhoKXWIVRbYqnsZgQRs/edit#gid=0\"\",\"\"RWA!F:BZ\"\"),48,0))\"),\"\")","v":""},{"$f":"IFERROR(__xludf.DUMMYFUNCTION(\"iferror(VLOOKUP(B419,IMPORTRANGE(\"\"https://docs.google.com/spreadsheets/d/1c3Ia3eDo4sfDZb6ajW2WVML4MhoKXWIVRbYqnsZgQRs/edit#gid=0\"\",\"\"RWA!F:BZ\"\"),49,0))\"),\"\")","v":""}]
[null,null,null,{"$f":"IFERROR(__xludf.DUMMYFUNCTION(\"iferror(VLOOKUP(B420,IMPORTRANGE(\"\"https://docs.google.com/spreadsheets/d/1c3Ia3eDo4sfDZb6ajW2WVML4MhoKXWIVRbYqnsZgQRs/edit#gid=0\"\",\"\"RWA!F:BZ\"\"),44,0))\"),\"\")","v":""},{"$f":"IFERROR(__xludf.DUMMYFUNCTION(\"iferror(VLOOKUP(B420,IMPORTRANGE(\"\"https://docs.google.com/spreadsheets/d/1c3Ia3eDo4sfDZb6ajW2WVML4MhoKXWIVRbYqnsZgQRs/edit#gid=0\"\",\"\"RWA!F:BZ\"\"),48,0))\"),\"\")","v":""},{"$f":"IFERROR(__xludf.DUMMYFUNCTION(\"iferror(VLOOKUP(B420,IMPORTRANGE(\"\"https://docs.google.com/spreadsheets/d/1c3Ia3eDo4sfDZb6ajW2WVML4MhoKXWIVRbYqnsZgQRs/edit#gid=0\"\",\"\"RWA!F:BZ\"\"),49,0))\"),\"\")","v":""}]
[null,null,null,{"$f":"IFERROR(__xludf.DUMMYFUNCTION(\"iferror(VLOOKUP(B421,IMPORTRANGE(\"\"https://docs.google.com/spreadsheets/d/1c3Ia3eDo4sfDZb6ajW2WVML4MhoKXWIVRbYqnsZgQRs/edit#gid=0\"\",\"\"RWA!F:BZ\"\"),44,0))\"),\"\")","v":""},{"$f":"IFERROR(__xludf.DUMMYFUNCTION(\"iferror(VLOOKUP(B421,IMPORTRANGE(\"\"https://docs.google.com/spreadsheets/d/1c3Ia3eDo4sfDZb6ajW2WVML4MhoKXWIVRbYqnsZgQRs/edit#gid=0\"\",\"\"RWA!F:BZ\"\"),48,0))\"),\"\")","v":""},{"$f":"IFERROR(__xludf.DUMMYFUNCTION(\"iferror(VLOOKUP(B421,IMPORTRANGE(\"\"https://docs.google.com/spreadsheets/d/1c3Ia3eDo4sfDZb6ajW2WVML4MhoKXWIVRbYqnsZgQRs/edit#gid=0\"\",\"\"RWA!F:BZ\"\"),49,0))\"),\"\")","v":""}]
[null,null,null,{"$f":"IFERROR(__xludf.DUMMYFUNCTION(\"iferror(VLOOKUP(B422,IMPORTRANGE(\"\"https://docs.google.com/spreadsheets/d/1c3Ia3eDo4sfDZb6ajW2WVML4MhoKXWIVRbYqnsZgQRs/edit#gid=0\"\",\"\"RWA!F:BZ\"\"),44,0))\"),\"\")","v":""},{"$f":"IFERROR(__xludf.DUMMYFUNCTION(\"iferror(VLOOKUP(B422,IMPORTRANGE(\"\"https://docs.google.com/spreadsheets/d/1c3Ia3eDo4sfDZb6ajW2WVML4MhoKXWIVRbYqnsZgQRs/edit#gid=0\"\",\"\"RWA!F:BZ\"\"),48,0))\"),\"\")","v":""},{"$f":"IFERROR(__xludf.DUMMYFUNCTION(\"iferror(VLOOKUP(B422,IMPORTRANGE(\"\"https://docs.google.com/spreadsheets/d/1c3Ia3eDo4sfDZb6ajW2WVML4MhoKXWIVRbYqnsZgQRs/edit#gid=0\"\",\"\"RWA!F:BZ\"\"),49,0))\"),\"\")","v":""}]
[null,null,null,{"$f":"IFERROR(__xludf.DUMMYFUNCTION(\"iferror(VLOOKUP(B423,IMPORTRANGE(\"\"https://docs.google.com/spreadsheets/d/1c3Ia3eDo4sfDZb6ajW2WVML4MhoKXWIVRbYqnsZgQRs/edit#gid=0\"\",\"\"RWA!F:BZ\"\"),44,0))\"),\"\")","v":""},{"$f":"IFERROR(__xludf.DUMMYFUNCTION(\"iferror(VLOOKUP(B423,IMPORTRANGE(\"\"https://docs.google.com/spreadsheets/d/1c3Ia3eDo4sfDZb6ajW2WVML4MhoKXWIVRbYqnsZgQRs/edit#gid=0\"\",\"\"RWA!F:BZ\"\"),48,0))\"),\"\")","v":""},{"$f":"IFERROR(__xludf.DUMMYFUNCTION(\"iferror(VLOOKUP(B423,IMPORTRANGE(\"\"https://docs.google.com/spreadsheets/d/1c3Ia3eDo4sfDZb6ajW2WVML4MhoKXWIVRbYqnsZgQRs/edit#gid=0\"\",\"\"RWA!F:BZ\"\"),49,0))\"),\"\")","v":""}]
[null,null,null,{"$f":"IFERROR(__xludf.DUMMYFUNCTION(\"iferror(VLOOKUP(B424,IMPORTRANGE(\"\"https://docs.google.com/spreadsheets/d/1c3Ia3eDo4sfDZb6ajW2WVML4MhoKXWIVRbYqnsZgQRs/edit#gid=0\"\",\"\"RWA!F:BZ\"\"),44,0))\"),\"\")","v":""},{"$f":"IFERROR(__xludf.DUMMYFUNCTION(\"iferror(VLOOKUP(B424,IMPORTRANGE(\"\"https://docs.google.com/spreadsheets/d/1c3Ia3eDo4sfDZb6ajW2WVML4MhoKXWIVRbYqnsZgQRs/edit#gid=0\"\",\"\"RWA!F:BZ\"\"),48,0))\"),\"\")","v":""},{"$f":"IFERROR(__xludf.DUMMYFUNCTION(\"iferror(VLOOKUP(B424,IMPORTRANGE(\"\"https://docs.google.com/spreadsheets/d/1c3Ia3eDo4sfDZb6ajW2WVML4MhoKXWIVRbYqnsZgQRs/edit#gid=0\"\",\"\"RWA!F:BZ\"\"),49,0))\"),\"\")","v":""}]
[null,null,null,{"$f":"IFERROR(__xludf.DUMMYFUNCTION(\"iferror(VLOOKUP(B425,IMPORTRANGE(\"\"https://docs.google.com/spreadsheets/d/1c3Ia3eDo4sfDZb6ajW2WVML4MhoKXWIVRbYqnsZgQRs/edit#gid=0\"\",\"\"RWA!F:BZ\"\"),44,0))\"),\"\")","v":""},{"$f":"IFERROR(__xludf.DUMMYFUNCTION(\"iferror(VLOOKUP(B425,IMPORTRANGE(\"\"https://docs.google.com/spreadsheets/d/1c3Ia3eDo4sfDZb6ajW2WVML4MhoKXWIVRbYqnsZgQRs/edit#gid=0\"\",\"\"RWA!F:BZ\"\"),48,0))\"),\"\")","v":""},{"$f":"IFERROR(__xludf.DUMMYFUNCTION(\"iferror(VLOOKUP(B425,IMPORTRANGE(\"\"https://docs.google.com/spreadsheets/d/1c3Ia3eDo4sfDZb6ajW2WVML4MhoKXWIVRbYqnsZgQRs/edit#gid=0\"\",\"\"RWA!F:BZ\"\"),49,0))\"),\"\")","v":""}]
[null,null,null,{"$f":"IFERROR(__xludf.DUMMYFUNCTION(\"iferror(VLOOKUP(B426,IMPORTRANGE(\"\"https://docs.google.com/spreadsheets/d/1c3Ia3eDo4sfDZb6ajW2WVML4MhoKXWIVRbYqnsZgQRs/edit#gid=0\"\",\"\"RWA!F:BZ\"\"),44,0))\"),\"\")","v":""},{"$f":"IFERROR(__xludf.DUMMYFUNCTION(\"iferror(VLOOKUP(B426,IMPORTRANGE(\"\"https://docs.google.com/spreadsheets/d/1c3Ia3eDo4sfDZb6ajW2WVML4MhoKXWIVRbYqnsZgQRs/edit#gid=0\"\",\"\"RWA!F:BZ\"\"),48,0))\"),\"\")","v":""},{"$f":"IFERROR(__xludf.DUMMYFUNCTION(\"iferror(VLOOKUP(B426,IMPORTRANGE(\"\"https://docs.google.com/spreadsheets/d/1c3Ia3eDo4sfDZb6ajW2WVML4MhoKXWIVRbYqnsZgQRs/edit#gid=0\"\",\"\"RWA!F:BZ\"\"),49,0))\"),\"\")","v":""}]
[null,null,null,{"$f":"IFERROR(__xludf.DUMMYFUNCTION(\"iferror(VLOOKUP(B427,IMPORTRANGE(\"\"https://docs.google.com/spreadsheets/d/1c3Ia3eDo4sfDZb6ajW2WVML4MhoKXWIVRbYqnsZgQRs/edit#gid=0\"\",\"\"RWA!F:BZ\"\"),44,0))\"),\"\")","v":""},{"$f":"IFERROR(__xludf.DUMMYFUNCTION(\"iferror(VLOOKUP(B427,IMPORTRANGE(\"\"https://docs.google.com/spreadsheets/d/1c3Ia3eDo4sfDZb6ajW2WVML4MhoKXWIVRbYqnsZgQRs/edit#gid=0\"\",\"\"RWA!F:BZ\"\"),48,0))\"),\"\")","v":""},{"$f":"IFERROR(__xludf.DUMMYFUNCTION(\"iferror(VLOOKUP(B427,IMPORTRANGE(\"\"https://docs.google.com/spreadsheets/d/1c3Ia3eDo4sfDZb6ajW2WVML4MhoKXWIVRbYqnsZgQRs/edit#gid=0\"\",\"\"RWA!F:BZ\"\"),49,0))\"),\"\")","v":""}]
[null,null,null,{"$f":"IFERROR(__xludf.DUMMYFUNCTION(\"iferror(VLOOKUP(B428,IMPORTRANGE(\"\"https://docs.google.com/spreadsheets/d/1c3Ia3eDo4sfDZb6ajW2WVML4MhoKXWIVRbYqnsZgQRs/edit#gid=0\"\",\"\"RWA!F:BZ\"\"),44,0))\"),\"\")","v":""},{"$f":"IFERROR(__xludf.DUMMYFUNCTION(\"iferror(VLOOKUP(B428,IMPORTRANGE(\"\"https://docs.google.com/spreadsheets/d/1c3Ia3eDo4sfDZb6ajW2WVML4MhoKXWIVRbYqnsZgQRs/edit#gid=0\"\",\"\"RWA!F:BZ\"\"),48,0))\"),\"\")","v":""},{"$f":"IFERROR(__xludf.DUMMYFUNCTION(\"iferror(VLOOKUP(B428,IMPORTRANGE(\"\"https://docs.google.com/spreadsheets/d/1c3Ia3eDo4sfDZb6ajW2WVML4MhoKXWIVRbYqnsZgQRs/edit#gid=0\"\",\"\"RWA!F:BZ\"\"),49,0))\"),\"\")","v":""}]
[null,null,null,{"$f":"IFERROR(__xludf.DUMMYFUNCTION(\"iferror(VLOOKUP(B429,IMPORTRANGE(\"\"https://docs.google.com/spreadsheets/d/1c3Ia3eDo4sfDZb6ajW2WVML4MhoKXWIVRbYqnsZgQRs/edit#gid=0\"\",\"\"RWA!F:BZ\"\"),44,0))\"),\"\")","v":""},{"$f":"IFERROR(__xludf.DUMMYFUNCTION(\"iferror(VLOOKUP(B429,IMPORTRANGE(\"\"https://docs.google.com/spreadsheets/d/1c3Ia3eDo4sfDZb6ajW2WVML4MhoKXWIVRbYqnsZgQRs/edit#gid=0\"\",\"\"RWA!F:BZ\"\"),48,0))\"),\"\")","v":""},{"$f":"IFERROR(__xludf.DUMMYFUNCTION(\"iferror(VLOOKUP(B429,IMPORTRANGE(\"\"https://docs.google.com/spreadsheets/d/1c3Ia3eDo4sfDZb6ajW2WVML4MhoKXWIVRbYqnsZgQRs/edit#gid=0\"\",\"\"RWA!F:BZ\"\"),49,0))\"),\"\")","v":""}]
[null,null,null,{"$f":"IFERROR(__xludf.DUMMYFUNCTION(\"iferror(VLOOKUP(B430,IMPORTRANGE(\"\"https://docs.google.com/spreadsheets/d/1c3Ia3eDo4sfDZb6ajW2WVML4MhoKXWIVRbYqnsZgQRs/edit#gid=0\"\",\"\"RWA!F:BZ\"\"),44,0))\"),\"\")","v":""},{"$f":"IFERROR(__xludf.DUMMYFUNCTION(\"iferror(VLOOKUP(B430,IMPORTRANGE(\"\"https://docs.google.com/spreadsheets/d/1c3Ia3eDo4sfDZb6ajW2WVML4MhoKXWIVRbYqnsZgQRs/edit#gid=0\"\",\"\"RWA!F:BZ\"\"),48,0))\"),\"\")","v":""},{"$f":"IFERROR(__xludf.DUMMYFUNCTION(\"iferror(VLOOKUP(B430,IMPORTRANGE(\"\"https://docs.google.com/spreadsheets/d/1c3Ia3eDo4sfDZb6ajW2WVML4MhoKXWIVRbYqnsZgQRs/edit#gid=0\"\",\"\"RWA!F:BZ\"\"),49,0))\"),\"\")","v":""}]
[null,null,null,{"$f":"IFERROR(__xludf.DUMMYFUNCTION(\"iferror(VLOOKUP(B431,IMPORTRANGE(\"\"https://docs.google.com/spreadsheets/d/1c3Ia3eDo4sfDZb6ajW2WVML4MhoKXWIVRbYqnsZgQRs/edit#gid=0\"\",\"\"RWA!F:BZ\"\"),44,0))\"),\"\")","v":""},{"$f":"IFERROR(__xludf.DUMMYFUNCTION(\"iferror(VLOOKUP(B431,IMPORTRANGE(\"\"https://docs.google.com/spreadsheets/d/1c3Ia3eDo4sfDZb6ajW2WVML4MhoKXWIVRbYqnsZgQRs/edit#gid=0\"\",\"\"RWA!F:BZ\"\"),48,0))\"),\"\")","v":""},{"$f":"IFERROR(__xludf.DUMMYFUNCTION(\"iferror(VLOOKUP(B431,IMPORTRANGE(\"\"https://docs.google.com/spreadsheets/d/1c3Ia3eDo4sfDZb6ajW2WVML4MhoKXWIVRbYqnsZgQRs/edit#gid=0\"\",\"\"RWA!F:BZ\"\"),49,0))\"),\"\")","v":""}]
[null,null,null,{"$f":"IFERROR(__xludf.DUMMYFUNCTION(\"iferror(VLOOKUP(B432,IMPORTRANGE(\"\"https://docs.google.com/spreadsheets/d/1c3Ia3eDo4sfDZb6ajW2WVML4MhoKXWIVRbYqnsZgQRs/edit#gid=0\"\",\"\"RWA!F:BZ\"\"),44,0))\"),\"\")","v":""},{"$f":"IFERROR(__xludf.DUMMYFUNCTION(\"iferror(VLOOKUP(B432,IMPORTRANGE(\"\"https://docs.google.com/spreadsheets/d/1c3Ia3eDo4sfDZb6ajW2WVML4MhoKXWIVRbYqnsZgQRs/edit#gid=0\"\",\"\"RWA!F:BZ\"\"),48,0))\"),\"\")","v":""},{"$f":"IFERROR(__xludf.DUMMYFUNCTION(\"iferror(VLOOKUP(B432,IMPORTRANGE(\"\"https://docs.google.com/spreadsheets/d/1c3Ia3eDo4sfDZb6ajW2WVML4MhoKXWIVRbYqnsZgQRs/edit#gid=0\"\",\"\"RWA!F:BZ\"\"),49,0))\"),\"\")","v":""}]
[null,null,null,{"$f":"IFERROR(__xludf.DUMMYFUNCTION(\"iferror(VLOOKUP(B433,IMPORTRANGE(\"\"https://docs.google.com/spreadsheets/d/1c3Ia3eDo4sfDZb6ajW2WVML4MhoKXWIVRbYqnsZgQRs/edit#gid=0\"\",\"\"RWA!F:BZ\"\"),44,0))\"),\"\")","v":""},{"$f":"IFERROR(__xludf.DUMMYFUNCTION(\"iferror(VLOOKUP(B433,IMPORTRANGE(\"\"https://docs.google.com/spreadsheets/d/1c3Ia3eDo4sfDZb6ajW2WVML4MhoKXWIVRbYqnsZgQRs/edit#gid=0\"\",\"\"RWA!F:BZ\"\"),48,0))\"),\"\")","v":""},{"$f":"IFERROR(__xludf.DUMMYFUNCTION(\"iferror(VLOOKUP(B433,IMPORTRANGE(\"\"https://docs.google.com/spreadsheets/d/1c3Ia3eDo4sfDZb6ajW2WVML4MhoKXWIVRbYqnsZgQRs/edit#gid=0\"\",\"\"RWA!F:BZ\"\"),49,0))\"),\"\")","v":""}]
[null,null,null,{"$f":"IFERROR(__xludf.DUMMYFUNCTION(\"iferror(VLOOKUP(B434,IMPORTRANGE(\"\"https://docs.google.com/spreadsheets/d/1c3Ia3eDo4sfDZb6ajW2WVML4MhoKXWIVRbYqnsZgQRs/edit#gid=0\"\",\"\"RWA!F:BZ\"\"),44,0))\"),\"\")","v":""},{"$f":"IFERROR(__xludf.DUMMYFUNCTION(\"iferror(VLOOKUP(B434,IMPORTRANGE(\"\"https://docs.google.com/spreadsheets/d/1c3Ia3eDo4sfDZb6ajW2WVML4MhoKXWIVRbYqnsZgQRs/edit#gid=0\"\",\"\"RWA!F:BZ\"\"),48,0))\"),\"\")","v":""},{"$f":"IFERROR(__xludf.DUMMYFUNCTION(\"iferror(VLOOKUP(B434,IMPORTRANGE(\"\"https://docs.google.com/spreadsheets/d/1c3Ia3eDo4sfDZb6ajW2WVML4MhoKXWIVRbYqnsZgQRs/edit#gid=0\"\",\"\"RWA!F:BZ\"\"),49,0))\"),\"\")","v":""}]
[null,null,null,{"$f":"IFERROR(__xludf.DUMMYFUNCTION(\"iferror(VLOOKUP(B435,IMPORTRANGE(\"\"https://docs.google.com/spreadsheets/d/1c3Ia3eDo4sfDZb6ajW2WVML4MhoKXWIVRbYqnsZgQRs/edit#gid=0\"\",\"\"RWA!F:BZ\"\"),44,0))\"),\"\")","v":""},{"$f":"IFERROR(__xludf.DUMMYFUNCTION(\"iferror(VLOOKUP(B435,IMPORTRANGE(\"\"https://docs.google.com/spreadsheets/d/1c3Ia3eDo4sfDZb6ajW2WVML4MhoKXWIVRbYqnsZgQRs/edit#gid=0\"\",\"\"RWA!F:BZ\"\"),48,0))\"),\"\")","v":""},{"$f":"IFERROR(__xludf.DUMMYFUNCTION(\"iferror(VLOOKUP(B435,IMPORTRANGE(\"\"https://docs.google.com/spreadsheets/d/1c3Ia3eDo4sfDZb6ajW2WVML4MhoKXWIVRbYqnsZgQRs/edit#gid=0\"\",\"\"RWA!F:BZ\"\"),49,0))\"),\"\")","v":""}]
[null,null,null,{"$f":"IFERROR(__xludf.DUMMYFUNCTION(\"iferror(VLOOKUP(B436,IMPORTRANGE(\"\"https://docs.google.com/spreadsheets/d/1c3Ia3eDo4sfDZb6ajW2WVML4MhoKXWIVRbYqnsZgQRs/edit#gid=0\"\",\"\"RWA!F:BZ\"\"),44,0))\"),\"\")","v":""},{"$f":"IFERROR(__xludf.DUMMYFUNCTION(\"iferror(VLOOKUP(B436,IMPORTRANGE(\"\"https://docs.google.com/spreadsheets/d/1c3Ia3eDo4sfDZb6ajW2WVML4MhoKXWIVRbYqnsZgQRs/edit#gid=0\"\",\"\"RWA!F:BZ\"\"),48,0))\"),\"\")","v":""},{"$f":"IFERROR(__xludf.DUMMYFUNCTION(\"iferror(VLOOKUP(B436,IMPORTRANGE(\"\"https://docs.google.com/spreadsheets/d/1c3Ia3eDo4sfDZb6ajW2WVML4MhoKXWIVRbYqnsZgQRs/edit#gid=0\"\",\"\"RWA!F:BZ\"\"),49,0))\"),\"\")","v":""}]
[null,null,null,{"$f":"IFERROR(__xludf.DUMMYFUNCTION(\"iferror(VLOOKUP(B437,IMPORTRANGE(\"\"https://docs.google.com/spreadsheets/d/1c3Ia3eDo4sfDZb6ajW2WVML4MhoKXWIVRbYqnsZgQRs/edit#gid=0\"\",\"\"RWA!F:BZ\"\"),44,0))\"),\"\")","v":""},{"$f":"IFERROR(__xludf.DUMMYFUNCTION(\"iferror(VLOOKUP(B437,IMPORTRANGE(\"\"https://docs.google.com/spreadsheets/d/1c3Ia3eDo4sfDZb6ajW2WVML4MhoKXWIVRbYqnsZgQRs/edit#gid=0\"\",\"\"RWA!F:BZ\"\"),48,0))\"),\"\")","v":""},{"$f":"IFERROR(__xludf.DUMMYFUNCTION(\"iferror(VLOOKUP(B437,IMPORTRANGE(\"\"https://docs.google.com/spreadsheets/d/1c3Ia3eDo4sfDZb6ajW2WVML4MhoKXWIVRbYqnsZgQRs/edit#gid=0\"\",\"\"RWA!F:BZ\"\"),49,0))\"),\"\")","v":""}]
[null,null,null,{"$f":"IFERROR(__xludf.DUMMYFUNCTION(\"iferror(VLOOKUP(B438,IMPORTRANGE(\"\"https://docs.google.com/spreadsheets/d/1c3Ia3eDo4sfDZb6ajW2WVML4MhoKXWIVRbYqnsZgQRs/edit#gid=0\"\",\"\"RWA!F:BZ\"\"),44,0))\"),\"\")","v":""},{"$f":"IFERROR(__xludf.DUMMYFUNCTION(\"iferror(VLOOKUP(B438,IMPORTRANGE(\"\"https://docs.google.com/spreadsheets/d/1c3Ia3eDo4sfDZb6ajW2WVML4MhoKXWIVRbYqnsZgQRs/edit#gid=0\"\",\"\"RWA!F:BZ\"\"),48,0))\"),\"\")","v":""},{"$f":"IFERROR(__xludf.DUMMYFUNCTION(\"iferror(VLOOKUP(B438,IMPORTRANGE(\"\"https://docs.google.com/spreadsheets/d/1c3Ia3eDo4sfDZb6ajW2WVML4MhoKXWIVRbYqnsZgQRs/edit#gid=0\"\",\"\"RWA!F:BZ\"\"),49,0))\"),\"\")","v":""}]
[null,null,null,{"$f":"IFERROR(__xludf.DUMMYFUNCTION(\"iferror(VLOOKUP(B439,IMPORTRANGE(\"\"https://docs.google.com/spreadsheets/d/1c3Ia3eDo4sfDZb6ajW2WVML4MhoKXWIVRbYqnsZgQRs/edit#gid=0\"\",\"\"RWA!F:BZ\"\"),44,0))\"),\"\")","v":""},{"$f":"IFERROR(__xludf.DUMMYFUNCTION(\"iferror(VLOOKUP(B439,IMPORTRANGE(\"\"https://docs.google.com/spreadsheets/d/1c3Ia3eDo4sfDZb6ajW2WVML4MhoKXWIVRbYqnsZgQRs/edit#gid=0\"\",\"\"RWA!F:BZ\"\"),48,0))\"),\"\")","v":""},{"$f":"IFERROR(__xludf.DUMMYFUNCTION(\"iferror(VLOOKUP(B439,IMPORTRANGE(\"\"https://docs.google.com/spreadsheets/d/1c3Ia3eDo4sfDZb6ajW2WVML4MhoKXWIVRbYqnsZgQRs/edit#gid=0\"\",\"\"RWA!F:BZ\"\"),49,0))\"),\"\")","v":""}]
[null,null,null,{"$f":"IFERROR(__xludf.DUMMYFUNCTION(\"iferror(VLOOKUP(B440,IMPORTRANGE(\"\"https://docs.google.com/spreadsheets/d/1c3Ia3eDo4sfDZb6ajW2WVML4MhoKXWIVRbYqnsZgQRs/edit#gid=0\"\",\"\"RWA!F:BZ\"\"),44,0))\"),\"\")","v":""},{"$f":"IFERROR(__xludf.DUMMYFUNCTION(\"iferror(VLOOKUP(B440,IMPORTRANGE(\"\"https://docs.google.com/spreadsheets/d/1c3Ia3eDo4sfDZb6ajW2WVML4MhoKXWIVRbYqnsZgQRs/edit#gid=0\"\",\"\"RWA!F:BZ\"\"),48,0))\"),\"\")","v":""},{"$f":"IFERROR(__xludf.DUMMYFUNCTION(\"iferror(VLOOKUP(B440,IMPORTRANGE(\"\"https://docs.google.com/spreadsheets/d/1c3Ia3eDo4sfDZb6ajW2WVML4MhoKXWIVRbYqnsZgQRs/edit#gid=0\"\",\"\"RWA!F:BZ\"\"),49,0))\"),\"\")","v":""}]
[null,null,null,{"$f":"IFERROR(__xludf.DUMMYFUNCTION(\"iferror(VLOOKUP(B441,IMPORTRANGE(\"\"https://docs.google.com/spreadsheets/d/1c3Ia3eDo4sfDZb6ajW2WVML4MhoKXWIVRbYqnsZgQRs/edit#gid=0\"\",\"\"RWA!F:BZ\"\"),44,0))\"),\"\")","v":""},{"$f":"IFERROR(__xludf.DUMMYFUNCTION(\"iferror(VLOOKUP(B441,IMPORTRANGE(\"\"https://docs.google.com/spreadsheets/d/1c3Ia3eDo4sfDZb6ajW2WVML4MhoKXWIVRbYqnsZgQRs/edit#gid=0\"\",\"\"RWA!F:BZ\"\"),48,0))\"),\"\")","v":""},{"$f":"IFERROR(__xludf.DUMMYFUNCTION(\"iferror(VLOOKUP(B441,IMPORTRANGE(\"\"https://docs.google.com/spreadsheets/d/1c3Ia3eDo4sfDZb6ajW2WVML4MhoKXWIVRbYqnsZgQRs/edit#gid=0\"\",\"\"RWA!F:BZ\"\"),49,0))\"),\"\")","v":""}]
[null,null,null,{"$f":"IFERROR(__xludf.DUMMYFUNCTION(\"iferror(VLOOKUP(B442,IMPORTRANGE(\"\"https://docs.google.com/spreadsheets/d/1c3Ia3eDo4sfDZb6ajW2WVML4MhoKXWIVRbYqnsZgQRs/edit#gid=0\"\",\"\"RWA!F:BZ\"\"),44,0))\"),\"\")","v":""},{"$f":"IFERROR(__xludf.DUMMYFUNCTION(\"iferror(VLOOKUP(B442,IMPORTRANGE(\"\"https://docs.google.com/spreadsheets/d/1c3Ia3eDo4sfDZb6ajW2WVML4MhoKXWIVRbYqnsZgQRs/edit#gid=0\"\",\"\"RWA!F:BZ\"\"),48,0))\"),\"\")","v":""},{"$f":"IFERROR(__xludf.DUMMYFUNCTION(\"iferror(VLOOKUP(B442,IMPORTRANGE(\"\"https://docs.google.com/spreadsheets/d/1c3Ia3eDo4sfDZb6ajW2WVML4MhoKXWIVRbYqnsZgQRs/edit#gid=0\"\",\"\"RWA!F:BZ\"\"),49,0))\"),\"\")","v":""}]
[null,null,null,{"$f":"IFERROR(__xludf.DUMMYFUNCTION(\"iferror(VLOOKUP(B443,IMPORTRANGE(\"\"https://docs.google.com/spreadsheets/d/1c3Ia3eDo4sfDZb6ajW2WVML4MhoKXWIVRbYqnsZgQRs/edit#gid=0\"\",\"\"RWA!F:BZ\"\"),44,0))\"),\"\")","v":""},{"$f":"IFERROR(__xludf.DUMMYFUNCTION(\"iferror(VLOOKUP(B443,IMPORTRANGE(\"\"https://docs.google.com/spreadsheets/d/1c3Ia3eDo4sfDZb6ajW2WVML4MhoKXWIVRbYqnsZgQRs/edit#gid=0\"\",\"\"RWA!F:BZ\"\"),48,0))\"),\"\")","v":""},{"$f":"IFERROR(__xludf.DUMMYFUNCTION(\"iferror(VLOOKUP(B443,IMPORTRANGE(\"\"https://docs.google.com/spreadsheets/d/1c3Ia3eDo4sfDZb6ajW2WVML4MhoKXWIVRbYqnsZgQRs/edit#gid=0\"\",\"\"RWA!F:BZ\"\"),49,0))\"),\"\")","v":""}]
[null,null,null,{"$f":"IFERROR(__xludf.DUMMYFUNCTION(\"iferror(VLOOKUP(B444,IMPORTRANGE(\"\"https://docs.google.com/spreadsheets/d/1c3Ia3eDo4sfDZb6ajW2WVML4MhoKXWIVRbYqnsZgQRs/edit#gid=0\"\",\"\"RWA!F:BZ\"\"),44,0))\"),\"\")","v":""},{"$f":"IFERROR(__xludf.DUMMYFUNCTION(\"iferror(VLOOKUP(B444,IMPORTRANGE(\"\"https://docs.google.com/spreadsheets/d/1c3Ia3eDo4sfDZb6ajW2WVML4MhoKXWIVRbYqnsZgQRs/edit#gid=0\"\",\"\"RWA!F:BZ\"\"),48,0))\"),\"\")","v":""},{"$f":"IFERROR(__xludf.DUMMYFUNCTION(\"iferror(VLOOKUP(B444,IMPORTRANGE(\"\"https://docs.google.com/spreadsheets/d/1c3Ia3eDo4sfDZb6ajW2WVML4MhoKXWIVRbYqnsZgQRs/edit#gid=0\"\",\"\"RWA!F:BZ\"\"),49,0))\"),\"\")","v":""}]
[null,null,null,{"$f":"IFERROR(__xludf.DUMMYFUNCTION(\"iferror(VLOOKUP(B445,IMPORTRANGE(\"\"https://docs.google.com/spreadsheets/d/1c3Ia3eDo4sfDZb6ajW2WVML4MhoKXWIVRbYqnsZgQRs/edit#gid=0\"\",\"\"RWA!F:BZ\"\"),44,0))\"),\"\")","v":""},{"$f":"IFERROR(__xludf.DUMMYFUNCTION(\"iferror(VLOOKUP(B445,IMPORTRANGE(\"\"https://docs.google.com/spreadsheets/d/1c3Ia3eDo4sfDZb6ajW2WVML4MhoKXWIVRbYqnsZgQRs/edit#gid=0\"\",\"\"RWA!F:BZ\"\"),48,0))\"),\"\")","v":""},{"$f":"IFERROR(__xludf.DUMMYFUNCTION(\"iferror(VLOOKUP(B445,IMPORTRANGE(\"\"https://docs.google.com/spreadsheets/d/1c3Ia3eDo4sfDZb6ajW2WVML4MhoKXWIVRbYqnsZgQRs/edit#gid=0\"\",\"\"RWA!F:BZ\"\"),49,0))\"),\"\")","v":""}]
[null,null,null,{"$f":"IFERROR(__xludf.DUMMYFUNCTION(\"iferror(VLOOKUP(B446,IMPORTRANGE(\"\"https://docs.google.com/spreadsheets/d/1c3Ia3eDo4sfDZb6ajW2WVML4MhoKXWIVRbYqnsZgQRs/edit#gid=0\"\",\"\"RWA!F:BZ\"\"),44,0))\"),\"\")","v":""},{"$f":"IFERROR(__xludf.DUMMYFUNCTION(\"iferror(VLOOKUP(B446,IMPORTRANGE(\"\"https://docs.google.com/spreadsheets/d/1c3Ia3eDo4sfDZb6ajW2WVML4MhoKXWIVRbYqnsZgQRs/edit#gid=0\"\",\"\"RWA!F:BZ\"\"),48,0))\"),\"\")","v":""},{"$f":"IFERROR(__xludf.DUMMYFUNCTION(\"iferror(VLOOKUP(B446,IMPORTRANGE(\"\"https://docs.google.com/spreadsheets/d/1c3Ia3eDo4sfDZb6ajW2WVML4MhoKXWIVRbYqnsZgQRs/edit#gid=0\"\",\"\"RWA!F:BZ\"\"),49,0))\"),\"\")","v":""}]
[null,null,null,{"$f":"IFERROR(__xludf.DUMMYFUNCTION(\"iferror(VLOOKUP(B447,IMPORTRANGE(\"\"https://docs.google.com/spreadsheets/d/1c3Ia3eDo4sfDZb6ajW2WVML4MhoKXWIVRbYqnsZgQRs/edit#gid=0\"\",\"\"RWA!F:BZ\"\"),44,0))\"),\"\")","v":""},{"$f":"IFERROR(__xludf.DUMMYFUNCTION(\"iferror(VLOOKUP(B447,IMPORTRANGE(\"\"https://docs.google.com/spreadsheets/d/1c3Ia3eDo4sfDZb6ajW2WVML4MhoKXWIVRbYqnsZgQRs/edit#gid=0\"\",\"\"RWA!F:BZ\"\"),48,0))\"),\"\")","v":""},{"$f":"IFERROR(__xludf.DUMMYFUNCTION(\"iferror(VLOOKUP(B447,IMPORTRANGE(\"\"https://docs.google.com/spreadsheets/d/1c3Ia3eDo4sfDZb6ajW2WVML4MhoKXWIVRbYqnsZgQRs/edit#gid=0\"\",\"\"RWA!F:BZ\"\"),49,0))\"),\"\")","v":""}]
[null,null,null,{"$f":"IFERROR(__xludf.DUMMYFUNCTION(\"iferror(VLOOKUP(B448,IMPORTRANGE(\"\"https://docs.google.com/spreadsheets/d/1c3Ia3eDo4sfDZb6ajW2WVML4MhoKXWIVRbYqnsZgQRs/edit#gid=0\"\",\"\"RWA!F:BZ\"\"),44,0))\"),\"\")","v":""},{"$f":"IFERROR(__xludf.DUMMYFUNCTION(\"iferror(VLOOKUP(B448,IMPORTRANGE(\"\"https://docs.google.com/spreadsheets/d/1c3Ia3eDo4sfDZb6ajW2WVML4MhoKXWIVRbYqnsZgQRs/edit#gid=0\"\",\"\"RWA!F:BZ\"\"),48,0))\"),\"\")","v":""},{"$f":"IFERROR(__xludf.DUMMYFUNCTION(\"iferror(VLOOKUP(B448,IMPORTRANGE(\"\"https://docs.google.com/spreadsheets/d/1c3Ia3eDo4sfDZb6ajW2WVML4MhoKXWIVRbYqnsZgQRs/edit#gid=0\"\",\"\"RWA!F:BZ\"\"),49,0))\"),\"\")","v":""}]
[null,null,null,{"$f":"IFERROR(__xludf.DUMMYFUNCTION(\"iferror(VLOOKUP(B449,IMPORTRANGE(\"\"https://docs.google.com/spreadsheets/d/1c3Ia3eDo4sfDZb6ajW2WVML4MhoKXWIVRbYqnsZgQRs/edit#gid=0\"\",\"\"RWA!F:BZ\"\"),44,0))\"),\"\")","v":""},{"$f":"IFERROR(__xludf.DUMMYFUNCTION(\"iferror(VLOOKUP(B449,IMPORTRANGE(\"\"https://docs.google.com/spreadsheets/d/1c3Ia3eDo4sfDZb6ajW2WVML4MhoKXWIVRbYqnsZgQRs/edit#gid=0\"\",\"\"RWA!F:BZ\"\"),48,0))\"),\"\")","v":""},{"$f":"IFERROR(__xludf.DUMMYFUNCTION(\"iferror(VLOOKUP(B449,IMPORTRANGE(\"\"https://docs.google.com/spreadsheets/d/1c3Ia3eDo4sfDZb6ajW2WVML4MhoKXWIVRbYqnsZgQRs/edit#gid=0\"\",\"\"RWA!F:BZ\"\"),49,0))\"),\"\")","v":""}]
[null,null,null,{"$f":"IFERROR(__xludf.DUMMYFUNCTION(\"iferror(VLOOKUP(B450,IMPORTRANGE(\"\"https://docs.google.com/spreadsheets/d/1c3Ia3eDo4sfDZb6ajW2WVML4MhoKXWIVRbYqnsZgQRs/edit#gid=0\"\",\"\"RWA!F:BZ\"\"),44,0))\"),\"\")","v":""},{"$f":"IFERROR(__xludf.DUMMYFUNCTION(\"iferror(VLOOKUP(B450,IMPORTRANGE(\"\"https://docs.google.com/spreadsheets/d/1c3Ia3eDo4sfDZb6ajW2WVML4MhoKXWIVRbYqnsZgQRs/edit#gid=0\"\",\"\"RWA!F:BZ\"\"),48,0))\"),\"\")","v":""},{"$f":"IFERROR(__xludf.DUMMYFUNCTION(\"iferror(VLOOKUP(B450,IMPORTRANGE(\"\"https://docs.google.com/spreadsheets/d/1c3Ia3eDo4sfDZb6ajW2WVML4MhoKXWIVRbYqnsZgQRs/edit#gid=0\"\",\"\"RWA!F:BZ\"\"),49,0))\"),\"\")","v":""}]
[null,null,null,{"$f":"IFERROR(__xludf.DUMMYFUNCTION(\"iferror(VLOOKUP(B451,IMPORTRANGE(\"\"https://docs.google.com/spreadsheets/d/1c3Ia3eDo4sfDZb6ajW2WVML4MhoKXWIVRbYqnsZgQRs/edit#gid=0\"\",\"\"RWA!F:BZ\"\"),44,0))\"),\"\")","v":""},{"$f":"IFERROR(__xludf.DUMMYFUNCTION(\"iferror(VLOOKUP(B451,IMPORTRANGE(\"\"https://docs.google.com/spreadsheets/d/1c3Ia3eDo4sfDZb6ajW2WVML4MhoKXWIVRbYqnsZgQRs/edit#gid=0\"\",\"\"RWA!F:BZ\"\"),48,0))\"),\"\")","v":""},{"$f":"IFERROR(__xludf.DUMMYFUNCTION(\"iferror(VLOOKUP(B451,IMPORTRANGE(\"\"https://docs.google.com/spreadsheets/d/1c3Ia3eDo4sfDZb6ajW2WVML4MhoKXWIVRbYqnsZgQRs/edit#gid=0\"\",\"\"RWA!F:BZ\"\"),49,0))\"),\"\")","v":""}]
[null,null,null,{"$f":"IFERROR(__xludf.DUMMYFUNCTION(\"iferror(VLOOKUP(B452,IMPORTRANGE(\"\"https://docs.google.com/spreadsheets/d/1c3Ia3eDo4sfDZb6ajW2WVML4MhoKXWIVRbYqnsZgQRs/edit#gid=0\"\",\"\"RWA!F:BZ\"\"),44,0))\"),\"\")","v":""},{"$f":"IFERROR(__xludf.DUMMYFUNCTION(\"iferror(VLOOKUP(B452,IMPORTRANGE(\"\"https://docs.google.com/spreadsheets/d/1c3Ia3eDo4sfDZb6ajW2WVML4MhoKXWIVRbYqnsZgQRs/edit#gid=0\"\",\"\"RWA!F:BZ\"\"),48,0))\"),\"\")","v":""},{"$f":"IFERROR(__xludf.DUMMYFUNCTION(\"iferror(VLOOKUP(B452,IMPORTRANGE(\"\"https://docs.google.com/spreadsheets/d/1c3Ia3eDo4sfDZb6ajW2WVML4MhoKXWIVRbYqnsZgQRs/edit#gid=0\"\",\"\"RWA!F:BZ\"\"),49,0))\"),\"\")","v":""}]
[null,null,null,{"$f":"IFERROR(__xludf.DUMMYFUNCTION(\"iferror(VLOOKUP(B453,IMPORTRANGE(\"\"https://docs.google.com/spreadsheets/d/1c3Ia3eDo4sfDZb6ajW2WVML4MhoKXWIVRbYqnsZgQRs/edit#gid=0\"\",\"\"RWA!F:BZ\"\"),44,0))\"),\"\")","v":""},{"$f":"IFERROR(__xludf.DUMMYFUNCTION(\"iferror(VLOOKUP(B453,IMPORTRANGE(\"\"https://docs.google.com/spreadsheets/d/1c3Ia3eDo4sfDZb6ajW2WVML4MhoKXWIVRbYqnsZgQRs/edit#gid=0\"\",\"\"RWA!F:BZ\"\"),48,0))\"),\"\")","v":""},{"$f":"IFERROR(__xludf.DUMMYFUNCTION(\"iferror(VLOOKUP(B453,IMPORTRANGE(\"\"https://docs.google.com/spreadsheets/d/1c3Ia3eDo4sfDZb6ajW2WVML4MhoKXWIVRbYqnsZgQRs/edit#gid=0\"\",\"\"RWA!F:BZ\"\"),49,0))\"),\"\")","v":""}]
[null,null,null,{"$f":"IFERROR(__xludf.DUMMYFUNCTION(\"iferror(VLOOKUP(B454,IMPORTRANGE(\"\"https://docs.google.com/spreadsheets/d/1c3Ia3eDo4sfDZb6ajW2WVML4MhoKXWIVRbYqnsZgQRs/edit#gid=0\"\",\"\"RWA!F:BZ\"\"),44,0))\"),\"\")","v":""},{"$f":"IFERROR(__xludf.DUMMYFUNCTION(\"iferror(VLOOKUP(B454,IMPORTRANGE(\"\"https://docs.google.com/spreadsheets/d/1c3Ia3eDo4sfDZb6ajW2WVML4MhoKXWIVRbYqnsZgQRs/edit#gid=0\"\",\"\"RWA!F:BZ\"\"),48,0))\"),\"\")","v":""},{"$f":"IFERROR(__xludf.DUMMYFUNCTION(\"iferror(VLOOKUP(B454,IMPORTRANGE(\"\"https://docs.google.com/spreadsheets/d/1c3Ia3eDo4sfDZb6ajW2WVML4MhoKXWIVRbYqnsZgQRs/edit#gid=0\"\",\"\"RWA!F:BZ\"\"),49,0))\"),\"\")","v":""}]
[null,null,null,{"$f":"IFERROR(__xludf.DUMMYFUNCTION(\"iferror(VLOOKUP(B455,IMPORTRANGE(\"\"https://docs.google.com/spreadsheets/d/1c3Ia3eDo4sfDZb6ajW2WVML4MhoKXWIVRbYqnsZgQRs/edit#gid=0\"\",\"\"RWA!F:BZ\"\"),44,0))\"),\"\")","v":""},{"$f":"IFERROR(__xludf.DUMMYFUNCTION(\"iferror(VLOOKUP(B455,IMPORTRANGE(\"\"https://docs.google.com/spreadsheets/d/1c3Ia3eDo4sfDZb6ajW2WVML4MhoKXWIVRbYqnsZgQRs/edit#gid=0\"\",\"\"RWA!F:BZ\"\"),48,0))\"),\"\")","v":""},{"$f":"IFERROR(__xludf.DUMMYFUNCTION(\"iferror(VLOOKUP(B455,IMPORTRANGE(\"\"https://docs.google.com/spreadsheets/d/1c3Ia3eDo4sfDZb6ajW2WVML4MhoKXWIVRbYqnsZgQRs/edit#gid=0\"\",\"\"RWA!F:BZ\"\"),49,0))\"),\"\")","v":""}]
[null,null,null,{"$f":"IFERROR(__xludf.DUMMYFUNCTION(\"iferror(VLOOKUP(B456,IMPORTRANGE(\"\"https://docs.google.com/spreadsheets/d/1c3Ia3eDo4sfDZb6ajW2WVML4MhoKXWIVRbYqnsZgQRs/edit#gid=0\"\",\"\"RWA!F:BZ\"\"),44,0))\"),\"\")","v":""},{"$f":"IFERROR(__xludf.DUMMYFUNCTION(\"iferror(VLOOKUP(B456,IMPORTRANGE(\"\"https://docs.google.com/spreadsheets/d/1c3Ia3eDo4sfDZb6ajW2WVML4MhoKXWIVRbYqnsZgQRs/edit#gid=0\"\",\"\"RWA!F:BZ\"\"),48,0))\"),\"\")","v":""},{"$f":"IFERROR(__xludf.DUMMYFUNCTION(\"iferror(VLOOKUP(B456,IMPORTRANGE(\"\"https://docs.google.com/spreadsheets/d/1c3Ia3eDo4sfDZb6ajW2WVML4MhoKXWIVRbYqnsZgQRs/edit#gid=0\"\",\"\"RWA!F:BZ\"\"),49,0))\"),\"\")","v":""}]
[null,null,null,{"$f":"IFERROR(__xludf.DUMMYFUNCTION(\"iferror(VLOOKUP(B457,IMPORTRANGE(\"\"https://docs.google.com/spreadsheets/d/1c3Ia3eDo4sfDZb6ajW2WVML4MhoKXWIVRbYqnsZgQRs/edit#gid=0\"\",\"\"RWA!F:BZ\"\"),44,0))\"),\"\")","v":""},{"$f":"IFERROR(__xludf.DUMMYFUNCTION(\"iferror(VLOOKUP(B457,IMPORTRANGE(\"\"https://docs.google.com/spreadsheets/d/1c3Ia3eDo4sfDZb6ajW2WVML4MhoKXWIVRbYqnsZgQRs/edit#gid=0\"\",\"\"RWA!F:BZ\"\"),48,0))\"),\"\")","v":""},{"$f":"IFERROR(__xludf.DUMMYFUNCTION(\"iferror(VLOOKUP(B457,IMPORTRANGE(\"\"https://docs.google.com/spreadsheets/d/1c3Ia3eDo4sfDZb6ajW2WVML4MhoKXWIVRbYqnsZgQRs/edit#gid=0\"\",\"\"RWA!F:BZ\"\"),49,0))\"),\"\")","v":""}]
[null,null,null,{"$f":"IFERROR(__xludf.DUMMYFUNCTION(\"iferror(VLOOKUP(B458,IMPORTRANGE(\"\"https://docs.google.com/spreadsheets/d/1c3Ia3eDo4sfDZb6ajW2WVML4MhoKXWIVRbYqnsZgQRs/edit#gid=0\"\",\"\"RWA!F:BZ\"\"),44,0))\"),\"\")","v":""},{"$f":"IFERROR(__xludf.DUMMYFUNCTION(\"iferror(VLOOKUP(B458,IMPORTRANGE(\"\"https://docs.google.com/spreadsheets/d/1c3Ia3eDo4sfDZb6ajW2WVML4MhoKXWIVRbYqnsZgQRs/edit#gid=0\"\",\"\"RWA!F:BZ\"\"),48,0))\"),\"\")","v":""},{"$f":"IFERROR(__xludf.DUMMYFUNCTION(\"iferror(VLOOKUP(B458,IMPORTRANGE(\"\"https://docs.google.com/spreadsheets/d/1c3Ia3eDo4sfDZb6ajW2WVML4MhoKXWIVRbYqnsZgQRs/edit#gid=0\"\",\"\"RWA!F:BZ\"\"),49,0))\"),\"\")","v":""}]
[null,null,null,{"$f":"IFERROR(__xludf.DUMMYFUNCTION(\"iferror(VLOOKUP(B459,IMPORTRANGE(\"\"https://docs.google.com/spreadsheets/d/1c3Ia3eDo4sfDZb6ajW2WVML4MhoKXWIVRbYqnsZgQRs/edit#gid=0\"\",\"\"RWA!F:BZ\"\"),44,0))\"),\"\")","v":""},{"$f":"IFERROR(__xludf.DUMMYFUNCTION(\"iferror(VLOOKUP(B459,IMPORTRANGE(\"\"https://docs.google.com/spreadsheets/d/1c3Ia3eDo4sfDZb6ajW2WVML4MhoKXWIVRbYqnsZgQRs/edit#gid=0\"\",\"\"RWA!F:BZ\"\"),48,0))\"),\"\")","v":""},{"$f":"IFERROR(__xludf.DUMMYFUNCTION(\"iferror(VLOOKUP(B459,IMPORTRANGE(\"\"https://docs.google.com/spreadsheets/d/1c3Ia3eDo4sfDZb6ajW2WVML4MhoKXWIVRbYqnsZgQRs/edit#gid=0\"\",\"\"RWA!F:BZ\"\"),49,0))\"),\"\")","v":""}]
[null,null,null,{"$f":"IFERROR(__xludf.DUMMYFUNCTION(\"iferror(VLOOKUP(B460,IMPORTRANGE(\"\"https://docs.google.com/spreadsheets/d/1c3Ia3eDo4sfDZb6ajW2WVML4MhoKXWIVRbYqnsZgQRs/edit#gid=0\"\",\"\"RWA!F:BZ\"\"),44,0))\"),\"\")","v":""},{"$f":"IFERROR(__xludf.DUMMYFUNCTION(\"iferror(VLOOKUP(B460,IMPORTRANGE(\"\"https://docs.google.com/spreadsheets/d/1c3Ia3eDo4sfDZb6ajW2WVML4MhoKXWIVRbYqnsZgQRs/edit#gid=0\"\",\"\"RWA!F:BZ\"\"),48,0))\"),\"\")","v":""},{"$f":"IFERROR(__xludf.DUMMYFUNCTION(\"iferror(VLOOKUP(B460,IMPORTRANGE(\"\"https://docs.google.com/spreadsheets/d/1c3Ia3eDo4sfDZb6ajW2WVML4MhoKXWIVRbYqnsZgQRs/edit#gid=0\"\",\"\"RWA!F:BZ\"\"),49,0))\"),\"\")","v":""}]
[null,null,null,{"$f":"IFERROR(__xludf.DUMMYFUNCTION(\"iferror(VLOOKUP(B461,IMPORTRANGE(\"\"https://docs.google.com/spreadsheets/d/1c3Ia3eDo4sfDZb6ajW2WVML4MhoKXWIVRbYqnsZgQRs/edit#gid=0\"\",\"\"RWA!F:BZ\"\"),44,0))\"),\"\")","v":""},{"$f":"IFERROR(__xludf.DUMMYFUNCTION(\"iferror(VLOOKUP(B461,IMPORTRANGE(\"\"https://docs.google.com/spreadsheets/d/1c3Ia3eDo4sfDZb6ajW2WVML4MhoKXWIVRbYqnsZgQRs/edit#gid=0\"\",\"\"RWA!F:BZ\"\"),48,0))\"),\"\")","v":""},{"$f":"IFERROR(__xludf.DUMMYFUNCTION(\"iferror(VLOOKUP(B461,IMPORTRANGE(\"\"https://docs.google.com/spreadsheets/d/1c3Ia3eDo4sfDZb6ajW2WVML4MhoKXWIVRbYqnsZgQRs/edit#gid=0\"\",\"\"RWA!F:BZ\"\"),49,0))\"),\"\")","v":""}]
[null,null,null,{"$f":"IFERROR(__xludf.DUMMYFUNCTION(\"iferror(VLOOKUP(B462,IMPORTRANGE(\"\"https://docs.google.com/spreadsheets/d/1c3Ia3eDo4sfDZb6ajW2WVML4MhoKXWIVRbYqnsZgQRs/edit#gid=0\"\",\"\"RWA!F:BZ\"\"),44,0))\"),\"\")","v":""},{"$f":"IFERROR(__xludf.DUMMYFUNCTION(\"iferror(VLOOKUP(B462,IMPORTRANGE(\"\"https://docs.google.com/spreadsheets/d/1c3Ia3eDo4sfDZb6ajW2WVML4MhoKXWIVRbYqnsZgQRs/edit#gid=0\"\",\"\"RWA!F:BZ\"\"),48,0))\"),\"\")","v":""},{"$f":"IFERROR(__xludf.DUMMYFUNCTION(\"iferror(VLOOKUP(B462,IMPORTRANGE(\"\"https://docs.google.com/spreadsheets/d/1c3Ia3eDo4sfDZb6ajW2WVML4MhoKXWIVRbYqnsZgQRs/edit#gid=0\"\",\"\"RWA!F:BZ\"\"),49,0))\"),\"\")","v":""}]
[null,null,null,{"$f":"IFERROR(__xludf.DUMMYFUNCTION(\"iferror(VLOOKUP(B463,IMPORTRANGE(\"\"https://docs.google.com/spreadsheets/d/1c3Ia3eDo4sfDZb6ajW2WVML4MhoKXWIVRbYqnsZgQRs/edit#gid=0\"\",\"\"RWA!F:BZ\"\"),44,0))\"),\"\")","v":""},{"$f":"IFERROR(__xludf.DUMMYFUNCTION(\"iferror(VLOOKUP(B463,IMPORTRANGE(\"\"https://docs.google.com/spreadsheets/d/1c3Ia3eDo4sfDZb6ajW2WVML4MhoKXWIVRbYqnsZgQRs/edit#gid=0\"\",\"\"RWA!F:BZ\"\"),48,0))\"),\"\")","v":""},{"$f":"IFERROR(__xludf.DUMMYFUNCTION(\"iferror(VLOOKUP(B463,IMPORTRANGE(\"\"https://docs.google.com/spreadsheets/d/1c3Ia3eDo4sfDZb6ajW2WVML4MhoKXWIVRbYqnsZgQRs/edit#gid=0\"\",\"\"RWA!F:BZ\"\"),49,0))\"),\"\")","v":""}]
[null,null,null,{"$f":"IFERROR(__xludf.DUMMYFUNCTION(\"iferror(VLOOKUP(B464,IMPORTRANGE(\"\"https://docs.google.com/spreadsheets/d/1c3Ia3eDo4sfDZb6ajW2WVML4MhoKXWIVRbYqnsZgQRs/edit#gid=0\"\",\"\"RWA!F:BZ\"\"),44,0))\"),\"\")","v":""},{"$f":"IFERROR(__xludf.DUMMYFUNCTION(\"iferror(VLOOKUP(B464,IMPORTRANGE(\"\"https://docs.google.com/spreadsheets/d/1c3Ia3eDo4sfDZb6ajW2WVML4MhoKXWIVRbYqnsZgQRs/edit#gid=0\"\",\"\"RWA!F:BZ\"\"),48,0))\"),\"\")","v":""},{"$f":"IFERROR(__xludf.DUMMYFUNCTION(\"iferror(VLOOKUP(B464,IMPORTRANGE(\"\"https://docs.google.com/spreadsheets/d/1c3Ia3eDo4sfDZb6ajW2WVML4MhoKXWIVRbYqnsZgQRs/edit#gid=0\"\",\"\"RWA!F:BZ\"\"),49,0))\"),\"\")","v":""}]
[null,null,null,{"$f":"IFERROR(__xludf.DUMMYFUNCTION(\"iferror(VLOOKUP(B465,IMPORTRANGE(\"\"https://docs.google.com/spreadsheets/d/1c3Ia3eDo4sfDZb6ajW2WVML4MhoKXWIVRbYqnsZgQRs/edit#gid=0\"\",\"\"RWA!F:BZ\"\"),44,0))\"),\"\")","v":""},{"$f":"IFERROR(__xludf.DUMMYFUNCTION(\"iferror(VLOOKUP(B465,IMPORTRANGE(\"\"https://docs.google.com/spreadsheets/d/1c3Ia3eDo4sfDZb6ajW2WVML4MhoKXWIVRbYqnsZgQRs/edit#gid=0\"\",\"\"RWA!F:BZ\"\"),48,0))\"),\"\")","v":""},{"$f":"IFERROR(__xludf.DUMMYFUNCTION(\"iferror(VLOOKUP(B465,IMPORTRANGE(\"\"https://docs.google.com/spreadsheets/d/1c3Ia3eDo4sfDZb6ajW2WVML4MhoKXWIVRbYqnsZgQRs/edit#gid=0\"\",\"\"RWA!F:BZ\"\"),49,0))\"),\"\")","v":""}]
[null,null,null,{"$f":"IFERROR(__xludf.DUMMYFUNCTION(\"iferror(VLOOKUP(B466,IMPORTRANGE(\"\"https://docs.google.com/spreadsheets/d/1c3Ia3eDo4sfDZb6ajW2WVML4MhoKXWIVRbYqnsZgQRs/edit#gid=0\"\",\"\"RWA!F:BZ\"\"),44,0))\"),\"\")","v":""},{"$f":"IFERROR(__xludf.DUMMYFUNCTION(\"iferror(VLOOKUP(B466,IMPORTRANGE(\"\"https://docs.google.com/spreadsheets/d/1c3Ia3eDo4sfDZb6ajW2WVML4MhoKXWIVRbYqnsZgQRs/edit#gid=0\"\",\"\"RWA!F:BZ\"\"),48,0))\"),\"\")","v":""},{"$f":"IFERROR(__xludf.DUMMYFUNCTION(\"iferror(VLOOKUP(B466,IMPORTRANGE(\"\"https://docs.google.com/spreadsheets/d/1c3Ia3eDo4sfDZb6ajW2WVML4MhoKXWIVRbYqnsZgQRs/edit#gid=0\"\",\"\"RWA!F:BZ\"\"),49,0))\"),\"\")","v":""}]
[null,null,null,{"$f":"IFERROR(__xludf.DUMMYFUNCTION(\"iferror(VLOOKUP(B467,IMPORTRANGE(\"\"https://docs.google.com/spreadsheets/d/1c3Ia3eDo4sfDZb6ajW2WVML4MhoKXWIVRbYqnsZgQRs/edit#gid=0\"\",\"\"RWA!F:BZ\"\"),44,0))\"),\"\")","v":""},{"$f":"IFERROR(__xludf.DUMMYFUNCTION(\"iferror(VLOOKUP(B467,IMPORTRANGE(\"\"https://docs.google.com/spreadsheets/d/1c3Ia3eDo4sfDZb6ajW2WVML4MhoKXWIVRbYqnsZgQRs/edit#gid=0\"\",\"\"RWA!F:BZ\"\"),48,0))\"),\"\")","v":""},{"$f":"IFERROR(__xludf.DUMMYFUNCTION(\"iferror(VLOOKUP(B467,IMPORTRANGE(\"\"https://docs.google.com/spreadsheets/d/1c3Ia3eDo4sfDZb6ajW2WVML4MhoKXWIVRbYqnsZgQRs/edit#gid=0\"\",\"\"RWA!F:BZ\"\"),49,0))\"),\"\")","v":""}]
[null,null,null,{"$f":"IFERROR(__xludf.DUMMYFUNCTION(\"iferror(VLOOKUP(B468,IMPORTRANGE(\"\"https://docs.google.com/spreadsheets/d/1c3Ia3eDo4sfDZb6ajW2WVML4MhoKXWIVRbYqnsZgQRs/edit#gid=0\"\",\"\"RWA!F:BZ\"\"),44,0))\"),\"\")","v":""},{"$f":"IFERROR(__xludf.DUMMYFUNCTION(\"iferror(VLOOKUP(B468,IMPORTRANGE(\"\"https://docs.google.com/spreadsheets/d/1c3Ia3eDo4sfDZb6ajW2WVML4MhoKXWIVRbYqnsZgQRs/edit#gid=0\"\",\"\"RWA!F:BZ\"\"),48,0))\"),\"\")","v":""},{"$f":"IFERROR(__xludf.DUMMYFUNCTION(\"iferror(VLOOKUP(B468,IMPORTRANGE(\"\"https://docs.google.com/spreadsheets/d/1c3Ia3eDo4sfDZb6ajW2WVML4MhoKXWIVRbYqnsZgQRs/edit#gid=0\"\",\"\"RWA!F:BZ\"\"),49,0))\"),\"\")","v":""}]
[null,null,null,{"$f":"IFERROR(__xludf.DUMMYFUNCTION(\"iferror(VLOOKUP(B469,IMPORTRANGE(\"\"https://docs.google.com/spreadsheets/d/1c3Ia3eDo4sfDZb6ajW2WVML4MhoKXWIVRbYqnsZgQRs/edit#gid=0\"\",\"\"RWA!F:BZ\"\"),44,0))\"),\"\")","v":""},{"$f":"IFERROR(__xludf.DUMMYFUNCTION(\"iferror(VLOOKUP(B469,IMPORTRANGE(\"\"https://docs.google.com/spreadsheets/d/1c3Ia3eDo4sfDZb6ajW2WVML4MhoKXWIVRbYqnsZgQRs/edit#gid=0\"\",\"\"RWA!F:BZ\"\"),48,0))\"),\"\")","v":""},{"$f":"IFERROR(__xludf.DUMMYFUNCTION(\"iferror(VLOOKUP(B469,IMPORTRANGE(\"\"https://docs.google.com/spreadsheets/d/1c3Ia3eDo4sfDZb6ajW2WVML4MhoKXWIVRbYqnsZgQRs/edit#gid=0\"\",\"\"RWA!F:BZ\"\"),49,0))\"),\"\")","v":""}]
[null,null,null,{"$f":"IFERROR(__xludf.DUMMYFUNCTION(\"iferror(VLOOKUP(B470,IMPORTRANGE(\"\"https://docs.google.com/spreadsheets/d/1c3Ia3eDo4sfDZb6ajW2WVML4MhoKXWIVRbYqnsZgQRs/edit#gid=0\"\",\"\"RWA!F:BZ\"\"),44,0))\"),\"\")","v":""},{"$f":"IFERROR(__xludf.DUMMYFUNCTION(\"iferror(VLOOKUP(B470,IMPORTRANGE(\"\"https://docs.google.com/spreadsheets/d/1c3Ia3eDo4sfDZb6ajW2WVML4MhoKXWIVRbYqnsZgQRs/edit#gid=0\"\",\"\"RWA!F:BZ\"\"),48,0))\"),\"\")","v":""},{"$f":"IFERROR(__xludf.DUMMYFUNCTION(\"iferror(VLOOKUP(B470,IMPORTRANGE(\"\"https://docs.google.com/spreadsheets/d/1c3Ia3eDo4sfDZb6ajW2WVML4MhoKXWIVRbYqnsZgQRs/edit#gid=0\"\",\"\"RWA!F:BZ\"\"),49,0))\"),\"\")","v":""}]
[null,null,null,{"$f":"IFERROR(__xludf.DUMMYFUNCTION(\"iferror(VLOOKUP(B471,IMPORTRANGE(\"\"https://docs.google.com/spreadsheets/d/1c3Ia3eDo4sfDZb6ajW2WVML4MhoKXWIVRbYqnsZgQRs/edit#gid=0\"\",\"\"RWA!F:BZ\"\"),44,0))\"),\"\")","v":""},{"$f":"IFERROR(__xludf.DUMMYFUNCTION(\"iferror(VLOOKUP(B471,IMPORTRANGE(\"\"https://docs.google.com/spreadsheets/d/1c3Ia3eDo4sfDZb6ajW2WVML4MhoKXWIVRbYqnsZgQRs/edit#gid=0\"\",\"\"RWA!F:BZ\"\"),48,0))\"),\"\")","v":""},{"$f":"IFERROR(__xludf.DUMMYFUNCTION(\"iferror(VLOOKUP(B471,IMPORTRANGE(\"\"https://docs.google.com/spreadsheets/d/1c3Ia3eDo4sfDZb6ajW2WVML4MhoKXWIVRbYqnsZgQRs/edit#gid=0\"\",\"\"RWA!F:BZ\"\"),49,0))\"),\"\")","v":""}]
[null,null,null,{"$f":"IFERROR(__xludf.DUMMYFUNCTION(\"iferror(VLOOKUP(B472,IMPORTRANGE(\"\"https://docs.google.com/spreadsheets/d/1c3Ia3eDo4sfDZb6ajW2WVML4MhoKXWIVRbYqnsZgQRs/edit#gid=0\"\",\"\"RWA!F:BZ\"\"),44,0))\"),\"\")","v":""},{"$f":"IFERROR(__xludf.DUMMYFUNCTION(\"iferror(VLOOKUP(B472,IMPORTRANGE(\"\"https://docs.google.com/spreadsheets/d/1c3Ia3eDo4sfDZb6ajW2WVML4MhoKXWIVRbYqnsZgQRs/edit#gid=0\"\",\"\"RWA!F:BZ\"\"),48,0))\"),\"\")","v":""},{"$f":"IFERROR(__xludf.DUMMYFUNCTION(\"iferror(VLOOKUP(B472,IMPORTRANGE(\"\"https://docs.google.com/spreadsheets/d/1c3Ia3eDo4sfDZb6ajW2WVML4MhoKXWIVRbYqnsZgQRs/edit#gid=0\"\",\"\"RWA!F:BZ\"\"),49,0))\"),\"\")","v":""}]
[null,null,null,{"$f":"IFERROR(__xludf.DUMMYFUNCTION(\"iferror(VLOOKUP(B473,IMPORTRANGE(\"\"https://docs.google.com/spreadsheets/d/1c3Ia3eDo4sfDZb6ajW2WVML4MhoKXWIVRbYqnsZgQRs/edit#gid=0\"\",\"\"RWA!F:BZ\"\"),44,0))\"),\"\")","v":""},{"$f":"IFERROR(__xludf.DUMMYFUNCTION(\"iferror(VLOOKUP(B473,IMPORTRANGE(\"\"https://docs.google.com/spreadsheets/d/1c3Ia3eDo4sfDZb6ajW2WVML4MhoKXWIVRbYqnsZgQRs/edit#gid=0\"\",\"\"RWA!F:BZ\"\"),48,0))\"),\"\")","v":""},{"$f":"IFERROR(__xludf.DUMMYFUNCTION(\"iferror(VLOOKUP(B473,IMPORTRANGE(\"\"https://docs.google.com/spreadsheets/d/1c3Ia3eDo4sfDZb6ajW2WVML4MhoKXWIVRbYqnsZgQRs/edit#gid=0\"\",\"\"RWA!F:BZ\"\"),49,0))\"),\"\")","v":""}]
[null,null,null,{"$f":"IFERROR(__xludf.DUMMYFUNCTION(\"iferror(VLOOKUP(B474,IMPORTRANGE(\"\"https://docs.google.com/spreadsheets/d/1c3Ia3eDo4sfDZb6ajW2WVML4MhoKXWIVRbYqnsZgQRs/edit#gid=0\"\",\"\"RWA!F:BZ\"\"),44,0))\"),\"\")","v":""},{"$f":"IFERROR(__xludf.DUMMYFUNCTION(\"iferror(VLOOKUP(B474,IMPORTRANGE(\"\"https://docs.google.com/spreadsheets/d/1c3Ia3eDo4sfDZb6ajW2WVML4MhoKXWIVRbYqnsZgQRs/edit#gid=0\"\",\"\"RWA!F:BZ\"\"),48,0))\"),\"\")","v":""},{"$f":"IFERROR(__xludf.DUMMYFUNCTION(\"iferror(VLOOKUP(B474,IMPORTRANGE(\"\"https://docs.google.com/spreadsheets/d/1c3Ia3eDo4sfDZb6ajW2WVML4MhoKXWIVRbYqnsZgQRs/edit#gid=0\"\",\"\"RWA!F:BZ\"\"),49,0))\"),\"\")","v":""}]
[null,null,null,{"$f":"IFERROR(__xludf.DUMMYFUNCTION(\"iferror(VLOOKUP(B475,IMPORTRANGE(\"\"https://docs.google.com/spreadsheets/d/1c3Ia3eDo4sfDZb6ajW2WVML4MhoKXWIVRbYqnsZgQRs/edit#gid=0\"\",\"\"RWA!F:BZ\"\"),44,0))\"),\"\")","v":""},{"$f":"IFERROR(__xludf.DUMMYFUNCTION(\"iferror(VLOOKUP(B475,IMPORTRANGE(\"\"https://docs.google.com/spreadsheets/d/1c3Ia3eDo4sfDZb6ajW2WVML4MhoKXWIVRbYqnsZgQRs/edit#gid=0\"\",\"\"RWA!F:BZ\"\"),48,0))\"),\"\")","v":""},{"$f":"IFERROR(__xludf.DUMMYFUNCTION(\"iferror(VLOOKUP(B475,IMPORTRANGE(\"\"https://docs.google.com/spreadsheets/d/1c3Ia3eDo4sfDZb6ajW2WVML4MhoKXWIVRbYqnsZgQRs/edit#gid=0\"\",\"\"RWA!F:BZ\"\"),49,0))\"),\"\")","v":""}]
[null,null,null,{"$f":"IFERROR(__xludf.DUMMYFUNCTION(\"iferror(VLOOKUP(B476,IMPORTRANGE(\"\"https://docs.google.com/spreadsheets/d/1c3Ia3eDo4sfDZb6ajW2WVML4MhoKXWIVRbYqnsZgQRs/edit#gid=0\"\",\"\"RWA!F:BZ\"\"),44,0))\"),\"\")","v":""},{"$f":"IFERROR(__xludf.DUMMYFUNCTION(\"iferror(VLOOKUP(B476,IMPORTRANGE(\"\"https://docs.google.com/spreadsheets/d/1c3Ia3eDo4sfDZb6ajW2WVML4MhoKXWIVRbYqnsZgQRs/edit#gid=0\"\",\"\"RWA!F:BZ\"\"),48,0))\"),\"\")","v":""},{"$f":"IFERROR(__xludf.DUMMYFUNCTION(\"iferror(VLOOKUP(B476,IMPORTRANGE(\"\"https://docs.google.com/spreadsheets/d/1c3Ia3eDo4sfDZb6ajW2WVML4MhoKXWIVRbYqnsZgQRs/edit#gid=0\"\",\"\"RWA!F:BZ\"\"),49,0))\"),\"\")","v":""}]
[null,null,null,{"$f":"IFERROR(__xludf.DUMMYFUNCTION(\"iferror(VLOOKUP(B477,IMPORTRANGE(\"\"https://docs.google.com/spreadsheets/d/1c3Ia3eDo4sfDZb6ajW2WVML4MhoKXWIVRbYqnsZgQRs/edit#gid=0\"\",\"\"RWA!F:BZ\"\"),44,0))\"),\"\")","v":""},{"$f":"IFERROR(__xludf.DUMMYFUNCTION(\"iferror(VLOOKUP(B477,IMPORTRANGE(\"\"https://docs.google.com/spreadsheets/d/1c3Ia3eDo4sfDZb6ajW2WVML4MhoKXWIVRbYqnsZgQRs/edit#gid=0\"\",\"\"RWA!F:BZ\"\"),48,0))\"),\"\")","v":""},{"$f":"IFERROR(__xludf.DUMMYFUNCTION(\"iferror(VLOOKUP(B477,IMPORTRANGE(\"\"https://docs.google.com/spreadsheets/d/1c3Ia3eDo4sfDZb6ajW2WVML4MhoKXWIVRbYqnsZgQRs/edit#gid=0\"\",\"\"RWA!F:BZ\"\"),49,0))\"),\"\")","v":""}]
[null,null,null,{"$f":"IFERROR(__xludf.DUMMYFUNCTION(\"iferror(VLOOKUP(B478,IMPORTRANGE(\"\"https://docs.google.com/spreadsheets/d/1c3Ia3eDo4sfDZb6ajW2WVML4MhoKXWIVRbYqnsZgQRs/edit#gid=0\"\",\"\"RWA!F:BZ\"\"),44,0))\"),\"\")","v":""},{"$f":"IFERROR(__xludf.DUMMYFUNCTION(\"iferror(VLOOKUP(B478,IMPORTRANGE(\"\"https://docs.google.com/spreadsheets/d/1c3Ia3eDo4sfDZb6ajW2WVML4MhoKXWIVRbYqnsZgQRs/edit#gid=0\"\",\"\"RWA!F:BZ\"\"),48,0))\"),\"\")","v":""},{"$f":"IFERROR(__xludf.DUMMYFUNCTION(\"iferror(VLOOKUP(B478,IMPORTRANGE(\"\"https://docs.google.com/spreadsheets/d/1c3Ia3eDo4sfDZb6ajW2WVML4MhoKXWIVRbYqnsZgQRs/edit#gid=0\"\",\"\"RWA!F:BZ\"\"),49,0))\"),\"\")","v":""}]
[null,null,null,{"$f":"IFERROR(__xludf.DUMMYFUNCTION(\"iferror(VLOOKUP(B479,IMPORTRANGE(\"\"https://docs.google.com/spreadsheets/d/1c3Ia3eDo4sfDZb6ajW2WVML4MhoKXWIVRbYqnsZgQRs/edit#gid=0\"\",\"\"RWA!F:BZ\"\"),44,0))\"),\"\")","v":""},{"$f":"IFERROR(__xludf.DUMMYFUNCTION(\"iferror(VLOOKUP(B479,IMPORTRANGE(\"\"https://docs.google.com/spreadsheets/d/1c3Ia3eDo4sfDZb6ajW2WVML4MhoKXWIVRbYqnsZgQRs/edit#gid=0\"\",\"\"RWA!F:BZ\"\"),48,0))\"),\"\")","v":""},{"$f":"IFERROR(__xludf.DUMMYFUNCTION(\"iferror(VLOOKUP(B479,IMPORTRANGE(\"\"https://docs.google.com/spreadsheets/d/1c3Ia3eDo4sfDZb6ajW2WVML4MhoKXWIVRbYqnsZgQRs/edit#gid=0\"\",\"\"RWA!F:BZ\"\"),49,0))\"),\"\")","v":""}]
[null,null,null,{"$f":"IFERROR(__xludf.DUMMYFUNCTION(\"iferror(VLOOKUP(B480,IMPORTRANGE(\"\"https://docs.google.com/spreadsheets/d/1c3Ia3eDo4sfDZb6ajW2WVML4MhoKXWIVRbYqnsZgQRs/edit#gid=0\"\",\"\"RWA!F:BZ\"\"),44,0))\"),\"\")","v":""},{"$f":"IFERROR(__xludf.DUMMYFUNCTION(\"iferror(VLOOKUP(B480,IMPORTRANGE(\"\"https://docs.google.com/spreadsheets/d/1c3Ia3eDo4sfDZb6ajW2WVML4MhoKXWIVRbYqnsZgQRs/edit#gid=0\"\",\"\"RWA!F:BZ\"\"),48,0))\"),\"\")","v":""},{"$f":"IFERROR(__xludf.DUMMYFUNCTION(\"iferror(VLOOKUP(B480,IMPORTRANGE(\"\"https://docs.google.com/spreadsheets/d/1c3Ia3eDo4sfDZb6ajW2WVML4MhoKXWIVRbYqnsZgQRs/edit#gid=0\"\",\"\"RWA!F:BZ\"\"),49,0))\"),\"\")","v":""}]
[null,null,null,{"$f":"IFERROR(__xludf.DUMMYFUNCTION(\"iferror(VLOOKUP(B481,IMPORTRANGE(\"\"https://docs.google.com/spreadsheets/d/1c3Ia3eDo4sfDZb6ajW2WVML4MhoKXWIVRbYqnsZgQRs/edit#gid=0\"\",\"\"RWA!F:BZ\"\"),44,0))\"),\"\")","v":""},{"$f":"IFERROR(__xludf.DUMMYFUNCTION(\"iferror(VLOOKUP(B481,IMPORTRANGE(\"\"https://docs.google.com/spreadsheets/d/1c3Ia3eDo4sfDZb6ajW2WVML4MhoKXWIVRbYqnsZgQRs/edit#gid=0\"\",\"\"RWA!F:BZ\"\"),48,0))\"),\"\")","v":""},{"$f":"IFERROR(__xludf.DUMMYFUNCTION(\"iferror(VLOOKUP(B481,IMPORTRANGE(\"\"https://docs.google.com/spreadsheets/d/1c3Ia3eDo4sfDZb6ajW2WVML4MhoKXWIVRbYqnsZgQRs/edit#gid=0\"\",\"\"RWA!F:BZ\"\"),49,0))\"),\"\")","v":""}]
[null,null,null,{"$f":"IFERROR(__xludf.DUMMYFUNCTION(\"iferror(VLOOKUP(B482,IMPORTRANGE(\"\"https://docs.google.com/spreadsheets/d/1c3Ia3eDo4sfDZb6ajW2WVML4MhoKXWIVRbYqnsZgQRs/edit#gid=0\"\",\"\"RWA!F:BZ\"\"),44,0))\"),\"\")","v":""},{"$f":"IFERROR(__xludf.DUMMYFUNCTION(\"iferror(VLOOKUP(B482,IMPORTRANGE(\"\"https://docs.google.com/spreadsheets/d/1c3Ia3eDo4sfDZb6ajW2WVML4MhoKXWIVRbYqnsZgQRs/edit#gid=0\"\",\"\"RWA!F:BZ\"\"),48,0))\"),\"\")","v":""},{"$f":"IFERROR(__xludf.DUMMYFUNCTION(\"iferror(VLOOKUP(B482,IMPORTRANGE(\"\"https://docs.google.com/spreadsheets/d/1c3Ia3eDo4sfDZb6ajW2WVML4MhoKXWIVRbYqnsZgQRs/edit#gid=0\"\",\"\"RWA!F:BZ\"\"),49,0))\"),\"\")","v":""}]
[null,null,null,{"$f":"IFERROR(__xludf.DUMMYFUNCTION(\"iferror(VLOOKUP(B483,IMPORTRANGE(\"\"https://docs.google.com/spreadsheets/d/1c3Ia3eDo4sfDZb6ajW2WVML4MhoKXWIVRbYqnsZgQRs/edit#gid=0\"\",\"\"RWA!F:BZ\"\"),44,0))\"),\"\")","v":""},{"$f":"IFERROR(__xludf.DUMMYFUNCTION(\"iferror(VLOOKUP(B483,IMPORTRANGE(\"\"https://docs.google.com/spreadsheets/d/1c3Ia3eDo4sfDZb6ajW2WVML4MhoKXWIVRbYqnsZgQRs/edit#gid=0\"\",\"\"RWA!F:BZ\"\"),48,0))\"),\"\")","v":""},{"$f":"IFERROR(__xludf.DUMMYFUNCTION(\"iferror(VLOOKUP(B483,IMPORTRANGE(\"\"https://docs.google.com/spreadsheets/d/1c3Ia3eDo4sfDZb6ajW2WVML4MhoKXWIVRbYqnsZgQRs/edit#gid=0\"\",\"\"RWA!F:BZ\"\"),49,0))\"),\"\")","v":""}]
[null,null,null,{"$f":"IFERROR(__xludf.DUMMYFUNCTION(\"iferror(VLOOKUP(B484,IMPORTRANGE(\"\"https://docs.google.com/spreadsheets/d/1c3Ia3eDo4sfDZb6ajW2WVML4MhoKXWIVRbYqnsZgQRs/edit#gid=0\"\",\"\"RWA!F:BZ\"\"),44,0))\"),\"\")","v":""},{"$f":"IFERROR(__xludf.DUMMYFUNCTION(\"iferror(VLOOKUP(B484,IMPORTRANGE(\"\"https://docs.google.com/spreadsheets/d/1c3Ia3eDo4sfDZb6ajW2WVML4MhoKXWIVRbYqnsZgQRs/edit#gid=0\"\",\"\"RWA!F:BZ\"\"),48,0))\"),\"\")","v":""},{"$f":"IFERROR(__xludf.DUMMYFUNCTION(\"iferror(VLOOKUP(B484,IMPORTRANGE(\"\"https://docs.google.com/spreadsheets/d/1c3Ia3eDo4sfDZb6ajW2WVML4MhoKXWIVRbYqnsZgQRs/edit#gid=0\"\",\"\"RWA!F:BZ\"\"),49,0))\"),\"\")","v":""}]
[null,null,null,{"$f":"IFERROR(__xludf.DUMMYFUNCTION(\"iferror(VLOOKUP(B485,IMPORTRANGE(\"\"https://docs.google.com/spreadsheets/d/1c3Ia3eDo4sfDZb6ajW2WVML4MhoKXWIVRbYqnsZgQRs/edit#gid=0\"\",\"\"RWA!F:BZ\"\"),44,0))\"),\"\")","v":""},{"$f":"IFERROR(__xludf.DUMMYFUNCTION(\"iferror(VLOOKUP(B485,IMPORTRANGE(\"\"https://docs.google.com/spreadsheets/d/1c3Ia3eDo4sfDZb6ajW2WVML4MhoKXWIVRbYqnsZgQRs/edit#gid=0\"\",\"\"RWA!F:BZ\"\"),48,0))\"),\"\")","v":""},{"$f":"IFERROR(__xludf.DUMMYFUNCTION(\"iferror(VLOOKUP(B485,IMPORTRANGE(\"\"https://docs.google.com/spreadsheets/d/1c3Ia3eDo4sfDZb6ajW2WVML4MhoKXWIVRbYqnsZgQRs/edit#gid=0\"\",\"\"RWA!F:BZ\"\"),49,0))\"),\"\")","v":""}]
[null,null,null,{"$f":"IFERROR(__xludf.DUMMYFUNCTION(\"iferror(VLOOKUP(B486,IMPORTRANGE(\"\"https://docs.google.com/spreadsheets/d/1c3Ia3eDo4sfDZb6ajW2WVML4MhoKXWIVRbYqnsZgQRs/edit#gid=0\"\",\"\"RWA!F:BZ\"\"),44,0))\"),\"\")","v":""},{"$f":"IFERROR(__xludf.DUMMYFUNCTION(\"iferror(VLOOKUP(B486,IMPORTRANGE(\"\"https://docs.google.com/spreadsheets/d/1c3Ia3eDo4sfDZb6ajW2WVML4MhoKXWIVRbYqnsZgQRs/edit#gid=0\"\",\"\"RWA!F:BZ\"\"),48,0))\"),\"\")","v":""},{"$f":"IFERROR(__xludf.DUMMYFUNCTION(\"iferror(VLOOKUP(B486,IMPORTRANGE(\"\"https://docs.google.com/spreadsheets/d/1c3Ia3eDo4sfDZb6ajW2WVML4MhoKXWIVRbYqnsZgQRs/edit#gid=0\"\",\"\"RWA!F:BZ\"\"),49,0))\"),\"\")","v":""}]
[null,null,null,{"$f":"IFERROR(__xludf.DUMMYFUNCTION(\"iferror(VLOOKUP(B487,IMPORTRANGE(\"\"https://docs.google.com/spreadsheets/d/1c3Ia3eDo4sfDZb6ajW2WVML4MhoKXWIVRbYqnsZgQRs/edit#gid=0\"\",\"\"RWA!F:BZ\"\"),44,0))\"),\"\")","v":""},{"$f":"IFERROR(__xludf.DUMMYFUNCTION(\"iferror(VLOOKUP(B487,IMPORTRANGE(\"\"https://docs.google.com/spreadsheets/d/1c3Ia3eDo4sfDZb6ajW2WVML4MhoKXWIVRbYqnsZgQRs/edit#gid=0\"\",\"\"RWA!F:BZ\"\"),48,0))\"),\"\")","v":""},{"$f":"IFERROR(__xludf.DUMMYFUNCTION(\"iferror(VLOOKUP(B487,IMPORTRANGE(\"\"https://docs.google.com/spreadsheets/d/1c3Ia3eDo4sfDZb6ajW2WVML4MhoKXWIVRbYqnsZgQRs/edit#gid=0\"\",\"\"RWA!F:BZ\"\"),49,0))\"),\"\")","v":""}]
[null,null,null,{"$f":"IFERROR(__xludf.DUMMYFUNCTION(\"iferror(VLOOKUP(B488,IMPORTRANGE(\"\"https://docs.google.com/spreadsheets/d/1c3Ia3eDo4sfDZb6ajW2WVML4MhoKXWIVRbYqnsZgQRs/edit#gid=0\"\",\"\"RWA!F:BZ\"\"),44,0))\"),\"\")","v":""},{"$f":"IFERROR(__xludf.DUMMYFUNCTION(\"iferror(VLOOKUP(B488,IMPORTRANGE(\"\"https://docs.google.com/spreadsheets/d/1c3Ia3eDo4sfDZb6ajW2WVML4MhoKXWIVRbYqnsZgQRs/edit#gid=0\"\",\"\"RWA!F:BZ\"\"),48,0))\"),\"\")","v":""},{"$f":"IFERROR(__xludf.DUMMYFUNCTION(\"iferror(VLOOKUP(B488,IMPORTRANGE(\"\"https://docs.google.com/spreadsheets/d/1c3Ia3eDo4sfDZb6ajW2WVML4MhoKXWIVRbYqnsZgQRs/edit#gid=0\"\",\"\"RWA!F:BZ\"\"),49,0))\"),\"\")","v":""}]
[null,null,null,{"$f":"IFERROR(__xludf.DUMMYFUNCTION(\"iferror(VLOOKUP(B489,IMPORTRANGE(\"\"https://docs.google.com/spreadsheets/d/1c3Ia3eDo4sfDZb6ajW2WVML4MhoKXWIVRbYqnsZgQRs/edit#gid=0\"\",\"\"RWA!F:BZ\"\"),44,0))\"),\"\")","v":""},{"$f":"IFERROR(__xludf.DUMMYFUNCTION(\"iferror(VLOOKUP(B489,IMPORTRANGE(\"\"https://docs.google.com/spreadsheets/d/1c3Ia3eDo4sfDZb6ajW2WVML4MhoKXWIVRbYqnsZgQRs/edit#gid=0\"\",\"\"RWA!F:BZ\"\"),48,0))\"),\"\")","v":""},{"$f":"IFERROR(__xludf.DUMMYFUNCTION(\"iferror(VLOOKUP(B489,IMPORTRANGE(\"\"https://docs.google.com/spreadsheets/d/1c3Ia3eDo4sfDZb6ajW2WVML4MhoKXWIVRbYqnsZgQRs/edit#gid=0\"\",\"\"RWA!F:BZ\"\"),49,0))\"),\"\")","v":""}]
[null,null,null,{"$f":"IFERROR(__xludf.DUMMYFUNCTION(\"iferror(VLOOKUP(B490,IMPORTRANGE(\"\"https://docs.google.com/spreadsheets/d/1c3Ia3eDo4sfDZb6ajW2WVML4MhoKXWIVRbYqnsZgQRs/edit#gid=0\"\",\"\"RWA!F:BZ\"\"),44,0))\"),\"\")","v":""},{"$f":"IFERROR(__xludf.DUMMYFUNCTION(\"iferror(VLOOKUP(B490,IMPORTRANGE(\"\"https://docs.google.com/spreadsheets/d/1c3Ia3eDo4sfDZb6ajW2WVML4MhoKXWIVRbYqnsZgQRs/edit#gid=0\"\",\"\"RWA!F:BZ\"\"),48,0))\"),\"\")","v":""},{"$f":"IFERROR(__xludf.DUMMYFUNCTION(\"iferror(VLOOKUP(B490,IMPORTRANGE(\"\"https://docs.google.com/spreadsheets/d/1c3Ia3eDo4sfDZb6ajW2WVML4MhoKXWIVRbYqnsZgQRs/edit#gid=0\"\",\"\"RWA!F:BZ\"\"),49,0))\"),\"\")","v":""}]
[null,null,null,{"$f":"IFERROR(__xludf.DUMMYFUNCTION(\"iferror(VLOOKUP(B491,IMPORTRANGE(\"\"https://docs.google.com/spreadsheets/d/1c3Ia3eDo4sfDZb6ajW2WVML4MhoKXWIVRbYqnsZgQRs/edit#gid=0\"\",\"\"RWA!F:BZ\"\"),44,0))\"),\"\")","v":""},{"$f":"IFERROR(__xludf.DUMMYFUNCTION(\"iferror(VLOOKUP(B491,IMPORTRANGE(\"\"https://docs.google.com/spreadsheets/d/1c3Ia3eDo4sfDZb6ajW2WVML4MhoKXWIVRbYqnsZgQRs/edit#gid=0\"\",\"\"RWA!F:BZ\"\"),48,0))\"),\"\")","v":""},{"$f":"IFERROR(__xludf.DUMMYFUNCTION(\"iferror(VLOOKUP(B491,IMPORTRANGE(\"\"https://docs.google.com/spreadsheets/d/1c3Ia3eDo4sfDZb6ajW2WVML4MhoKXWIVRbYqnsZgQRs/edit#gid=0\"\",\"\"RWA!F:BZ\"\"),49,0))\"),\"\")","v":""}]
[null,null,null,{"$f":"IFERROR(__xludf.DUMMYFUNCTION(\"iferror(VLOOKUP(B492,IMPORTRANGE(\"\"https://docs.google.com/spreadsheets/d/1c3Ia3eDo4sfDZb6ajW2WVML4MhoKXWIVRbYqnsZgQRs/edit#gid=0\"\",\"\"RWA!F:BZ\"\"),44,0))\"),\"\")","v":""},{"$f":"IFERROR(__xludf.DUMMYFUNCTION(\"iferror(VLOOKUP(B492,IMPORTRANGE(\"\"https://docs.google.com/spreadsheets/d/1c3Ia3eDo4sfDZb6ajW2WVML4MhoKXWIVRbYqnsZgQRs/edit#gid=0\"\",\"\"RWA!F:BZ\"\"),48,0))\"),\"\")","v":""},{"$f":"IFERROR(__xludf.DUMMYFUNCTION(\"iferror(VLOOKUP(B492,IMPORTRANGE(\"\"https://docs.google.com/spreadsheets/d/1c3Ia3eDo4sfDZb6ajW2WVML4MhoKXWIVRbYqnsZgQRs/edit#gid=0\"\",\"\"RWA!F:BZ\"\"),49,0))\"),\"\")","v":""}]
[null,null,null,{"$f":"IFERROR(__xludf.DUMMYFUNCTION(\"iferror(VLOOKUP(B493,IMPORTRANGE(\"\"https://docs.google.com/spreadsheets/d/1c3Ia3eDo4sfDZb6ajW2WVML4MhoKXWIVRbYqnsZgQRs/edit#gid=0\"\",\"\"RWA!F:BZ\"\"),44,0))\"),\"\")","v":""},{"$f":"IFERROR(__xludf.DUMMYFUNCTION(\"iferror(VLOOKUP(B493,IMPORTRANGE(\"\"https://docs.google.com/spreadsheets/d/1c3Ia3eDo4sfDZb6ajW2WVML4MhoKXWIVRbYqnsZgQRs/edit#gid=0\"\",\"\"RWA!F:BZ\"\"),48,0))\"),\"\")","v":""},{"$f":"IFERROR(__xludf.DUMMYFUNCTION(\"iferror(VLOOKUP(B493,IMPORTRANGE(\"\"https://docs.google.com/spreadsheets/d/1c3Ia3eDo4sfDZb6ajW2WVML4MhoKXWIVRbYqnsZgQRs/edit#gid=0\"\",\"\"RWA!F:BZ\"\"),49,0))\"),\"\")","v":""}]
[null,null,null,{"$f":"IFERROR(__xludf.DUMMYFUNCTION(\"iferror(VLOOKUP(B494,IMPORTRANGE(\"\"https://docs.google.com/spreadsheets/d/1c3Ia3eDo4sfDZb6ajW2WVML4MhoKXWIVRbYqnsZgQRs/edit#gid=0\"\",\"\"RWA!F:BZ\"\"),44,0))\"),\"\")","v":""},{"$f":"IFERROR(__xludf.DUMMYFUNCTION(\"iferror(VLOOKUP(B494,IMPORTRANGE(\"\"https://docs.google.com/spreadsheets/d/1c3Ia3eDo4sfDZb6ajW2WVML4MhoKXWIVRbYqnsZgQRs/edit#gid=0\"\",\"\"RWA!F:BZ\"\"),48,0))\"),\"\")","v":""},{"$f":"IFERROR(__xludf.DUMMYFUNCTION(\"iferror(VLOOKUP(B494,IMPORTRANGE(\"\"https://docs.google.com/spreadsheets/d/1c3Ia3eDo4sfDZb6ajW2WVML4MhoKXWIVRbYqnsZgQRs/edit#gid=0\"\",\"\"RWA!F:BZ\"\"),49,0))\"),\"\")","v":""}]
[null,null,null,{"$f":"IFERROR(__xludf.DUMMYFUNCTION(\"iferror(VLOOKUP(B495,IMPORTRANGE(\"\"https://docs.google.com/spreadsheets/d/1c3Ia3eDo4sfDZb6ajW2WVML4MhoKXWIVRbYqnsZgQRs/edit#gid=0\"\",\"\"RWA!F:BZ\"\"),44,0))\"),\"\")","v":""},{"$f":"IFERROR(__xludf.DUMMYFUNCTION(\"iferror(VLOOKUP(B495,IMPORTRANGE(\"\"https://docs.google.com/spreadsheets/d/1c3Ia3eDo4sfDZb6ajW2WVML4MhoKXWIVRbYqnsZgQRs/edit#gid=0\"\",\"\"RWA!F:BZ\"\"),48,0))\"),\"\")","v":""},{"$f":"IFERROR(__xludf.DUMMYFUNCTION(\"iferror(VLOOKUP(B495,IMPORTRANGE(\"\"https://docs.google.com/spreadsheets/d/1c3Ia3eDo4sfDZb6ajW2WVML4MhoKXWIVRbYqnsZgQRs/edit#gid=0\"\",\"\"RWA!F:BZ\"\"),49,0))\"),\"\")","v":""}]
[null,null,null,{"$f":"IFERROR(__xludf.DUMMYFUNCTION(\"iferror(VLOOKUP(B496,IMPORTRANGE(\"\"https://docs.google.com/spreadsheets/d/1c3Ia3eDo4sfDZb6ajW2WVML4MhoKXWIVRbYqnsZgQRs/edit#gid=0\"\",\"\"RWA!F:BZ\"\"),44,0))\"),\"\")","v":""},{"$f":"IFERROR(__xludf.DUMMYFUNCTION(\"iferror(VLOOKUP(B496,IMPORTRANGE(\"\"https://docs.google.com/spreadsheets/d/1c3Ia3eDo4sfDZb6ajW2WVML4MhoKXWIVRbYqnsZgQRs/edit#gid=0\"\",\"\"RWA!F:BZ\"\"),48,0))\"),\"\")","v":""},{"$f":"IFERROR(__xludf.DUMMYFUNCTION(\"iferror(VLOOKUP(B496,IMPORTRANGE(\"\"https://docs.google.com/spreadsheets/d/1c3Ia3eDo4sfDZb6ajW2WVML4MhoKXWIVRbYqnsZgQRs/edit#gid=0\"\",\"\"RWA!F:BZ\"\"),49,0))\"),\"\")","v":""}]
[null,null,null,{"$f":"IFERROR(__xludf.DUMMYFUNCTION(\"iferror(VLOOKUP(B497,IMPORTRANGE(\"\"https://docs.google.com/spreadsheets/d/1c3Ia3eDo4sfDZb6ajW2WVML4MhoKXWIVRbYqnsZgQRs/edit#gid=0\"\",\"\"RWA!F:BZ\"\"),44,0))\"),\"\")","v":""},{"$f":"IFERROR(__xludf.DUMMYFUNCTION(\"iferror(VLOOKUP(B497,IMPORTRANGE(\"\"https://docs.google.com/spreadsheets/d/1c3Ia3eDo4sfDZb6ajW2WVML4MhoKXWIVRbYqnsZgQRs/edit#gid=0\"\",\"\"RWA!F:BZ\"\"),48,0))\"),\"\")","v":""},{"$f":"IFERROR(__xludf.DUMMYFUNCTION(\"iferror(VLOOKUP(B497,IMPORTRANGE(\"\"https://docs.google.com/spreadsheets/d/1c3Ia3eDo4sfDZb6ajW2WVML4MhoKXWIVRbYqnsZgQRs/edit#gid=0\"\",\"\"RWA!F:BZ\"\"),49,0))\"),\"\")","v":""}]
[null,null,null,{"$f":"IFERROR(__xludf.DUMMYFUNCTION(\"iferror(VLOOKUP(B498,IMPORTRANGE(\"\"https://docs.google.com/spreadsheets/d/1c3Ia3eDo4sfDZb6ajW2WVML4MhoKXWIVRbYqnsZgQRs/edit#gid=0\"\",\"\"RWA!F:BZ\"\"),44,0))\"),\"\")","v":""},{"$f":"IFERROR(__xludf.DUMMYFUNCTION(\"iferror(VLOOKUP(B498,IMPORTRANGE(\"\"https://docs.google.com/spreadsheets/d/1c3Ia3eDo4sfDZb6ajW2WVML4MhoKXWIVRbYqnsZgQRs/edit#gid=0\"\",\"\"RWA!F:BZ\"\"),48,0))\"),\"\")","v":""},{"$f":"IFERROR(__xludf.DUMMYFUNCTION(\"iferror(VLOOKUP(B498,IMPORTRANGE(\"\"https://docs.google.com/spreadsheets/d/1c3Ia3eDo4sfDZb6ajW2WVML4MhoKXWIVRbYqnsZgQRs/edit#gid=0\"\",\"\"RWA!F:BZ\"\"),49,0))\"),\"\")","v":""}]
[null,null,null,{"$f":"IFERROR(__xludf.DUMMYFUNCTION(\"iferror(VLOOKUP(B499,IMPORTRANGE(\"\"https://docs.google.com/spreadsheets/d/1c3Ia3eDo4sfDZb6ajW2WVML4MhoKXWIVRbYqnsZgQRs/edit#gid=0\"\",\"\"RWA!F:BZ\"\"),44,0))\"),\"\")","v":""},{"$f":"IFERROR(__xludf.DUMMYFUNCTION(\"iferror(VLOOKUP(B499,IMPORTRANGE(\"\"https://docs.google.com/spreadsheets/d/1c3Ia3eDo4sfDZb6ajW2WVML4MhoKXWIVRbYqnsZgQRs/edit#gid=0\"\",\"\"RWA!F:BZ\"\"),48,0))\"),\"\")","v":""},{"$f":"IFERROR(__xludf.DUMMYFUNCTION(\"iferror(VLOOKUP(B499,IMPORTRANGE(\"\"https://docs.google.com/spreadsheets/d/1c3Ia3eDo4sfDZb6ajW2WVML4MhoKXWIVRbYqnsZgQRs/edit#gid=0\"\",\"\"RWA!F:BZ\"\"),49,0))\"),\"\")","v":""}]
[null,null,null,{"$f":"IFERROR(__xludf.DUMMYFUNCTION(\"iferror(VLOOKUP(B500,IMPORTRANGE(\"\"https://docs.google.com/spreadsheets/d/1c3Ia3eDo4sfDZb6ajW2WVML4MhoKXWIVRbYqnsZgQRs/edit#gid=0\"\",\"\"RWA!F:BZ\"\"),44,0))\"),\"\")","v":""},{"$f":"IFERROR(__xludf.DUMMYFUNCTION(\"iferror(VLOOKUP(B500,IMPORTRANGE(\"\"https://docs.google.com/spreadsheets/d/1c3Ia3eDo4sfDZb6ajW2WVML4MhoKXWIVRbYqnsZgQRs/edit#gid=0\"\",\"\"RWA!F:BZ\"\"),48,0))\"),\"\")","v":""},{"$f":"IFERROR(__xludf.DUMMYFUNCTION(\"iferror(VLOOKUP(B500,IMPORTRANGE(\"\"https://docs.google.com/spreadsheets/d/1c3Ia3eDo4sfDZb6ajW2WVML4MhoKXWIVRbYqnsZgQRs/edit#gid=0\"\",\"\"RWA!F:BZ\"\"),49,0))\"),\"\")","v":""}]
[null,null,null,{"$f":"IFERROR(__xludf.DUMMYFUNCTION(\"iferror(VLOOKUP(B501,IMPORTRANGE(\"\"https://docs.google.com/spreadsheets/d/1c3Ia3eDo4sfDZb6ajW2WVML4MhoKXWIVRbYqnsZgQRs/edit#gid=0\"\",\"\"RWA!F:BZ\"\"),44,0))\"),\"\")","v":""},{"$f":"IFERROR(__xludf.DUMMYFUNCTION(\"iferror(VLOOKUP(B501,IMPORTRANGE(\"\"https://docs.google.com/spreadsheets/d/1c3Ia3eDo4sfDZb6ajW2WVML4MhoKXWIVRbYqnsZgQRs/edit#gid=0\"\",\"\"RWA!F:BZ\"\"),48,0))\"),\"\")","v":""},{"$f":"IFERROR(__xludf.DUMMYFUNCTION(\"iferror(VLOOKUP(B501,IMPORTRANGE(\"\"https://docs.google.com/spreadsheets/d/1c3Ia3eDo4sfDZb6ajW2WVML4MhoKXWIVRbYqnsZgQRs/edit#gid=0\"\",\"\"RWA!F:BZ\"\"),49,0))\"),\"\")","v":""}]
[null,null,null,{"$f":"IFERROR(__xludf.DUMMYFUNCTION(\"iferror(VLOOKUP(B502,IMPORTRANGE(\"\"https://docs.google.com/spreadsheets/d/1c3Ia3eDo4sfDZb6ajW2WVML4MhoKXWIVRbYqnsZgQRs/edit#gid=0\"\",\"\"RWA!F:BZ\"\"),44,0))\"),\"\")","v":""},{"$f":"IFERROR(__xludf.DUMMYFUNCTION(\"iferror(VLOOKUP(B502,IMPORTRANGE(\"\"https://docs.google.com/spreadsheets/d/1c3Ia3eDo4sfDZb6ajW2WVML4MhoKXWIVRbYqnsZgQRs/edit#gid=0\"\",\"\"RWA!F:BZ\"\"),48,0))\"),\"\")","v":""},{"$f":"IFERROR(__xludf.DUMMYFUNCTION(\"iferror(VLOOKUP(B502,IMPORTRANGE(\"\"https://docs.google.com/spreadsheets/d/1c3Ia3eDo4sfDZb6ajW2WVML4MhoKXWIVRbYqnsZgQRs/edit#gid=0\"\",\"\"RWA!F:BZ\"\"),49,0))\"),\"\")","v":""}]
[null,null,null,{"$f":"IFERROR(__xludf.DUMMYFUNCTION(\"iferror(VLOOKUP(B503,IMPORTRANGE(\"\"https://docs.google.com/spreadsheets/d/1c3Ia3eDo4sfDZb6ajW2WVML4MhoKXWIVRbYqnsZgQRs/edit#gid=0\"\",\"\"RWA!F:BZ\"\"),44,0))\"),\"\")","v":""},{"$f":"IFERROR(__xludf.DUMMYFUNCTION(\"iferror(VLOOKUP(B503,IMPORTRANGE(\"\"https://docs.google.com/spreadsheets/d/1c3Ia3eDo4sfDZb6ajW2WVML4MhoKXWIVRbYqnsZgQRs/edit#gid=0\"\",\"\"RWA!F:BZ\"\"),48,0))\"),\"\")","v":""},{"$f":"IFERROR(__xludf.DUMMYFUNCTION(\"iferror(VLOOKUP(B503,IMPORTRANGE(\"\"https://docs.google.com/spreadsheets/d/1c3Ia3eDo4sfDZb6ajW2WVML4MhoKXWIVRbYqnsZgQRs/edit#gid=0\"\",\"\"RWA!F:BZ\"\"),49,0))\"),\"\")","v":""}]
[null,null,null,{"$f":"IFERROR(__xludf.DUMMYFUNCTION(\"iferror(VLOOKUP(B504,IMPORTRANGE(\"\"https://docs.google.com/spreadsheets/d/1c3Ia3eDo4sfDZb6ajW2WVML4MhoKXWIVRbYqnsZgQRs/edit#gid=0\"\",\"\"RWA!F:BZ\"\"),44,0))\"),\"\")","v":""},{"$f":"IFERROR(__xludf.DUMMYFUNCTION(\"iferror(VLOOKUP(B504,IMPORTRANGE(\"\"https://docs.google.com/spreadsheets/d/1c3Ia3eDo4sfDZb6ajW2WVML4MhoKXWIVRbYqnsZgQRs/edit#gid=0\"\",\"\"RWA!F:BZ\"\"),48,0))\"),\"\")","v":""},{"$f":"IFERROR(__xludf.DUMMYFUNCTION(\"iferror(VLOOKUP(B504,IMPORTRANGE(\"\"https://docs.google.com/spreadsheets/d/1c3Ia3eDo4sfDZb6ajW2WVML4MhoKXWIVRbYqnsZgQRs/edit#gid=0\"\",\"\"RWA!F:BZ\"\"),49,0))\"),\"\")","v":""}]
[null,null,null,{"$f":"IFERROR(__xludf.DUMMYFUNCTION(\"iferror(VLOOKUP(B505,IMPORTRANGE(\"\"https://docs.google.com/spreadsheets/d/1c3Ia3eDo4sfDZb6ajW2WVML4MhoKXWIVRbYqnsZgQRs/edit#gid=0\"\",\"\"RWA!F:BZ\"\"),44,0))\"),\"\")","v":""},{"$f":"IFERROR(__xludf.DUMMYFUNCTION(\"iferror(VLOOKUP(B505,IMPORTRANGE(\"\"https://docs.google.com/spreadsheets/d/1c3Ia3eDo4sfDZb6ajW2WVML4MhoKXWIVRbYqnsZgQRs/edit#gid=0\"\",\"\"RWA!F:BZ\"\"),48,0))\"),\"\")","v":""},{"$f":"IFERROR(__xludf.DUMMYFUNCTION(\"iferror(VLOOKUP(B505,IMPORTRANGE(\"\"https://docs.google.com/spreadsheets/d/1c3Ia3eDo4sfDZb6ajW2WVML4MhoKXWIVRbYqnsZgQRs/edit#gid=0\"\",\"\"RWA!F:BZ\"\"),49,0))\"),\"\")","v":""}]
[null,null,null,{"$f":"IFERROR(__xludf.DUMMYFUNCTION(\"iferror(VLOOKUP(B506,IMPORTRANGE(\"\"https://docs.google.com/spreadsheets/d/1c3Ia3eDo4sfDZb6ajW2WVML4MhoKXWIVRbYqnsZgQRs/edit#gid=0\"\",\"\"RWA!F:BZ\"\"),44,0))\"),\"\")","v":""},{"$f":"IFERROR(__xludf.DUMMYFUNCTION(\"iferror(VLOOKUP(B506,IMPORTRANGE(\"\"https://docs.google.com/spreadsheets/d/1c3Ia3eDo4sfDZb6ajW2WVML4MhoKXWIVRbYqnsZgQRs/edit#gid=0\"\",\"\"RWA!F:BZ\"\"),48,0))\"),\"\")","v":""},{"$f":"IFERROR(__xludf.DUMMYFUNCTION(\"iferror(VLOOKUP(B506,IMPORTRANGE(\"\"https://docs.google.com/spreadsheets/d/1c3Ia3eDo4sfDZb6ajW2WVML4MhoKXWIVRbYqnsZgQRs/edit#gid=0\"\",\"\"RWA!F:BZ\"\"),49,0))\"),\"\")","v":""}]
[null,null,null,{"$f":"IFERROR(__xludf.DUMMYFUNCTION(\"iferror(VLOOKUP(B507,IMPORTRANGE(\"\"https://docs.google.com/spreadsheets/d/1c3Ia3eDo4sfDZb6ajW2WVML4MhoKXWIVRbYqnsZgQRs/edit#gid=0\"\",\"\"RWA!F:BZ\"\"),44,0))\"),\"\")","v":""},{"$f":"IFERROR(__xludf.DUMMYFUNCTION(\"iferror(VLOOKUP(B507,IMPORTRANGE(\"\"https://docs.google.com/spreadsheets/d/1c3Ia3eDo4sfDZb6ajW2WVML4MhoKXWIVRbYqnsZgQRs/edit#gid=0\"\",\"\"RWA!F:BZ\"\"),48,0))\"),\"\")","v":""},{"$f":"IFERROR(__xludf.DUMMYFUNCTION(\"iferror(VLOOKUP(B507,IMPORTRANGE(\"\"https://docs.google.com/spreadsheets/d/1c3Ia3eDo4sfDZb6ajW2WVML4MhoKXWIVRbYqnsZgQRs/edit#gid=0\"\",\"\"RWA!F:BZ\"\"),49,0))\"),\"\")","v":""}]
[null,null,null,{"$f":"IFERROR(__xludf.DUMMYFUNCTION(\"iferror(VLOOKUP(B508,IMPORTRANGE(\"\"https://docs.google.com/spreadsheets/d/1c3Ia3eDo4sfDZb6ajW2WVML4MhoKXWIVRbYqnsZgQRs/edit#gid=0\"\",\"\"RWA!F:BZ\"\"),44,0))\"),\"\")","v":""},{"$f":"IFERROR(__xludf.DUMMYFUNCTION(\"iferror(VLOOKUP(B508,IMPORTRANGE(\"\"https://docs.google.com/spreadsheets/d/1c3Ia3eDo4sfDZb6ajW2WVML4MhoKXWIVRbYqnsZgQRs/edit#gid=0\"\",\"\"RWA!F:BZ\"\"),48,0))\"),\"\")","v":""},{"$f":"IFERROR(__xludf.DUMMYFUNCTION(\"iferror(VLOOKUP(B508,IMPORTRANGE(\"\"https://docs.google.com/spreadsheets/d/1c3Ia3eDo4sfDZb6ajW2WVML4MhoKXWIVRbYqnsZgQRs/edit#gid=0\"\",\"\"RWA!F:BZ\"\"),49,0))\"),\"\")","v":""}]
[null,null,null,{"$f":"IFERROR(__xludf.DUMMYFUNCTION(\"iferror(VLOOKUP(B509,IMPORTRANGE(\"\"https://docs.google.com/spreadsheets/d/1c3Ia3eDo4sfDZb6ajW2WVML4MhoKXWIVRbYqnsZgQRs/edit#gid=0\"\",\"\"RWA!F:BZ\"\"),44,0))\"),\"\")","v":""},{"$f":"IFERROR(__xludf.DUMMYFUNCTION(\"iferror(VLOOKUP(B509,IMPORTRANGE(\"\"https://docs.google.com/spreadsheets/d/1c3Ia3eDo4sfDZb6ajW2WVML4MhoKXWIVRbYqnsZgQRs/edit#gid=0\"\",\"\"RWA!F:BZ\"\"),48,0))\"),\"\")","v":""},{"$f":"IFERROR(__xludf.DUMMYFUNCTION(\"iferror(VLOOKUP(B509,IMPORTRANGE(\"\"https://docs.google.com/spreadsheets/d/1c3Ia3eDo4sfDZb6ajW2WVML4MhoKXWIVRbYqnsZgQRs/edit#gid=0\"\",\"\"RWA!F:BZ\"\"),49,0))\"),\"\")","v":""}]
[null,null,null,{"$f":"IFERROR(__xludf.DUMMYFUNCTION(\"iferror(VLOOKUP(B510,IMPORTRANGE(\"\"https://docs.google.com/spreadsheets/d/1c3Ia3eDo4sfDZb6ajW2WVML4MhoKXWIVRbYqnsZgQRs/edit#gid=0\"\",\"\"RWA!F:BZ\"\"),44,0))\"),\"\")","v":""},{"$f":"IFERROR(__xludf.DUMMYFUNCTION(\"iferror(VLOOKUP(B510,IMPORTRANGE(\"\"https://docs.google.com/spreadsheets/d/1c3Ia3eDo4sfDZb6ajW2WVML4MhoKXWIVRbYqnsZgQRs/edit#gid=0\"\",\"\"RWA!F:BZ\"\"),48,0))\"),\"\")","v":""},{"$f":"IFERROR(__xludf.DUMMYFUNCTION(\"iferror(VLOOKUP(B510,IMPORTRANGE(\"\"https://docs.google.com/spreadsheets/d/1c3Ia3eDo4sfDZb6ajW2WVML4MhoKXWIVRbYqnsZgQRs/edit#gid=0\"\",\"\"RWA!F:BZ\"\"),49,0))\"),\"\")","v":""}]
[null,null,null,{"$f":"IFERROR(__xludf.DUMMYFUNCTION(\"iferror(VLOOKUP(B511,IMPORTRANGE(\"\"https://docs.google.com/spreadsheets/d/1c3Ia3eDo4sfDZb6ajW2WVML4MhoKXWIVRbYqnsZgQRs/edit#gid=0\"\",\"\"RWA!F:BZ\"\"),44,0))\"),\"\")","v":""},{"$f":"IFERROR(__xludf.DUMMYFUNCTION(\"iferror(VLOOKUP(B511,IMPORTRANGE(\"\"https://docs.google.com/spreadsheets/d/1c3Ia3eDo4sfDZb6ajW2WVML4MhoKXWIVRbYqnsZgQRs/edit#gid=0\"\",\"\"RWA!F:BZ\"\"),48,0))\"),\"\")","v":""},{"$f":"IFERROR(__xludf.DUMMYFUNCTION(\"iferror(VLOOKUP(B511,IMPORTRANGE(\"\"https://docs.google.com/spreadsheets/d/1c3Ia3eDo4sfDZb6ajW2WVML4MhoKXWIVRbYqnsZgQRs/edit#gid=0\"\",\"\"RWA!F:BZ\"\"),49,0))\"),\"\")","v":""}]
[null,null,null,{"$f":"IFERROR(__xludf.DUMMYFUNCTION(\"iferror(VLOOKUP(B512,IMPORTRANGE(\"\"https://docs.google.com/spreadsheets/d/1c3Ia3eDo4sfDZb6ajW2WVML4MhoKXWIVRbYqnsZgQRs/edit#gid=0\"\",\"\"RWA!F:BZ\"\"),44,0))\"),\"\")","v":""},{"$f":"IFERROR(__xludf.DUMMYFUNCTION(\"iferror(VLOOKUP(B512,IMPORTRANGE(\"\"https://docs.google.com/spreadsheets/d/1c3Ia3eDo4sfDZb6ajW2WVML4MhoKXWIVRbYqnsZgQRs/edit#gid=0\"\",\"\"RWA!F:BZ\"\"),48,0))\"),\"\")","v":""},{"$f":"IFERROR(__xludf.DUMMYFUNCTION(\"iferror(VLOOKUP(B512,IMPORTRANGE(\"\"https://docs.google.com/spreadsheets/d/1c3Ia3eDo4sfDZb6ajW2WVML4MhoKXWIVRbYqnsZgQRs/edit#gid=0\"\",\"\"RWA!F:BZ\"\"),49,0))\"),\"\")","v":""}]
[null,null,null,{"$f":"IFERROR(__xludf.DUMMYFUNCTION(\"iferror(VLOOKUP(B513,IMPORTRANGE(\"\"https://docs.google.com/spreadsheets/d/1c3Ia3eDo4sfDZb6ajW2WVML4MhoKXWIVRbYqnsZgQRs/edit#gid=0\"\",\"\"RWA!F:BZ\"\"),44,0))\"),\"\")","v":""},{"$f":"IFERROR(__xludf.DUMMYFUNCTION(\"iferror(VLOOKUP(B513,IMPORTRANGE(\"\"https://docs.google.com/spreadsheets/d/1c3Ia3eDo4sfDZb6ajW2WVML4MhoKXWIVRbYqnsZgQRs/edit#gid=0\"\",\"\"RWA!F:BZ\"\"),48,0))\"),\"\")","v":""},{"$f":"IFERROR(__xludf.DUMMYFUNCTION(\"iferror(VLOOKUP(B513,IMPORTRANGE(\"\"https://docs.google.com/spreadsheets/d/1c3Ia3eDo4sfDZb6ajW2WVML4MhoKXWIVRbYqnsZgQRs/edit#gid=0\"\",\"\"RWA!F:BZ\"\"),49,0))\"),\"\")","v":""}]
[null,null,null,{"$f":"IFERROR(__xludf.DUMMYFUNCTION(\"iferror(VLOOKUP(B514,IMPORTRANGE(\"\"https://docs.google.com/spreadsheets/d/1c3Ia3eDo4sfDZb6ajW2WVML4MhoKXWIVRbYqnsZgQRs/edit#gid=0\"\",\"\"RWA!F:BZ\"\"),44,0))\"),\"\")","v":""},{"$f":"IFERROR(__xludf.DUMMYFUNCTION(\"iferror(VLOOKUP(B514,IMPORTRANGE(\"\"https://docs.google.com/spreadsheets/d/1c3Ia3eDo4sfDZb6ajW2WVML4MhoKXWIVRbYqnsZgQRs/edit#gid=0\"\",\"\"RWA!F:BZ\"\"),48,0))\"),\"\")","v":""},{"$f":"IFERROR(__xludf.DUMMYFUNCTION(\"iferror(VLOOKUP(B514,IMPORTRANGE(\"\"https://docs.google.com/spreadsheets/d/1c3Ia3eDo4sfDZb6ajW2WVML4MhoKXWIVRbYqnsZgQRs/edit#gid=0\"\",\"\"RWA!F:BZ\"\"),49,0))\"),\"\")","v":""}]
[null,null,null,{"$f":"IFERROR(__xludf.DUMMYFUNCTION(\"iferror(VLOOKUP(B515,IMPORTRANGE(\"\"https://docs.google.com/spreadsheets/d/1c3Ia3eDo4sfDZb6ajW2WVML4MhoKXWIVRbYqnsZgQRs/edit#gid=0\"\",\"\"RWA!F:BZ\"\"),44,0))\"),\"\")","v":""},{"$f":"IFERROR(__xludf.DUMMYFUNCTION(\"iferror(VLOOKUP(B515,IMPORTRANGE(\"\"https://docs.google.com/spreadsheets/d/1c3Ia3eDo4sfDZb6ajW2WVML4MhoKXWIVRbYqnsZgQRs/edit#gid=0\"\",\"\"RWA!F:BZ\"\"),48,0))\"),\"\")","v":""},{"$f":"IFERROR(__xludf.DUMMYFUNCTION(\"iferror(VLOOKUP(B515,IMPORTRANGE(\"\"https://docs.google.com/spreadsheets/d/1c3Ia3eDo4sfDZb6ajW2WVML4MhoKXWIVRbYqnsZgQRs/edit#gid=0\"\",\"\"RWA!F:BZ\"\"),49,0))\"),\"\")","v":""}]
[null,null,null,{"$f":"IFERROR(__xludf.DUMMYFUNCTION(\"iferror(VLOOKUP(B516,IMPORTRANGE(\"\"https://docs.google.com/spreadsheets/d/1c3Ia3eDo4sfDZb6ajW2WVML4MhoKXWIVRbYqnsZgQRs/edit#gid=0\"\",\"\"RWA!F:BZ\"\"),44,0))\"),\"\")","v":""},{"$f":"IFERROR(__xludf.DUMMYFUNCTION(\"iferror(VLOOKUP(B516,IMPORTRANGE(\"\"https://docs.google.com/spreadsheets/d/1c3Ia3eDo4sfDZb6ajW2WVML4MhoKXWIVRbYqnsZgQRs/edit#gid=0\"\",\"\"RWA!F:BZ\"\"),48,0))\"),\"\")","v":""},{"$f":"IFERROR(__xludf.DUMMYFUNCTION(\"iferror(VLOOKUP(B516,IMPORTRANGE(\"\"https://docs.google.com/spreadsheets/d/1c3Ia3eDo4sfDZb6ajW2WVML4MhoKXWIVRbYqnsZgQRs/edit#gid=0\"\",\"\"RWA!F:BZ\"\"),49,0))\"),\"\")","v":""}]
[null,null,null,{"$f":"IFERROR(__xludf.DUMMYFUNCTION(\"iferror(VLOOKUP(B517,IMPORTRANGE(\"\"https://docs.google.com/spreadsheets/d/1c3Ia3eDo4sfDZb6ajW2WVML4MhoKXWIVRbYqnsZgQRs/edit#gid=0\"\",\"\"RWA!F:BZ\"\"),44,0))\"),\"\")","v":""},{"$f":"IFERROR(__xludf.DUMMYFUNCTION(\"iferror(VLOOKUP(B517,IMPORTRANGE(\"\"https://docs.google.com/spreadsheets/d/1c3Ia3eDo4sfDZb6ajW2WVML4MhoKXWIVRbYqnsZgQRs/edit#gid=0\"\",\"\"RWA!F:BZ\"\"),48,0))\"),\"\")","v":""},{"$f":"IFERROR(__xludf.DUMMYFUNCTION(\"iferror(VLOOKUP(B517,IMPORTRANGE(\"\"https://docs.google.com/spreadsheets/d/1c3Ia3eDo4sfDZb6ajW2WVML4MhoKXWIVRbYqnsZgQRs/edit#gid=0\"\",\"\"RWA!F:BZ\"\"),49,0))\"),\"\")","v":""}]
[null,null,null,{"$f":"IFERROR(__xludf.DUMMYFUNCTION(\"iferror(VLOOKUP(B518,IMPORTRANGE(\"\"https://docs.google.com/spreadsheets/d/1c3Ia3eDo4sfDZb6ajW2WVML4MhoKXWIVRbYqnsZgQRs/edit#gid=0\"\",\"\"RWA!F:BZ\"\"),44,0))\"),\"\")","v":""},{"$f":"IFERROR(__xludf.DUMMYFUNCTION(\"iferror(VLOOKUP(B518,IMPORTRANGE(\"\"https://docs.google.com/spreadsheets/d/1c3Ia3eDo4sfDZb6ajW2WVML4MhoKXWIVRbYqnsZgQRs/edit#gid=0\"\",\"\"RWA!F:BZ\"\"),48,0))\"),\"\")","v":""},{"$f":"IFERROR(__xludf.DUMMYFUNCTION(\"iferror(VLOOKUP(B518,IMPORTRANGE(\"\"https://docs.google.com/spreadsheets/d/1c3Ia3eDo4sfDZb6ajW2WVML4MhoKXWIVRbYqnsZgQRs/edit#gid=0\"\",\"\"RWA!F:BZ\"\"),49,0))\"),\"\")","v":""}]
[null,null,null,{"$f":"IFERROR(__xludf.DUMMYFUNCTION(\"iferror(VLOOKUP(B519,IMPORTRANGE(\"\"https://docs.google.com/spreadsheets/d/1c3Ia3eDo4sfDZb6ajW2WVML4MhoKXWIVRbYqnsZgQRs/edit#gid=0\"\",\"\"RWA!F:BZ\"\"),44,0))\"),\"\")","v":""},{"$f":"IFERROR(__xludf.DUMMYFUNCTION(\"iferror(VLOOKUP(B519,IMPORTRANGE(\"\"https://docs.google.com/spreadsheets/d/1c3Ia3eDo4sfDZb6ajW2WVML4MhoKXWIVRbYqnsZgQRs/edit#gid=0\"\",\"\"RWA!F:BZ\"\"),48,0))\"),\"\")","v":""},{"$f":"IFERROR(__xludf.DUMMYFUNCTION(\"iferror(VLOOKUP(B519,IMPORTRANGE(\"\"https://docs.google.com/spreadsheets/d/1c3Ia3eDo4sfDZb6ajW2WVML4MhoKXWIVRbYqnsZgQRs/edit#gid=0\"\",\"\"RWA!F:BZ\"\"),49,0))\"),\"\")","v":""}]
[null,null,null,{"$f":"IFERROR(__xludf.DUMMYFUNCTION(\"iferror(VLOOKUP(B520,IMPORTRANGE(\"\"https://docs.google.com/spreadsheets/d/1c3Ia3eDo4sfDZb6ajW2WVML4MhoKXWIVRbYqnsZgQRs/edit#gid=0\"\",\"\"RWA!F:BZ\"\"),44,0))\"),\"\")","v":""},{"$f":"IFERROR(__xludf.DUMMYFUNCTION(\"iferror(VLOOKUP(B520,IMPORTRANGE(\"\"https://docs.google.com/spreadsheets/d/1c3Ia3eDo4sfDZb6ajW2WVML4MhoKXWIVRbYqnsZgQRs/edit#gid=0\"\",\"\"RWA!F:BZ\"\"),48,0))\"),\"\")","v":""},{"$f":"IFERROR(__xludf.DUMMYFUNCTION(\"iferror(VLOOKUP(B520,IMPORTRANGE(\"\"https://docs.google.com/spreadsheets/d/1c3Ia3eDo4sfDZb6ajW2WVML4MhoKXWIVRbYqnsZgQRs/edit#gid=0\"\",\"\"RWA!F:BZ\"\"),49,0))\"),\"\")","v":""}]
[null,null,null,{"$f":"IFERROR(__xludf.DUMMYFUNCTION(\"iferror(VLOOKUP(B521,IMPORTRANGE(\"\"https://docs.google.com/spreadsheets/d/1c3Ia3eDo4sfDZb6ajW2WVML4MhoKXWIVRbYqnsZgQRs/edit#gid=0\"\",\"\"RWA!F:BZ\"\"),44,0))\"),\"\")","v":""},{"$f":"IFERROR(__xludf.DUMMYFUNCTION(\"iferror(VLOOKUP(B521,IMPORTRANGE(\"\"https://docs.google.com/spreadsheets/d/1c3Ia3eDo4sfDZb6ajW2WVML4MhoKXWIVRbYqnsZgQRs/edit#gid=0\"\",\"\"RWA!F:BZ\"\"),48,0))\"),\"\")","v":""},{"$f":"IFERROR(__xludf.DUMMYFUNCTION(\"iferror(VLOOKUP(B521,IMPORTRANGE(\"\"https://docs.google.com/spreadsheets/d/1c3Ia3eDo4sfDZb6ajW2WVML4MhoKXWIVRbYqnsZgQRs/edit#gid=0\"\",\"\"RWA!F:BZ\"\"),49,0))\"),\"\")","v":""}]
[null,null,null,{"$f":"IFERROR(__xludf.DUMMYFUNCTION(\"iferror(VLOOKUP(B522,IMPORTRANGE(\"\"https://docs.google.com/spreadsheets/d/1c3Ia3eDo4sfDZb6ajW2WVML4MhoKXWIVRbYqnsZgQRs/edit#gid=0\"\",\"\"RWA!F:BZ\"\"),44,0))\"),\"\")","v":""},{"$f":"IFERROR(__xludf.DUMMYFUNCTION(\"iferror(VLOOKUP(B522,IMPORTRANGE(\"\"https://docs.google.com/spreadsheets/d/1c3Ia3eDo4sfDZb6ajW2WVML4MhoKXWIVRbYqnsZgQRs/edit#gid=0\"\",\"\"RWA!F:BZ\"\"),48,0))\"),\"\")","v":""},{"$f":"IFERROR(__xludf.DUMMYFUNCTION(\"iferror(VLOOKUP(B522,IMPORTRANGE(\"\"https://docs.google.com/spreadsheets/d/1c3Ia3eDo4sfDZb6ajW2WVML4MhoKXWIVRbYqnsZgQRs/edit#gid=0\"\",\"\"RWA!F:BZ\"\"),49,0))\"),\"\")","v":""}]
[null,null,null,{"$f":"IFERROR(__xludf.DUMMYFUNCTION(\"iferror(VLOOKUP(B523,IMPORTRANGE(\"\"https://docs.google.com/spreadsheets/d/1c3Ia3eDo4sfDZb6ajW2WVML4MhoKXWIVRbYqnsZgQRs/edit#gid=0\"\",\"\"RWA!F:BZ\"\"),44,0))\"),\"\")","v":""},{"$f":"IFERROR(__xludf.DUMMYFUNCTION(\"iferror(VLOOKUP(B523,IMPORTRANGE(\"\"https://docs.google.com/spreadsheets/d/1c3Ia3eDo4sfDZb6ajW2WVML4MhoKXWIVRbYqnsZgQRs/edit#gid=0\"\",\"\"RWA!F:BZ\"\"),48,0))\"),\"\")","v":""},{"$f":"IFERROR(__xludf.DUMMYFUNCTION(\"iferror(VLOOKUP(B523,IMPORTRANGE(\"\"https://docs.google.com/spreadsheets/d/1c3Ia3eDo4sfDZb6ajW2WVML4MhoKXWIVRbYqnsZgQRs/edit#gid=0\"\",\"\"RWA!F:BZ\"\"),49,0))\"),\"\")","v":""}]
[null,null,null,{"$f":"IFERROR(__xludf.DUMMYFUNCTION(\"iferror(VLOOKUP(B524,IMPORTRANGE(\"\"https://docs.google.com/spreadsheets/d/1c3Ia3eDo4sfDZb6ajW2WVML4MhoKXWIVRbYqnsZgQRs/edit#gid=0\"\",\"\"RWA!F:BZ\"\"),44,0))\"),\"\")","v":""},{"$f":"IFERROR(__xludf.DUMMYFUNCTION(\"iferror(VLOOKUP(B524,IMPORTRANGE(\"\"https://docs.google.com/spreadsheets/d/1c3Ia3eDo4sfDZb6ajW2WVML4MhoKXWIVRbYqnsZgQRs/edit#gid=0\"\",\"\"RWA!F:BZ\"\"),48,0))\"),\"\")","v":""},{"$f":"IFERROR(__xludf.DUMMYFUNCTION(\"iferror(VLOOKUP(B524,IMPORTRANGE(\"\"https://docs.google.com/spreadsheets/d/1c3Ia3eDo4sfDZb6ajW2WVML4MhoKXWIVRbYqnsZgQRs/edit#gid=0\"\",\"\"RWA!F:BZ\"\"),49,0))\"),\"\")","v":""}]
[null,null,null,{"$f":"IFERROR(__xludf.DUMMYFUNCTION(\"iferror(VLOOKUP(B525,IMPORTRANGE(\"\"https://docs.google.com/spreadsheets/d/1c3Ia3eDo4sfDZb6ajW2WVML4MhoKXWIVRbYqnsZgQRs/edit#gid=0\"\",\"\"RWA!F:BZ\"\"),44,0))\"),\"\")","v":""},{"$f":"IFERROR(__xludf.DUMMYFUNCTION(\"iferror(VLOOKUP(B525,IMPORTRANGE(\"\"https://docs.google.com/spreadsheets/d/1c3Ia3eDo4sfDZb6ajW2WVML4MhoKXWIVRbYqnsZgQRs/edit#gid=0\"\",\"\"RWA!F:BZ\"\"),48,0))\"),\"\")","v":""},{"$f":"IFERROR(__xludf.DUMMYFUNCTION(\"iferror(VLOOKUP(B525,IMPORTRANGE(\"\"https://docs.google.com/spreadsheets/d/1c3Ia3eDo4sfDZb6ajW2WVML4MhoKXWIVRbYqnsZgQRs/edit#gid=0\"\",\"\"RWA!F:BZ\"\"),49,0))\"),\"\")","v":""}]
[null,null,null,{"$f":"IFERROR(__xludf.DUMMYFUNCTION(\"iferror(VLOOKUP(B526,IMPORTRANGE(\"\"https://docs.google.com/spreadsheets/d/1c3Ia3eDo4sfDZb6ajW2WVML4MhoKXWIVRbYqnsZgQRs/edit#gid=0\"\",\"\"RWA!F:BZ\"\"),44,0))\"),\"\")","v":""},{"$f":"IFERROR(__xludf.DUMMYFUNCTION(\"iferror(VLOOKUP(B526,IMPORTRANGE(\"\"https://docs.google.com/spreadsheets/d/1c3Ia3eDo4sfDZb6ajW2WVML4MhoKXWIVRbYqnsZgQRs/edit#gid=0\"\",\"\"RWA!F:BZ\"\"),48,0))\"),\"\")","v":""},{"$f":"IFERROR(__xludf.DUMMYFUNCTION(\"iferror(VLOOKUP(B526,IMPORTRANGE(\"\"https://docs.google.com/spreadsheets/d/1c3Ia3eDo4sfDZb6ajW2WVML4MhoKXWIVRbYqnsZgQRs/edit#gid=0\"\",\"\"RWA!F:BZ\"\"),49,0))\"),\"\")","v":""}]
[null,null,null,{"$f":"IFERROR(__xludf.DUMMYFUNCTION(\"iferror(VLOOKUP(B527,IMPORTRANGE(\"\"https://docs.google.com/spreadsheets/d/1c3Ia3eDo4sfDZb6ajW2WVML4MhoKXWIVRbYqnsZgQRs/edit#gid=0\"\",\"\"RWA!F:BZ\"\"),44,0))\"),\"\")","v":""},{"$f":"IFERROR(__xludf.DUMMYFUNCTION(\"iferror(VLOOKUP(B527,IMPORTRANGE(\"\"https://docs.google.com/spreadsheets/d/1c3Ia3eDo4sfDZb6ajW2WVML4MhoKXWIVRbYqnsZgQRs/edit#gid=0\"\",\"\"RWA!F:BZ\"\"),48,0))\"),\"\")","v":""},{"$f":"IFERROR(__xludf.DUMMYFUNCTION(\"iferror(VLOOKUP(B527,IMPORTRANGE(\"\"https://docs.google.com/spreadsheets/d/1c3Ia3eDo4sfDZb6ajW2WVML4MhoKXWIVRbYqnsZgQRs/edit#gid=0\"\",\"\"RWA!F:BZ\"\"),49,0))\"),\"\")","v":""}]
[null,null,null,{"$f":"IFERROR(__xludf.DUMMYFUNCTION(\"iferror(VLOOKUP(B528,IMPORTRANGE(\"\"https://docs.google.com/spreadsheets/d/1c3Ia3eDo4sfDZb6ajW2WVML4MhoKXWIVRbYqnsZgQRs/edit#gid=0\"\",\"\"RWA!F:BZ\"\"),44,0))\"),\"\")","v":""},{"$f":"IFERROR(__xludf.DUMMYFUNCTION(\"iferror(VLOOKUP(B528,IMPORTRANGE(\"\"https://docs.google.com/spreadsheets/d/1c3Ia3eDo4sfDZb6ajW2WVML4MhoKXWIVRbYqnsZgQRs/edit#gid=0\"\",\"\"RWA!F:BZ\"\"),48,0))\"),\"\")","v":""},{"$f":"IFERROR(__xludf.DUMMYFUNCTION(\"iferror(VLOOKUP(B528,IMPORTRANGE(\"\"https://docs.google.com/spreadsheets/d/1c3Ia3eDo4sfDZb6ajW2WVML4MhoKXWIVRbYqnsZgQRs/edit#gid=0\"\",\"\"RWA!F:BZ\"\"),49,0))\"),\"\")","v":""}]
[null,null,null,{"$f":"IFERROR(__xludf.DUMMYFUNCTION(\"iferror(VLOOKUP(B529,IMPORTRANGE(\"\"https://docs.google.com/spreadsheets/d/1c3Ia3eDo4sfDZb6ajW2WVML4MhoKXWIVRbYqnsZgQRs/edit#gid=0\"\",\"\"RWA!F:BZ\"\"),44,0))\"),\"\")","v":""},{"$f":"IFERROR(__xludf.DUMMYFUNCTION(\"iferror(VLOOKUP(B529,IMPORTRANGE(\"\"https://docs.google.com/spreadsheets/d/1c3Ia3eDo4sfDZb6ajW2WVML4MhoKXWIVRbYqnsZgQRs/edit#gid=0\"\",\"\"RWA!F:BZ\"\"),48,0))\"),\"\")","v":""},{"$f":"IFERROR(__xludf.DUMMYFUNCTION(\"iferror(VLOOKUP(B529,IMPORTRANGE(\"\"https://docs.google.com/spreadsheets/d/1c3Ia3eDo4sfDZb6ajW2WVML4MhoKXWIVRbYqnsZgQRs/edit#gid=0\"\",\"\"RWA!F:BZ\"\"),49,0))\"),\"\")","v":""}]
[null,null,null,{"$f":"IFERROR(__xludf.DUMMYFUNCTION(\"iferror(VLOOKUP(B530,IMPORTRANGE(\"\"https://docs.google.com/spreadsheets/d/1c3Ia3eDo4sfDZb6ajW2WVML4MhoKXWIVRbYqnsZgQRs/edit#gid=0\"\",\"\"RWA!F:BZ\"\"),44,0))\"),\"\")","v":""},{"$f":"IFERROR(__xludf.DUMMYFUNCTION(\"iferror(VLOOKUP(B530,IMPORTRANGE(\"\"https://docs.google.com/spreadsheets/d/1c3Ia3eDo4sfDZb6ajW2WVML4MhoKXWIVRbYqnsZgQRs/edit#gid=0\"\",\"\"RWA!F:BZ\"\"),48,0))\"),\"\")","v":""},{"$f":"IFERROR(__xludf.DUMMYFUNCTION(\"iferror(VLOOKUP(B530,IMPORTRANGE(\"\"https://docs.google.com/spreadsheets/d/1c3Ia3eDo4sfDZb6ajW2WVML4MhoKXWIVRbYqnsZgQRs/edit#gid=0\"\",\"\"RWA!F:BZ\"\"),49,0))\"),\"\")","v":""}]
[null,null,null,{"$f":"IFERROR(__xludf.DUMMYFUNCTION(\"iferror(VLOOKUP(B531,IMPORTRANGE(\"\"https://docs.google.com/spreadsheets/d/1c3Ia3eDo4sfDZb6ajW2WVML4MhoKXWIVRbYqnsZgQRs/edit#gid=0\"\",\"\"RWA!F:BZ\"\"),44,0))\"),\"\")","v":""},{"$f":"IFERROR(__xludf.DUMMYFUNCTION(\"iferror(VLOOKUP(B531,IMPORTRANGE(\"\"https://docs.google.com/spreadsheets/d/1c3Ia3eDo4sfDZb6ajW2WVML4MhoKXWIVRbYqnsZgQRs/edit#gid=0\"\",\"\"RWA!F:BZ\"\"),48,0))\"),\"\")","v":""},{"$f":"IFERROR(__xludf.DUMMYFUNCTION(\"iferror(VLOOKUP(B531,IMPORTRANGE(\"\"https://docs.google.com/spreadsheets/d/1c3Ia3eDo4sfDZb6ajW2WVML4MhoKXWIVRbYqnsZgQRs/edit#gid=0\"\",\"\"RWA!F:BZ\"\"),49,0))\"),\"\")","v":""}]
[null,null,null,{"$f":"IFERROR(__xludf.DUMMYFUNCTION(\"iferror(VLOOKUP(B532,IMPORTRANGE(\"\"https://docs.google.com/spreadsheets/d/1c3Ia3eDo4sfDZb6ajW2WVML4MhoKXWIVRbYqnsZgQRs/edit#gid=0\"\",\"\"RWA!F:BZ\"\"),44,0))\"),\"\")","v":""},{"$f":"IFERROR(__xludf.DUMMYFUNCTION(\"iferror(VLOOKUP(B532,IMPORTRANGE(\"\"https://docs.google.com/spreadsheets/d/1c3Ia3eDo4sfDZb6ajW2WVML4MhoKXWIVRbYqnsZgQRs/edit#gid=0\"\",\"\"RWA!F:BZ\"\"),48,0))\"),\"\")","v":""},{"$f":"IFERROR(__xludf.DUMMYFUNCTION(\"iferror(VLOOKUP(B532,IMPORTRANGE(\"\"https://docs.google.com/spreadsheets/d/1c3Ia3eDo4sfDZb6ajW2WVML4MhoKXWIVRbYqnsZgQRs/edit#gid=0\"\",\"\"RWA!F:BZ\"\"),49,0))\"),\"\")","v":""}]
[null,null,null,{"$f":"IFERROR(__xludf.DUMMYFUNCTION(\"iferror(VLOOKUP(B533,IMPORTRANGE(\"\"https://docs.google.com/spreadsheets/d/1c3Ia3eDo4sfDZb6ajW2WVML4MhoKXWIVRbYqnsZgQRs/edit#gid=0\"\",\"\"RWA!F:BZ\"\"),44,0))\"),\"\")","v":""},{"$f":"IFERROR(__xludf.DUMMYFUNCTION(\"iferror(VLOOKUP(B533,IMPORTRANGE(\"\"https://docs.google.com/spreadsheets/d/1c3Ia3eDo4sfDZb6ajW2WVML4MhoKXWIVRbYqnsZgQRs/edit#gid=0\"\",\"\"RWA!F:BZ\"\"),48,0))\"),\"\")","v":""},{"$f":"IFERROR(__xludf.DUMMYFUNCTION(\"iferror(VLOOKUP(B533,IMPORTRANGE(\"\"https://docs.google.com/spreadsheets/d/1c3Ia3eDo4sfDZb6ajW2WVML4MhoKXWIVRbYqnsZgQRs/edit#gid=0\"\",\"\"RWA!F:BZ\"\"),49,0))\"),\"\")","v":""}]
[null,null,null,{"$f":"IFERROR(__xludf.DUMMYFUNCTION(\"iferror(VLOOKUP(B534,IMPORTRANGE(\"\"https://docs.google.com/spreadsheets/d/1c3Ia3eDo4sfDZb6ajW2WVML4MhoKXWIVRbYqnsZgQRs/edit#gid=0\"\",\"\"RWA!F:BZ\"\"),44,0))\"),\"\")","v":""},{"$f":"IFERROR(__xludf.DUMMYFUNCTION(\"iferror(VLOOKUP(B534,IMPORTRANGE(\"\"https://docs.google.com/spreadsheets/d/1c3Ia3eDo4sfDZb6ajW2WVML4MhoKXWIVRbYqnsZgQRs/edit#gid=0\"\",\"\"RWA!F:BZ\"\"),48,0))\"),\"\")","v":""},{"$f":"IFERROR(__xludf.DUMMYFUNCTION(\"iferror(VLOOKUP(B534,IMPORTRANGE(\"\"https://docs.google.com/spreadsheets/d/1c3Ia3eDo4sfDZb6ajW2WVML4MhoKXWIVRbYqnsZgQRs/edit#gid=0\"\",\"\"RWA!F:BZ\"\"),49,0))\"),\"\")","v":""}]
[null,null,null,{"$f":"IFERROR(__xludf.DUMMYFUNCTION(\"iferror(VLOOKUP(B535,IMPORTRANGE(\"\"https://docs.google.com/spreadsheets/d/1c3Ia3eDo4sfDZb6ajW2WVML4MhoKXWIVRbYqnsZgQRs/edit#gid=0\"\",\"\"RWA!F:BZ\"\"),44,0))\"),\"\")","v":""},{"$f":"IFERROR(__xludf.DUMMYFUNCTION(\"iferror(VLOOKUP(B535,IMPORTRANGE(\"\"https://docs.google.com/spreadsheets/d/1c3Ia3eDo4sfDZb6ajW2WVML4MhoKXWIVRbYqnsZgQRs/edit#gid=0\"\",\"\"RWA!F:BZ\"\"),48,0))\"),\"\")","v":""},{"$f":"IFERROR(__xludf.DUMMYFUNCTION(\"iferror(VLOOKUP(B535,IMPORTRANGE(\"\"https://docs.google.com/spreadsheets/d/1c3Ia3eDo4sfDZb6ajW2WVML4MhoKXWIVRbYqnsZgQRs/edit#gid=0\"\",\"\"RWA!F:BZ\"\"),49,0))\"),\"\")","v":""}]
[null,null,null,{"$f":"IFERROR(__xludf.DUMMYFUNCTION(\"iferror(VLOOKUP(B536,IMPORTRANGE(\"\"https://docs.google.com/spreadsheets/d/1c3Ia3eDo4sfDZb6ajW2WVML4MhoKXWIVRbYqnsZgQRs/edit#gid=0\"\",\"\"RWA!F:BZ\"\"),44,0))\"),\"\")","v":""},{"$f":"IFERROR(__xludf.DUMMYFUNCTION(\"iferror(VLOOKUP(B536,IMPORTRANGE(\"\"https://docs.google.com/spreadsheets/d/1c3Ia3eDo4sfDZb6ajW2WVML4MhoKXWIVRbYqnsZgQRs/edit#gid=0\"\",\"\"RWA!F:BZ\"\"),48,0))\"),\"\")","v":""},{"$f":"IFERROR(__xludf.DUMMYFUNCTION(\"iferror(VLOOKUP(B536,IMPORTRANGE(\"\"https://docs.google.com/spreadsheets/d/1c3Ia3eDo4sfDZb6ajW2WVML4MhoKXWIVRbYqnsZgQRs/edit#gid=0\"\",\"\"RWA!F:BZ\"\"),49,0))\"),\"\")","v":""}]
[null,null,null,{"$f":"IFERROR(__xludf.DUMMYFUNCTION(\"iferror(VLOOKUP(B537,IMPORTRANGE(\"\"https://docs.google.com/spreadsheets/d/1c3Ia3eDo4sfDZb6ajW2WVML4MhoKXWIVRbYqnsZgQRs/edit#gid=0\"\",\"\"RWA!F:BZ\"\"),44,0))\"),\"\")","v":""},{"$f":"IFERROR(__xludf.DUMMYFUNCTION(\"iferror(VLOOKUP(B537,IMPORTRANGE(\"\"https://docs.google.com/spreadsheets/d/1c3Ia3eDo4sfDZb6ajW2WVML4MhoKXWIVRbYqnsZgQRs/edit#gid=0\"\",\"\"RWA!F:BZ\"\"),48,0))\"),\"\")","v":""},{"$f":"IFERROR(__xludf.DUMMYFUNCTION(\"iferror(VLOOKUP(B537,IMPORTRANGE(\"\"https://docs.google.com/spreadsheets/d/1c3Ia3eDo4sfDZb6ajW2WVML4MhoKXWIVRbYqnsZgQRs/edit#gid=0\"\",\"\"RWA!F:BZ\"\"),49,0))\"),\"\")","v":""}]
[null,null,null,{"$f":"IFERROR(__xludf.DUMMYFUNCTION(\"iferror(VLOOKUP(B538,IMPORTRANGE(\"\"https://docs.google.com/spreadsheets/d/1c3Ia3eDo4sfDZb6ajW2WVML4MhoKXWIVRbYqnsZgQRs/edit#gid=0\"\",\"\"RWA!F:BZ\"\"),44,0))\"),\"\")","v":""},{"$f":"IFERROR(__xludf.DUMMYFUNCTION(\"iferror(VLOOKUP(B538,IMPORTRANGE(\"\"https://docs.google.com/spreadsheets/d/1c3Ia3eDo4sfDZb6ajW2WVML4MhoKXWIVRbYqnsZgQRs/edit#gid=0\"\",\"\"RWA!F:BZ\"\"),48,0))\"),\"\")","v":""},{"$f":"IFERROR(__xludf.DUMMYFUNCTION(\"iferror(VLOOKUP(B538,IMPORTRANGE(\"\"https://docs.google.com/spreadsheets/d/1c3Ia3eDo4sfDZb6ajW2WVML4MhoKXWIVRbYqnsZgQRs/edit#gid=0\"\",\"\"RWA!F:BZ\"\"),49,0))\"),\"\")","v":""}]
[null,null,null,{"$f":"IFERROR(__xludf.DUMMYFUNCTION(\"iferror(VLOOKUP(B539,IMPORTRANGE(\"\"https://docs.google.com/spreadsheets/d/1c3Ia3eDo4sfDZb6ajW2WVML4MhoKXWIVRbYqnsZgQRs/edit#gid=0\"\",\"\"RWA!F:BZ\"\"),44,0))\"),\"\")","v":""},{"$f":"IFERROR(__xludf.DUMMYFUNCTION(\"iferror(VLOOKUP(B539,IMPORTRANGE(\"\"https://docs.google.com/spreadsheets/d/1c3Ia3eDo4sfDZb6ajW2WVML4MhoKXWIVRbYqnsZgQRs/edit#gid=0\"\",\"\"RWA!F:BZ\"\"),48,0))\"),\"\")","v":""},{"$f":"IFERROR(__xludf.DUMMYFUNCTION(\"iferror(VLOOKUP(B539,IMPORTRANGE(\"\"https://docs.google.com/spreadsheets/d/1c3Ia3eDo4sfDZb6ajW2WVML4MhoKXWIVRbYqnsZgQRs/edit#gid=0\"\",\"\"RWA!F:BZ\"\"),49,0))\"),\"\")","v":""}]
[null,null,null,{"$f":"IFERROR(__xludf.DUMMYFUNCTION(\"iferror(VLOOKUP(B540,IMPORTRANGE(\"\"https://docs.google.com/spreadsheets/d/1c3Ia3eDo4sfDZb6ajW2WVML4MhoKXWIVRbYqnsZgQRs/edit#gid=0\"\",\"\"RWA!F:BZ\"\"),44,0))\"),\"\")","v":""},{"$f":"IFERROR(__xludf.DUMMYFUNCTION(\"iferror(VLOOKUP(B540,IMPORTRANGE(\"\"https://docs.google.com/spreadsheets/d/1c3Ia3eDo4sfDZb6ajW2WVML4MhoKXWIVRbYqnsZgQRs/edit#gid=0\"\",\"\"RWA!F:BZ\"\"),48,0))\"),\"\")","v":""},{"$f":"IFERROR(__xludf.DUMMYFUNCTION(\"iferror(VLOOKUP(B540,IMPORTRANGE(\"\"https://docs.google.com/spreadsheets/d/1c3Ia3eDo4sfDZb6ajW2WVML4MhoKXWIVRbYqnsZgQRs/edit#gid=0\"\",\"\"RWA!F:BZ\"\"),49,0))\"),\"\")","v":""}]
[null,null,null,{"$f":"IFERROR(__xludf.DUMMYFUNCTION(\"iferror(VLOOKUP(B541,IMPORTRANGE(\"\"https://docs.google.com/spreadsheets/d/1c3Ia3eDo4sfDZb6ajW2WVML4MhoKXWIVRbYqnsZgQRs/edit#gid=0\"\",\"\"RWA!F:BZ\"\"),44,0))\"),\"\")","v":""},{"$f":"IFERROR(__xludf.DUMMYFUNCTION(\"iferror(VLOOKUP(B541,IMPORTRANGE(\"\"https://docs.google.com/spreadsheets/d/1c3Ia3eDo4sfDZb6ajW2WVML4MhoKXWIVRbYqnsZgQRs/edit#gid=0\"\",\"\"RWA!F:BZ\"\"),48,0))\"),\"\")","v":""},{"$f":"IFERROR(__xludf.DUMMYFUNCTION(\"iferror(VLOOKUP(B541,IMPORTRANGE(\"\"https://docs.google.com/spreadsheets/d/1c3Ia3eDo4sfDZb6ajW2WVML4MhoKXWIVRbYqnsZgQRs/edit#gid=0\"\",\"\"RWA!F:BZ\"\"),49,0))\"),\"\")","v":""}]
[null,null,null,{"$f":"IFERROR(__xludf.DUMMYFUNCTION(\"iferror(VLOOKUP(B542,IMPORTRANGE(\"\"https://docs.google.com/spreadsheets/d/1c3Ia3eDo4sfDZb6ajW2WVML4MhoKXWIVRbYqnsZgQRs/edit#gid=0\"\",\"\"RWA!F:BZ\"\"),44,0))\"),\"\")","v":""},{"$f":"IFERROR(__xludf.DUMMYFUNCTION(\"iferror(VLOOKUP(B542,IMPORTRANGE(\"\"https://docs.google.com/spreadsheets/d/1c3Ia3eDo4sfDZb6ajW2WVML4MhoKXWIVRbYqnsZgQRs/edit#gid=0\"\",\"\"RWA!F:BZ\"\"),48,0))\"),\"\")","v":""},{"$f":"IFERROR(__xludf.DUMMYFUNCTION(\"iferror(VLOOKUP(B542,IMPORTRANGE(\"\"https://docs.google.com/spreadsheets/d/1c3Ia3eDo4sfDZb6ajW2WVML4MhoKXWIVRbYqnsZgQRs/edit#gid=0\"\",\"\"RWA!F:BZ\"\"),49,0))\"),\"\")","v":""}]
[null,null,null,{"$f":"IFERROR(__xludf.DUMMYFUNCTION(\"iferror(VLOOKUP(B543,IMPORTRANGE(\"\"https://docs.google.com/spreadsheets/d/1c3Ia3eDo4sfDZb6ajW2WVML4MhoKXWIVRbYqnsZgQRs/edit#gid=0\"\",\"\"RWA!F:BZ\"\"),44,0))\"),\"\")","v":""},{"$f":"IFERROR(__xludf.DUMMYFUNCTION(\"iferror(VLOOKUP(B543,IMPORTRANGE(\"\"https://docs.google.com/spreadsheets/d/1c3Ia3eDo4sfDZb6ajW2WVML4MhoKXWIVRbYqnsZgQRs/edit#gid=0\"\",\"\"RWA!F:BZ\"\"),48,0))\"),\"\")","v":""},{"$f":"IFERROR(__xludf.DUMMYFUNCTION(\"iferror(VLOOKUP(B543,IMPORTRANGE(\"\"https://docs.google.com/spreadsheets/d/1c3Ia3eDo4sfDZb6ajW2WVML4MhoKXWIVRbYqnsZgQRs/edit#gid=0\"\",\"\"RWA!F:BZ\"\"),49,0))\"),\"\")","v":""}]
[null,null,null,{"$f":"IFERROR(__xludf.DUMMYFUNCTION(\"iferror(VLOOKUP(B544,IMPORTRANGE(\"\"https://docs.google.com/spreadsheets/d/1c3Ia3eDo4sfDZb6ajW2WVML4MhoKXWIVRbYqnsZgQRs/edit#gid=0\"\",\"\"RWA!F:BZ\"\"),44,0))\"),\"\")","v":""},{"$f":"IFERROR(__xludf.DUMMYFUNCTION(\"iferror(VLOOKUP(B544,IMPORTRANGE(\"\"https://docs.google.com/spreadsheets/d/1c3Ia3eDo4sfDZb6ajW2WVML4MhoKXWIVRbYqnsZgQRs/edit#gid=0\"\",\"\"RWA!F:BZ\"\"),48,0))\"),\"\")","v":""},{"$f":"IFERROR(__xludf.DUMMYFUNCTION(\"iferror(VLOOKUP(B544,IMPORTRANGE(\"\"https://docs.google.com/spreadsheets/d/1c3Ia3eDo4sfDZb6ajW2WVML4MhoKXWIVRbYqnsZgQRs/edit#gid=0\"\",\"\"RWA!F:BZ\"\"),49,0))\"),\"\")","v":""}]
[null,null,null,{"$f":"IFERROR(__xludf.DUMMYFUNCTION(\"iferror(VLOOKUP(B545,IMPORTRANGE(\"\"https://docs.google.com/spreadsheets/d/1c3Ia3eDo4sfDZb6ajW2WVML4MhoKXWIVRbYqnsZgQRs/edit#gid=0\"\",\"\"RWA!F:BZ\"\"),44,0))\"),\"\")","v":""},{"$f":"IFERROR(__xludf.DUMMYFUNCTION(\"iferror(VLOOKUP(B545,IMPORTRANGE(\"\"https://docs.google.com/spreadsheets/d/1c3Ia3eDo4sfDZb6ajW2WVML4MhoKXWIVRbYqnsZgQRs/edit#gid=0\"\",\"\"RWA!F:BZ\"\"),48,0))\"),\"\")","v":""},{"$f":"IFERROR(__xludf.DUMMYFUNCTION(\"iferror(VLOOKUP(B545,IMPORTRANGE(\"\"https://docs.google.com/spreadsheets/d/1c3Ia3eDo4sfDZb6ajW2WVML4MhoKXWIVRbYqnsZgQRs/edit#gid=0\"\",\"\"RWA!F:BZ\"\"),49,0))\"),\"\")","v":""}]
[null,null,null,{"$f":"IFERROR(__xludf.DUMMYFUNCTION(\"iferror(VLOOKUP(B546,IMPORTRANGE(\"\"https://docs.google.com/spreadsheets/d/1c3Ia3eDo4sfDZb6ajW2WVML4MhoKXWIVRbYqnsZgQRs/edit#gid=0\"\",\"\"RWA!F:BZ\"\"),44,0))\"),\"\")","v":""},{"$f":"IFERROR(__xludf.DUMMYFUNCTION(\"iferror(VLOOKUP(B546,IMPORTRANGE(\"\"https://docs.google.com/spreadsheets/d/1c3Ia3eDo4sfDZb6ajW2WVML4MhoKXWIVRbYqnsZgQRs/edit#gid=0\"\",\"\"RWA!F:BZ\"\"),48,0))\"),\"\")","v":""},{"$f":"IFERROR(__xludf.DUMMYFUNCTION(\"iferror(VLOOKUP(B546,IMPORTRANGE(\"\"https://docs.google.com/spreadsheets/d/1c3Ia3eDo4sfDZb6ajW2WVML4MhoKXWIVRbYqnsZgQRs/edit#gid=0\"\",\"\"RWA!F:BZ\"\"),49,0))\"),\"\")","v":""}]
[null,null,null,{"$f":"IFERROR(__xludf.DUMMYFUNCTION(\"iferror(VLOOKUP(B547,IMPORTRANGE(\"\"https://docs.google.com/spreadsheets/d/1c3Ia3eDo4sfDZb6ajW2WVML4MhoKXWIVRbYqnsZgQRs/edit#gid=0\"\",\"\"RWA!F:BZ\"\"),44,0))\"),\"\")","v":""},{"$f":"IFERROR(__xludf.DUMMYFUNCTION(\"iferror(VLOOKUP(B547,IMPORTRANGE(\"\"https://docs.google.com/spreadsheets/d/1c3Ia3eDo4sfDZb6ajW2WVML4MhoKXWIVRbYqnsZgQRs/edit#gid=0\"\",\"\"RWA!F:BZ\"\"),48,0))\"),\"\")","v":""},{"$f":"IFERROR(__xludf.DUMMYFUNCTION(\"iferror(VLOOKUP(B547,IMPORTRANGE(\"\"https://docs.google.com/spreadsheets/d/1c3Ia3eDo4sfDZb6ajW2WVML4MhoKXWIVRbYqnsZgQRs/edit#gid=0\"\",\"\"RWA!F:BZ\"\"),49,0))\"),\"\")","v":""}]
[null,null,null,{"$f":"IFERROR(__xludf.DUMMYFUNCTION(\"iferror(VLOOKUP(B548,IMPORTRANGE(\"\"https://docs.google.com/spreadsheets/d/1c3Ia3eDo4sfDZb6ajW2WVML4MhoKXWIVRbYqnsZgQRs/edit#gid=0\"\",\"\"RWA!F:BZ\"\"),44,0))\"),\"\")","v":""},{"$f":"IFERROR(__xludf.DUMMYFUNCTION(\"iferror(VLOOKUP(B548,IMPORTRANGE(\"\"https://docs.google.com/spreadsheets/d/1c3Ia3eDo4sfDZb6ajW2WVML4MhoKXWIVRbYqnsZgQRs/edit#gid=0\"\",\"\"RWA!F:BZ\"\"),48,0))\"),\"\")","v":""},{"$f":"IFERROR(__xludf.DUMMYFUNCTION(\"iferror(VLOOKUP(B548,IMPORTRANGE(\"\"https://docs.google.com/spreadsheets/d/1c3Ia3eDo4sfDZb6ajW2WVML4MhoKXWIVRbYqnsZgQRs/edit#gid=0\"\",\"\"RWA!F:BZ\"\"),49,0))\"),\"\")","v":""}]
[null,null,null,{"$f":"IFERROR(__xludf.DUMMYFUNCTION(\"iferror(VLOOKUP(B549,IMPORTRANGE(\"\"https://docs.google.com/spreadsheets/d/1c3Ia3eDo4sfDZb6ajW2WVML4MhoKXWIVRbYqnsZgQRs/edit#gid=0\"\",\"\"RWA!F:BZ\"\"),44,0))\"),\"\")","v":""},{"$f":"IFERROR(__xludf.DUMMYFUNCTION(\"iferror(VLOOKUP(B549,IMPORTRANGE(\"\"https://docs.google.com/spreadsheets/d/1c3Ia3eDo4sfDZb6ajW2WVML4MhoKXWIVRbYqnsZgQRs/edit#gid=0\"\",\"\"RWA!F:BZ\"\"),48,0))\"),\"\")","v":""},{"$f":"IFERROR(__xludf.DUMMYFUNCTION(\"iferror(VLOOKUP(B549,IMPORTRANGE(\"\"https://docs.google.com/spreadsheets/d/1c3Ia3eDo4sfDZb6ajW2WVML4MhoKXWIVRbYqnsZgQRs/edit#gid=0\"\",\"\"RWA!F:BZ\"\"),49,0))\"),\"\")","v":""}]
[null,null,null,{"$f":"IFERROR(__xludf.DUMMYFUNCTION(\"iferror(VLOOKUP(B550,IMPORTRANGE(\"\"https://docs.google.com/spreadsheets/d/1c3Ia3eDo4sfDZb6ajW2WVML4MhoKXWIVRbYqnsZgQRs/edit#gid=0\"\",\"\"RWA!F:BZ\"\"),44,0))\"),\"\")","v":""},{"$f":"IFERROR(__xludf.DUMMYFUNCTION(\"iferror(VLOOKUP(B550,IMPORTRANGE(\"\"https://docs.google.com/spreadsheets/d/1c3Ia3eDo4sfDZb6ajW2WVML4MhoKXWIVRbYqnsZgQRs/edit#gid=0\"\",\"\"RWA!F:BZ\"\"),48,0))\"),\"\")","v":""},{"$f":"IFERROR(__xludf.DUMMYFUNCTION(\"iferror(VLOOKUP(B550,IMPORTRANGE(\"\"https://docs.google.com/spreadsheets/d/1c3Ia3eDo4sfDZb6ajW2WVML4MhoKXWIVRbYqnsZgQRs/edit#gid=0\"\",\"\"RWA!F:BZ\"\"),49,0))\"),\"\")","v":""}]
[null,null,null,{"$f":"IFERROR(__xludf.DUMMYFUNCTION(\"iferror(VLOOKUP(B551,IMPORTRANGE(\"\"https://docs.google.com/spreadsheets/d/1c3Ia3eDo4sfDZb6ajW2WVML4MhoKXWIVRbYqnsZgQRs/edit#gid=0\"\",\"\"RWA!F:BZ\"\"),44,0))\"),\"\")","v":""},{"$f":"IFERROR(__xludf.DUMMYFUNCTION(\"iferror(VLOOKUP(B551,IMPORTRANGE(\"\"https://docs.google.com/spreadsheets/d/1c3Ia3eDo4sfDZb6ajW2WVML4MhoKXWIVRbYqnsZgQRs/edit#gid=0\"\",\"\"RWA!F:BZ\"\"),48,0))\"),\"\")","v":""},{"$f":"IFERROR(__xludf.DUMMYFUNCTION(\"iferror(VLOOKUP(B551,IMPORTRANGE(\"\"https://docs.google.com/spreadsheets/d/1c3Ia3eDo4sfDZb6ajW2WVML4MhoKXWIVRbYqnsZgQRs/edit#gid=0\"\",\"\"RWA!F:BZ\"\"),49,0))\"),\"\")","v":""}]
[null,null,null,{"$f":"IFERROR(__xludf.DUMMYFUNCTION(\"iferror(VLOOKUP(B552,IMPORTRANGE(\"\"https://docs.google.com/spreadsheets/d/1c3Ia3eDo4sfDZb6ajW2WVML4MhoKXWIVRbYqnsZgQRs/edit#gid=0\"\",\"\"RWA!F:BZ\"\"),44,0))\"),\"\")","v":""},{"$f":"IFERROR(__xludf.DUMMYFUNCTION(\"iferror(VLOOKUP(B552,IMPORTRANGE(\"\"https://docs.google.com/spreadsheets/d/1c3Ia3eDo4sfDZb6ajW2WVML4MhoKXWIVRbYqnsZgQRs/edit#gid=0\"\",\"\"RWA!F:BZ\"\"),48,0))\"),\"\")","v":""},{"$f":"IFERROR(__xludf.DUMMYFUNCTION(\"iferror(VLOOKUP(B552,IMPORTRANGE(\"\"https://docs.google.com/spreadsheets/d/1c3Ia3eDo4sfDZb6ajW2WVML4MhoKXWIVRbYqnsZgQRs/edit#gid=0\"\",\"\"RWA!F:BZ\"\"),49,0))\"),\"\")","v":""}]
[null,null,null,{"$f":"IFERROR(__xludf.DUMMYFUNCTION(\"iferror(VLOOKUP(B553,IMPORTRANGE(\"\"https://docs.google.com/spreadsheets/d/1c3Ia3eDo4sfDZb6ajW2WVML4MhoKXWIVRbYqnsZgQRs/edit#gid=0\"\",\"\"RWA!F:BZ\"\"),44,0))\"),\"\")","v":""},{"$f":"IFERROR(__xludf.DUMMYFUNCTION(\"iferror(VLOOKUP(B553,IMPORTRANGE(\"\"https://docs.google.com/spreadsheets/d/1c3Ia3eDo4sfDZb6ajW2WVML4MhoKXWIVRbYqnsZgQRs/edit#gid=0\"\",\"\"RWA!F:BZ\"\"),48,0))\"),\"\")","v":""},{"$f":"IFERROR(__xludf.DUMMYFUNCTION(\"iferror(VLOOKUP(B553,IMPORTRANGE(\"\"https://docs.google.com/spreadsheets/d/1c3Ia3eDo4sfDZb6ajW2WVML4MhoKXWIVRbYqnsZgQRs/edit#gid=0\"\",\"\"RWA!F:BZ\"\"),49,0))\"),\"\")","v":""}]
[null,null,null,{"$f":"IFERROR(__xludf.DUMMYFUNCTION(\"iferror(VLOOKUP(B554,IMPORTRANGE(\"\"https://docs.google.com/spreadsheets/d/1c3Ia3eDo4sfDZb6ajW2WVML4MhoKXWIVRbYqnsZgQRs/edit#gid=0\"\",\"\"RWA!F:BZ\"\"),44,0))\"),\"\")","v":""},{"$f":"IFERROR(__xludf.DUMMYFUNCTION(\"iferror(VLOOKUP(B554,IMPORTRANGE(\"\"https://docs.google.com/spreadsheets/d/1c3Ia3eDo4sfDZb6ajW2WVML4MhoKXWIVRbYqnsZgQRs/edit#gid=0\"\",\"\"RWA!F:BZ\"\"),48,0))\"),\"\")","v":""},{"$f":"IFERROR(__xludf.DUMMYFUNCTION(\"iferror(VLOOKUP(B554,IMPORTRANGE(\"\"https://docs.google.com/spreadsheets/d/1c3Ia3eDo4sfDZb6ajW2WVML4MhoKXWIVRbYqnsZgQRs/edit#gid=0\"\",\"\"RWA!F:BZ\"\"),49,0))\"),\"\")","v":""}]
[null,null,null,{"$f":"IFERROR(__xludf.DUMMYFUNCTION(\"iferror(VLOOKUP(B555,IMPORTRANGE(\"\"https://docs.google.com/spreadsheets/d/1c3Ia3eDo4sfDZb6ajW2WVML4MhoKXWIVRbYqnsZgQRs/edit#gid=0\"\",\"\"RWA!F:BZ\"\"),44,0))\"),\"\")","v":""},{"$f":"IFERROR(__xludf.DUMMYFUNCTION(\"iferror(VLOOKUP(B555,IMPORTRANGE(\"\"https://docs.google.com/spreadsheets/d/1c3Ia3eDo4sfDZb6ajW2WVML4MhoKXWIVRbYqnsZgQRs/edit#gid=0\"\",\"\"RWA!F:BZ\"\"),48,0))\"),\"\")","v":""},{"$f":"IFERROR(__xludf.DUMMYFUNCTION(\"iferror(VLOOKUP(B555,IMPORTRANGE(\"\"https://docs.google.com/spreadsheets/d/1c3Ia3eDo4sfDZb6ajW2WVML4MhoKXWIVRbYqnsZgQRs/edit#gid=0\"\",\"\"RWA!F:BZ\"\"),49,0))\"),\"\")","v":""}]
[null,null,null,{"$f":"IFERROR(__xludf.DUMMYFUNCTION(\"iferror(VLOOKUP(B556,IMPORTRANGE(\"\"https://docs.google.com/spreadsheets/d/1c3Ia3eDo4sfDZb6ajW2WVML4MhoKXWIVRbYqnsZgQRs/edit#gid=0\"\",\"\"RWA!F:BZ\"\"),44,0))\"),\"\")","v":""},{"$f":"IFERROR(__xludf.DUMMYFUNCTION(\"iferror(VLOOKUP(B556,IMPORTRANGE(\"\"https://docs.google.com/spreadsheets/d/1c3Ia3eDo4sfDZb6ajW2WVML4MhoKXWIVRbYqnsZgQRs/edit#gid=0\"\",\"\"RWA!F:BZ\"\"),48,0))\"),\"\")","v":""},{"$f":"IFERROR(__xludf.DUMMYFUNCTION(\"iferror(VLOOKUP(B556,IMPORTRANGE(\"\"https://docs.google.com/spreadsheets/d/1c3Ia3eDo4sfDZb6ajW2WVML4MhoKXWIVRbYqnsZgQRs/edit#gid=0\"\",\"\"RWA!F:BZ\"\"),49,0))\"),\"\")","v":""}]
[null,null,null,{"$f":"IFERROR(__xludf.DUMMYFUNCTION(\"iferror(VLOOKUP(B557,IMPORTRANGE(\"\"https://docs.google.com/spreadsheets/d/1c3Ia3eDo4sfDZb6ajW2WVML4MhoKXWIVRbYqnsZgQRs/edit#gid=0\"\",\"\"RWA!F:BZ\"\"),44,0))\"),\"\")","v":""},{"$f":"IFERROR(__xludf.DUMMYFUNCTION(\"iferror(VLOOKUP(B557,IMPORTRANGE(\"\"https://docs.google.com/spreadsheets/d/1c3Ia3eDo4sfDZb6ajW2WVML4MhoKXWIVRbYqnsZgQRs/edit#gid=0\"\",\"\"RWA!F:BZ\"\"),48,0))\"),\"\")","v":""},{"$f":"IFERROR(__xludf.DUMMYFUNCTION(\"iferror(VLOOKUP(B557,IMPORTRANGE(\"\"https://docs.google.com/spreadsheets/d/1c3Ia3eDo4sfDZb6ajW2WVML4MhoKXWIVRbYqnsZgQRs/edit#gid=0\"\",\"\"RWA!F:BZ\"\"),49,0))\"),\"\")","v":""}]
[null,null,null,{"$f":"IFERROR(__xludf.DUMMYFUNCTION(\"iferror(VLOOKUP(B558,IMPORTRANGE(\"\"https://docs.google.com/spreadsheets/d/1c3Ia3eDo4sfDZb6ajW2WVML4MhoKXWIVRbYqnsZgQRs/edit#gid=0\"\",\"\"RWA!F:BZ\"\"),44,0))\"),\"\")","v":""},{"$f":"IFERROR(__xludf.DUMMYFUNCTION(\"iferror(VLOOKUP(B558,IMPORTRANGE(\"\"https://docs.google.com/spreadsheets/d/1c3Ia3eDo4sfDZb6ajW2WVML4MhoKXWIVRbYqnsZgQRs/edit#gid=0\"\",\"\"RWA!F:BZ\"\"),48,0))\"),\"\")","v":""},{"$f":"IFERROR(__xludf.DUMMYFUNCTION(\"iferror(VLOOKUP(B558,IMPORTRANGE(\"\"https://docs.google.com/spreadsheets/d/1c3Ia3eDo4sfDZb6ajW2WVML4MhoKXWIVRbYqnsZgQRs/edit#gid=0\"\",\"\"RWA!F:BZ\"\"),49,0))\"),\"\")","v":""}]
[null,null,null,{"$f":"IFERROR(__xludf.DUMMYFUNCTION(\"iferror(VLOOKUP(B559,IMPORTRANGE(\"\"https://docs.google.com/spreadsheets/d/1c3Ia3eDo4sfDZb6ajW2WVML4MhoKXWIVRbYqnsZgQRs/edit#gid=0\"\",\"\"RWA!F:BZ\"\"),44,0))\"),\"\")","v":""},{"$f":"IFERROR(__xludf.DUMMYFUNCTION(\"iferror(VLOOKUP(B559,IMPORTRANGE(\"\"https://docs.google.com/spreadsheets/d/1c3Ia3eDo4sfDZb6ajW2WVML4MhoKXWIVRbYqnsZgQRs/edit#gid=0\"\",\"\"RWA!F:BZ\"\"),48,0))\"),\"\")","v":""},{"$f":"IFERROR(__xludf.DUMMYFUNCTION(\"iferror(VLOOKUP(B559,IMPORTRANGE(\"\"https://docs.google.com/spreadsheets/d/1c3Ia3eDo4sfDZb6ajW2WVML4MhoKXWIVRbYqnsZgQRs/edit#gid=0\"\",\"\"RWA!F:BZ\"\"),49,0))\"),\"\")","v":""}]
[null,null,null,{"$f":"IFERROR(__xludf.DUMMYFUNCTION(\"iferror(VLOOKUP(B560,IMPORTRANGE(\"\"https://docs.google.com/spreadsheets/d/1c3Ia3eDo4sfDZb6ajW2WVML4MhoKXWIVRbYqnsZgQRs/edit#gid=0\"\",\"\"RWA!F:BZ\"\"),44,0))\"),\"\")","v":""},{"$f":"IFERROR(__xludf.DUMMYFUNCTION(\"iferror(VLOOKUP(B560,IMPORTRANGE(\"\"https://docs.google.com/spreadsheets/d/1c3Ia3eDo4sfDZb6ajW2WVML4MhoKXWIVRbYqnsZgQRs/edit#gid=0\"\",\"\"RWA!F:BZ\"\"),48,0))\"),\"\")","v":""},{"$f":"IFERROR(__xludf.DUMMYFUNCTION(\"iferror(VLOOKUP(B560,IMPORTRANGE(\"\"https://docs.google.com/spreadsheets/d/1c3Ia3eDo4sfDZb6ajW2WVML4MhoKXWIVRbYqnsZgQRs/edit#gid=0\"\",\"\"RWA!F:BZ\"\"),49,0))\"),\"\")","v":""}]
[null,null,null,{"$f":"IFERROR(__xludf.DUMMYFUNCTION(\"iferror(VLOOKUP(B561,IMPORTRANGE(\"\"https://docs.google.com/spreadsheets/d/1c3Ia3eDo4sfDZb6ajW2WVML4MhoKXWIVRbYqnsZgQRs/edit#gid=0\"\",\"\"RWA!F:BZ\"\"),44,0))\"),\"\")","v":""},{"$f":"IFERROR(__xludf.DUMMYFUNCTION(\"iferror(VLOOKUP(B561,IMPORTRANGE(\"\"https://docs.google.com/spreadsheets/d/1c3Ia3eDo4sfDZb6ajW2WVML4MhoKXWIVRbYqnsZgQRs/edit#gid=0\"\",\"\"RWA!F:BZ\"\"),48,0))\"),\"\")","v":""},{"$f":"IFERROR(__xludf.DUMMYFUNCTION(\"iferror(VLOOKUP(B561,IMPORTRANGE(\"\"https://docs.google.com/spreadsheets/d/1c3Ia3eDo4sfDZb6ajW2WVML4MhoKXWIVRbYqnsZgQRs/edit#gid=0\"\",\"\"RWA!F:BZ\"\"),49,0))\"),\"\")","v":""}]
[null,null,null,{"$f":"IFERROR(__xludf.DUMMYFUNCTION(\"iferror(VLOOKUP(B562,IMPORTRANGE(\"\"https://docs.google.com/spreadsheets/d/1c3Ia3eDo4sfDZb6ajW2WVML4MhoKXWIVRbYqnsZgQRs/edit#gid=0\"\",\"\"RWA!F:BZ\"\"),44,0))\"),\"\")","v":""},{"$f":"IFERROR(__xludf.DUMMYFUNCTION(\"iferror(VLOOKUP(B562,IMPORTRANGE(\"\"https://docs.google.com/spreadsheets/d/1c3Ia3eDo4sfDZb6ajW2WVML4MhoKXWIVRbYqnsZgQRs/edit#gid=0\"\",\"\"RWA!F:BZ\"\"),48,0))\"),\"\")","v":""},{"$f":"IFERROR(__xludf.DUMMYFUNCTION(\"iferror(VLOOKUP(B562,IMPORTRANGE(\"\"https://docs.google.com/spreadsheets/d/1c3Ia3eDo4sfDZb6ajW2WVML4MhoKXWIVRbYqnsZgQRs/edit#gid=0\"\",\"\"RWA!F:BZ\"\"),49,0))\"),\"\")","v":""}]
[null,null,null,{"$f":"IFERROR(__xludf.DUMMYFUNCTION(\"iferror(VLOOKUP(B563,IMPORTRANGE(\"\"https://docs.google.com/spreadsheets/d/1c3Ia3eDo4sfDZb6ajW2WVML4MhoKXWIVRbYqnsZgQRs/edit#gid=0\"\",\"\"RWA!F:BZ\"\"),44,0))\"),\"\")","v":""},{"$f":"IFERROR(__xludf.DUMMYFUNCTION(\"iferror(VLOOKUP(B563,IMPORTRANGE(\"\"https://docs.google.com/spreadsheets/d/1c3Ia3eDo4sfDZb6ajW2WVML4MhoKXWIVRbYqnsZgQRs/edit#gid=0\"\",\"\"RWA!F:BZ\"\"),48,0))\"),\"\")","v":""},{"$f":"IFERROR(__xludf.DUMMYFUNCTION(\"iferror(VLOOKUP(B563,IMPORTRANGE(\"\"https://docs.google.com/spreadsheets/d/1c3Ia3eDo4sfDZb6ajW2WVML4MhoKXWIVRbYqnsZgQRs/edit#gid=0\"\",\"\"RWA!F:BZ\"\"),49,0))\"),\"\")","v":""}]
[null,null,null,{"$f":"IFERROR(__xludf.DUMMYFUNCTION(\"iferror(VLOOKUP(B564,IMPORTRANGE(\"\"https://docs.google.com/spreadsheets/d/1c3Ia3eDo4sfDZb6ajW2WVML4MhoKXWIVRbYqnsZgQRs/edit#gid=0\"\",\"\"RWA!F:BZ\"\"),44,0))\"),\"\")","v":""},{"$f":"IFERROR(__xludf.DUMMYFUNCTION(\"iferror(VLOOKUP(B564,IMPORTRANGE(\"\"https://docs.google.com/spreadsheets/d/1c3Ia3eDo4sfDZb6ajW2WVML4MhoKXWIVRbYqnsZgQRs/edit#gid=0\"\",\"\"RWA!F:BZ\"\"),48,0))\"),\"\")","v":""},{"$f":"IFERROR(__xludf.DUMMYFUNCTION(\"iferror(VLOOKUP(B564,IMPORTRANGE(\"\"https://docs.google.com/spreadsheets/d/1c3Ia3eDo4sfDZb6ajW2WVML4MhoKXWIVRbYqnsZgQRs/edit#gid=0\"\",\"\"RWA!F:BZ\"\"),49,0))\"),\"\")","v":""}]
[null,null,null,{"$f":"IFERROR(__xludf.DUMMYFUNCTION(\"iferror(VLOOKUP(B565,IMPORTRANGE(\"\"https://docs.google.com/spreadsheets/d/1c3Ia3eDo4sfDZb6ajW2WVML4MhoKXWIVRbYqnsZgQRs/edit#gid=0\"\",\"\"RWA!F:BZ\"\"),44,0))\"),\"\")","v":""},{"$f":"IFERROR(__xludf.DUMMYFUNCTION(\"iferror(VLOOKUP(B565,IMPORTRANGE(\"\"https://docs.google.com/spreadsheets/d/1c3Ia3eDo4sfDZb6ajW2WVML4MhoKXWIVRbYqnsZgQRs/edit#gid=0\"\",\"\"RWA!F:BZ\"\"),48,0))\"),\"\")","v":""},{"$f":"IFERROR(__xludf.DUMMYFUNCTION(\"iferror(VLOOKUP(B565,IMPORTRANGE(\"\"https://docs.google.com/spreadsheets/d/1c3Ia3eDo4sfDZb6ajW2WVML4MhoKXWIVRbYqnsZgQRs/edit#gid=0\"\",\"\"RWA!F:BZ\"\"),49,0))\"),\"\")","v":""}]
[null,null,null,{"$f":"IFERROR(__xludf.DUMMYFUNCTION(\"iferror(VLOOKUP(B566,IMPORTRANGE(\"\"https://docs.google.com/spreadsheets/d/1c3Ia3eDo4sfDZb6ajW2WVML4MhoKXWIVRbYqnsZgQRs/edit#gid=0\"\",\"\"RWA!F:BZ\"\"),44,0))\"),\"\")","v":""},{"$f":"IFERROR(__xludf.DUMMYFUNCTION(\"iferror(VLOOKUP(B566,IMPORTRANGE(\"\"https://docs.google.com/spreadsheets/d/1c3Ia3eDo4sfDZb6ajW2WVML4MhoKXWIVRbYqnsZgQRs/edit#gid=0\"\",\"\"RWA!F:BZ\"\"),48,0))\"),\"\")","v":""},{"$f":"IFERROR(__xludf.DUMMYFUNCTION(\"iferror(VLOOKUP(B566,IMPORTRANGE(\"\"https://docs.google.com/spreadsheets/d/1c3Ia3eDo4sfDZb6ajW2WVML4MhoKXWIVRbYqnsZgQRs/edit#gid=0\"\",\"\"RWA!F:BZ\"\"),49,0))\"),\"\")","v":""}]
[null,null,null,{"$f":"IFERROR(__xludf.DUMMYFUNCTION(\"iferror(VLOOKUP(B567,IMPORTRANGE(\"\"https://docs.google.com/spreadsheets/d/1c3Ia3eDo4sfDZb6ajW2WVML4MhoKXWIVRbYqnsZgQRs/edit#gid=0\"\",\"\"RWA!F:BZ\"\"),44,0))\"),\"\")","v":""},{"$f":"IFERROR(__xludf.DUMMYFUNCTION(\"iferror(VLOOKUP(B567,IMPORTRANGE(\"\"https://docs.google.com/spreadsheets/d/1c3Ia3eDo4sfDZb6ajW2WVML4MhoKXWIVRbYqnsZgQRs/edit#gid=0\"\",\"\"RWA!F:BZ\"\"),48,0))\"),\"\")","v":""},{"$f":"IFERROR(__xludf.DUMMYFUNCTION(\"iferror(VLOOKUP(B567,IMPORTRANGE(\"\"https://docs.google.com/spreadsheets/d/1c3Ia3eDo4sfDZb6ajW2WVML4MhoKXWIVRbYqnsZgQRs/edit#gid=0\"\",\"\"RWA!F:BZ\"\"),49,0))\"),\"\")","v":""}]
[null,null,null,{"$f":"IFERROR(__xludf.DUMMYFUNCTION(\"iferror(VLOOKUP(B568,IMPORTRANGE(\"\"https://docs.google.com/spreadsheets/d/1c3Ia3eDo4sfDZb6ajW2WVML4MhoKXWIVRbYqnsZgQRs/edit#gid=0\"\",\"\"RWA!F:BZ\"\"),44,0))\"),\"\")","v":""},{"$f":"IFERROR(__xludf.DUMMYFUNCTION(\"iferror(VLOOKUP(B568,IMPORTRANGE(\"\"https://docs.google.com/spreadsheets/d/1c3Ia3eDo4sfDZb6ajW2WVML4MhoKXWIVRbYqnsZgQRs/edit#gid=0\"\",\"\"RWA!F:BZ\"\"),48,0))\"),\"\")","v":""},{"$f":"IFERROR(__xludf.DUMMYFUNCTION(\"iferror(VLOOKUP(B568,IMPORTRANGE(\"\"https://docs.google.com/spreadsheets/d/1c3Ia3eDo4sfDZb6ajW2WVML4MhoKXWIVRbYqnsZgQRs/edit#gid=0\"\",\"\"RWA!F:BZ\"\"),49,0))\"),\"\")","v":""}]
[null,null,null,{"$f":"IFERROR(__xludf.DUMMYFUNCTION(\"iferror(VLOOKUP(B569,IMPORTRANGE(\"\"https://docs.google.com/spreadsheets/d/1c3Ia3eDo4sfDZb6ajW2WVML4MhoKXWIVRbYqnsZgQRs/edit#gid=0\"\",\"\"RWA!F:BZ\"\"),44,0))\"),\"\")","v":""},{"$f":"IFERROR(__xludf.DUMMYFUNCTION(\"iferror(VLOOKUP(B569,IMPORTRANGE(\"\"https://docs.google.com/spreadsheets/d/1c3Ia3eDo4sfDZb6ajW2WVML4MhoKXWIVRbYqnsZgQRs/edit#gid=0\"\",\"\"RWA!F:BZ\"\"),48,0))\"),\"\")","v":""},{"$f":"IFERROR(__xludf.DUMMYFUNCTION(\"iferror(VLOOKUP(B569,IMPORTRANGE(\"\"https://docs.google.com/spreadsheets/d/1c3Ia3eDo4sfDZb6ajW2WVML4MhoKXWIVRbYqnsZgQRs/edit#gid=0\"\",\"\"RWA!F:BZ\"\"),49,0))\"),\"\")","v":""}]
[null,null,null,{"$f":"IFERROR(__xludf.DUMMYFUNCTION(\"iferror(VLOOKUP(B570,IMPORTRANGE(\"\"https://docs.google.com/spreadsheets/d/1c3Ia3eDo4sfDZb6ajW2WVML4MhoKXWIVRbYqnsZgQRs/edit#gid=0\"\",\"\"RWA!F:BZ\"\"),44,0))\"),\"\")","v":""},{"$f":"IFERROR(__xludf.DUMMYFUNCTION(\"iferror(VLOOKUP(B570,IMPORTRANGE(\"\"https://docs.google.com/spreadsheets/d/1c3Ia3eDo4sfDZb6ajW2WVML4MhoKXWIVRbYqnsZgQRs/edit#gid=0\"\",\"\"RWA!F:BZ\"\"),48,0))\"),\"\")","v":""},{"$f":"IFERROR(__xludf.DUMMYFUNCTION(\"iferror(VLOOKUP(B570,IMPORTRANGE(\"\"https://docs.google.com/spreadsheets/d/1c3Ia3eDo4sfDZb6ajW2WVML4MhoKXWIVRbYqnsZgQRs/edit#gid=0\"\",\"\"RWA!F:BZ\"\"),49,0))\"),\"\")","v":""}]
[null,null,null,{"$f":"IFERROR(__xludf.DUMMYFUNCTION(\"iferror(VLOOKUP(B571,IMPORTRANGE(\"\"https://docs.google.com/spreadsheets/d/1c3Ia3eDo4sfDZb6ajW2WVML4MhoKXWIVRbYqnsZgQRs/edit#gid=0\"\",\"\"RWA!F:BZ\"\"),44,0))\"),\"\")","v":""},{"$f":"IFERROR(__xludf.DUMMYFUNCTION(\"iferror(VLOOKUP(B571,IMPORTRANGE(\"\"https://docs.google.com/spreadsheets/d/1c3Ia3eDo4sfDZb6ajW2WVML4MhoKXWIVRbYqnsZgQRs/edit#gid=0\"\",\"\"RWA!F:BZ\"\"),48,0))\"),\"\")","v":""},{"$f":"IFERROR(__xludf.DUMMYFUNCTION(\"iferror(VLOOKUP(B571,IMPORTRANGE(\"\"https://docs.google.com/spreadsheets/d/1c3Ia3eDo4sfDZb6ajW2WVML4MhoKXWIVRbYqnsZgQRs/edit#gid=0\"\",\"\"RWA!F:BZ\"\"),49,0))\"),\"\")","v":""}]
[null,null,null,{"$f":"IFERROR(__xludf.DUMMYFUNCTION(\"iferror(VLOOKUP(B572,IMPORTRANGE(\"\"https://docs.google.com/spreadsheets/d/1c3Ia3eDo4sfDZb6ajW2WVML4MhoKXWIVRbYqnsZgQRs/edit#gid=0\"\",\"\"RWA!F:BZ\"\"),44,0))\"),\"\")","v":""},{"$f":"IFERROR(__xludf.DUMMYFUNCTION(\"iferror(VLOOKUP(B572,IMPORTRANGE(\"\"https://docs.google.com/spreadsheets/d/1c3Ia3eDo4sfDZb6ajW2WVML4MhoKXWIVRbYqnsZgQRs/edit#gid=0\"\",\"\"RWA!F:BZ\"\"),48,0))\"),\"\")","v":""},{"$f":"IFERROR(__xludf.DUMMYFUNCTION(\"iferror(VLOOKUP(B572,IMPORTRANGE(\"\"https://docs.google.com/spreadsheets/d/1c3Ia3eDo4sfDZb6ajW2WVML4MhoKXWIVRbYqnsZgQRs/edit#gid=0\"\",\"\"RWA!F:BZ\"\"),49,0))\"),\"\")","v":""}]
[null,null,null,{"$f":"IFERROR(__xludf.DUMMYFUNCTION(\"iferror(VLOOKUP(B573,IMPORTRANGE(\"\"https://docs.google.com/spreadsheets/d/1c3Ia3eDo4sfDZb6ajW2WVML4MhoKXWIVRbYqnsZgQRs/edit#gid=0\"\",\"\"RWA!F:BZ\"\"),44,0))\"),\"\")","v":""},{"$f":"IFERROR(__xludf.DUMMYFUNCTION(\"iferror(VLOOKUP(B573,IMPORTRANGE(\"\"https://docs.google.com/spreadsheets/d/1c3Ia3eDo4sfDZb6ajW2WVML4MhoKXWIVRbYqnsZgQRs/edit#gid=0\"\",\"\"RWA!F:BZ\"\"),48,0))\"),\"\")","v":""},{"$f":"IFERROR(__xludf.DUMMYFUNCTION(\"iferror(VLOOKUP(B573,IMPORTRANGE(\"\"https://docs.google.com/spreadsheets/d/1c3Ia3eDo4sfDZb6ajW2WVML4MhoKXWIVRbYqnsZgQRs/edit#gid=0\"\",\"\"RWA!F:BZ\"\"),49,0))\"),\"\")","v":""}]
[null,null,null,{"$f":"IFERROR(__xludf.DUMMYFUNCTION(\"iferror(VLOOKUP(B574,IMPORTRANGE(\"\"https://docs.google.com/spreadsheets/d/1c3Ia3eDo4sfDZb6ajW2WVML4MhoKXWIVRbYqnsZgQRs/edit#gid=0\"\",\"\"RWA!F:BZ\"\"),44,0))\"),\"\")","v":""},{"$f":"IFERROR(__xludf.DUMMYFUNCTION(\"iferror(VLOOKUP(B574,IMPORTRANGE(\"\"https://docs.google.com/spreadsheets/d/1c3Ia3eDo4sfDZb6ajW2WVML4MhoKXWIVRbYqnsZgQRs/edit#gid=0\"\",\"\"RWA!F:BZ\"\"),48,0))\"),\"\")","v":""},{"$f":"IFERROR(__xludf.DUMMYFUNCTION(\"iferror(VLOOKUP(B574,IMPORTRANGE(\"\"https://docs.google.com/spreadsheets/d/1c3Ia3eDo4sfDZb6ajW2WVML4MhoKXWIVRbYqnsZgQRs/edit#gid=0\"\",\"\"RWA!F:BZ\"\"),49,0))\"),\"\")","v":""}]
[null,null,null,{"$f":"IFERROR(__xludf.DUMMYFUNCTION(\"iferror(VLOOKUP(B575,IMPORTRANGE(\"\"https://docs.google.com/spreadsheets/d/1c3Ia3eDo4sfDZb6ajW2WVML4MhoKXWIVRbYqnsZgQRs/edit#gid=0\"\",\"\"RWA!F:BZ\"\"),44,0))\"),\"\")","v":""},{"$f":"IFERROR(__xludf.DUMMYFUNCTION(\"iferror(VLOOKUP(B575,IMPORTRANGE(\"\"https://docs.google.com/spreadsheets/d/1c3Ia3eDo4sfDZb6ajW2WVML4MhoKXWIVRbYqnsZgQRs/edit#gid=0\"\",\"\"RWA!F:BZ\"\"),48,0))\"),\"\")","v":""},{"$f":"IFERROR(__xludf.DUMMYFUNCTION(\"iferror(VLOOKUP(B575,IMPORTRANGE(\"\"https://docs.google.com/spreadsheets/d/1c3Ia3eDo4sfDZb6ajW2WVML4MhoKXWIVRbYqnsZgQRs/edit#gid=0\"\",\"\"RWA!F:BZ\"\"),49,0))\"),\"\")","v":""}]
[null,null,null,{"$f":"IFERROR(__xludf.DUMMYFUNCTION(\"iferror(VLOOKUP(B576,IMPORTRANGE(\"\"https://docs.google.com/spreadsheets/d/1c3Ia3eDo4sfDZb6ajW2WVML4MhoKXWIVRbYqnsZgQRs/edit#gid=0\"\",\"\"RWA!F:BZ\"\"),44,0))\"),\"\")","v":""},{"$f":"IFERROR(__xludf.DUMMYFUNCTION(\"iferror(VLOOKUP(B576,IMPORTRANGE(\"\"https://docs.google.com/spreadsheets/d/1c3Ia3eDo4sfDZb6ajW2WVML4MhoKXWIVRbYqnsZgQRs/edit#gid=0\"\",\"\"RWA!F:BZ\"\"),48,0))\"),\"\")","v":""},{"$f":"IFERROR(__xludf.DUMMYFUNCTION(\"iferror(VLOOKUP(B576,IMPORTRANGE(\"\"https://docs.google.com/spreadsheets/d/1c3Ia3eDo4sfDZb6ajW2WVML4MhoKXWIVRbYqnsZgQRs/edit#gid=0\"\",\"\"RWA!F:BZ\"\"),49,0))\"),\"\")","v":""}]
[null,null,null,{"$f":"IFERROR(__xludf.DUMMYFUNCTION(\"iferror(VLOOKUP(B577,IMPORTRANGE(\"\"https://docs.google.com/spreadsheets/d/1c3Ia3eDo4sfDZb6ajW2WVML4MhoKXWIVRbYqnsZgQRs/edit#gid=0\"\",\"\"RWA!F:BZ\"\"),44,0))\"),\"\")","v":""},{"$f":"IFERROR(__xludf.DUMMYFUNCTION(\"iferror(VLOOKUP(B577,IMPORTRANGE(\"\"https://docs.google.com/spreadsheets/d/1c3Ia3eDo4sfDZb6ajW2WVML4MhoKXWIVRbYqnsZgQRs/edit#gid=0\"\",\"\"RWA!F:BZ\"\"),48,0))\"),\"\")","v":""},{"$f":"IFERROR(__xludf.DUMMYFUNCTION(\"iferror(VLOOKUP(B577,IMPORTRANGE(\"\"https://docs.google.com/spreadsheets/d/1c3Ia3eDo4sfDZb6ajW2WVML4MhoKXWIVRbYqnsZgQRs/edit#gid=0\"\",\"\"RWA!F:BZ\"\"),49,0))\"),\"\")","v":""}]
[null,null,null,{"$f":"IFERROR(__xludf.DUMMYFUNCTION(\"iferror(VLOOKUP(B578,IMPORTRANGE(\"\"https://docs.google.com/spreadsheets/d/1c3Ia3eDo4sfDZb6ajW2WVML4MhoKXWIVRbYqnsZgQRs/edit#gid=0\"\",\"\"RWA!F:BZ\"\"),44,0))\"),\"\")","v":""},{"$f":"IFERROR(__xludf.DUMMYFUNCTION(\"iferror(VLOOKUP(B578,IMPORTRANGE(\"\"https://docs.google.com/spreadsheets/d/1c3Ia3eDo4sfDZb6ajW2WVML4MhoKXWIVRbYqnsZgQRs/edit#gid=0\"\",\"\"RWA!F:BZ\"\"),48,0))\"),\"\")","v":""},{"$f":"IFERROR(__xludf.DUMMYFUNCTION(\"iferror(VLOOKUP(B578,IMPORTRANGE(\"\"https://docs.google.com/spreadsheets/d/1c3Ia3eDo4sfDZb6ajW2WVML4MhoKXWIVRbYqnsZgQRs/edit#gid=0\"\",\"\"RWA!F:BZ\"\"),49,0))\"),\"\")","v":""}]
[null,null,null,{"$f":"IFERROR(__xludf.DUMMYFUNCTION(\"iferror(VLOOKUP(B579,IMPORTRANGE(\"\"https://docs.google.com/spreadsheets/d/1c3Ia3eDo4sfDZb6ajW2WVML4MhoKXWIVRbYqnsZgQRs/edit#gid=0\"\",\"\"RWA!F:BZ\"\"),44,0))\"),\"\")","v":""},{"$f":"IFERROR(__xludf.DUMMYFUNCTION(\"iferror(VLOOKUP(B579,IMPORTRANGE(\"\"https://docs.google.com/spreadsheets/d/1c3Ia3eDo4sfDZb6ajW2WVML4MhoKXWIVRbYqnsZgQRs/edit#gid=0\"\",\"\"RWA!F:BZ\"\"),48,0))\"),\"\")","v":""},{"$f":"IFERROR(__xludf.DUMMYFUNCTION(\"iferror(VLOOKUP(B579,IMPORTRANGE(\"\"https://docs.google.com/spreadsheets/d/1c3Ia3eDo4sfDZb6ajW2WVML4MhoKXWIVRbYqnsZgQRs/edit#gid=0\"\",\"\"RWA!F:BZ\"\"),49,0))\"),\"\")","v":""}]
[null,null,null,{"$f":"IFERROR(__xludf.DUMMYFUNCTION(\"iferror(VLOOKUP(B580,IMPORTRANGE(\"\"https://docs.google.com/spreadsheets/d/1c3Ia3eDo4sfDZb6ajW2WVML4MhoKXWIVRbYqnsZgQRs/edit#gid=0\"\",\"\"RWA!F:BZ\"\"),44,0))\"),\"\")","v":""},{"$f":"IFERROR(__xludf.DUMMYFUNCTION(\"iferror(VLOOKUP(B580,IMPORTRANGE(\"\"https://docs.google.com/spreadsheets/d/1c3Ia3eDo4sfDZb6ajW2WVML4MhoKXWIVRbYqnsZgQRs/edit#gid=0\"\",\"\"RWA!F:BZ\"\"),48,0))\"),\"\")","v":""},{"$f":"IFERROR(__xludf.DUMMYFUNCTION(\"iferror(VLOOKUP(B580,IMPORTRANGE(\"\"https://docs.google.com/spreadsheets/d/1c3Ia3eDo4sfDZb6ajW2WVML4MhoKXWIVRbYqnsZgQRs/edit#gid=0\"\",\"\"RWA!F:BZ\"\"),49,0))\"),\"\")","v":""}]
[null,null,null,{"$f":"IFERROR(__xludf.DUMMYFUNCTION(\"iferror(VLOOKUP(B581,IMPORTRANGE(\"\"https://docs.google.com/spreadsheets/d/1c3Ia3eDo4sfDZb6ajW2WVML4MhoKXWIVRbYqnsZgQRs/edit#gid=0\"\",\"\"RWA!F:BZ\"\"),44,0))\"),\"\")","v":""},{"$f":"IFERROR(__xludf.DUMMYFUNCTION(\"iferror(VLOOKUP(B581,IMPORTRANGE(\"\"https://docs.google.com/spreadsheets/d/1c3Ia3eDo4sfDZb6ajW2WVML4MhoKXWIVRbYqnsZgQRs/edit#gid=0\"\",\"\"RWA!F:BZ\"\"),48,0))\"),\"\")","v":""},{"$f":"IFERROR(__xludf.DUMMYFUNCTION(\"iferror(VLOOKUP(B581,IMPORTRANGE(\"\"https://docs.google.com/spreadsheets/d/1c3Ia3eDo4sfDZb6ajW2WVML4MhoKXWIVRbYqnsZgQRs/edit#gid=0\"\",\"\"RWA!F:BZ\"\"),49,0))\"),\"\")","v":""}]
[null,null,null,{"$f":"IFERROR(__xludf.DUMMYFUNCTION(\"iferror(VLOOKUP(B582,IMPORTRANGE(\"\"https://docs.google.com/spreadsheets/d/1c3Ia3eDo4sfDZb6ajW2WVML4MhoKXWIVRbYqnsZgQRs/edit#gid=0\"\",\"\"RWA!F:BZ\"\"),44,0))\"),\"\")","v":""},{"$f":"IFERROR(__xludf.DUMMYFUNCTION(\"iferror(VLOOKUP(B582,IMPORTRANGE(\"\"https://docs.google.com/spreadsheets/d/1c3Ia3eDo4sfDZb6ajW2WVML4MhoKXWIVRbYqnsZgQRs/edit#gid=0\"\",\"\"RWA!F:BZ\"\"),48,0))\"),\"\")","v":""},{"$f":"IFERROR(__xludf.DUMMYFUNCTION(\"iferror(VLOOKUP(B582,IMPORTRANGE(\"\"https://docs.google.com/spreadsheets/d/1c3Ia3eDo4sfDZb6ajW2WVML4MhoKXWIVRbYqnsZgQRs/edit#gid=0\"\",\"\"RWA!F:BZ\"\"),49,0))\"),\"\")","v":""}]
[null,null,null,{"$f":"IFERROR(__xludf.DUMMYFUNCTION(\"iferror(VLOOKUP(B583,IMPORTRANGE(\"\"https://docs.google.com/spreadsheets/d/1c3Ia3eDo4sfDZb6ajW2WVML4MhoKXWIVRbYqnsZgQRs/edit#gid=0\"\",\"\"RWA!F:BZ\"\"),44,0))\"),\"\")","v":""},{"$f":"IFERROR(__xludf.DUMMYFUNCTION(\"iferror(VLOOKUP(B583,IMPORTRANGE(\"\"https://docs.google.com/spreadsheets/d/1c3Ia3eDo4sfDZb6ajW2WVML4MhoKXWIVRbYqnsZgQRs/edit#gid=0\"\",\"\"RWA!F:BZ\"\"),48,0))\"),\"\")","v":""},{"$f":"IFERROR(__xludf.DUMMYFUNCTION(\"iferror(VLOOKUP(B583,IMPORTRANGE(\"\"https://docs.google.com/spreadsheets/d/1c3Ia3eDo4sfDZb6ajW2WVML4MhoKXWIVRbYqnsZgQRs/edit#gid=0\"\",\"\"RWA!F:BZ\"\"),49,0))\"),\"\")","v":""}]
[null,null,null,{"$f":"IFERROR(__xludf.DUMMYFUNCTION(\"iferror(VLOOKUP(B584,IMPORTRANGE(\"\"https://docs.google.com/spreadsheets/d/1c3Ia3eDo4sfDZb6ajW2WVML4MhoKXWIVRbYqnsZgQRs/edit#gid=0\"\",\"\"RWA!F:BZ\"\"),44,0))\"),\"\")","v":""},{"$f":"IFERROR(__xludf.DUMMYFUNCTION(\"iferror(VLOOKUP(B584,IMPORTRANGE(\"\"https://docs.google.com/spreadsheets/d/1c3Ia3eDo4sfDZb6ajW2WVML4MhoKXWIVRbYqnsZgQRs/edit#gid=0\"\",\"\"RWA!F:BZ\"\"),48,0))\"),\"\")","v":""},{"$f":"IFERROR(__xludf.DUMMYFUNCTION(\"iferror(VLOOKUP(B584,IMPORTRANGE(\"\"https://docs.google.com/spreadsheets/d/1c3Ia3eDo4sfDZb6ajW2WVML4MhoKXWIVRbYqnsZgQRs/edit#gid=0\"\",\"\"RWA!F:BZ\"\"),49,0))\"),\"\")","v":""}]
[null,null,null,{"$f":"IFERROR(__xludf.DUMMYFUNCTION(\"iferror(VLOOKUP(B585,IMPORTRANGE(\"\"https://docs.google.com/spreadsheets/d/1c3Ia3eDo4sfDZb6ajW2WVML4MhoKXWIVRbYqnsZgQRs/edit#gid=0\"\",\"\"RWA!F:BZ\"\"),44,0))\"),\"\")","v":""},{"$f":"IFERROR(__xludf.DUMMYFUNCTION(\"iferror(VLOOKUP(B585,IMPORTRANGE(\"\"https://docs.google.com/spreadsheets/d/1c3Ia3eDo4sfDZb6ajW2WVML4MhoKXWIVRbYqnsZgQRs/edit#gid=0\"\",\"\"RWA!F:BZ\"\"),48,0))\"),\"\")","v":""},{"$f":"IFERROR(__xludf.DUMMYFUNCTION(\"iferror(VLOOKUP(B585,IMPORTRANGE(\"\"https://docs.google.com/spreadsheets/d/1c3Ia3eDo4sfDZb6ajW2WVML4MhoKXWIVRbYqnsZgQRs/edit#gid=0\"\",\"\"RWA!F:BZ\"\"),49,0))\"),\"\")","v":""}]
[null,null,null,{"$f":"IFERROR(__xludf.DUMMYFUNCTION(\"iferror(VLOOKUP(B586,IMPORTRANGE(\"\"https://docs.google.com/spreadsheets/d/1c3Ia3eDo4sfDZb6ajW2WVML4MhoKXWIVRbYqnsZgQRs/edit#gid=0\"\",\"\"RWA!F:BZ\"\"),44,0))\"),\"\")","v":""},{"$f":"IFERROR(__xludf.DUMMYFUNCTION(\"iferror(VLOOKUP(B586,IMPORTRANGE(\"\"https://docs.google.com/spreadsheets/d/1c3Ia3eDo4sfDZb6ajW2WVML4MhoKXWIVRbYqnsZgQRs/edit#gid=0\"\",\"\"RWA!F:BZ\"\"),48,0))\"),\"\")","v":""},{"$f":"IFERROR(__xludf.DUMMYFUNCTION(\"iferror(VLOOKUP(B586,IMPORTRANGE(\"\"https://docs.google.com/spreadsheets/d/1c3Ia3eDo4sfDZb6ajW2WVML4MhoKXWIVRbYqnsZgQRs/edit#gid=0\"\",\"\"RWA!F:BZ\"\"),49,0))\"),\"\")","v":""}]
[null,null,null,{"$f":"IFERROR(__xludf.DUMMYFUNCTION(\"iferror(VLOOKUP(B587,IMPORTRANGE(\"\"https://docs.google.com/spreadsheets/d/1c3Ia3eDo4sfDZb6ajW2WVML4MhoKXWIVRbYqnsZgQRs/edit#gid=0\"\",\"\"RWA!F:BZ\"\"),44,0))\"),\"\")","v":""},{"$f":"IFERROR(__xludf.DUMMYFUNCTION(\"iferror(VLOOKUP(B587,IMPORTRANGE(\"\"https://docs.google.com/spreadsheets/d/1c3Ia3eDo4sfDZb6ajW2WVML4MhoKXWIVRbYqnsZgQRs/edit#gid=0\"\",\"\"RWA!F:BZ\"\"),48,0))\"),\"\")","v":""},{"$f":"IFERROR(__xludf.DUMMYFUNCTION(\"iferror(VLOOKUP(B587,IMPORTRANGE(\"\"https://docs.google.com/spreadsheets/d/1c3Ia3eDo4sfDZb6ajW2WVML4MhoKXWIVRbYqnsZgQRs/edit#gid=0\"\",\"\"RWA!F:BZ\"\"),49,0))\"),\"\")","v":""}]
[null,null,null,{"$f":"IFERROR(__xludf.DUMMYFUNCTION(\"iferror(VLOOKUP(B588,IMPORTRANGE(\"\"https://docs.google.com/spreadsheets/d/1c3Ia3eDo4sfDZb6ajW2WVML4MhoKXWIVRbYqnsZgQRs/edit#gid=0\"\",\"\"RWA!F:BZ\"\"),44,0))\"),\"\")","v":""},{"$f":"IFERROR(__xludf.DUMMYFUNCTION(\"iferror(VLOOKUP(B588,IMPORTRANGE(\"\"https://docs.google.com/spreadsheets/d/1c3Ia3eDo4sfDZb6ajW2WVML4MhoKXWIVRbYqnsZgQRs/edit#gid=0\"\",\"\"RWA!F:BZ\"\"),48,0))\"),\"\")","v":""},{"$f":"IFERROR(__xludf.DUMMYFUNCTION(\"iferror(VLOOKUP(B588,IMPORTRANGE(\"\"https://docs.google.com/spreadsheets/d/1c3Ia3eDo4sfDZb6ajW2WVML4MhoKXWIVRbYqnsZgQRs/edit#gid=0\"\",\"\"RWA!F:BZ\"\"),49,0))\"),\"\")","v":""}]
[null,null,null,{"$f":"IFERROR(__xludf.DUMMYFUNCTION(\"iferror(VLOOKUP(B589,IMPORTRANGE(\"\"https://docs.google.com/spreadsheets/d/1c3Ia3eDo4sfDZb6ajW2WVML4MhoKXWIVRbYqnsZgQRs/edit#gid=0\"\",\"\"RWA!F:BZ\"\"),44,0))\"),\"\")","v":""},{"$f":"IFERROR(__xludf.DUMMYFUNCTION(\"iferror(VLOOKUP(B589,IMPORTRANGE(\"\"https://docs.google.com/spreadsheets/d/1c3Ia3eDo4sfDZb6ajW2WVML4MhoKXWIVRbYqnsZgQRs/edit#gid=0\"\",\"\"RWA!F:BZ\"\"),48,0))\"),\"\")","v":""},{"$f":"IFERROR(__xludf.DUMMYFUNCTION(\"iferror(VLOOKUP(B589,IMPORTRANGE(\"\"https://docs.google.com/spreadsheets/d/1c3Ia3eDo4sfDZb6ajW2WVML4MhoKXWIVRbYqnsZgQRs/edit#gid=0\"\",\"\"RWA!F:BZ\"\"),49,0))\"),\"\")","v":""}]
[null,null,null,{"$f":"IFERROR(__xludf.DUMMYFUNCTION(\"iferror(VLOOKUP(B590,IMPORTRANGE(\"\"https://docs.google.com/spreadsheets/d/1c3Ia3eDo4sfDZb6ajW2WVML4MhoKXWIVRbYqnsZgQRs/edit#gid=0\"\",\"\"RWA!F:BZ\"\"),44,0))\"),\"\")","v":""},{"$f":"IFERROR(__xludf.DUMMYFUNCTION(\"iferror(VLOOKUP(B590,IMPORTRANGE(\"\"https://docs.google.com/spreadsheets/d/1c3Ia3eDo4sfDZb6ajW2WVML4MhoKXWIVRbYqnsZgQRs/edit#gid=0\"\",\"\"RWA!F:BZ\"\"),48,0))\"),\"\")","v":""},{"$f":"IFERROR(__xludf.DUMMYFUNCTION(\"iferror(VLOOKUP(B590,IMPORTRANGE(\"\"https://docs.google.com/spreadsheets/d/1c3Ia3eDo4sfDZb6ajW2WVML4MhoKXWIVRbYqnsZgQRs/edit#gid=0\"\",\"\"RWA!F:BZ\"\"),49,0))\"),\"\")","v":""}]
[null,null,null,{"$f":"IFERROR(__xludf.DUMMYFUNCTION(\"iferror(VLOOKUP(B591,IMPORTRANGE(\"\"https://docs.google.com/spreadsheets/d/1c3Ia3eDo4sfDZb6ajW2WVML4MhoKXWIVRbYqnsZgQRs/edit#gid=0\"\",\"\"RWA!F:BZ\"\"),44,0))\"),\"\")","v":""},{"$f":"IFERROR(__xludf.DUMMYFUNCTION(\"iferror(VLOOKUP(B591,IMPORTRANGE(\"\"https://docs.google.com/spreadsheets/d/1c3Ia3eDo4sfDZb6ajW2WVML4MhoKXWIVRbYqnsZgQRs/edit#gid=0\"\",\"\"RWA!F:BZ\"\"),48,0))\"),\"\")","v":""},{"$f":"IFERROR(__xludf.DUMMYFUNCTION(\"iferror(VLOOKUP(B591,IMPORTRANGE(\"\"https://docs.google.com/spreadsheets/d/1c3Ia3eDo4sfDZb6ajW2WVML4MhoKXWIVRbYqnsZgQRs/edit#gid=0\"\",\"\"RWA!F:BZ\"\"),49,0))\"),\"\")","v":""}]
[null,null,null,{"$f":"IFERROR(__xludf.DUMMYFUNCTION(\"iferror(VLOOKUP(B592,IMPORTRANGE(\"\"https://docs.google.com/spreadsheets/d/1c3Ia3eDo4sfDZb6ajW2WVML4MhoKXWIVRbYqnsZgQRs/edit#gid=0\"\",\"\"RWA!F:BZ\"\"),44,0))\"),\"\")","v":""},{"$f":"IFERROR(__xludf.DUMMYFUNCTION(\"iferror(VLOOKUP(B592,IMPORTRANGE(\"\"https://docs.google.com/spreadsheets/d/1c3Ia3eDo4sfDZb6ajW2WVML4MhoKXWIVRbYqnsZgQRs/edit#gid=0\"\",\"\"RWA!F:BZ\"\"),48,0))\"),\"\")","v":""},{"$f":"IFERROR(__xludf.DUMMYFUNCTION(\"iferror(VLOOKUP(B592,IMPORTRANGE(\"\"https://docs.google.com/spreadsheets/d/1c3Ia3eDo4sfDZb6ajW2WVML4MhoKXWIVRbYqnsZgQRs/edit#gid=0\"\",\"\"RWA!F:BZ\"\"),49,0))\"),\"\")","v":""}]
[null,null,null,{"$f":"IFERROR(__xludf.DUMMYFUNCTION(\"iferror(VLOOKUP(B593,IMPORTRANGE(\"\"https://docs.google.com/spreadsheets/d/1c3Ia3eDo4sfDZb6ajW2WVML4MhoKXWIVRbYqnsZgQRs/edit#gid=0\"\",\"\"RWA!F:BZ\"\"),44,0))\"),\"\")","v":""},{"$f":"IFERROR(__xludf.DUMMYFUNCTION(\"iferror(VLOOKUP(B593,IMPORTRANGE(\"\"https://docs.google.com/spreadsheets/d/1c3Ia3eDo4sfDZb6ajW2WVML4MhoKXWIVRbYqnsZgQRs/edit#gid=0\"\",\"\"RWA!F:BZ\"\"),48,0))\"),\"\")","v":""},{"$f":"IFERROR(__xludf.DUMMYFUNCTION(\"iferror(VLOOKUP(B593,IMPORTRANGE(\"\"https://docs.google.com/spreadsheets/d/1c3Ia3eDo4sfDZb6ajW2WVML4MhoKXWIVRbYqnsZgQRs/edit#gid=0\"\",\"\"RWA!F:BZ\"\"),49,0))\"),\"\")","v":""}]
[null,null,null,{"$f":"IFERROR(__xludf.DUMMYFUNCTION(\"iferror(VLOOKUP(B594,IMPORTRANGE(\"\"https://docs.google.com/spreadsheets/d/1c3Ia3eDo4sfDZb6ajW2WVML4MhoKXWIVRbYqnsZgQRs/edit#gid=0\"\",\"\"RWA!F:BZ\"\"),44,0))\"),\"\")","v":""},{"$f":"IFERROR(__xludf.DUMMYFUNCTION(\"iferror(VLOOKUP(B594,IMPORTRANGE(\"\"https://docs.google.com/spreadsheets/d/1c3Ia3eDo4sfDZb6ajW2WVML4MhoKXWIVRbYqnsZgQRs/edit#gid=0\"\",\"\"RWA!F:BZ\"\"),48,0))\"),\"\")","v":""},{"$f":"IFERROR(__xludf.DUMMYFUNCTION(\"iferror(VLOOKUP(B594,IMPORTRANGE(\"\"https://docs.google.com/spreadsheets/d/1c3Ia3eDo4sfDZb6ajW2WVML4MhoKXWIVRbYqnsZgQRs/edit#gid=0\"\",\"\"RWA!F:BZ\"\"),49,0))\"),\"\")","v":""}]
[null,null,null,{"$f":"IFERROR(__xludf.DUMMYFUNCTION(\"iferror(VLOOKUP(B595,IMPORTRANGE(\"\"https://docs.google.com/spreadsheets/d/1c3Ia3eDo4sfDZb6ajW2WVML4MhoKXWIVRbYqnsZgQRs/edit#gid=0\"\",\"\"RWA!F:BZ\"\"),44,0))\"),\"\")","v":""},{"$f":"IFERROR(__xludf.DUMMYFUNCTION(\"iferror(VLOOKUP(B595,IMPORTRANGE(\"\"https://docs.google.com/spreadsheets/d/1c3Ia3eDo4sfDZb6ajW2WVML4MhoKXWIVRbYqnsZgQRs/edit#gid=0\"\",\"\"RWA!F:BZ\"\"),48,0))\"),\"\")","v":""},{"$f":"IFERROR(__xludf.DUMMYFUNCTION(\"iferror(VLOOKUP(B595,IMPORTRANGE(\"\"https://docs.google.com/spreadsheets/d/1c3Ia3eDo4sfDZb6ajW2WVML4MhoKXWIVRbYqnsZgQRs/edit#gid=0\"\",\"\"RWA!F:BZ\"\"),49,0))\"),\"\")","v":""}]
[null,null,null,{"$f":"IFERROR(__xludf.DUMMYFUNCTION(\"iferror(VLOOKUP(B596,IMPORTRANGE(\"\"https://docs.google.com/spreadsheets/d/1c3Ia3eDo4sfDZb6ajW2WVML4MhoKXWIVRbYqnsZgQRs/edit#gid=0\"\",\"\"RWA!F:BZ\"\"),44,0))\"),\"\")","v":""},{"$f":"IFERROR(__xludf.DUMMYFUNCTION(\"iferror(VLOOKUP(B596,IMPORTRANGE(\"\"https://docs.google.com/spreadsheets/d/1c3Ia3eDo4sfDZb6ajW2WVML4MhoKXWIVRbYqnsZgQRs/edit#gid=0\"\",\"\"RWA!F:BZ\"\"),48,0))\"),\"\")","v":""},{"$f":"IFERROR(__xludf.DUMMYFUNCTION(\"iferror(VLOOKUP(B596,IMPORTRANGE(\"\"https://docs.google.com/spreadsheets/d/1c3Ia3eDo4sfDZb6ajW2WVML4MhoKXWIVRbYqnsZgQRs/edit#gid=0\"\",\"\"RWA!F:BZ\"\"),49,0))\"),\"\")","v":""}]
[null,null,null,{"$f":"IFERROR(__xludf.DUMMYFUNCTION(\"iferror(VLOOKUP(B597,IMPORTRANGE(\"\"https://docs.google.com/spreadsheets/d/1c3Ia3eDo4sfDZb6ajW2WVML4MhoKXWIVRbYqnsZgQRs/edit#gid=0\"\",\"\"RWA!F:BZ\"\"),44,0))\"),\"\")","v":""},{"$f":"IFERROR(__xludf.DUMMYFUNCTION(\"iferror(VLOOKUP(B597,IMPORTRANGE(\"\"https://docs.google.com/spreadsheets/d/1c3Ia3eDo4sfDZb6ajW2WVML4MhoKXWIVRbYqnsZgQRs/edit#gid=0\"\",\"\"RWA!F:BZ\"\"),48,0))\"),\"\")","v":""},{"$f":"IFERROR(__xludf.DUMMYFUNCTION(\"iferror(VLOOKUP(B597,IMPORTRANGE(\"\"https://docs.google.com/spreadsheets/d/1c3Ia3eDo4sfDZb6ajW2WVML4MhoKXWIVRbYqnsZgQRs/edit#gid=0\"\",\"\"RWA!F:BZ\"\"),49,0))\"),\"\")","v":""}]
[null,null,null,{"$f":"IFERROR(__xludf.DUMMYFUNCTION(\"iferror(VLOOKUP(B598,IMPORTRANGE(\"\"https://docs.google.com/spreadsheets/d/1c3Ia3eDo4sfDZb6ajW2WVML4MhoKXWIVRbYqnsZgQRs/edit#gid=0\"\",\"\"RWA!F:BZ\"\"),44,0))\"),\"\")","v":""},{"$f":"IFERROR(__xludf.DUMMYFUNCTION(\"iferror(VLOOKUP(B598,IMPORTRANGE(\"\"https://docs.google.com/spreadsheets/d/1c3Ia3eDo4sfDZb6ajW2WVML4MhoKXWIVRbYqnsZgQRs/edit#gid=0\"\",\"\"RWA!F:BZ\"\"),48,0))\"),\"\")","v":""},{"$f":"IFERROR(__xludf.DUMMYFUNCTION(\"iferror(VLOOKUP(B598,IMPORTRANGE(\"\"https://docs.google.com/spreadsheets/d/1c3Ia3eDo4sfDZb6ajW2WVML4MhoKXWIVRbYqnsZgQRs/edit#gid=0\"\",\"\"RWA!F:BZ\"\"),49,0))\"),\"\")","v":""}]
[null,null,null,{"$f":"IFERROR(__xludf.DUMMYFUNCTION(\"iferror(VLOOKUP(B599,IMPORTRANGE(\"\"https://docs.google.com/spreadsheets/d/1c3Ia3eDo4sfDZb6ajW2WVML4MhoKXWIVRbYqnsZgQRs/edit#gid=0\"\",\"\"RWA!F:BZ\"\"),44,0))\"),\"\")","v":""},{"$f":"IFERROR(__xludf.DUMMYFUNCTION(\"iferror(VLOOKUP(B599,IMPORTRANGE(\"\"https://docs.google.com/spreadsheets/d/1c3Ia3eDo4sfDZb6ajW2WVML4MhoKXWIVRbYqnsZgQRs/edit#gid=0\"\",\"\"RWA!F:BZ\"\"),48,0))\"),\"\")","v":""},{"$f":"IFERROR(__xludf.DUMMYFUNCTION(\"iferror(VLOOKUP(B599,IMPORTRANGE(\"\"https://docs.google.com/spreadsheets/d/1c3Ia3eDo4sfDZb6ajW2WVML4MhoKXWIVRbYqnsZgQRs/edit#gid=0\"\",\"\"RWA!F:BZ\"\"),49,0))\"),\"\")","v":""}]
[null,null,null,{"$f":"IFERROR(__xludf.DUMMYFUNCTION(\"iferror(VLOOKUP(B600,IMPORTRANGE(\"\"https://docs.google.com/spreadsheets/d/1c3Ia3eDo4sfDZb6ajW2WVML4MhoKXWIVRbYqnsZgQRs/edit#gid=0\"\",\"\"RWA!F:BZ\"\"),44,0))\"),\"\")","v":""},{"$f":"IFERROR(__xludf.DUMMYFUNCTION(\"iferror(VLOOKUP(B600,IMPORTRANGE(\"\"https://docs.google.com/spreadsheets/d/1c3Ia3eDo4sfDZb6ajW2WVML4MhoKXWIVRbYqnsZgQRs/edit#gid=0\"\",\"\"RWA!F:BZ\"\"),48,0))\"),\"\")","v":""},{"$f":"IFERROR(__xludf.DUMMYFUNCTION(\"iferror(VLOOKUP(B600,IMPORTRANGE(\"\"https://docs.google.com/spreadsheets/d/1c3Ia3eDo4sfDZb6ajW2WVML4MhoKXWIVRbYqnsZgQRs/edit#gid=0\"\",\"\"RWA!F:BZ\"\"),49,0))\"),\"\")","v":""}]
[null,null,null,{"$f":"IFERROR(__xludf.DUMMYFUNCTION(\"iferror(VLOOKUP(B601,IMPORTRANGE(\"\"https://docs.google.com/spreadsheets/d/1c3Ia3eDo4sfDZb6ajW2WVML4MhoKXWIVRbYqnsZgQRs/edit#gid=0\"\",\"\"RWA!F:BZ\"\"),44,0))\"),\"\")","v":""},{"$f":"IFERROR(__xludf.DUMMYFUNCTION(\"iferror(VLOOKUP(B601,IMPORTRANGE(\"\"https://docs.google.com/spreadsheets/d/1c3Ia3eDo4sfDZb6ajW2WVML4MhoKXWIVRbYqnsZgQRs/edit#gid=0\"\",\"\"RWA!F:BZ\"\"),48,0))\"),\"\")","v":""},{"$f":"IFERROR(__xludf.DUMMYFUNCTION(\"iferror(VLOOKUP(B601,IMPORTRANGE(\"\"https://docs.google.com/spreadsheets/d/1c3Ia3eDo4sfDZb6ajW2WVML4MhoKXWIVRbYqnsZgQRs/edit#gid=0\"\",\"\"RWA!F:BZ\"\"),49,0))\"),\"\")","v":""}]
[null,null,null,{"$f":"IFERROR(__xludf.DUMMYFUNCTION(\"iferror(VLOOKUP(B602,IMPORTRANGE(\"\"https://docs.google.com/spreadsheets/d/1c3Ia3eDo4sfDZb6ajW2WVML4MhoKXWIVRbYqnsZgQRs/edit#gid=0\"\",\"\"RWA!F:BZ\"\"),44,0))\"),\"\")","v":""},{"$f":"IFERROR(__xludf.DUMMYFUNCTION(\"iferror(VLOOKUP(B602,IMPORTRANGE(\"\"https://docs.google.com/spreadsheets/d/1c3Ia3eDo4sfDZb6ajW2WVML4MhoKXWIVRbYqnsZgQRs/edit#gid=0\"\",\"\"RWA!F:BZ\"\"),48,0))\"),\"\")","v":""},{"$f":"IFERROR(__xludf.DUMMYFUNCTION(\"iferror(VLOOKUP(B602,IMPORTRANGE(\"\"https://docs.google.com/spreadsheets/d/1c3Ia3eDo4sfDZb6ajW2WVML4MhoKXWIVRbYqnsZgQRs/edit#gid=0\"\",\"\"RWA!F:BZ\"\"),49,0))\"),\"\")","v":""}]
[null,null,null,{"$f":"IFERROR(__xludf.DUMMYFUNCTION(\"iferror(VLOOKUP(B603,IMPORTRANGE(\"\"https://docs.google.com/spreadsheets/d/1c3Ia3eDo4sfDZb6ajW2WVML4MhoKXWIVRbYqnsZgQRs/edit#gid=0\"\",\"\"RWA!F:BZ\"\"),44,0))\"),\"\")","v":""},{"$f":"IFERROR(__xludf.DUMMYFUNCTION(\"iferror(VLOOKUP(B603,IMPORTRANGE(\"\"https://docs.google.com/spreadsheets/d/1c3Ia3eDo4sfDZb6ajW2WVML4MhoKXWIVRbYqnsZgQRs/edit#gid=0\"\",\"\"RWA!F:BZ\"\"),48,0))\"),\"\")","v":""},{"$f":"IFERROR(__xludf.DUMMYFUNCTION(\"iferror(VLOOKUP(B603,IMPORTRANGE(\"\"https://docs.google.com/spreadsheets/d/1c3Ia3eDo4sfDZb6ajW2WVML4MhoKXWIVRbYqnsZgQRs/edit#gid=0\"\",\"\"RWA!F:BZ\"\"),49,0))\"),\"\")","v":""}]
[null,null,null,{"$f":"IFERROR(__xludf.DUMMYFUNCTION(\"iferror(VLOOKUP(B604,IMPORTRANGE(\"\"https://docs.google.com/spreadsheets/d/1c3Ia3eDo4sfDZb6ajW2WVML4MhoKXWIVRbYqnsZgQRs/edit#gid=0\"\",\"\"RWA!F:BZ\"\"),44,0))\"),\"\")","v":""},{"$f":"IFERROR(__xludf.DUMMYFUNCTION(\"iferror(VLOOKUP(B604,IMPORTRANGE(\"\"https://docs.google.com/spreadsheets/d/1c3Ia3eDo4sfDZb6ajW2WVML4MhoKXWIVRbYqnsZgQRs/edit#gid=0\"\",\"\"RWA!F:BZ\"\"),48,0))\"),\"\")","v":""},{"$f":"IFERROR(__xludf.DUMMYFUNCTION(\"iferror(VLOOKUP(B604,IMPORTRANGE(\"\"https://docs.google.com/spreadsheets/d/1c3Ia3eDo4sfDZb6ajW2WVML4MhoKXWIVRbYqnsZgQRs/edit#gid=0\"\",\"\"RWA!F:BZ\"\"),49,0))\"),\"\")","v":""}]
[null,null,null,{"$f":"IFERROR(__xludf.DUMMYFUNCTION(\"iferror(VLOOKUP(B605,IMPORTRANGE(\"\"https://docs.google.com/spreadsheets/d/1c3Ia3eDo4sfDZb6ajW2WVML4MhoKXWIVRbYqnsZgQRs/edit#gid=0\"\",\"\"RWA!F:BZ\"\"),44,0))\"),\"\")","v":""},{"$f":"IFERROR(__xludf.DUMMYFUNCTION(\"iferror(VLOOKUP(B605,IMPORTRANGE(\"\"https://docs.google.com/spreadsheets/d/1c3Ia3eDo4sfDZb6ajW2WVML4MhoKXWIVRbYqnsZgQRs/edit#gid=0\"\",\"\"RWA!F:BZ\"\"),48,0))\"),\"\")","v":""},{"$f":"IFERROR(__xludf.DUMMYFUNCTION(\"iferror(VLOOKUP(B605,IMPORTRANGE(\"\"https://docs.google.com/spreadsheets/d/1c3Ia3eDo4sfDZb6ajW2WVML4MhoKXWIVRbYqnsZgQRs/edit#gid=0\"\",\"\"RWA!F:BZ\"\"),49,0))\"),\"\")","v":""}]
[null,null,null,{"$f":"IFERROR(__xludf.DUMMYFUNCTION(\"iferror(VLOOKUP(B606,IMPORTRANGE(\"\"https://docs.google.com/spreadsheets/d/1c3Ia3eDo4sfDZb6ajW2WVML4MhoKXWIVRbYqnsZgQRs/edit#gid=0\"\",\"\"RWA!F:BZ\"\"),44,0))\"),\"\")","v":""},{"$f":"IFERROR(__xludf.DUMMYFUNCTION(\"iferror(VLOOKUP(B606,IMPORTRANGE(\"\"https://docs.google.com/spreadsheets/d/1c3Ia3eDo4sfDZb6ajW2WVML4MhoKXWIVRbYqnsZgQRs/edit#gid=0\"\",\"\"RWA!F:BZ\"\"),48,0))\"),\"\")","v":""},{"$f":"IFERROR(__xludf.DUMMYFUNCTION(\"iferror(VLOOKUP(B606,IMPORTRANGE(\"\"https://docs.google.com/spreadsheets/d/1c3Ia3eDo4sfDZb6ajW2WVML4MhoKXWIVRbYqnsZgQRs/edit#gid=0\"\",\"\"RWA!F:BZ\"\"),49,0))\"),\"\")","v":""}]
[null,null,null,{"$f":"IFERROR(__xludf.DUMMYFUNCTION(\"iferror(VLOOKUP(B607,IMPORTRANGE(\"\"https://docs.google.com/spreadsheets/d/1c3Ia3eDo4sfDZb6ajW2WVML4MhoKXWIVRbYqnsZgQRs/edit#gid=0\"\",\"\"RWA!F:BZ\"\"),44,0))\"),\"\")","v":""},{"$f":"IFERROR(__xludf.DUMMYFUNCTION(\"iferror(VLOOKUP(B607,IMPORTRANGE(\"\"https://docs.google.com/spreadsheets/d/1c3Ia3eDo4sfDZb6ajW2WVML4MhoKXWIVRbYqnsZgQRs/edit#gid=0\"\",\"\"RWA!F:BZ\"\"),48,0))\"),\"\")","v":""},{"$f":"IFERROR(__xludf.DUMMYFUNCTION(\"iferror(VLOOKUP(B607,IMPORTRANGE(\"\"https://docs.google.com/spreadsheets/d/1c3Ia3eDo4sfDZb6ajW2WVML4MhoKXWIVRbYqnsZgQRs/edit#gid=0\"\",\"\"RWA!F:BZ\"\"),49,0))\"),\"\")","v":""}]
[null,null,null,{"$f":"IFERROR(__xludf.DUMMYFUNCTION(\"iferror(VLOOKUP(B608,IMPORTRANGE(\"\"https://docs.google.com/spreadsheets/d/1c3Ia3eDo4sfDZb6ajW2WVML4MhoKXWIVRbYqnsZgQRs/edit#gid=0\"\",\"\"RWA!F:BZ\"\"),44,0))\"),\"\")","v":""},{"$f":"IFERROR(__xludf.DUMMYFUNCTION(\"iferror(VLOOKUP(B608,IMPORTRANGE(\"\"https://docs.google.com/spreadsheets/d/1c3Ia3eDo4sfDZb6ajW2WVML4MhoKXWIVRbYqnsZgQRs/edit#gid=0\"\",\"\"RWA!F:BZ\"\"),48,0))\"),\"\")","v":""},{"$f":"IFERROR(__xludf.DUMMYFUNCTION(\"iferror(VLOOKUP(B608,IMPORTRANGE(\"\"https://docs.google.com/spreadsheets/d/1c3Ia3eDo4sfDZb6ajW2WVML4MhoKXWIVRbYqnsZgQRs/edit#gid=0\"\",\"\"RWA!F:BZ\"\"),49,0))\"),\"\")","v":""}]
[null,null,null,{"$f":"IFERROR(__xludf.DUMMYFUNCTION(\"iferror(VLOOKUP(B609,IMPORTRANGE(\"\"https://docs.google.com/spreadsheets/d/1c3Ia3eDo4sfDZb6ajW2WVML4MhoKXWIVRbYqnsZgQRs/edit#gid=0\"\",\"\"RWA!F:BZ\"\"),44,0))\"),\"\")","v":""},{"$f":"IFERROR(__xludf.DUMMYFUNCTION(\"iferror(VLOOKUP(B609,IMPORTRANGE(\"\"https://docs.google.com/spreadsheets/d/1c3Ia3eDo4sfDZb6ajW2WVML4MhoKXWIVRbYqnsZgQRs/edit#gid=0\"\",\"\"RWA!F:BZ\"\"),48,0))\"),\"\")","v":""},{"$f":"IFERROR(__xludf.DUMMYFUNCTION(\"iferror(VLOOKUP(B609,IMPORTRANGE(\"\"https://docs.google.com/spreadsheets/d/1c3Ia3eDo4sfDZb6ajW2WVML4MhoKXWIVRbYqnsZgQRs/edit#gid=0\"\",\"\"RWA!F:BZ\"\"),49,0))\"),\"\")","v":""}]
[null,null,null,{"$f":"IFERROR(__xludf.DUMMYFUNCTION(\"iferror(VLOOKUP(B610,IMPORTRANGE(\"\"https://docs.google.com/spreadsheets/d/1c3Ia3eDo4sfDZb6ajW2WVML4MhoKXWIVRbYqnsZgQRs/edit#gid=0\"\",\"\"RWA!F:BZ\"\"),44,0))\"),\"\")","v":""},{"$f":"IFERROR(__xludf.DUMMYFUNCTION(\"iferror(VLOOKUP(B610,IMPORTRANGE(\"\"https://docs.google.com/spreadsheets/d/1c3Ia3eDo4sfDZb6ajW2WVML4MhoKXWIVRbYqnsZgQRs/edit#gid=0\"\",\"\"RWA!F:BZ\"\"),48,0))\"),\"\")","v":""},{"$f":"IFERROR(__xludf.DUMMYFUNCTION(\"iferror(VLOOKUP(B610,IMPORTRANGE(\"\"https://docs.google.com/spreadsheets/d/1c3Ia3eDo4sfDZb6ajW2WVML4MhoKXWIVRbYqnsZgQRs/edit#gid=0\"\",\"\"RWA!F:BZ\"\"),49,0))\"),\"\")","v":""}]
[null,null,null,{"$f":"IFERROR(__xludf.DUMMYFUNCTION(\"iferror(VLOOKUP(B611,IMPORTRANGE(\"\"https://docs.google.com/spreadsheets/d/1c3Ia3eDo4sfDZb6ajW2WVML4MhoKXWIVRbYqnsZgQRs/edit#gid=0\"\",\"\"RWA!F:BZ\"\"),44,0))\"),\"\")","v":""},{"$f":"IFERROR(__xludf.DUMMYFUNCTION(\"iferror(VLOOKUP(B611,IMPORTRANGE(\"\"https://docs.google.com/spreadsheets/d/1c3Ia3eDo4sfDZb6ajW2WVML4MhoKXWIVRbYqnsZgQRs/edit#gid=0\"\",\"\"RWA!F:BZ\"\"),48,0))\"),\"\")","v":""},{"$f":"IFERROR(__xludf.DUMMYFUNCTION(\"iferror(VLOOKUP(B611,IMPORTRANGE(\"\"https://docs.google.com/spreadsheets/d/1c3Ia3eDo4sfDZb6ajW2WVML4MhoKXWIVRbYqnsZgQRs/edit#gid=0\"\",\"\"RWA!F:BZ\"\"),49,0))\"),\"\")","v":""}]
[null,null,null,{"$f":"IFERROR(__xludf.DUMMYFUNCTION(\"iferror(VLOOKUP(B612,IMPORTRANGE(\"\"https://docs.google.com/spreadsheets/d/1c3Ia3eDo4sfDZb6ajW2WVML4MhoKXWIVRbYqnsZgQRs/edit#gid=0\"\",\"\"RWA!F:BZ\"\"),44,0))\"),\"\")","v":""},{"$f":"IFERROR(__xludf.DUMMYFUNCTION(\"iferror(VLOOKUP(B612,IMPORTRANGE(\"\"https://docs.google.com/spreadsheets/d/1c3Ia3eDo4sfDZb6ajW2WVML4MhoKXWIVRbYqnsZgQRs/edit#gid=0\"\",\"\"RWA!F:BZ\"\"),48,0))\"),\"\")","v":""},{"$f":"IFERROR(__xludf.DUMMYFUNCTION(\"iferror(VLOOKUP(B612,IMPORTRANGE(\"\"https://docs.google.com/spreadsheets/d/1c3Ia3eDo4sfDZb6ajW2WVML4MhoKXWIVRbYqnsZgQRs/edit#gid=0\"\",\"\"RWA!F:BZ\"\"),49,0))\"),\"\")","v":""}]
[null,null,null,{"$f":"IFERROR(__xludf.DUMMYFUNCTION(\"iferror(VLOOKUP(B613,IMPORTRANGE(\"\"https://docs.google.com/spreadsheets/d/1c3Ia3eDo4sfDZb6ajW2WVML4MhoKXWIVRbYqnsZgQRs/edit#gid=0\"\",\"\"RWA!F:BZ\"\"),44,0))\"),\"\")","v":""},{"$f":"IFERROR(__xludf.DUMMYFUNCTION(\"iferror(VLOOKUP(B613,IMPORTRANGE(\"\"https://docs.google.com/spreadsheets/d/1c3Ia3eDo4sfDZb6ajW2WVML4MhoKXWIVRbYqnsZgQRs/edit#gid=0\"\",\"\"RWA!F:BZ\"\"),48,0))\"),\"\")","v":""},{"$f":"IFERROR(__xludf.DUMMYFUNCTION(\"iferror(VLOOKUP(B613,IMPORTRANGE(\"\"https://docs.google.com/spreadsheets/d/1c3Ia3eDo4sfDZb6ajW2WVML4MhoKXWIVRbYqnsZgQRs/edit#gid=0\"\",\"\"RWA!F:BZ\"\"),49,0))\"),\"\")","v":""}]
[null,null,null,{"$f":"IFERROR(__xludf.DUMMYFUNCTION(\"iferror(VLOOKUP(B614,IMPORTRANGE(\"\"https://docs.google.com/spreadsheets/d/1c3Ia3eDo4sfDZb6ajW2WVML4MhoKXWIVRbYqnsZgQRs/edit#gid=0\"\",\"\"RWA!F:BZ\"\"),44,0))\"),\"\")","v":""},{"$f":"IFERROR(__xludf.DUMMYFUNCTION(\"iferror(VLOOKUP(B614,IMPORTRANGE(\"\"https://docs.google.com/spreadsheets/d/1c3Ia3eDo4sfDZb6ajW2WVML4MhoKXWIVRbYqnsZgQRs/edit#gid=0\"\",\"\"RWA!F:BZ\"\"),48,0))\"),\"\")","v":""},{"$f":"IFERROR(__xludf.DUMMYFUNCTION(\"iferror(VLOOKUP(B614,IMPORTRANGE(\"\"https://docs.google.com/spreadsheets/d/1c3Ia3eDo4sfDZb6ajW2WVML4MhoKXWIVRbYqnsZgQRs/edit#gid=0\"\",\"\"RWA!F:BZ\"\"),49,0))\"),\"\")","v":""}]
[null,null,null,{"$f":"IFERROR(__xludf.DUMMYFUNCTION(\"iferror(VLOOKUP(B615,IMPORTRANGE(\"\"https://docs.google.com/spreadsheets/d/1c3Ia3eDo4sfDZb6ajW2WVML4MhoKXWIVRbYqnsZgQRs/edit#gid=0\"\",\"\"RWA!F:BZ\"\"),44,0))\"),\"\")","v":""},{"$f":"IFERROR(__xludf.DUMMYFUNCTION(\"iferror(VLOOKUP(B615,IMPORTRANGE(\"\"https://docs.google.com/spreadsheets/d/1c3Ia3eDo4sfDZb6ajW2WVML4MhoKXWIVRbYqnsZgQRs/edit#gid=0\"\",\"\"RWA!F:BZ\"\"),48,0))\"),\"\")","v":""},{"$f":"IFERROR(__xludf.DUMMYFUNCTION(\"iferror(VLOOKUP(B615,IMPORTRANGE(\"\"https://docs.google.com/spreadsheets/d/1c3Ia3eDo4sfDZb6ajW2WVML4MhoKXWIVRbYqnsZgQRs/edit#gid=0\"\",\"\"RWA!F:BZ\"\"),49,0))\"),\"\")","v":""}]
[null,null,null,{"$f":"IFERROR(__xludf.DUMMYFUNCTION(\"iferror(VLOOKUP(B616,IMPORTRANGE(\"\"https://docs.google.com/spreadsheets/d/1c3Ia3eDo4sfDZb6ajW2WVML4MhoKXWIVRbYqnsZgQRs/edit#gid=0\"\",\"\"RWA!F:BZ\"\"),44,0))\"),\"\")","v":""},{"$f":"IFERROR(__xludf.DUMMYFUNCTION(\"iferror(VLOOKUP(B616,IMPORTRANGE(\"\"https://docs.google.com/spreadsheets/d/1c3Ia3eDo4sfDZb6ajW2WVML4MhoKXWIVRbYqnsZgQRs/edit#gid=0\"\",\"\"RWA!F:BZ\"\"),48,0))\"),\"\")","v":""},{"$f":"IFERROR(__xludf.DUMMYFUNCTION(\"iferror(VLOOKUP(B616,IMPORTRANGE(\"\"https://docs.google.com/spreadsheets/d/1c3Ia3eDo4sfDZb6ajW2WVML4MhoKXWIVRbYqnsZgQRs/edit#gid=0\"\",\"\"RWA!F:BZ\"\"),49,0))\"),\"\")","v":""}]
[null,null,null,{"$f":"IFERROR(__xludf.DUMMYFUNCTION(\"iferror(VLOOKUP(B617,IMPORTRANGE(\"\"https://docs.google.com/spreadsheets/d/1c3Ia3eDo4sfDZb6ajW2WVML4MhoKXWIVRbYqnsZgQRs/edit#gid=0\"\",\"\"RWA!F:BZ\"\"),44,0))\"),\"\")","v":""},{"$f":"IFERROR(__xludf.DUMMYFUNCTION(\"iferror(VLOOKUP(B617,IMPORTRANGE(\"\"https://docs.google.com/spreadsheets/d/1c3Ia3eDo4sfDZb6ajW2WVML4MhoKXWIVRbYqnsZgQRs/edit#gid=0\"\",\"\"RWA!F:BZ\"\"),48,0))\"),\"\")","v":""},{"$f":"IFERROR(__xludf.DUMMYFUNCTION(\"iferror(VLOOKUP(B617,IMPORTRANGE(\"\"https://docs.google.com/spreadsheets/d/1c3Ia3eDo4sfDZb6ajW2WVML4MhoKXWIVRbYqnsZgQRs/edit#gid=0\"\",\"\"RWA!F:BZ\"\"),49,0))\"),\"\")","v":""}]
[null,null,null,{"$f":"IFERROR(__xludf.DUMMYFUNCTION(\"iferror(VLOOKUP(B618,IMPORTRANGE(\"\"https://docs.google.com/spreadsheets/d/1c3Ia3eDo4sfDZb6ajW2WVML4MhoKXWIVRbYqnsZgQRs/edit#gid=0\"\",\"\"RWA!F:BZ\"\"),44,0))\"),\"\")","v":""},{"$f":"IFERROR(__xludf.DUMMYFUNCTION(\"iferror(VLOOKUP(B618,IMPORTRANGE(\"\"https://docs.google.com/spreadsheets/d/1c3Ia3eDo4sfDZb6ajW2WVML4MhoKXWIVRbYqnsZgQRs/edit#gid=0\"\",\"\"RWA!F:BZ\"\"),48,0))\"),\"\")","v":""},{"$f":"IFERROR(__xludf.DUMMYFUNCTION(\"iferror(VLOOKUP(B618,IMPORTRANGE(\"\"https://docs.google.com/spreadsheets/d/1c3Ia3eDo4sfDZb6ajW2WVML4MhoKXWIVRbYqnsZgQRs/edit#gid=0\"\",\"\"RWA!F:BZ\"\"),49,0))\"),\"\")","v":""}]
[null,null,null,{"$f":"IFERROR(__xludf.DUMMYFUNCTION(\"iferror(VLOOKUP(B619,IMPORTRANGE(\"\"https://docs.google.com/spreadsheets/d/1c3Ia3eDo4sfDZb6ajW2WVML4MhoKXWIVRbYqnsZgQRs/edit#gid=0\"\",\"\"RWA!F:BZ\"\"),44,0))\"),\"\")","v":""},{"$f":"IFERROR(__xludf.DUMMYFUNCTION(\"iferror(VLOOKUP(B619,IMPORTRANGE(\"\"https://docs.google.com/spreadsheets/d/1c3Ia3eDo4sfDZb6ajW2WVML4MhoKXWIVRbYqnsZgQRs/edit#gid=0\"\",\"\"RWA!F:BZ\"\"),48,0))\"),\"\")","v":""},{"$f":"IFERROR(__xludf.DUMMYFUNCTION(\"iferror(VLOOKUP(B619,IMPORTRANGE(\"\"https://docs.google.com/spreadsheets/d/1c3Ia3eDo4sfDZb6ajW2WVML4MhoKXWIVRbYqnsZgQRs/edit#gid=0\"\",\"\"RWA!F:BZ\"\"),49,0))\"),\"\")","v":""}]
[null,null,null,{"$f":"IFERROR(__xludf.DUMMYFUNCTION(\"iferror(VLOOKUP(B620,IMPORTRANGE(\"\"https://docs.google.com/spreadsheets/d/1c3Ia3eDo4sfDZb6ajW2WVML4MhoKXWIVRbYqnsZgQRs/edit#gid=0\"\",\"\"RWA!F:BZ\"\"),44,0))\"),\"\")","v":""},{"$f":"IFERROR(__xludf.DUMMYFUNCTION(\"iferror(VLOOKUP(B620,IMPORTRANGE(\"\"https://docs.google.com/spreadsheets/d/1c3Ia3eDo4sfDZb6ajW2WVML4MhoKXWIVRbYqnsZgQRs/edit#gid=0\"\",\"\"RWA!F:BZ\"\"),48,0))\"),\"\")","v":""},{"$f":"IFERROR(__xludf.DUMMYFUNCTION(\"iferror(VLOOKUP(B620,IMPORTRANGE(\"\"https://docs.google.com/spreadsheets/d/1c3Ia3eDo4sfDZb6ajW2WVML4MhoKXWIVRbYqnsZgQRs/edit#gid=0\"\",\"\"RWA!F:BZ\"\"),49,0))\"),\"\")","v":""}]
[null,null,null,{"$f":"IFERROR(__xludf.DUMMYFUNCTION(\"iferror(VLOOKUP(B621,IMPORTRANGE(\"\"https://docs.google.com/spreadsheets/d/1c3Ia3eDo4sfDZb6ajW2WVML4MhoKXWIVRbYqnsZgQRs/edit#gid=0\"\",\"\"RWA!F:BZ\"\"),44,0))\"),\"\")","v":""},{"$f":"IFERROR(__xludf.DUMMYFUNCTION(\"iferror(VLOOKUP(B621,IMPORTRANGE(\"\"https://docs.google.com/spreadsheets/d/1c3Ia3eDo4sfDZb6ajW2WVML4MhoKXWIVRbYqnsZgQRs/edit#gid=0\"\",\"\"RWA!F:BZ\"\"),48,0))\"),\"\")","v":""},{"$f":"IFERROR(__xludf.DUMMYFUNCTION(\"iferror(VLOOKUP(B621,IMPORTRANGE(\"\"https://docs.google.com/spreadsheets/d/1c3Ia3eDo4sfDZb6ajW2WVML4MhoKXWIVRbYqnsZgQRs/edit#gid=0\"\",\"\"RWA!F:BZ\"\"),49,0))\"),\"\")","v":""}]
[null,null,null,{"$f":"IFERROR(__xludf.DUMMYFUNCTION(\"iferror(VLOOKUP(B622,IMPORTRANGE(\"\"https://docs.google.com/spreadsheets/d/1c3Ia3eDo4sfDZb6ajW2WVML4MhoKXWIVRbYqnsZgQRs/edit#gid=0\"\",\"\"RWA!F:BZ\"\"),44,0))\"),\"\")","v":""},{"$f":"IFERROR(__xludf.DUMMYFUNCTION(\"iferror(VLOOKUP(B622,IMPORTRANGE(\"\"https://docs.google.com/spreadsheets/d/1c3Ia3eDo4sfDZb6ajW2WVML4MhoKXWIVRbYqnsZgQRs/edit#gid=0\"\",\"\"RWA!F:BZ\"\"),48,0))\"),\"\")","v":""},{"$f":"IFERROR(__xludf.DUMMYFUNCTION(\"iferror(VLOOKUP(B622,IMPORTRANGE(\"\"https://docs.google.com/spreadsheets/d/1c3Ia3eDo4sfDZb6ajW2WVML4MhoKXWIVRbYqnsZgQRs/edit#gid=0\"\",\"\"RWA!F:BZ\"\"),49,0))\"),\"\")","v":""}]
[null,null,null,{"$f":"IFERROR(__xludf.DUMMYFUNCTION(\"iferror(VLOOKUP(B623,IMPORTRANGE(\"\"https://docs.google.com/spreadsheets/d/1c3Ia3eDo4sfDZb6ajW2WVML4MhoKXWIVRbYqnsZgQRs/edit#gid=0\"\",\"\"RWA!F:BZ\"\"),44,0))\"),\"\")","v":""},{"$f":"IFERROR(__xludf.DUMMYFUNCTION(\"iferror(VLOOKUP(B623,IMPORTRANGE(\"\"https://docs.google.com/spreadsheets/d/1c3Ia3eDo4sfDZb6ajW2WVML4MhoKXWIVRbYqnsZgQRs/edit#gid=0\"\",\"\"RWA!F:BZ\"\"),48,0))\"),\"\")","v":""},{"$f":"IFERROR(__xludf.DUMMYFUNCTION(\"iferror(VLOOKUP(B623,IMPORTRANGE(\"\"https://docs.google.com/spreadsheets/d/1c3Ia3eDo4sfDZb6ajW2WVML4MhoKXWIVRbYqnsZgQRs/edit#gid=0\"\",\"\"RWA!F:BZ\"\"),49,0))\"),\"\")","v":""}]
[null,null,null,{"$f":"IFERROR(__xludf.DUMMYFUNCTION(\"iferror(VLOOKUP(B624,IMPORTRANGE(\"\"https://docs.google.com/spreadsheets/d/1c3Ia3eDo4sfDZb6ajW2WVML4MhoKXWIVRbYqnsZgQRs/edit#gid=0\"\",\"\"RWA!F:BZ\"\"),44,0))\"),\"\")","v":""},{"$f":"IFERROR(__xludf.DUMMYFUNCTION(\"iferror(VLOOKUP(B624,IMPORTRANGE(\"\"https://docs.google.com/spreadsheets/d/1c3Ia3eDo4sfDZb6ajW2WVML4MhoKXWIVRbYqnsZgQRs/edit#gid=0\"\",\"\"RWA!F:BZ\"\"),48,0))\"),\"\")","v":""},{"$f":"IFERROR(__xludf.DUMMYFUNCTION(\"iferror(VLOOKUP(B624,IMPORTRANGE(\"\"https://docs.google.com/spreadsheets/d/1c3Ia3eDo4sfDZb6ajW2WVML4MhoKXWIVRbYqnsZgQRs/edit#gid=0\"\",\"\"RWA!F:BZ\"\"),49,0))\"),\"\")","v":""}]
[null,null,null,{"$f":"IFERROR(__xludf.DUMMYFUNCTION(\"iferror(VLOOKUP(B625,IMPORTRANGE(\"\"https://docs.google.com/spreadsheets/d/1c3Ia3eDo4sfDZb6ajW2WVML4MhoKXWIVRbYqnsZgQRs/edit#gid=0\"\",\"\"RWA!F:BZ\"\"),44,0))\"),\"\")","v":""},{"$f":"IFERROR(__xludf.DUMMYFUNCTION(\"iferror(VLOOKUP(B625,IMPORTRANGE(\"\"https://docs.google.com/spreadsheets/d/1c3Ia3eDo4sfDZb6ajW2WVML4MhoKXWIVRbYqnsZgQRs/edit#gid=0\"\",\"\"RWA!F:BZ\"\"),48,0))\"),\"\")","v":""},{"$f":"IFERROR(__xludf.DUMMYFUNCTION(\"iferror(VLOOKUP(B625,IMPORTRANGE(\"\"https://docs.google.com/spreadsheets/d/1c3Ia3eDo4sfDZb6ajW2WVML4MhoKXWIVRbYqnsZgQRs/edit#gid=0\"\",\"\"RWA!F:BZ\"\"),49,0))\"),\"\")","v":""}]
[null,null,null,{"$f":"IFERROR(__xludf.DUMMYFUNCTION(\"iferror(VLOOKUP(B626,IMPORTRANGE(\"\"https://docs.google.com/spreadsheets/d/1c3Ia3eDo4sfDZb6ajW2WVML4MhoKXWIVRbYqnsZgQRs/edit#gid=0\"\",\"\"RWA!F:BZ\"\"),44,0))\"),\"\")","v":""},{"$f":"IFERROR(__xludf.DUMMYFUNCTION(\"iferror(VLOOKUP(B626,IMPORTRANGE(\"\"https://docs.google.com/spreadsheets/d/1c3Ia3eDo4sfDZb6ajW2WVML4MhoKXWIVRbYqnsZgQRs/edit#gid=0\"\",\"\"RWA!F:BZ\"\"),48,0))\"),\"\")","v":""},{"$f":"IFERROR(__xludf.DUMMYFUNCTION(\"iferror(VLOOKUP(B626,IMPORTRANGE(\"\"https://docs.google.com/spreadsheets/d/1c3Ia3eDo4sfDZb6ajW2WVML4MhoKXWIVRbYqnsZgQRs/edit#gid=0\"\",\"\"RWA!F:BZ\"\"),49,0))\"),\"\")","v":""}]
[null,null,null,{"$f":"IFERROR(__xludf.DUMMYFUNCTION(\"iferror(VLOOKUP(B627,IMPORTRANGE(\"\"https://docs.google.com/spreadsheets/d/1c3Ia3eDo4sfDZb6ajW2WVML4MhoKXWIVRbYqnsZgQRs/edit#gid=0\"\",\"\"RWA!F:BZ\"\"),44,0))\"),\"\")","v":""},{"$f":"IFERROR(__xludf.DUMMYFUNCTION(\"iferror(VLOOKUP(B627,IMPORTRANGE(\"\"https://docs.google.com/spreadsheets/d/1c3Ia3eDo4sfDZb6ajW2WVML4MhoKXWIVRbYqnsZgQRs/edit#gid=0\"\",\"\"RWA!F:BZ\"\"),48,0))\"),\"\")","v":""},{"$f":"IFERROR(__xludf.DUMMYFUNCTION(\"iferror(VLOOKUP(B627,IMPORTRANGE(\"\"https://docs.google.com/spreadsheets/d/1c3Ia3eDo4sfDZb6ajW2WVML4MhoKXWIVRbYqnsZgQRs/edit#gid=0\"\",\"\"RWA!F:BZ\"\"),49,0))\"),\"\")","v":""}]
[null,null,null,{"$f":"IFERROR(__xludf.DUMMYFUNCTION(\"iferror(VLOOKUP(B628,IMPORTRANGE(\"\"https://docs.google.com/spreadsheets/d/1c3Ia3eDo4sfDZb6ajW2WVML4MhoKXWIVRbYqnsZgQRs/edit#gid=0\"\",\"\"RWA!F:BZ\"\"),44,0))\"),\"\")","v":""},{"$f":"IFERROR(__xludf.DUMMYFUNCTION(\"iferror(VLOOKUP(B628,IMPORTRANGE(\"\"https://docs.google.com/spreadsheets/d/1c3Ia3eDo4sfDZb6ajW2WVML4MhoKXWIVRbYqnsZgQRs/edit#gid=0\"\",\"\"RWA!F:BZ\"\"),48,0))\"),\"\")","v":""},{"$f":"IFERROR(__xludf.DUMMYFUNCTION(\"iferror(VLOOKUP(B628,IMPORTRANGE(\"\"https://docs.google.com/spreadsheets/d/1c3Ia3eDo4sfDZb6ajW2WVML4MhoKXWIVRbYqnsZgQRs/edit#gid=0\"\",\"\"RWA!F:BZ\"\"),49,0))\"),\"\")","v":""}]
[null,null,null,{"$f":"IFERROR(__xludf.DUMMYFUNCTION(\"iferror(VLOOKUP(B629,IMPORTRANGE(\"\"https://docs.google.com/spreadsheets/d/1c3Ia3eDo4sfDZb6ajW2WVML4MhoKXWIVRbYqnsZgQRs/edit#gid=0\"\",\"\"RWA!F:BZ\"\"),44,0))\"),\"\")","v":""},{"$f":"IFERROR(__xludf.DUMMYFUNCTION(\"iferror(VLOOKUP(B629,IMPORTRANGE(\"\"https://docs.google.com/spreadsheets/d/1c3Ia3eDo4sfDZb6ajW2WVML4MhoKXWIVRbYqnsZgQRs/edit#gid=0\"\",\"\"RWA!F:BZ\"\"),48,0))\"),\"\")","v":""},{"$f":"IFERROR(__xludf.DUMMYFUNCTION(\"iferror(VLOOKUP(B629,IMPORTRANGE(\"\"https://docs.google.com/spreadsheets/d/1c3Ia3eDo4sfDZb6ajW2WVML4MhoKXWIVRbYqnsZgQRs/edit#gid=0\"\",\"\"RWA!F:BZ\"\"),49,0))\"),\"\")","v":""}]
[null,null,null,{"$f":"IFERROR(__xludf.DUMMYFUNCTION(\"iferror(VLOOKUP(B630,IMPORTRANGE(\"\"https://docs.google.com/spreadsheets/d/1c3Ia3eDo4sfDZb6ajW2WVML4MhoKXWIVRbYqnsZgQRs/edit#gid=0\"\",\"\"RWA!F:BZ\"\"),44,0))\"),\"\")","v":""},{"$f":"IFERROR(__xludf.DUMMYFUNCTION(\"iferror(VLOOKUP(B630,IMPORTRANGE(\"\"https://docs.google.com/spreadsheets/d/1c3Ia3eDo4sfDZb6ajW2WVML4MhoKXWIVRbYqnsZgQRs/edit#gid=0\"\",\"\"RWA!F:BZ\"\"),48,0))\"),\"\")","v":""},{"$f":"IFERROR(__xludf.DUMMYFUNCTION(\"iferror(VLOOKUP(B630,IMPORTRANGE(\"\"https://docs.google.com/spreadsheets/d/1c3Ia3eDo4sfDZb6ajW2WVML4MhoKXWIVRbYqnsZgQRs/edit#gid=0\"\",\"\"RWA!F:BZ\"\"),49,0))\"),\"\")","v":""}]
[null,null,null,{"$f":"IFERROR(__xludf.DUMMYFUNCTION(\"iferror(VLOOKUP(B631,IMPORTRANGE(\"\"https://docs.google.com/spreadsheets/d/1c3Ia3eDo4sfDZb6ajW2WVML4MhoKXWIVRbYqnsZgQRs/edit#gid=0\"\",\"\"RWA!F:BZ\"\"),44,0))\"),\"\")","v":""},{"$f":"IFERROR(__xludf.DUMMYFUNCTION(\"iferror(VLOOKUP(B631,IMPORTRANGE(\"\"https://docs.google.com/spreadsheets/d/1c3Ia3eDo4sfDZb6ajW2WVML4MhoKXWIVRbYqnsZgQRs/edit#gid=0\"\",\"\"RWA!F:BZ\"\"),48,0))\"),\"\")","v":""},{"$f":"IFERROR(__xludf.DUMMYFUNCTION(\"iferror(VLOOKUP(B631,IMPORTRANGE(\"\"https://docs.google.com/spreadsheets/d/1c3Ia3eDo4sfDZb6ajW2WVML4MhoKXWIVRbYqnsZgQRs/edit#gid=0\"\",\"\"RWA!F:BZ\"\"),49,0))\"),\"\")","v":""}]
[null,null,null,{"$f":"IFERROR(__xludf.DUMMYFUNCTION(\"iferror(VLOOKUP(B632,IMPORTRANGE(\"\"https://docs.google.com/spreadsheets/d/1c3Ia3eDo4sfDZb6ajW2WVML4MhoKXWIVRbYqnsZgQRs/edit#gid=0\"\",\"\"RWA!F:BZ\"\"),44,0))\"),\"\")","v":""},{"$f":"IFERROR(__xludf.DUMMYFUNCTION(\"iferror(VLOOKUP(B632,IMPORTRANGE(\"\"https://docs.google.com/spreadsheets/d/1c3Ia3eDo4sfDZb6ajW2WVML4MhoKXWIVRbYqnsZgQRs/edit#gid=0\"\",\"\"RWA!F:BZ\"\"),48,0))\"),\"\")","v":""},{"$f":"IFERROR(__xludf.DUMMYFUNCTION(\"iferror(VLOOKUP(B632,IMPORTRANGE(\"\"https://docs.google.com/spreadsheets/d/1c3Ia3eDo4sfDZb6ajW2WVML4MhoKXWIVRbYqnsZgQRs/edit#gid=0\"\",\"\"RWA!F:BZ\"\"),49,0))\"),\"\")","v":""}]
[null,null,null,{"$f":"IFERROR(__xludf.DUMMYFUNCTION(\"iferror(VLOOKUP(B633,IMPORTRANGE(\"\"https://docs.google.com/spreadsheets/d/1c3Ia3eDo4sfDZb6ajW2WVML4MhoKXWIVRbYqnsZgQRs/edit#gid=0\"\",\"\"RWA!F:BZ\"\"),44,0))\"),\"\")","v":""},{"$f":"IFERROR(__xludf.DUMMYFUNCTION(\"iferror(VLOOKUP(B633,IMPORTRANGE(\"\"https://docs.google.com/spreadsheets/d/1c3Ia3eDo4sfDZb6ajW2WVML4MhoKXWIVRbYqnsZgQRs/edit#gid=0\"\",\"\"RWA!F:BZ\"\"),48,0))\"),\"\")","v":""},{"$f":"IFERROR(__xludf.DUMMYFUNCTION(\"iferror(VLOOKUP(B633,IMPORTRANGE(\"\"https://docs.google.com/spreadsheets/d/1c3Ia3eDo4sfDZb6ajW2WVML4MhoKXWIVRbYqnsZgQRs/edit#gid=0\"\",\"\"RWA!F:BZ\"\"),49,0))\"),\"\")","v":""}]
[null,null,null,{"$f":"IFERROR(__xludf.DUMMYFUNCTION(\"iferror(VLOOKUP(B634,IMPORTRANGE(\"\"https://docs.google.com/spreadsheets/d/1c3Ia3eDo4sfDZb6ajW2WVML4MhoKXWIVRbYqnsZgQRs/edit#gid=0\"\",\"\"RWA!F:BZ\"\"),44,0))\"),\"\")","v":""},{"$f":"IFERROR(__xludf.DUMMYFUNCTION(\"iferror(VLOOKUP(B634,IMPORTRANGE(\"\"https://docs.google.com/spreadsheets/d/1c3Ia3eDo4sfDZb6ajW2WVML4MhoKXWIVRbYqnsZgQRs/edit#gid=0\"\",\"\"RWA!F:BZ\"\"),48,0))\"),\"\")","v":""},{"$f":"IFERROR(__xludf.DUMMYFUNCTION(\"iferror(VLOOKUP(B634,IMPORTRANGE(\"\"https://docs.google.com/spreadsheets/d/1c3Ia3eDo4sfDZb6ajW2WVML4MhoKXWIVRbYqnsZgQRs/edit#gid=0\"\",\"\"RWA!F:BZ\"\"),49,0))\"),\"\")","v":""}]
[null,null,null,{"$f":"IFERROR(__xludf.DUMMYFUNCTION(\"iferror(VLOOKUP(B635,IMPORTRANGE(\"\"https://docs.google.com/spreadsheets/d/1c3Ia3eDo4sfDZb6ajW2WVML4MhoKXWIVRbYqnsZgQRs/edit#gid=0\"\",\"\"RWA!F:BZ\"\"),44,0))\"),\"\")","v":""},{"$f":"IFERROR(__xludf.DUMMYFUNCTION(\"iferror(VLOOKUP(B635,IMPORTRANGE(\"\"https://docs.google.com/spreadsheets/d/1c3Ia3eDo4sfDZb6ajW2WVML4MhoKXWIVRbYqnsZgQRs/edit#gid=0\"\",\"\"RWA!F:BZ\"\"),48,0))\"),\"\")","v":""},{"$f":"IFERROR(__xludf.DUMMYFUNCTION(\"iferror(VLOOKUP(B635,IMPORTRANGE(\"\"https://docs.google.com/spreadsheets/d/1c3Ia3eDo4sfDZb6ajW2WVML4MhoKXWIVRbYqnsZgQRs/edit#gid=0\"\",\"\"RWA!F:BZ\"\"),49,0))\"),\"\")","v":""}]
[null,null,null,{"$f":"IFERROR(__xludf.DUMMYFUNCTION(\"iferror(VLOOKUP(B636,IMPORTRANGE(\"\"https://docs.google.com/spreadsheets/d/1c3Ia3eDo4sfDZb6ajW2WVML4MhoKXWIVRbYqnsZgQRs/edit#gid=0\"\",\"\"RWA!F:BZ\"\"),44,0))\"),\"\")","v":""},{"$f":"IFERROR(__xludf.DUMMYFUNCTION(\"iferror(VLOOKUP(B636,IMPORTRANGE(\"\"https://docs.google.com/spreadsheets/d/1c3Ia3eDo4sfDZb6ajW2WVML4MhoKXWIVRbYqnsZgQRs/edit#gid=0\"\",\"\"RWA!F:BZ\"\"),48,0))\"),\"\")","v":""},{"$f":"IFERROR(__xludf.DUMMYFUNCTION(\"iferror(VLOOKUP(B636,IMPORTRANGE(\"\"https://docs.google.com/spreadsheets/d/1c3Ia3eDo4sfDZb6ajW2WVML4MhoKXWIVRbYqnsZgQRs/edit#gid=0\"\",\"\"RWA!F:BZ\"\"),49,0))\"),\"\")","v":""}]
[null,null,null,{"$f":"IFERROR(__xludf.DUMMYFUNCTION(\"iferror(VLOOKUP(B637,IMPORTRANGE(\"\"https://docs.google.com/spreadsheets/d/1c3Ia3eDo4sfDZb6ajW2WVML4MhoKXWIVRbYqnsZgQRs/edit#gid=0\"\",\"\"RWA!F:BZ\"\"),44,0))\"),\"\")","v":""},{"$f":"IFERROR(__xludf.DUMMYFUNCTION(\"iferror(VLOOKUP(B637,IMPORTRANGE(\"\"https://docs.google.com/spreadsheets/d/1c3Ia3eDo4sfDZb6ajW2WVML4MhoKXWIVRbYqnsZgQRs/edit#gid=0\"\",\"\"RWA!F:BZ\"\"),48,0))\"),\"\")","v":""},{"$f":"IFERROR(__xludf.DUMMYFUNCTION(\"iferror(VLOOKUP(B637,IMPORTRANGE(\"\"https://docs.google.com/spreadsheets/d/1c3Ia3eDo4sfDZb6ajW2WVML4MhoKXWIVRbYqnsZgQRs/edit#gid=0\"\",\"\"RWA!F:BZ\"\"),49,0))\"),\"\")","v":""}]
[null,null,null,{"$f":"IFERROR(__xludf.DUMMYFUNCTION(\"iferror(VLOOKUP(B638,IMPORTRANGE(\"\"https://docs.google.com/spreadsheets/d/1c3Ia3eDo4sfDZb6ajW2WVML4MhoKXWIVRbYqnsZgQRs/edit#gid=0\"\",\"\"RWA!F:BZ\"\"),44,0))\"),\"\")","v":""},{"$f":"IFERROR(__xludf.DUMMYFUNCTION(\"iferror(VLOOKUP(B638,IMPORTRANGE(\"\"https://docs.google.com/spreadsheets/d/1c3Ia3eDo4sfDZb6ajW2WVML4MhoKXWIVRbYqnsZgQRs/edit#gid=0\"\",\"\"RWA!F:BZ\"\"),48,0))\"),\"\")","v":""},{"$f":"IFERROR(__xludf.DUMMYFUNCTION(\"iferror(VLOOKUP(B638,IMPORTRANGE(\"\"https://docs.google.com/spreadsheets/d/1c3Ia3eDo4sfDZb6ajW2WVML4MhoKXWIVRbYqnsZgQRs/edit#gid=0\"\",\"\"RWA!F:BZ\"\"),49,0))\"),\"\")","v":""}]
[null,null,null,{"$f":"IFERROR(__xludf.DUMMYFUNCTION(\"iferror(VLOOKUP(B639,IMPORTRANGE(\"\"https://docs.google.com/spreadsheets/d/1c3Ia3eDo4sfDZb6ajW2WVML4MhoKXWIVRbYqnsZgQRs/edit#gid=0\"\",\"\"RWA!F:BZ\"\"),44,0))\"),\"\")","v":""},{"$f":"IFERROR(__xludf.DUMMYFUNCTION(\"iferror(VLOOKUP(B639,IMPORTRANGE(\"\"https://docs.google.com/spreadsheets/d/1c3Ia3eDo4sfDZb6ajW2WVML4MhoKXWIVRbYqnsZgQRs/edit#gid=0\"\",\"\"RWA!F:BZ\"\"),48,0))\"),\"\")","v":""},{"$f":"IFERROR(__xludf.DUMMYFUNCTION(\"iferror(VLOOKUP(B639,IMPORTRANGE(\"\"https://docs.google.com/spreadsheets/d/1c3Ia3eDo4sfDZb6ajW2WVML4MhoKXWIVRbYqnsZgQRs/edit#gid=0\"\",\"\"RWA!F:BZ\"\"),49,0))\"),\"\")","v":""}]
[null,null,null,{"$f":"IFERROR(__xludf.DUMMYFUNCTION(\"iferror(VLOOKUP(B640,IMPORTRANGE(\"\"https://docs.google.com/spreadsheets/d/1c3Ia3eDo4sfDZb6ajW2WVML4MhoKXWIVRbYqnsZgQRs/edit#gid=0\"\",\"\"RWA!F:BZ\"\"),44,0))\"),\"\")","v":""},{"$f":"IFERROR(__xludf.DUMMYFUNCTION(\"iferror(VLOOKUP(B640,IMPORTRANGE(\"\"https://docs.google.com/spreadsheets/d/1c3Ia3eDo4sfDZb6ajW2WVML4MhoKXWIVRbYqnsZgQRs/edit#gid=0\"\",\"\"RWA!F:BZ\"\"),48,0))\"),\"\")","v":""},{"$f":"IFERROR(__xludf.DUMMYFUNCTION(\"iferror(VLOOKUP(B640,IMPORTRANGE(\"\"https://docs.google.com/spreadsheets/d/1c3Ia3eDo4sfDZb6ajW2WVML4MhoKXWIVRbYqnsZgQRs/edit#gid=0\"\",\"\"RWA!F:BZ\"\"),49,0))\"),\"\")","v":""}]
[null,null,null,{"$f":"IFERROR(__xludf.DUMMYFUNCTION(\"iferror(VLOOKUP(B641,IMPORTRANGE(\"\"https://docs.google.com/spreadsheets/d/1c3Ia3eDo4sfDZb6ajW2WVML4MhoKXWIVRbYqnsZgQRs/edit#gid=0\"\",\"\"RWA!F:BZ\"\"),44,0))\"),\"\")","v":""},{"$f":"IFERROR(__xludf.DUMMYFUNCTION(\"iferror(VLOOKUP(B641,IMPORTRANGE(\"\"https://docs.google.com/spreadsheets/d/1c3Ia3eDo4sfDZb6ajW2WVML4MhoKXWIVRbYqnsZgQRs/edit#gid=0\"\",\"\"RWA!F:BZ\"\"),48,0))\"),\"\")","v":""},{"$f":"IFERROR(__xludf.DUMMYFUNCTION(\"iferror(VLOOKUP(B641,IMPORTRANGE(\"\"https://docs.google.com/spreadsheets/d/1c3Ia3eDo4sfDZb6ajW2WVML4MhoKXWIVRbYqnsZgQRs/edit#gid=0\"\",\"\"RWA!F:BZ\"\"),49,0))\"),\"\")","v":""}]
[null,null,null,{"$f":"IFERROR(__xludf.DUMMYFUNCTION(\"iferror(VLOOKUP(B642,IMPORTRANGE(\"\"https://docs.google.com/spreadsheets/d/1c3Ia3eDo4sfDZb6ajW2WVML4MhoKXWIVRbYqnsZgQRs/edit#gid=0\"\",\"\"RWA!F:BZ\"\"),44,0))\"),\"\")","v":""},{"$f":"IFERROR(__xludf.DUMMYFUNCTION(\"iferror(VLOOKUP(B642,IMPORTRANGE(\"\"https://docs.google.com/spreadsheets/d/1c3Ia3eDo4sfDZb6ajW2WVML4MhoKXWIVRbYqnsZgQRs/edit#gid=0\"\",\"\"RWA!F:BZ\"\"),48,0))\"),\"\")","v":""},{"$f":"IFERROR(__xludf.DUMMYFUNCTION(\"iferror(VLOOKUP(B642,IMPORTRANGE(\"\"https://docs.google.com/spreadsheets/d/1c3Ia3eDo4sfDZb6ajW2WVML4MhoKXWIVRbYqnsZgQRs/edit#gid=0\"\",\"\"RWA!F:BZ\"\"),49,0))\"),\"\")","v":""}]
[null,null,null,{"$f":"IFERROR(__xludf.DUMMYFUNCTION(\"iferror(VLOOKUP(B643,IMPORTRANGE(\"\"https://docs.google.com/spreadsheets/d/1c3Ia3eDo4sfDZb6ajW2WVML4MhoKXWIVRbYqnsZgQRs/edit#gid=0\"\",\"\"RWA!F:BZ\"\"),44,0))\"),\"\")","v":""},{"$f":"IFERROR(__xludf.DUMMYFUNCTION(\"iferror(VLOOKUP(B643,IMPORTRANGE(\"\"https://docs.google.com/spreadsheets/d/1c3Ia3eDo4sfDZb6ajW2WVML4MhoKXWIVRbYqnsZgQRs/edit#gid=0\"\",\"\"RWA!F:BZ\"\"),48,0))\"),\"\")","v":""},{"$f":"IFERROR(__xludf.DUMMYFUNCTION(\"iferror(VLOOKUP(B643,IMPORTRANGE(\"\"https://docs.google.com/spreadsheets/d/1c3Ia3eDo4sfDZb6ajW2WVML4MhoKXWIVRbYqnsZgQRs/edit#gid=0\"\",\"\"RWA!F:BZ\"\"),49,0))\"),\"\")","v":""}]
[null,null,null,{"$f":"IFERROR(__xludf.DUMMYFUNCTION(\"iferror(VLOOKUP(B644,IMPORTRANGE(\"\"https://docs.google.com/spreadsheets/d/1c3Ia3eDo4sfDZb6ajW2WVML4MhoKXWIVRbYqnsZgQRs/edit#gid=0\"\",\"\"RWA!F:BZ\"\"),44,0))\"),\"\")","v":""},{"$f":"IFERROR(__xludf.DUMMYFUNCTION(\"iferror(VLOOKUP(B644,IMPORTRANGE(\"\"https://docs.google.com/spreadsheets/d/1c3Ia3eDo4sfDZb6ajW2WVML4MhoKXWIVRbYqnsZgQRs/edit#gid=0\"\",\"\"RWA!F:BZ\"\"),48,0))\"),\"\")","v":""},{"$f":"IFERROR(__xludf.DUMMYFUNCTION(\"iferror(VLOOKUP(B644,IMPORTRANGE(\"\"https://docs.google.com/spreadsheets/d/1c3Ia3eDo4sfDZb6ajW2WVML4MhoKXWIVRbYqnsZgQRs/edit#gid=0\"\",\"\"RWA!F:BZ\"\"),49,0))\"),\"\")","v":""}]
[null,null,null,{"$f":"IFERROR(__xludf.DUMMYFUNCTION(\"iferror(VLOOKUP(B645,IMPORTRANGE(\"\"https://docs.google.com/spreadsheets/d/1c3Ia3eDo4sfDZb6ajW2WVML4MhoKXWIVRbYqnsZgQRs/edit#gid=0\"\",\"\"RWA!F:BZ\"\"),44,0))\"),\"\")","v":""},{"$f":"IFERROR(__xludf.DUMMYFUNCTION(\"iferror(VLOOKUP(B645,IMPORTRANGE(\"\"https://docs.google.com/spreadsheets/d/1c3Ia3eDo4sfDZb6ajW2WVML4MhoKXWIVRbYqnsZgQRs/edit#gid=0\"\",\"\"RWA!F:BZ\"\"),48,0))\"),\"\")","v":""},{"$f":"IFERROR(__xludf.DUMMYFUNCTION(\"iferror(VLOOKUP(B645,IMPORTRANGE(\"\"https://docs.google.com/spreadsheets/d/1c3Ia3eDo4sfDZb6ajW2WVML4MhoKXWIVRbYqnsZgQRs/edit#gid=0\"\",\"\"RWA!F:BZ\"\"),49,0))\"),\"\")","v":""}]
[null,null,null,{"$f":"IFERROR(__xludf.DUMMYFUNCTION(\"iferror(VLOOKUP(B646,IMPORTRANGE(\"\"https://docs.google.com/spreadsheets/d/1c3Ia3eDo4sfDZb6ajW2WVML4MhoKXWIVRbYqnsZgQRs/edit#gid=0\"\",\"\"RWA!F:BZ\"\"),44,0))\"),\"\")","v":""},{"$f":"IFERROR(__xludf.DUMMYFUNCTION(\"iferror(VLOOKUP(B646,IMPORTRANGE(\"\"https://docs.google.com/spreadsheets/d/1c3Ia3eDo4sfDZb6ajW2WVML4MhoKXWIVRbYqnsZgQRs/edit#gid=0\"\",\"\"RWA!F:BZ\"\"),48,0))\"),\"\")","v":""},{"$f":"IFERROR(__xludf.DUMMYFUNCTION(\"iferror(VLOOKUP(B646,IMPORTRANGE(\"\"https://docs.google.com/spreadsheets/d/1c3Ia3eDo4sfDZb6ajW2WVML4MhoKXWIVRbYqnsZgQRs/edit#gid=0\"\",\"\"RWA!F:BZ\"\"),49,0))\"),\"\")","v":""}]
[null,null,null,{"$f":"IFERROR(__xludf.DUMMYFUNCTION(\"iferror(VLOOKUP(B647,IMPORTRANGE(\"\"https://docs.google.com/spreadsheets/d/1c3Ia3eDo4sfDZb6ajW2WVML4MhoKXWIVRbYqnsZgQRs/edit#gid=0\"\",\"\"RWA!F:BZ\"\"),44,0))\"),\"\")","v":""},{"$f":"IFERROR(__xludf.DUMMYFUNCTION(\"iferror(VLOOKUP(B647,IMPORTRANGE(\"\"https://docs.google.com/spreadsheets/d/1c3Ia3eDo4sfDZb6ajW2WVML4MhoKXWIVRbYqnsZgQRs/edit#gid=0\"\",\"\"RWA!F:BZ\"\"),48,0))\"),\"\")","v":""},{"$f":"IFERROR(__xludf.DUMMYFUNCTION(\"iferror(VLOOKUP(B647,IMPORTRANGE(\"\"https://docs.google.com/spreadsheets/d/1c3Ia3eDo4sfDZb6ajW2WVML4MhoKXWIVRbYqnsZgQRs/edit#gid=0\"\",\"\"RWA!F:BZ\"\"),49,0))\"),\"\")","v":""}]
[null,null,null,{"$f":"IFERROR(__xludf.DUMMYFUNCTION(\"iferror(VLOOKUP(B648,IMPORTRANGE(\"\"https://docs.google.com/spreadsheets/d/1c3Ia3eDo4sfDZb6ajW2WVML4MhoKXWIVRbYqnsZgQRs/edit#gid=0\"\",\"\"RWA!F:BZ\"\"),44,0))\"),\"\")","v":""},{"$f":"IFERROR(__xludf.DUMMYFUNCTION(\"iferror(VLOOKUP(B648,IMPORTRANGE(\"\"https://docs.google.com/spreadsheets/d/1c3Ia3eDo4sfDZb6ajW2WVML4MhoKXWIVRbYqnsZgQRs/edit#gid=0\"\",\"\"RWA!F:BZ\"\"),48,0))\"),\"\")","v":""},{"$f":"IFERROR(__xludf.DUMMYFUNCTION(\"iferror(VLOOKUP(B648,IMPORTRANGE(\"\"https://docs.google.com/spreadsheets/d/1c3Ia3eDo4sfDZb6ajW2WVML4MhoKXWIVRbYqnsZgQRs/edit#gid=0\"\",\"\"RWA!F:BZ\"\"),49,0))\"),\"\")","v":""}]
[null,null,null,{"$f":"IFERROR(__xludf.DUMMYFUNCTION(\"iferror(VLOOKUP(B649,IMPORTRANGE(\"\"https://docs.google.com/spreadsheets/d/1c3Ia3eDo4sfDZb6ajW2WVML4MhoKXWIVRbYqnsZgQRs/edit#gid=0\"\",\"\"RWA!F:BZ\"\"),44,0))\"),\"\")","v":""},{"$f":"IFERROR(__xludf.DUMMYFUNCTION(\"iferror(VLOOKUP(B649,IMPORTRANGE(\"\"https://docs.google.com/spreadsheets/d/1c3Ia3eDo4sfDZb6ajW2WVML4MhoKXWIVRbYqnsZgQRs/edit#gid=0\"\",\"\"RWA!F:BZ\"\"),48,0))\"),\"\")","v":""},{"$f":"IFERROR(__xludf.DUMMYFUNCTION(\"iferror(VLOOKUP(B649,IMPORTRANGE(\"\"https://docs.google.com/spreadsheets/d/1c3Ia3eDo4sfDZb6ajW2WVML4MhoKXWIVRbYqnsZgQRs/edit#gid=0\"\",\"\"RWA!F:BZ\"\"),49,0))\"),\"\")","v":""}]
[null,null,null,{"$f":"IFERROR(__xludf.DUMMYFUNCTION(\"iferror(VLOOKUP(B650,IMPORTRANGE(\"\"https://docs.google.com/spreadsheets/d/1c3Ia3eDo4sfDZb6ajW2WVML4MhoKXWIVRbYqnsZgQRs/edit#gid=0\"\",\"\"RWA!F:BZ\"\"),44,0))\"),\"\")","v":""},{"$f":"IFERROR(__xludf.DUMMYFUNCTION(\"iferror(VLOOKUP(B650,IMPORTRANGE(\"\"https://docs.google.com/spreadsheets/d/1c3Ia3eDo4sfDZb6ajW2WVML4MhoKXWIVRbYqnsZgQRs/edit#gid=0\"\",\"\"RWA!F:BZ\"\"),48,0))\"),\"\")","v":""},{"$f":"IFERROR(__xludf.DUMMYFUNCTION(\"iferror(VLOOKUP(B650,IMPORTRANGE(\"\"https://docs.google.com/spreadsheets/d/1c3Ia3eDo4sfDZb6ajW2WVML4MhoKXWIVRbYqnsZgQRs/edit#gid=0\"\",\"\"RWA!F:BZ\"\"),49,0))\"),\"\")","v":""}]
[null,null,null,{"$f":"IFERROR(__xludf.DUMMYFUNCTION(\"iferror(VLOOKUP(B651,IMPORTRANGE(\"\"https://docs.google.com/spreadsheets/d/1c3Ia3eDo4sfDZb6ajW2WVML4MhoKXWIVRbYqnsZgQRs/edit#gid=0\"\",\"\"RWA!F:BZ\"\"),44,0))\"),\"\")","v":""},{"$f":"IFERROR(__xludf.DUMMYFUNCTION(\"iferror(VLOOKUP(B651,IMPORTRANGE(\"\"https://docs.google.com/spreadsheets/d/1c3Ia3eDo4sfDZb6ajW2WVML4MhoKXWIVRbYqnsZgQRs/edit#gid=0\"\",\"\"RWA!F:BZ\"\"),48,0))\"),\"\")","v":""},{"$f":"IFERROR(__xludf.DUMMYFUNCTION(\"iferror(VLOOKUP(B651,IMPORTRANGE(\"\"https://docs.google.com/spreadsheets/d/1c3Ia3eDo4sfDZb6ajW2WVML4MhoKXWIVRbYqnsZgQRs/edit#gid=0\"\",\"\"RWA!F:BZ\"\"),49,0))\"),\"\")","v":""}]
[null,null,null,{"$f":"IFERROR(__xludf.DUMMYFUNCTION(\"iferror(VLOOKUP(B652,IMPORTRANGE(\"\"https://docs.google.com/spreadsheets/d/1c3Ia3eDo4sfDZb6ajW2WVML4MhoKXWIVRbYqnsZgQRs/edit#gid=0\"\",\"\"RWA!F:BZ\"\"),44,0))\"),\"\")","v":""},{"$f":"IFERROR(__xludf.DUMMYFUNCTION(\"iferror(VLOOKUP(B652,IMPORTRANGE(\"\"https://docs.google.com/spreadsheets/d/1c3Ia3eDo4sfDZb6ajW2WVML4MhoKXWIVRbYqnsZgQRs/edit#gid=0\"\",\"\"RWA!F:BZ\"\"),48,0))\"),\"\")","v":""},{"$f":"IFERROR(__xludf.DUMMYFUNCTION(\"iferror(VLOOKUP(B652,IMPORTRANGE(\"\"https://docs.google.com/spreadsheets/d/1c3Ia3eDo4sfDZb6ajW2WVML4MhoKXWIVRbYqnsZgQRs/edit#gid=0\"\",\"\"RWA!F:BZ\"\"),49,0))\"),\"\")","v":""}]
[null,null,null,{"$f":"IFERROR(__xludf.DUMMYFUNCTION(\"iferror(VLOOKUP(B653,IMPORTRANGE(\"\"https://docs.google.com/spreadsheets/d/1c3Ia3eDo4sfDZb6ajW2WVML4MhoKXWIVRbYqnsZgQRs/edit#gid=0\"\",\"\"RWA!F:BZ\"\"),44,0))\"),\"\")","v":""},{"$f":"IFERROR(__xludf.DUMMYFUNCTION(\"iferror(VLOOKUP(B653,IMPORTRANGE(\"\"https://docs.google.com/spreadsheets/d/1c3Ia3eDo4sfDZb6ajW2WVML4MhoKXWIVRbYqnsZgQRs/edit#gid=0\"\",\"\"RWA!F:BZ\"\"),48,0))\"),\"\")","v":""},{"$f":"IFERROR(__xludf.DUMMYFUNCTION(\"iferror(VLOOKUP(B653,IMPORTRANGE(\"\"https://docs.google.com/spreadsheets/d/1c3Ia3eDo4sfDZb6ajW2WVML4MhoKXWIVRbYqnsZgQRs/edit#gid=0\"\",\"\"RWA!F:BZ\"\"),49,0))\"),\"\")","v":""}]
[null,null,null,{"$f":"IFERROR(__xludf.DUMMYFUNCTION(\"iferror(VLOOKUP(B654,IMPORTRANGE(\"\"https://docs.google.com/spreadsheets/d/1c3Ia3eDo4sfDZb6ajW2WVML4MhoKXWIVRbYqnsZgQRs/edit#gid=0\"\",\"\"RWA!F:BZ\"\"),44,0))\"),\"\")","v":""},{"$f":"IFERROR(__xludf.DUMMYFUNCTION(\"iferror(VLOOKUP(B654,IMPORTRANGE(\"\"https://docs.google.com/spreadsheets/d/1c3Ia3eDo4sfDZb6ajW2WVML4MhoKXWIVRbYqnsZgQRs/edit#gid=0\"\",\"\"RWA!F:BZ\"\"),48,0))\"),\"\")","v":""},{"$f":"IFERROR(__xludf.DUMMYFUNCTION(\"iferror(VLOOKUP(B654,IMPORTRANGE(\"\"https://docs.google.com/spreadsheets/d/1c3Ia3eDo4sfDZb6ajW2WVML4MhoKXWIVRbYqnsZgQRs/edit#gid=0\"\",\"\"RWA!F:BZ\"\"),49,0))\"),\"\")","v":""}]
[null,null,null,{"$f":"IFERROR(__xludf.DUMMYFUNCTION(\"iferror(VLOOKUP(B655,IMPORTRANGE(\"\"https://docs.google.com/spreadsheets/d/1c3Ia3eDo4sfDZb6ajW2WVML4MhoKXWIVRbYqnsZgQRs/edit#gid=0\"\",\"\"RWA!F:BZ\"\"),44,0))\"),\"\")","v":""},{"$f":"IFERROR(__xludf.DUMMYFUNCTION(\"iferror(VLOOKUP(B655,IMPORTRANGE(\"\"https://docs.google.com/spreadsheets/d/1c3Ia3eDo4sfDZb6ajW2WVML4MhoKXWIVRbYqnsZgQRs/edit#gid=0\"\",\"\"RWA!F:BZ\"\"),48,0))\"),\"\")","v":""},{"$f":"IFERROR(__xludf.DUMMYFUNCTION(\"iferror(VLOOKUP(B655,IMPORTRANGE(\"\"https://docs.google.com/spreadsheets/d/1c3Ia3eDo4sfDZb6ajW2WVML4MhoKXWIVRbYqnsZgQRs/edit#gid=0\"\",\"\"RWA!F:BZ\"\"),49,0))\"),\"\")","v":""}]
[null,null,null,{"$f":"IFERROR(__xludf.DUMMYFUNCTION(\"iferror(VLOOKUP(B656,IMPORTRANGE(\"\"https://docs.google.com/spreadsheets/d/1c3Ia3eDo4sfDZb6ajW2WVML4MhoKXWIVRbYqnsZgQRs/edit#gid=0\"\",\"\"RWA!F:BZ\"\"),44,0))\"),\"\")","v":""},{"$f":"IFERROR(__xludf.DUMMYFUNCTION(\"iferror(VLOOKUP(B656,IMPORTRANGE(\"\"https://docs.google.com/spreadsheets/d/1c3Ia3eDo4sfDZb6ajW2WVML4MhoKXWIVRbYqnsZgQRs/edit#gid=0\"\",\"\"RWA!F:BZ\"\"),48,0))\"),\"\")","v":""},{"$f":"IFERROR(__xludf.DUMMYFUNCTION(\"iferror(VLOOKUP(B656,IMPORTRANGE(\"\"https://docs.google.com/spreadsheets/d/1c3Ia3eDo4sfDZb6ajW2WVML4MhoKXWIVRbYqnsZgQRs/edit#gid=0\"\",\"\"RWA!F:BZ\"\"),49,0))\"),\"\")","v":""}]
[null,null,null,{"$f":"IFERROR(__xludf.DUMMYFUNCTION(\"iferror(VLOOKUP(B657,IMPORTRANGE(\"\"https://docs.google.com/spreadsheets/d/1c3Ia3eDo4sfDZb6ajW2WVML4MhoKXWIVRbYqnsZgQRs/edit#gid=0\"\",\"\"RWA!F:BZ\"\"),44,0))\"),\"\")","v":""},{"$f":"IFERROR(__xludf.DUMMYFUNCTION(\"iferror(VLOOKUP(B657,IMPORTRANGE(\"\"https://docs.google.com/spreadsheets/d/1c3Ia3eDo4sfDZb6ajW2WVML4MhoKXWIVRbYqnsZgQRs/edit#gid=0\"\",\"\"RWA!F:BZ\"\"),48,0))\"),\"\")","v":""},{"$f":"IFERROR(__xludf.DUMMYFUNCTION(\"iferror(VLOOKUP(B657,IMPORTRANGE(\"\"https://docs.google.com/spreadsheets/d/1c3Ia3eDo4sfDZb6ajW2WVML4MhoKXWIVRbYqnsZgQRs/edit#gid=0\"\",\"\"RWA!F:BZ\"\"),49,0))\"),\"\")","v":""}]
[null,null,null,{"$f":"IFERROR(__xludf.DUMMYFUNCTION(\"iferror(VLOOKUP(B658,IMPORTRANGE(\"\"https://docs.google.com/spreadsheets/d/1c3Ia3eDo4sfDZb6ajW2WVML4MhoKXWIVRbYqnsZgQRs/edit#gid=0\"\",\"\"RWA!F:BZ\"\"),44,0))\"),\"\")","v":""},{"$f":"IFERROR(__xludf.DUMMYFUNCTION(\"iferror(VLOOKUP(B658,IMPORTRANGE(\"\"https://docs.google.com/spreadsheets/d/1c3Ia3eDo4sfDZb6ajW2WVML4MhoKXWIVRbYqnsZgQRs/edit#gid=0\"\",\"\"RWA!F:BZ\"\"),48,0))\"),\"\")","v":""},{"$f":"IFERROR(__xludf.DUMMYFUNCTION(\"iferror(VLOOKUP(B658,IMPORTRANGE(\"\"https://docs.google.com/spreadsheets/d/1c3Ia3eDo4sfDZb6ajW2WVML4MhoKXWIVRbYqnsZgQRs/edit#gid=0\"\",\"\"RWA!F:BZ\"\"),49,0))\"),\"\")","v":""}]
[null,null,null,{"$f":"IFERROR(__xludf.DUMMYFUNCTION(\"iferror(VLOOKUP(B659,IMPORTRANGE(\"\"https://docs.google.com/spreadsheets/d/1c3Ia3eDo4sfDZb6ajW2WVML4MhoKXWIVRbYqnsZgQRs/edit#gid=0\"\",\"\"RWA!F:BZ\"\"),44,0))\"),\"\")","v":""},{"$f":"IFERROR(__xludf.DUMMYFUNCTION(\"iferror(VLOOKUP(B659,IMPORTRANGE(\"\"https://docs.google.com/spreadsheets/d/1c3Ia3eDo4sfDZb6ajW2WVML4MhoKXWIVRbYqnsZgQRs/edit#gid=0\"\",\"\"RWA!F:BZ\"\"),48,0))\"),\"\")","v":""},{"$f":"IFERROR(__xludf.DUMMYFUNCTION(\"iferror(VLOOKUP(B659,IMPORTRANGE(\"\"https://docs.google.com/spreadsheets/d/1c3Ia3eDo4sfDZb6ajW2WVML4MhoKXWIVRbYqnsZgQRs/edit#gid=0\"\",\"\"RWA!F:BZ\"\"),49,0))\"),\"\")","v":""}]
[null,null,null,{"$f":"IFERROR(__xludf.DUMMYFUNCTION(\"iferror(VLOOKUP(B660,IMPORTRANGE(\"\"https://docs.google.com/spreadsheets/d/1c3Ia3eDo4sfDZb6ajW2WVML4MhoKXWIVRbYqnsZgQRs/edit#gid=0\"\",\"\"RWA!F:BZ\"\"),44,0))\"),\"\")","v":""},{"$f":"IFERROR(__xludf.DUMMYFUNCTION(\"iferror(VLOOKUP(B660,IMPORTRANGE(\"\"https://docs.google.com/spreadsheets/d/1c3Ia3eDo4sfDZb6ajW2WVML4MhoKXWIVRbYqnsZgQRs/edit#gid=0\"\",\"\"RWA!F:BZ\"\"),48,0))\"),\"\")","v":""},{"$f":"IFERROR(__xludf.DUMMYFUNCTION(\"iferror(VLOOKUP(B660,IMPORTRANGE(\"\"https://docs.google.com/spreadsheets/d/1c3Ia3eDo4sfDZb6ajW2WVML4MhoKXWIVRbYqnsZgQRs/edit#gid=0\"\",\"\"RWA!F:BZ\"\"),49,0))\"),\"\")","v":""}]
[null,null,null,{"$f":"IFERROR(__xludf.DUMMYFUNCTION(\"iferror(VLOOKUP(B661,IMPORTRANGE(\"\"https://docs.google.com/spreadsheets/d/1c3Ia3eDo4sfDZb6ajW2WVML4MhoKXWIVRbYqnsZgQRs/edit#gid=0\"\",\"\"RWA!F:BZ\"\"),44,0))\"),\"\")","v":""},{"$f":"IFERROR(__xludf.DUMMYFUNCTION(\"iferror(VLOOKUP(B661,IMPORTRANGE(\"\"https://docs.google.com/spreadsheets/d/1c3Ia3eDo4sfDZb6ajW2WVML4MhoKXWIVRbYqnsZgQRs/edit#gid=0\"\",\"\"RWA!F:BZ\"\"),48,0))\"),\"\")","v":""},{"$f":"IFERROR(__xludf.DUMMYFUNCTION(\"iferror(VLOOKUP(B661,IMPORTRANGE(\"\"https://docs.google.com/spreadsheets/d/1c3Ia3eDo4sfDZb6ajW2WVML4MhoKXWIVRbYqnsZgQRs/edit#gid=0\"\",\"\"RWA!F:BZ\"\"),49,0))\"),\"\")","v":""}]
[null,null,null,{"$f":"IFERROR(__xludf.DUMMYFUNCTION(\"iferror(VLOOKUP(B662,IMPORTRANGE(\"\"https://docs.google.com/spreadsheets/d/1c3Ia3eDo4sfDZb6ajW2WVML4MhoKXWIVRbYqnsZgQRs/edit#gid=0\"\",\"\"RWA!F:BZ\"\"),44,0))\"),\"\")","v":""},{"$f":"IFERROR(__xludf.DUMMYFUNCTION(\"iferror(VLOOKUP(B662,IMPORTRANGE(\"\"https://docs.google.com/spreadsheets/d/1c3Ia3eDo4sfDZb6ajW2WVML4MhoKXWIVRbYqnsZgQRs/edit#gid=0\"\",\"\"RWA!F:BZ\"\"),48,0))\"),\"\")","v":""},{"$f":"IFERROR(__xludf.DUMMYFUNCTION(\"iferror(VLOOKUP(B662,IMPORTRANGE(\"\"https://docs.google.com/spreadsheets/d/1c3Ia3eDo4sfDZb6ajW2WVML4MhoKXWIVRbYqnsZgQRs/edit#gid=0\"\",\"\"RWA!F:BZ\"\"),49,0))\"),\"\")","v":""}]
[null,null,null,{"$f":"IFERROR(__xludf.DUMMYFUNCTION(\"iferror(VLOOKUP(B663,IMPORTRANGE(\"\"https://docs.google.com/spreadsheets/d/1c3Ia3eDo4sfDZb6ajW2WVML4MhoKXWIVRbYqnsZgQRs/edit#gid=0\"\",\"\"RWA!F:BZ\"\"),44,0))\"),\"\")","v":""},{"$f":"IFERROR(__xludf.DUMMYFUNCTION(\"iferror(VLOOKUP(B663,IMPORTRANGE(\"\"https://docs.google.com/spreadsheets/d/1c3Ia3eDo4sfDZb6ajW2WVML4MhoKXWIVRbYqnsZgQRs/edit#gid=0\"\",\"\"RWA!F:BZ\"\"),48,0))\"),\"\")","v":""},{"$f":"IFERROR(__xludf.DUMMYFUNCTION(\"iferror(VLOOKUP(B663,IMPORTRANGE(\"\"https://docs.google.com/spreadsheets/d/1c3Ia3eDo4sfDZb6ajW2WVML4MhoKXWIVRbYqnsZgQRs/edit#gid=0\"\",\"\"RWA!F:BZ\"\"),49,0))\"),\"\")","v":""}]
[null,null,null,{"$f":"IFERROR(__xludf.DUMMYFUNCTION(\"iferror(VLOOKUP(B664,IMPORTRANGE(\"\"https://docs.google.com/spreadsheets/d/1c3Ia3eDo4sfDZb6ajW2WVML4MhoKXWIVRbYqnsZgQRs/edit#gid=0\"\",\"\"RWA!F:BZ\"\"),44,0))\"),\"\")","v":""},{"$f":"IFERROR(__xludf.DUMMYFUNCTION(\"iferror(VLOOKUP(B664,IMPORTRANGE(\"\"https://docs.google.com/spreadsheets/d/1c3Ia3eDo4sfDZb6ajW2WVML4MhoKXWIVRbYqnsZgQRs/edit#gid=0\"\",\"\"RWA!F:BZ\"\"),48,0))\"),\"\")","v":""},{"$f":"IFERROR(__xludf.DUMMYFUNCTION(\"iferror(VLOOKUP(B664,IMPORTRANGE(\"\"https://docs.google.com/spreadsheets/d/1c3Ia3eDo4sfDZb6ajW2WVML4MhoKXWIVRbYqnsZgQRs/edit#gid=0\"\",\"\"RWA!F:BZ\"\"),49,0))\"),\"\")","v":""}]
[null,null,null,{"$f":"IFERROR(__xludf.DUMMYFUNCTION(\"iferror(VLOOKUP(B665,IMPORTRANGE(\"\"https://docs.google.com/spreadsheets/d/1c3Ia3eDo4sfDZb6ajW2WVML4MhoKXWIVRbYqnsZgQRs/edit#gid=0\"\",\"\"RWA!F:BZ\"\"),44,0))\"),\"\")","v":""},{"$f":"IFERROR(__xludf.DUMMYFUNCTION(\"iferror(VLOOKUP(B665,IMPORTRANGE(\"\"https://docs.google.com/spreadsheets/d/1c3Ia3eDo4sfDZb6ajW2WVML4MhoKXWIVRbYqnsZgQRs/edit#gid=0\"\",\"\"RWA!F:BZ\"\"),48,0))\"),\"\")","v":""},{"$f":"IFERROR(__xludf.DUMMYFUNCTION(\"iferror(VLOOKUP(B665,IMPORTRANGE(\"\"https://docs.google.com/spreadsheets/d/1c3Ia3eDo4sfDZb6ajW2WVML4MhoKXWIVRbYqnsZgQRs/edit#gid=0\"\",\"\"RWA!F:BZ\"\"),49,0))\"),\"\")","v":""}]
[null,null,null,{"$f":"IFERROR(__xludf.DUMMYFUNCTION(\"iferror(VLOOKUP(B666,IMPORTRANGE(\"\"https://docs.google.com/spreadsheets/d/1c3Ia3eDo4sfDZb6ajW2WVML4MhoKXWIVRbYqnsZgQRs/edit#gid=0\"\",\"\"RWA!F:BZ\"\"),44,0))\"),\"\")","v":""},{"$f":"IFERROR(__xludf.DUMMYFUNCTION(\"iferror(VLOOKUP(B666,IMPORTRANGE(\"\"https://docs.google.com/spreadsheets/d/1c3Ia3eDo4sfDZb6ajW2WVML4MhoKXWIVRbYqnsZgQRs/edit#gid=0\"\",\"\"RWA!F:BZ\"\"),48,0))\"),\"\")","v":""},{"$f":"IFERROR(__xludf.DUMMYFUNCTION(\"iferror(VLOOKUP(B666,IMPORTRANGE(\"\"https://docs.google.com/spreadsheets/d/1c3Ia3eDo4sfDZb6ajW2WVML4MhoKXWIVRbYqnsZgQRs/edit#gid=0\"\",\"\"RWA!F:BZ\"\"),49,0))\"),\"\")","v":""}]
[null,null,null,{"$f":"IFERROR(__xludf.DUMMYFUNCTION(\"iferror(VLOOKUP(B667,IMPORTRANGE(\"\"https://docs.google.com/spreadsheets/d/1c3Ia3eDo4sfDZb6ajW2WVML4MhoKXWIVRbYqnsZgQRs/edit#gid=0\"\",\"\"RWA!F:BZ\"\"),44,0))\"),\"\")","v":""},{"$f":"IFERROR(__xludf.DUMMYFUNCTION(\"iferror(VLOOKUP(B667,IMPORTRANGE(\"\"https://docs.google.com/spreadsheets/d/1c3Ia3eDo4sfDZb6ajW2WVML4MhoKXWIVRbYqnsZgQRs/edit#gid=0\"\",\"\"RWA!F:BZ\"\"),48,0))\"),\"\")","v":""},{"$f":"IFERROR(__xludf.DUMMYFUNCTION(\"iferror(VLOOKUP(B667,IMPORTRANGE(\"\"https://docs.google.com/spreadsheets/d/1c3Ia3eDo4sfDZb6ajW2WVML4MhoKXWIVRbYqnsZgQRs/edit#gid=0\"\",\"\"RWA!F:BZ\"\"),49,0))\"),\"\")","v":""}]
[null,null,null,{"$f":"IFERROR(__xludf.DUMMYFUNCTION(\"iferror(VLOOKUP(B668,IMPORTRANGE(\"\"https://docs.google.com/spreadsheets/d/1c3Ia3eDo4sfDZb6ajW2WVML4MhoKXWIVRbYqnsZgQRs/edit#gid=0\"\",\"\"RWA!F:BZ\"\"),44,0))\"),\"\")","v":""},{"$f":"IFERROR(__xludf.DUMMYFUNCTION(\"iferror(VLOOKUP(B668,IMPORTRANGE(\"\"https://docs.google.com/spreadsheets/d/1c3Ia3eDo4sfDZb6ajW2WVML4MhoKXWIVRbYqnsZgQRs/edit#gid=0\"\",\"\"RWA!F:BZ\"\"),48,0))\"),\"\")","v":""},{"$f":"IFERROR(__xludf.DUMMYFUNCTION(\"iferror(VLOOKUP(B668,IMPORTRANGE(\"\"https://docs.google.com/spreadsheets/d/1c3Ia3eDo4sfDZb6ajW2WVML4MhoKXWIVRbYqnsZgQRs/edit#gid=0\"\",\"\"RWA!F:BZ\"\"),49,0))\"),\"\")","v":""}]
[null,null,null,{"$f":"IFERROR(__xludf.DUMMYFUNCTION(\"iferror(VLOOKUP(B669,IMPORTRANGE(\"\"https://docs.google.com/spreadsheets/d/1c3Ia3eDo4sfDZb6ajW2WVML4MhoKXWIVRbYqnsZgQRs/edit#gid=0\"\",\"\"RWA!F:BZ\"\"),44,0))\"),\"\")","v":""},{"$f":"IFERROR(__xludf.DUMMYFUNCTION(\"iferror(VLOOKUP(B669,IMPORTRANGE(\"\"https://docs.google.com/spreadsheets/d/1c3Ia3eDo4sfDZb6ajW2WVML4MhoKXWIVRbYqnsZgQRs/edit#gid=0\"\",\"\"RWA!F:BZ\"\"),48,0))\"),\"\")","v":""},{"$f":"IFERROR(__xludf.DUMMYFUNCTION(\"iferror(VLOOKUP(B669,IMPORTRANGE(\"\"https://docs.google.com/spreadsheets/d/1c3Ia3eDo4sfDZb6ajW2WVML4MhoKXWIVRbYqnsZgQRs/edit#gid=0\"\",\"\"RWA!F:BZ\"\"),49,0))\"),\"\")","v":""}]
[null,null,null,{"$f":"IFERROR(__xludf.DUMMYFUNCTION(\"iferror(VLOOKUP(B670,IMPORTRANGE(\"\"https://docs.google.com/spreadsheets/d/1c3Ia3eDo4sfDZb6ajW2WVML4MhoKXWIVRbYqnsZgQRs/edit#gid=0\"\",\"\"RWA!F:BZ\"\"),44,0))\"),\"\")","v":""},{"$f":"IFERROR(__xludf.DUMMYFUNCTION(\"iferror(VLOOKUP(B670,IMPORTRANGE(\"\"https://docs.google.com/spreadsheets/d/1c3Ia3eDo4sfDZb6ajW2WVML4MhoKXWIVRbYqnsZgQRs/edit#gid=0\"\",\"\"RWA!F:BZ\"\"),48,0))\"),\"\")","v":""},{"$f":"IFERROR(__xludf.DUMMYFUNCTION(\"iferror(VLOOKUP(B670,IMPORTRANGE(\"\"https://docs.google.com/spreadsheets/d/1c3Ia3eDo4sfDZb6ajW2WVML4MhoKXWIVRbYqnsZgQRs/edit#gid=0\"\",\"\"RWA!F:BZ\"\"),49,0))\"),\"\")","v":""}]
[null,null,null,{"$f":"IFERROR(__xludf.DUMMYFUNCTION(\"iferror(VLOOKUP(B671,IMPORTRANGE(\"\"https://docs.google.com/spreadsheets/d/1c3Ia3eDo4sfDZb6ajW2WVML4MhoKXWIVRbYqnsZgQRs/edit#gid=0\"\",\"\"RWA!F:BZ\"\"),44,0))\"),\"\")","v":""},{"$f":"IFERROR(__xludf.DUMMYFUNCTION(\"iferror(VLOOKUP(B671,IMPORTRANGE(\"\"https://docs.google.com/spreadsheets/d/1c3Ia3eDo4sfDZb6ajW2WVML4MhoKXWIVRbYqnsZgQRs/edit#gid=0\"\",\"\"RWA!F:BZ\"\"),48,0))\"),\"\")","v":""},{"$f":"IFERROR(__xludf.DUMMYFUNCTION(\"iferror(VLOOKUP(B671,IMPORTRANGE(\"\"https://docs.google.com/spreadsheets/d/1c3Ia3eDo4sfDZb6ajW2WVML4MhoKXWIVRbYqnsZgQRs/edit#gid=0\"\",\"\"RWA!F:BZ\"\"),49,0))\"),\"\")","v":""}]
[null,null,null,{"$f":"IFERROR(__xludf.DUMMYFUNCTION(\"iferror(VLOOKUP(B672,IMPORTRANGE(\"\"https://docs.google.com/spreadsheets/d/1c3Ia3eDo4sfDZb6ajW2WVML4MhoKXWIVRbYqnsZgQRs/edit#gid=0\"\",\"\"RWA!F:BZ\"\"),44,0))\"),\"\")","v":""},{"$f":"IFERROR(__xludf.DUMMYFUNCTION(\"iferror(VLOOKUP(B672,IMPORTRANGE(\"\"https://docs.google.com/spreadsheets/d/1c3Ia3eDo4sfDZb6ajW2WVML4MhoKXWIVRbYqnsZgQRs/edit#gid=0\"\",\"\"RWA!F:BZ\"\"),48,0))\"),\"\")","v":""},{"$f":"IFERROR(__xludf.DUMMYFUNCTION(\"iferror(VLOOKUP(B672,IMPORTRANGE(\"\"https://docs.google.com/spreadsheets/d/1c3Ia3eDo4sfDZb6ajW2WVML4MhoKXWIVRbYqnsZgQRs/edit#gid=0\"\",\"\"RWA!F:BZ\"\"),49,0))\"),\"\")","v":""}]
[null,null,null,{"$f":"IFERROR(__xludf.DUMMYFUNCTION(\"iferror(VLOOKUP(B673,IMPORTRANGE(\"\"https://docs.google.com/spreadsheets/d/1c3Ia3eDo4sfDZb6ajW2WVML4MhoKXWIVRbYqnsZgQRs/edit#gid=0\"\",\"\"RWA!F:BZ\"\"),44,0))\"),\"\")","v":""},{"$f":"IFERROR(__xludf.DUMMYFUNCTION(\"iferror(VLOOKUP(B673,IMPORTRANGE(\"\"https://docs.google.com/spreadsheets/d/1c3Ia3eDo4sfDZb6ajW2WVML4MhoKXWIVRbYqnsZgQRs/edit#gid=0\"\",\"\"RWA!F:BZ\"\"),48,0))\"),\"\")","v":""},{"$f":"IFERROR(__xludf.DUMMYFUNCTION(\"iferror(VLOOKUP(B673,IMPORTRANGE(\"\"https://docs.google.com/spreadsheets/d/1c3Ia3eDo4sfDZb6ajW2WVML4MhoKXWIVRbYqnsZgQRs/edit#gid=0\"\",\"\"RWA!F:BZ\"\"),49,0))\"),\"\")","v":""}]
[null,null,null,{"$f":"IFERROR(__xludf.DUMMYFUNCTION(\"iferror(VLOOKUP(B674,IMPORTRANGE(\"\"https://docs.google.com/spreadsheets/d/1c3Ia3eDo4sfDZb6ajW2WVML4MhoKXWIVRbYqnsZgQRs/edit#gid=0\"\",\"\"RWA!F:BZ\"\"),44,0))\"),\"\")","v":""},{"$f":"IFERROR(__xludf.DUMMYFUNCTION(\"iferror(VLOOKUP(B674,IMPORTRANGE(\"\"https://docs.google.com/spreadsheets/d/1c3Ia3eDo4sfDZb6ajW2WVML4MhoKXWIVRbYqnsZgQRs/edit#gid=0\"\",\"\"RWA!F:BZ\"\"),48,0))\"),\"\")","v":""},{"$f":"IFERROR(__xludf.DUMMYFUNCTION(\"iferror(VLOOKUP(B674,IMPORTRANGE(\"\"https://docs.google.com/spreadsheets/d/1c3Ia3eDo4sfDZb6ajW2WVML4MhoKXWIVRbYqnsZgQRs/edit#gid=0\"\",\"\"RWA!F:BZ\"\"),49,0))\"),\"\")","v":""}]
[null,null,null,{"$f":"IFERROR(__xludf.DUMMYFUNCTION(\"iferror(VLOOKUP(B675,IMPORTRANGE(\"\"https://docs.google.com/spreadsheets/d/1c3Ia3eDo4sfDZb6ajW2WVML4MhoKXWIVRbYqnsZgQRs/edit#gid=0\"\",\"\"RWA!F:BZ\"\"),44,0))\"),\"\")","v":""},{"$f":"IFERROR(__xludf.DUMMYFUNCTION(\"iferror(VLOOKUP(B675,IMPORTRANGE(\"\"https://docs.google.com/spreadsheets/d/1c3Ia3eDo4sfDZb6ajW2WVML4MhoKXWIVRbYqnsZgQRs/edit#gid=0\"\",\"\"RWA!F:BZ\"\"),48,0))\"),\"\")","v":""},{"$f":"IFERROR(__xludf.DUMMYFUNCTION(\"iferror(VLOOKUP(B675,IMPORTRANGE(\"\"https://docs.google.com/spreadsheets/d/1c3Ia3eDo4sfDZb6ajW2WVML4MhoKXWIVRbYqnsZgQRs/edit#gid=0\"\",\"\"RWA!F:BZ\"\"),49,0))\"),\"\")","v":""}]
[null,null,null,{"$f":"IFERROR(__xludf.DUMMYFUNCTION(\"iferror(VLOOKUP(B676,IMPORTRANGE(\"\"https://docs.google.com/spreadsheets/d/1c3Ia3eDo4sfDZb6ajW2WVML4MhoKXWIVRbYqnsZgQRs/edit#gid=0\"\",\"\"RWA!F:BZ\"\"),44,0))\"),\"\")","v":""},{"$f":"IFERROR(__xludf.DUMMYFUNCTION(\"iferror(VLOOKUP(B676,IMPORTRANGE(\"\"https://docs.google.com/spreadsheets/d/1c3Ia3eDo4sfDZb6ajW2WVML4MhoKXWIVRbYqnsZgQRs/edit#gid=0\"\",\"\"RWA!F:BZ\"\"),48,0))\"),\"\")","v":""},{"$f":"IFERROR(__xludf.DUMMYFUNCTION(\"iferror(VLOOKUP(B676,IMPORTRANGE(\"\"https://docs.google.com/spreadsheets/d/1c3Ia3eDo4sfDZb6ajW2WVML4MhoKXWIVRbYqnsZgQRs/edit#gid=0\"\",\"\"RWA!F:BZ\"\"),49,0))\"),\"\")","v":""}]
[null,null,null,{"$f":"IFERROR(__xludf.DUMMYFUNCTION(\"iferror(VLOOKUP(B677,IMPORTRANGE(\"\"https://docs.google.com/spreadsheets/d/1c3Ia3eDo4sfDZb6ajW2WVML4MhoKXWIVRbYqnsZgQRs/edit#gid=0\"\",\"\"RWA!F:BZ\"\"),44,0))\"),\"\")","v":""},{"$f":"IFERROR(__xludf.DUMMYFUNCTION(\"iferror(VLOOKUP(B677,IMPORTRANGE(\"\"https://docs.google.com/spreadsheets/d/1c3Ia3eDo4sfDZb6ajW2WVML4MhoKXWIVRbYqnsZgQRs/edit#gid=0\"\",\"\"RWA!F:BZ\"\"),48,0))\"),\"\")","v":""},{"$f":"IFERROR(__xludf.DUMMYFUNCTION(\"iferror(VLOOKUP(B677,IMPORTRANGE(\"\"https://docs.google.com/spreadsheets/d/1c3Ia3eDo4sfDZb6ajW2WVML4MhoKXWIVRbYqnsZgQRs/edit#gid=0\"\",\"\"RWA!F:BZ\"\"),49,0))\"),\"\")","v":""}]
[null,null,null,{"$f":"IFERROR(__xludf.DUMMYFUNCTION(\"iferror(VLOOKUP(B678,IMPORTRANGE(\"\"https://docs.google.com/spreadsheets/d/1c3Ia3eDo4sfDZb6ajW2WVML4MhoKXWIVRbYqnsZgQRs/edit#gid=0\"\",\"\"RWA!F:BZ\"\"),44,0))\"),\"\")","v":""},{"$f":"IFERROR(__xludf.DUMMYFUNCTION(\"iferror(VLOOKUP(B678,IMPORTRANGE(\"\"https://docs.google.com/spreadsheets/d/1c3Ia3eDo4sfDZb6ajW2WVML4MhoKXWIVRbYqnsZgQRs/edit#gid=0\"\",\"\"RWA!F:BZ\"\"),48,0))\"),\"\")","v":""},{"$f":"IFERROR(__xludf.DUMMYFUNCTION(\"iferror(VLOOKUP(B678,IMPORTRANGE(\"\"https://docs.google.com/spreadsheets/d/1c3Ia3eDo4sfDZb6ajW2WVML4MhoKXWIVRbYqnsZgQRs/edit#gid=0\"\",\"\"RWA!F:BZ\"\"),49,0))\"),\"\")","v":""}]
[null,null,null,{"$f":"IFERROR(__xludf.DUMMYFUNCTION(\"iferror(VLOOKUP(B679,IMPORTRANGE(\"\"https://docs.google.com/spreadsheets/d/1c3Ia3eDo4sfDZb6ajW2WVML4MhoKXWIVRbYqnsZgQRs/edit#gid=0\"\",\"\"RWA!F:BZ\"\"),44,0))\"),\"\")","v":""},{"$f":"IFERROR(__xludf.DUMMYFUNCTION(\"iferror(VLOOKUP(B679,IMPORTRANGE(\"\"https://docs.google.com/spreadsheets/d/1c3Ia3eDo4sfDZb6ajW2WVML4MhoKXWIVRbYqnsZgQRs/edit#gid=0\"\",\"\"RWA!F:BZ\"\"),48,0))\"),\"\")","v":""},{"$f":"IFERROR(__xludf.DUMMYFUNCTION(\"iferror(VLOOKUP(B679,IMPORTRANGE(\"\"https://docs.google.com/spreadsheets/d/1c3Ia3eDo4sfDZb6ajW2WVML4MhoKXWIVRbYqnsZgQRs/edit#gid=0\"\",\"\"RWA!F:BZ\"\"),49,0))\"),\"\")","v":""}]
[null,null,null,{"$f":"IFERROR(__xludf.DUMMYFUNCTION(\"iferror(VLOOKUP(B680,IMPORTRANGE(\"\"https://docs.google.com/spreadsheets/d/1c3Ia3eDo4sfDZb6ajW2WVML4MhoKXWIVRbYqnsZgQRs/edit#gid=0\"\",\"\"RWA!F:BZ\"\"),44,0))\"),\"\")","v":""},{"$f":"IFERROR(__xludf.DUMMYFUNCTION(\"iferror(VLOOKUP(B680,IMPORTRANGE(\"\"https://docs.google.com/spreadsheets/d/1c3Ia3eDo4sfDZb6ajW2WVML4MhoKXWIVRbYqnsZgQRs/edit#gid=0\"\",\"\"RWA!F:BZ\"\"),48,0))\"),\"\")","v":""},{"$f":"IFERROR(__xludf.DUMMYFUNCTION(\"iferror(VLOOKUP(B680,IMPORTRANGE(\"\"https://docs.google.com/spreadsheets/d/1c3Ia3eDo4sfDZb6ajW2WVML4MhoKXWIVRbYqnsZgQRs/edit#gid=0\"\",\"\"RWA!F:BZ\"\"),49,0))\"),\"\")","v":""}]
[null,null,null,{"$f":"IFERROR(__xludf.DUMMYFUNCTION(\"iferror(VLOOKUP(B681,IMPORTRANGE(\"\"https://docs.google.com/spreadsheets/d/1c3Ia3eDo4sfDZb6ajW2WVML4MhoKXWIVRbYqnsZgQRs/edit#gid=0\"\",\"\"RWA!F:BZ\"\"),44,0))\"),\"\")","v":""},{"$f":"IFERROR(__xludf.DUMMYFUNCTION(\"iferror(VLOOKUP(B681,IMPORTRANGE(\"\"https://docs.google.com/spreadsheets/d/1c3Ia3eDo4sfDZb6ajW2WVML4MhoKXWIVRbYqnsZgQRs/edit#gid=0\"\",\"\"RWA!F:BZ\"\"),48,0))\"),\"\")","v":""},{"$f":"IFERROR(__xludf.DUMMYFUNCTION(\"iferror(VLOOKUP(B681,IMPORTRANGE(\"\"https://docs.google.com/spreadsheets/d/1c3Ia3eDo4sfDZb6ajW2WVML4MhoKXWIVRbYqnsZgQRs/edit#gid=0\"\",\"\"RWA!F:BZ\"\"),49,0))\"),\"\")","v":""}]
[null,null,null,{"$f":"IFERROR(__xludf.DUMMYFUNCTION(\"iferror(VLOOKUP(B682,IMPORTRANGE(\"\"https://docs.google.com/spreadsheets/d/1c3Ia3eDo4sfDZb6ajW2WVML4MhoKXWIVRbYqnsZgQRs/edit#gid=0\"\",\"\"RWA!F:BZ\"\"),44,0))\"),\"\")","v":""},{"$f":"IFERROR(__xludf.DUMMYFUNCTION(\"iferror(VLOOKUP(B682,IMPORTRANGE(\"\"https://docs.google.com/spreadsheets/d/1c3Ia3eDo4sfDZb6ajW2WVML4MhoKXWIVRbYqnsZgQRs/edit#gid=0\"\",\"\"RWA!F:BZ\"\"),48,0))\"),\"\")","v":""},{"$f":"IFERROR(__xludf.DUMMYFUNCTION(\"iferror(VLOOKUP(B682,IMPORTRANGE(\"\"https://docs.google.com/spreadsheets/d/1c3Ia3eDo4sfDZb6ajW2WVML4MhoKXWIVRbYqnsZgQRs/edit#gid=0\"\",\"\"RWA!F:BZ\"\"),49,0))\"),\"\")","v":""}]
[null,null,null,{"$f":"IFERROR(__xludf.DUMMYFUNCTION(\"iferror(VLOOKUP(B683,IMPORTRANGE(\"\"https://docs.google.com/spreadsheets/d/1c3Ia3eDo4sfDZb6ajW2WVML4MhoKXWIVRbYqnsZgQRs/edit#gid=0\"\",\"\"RWA!F:BZ\"\"),44,0))\"),\"\")","v":""},{"$f":"IFERROR(__xludf.DUMMYFUNCTION(\"iferror(VLOOKUP(B683,IMPORTRANGE(\"\"https://docs.google.com/spreadsheets/d/1c3Ia3eDo4sfDZb6ajW2WVML4MhoKXWIVRbYqnsZgQRs/edit#gid=0\"\",\"\"RWA!F:BZ\"\"),48,0))\"),\"\")","v":""},{"$f":"IFERROR(__xludf.DUMMYFUNCTION(\"iferror(VLOOKUP(B683,IMPORTRANGE(\"\"https://docs.google.com/spreadsheets/d/1c3Ia3eDo4sfDZb6ajW2WVML4MhoKXWIVRbYqnsZgQRs/edit#gid=0\"\",\"\"RWA!F:BZ\"\"),49,0))\"),\"\")","v":""}]
[null,null,null,{"$f":"IFERROR(__xludf.DUMMYFUNCTION(\"iferror(VLOOKUP(B684,IMPORTRANGE(\"\"https://docs.google.com/spreadsheets/d/1c3Ia3eDo4sfDZb6ajW2WVML4MhoKXWIVRbYqnsZgQRs/edit#gid=0\"\",\"\"RWA!F:BZ\"\"),44,0))\"),\"\")","v":""},{"$f":"IFERROR(__xludf.DUMMYFUNCTION(\"iferror(VLOOKUP(B684,IMPORTRANGE(\"\"https://docs.google.com/spreadsheets/d/1c3Ia3eDo4sfDZb6ajW2WVML4MhoKXWIVRbYqnsZgQRs/edit#gid=0\"\",\"\"RWA!F:BZ\"\"),48,0))\"),\"\")","v":""},{"$f":"IFERROR(__xludf.DUMMYFUNCTION(\"iferror(VLOOKUP(B684,IMPORTRANGE(\"\"https://docs.google.com/spreadsheets/d/1c3Ia3eDo4sfDZb6ajW2WVML4MhoKXWIVRbYqnsZgQRs/edit#gid=0\"\",\"\"RWA!F:BZ\"\"),49,0))\"),\"\")","v":""}]
[null,null,null,{"$f":"IFERROR(__xludf.DUMMYFUNCTION(\"iferror(VLOOKUP(B685,IMPORTRANGE(\"\"https://docs.google.com/spreadsheets/d/1c3Ia3eDo4sfDZb6ajW2WVML4MhoKXWIVRbYqnsZgQRs/edit#gid=0\"\",\"\"RWA!F:BZ\"\"),44,0))\"),\"\")","v":""},{"$f":"IFERROR(__xludf.DUMMYFUNCTION(\"iferror(VLOOKUP(B685,IMPORTRANGE(\"\"https://docs.google.com/spreadsheets/d/1c3Ia3eDo4sfDZb6ajW2WVML4MhoKXWIVRbYqnsZgQRs/edit#gid=0\"\",\"\"RWA!F:BZ\"\"),48,0))\"),\"\")","v":""},{"$f":"IFERROR(__xludf.DUMMYFUNCTION(\"iferror(VLOOKUP(B685,IMPORTRANGE(\"\"https://docs.google.com/spreadsheets/d/1c3Ia3eDo4sfDZb6ajW2WVML4MhoKXWIVRbYqnsZgQRs/edit#gid=0\"\",\"\"RWA!F:BZ\"\"),49,0))\"),\"\")","v":""}]
[null,null,null,{"$f":"IFERROR(__xludf.DUMMYFUNCTION(\"iferror(VLOOKUP(B686,IMPORTRANGE(\"\"https://docs.google.com/spreadsheets/d/1c3Ia3eDo4sfDZb6ajW2WVML4MhoKXWIVRbYqnsZgQRs/edit#gid=0\"\",\"\"RWA!F:BZ\"\"),44,0))\"),\"\")","v":""},{"$f":"IFERROR(__xludf.DUMMYFUNCTION(\"iferror(VLOOKUP(B686,IMPORTRANGE(\"\"https://docs.google.com/spreadsheets/d/1c3Ia3eDo4sfDZb6ajW2WVML4MhoKXWIVRbYqnsZgQRs/edit#gid=0\"\",\"\"RWA!F:BZ\"\"),48,0))\"),\"\")","v":""},{"$f":"IFERROR(__xludf.DUMMYFUNCTION(\"iferror(VLOOKUP(B686,IMPORTRANGE(\"\"https://docs.google.com/spreadsheets/d/1c3Ia3eDo4sfDZb6ajW2WVML4MhoKXWIVRbYqnsZgQRs/edit#gid=0\"\",\"\"RWA!F:BZ\"\"),49,0))\"),\"\")","v":""}]
[null,null,null,{"$f":"IFERROR(__xludf.DUMMYFUNCTION(\"iferror(VLOOKUP(B687,IMPORTRANGE(\"\"https://docs.google.com/spreadsheets/d/1c3Ia3eDo4sfDZb6ajW2WVML4MhoKXWIVRbYqnsZgQRs/edit#gid=0\"\",\"\"RWA!F:BZ\"\"),44,0))\"),\"\")","v":""},{"$f":"IFERROR(__xludf.DUMMYFUNCTION(\"iferror(VLOOKUP(B687,IMPORTRANGE(\"\"https://docs.google.com/spreadsheets/d/1c3Ia3eDo4sfDZb6ajW2WVML4MhoKXWIVRbYqnsZgQRs/edit#gid=0\"\",\"\"RWA!F:BZ\"\"),48,0))\"),\"\")","v":""},{"$f":"IFERROR(__xludf.DUMMYFUNCTION(\"iferror(VLOOKUP(B687,IMPORTRANGE(\"\"https://docs.google.com/spreadsheets/d/1c3Ia3eDo4sfDZb6ajW2WVML4MhoKXWIVRbYqnsZgQRs/edit#gid=0\"\",\"\"RWA!F:BZ\"\"),49,0))\"),\"\")","v":""}]
[null,null,null,{"$f":"IFERROR(__xludf.DUMMYFUNCTION(\"iferror(VLOOKUP(B688,IMPORTRANGE(\"\"https://docs.google.com/spreadsheets/d/1c3Ia3eDo4sfDZb6ajW2WVML4MhoKXWIVRbYqnsZgQRs/edit#gid=0\"\",\"\"RWA!F:BZ\"\"),44,0))\"),\"\")","v":""},{"$f":"IFERROR(__xludf.DUMMYFUNCTION(\"iferror(VLOOKUP(B688,IMPORTRANGE(\"\"https://docs.google.com/spreadsheets/d/1c3Ia3eDo4sfDZb6ajW2WVML4MhoKXWIVRbYqnsZgQRs/edit#gid=0\"\",\"\"RWA!F:BZ\"\"),48,0))\"),\"\")","v":""},{"$f":"IFERROR(__xludf.DUMMYFUNCTION(\"iferror(VLOOKUP(B688,IMPORTRANGE(\"\"https://docs.google.com/spreadsheets/d/1c3Ia3eDo4sfDZb6ajW2WVML4MhoKXWIVRbYqnsZgQRs/edit#gid=0\"\",\"\"RWA!F:BZ\"\"),49,0))\"),\"\")","v":""}]
[null,null,null,{"$f":"IFERROR(__xludf.DUMMYFUNCTION(\"iferror(VLOOKUP(B689,IMPORTRANGE(\"\"https://docs.google.com/spreadsheets/d/1c3Ia3eDo4sfDZb6ajW2WVML4MhoKXWIVRbYqnsZgQRs/edit#gid=0\"\",\"\"RWA!F:BZ\"\"),44,0))\"),\"\")","v":""},{"$f":"IFERROR(__xludf.DUMMYFUNCTION(\"iferror(VLOOKUP(B689,IMPORTRANGE(\"\"https://docs.google.com/spreadsheets/d/1c3Ia3eDo4sfDZb6ajW2WVML4MhoKXWIVRbYqnsZgQRs/edit#gid=0\"\",\"\"RWA!F:BZ\"\"),48,0))\"),\"\")","v":""},{"$f":"IFERROR(__xludf.DUMMYFUNCTION(\"iferror(VLOOKUP(B689,IMPORTRANGE(\"\"https://docs.google.com/spreadsheets/d/1c3Ia3eDo4sfDZb6ajW2WVML4MhoKXWIVRbYqnsZgQRs/edit#gid=0\"\",\"\"RWA!F:BZ\"\"),49,0))\"),\"\")","v":""}]
[null,null,null,{"$f":"IFERROR(__xludf.DUMMYFUNCTION(\"iferror(VLOOKUP(B690,IMPORTRANGE(\"\"https://docs.google.com/spreadsheets/d/1c3Ia3eDo4sfDZb6ajW2WVML4MhoKXWIVRbYqnsZgQRs/edit#gid=0\"\",\"\"RWA!F:BZ\"\"),44,0))\"),\"\")","v":""},{"$f":"IFERROR(__xludf.DUMMYFUNCTION(\"iferror(VLOOKUP(B690,IMPORTRANGE(\"\"https://docs.google.com/spreadsheets/d/1c3Ia3eDo4sfDZb6ajW2WVML4MhoKXWIVRbYqnsZgQRs/edit#gid=0\"\",\"\"RWA!F:BZ\"\"),48,0))\"),\"\")","v":""},{"$f":"IFERROR(__xludf.DUMMYFUNCTION(\"iferror(VLOOKUP(B690,IMPORTRANGE(\"\"https://docs.google.com/spreadsheets/d/1c3Ia3eDo4sfDZb6ajW2WVML4MhoKXWIVRbYqnsZgQRs/edit#gid=0\"\",\"\"RWA!F:BZ\"\"),49,0))\"),\"\")","v":""}]
[null,null,null,{"$f":"IFERROR(__xludf.DUMMYFUNCTION(\"iferror(VLOOKUP(B691,IMPORTRANGE(\"\"https://docs.google.com/spreadsheets/d/1c3Ia3eDo4sfDZb6ajW2WVML4MhoKXWIVRbYqnsZgQRs/edit#gid=0\"\",\"\"RWA!F:BZ\"\"),44,0))\"),\"\")","v":""},{"$f":"IFERROR(__xludf.DUMMYFUNCTION(\"iferror(VLOOKUP(B691,IMPORTRANGE(\"\"https://docs.google.com/spreadsheets/d/1c3Ia3eDo4sfDZb6ajW2WVML4MhoKXWIVRbYqnsZgQRs/edit#gid=0\"\",\"\"RWA!F:BZ\"\"),48,0))\"),\"\")","v":""},{"$f":"IFERROR(__xludf.DUMMYFUNCTION(\"iferror(VLOOKUP(B691,IMPORTRANGE(\"\"https://docs.google.com/spreadsheets/d/1c3Ia3eDo4sfDZb6ajW2WVML4MhoKXWIVRbYqnsZgQRs/edit#gid=0\"\",\"\"RWA!F:BZ\"\"),49,0))\"),\"\")","v":""}]
[null,null,null,{"$f":"IFERROR(__xludf.DUMMYFUNCTION(\"iferror(VLOOKUP(B692,IMPORTRANGE(\"\"https://docs.google.com/spreadsheets/d/1c3Ia3eDo4sfDZb6ajW2WVML4MhoKXWIVRbYqnsZgQRs/edit#gid=0\"\",\"\"RWA!F:BZ\"\"),44,0))\"),\"\")","v":""},{"$f":"IFERROR(__xludf.DUMMYFUNCTION(\"iferror(VLOOKUP(B692,IMPORTRANGE(\"\"https://docs.google.com/spreadsheets/d/1c3Ia3eDo4sfDZb6ajW2WVML4MhoKXWIVRbYqnsZgQRs/edit#gid=0\"\",\"\"RWA!F:BZ\"\"),48,0))\"),\"\")","v":""},{"$f":"IFERROR(__xludf.DUMMYFUNCTION(\"iferror(VLOOKUP(B692,IMPORTRANGE(\"\"https://docs.google.com/spreadsheets/d/1c3Ia3eDo4sfDZb6ajW2WVML4MhoKXWIVRbYqnsZgQRs/edit#gid=0\"\",\"\"RWA!F:BZ\"\"),49,0))\"),\"\")","v":""}]
[null,null,null,{"$f":"IFERROR(__xludf.DUMMYFUNCTION(\"iferror(VLOOKUP(B693,IMPORTRANGE(\"\"https://docs.google.com/spreadsheets/d/1c3Ia3eDo4sfDZb6ajW2WVML4MhoKXWIVRbYqnsZgQRs/edit#gid=0\"\",\"\"RWA!F:BZ\"\"),44,0))\"),\"\")","v":""},{"$f":"IFERROR(__xludf.DUMMYFUNCTION(\"iferror(VLOOKUP(B693,IMPORTRANGE(\"\"https://docs.google.com/spreadsheets/d/1c3Ia3eDo4sfDZb6ajW2WVML4MhoKXWIVRbYqnsZgQRs/edit#gid=0\"\",\"\"RWA!F:BZ\"\"),48,0))\"),\"\")","v":""},{"$f":"IFERROR(__xludf.DUMMYFUNCTION(\"iferror(VLOOKUP(B693,IMPORTRANGE(\"\"https://docs.google.com/spreadsheets/d/1c3Ia3eDo4sfDZb6ajW2WVML4MhoKXWIVRbYqnsZgQRs/edit#gid=0\"\",\"\"RWA!F:BZ\"\"),49,0))\"),\"\")","v":""}]
[null,null,null,{"$f":"IFERROR(__xludf.DUMMYFUNCTION(\"iferror(VLOOKUP(B694,IMPORTRANGE(\"\"https://docs.google.com/spreadsheets/d/1c3Ia3eDo4sfDZb6ajW2WVML4MhoKXWIVRbYqnsZgQRs/edit#gid=0\"\",\"\"RWA!F:BZ\"\"),44,0))\"),\"\")","v":""},{"$f":"IFERROR(__xludf.DUMMYFUNCTION(\"iferror(VLOOKUP(B694,IMPORTRANGE(\"\"https://docs.google.com/spreadsheets/d/1c3Ia3eDo4sfDZb6ajW2WVML4MhoKXWIVRbYqnsZgQRs/edit#gid=0\"\",\"\"RWA!F:BZ\"\"),48,0))\"),\"\")","v":""},{"$f":"IFERROR(__xludf.DUMMYFUNCTION(\"iferror(VLOOKUP(B694,IMPORTRANGE(\"\"https://docs.google.com/spreadsheets/d/1c3Ia3eDo4sfDZb6ajW2WVML4MhoKXWIVRbYqnsZgQRs/edit#gid=0\"\",\"\"RWA!F:BZ\"\"),49,0))\"),\"\")","v":""}]
[null,null,null,{"$f":"IFERROR(__xludf.DUMMYFUNCTION(\"iferror(VLOOKUP(B695,IMPORTRANGE(\"\"https://docs.google.com/spreadsheets/d/1c3Ia3eDo4sfDZb6ajW2WVML4MhoKXWIVRbYqnsZgQRs/edit#gid=0\"\",\"\"RWA!F:BZ\"\"),44,0))\"),\"\")","v":""},{"$f":"IFERROR(__xludf.DUMMYFUNCTION(\"iferror(VLOOKUP(B695,IMPORTRANGE(\"\"https://docs.google.com/spreadsheets/d/1c3Ia3eDo4sfDZb6ajW2WVML4MhoKXWIVRbYqnsZgQRs/edit#gid=0\"\",\"\"RWA!F:BZ\"\"),48,0))\"),\"\")","v":""},{"$f":"IFERROR(__xludf.DUMMYFUNCTION(\"iferror(VLOOKUP(B695,IMPORTRANGE(\"\"https://docs.google.com/spreadsheets/d/1c3Ia3eDo4sfDZb6ajW2WVML4MhoKXWIVRbYqnsZgQRs/edit#gid=0\"\",\"\"RWA!F:BZ\"\"),49,0))\"),\"\")","v":""}]
[null,null,null,{"$f":"IFERROR(__xludf.DUMMYFUNCTION(\"iferror(VLOOKUP(B696,IMPORTRANGE(\"\"https://docs.google.com/spreadsheets/d/1c3Ia3eDo4sfDZb6ajW2WVML4MhoKXWIVRbYqnsZgQRs/edit#gid=0\"\",\"\"RWA!F:BZ\"\"),44,0))\"),\"\")","v":""},{"$f":"IFERROR(__xludf.DUMMYFUNCTION(\"iferror(VLOOKUP(B696,IMPORTRANGE(\"\"https://docs.google.com/spreadsheets/d/1c3Ia3eDo4sfDZb6ajW2WVML4MhoKXWIVRbYqnsZgQRs/edit#gid=0\"\",\"\"RWA!F:BZ\"\"),48,0))\"),\"\")","v":""},{"$f":"IFERROR(__xludf.DUMMYFUNCTION(\"iferror(VLOOKUP(B696,IMPORTRANGE(\"\"https://docs.google.com/spreadsheets/d/1c3Ia3eDo4sfDZb6ajW2WVML4MhoKXWIVRbYqnsZgQRs/edit#gid=0\"\",\"\"RWA!F:BZ\"\"),49,0))\"),\"\")","v":""}]
[null,null,null,{"$f":"IFERROR(__xludf.DUMMYFUNCTION(\"iferror(VLOOKUP(B697,IMPORTRANGE(\"\"https://docs.google.com/spreadsheets/d/1c3Ia3eDo4sfDZb6ajW2WVML4MhoKXWIVRbYqnsZgQRs/edit#gid=0\"\",\"\"RWA!F:BZ\"\"),44,0))\"),\"\")","v":""},{"$f":"IFERROR(__xludf.DUMMYFUNCTION(\"iferror(VLOOKUP(B697,IMPORTRANGE(\"\"https://docs.google.com/spreadsheets/d/1c3Ia3eDo4sfDZb6ajW2WVML4MhoKXWIVRbYqnsZgQRs/edit#gid=0\"\",\"\"RWA!F:BZ\"\"),48,0))\"),\"\")","v":""},{"$f":"IFERROR(__xludf.DUMMYFUNCTION(\"iferror(VLOOKUP(B697,IMPORTRANGE(\"\"https://docs.google.com/spreadsheets/d/1c3Ia3eDo4sfDZb6ajW2WVML4MhoKXWIVRbYqnsZgQRs/edit#gid=0\"\",\"\"RWA!F:BZ\"\"),49,0))\"),\"\")","v":""}]
[null,null,null,{"$f":"IFERROR(__xludf.DUMMYFUNCTION(\"iferror(VLOOKUP(B698,IMPORTRANGE(\"\"https://docs.google.com/spreadsheets/d/1c3Ia3eDo4sfDZb6ajW2WVML4MhoKXWIVRbYqnsZgQRs/edit#gid=0\"\",\"\"RWA!F:BZ\"\"),44,0))\"),\"\")","v":""},{"$f":"IFERROR(__xludf.DUMMYFUNCTION(\"iferror(VLOOKUP(B698,IMPORTRANGE(\"\"https://docs.google.com/spreadsheets/d/1c3Ia3eDo4sfDZb6ajW2WVML4MhoKXWIVRbYqnsZgQRs/edit#gid=0\"\",\"\"RWA!F:BZ\"\"),48,0))\"),\"\")","v":""},{"$f":"IFERROR(__xludf.DUMMYFUNCTION(\"iferror(VLOOKUP(B698,IMPORTRANGE(\"\"https://docs.google.com/spreadsheets/d/1c3Ia3eDo4sfDZb6ajW2WVML4MhoKXWIVRbYqnsZgQRs/edit#gid=0\"\",\"\"RWA!F:BZ\"\"),49,0))\"),\"\")","v":""}]
[null,null,null,{"$f":"IFERROR(__xludf.DUMMYFUNCTION(\"iferror(VLOOKUP(B699,IMPORTRANGE(\"\"https://docs.google.com/spreadsheets/d/1c3Ia3eDo4sfDZb6ajW2WVML4MhoKXWIVRbYqnsZgQRs/edit#gid=0\"\",\"\"RWA!F:BZ\"\"),44,0))\"),\"\")","v":""},{"$f":"IFERROR(__xludf.DUMMYFUNCTION(\"iferror(VLOOKUP(B699,IMPORTRANGE(\"\"https://docs.google.com/spreadsheets/d/1c3Ia3eDo4sfDZb6ajW2WVML4MhoKXWIVRbYqnsZgQRs/edit#gid=0\"\",\"\"RWA!F:BZ\"\"),48,0))\"),\"\")","v":""},{"$f":"IFERROR(__xludf.DUMMYFUNCTION(\"iferror(VLOOKUP(B699,IMPORTRANGE(\"\"https://docs.google.com/spreadsheets/d/1c3Ia3eDo4sfDZb6ajW2WVML4MhoKXWIVRbYqnsZgQRs/edit#gid=0\"\",\"\"RWA!F:BZ\"\"),49,0))\"),\"\")","v":""}]
[null,null,null,{"$f":"IFERROR(__xludf.DUMMYFUNCTION(\"iferror(VLOOKUP(B700,IMPORTRANGE(\"\"https://docs.google.com/spreadsheets/d/1c3Ia3eDo4sfDZb6ajW2WVML4MhoKXWIVRbYqnsZgQRs/edit#gid=0\"\",\"\"RWA!F:BZ\"\"),44,0))\"),\"\")","v":""},{"$f":"IFERROR(__xludf.DUMMYFUNCTION(\"iferror(VLOOKUP(B700,IMPORTRANGE(\"\"https://docs.google.com/spreadsheets/d/1c3Ia3eDo4sfDZb6ajW2WVML4MhoKXWIVRbYqnsZgQRs/edit#gid=0\"\",\"\"RWA!F:BZ\"\"),48,0))\"),\"\")","v":""},{"$f":"IFERROR(__xludf.DUMMYFUNCTION(\"iferror(VLOOKUP(B700,IMPORTRANGE(\"\"https://docs.google.com/spreadsheets/d/1c3Ia3eDo4sfDZb6ajW2WVML4MhoKXWIVRbYqnsZgQRs/edit#gid=0\"\",\"\"RWA!F:BZ\"\"),49,0))\"),\"\")","v":""}]
[null,null,null,{"$f":"IFERROR(__xludf.DUMMYFUNCTION(\"iferror(VLOOKUP(B701,IMPORTRANGE(\"\"https://docs.google.com/spreadsheets/d/1c3Ia3eDo4sfDZb6ajW2WVML4MhoKXWIVRbYqnsZgQRs/edit#gid=0\"\",\"\"RWA!F:BZ\"\"),44,0))\"),\"\")","v":""},{"$f":"IFERROR(__xludf.DUMMYFUNCTION(\"iferror(VLOOKUP(B701,IMPORTRANGE(\"\"https://docs.google.com/spreadsheets/d/1c3Ia3eDo4sfDZb6ajW2WVML4MhoKXWIVRbYqnsZgQRs/edit#gid=0\"\",\"\"RWA!F:BZ\"\"),48,0))\"),\"\")","v":""},{"$f":"IFERROR(__xludf.DUMMYFUNCTION(\"iferror(VLOOKUP(B701,IMPORTRANGE(\"\"https://docs.google.com/spreadsheets/d/1c3Ia3eDo4sfDZb6ajW2WVML4MhoKXWIVRbYqnsZgQRs/edit#gid=0\"\",\"\"RWA!F:BZ\"\"),49,0))\"),\"\")","v":""}]
[null,null,null,{"$f":"IFERROR(__xludf.DUMMYFUNCTION(\"iferror(VLOOKUP(B702,IMPORTRANGE(\"\"https://docs.google.com/spreadsheets/d/1c3Ia3eDo4sfDZb6ajW2WVML4MhoKXWIVRbYqnsZgQRs/edit#gid=0\"\",\"\"RWA!F:BZ\"\"),44,0))\"),\"\")","v":""},{"$f":"IFERROR(__xludf.DUMMYFUNCTION(\"iferror(VLOOKUP(B702,IMPORTRANGE(\"\"https://docs.google.com/spreadsheets/d/1c3Ia3eDo4sfDZb6ajW2WVML4MhoKXWIVRbYqnsZgQRs/edit#gid=0\"\",\"\"RWA!F:BZ\"\"),48,0))\"),\"\")","v":""},{"$f":"IFERROR(__xludf.DUMMYFUNCTION(\"iferror(VLOOKUP(B702,IMPORTRANGE(\"\"https://docs.google.com/spreadsheets/d/1c3Ia3eDo4sfDZb6ajW2WVML4MhoKXWIVRbYqnsZgQRs/edit#gid=0\"\",\"\"RWA!F:BZ\"\"),49,0))\"),\"\")","v":""}]
[null,null,null,{"$f":"IFERROR(__xludf.DUMMYFUNCTION(\"iferror(VLOOKUP(B703,IMPORTRANGE(\"\"https://docs.google.com/spreadsheets/d/1c3Ia3eDo4sfDZb6ajW2WVML4MhoKXWIVRbYqnsZgQRs/edit#gid=0\"\",\"\"RWA!F:BZ\"\"),44,0))\"),\"\")","v":""},{"$f":"IFERROR(__xludf.DUMMYFUNCTION(\"iferror(VLOOKUP(B703,IMPORTRANGE(\"\"https://docs.google.com/spreadsheets/d/1c3Ia3eDo4sfDZb6ajW2WVML4MhoKXWIVRbYqnsZgQRs/edit#gid=0\"\",\"\"RWA!F:BZ\"\"),48,0))\"),\"\")","v":""},{"$f":"IFERROR(__xludf.DUMMYFUNCTION(\"iferror(VLOOKUP(B703,IMPORTRANGE(\"\"https://docs.google.com/spreadsheets/d/1c3Ia3eDo4sfDZb6ajW2WVML4MhoKXWIVRbYqnsZgQRs/edit#gid=0\"\",\"\"RWA!F:BZ\"\"),49,0))\"),\"\")","v":""}]
[null,null,null,{"$f":"IFERROR(__xludf.DUMMYFUNCTION(\"iferror(VLOOKUP(B704,IMPORTRANGE(\"\"https://docs.google.com/spreadsheets/d/1c3Ia3eDo4sfDZb6ajW2WVML4MhoKXWIVRbYqnsZgQRs/edit#gid=0\"\",\"\"RWA!F:BZ\"\"),44,0))\"),\"\")","v":""},{"$f":"IFERROR(__xludf.DUMMYFUNCTION(\"iferror(VLOOKUP(B704,IMPORTRANGE(\"\"https://docs.google.com/spreadsheets/d/1c3Ia3eDo4sfDZb6ajW2WVML4MhoKXWIVRbYqnsZgQRs/edit#gid=0\"\",\"\"RWA!F:BZ\"\"),48,0))\"),\"\")","v":""},{"$f":"IFERROR(__xludf.DUMMYFUNCTION(\"iferror(VLOOKUP(B704,IMPORTRANGE(\"\"https://docs.google.com/spreadsheets/d/1c3Ia3eDo4sfDZb6ajW2WVML4MhoKXWIVRbYqnsZgQRs/edit#gid=0\"\",\"\"RWA!F:BZ\"\"),49,0))\"),\"\")","v":""}]
[null,null,null,{"$f":"IFERROR(__xludf.DUMMYFUNCTION(\"iferror(VLOOKUP(B705,IMPORTRANGE(\"\"https://docs.google.com/spreadsheets/d/1c3Ia3eDo4sfDZb6ajW2WVML4MhoKXWIVRbYqnsZgQRs/edit#gid=0\"\",\"\"RWA!F:BZ\"\"),44,0))\"),\"\")","v":""},{"$f":"IFERROR(__xludf.DUMMYFUNCTION(\"iferror(VLOOKUP(B705,IMPORTRANGE(\"\"https://docs.google.com/spreadsheets/d/1c3Ia3eDo4sfDZb6ajW2WVML4MhoKXWIVRbYqnsZgQRs/edit#gid=0\"\",\"\"RWA!F:BZ\"\"),48,0))\"),\"\")","v":""},{"$f":"IFERROR(__xludf.DUMMYFUNCTION(\"iferror(VLOOKUP(B705,IMPORTRANGE(\"\"https://docs.google.com/spreadsheets/d/1c3Ia3eDo4sfDZb6ajW2WVML4MhoKXWIVRbYqnsZgQRs/edit#gid=0\"\",\"\"RWA!F:BZ\"\"),49,0))\"),\"\")","v":""}]
[null,null,null,{"$f":"IFERROR(__xludf.DUMMYFUNCTION(\"iferror(VLOOKUP(B706,IMPORTRANGE(\"\"https://docs.google.com/spreadsheets/d/1c3Ia3eDo4sfDZb6ajW2WVML4MhoKXWIVRbYqnsZgQRs/edit#gid=0\"\",\"\"RWA!F:BZ\"\"),44,0))\"),\"\")","v":""},{"$f":"IFERROR(__xludf.DUMMYFUNCTION(\"iferror(VLOOKUP(B706,IMPORTRANGE(\"\"https://docs.google.com/spreadsheets/d/1c3Ia3eDo4sfDZb6ajW2WVML4MhoKXWIVRbYqnsZgQRs/edit#gid=0\"\",\"\"RWA!F:BZ\"\"),48,0))\"),\"\")","v":""},{"$f":"IFERROR(__xludf.DUMMYFUNCTION(\"iferror(VLOOKUP(B706,IMPORTRANGE(\"\"https://docs.google.com/spreadsheets/d/1c3Ia3eDo4sfDZb6ajW2WVML4MhoKXWIVRbYqnsZgQRs/edit#gid=0\"\",\"\"RWA!F:BZ\"\"),49,0))\"),\"\")","v":""}]
[null,null,null,{"$f":"IFERROR(__xludf.DUMMYFUNCTION(\"iferror(VLOOKUP(B707,IMPORTRANGE(\"\"https://docs.google.com/spreadsheets/d/1c3Ia3eDo4sfDZb6ajW2WVML4MhoKXWIVRbYqnsZgQRs/edit#gid=0\"\",\"\"RWA!F:BZ\"\"),44,0))\"),\"\")","v":""},{"$f":"IFERROR(__xludf.DUMMYFUNCTION(\"iferror(VLOOKUP(B707,IMPORTRANGE(\"\"https://docs.google.com/spreadsheets/d/1c3Ia3eDo4sfDZb6ajW2WVML4MhoKXWIVRbYqnsZgQRs/edit#gid=0\"\",\"\"RWA!F:BZ\"\"),48,0))\"),\"\")","v":""},{"$f":"IFERROR(__xludf.DUMMYFUNCTION(\"iferror(VLOOKUP(B707,IMPORTRANGE(\"\"https://docs.google.com/spreadsheets/d/1c3Ia3eDo4sfDZb6ajW2WVML4MhoKXWIVRbYqnsZgQRs/edit#gid=0\"\",\"\"RWA!F:BZ\"\"),49,0))\"),\"\")","v":""}]
[null,null,null,{"$f":"IFERROR(__xludf.DUMMYFUNCTION(\"iferror(VLOOKUP(B708,IMPORTRANGE(\"\"https://docs.google.com/spreadsheets/d/1c3Ia3eDo4sfDZb6ajW2WVML4MhoKXWIVRbYqnsZgQRs/edit#gid=0\"\",\"\"RWA!F:BZ\"\"),44,0))\"),\"\")","v":""},{"$f":"IFERROR(__xludf.DUMMYFUNCTION(\"iferror(VLOOKUP(B708,IMPORTRANGE(\"\"https://docs.google.com/spreadsheets/d/1c3Ia3eDo4sfDZb6ajW2WVML4MhoKXWIVRbYqnsZgQRs/edit#gid=0\"\",\"\"RWA!F:BZ\"\"),48,0))\"),\"\")","v":""},{"$f":"IFERROR(__xludf.DUMMYFUNCTION(\"iferror(VLOOKUP(B708,IMPORTRANGE(\"\"https://docs.google.com/spreadsheets/d/1c3Ia3eDo4sfDZb6ajW2WVML4MhoKXWIVRbYqnsZgQRs/edit#gid=0\"\",\"\"RWA!F:BZ\"\"),49,0))\"),\"\")","v":""}]
[null,null,null,{"$f":"IFERROR(__xludf.DUMMYFUNCTION(\"iferror(VLOOKUP(B709,IMPORTRANGE(\"\"https://docs.google.com/spreadsheets/d/1c3Ia3eDo4sfDZb6ajW2WVML4MhoKXWIVRbYqnsZgQRs/edit#gid=0\"\",\"\"RWA!F:BZ\"\"),44,0))\"),\"\")","v":""},{"$f":"IFERROR(__xludf.DUMMYFUNCTION(\"iferror(VLOOKUP(B709,IMPORTRANGE(\"\"https://docs.google.com/spreadsheets/d/1c3Ia3eDo4sfDZb6ajW2WVML4MhoKXWIVRbYqnsZgQRs/edit#gid=0\"\",\"\"RWA!F:BZ\"\"),48,0))\"),\"\")","v":""},{"$f":"IFERROR(__xludf.DUMMYFUNCTION(\"iferror(VLOOKUP(B709,IMPORTRANGE(\"\"https://docs.google.com/spreadsheets/d/1c3Ia3eDo4sfDZb6ajW2WVML4MhoKXWIVRbYqnsZgQRs/edit#gid=0\"\",\"\"RWA!F:BZ\"\"),49,0))\"),\"\")","v":""}]
[null,null,null,{"$f":"IFERROR(__xludf.DUMMYFUNCTION(\"iferror(VLOOKUP(B710,IMPORTRANGE(\"\"https://docs.google.com/spreadsheets/d/1c3Ia3eDo4sfDZb6ajW2WVML4MhoKXWIVRbYqnsZgQRs/edit#gid=0\"\",\"\"RWA!F:BZ\"\"),44,0))\"),\"\")","v":""},{"$f":"IFERROR(__xludf.DUMMYFUNCTION(\"iferror(VLOOKUP(B710,IMPORTRANGE(\"\"https://docs.google.com/spreadsheets/d/1c3Ia3eDo4sfDZb6ajW2WVML4MhoKXWIVRbYqnsZgQRs/edit#gid=0\"\",\"\"RWA!F:BZ\"\"),48,0))\"),\"\")","v":""},{"$f":"IFERROR(__xludf.DUMMYFUNCTION(\"iferror(VLOOKUP(B710,IMPORTRANGE(\"\"https://docs.google.com/spreadsheets/d/1c3Ia3eDo4sfDZb6ajW2WVML4MhoKXWIVRbYqnsZgQRs/edit#gid=0\"\",\"\"RWA!F:BZ\"\"),49,0))\"),\"\")","v":""}]
[null,null,null,{"$f":"IFERROR(__xludf.DUMMYFUNCTION(\"iferror(VLOOKUP(B711,IMPORTRANGE(\"\"https://docs.google.com/spreadsheets/d/1c3Ia3eDo4sfDZb6ajW2WVML4MhoKXWIVRbYqnsZgQRs/edit#gid=0\"\",\"\"RWA!F:BZ\"\"),44,0))\"),\"\")","v":""},{"$f":"IFERROR(__xludf.DUMMYFUNCTION(\"iferror(VLOOKUP(B711,IMPORTRANGE(\"\"https://docs.google.com/spreadsheets/d/1c3Ia3eDo4sfDZb6ajW2WVML4MhoKXWIVRbYqnsZgQRs/edit#gid=0\"\",\"\"RWA!F:BZ\"\"),48,0))\"),\"\")","v":""},{"$f":"IFERROR(__xludf.DUMMYFUNCTION(\"iferror(VLOOKUP(B711,IMPORTRANGE(\"\"https://docs.google.com/spreadsheets/d/1c3Ia3eDo4sfDZb6ajW2WVML4MhoKXWIVRbYqnsZgQRs/edit#gid=0\"\",\"\"RWA!F:BZ\"\"),49,0))\"),\"\")","v":""}]
[null,null,null,{"$f":"IFERROR(__xludf.DUMMYFUNCTION(\"iferror(VLOOKUP(B712,IMPORTRANGE(\"\"https://docs.google.com/spreadsheets/d/1c3Ia3eDo4sfDZb6ajW2WVML4MhoKXWIVRbYqnsZgQRs/edit#gid=0\"\",\"\"RWA!F:BZ\"\"),44,0))\"),\"\")","v":""},{"$f":"IFERROR(__xludf.DUMMYFUNCTION(\"iferror(VLOOKUP(B712,IMPORTRANGE(\"\"https://docs.google.com/spreadsheets/d/1c3Ia3eDo4sfDZb6ajW2WVML4MhoKXWIVRbYqnsZgQRs/edit#gid=0\"\",\"\"RWA!F:BZ\"\"),48,0))\"),\"\")","v":""},{"$f":"IFERROR(__xludf.DUMMYFUNCTION(\"iferror(VLOOKUP(B712,IMPORTRANGE(\"\"https://docs.google.com/spreadsheets/d/1c3Ia3eDo4sfDZb6ajW2WVML4MhoKXWIVRbYqnsZgQRs/edit#gid=0\"\",\"\"RWA!F:BZ\"\"),49,0))\"),\"\")","v":""}]
[null,null,null,{"$f":"IFERROR(__xludf.DUMMYFUNCTION(\"iferror(VLOOKUP(B713,IMPORTRANGE(\"\"https://docs.google.com/spreadsheets/d/1c3Ia3eDo4sfDZb6ajW2WVML4MhoKXWIVRbYqnsZgQRs/edit#gid=0\"\",\"\"RWA!F:BZ\"\"),44,0))\"),\"\")","v":""},{"$f":"IFERROR(__xludf.DUMMYFUNCTION(\"iferror(VLOOKUP(B713,IMPORTRANGE(\"\"https://docs.google.com/spreadsheets/d/1c3Ia3eDo4sfDZb6ajW2WVML4MhoKXWIVRbYqnsZgQRs/edit#gid=0\"\",\"\"RWA!F:BZ\"\"),48,0))\"),\"\")","v":""},{"$f":"IFERROR(__xludf.DUMMYFUNCTION(\"iferror(VLOOKUP(B713,IMPORTRANGE(\"\"https://docs.google.com/spreadsheets/d/1c3Ia3eDo4sfDZb6ajW2WVML4MhoKXWIVRbYqnsZgQRs/edit#gid=0\"\",\"\"RWA!F:BZ\"\"),49,0))\"),\"\")","v":""}]
[null,null,null,{"$f":"IFERROR(__xludf.DUMMYFUNCTION(\"iferror(VLOOKUP(B714,IMPORTRANGE(\"\"https://docs.google.com/spreadsheets/d/1c3Ia3eDo4sfDZb6ajW2WVML4MhoKXWIVRbYqnsZgQRs/edit#gid=0\"\",\"\"RWA!F:BZ\"\"),44,0))\"),\"\")","v":""},{"$f":"IFERROR(__xludf.DUMMYFUNCTION(\"iferror(VLOOKUP(B714,IMPORTRANGE(\"\"https://docs.google.com/spreadsheets/d/1c3Ia3eDo4sfDZb6ajW2WVML4MhoKXWIVRbYqnsZgQRs/edit#gid=0\"\",\"\"RWA!F:BZ\"\"),48,0))\"),\"\")","v":""},{"$f":"IFERROR(__xludf.DUMMYFUNCTION(\"iferror(VLOOKUP(B714,IMPORTRANGE(\"\"https://docs.google.com/spreadsheets/d/1c3Ia3eDo4sfDZb6ajW2WVML4MhoKXWIVRbYqnsZgQRs/edit#gid=0\"\",\"\"RWA!F:BZ\"\"),49,0))\"),\"\")","v":""}]
[null,null,null,{"$f":"IFERROR(__xludf.DUMMYFUNCTION(\"iferror(VLOOKUP(B715,IMPORTRANGE(\"\"https://docs.google.com/spreadsheets/d/1c3Ia3eDo4sfDZb6ajW2WVML4MhoKXWIVRbYqnsZgQRs/edit#gid=0\"\",\"\"RWA!F:BZ\"\"),44,0))\"),\"\")","v":""},{"$f":"IFERROR(__xludf.DUMMYFUNCTION(\"iferror(VLOOKUP(B715,IMPORTRANGE(\"\"https://docs.google.com/spreadsheets/d/1c3Ia3eDo4sfDZb6ajW2WVML4MhoKXWIVRbYqnsZgQRs/edit#gid=0\"\",\"\"RWA!F:BZ\"\"),48,0))\"),\"\")","v":""},{"$f":"IFERROR(__xludf.DUMMYFUNCTION(\"iferror(VLOOKUP(B715,IMPORTRANGE(\"\"https://docs.google.com/spreadsheets/d/1c3Ia3eDo4sfDZb6ajW2WVML4MhoKXWIVRbYqnsZgQRs/edit#gid=0\"\",\"\"RWA!F:BZ\"\"),49,0))\"),\"\")","v":""}]
[null,null,null,{"$f":"IFERROR(__xludf.DUMMYFUNCTION(\"iferror(VLOOKUP(B716,IMPORTRANGE(\"\"https://docs.google.com/spreadsheets/d/1c3Ia3eDo4sfDZb6ajW2WVML4MhoKXWIVRbYqnsZgQRs/edit#gid=0\"\",\"\"RWA!F:BZ\"\"),44,0))\"),\"\")","v":""},{"$f":"IFERROR(__xludf.DUMMYFUNCTION(\"iferror(VLOOKUP(B716,IMPORTRANGE(\"\"https://docs.google.com/spreadsheets/d/1c3Ia3eDo4sfDZb6ajW2WVML4MhoKXWIVRbYqnsZgQRs/edit#gid=0\"\",\"\"RWA!F:BZ\"\"),48,0))\"),\"\")","v":""},{"$f":"IFERROR(__xludf.DUMMYFUNCTION(\"iferror(VLOOKUP(B716,IMPORTRANGE(\"\"https://docs.google.com/spreadsheets/d/1c3Ia3eDo4sfDZb6ajW2WVML4MhoKXWIVRbYqnsZgQRs/edit#gid=0\"\",\"\"RWA!F:BZ\"\"),49,0))\"),\"\")","v":""}]
[null,null,null,{"$f":"IFERROR(__xludf.DUMMYFUNCTION(\"iferror(VLOOKUP(B717,IMPORTRANGE(\"\"https://docs.google.com/spreadsheets/d/1c3Ia3eDo4sfDZb6ajW2WVML4MhoKXWIVRbYqnsZgQRs/edit#gid=0\"\",\"\"RWA!F:BZ\"\"),44,0))\"),\"\")","v":""},{"$f":"IFERROR(__xludf.DUMMYFUNCTION(\"iferror(VLOOKUP(B717,IMPORTRANGE(\"\"https://docs.google.com/spreadsheets/d/1c3Ia3eDo4sfDZb6ajW2WVML4MhoKXWIVRbYqnsZgQRs/edit#gid=0\"\",\"\"RWA!F:BZ\"\"),48,0))\"),\"\")","v":""},{"$f":"IFERROR(__xludf.DUMMYFUNCTION(\"iferror(VLOOKUP(B717,IMPORTRANGE(\"\"https://docs.google.com/spreadsheets/d/1c3Ia3eDo4sfDZb6ajW2WVML4MhoKXWIVRbYqnsZgQRs/edit#gid=0\"\",\"\"RWA!F:BZ\"\"),49,0))\"),\"\")","v":""}]
[null,null,null,{"$f":"IFERROR(__xludf.DUMMYFUNCTION(\"iferror(VLOOKUP(B718,IMPORTRANGE(\"\"https://docs.google.com/spreadsheets/d/1c3Ia3eDo4sfDZb6ajW2WVML4MhoKXWIVRbYqnsZgQRs/edit#gid=0\"\",\"\"RWA!F:BZ\"\"),44,0))\"),\"\")","v":""},{"$f":"IFERROR(__xludf.DUMMYFUNCTION(\"iferror(VLOOKUP(B718,IMPORTRANGE(\"\"https://docs.google.com/spreadsheets/d/1c3Ia3eDo4sfDZb6ajW2WVML4MhoKXWIVRbYqnsZgQRs/edit#gid=0\"\",\"\"RWA!F:BZ\"\"),48,0))\"),\"\")","v":""},{"$f":"IFERROR(__xludf.DUMMYFUNCTION(\"iferror(VLOOKUP(B718,IMPORTRANGE(\"\"https://docs.google.com/spreadsheets/d/1c3Ia3eDo4sfDZb6ajW2WVML4MhoKXWIVRbYqnsZgQRs/edit#gid=0\"\",\"\"RWA!F:BZ\"\"),49,0))\"),\"\")","v":""}]
[null,null,null,{"$f":"IFERROR(__xludf.DUMMYFUNCTION(\"iferror(VLOOKUP(B719,IMPORTRANGE(\"\"https://docs.google.com/spreadsheets/d/1c3Ia3eDo4sfDZb6ajW2WVML4MhoKXWIVRbYqnsZgQRs/edit#gid=0\"\",\"\"RWA!F:BZ\"\"),44,0))\"),\"\")","v":""},{"$f":"IFERROR(__xludf.DUMMYFUNCTION(\"iferror(VLOOKUP(B719,IMPORTRANGE(\"\"https://docs.google.com/spreadsheets/d/1c3Ia3eDo4sfDZb6ajW2WVML4MhoKXWIVRbYqnsZgQRs/edit#gid=0\"\",\"\"RWA!F:BZ\"\"),48,0))\"),\"\")","v":""},{"$f":"IFERROR(__xludf.DUMMYFUNCTION(\"iferror(VLOOKUP(B719,IMPORTRANGE(\"\"https://docs.google.com/spreadsheets/d/1c3Ia3eDo4sfDZb6ajW2WVML4MhoKXWIVRbYqnsZgQRs/edit#gid=0\"\",\"\"RWA!F:BZ\"\"),49,0))\"),\"\")","v":""}]
[null,null,null,{"$f":"IFERROR(__xludf.DUMMYFUNCTION(\"iferror(VLOOKUP(B720,IMPORTRANGE(\"\"https://docs.google.com/spreadsheets/d/1c3Ia3eDo4sfDZb6ajW2WVML4MhoKXWIVRbYqnsZgQRs/edit#gid=0\"\",\"\"RWA!F:BZ\"\"),44,0))\"),\"\")","v":""},{"$f":"IFERROR(__xludf.DUMMYFUNCTION(\"iferror(VLOOKUP(B720,IMPORTRANGE(\"\"https://docs.google.com/spreadsheets/d/1c3Ia3eDo4sfDZb6ajW2WVML4MhoKXWIVRbYqnsZgQRs/edit#gid=0\"\",\"\"RWA!F:BZ\"\"),48,0))\"),\"\")","v":""},{"$f":"IFERROR(__xludf.DUMMYFUNCTION(\"iferror(VLOOKUP(B720,IMPORTRANGE(\"\"https://docs.google.com/spreadsheets/d/1c3Ia3eDo4sfDZb6ajW2WVML4MhoKXWIVRbYqnsZgQRs/edit#gid=0\"\",\"\"RWA!F:BZ\"\"),49,0))\"),\"\")","v":""}]
[null,null,null,{"$f":"IFERROR(__xludf.DUMMYFUNCTION(\"iferror(VLOOKUP(B721,IMPORTRANGE(\"\"https://docs.google.com/spreadsheets/d/1c3Ia3eDo4sfDZb6ajW2WVML4MhoKXWIVRbYqnsZgQRs/edit#gid=0\"\",\"\"RWA!F:BZ\"\"),44,0))\"),\"\")","v":""},{"$f":"IFERROR(__xludf.DUMMYFUNCTION(\"iferror(VLOOKUP(B721,IMPORTRANGE(\"\"https://docs.google.com/spreadsheets/d/1c3Ia3eDo4sfDZb6ajW2WVML4MhoKXWIVRbYqnsZgQRs/edit#gid=0\"\",\"\"RWA!F:BZ\"\"),48,0))\"),\"\")","v":""},{"$f":"IFERROR(__xludf.DUMMYFUNCTION(\"iferror(VLOOKUP(B721,IMPORTRANGE(\"\"https://docs.google.com/spreadsheets/d/1c3Ia3eDo4sfDZb6ajW2WVML4MhoKXWIVRbYqnsZgQRs/edit#gid=0\"\",\"\"RWA!F:BZ\"\"),49,0))\"),\"\")","v":""}]
[null,null,null,{"$f":"IFERROR(__xludf.DUMMYFUNCTION(\"iferror(VLOOKUP(B722,IMPORTRANGE(\"\"https://docs.google.com/spreadsheets/d/1c3Ia3eDo4sfDZb6ajW2WVML4MhoKXWIVRbYqnsZgQRs/edit#gid=0\"\",\"\"RWA!F:BZ\"\"),44,0))\"),\"\")","v":""},{"$f":"IFERROR(__xludf.DUMMYFUNCTION(\"iferror(VLOOKUP(B722,IMPORTRANGE(\"\"https://docs.google.com/spreadsheets/d/1c3Ia3eDo4sfDZb6ajW2WVML4MhoKXWIVRbYqnsZgQRs/edit#gid=0\"\",\"\"RWA!F:BZ\"\"),48,0))\"),\"\")","v":""},{"$f":"IFERROR(__xludf.DUMMYFUNCTION(\"iferror(VLOOKUP(B722,IMPORTRANGE(\"\"https://docs.google.com/spreadsheets/d/1c3Ia3eDo4sfDZb6ajW2WVML4MhoKXWIVRbYqnsZgQRs/edit#gid=0\"\",\"\"RWA!F:BZ\"\"),49,0))\"),\"\")","v":""}]
[null,null,null,{"$f":"IFERROR(__xludf.DUMMYFUNCTION(\"iferror(VLOOKUP(B723,IMPORTRANGE(\"\"https://docs.google.com/spreadsheets/d/1c3Ia3eDo4sfDZb6ajW2WVML4MhoKXWIVRbYqnsZgQRs/edit#gid=0\"\",\"\"RWA!F:BZ\"\"),44,0))\"),\"\")","v":""},{"$f":"IFERROR(__xludf.DUMMYFUNCTION(\"iferror(VLOOKUP(B723,IMPORTRANGE(\"\"https://docs.google.com/spreadsheets/d/1c3Ia3eDo4sfDZb6ajW2WVML4MhoKXWIVRbYqnsZgQRs/edit#gid=0\"\",\"\"RWA!F:BZ\"\"),48,0))\"),\"\")","v":""},{"$f":"IFERROR(__xludf.DUMMYFUNCTION(\"iferror(VLOOKUP(B723,IMPORTRANGE(\"\"https://docs.google.com/spreadsheets/d/1c3Ia3eDo4sfDZb6ajW2WVML4MhoKXWIVRbYqnsZgQRs/edit#gid=0\"\",\"\"RWA!F:BZ\"\"),49,0))\"),\"\")","v":""}]
[null,null,null,{"$f":"IFERROR(__xludf.DUMMYFUNCTION(\"iferror(VLOOKUP(B724,IMPORTRANGE(\"\"https://docs.google.com/spreadsheets/d/1c3Ia3eDo4sfDZb6ajW2WVML4MhoKXWIVRbYqnsZgQRs/edit#gid=0\"\",\"\"RWA!F:BZ\"\"),44,0))\"),\"\")","v":""},{"$f":"IFERROR(__xludf.DUMMYFUNCTION(\"iferror(VLOOKUP(B724,IMPORTRANGE(\"\"https://docs.google.com/spreadsheets/d/1c3Ia3eDo4sfDZb6ajW2WVML4MhoKXWIVRbYqnsZgQRs/edit#gid=0\"\",\"\"RWA!F:BZ\"\"),48,0))\"),\"\")","v":""},{"$f":"IFERROR(__xludf.DUMMYFUNCTION(\"iferror(VLOOKUP(B724,IMPORTRANGE(\"\"https://docs.google.com/spreadsheets/d/1c3Ia3eDo4sfDZb6ajW2WVML4MhoKXWIVRbYqnsZgQRs/edit#gid=0\"\",\"\"RWA!F:BZ\"\"),49,0))\"),\"\")","v":""}]
[null,null,null,{"$f":"IFERROR(__xludf.DUMMYFUNCTION(\"iferror(VLOOKUP(B725,IMPORTRANGE(\"\"https://docs.google.com/spreadsheets/d/1c3Ia3eDo4sfDZb6ajW2WVML4MhoKXWIVRbYqnsZgQRs/edit#gid=0\"\",\"\"RWA!F:BZ\"\"),44,0))\"),\"\")","v":""},{"$f":"IFERROR(__xludf.DUMMYFUNCTION(\"iferror(VLOOKUP(B725,IMPORTRANGE(\"\"https://docs.google.com/spreadsheets/d/1c3Ia3eDo4sfDZb6ajW2WVML4MhoKXWIVRbYqnsZgQRs/edit#gid=0\"\",\"\"RWA!F:BZ\"\"),48,0))\"),\"\")","v":""},{"$f":"IFERROR(__xludf.DUMMYFUNCTION(\"iferror(VLOOKUP(B725,IMPORTRANGE(\"\"https://docs.google.com/spreadsheets/d/1c3Ia3eDo4sfDZb6ajW2WVML4MhoKXWIVRbYqnsZgQRs/edit#gid=0\"\",\"\"RWA!F:BZ\"\"),49,0))\"),\"\")","v":""}]
[null,null,null,{"$f":"IFERROR(__xludf.DUMMYFUNCTION(\"iferror(VLOOKUP(B726,IMPORTRANGE(\"\"https://docs.google.com/spreadsheets/d/1c3Ia3eDo4sfDZb6ajW2WVML4MhoKXWIVRbYqnsZgQRs/edit#gid=0\"\",\"\"RWA!F:BZ\"\"),44,0))\"),\"\")","v":""},{"$f":"IFERROR(__xludf.DUMMYFUNCTION(\"iferror(VLOOKUP(B726,IMPORTRANGE(\"\"https://docs.google.com/spreadsheets/d/1c3Ia3eDo4sfDZb6ajW2WVML4MhoKXWIVRbYqnsZgQRs/edit#gid=0\"\",\"\"RWA!F:BZ\"\"),48,0))\"),\"\")","v":""},{"$f":"IFERROR(__xludf.DUMMYFUNCTION(\"iferror(VLOOKUP(B726,IMPORTRANGE(\"\"https://docs.google.com/spreadsheets/d/1c3Ia3eDo4sfDZb6ajW2WVML4MhoKXWIVRbYqnsZgQRs/edit#gid=0\"\",\"\"RWA!F:BZ\"\"),49,0))\"),\"\")","v":""}]
[null,null,null,{"$f":"IFERROR(__xludf.DUMMYFUNCTION(\"iferror(VLOOKUP(B727,IMPORTRANGE(\"\"https://docs.google.com/spreadsheets/d/1c3Ia3eDo4sfDZb6ajW2WVML4MhoKXWIVRbYqnsZgQRs/edit#gid=0\"\",\"\"RWA!F:BZ\"\"),44,0))\"),\"\")","v":""},{"$f":"IFERROR(__xludf.DUMMYFUNCTION(\"iferror(VLOOKUP(B727,IMPORTRANGE(\"\"https://docs.google.com/spreadsheets/d/1c3Ia3eDo4sfDZb6ajW2WVML4MhoKXWIVRbYqnsZgQRs/edit#gid=0\"\",\"\"RWA!F:BZ\"\"),48,0))\"),\"\")","v":""},{"$f":"IFERROR(__xludf.DUMMYFUNCTION(\"iferror(VLOOKUP(B727,IMPORTRANGE(\"\"https://docs.google.com/spreadsheets/d/1c3Ia3eDo4sfDZb6ajW2WVML4MhoKXWIVRbYqnsZgQRs/edit#gid=0\"\",\"\"RWA!F:BZ\"\"),49,0))\"),\"\")","v":""}]
[null,null,null,{"$f":"IFERROR(__xludf.DUMMYFUNCTION(\"iferror(VLOOKUP(B728,IMPORTRANGE(\"\"https://docs.google.com/spreadsheets/d/1c3Ia3eDo4sfDZb6ajW2WVML4MhoKXWIVRbYqnsZgQRs/edit#gid=0\"\",\"\"RWA!F:BZ\"\"),44,0))\"),\"\")","v":""},{"$f":"IFERROR(__xludf.DUMMYFUNCTION(\"iferror(VLOOKUP(B728,IMPORTRANGE(\"\"https://docs.google.com/spreadsheets/d/1c3Ia3eDo4sfDZb6ajW2WVML4MhoKXWIVRbYqnsZgQRs/edit#gid=0\"\",\"\"RWA!F:BZ\"\"),48,0))\"),\"\")","v":""},{"$f":"IFERROR(__xludf.DUMMYFUNCTION(\"iferror(VLOOKUP(B728,IMPORTRANGE(\"\"https://docs.google.com/spreadsheets/d/1c3Ia3eDo4sfDZb6ajW2WVML4MhoKXWIVRbYqnsZgQRs/edit#gid=0\"\",\"\"RWA!F:BZ\"\"),49,0))\"),\"\")","v":""}]
[null,null,null,{"$f":"IFERROR(__xludf.DUMMYFUNCTION(\"iferror(VLOOKUP(B729,IMPORTRANGE(\"\"https://docs.google.com/spreadsheets/d/1c3Ia3eDo4sfDZb6ajW2WVML4MhoKXWIVRbYqnsZgQRs/edit#gid=0\"\",\"\"RWA!F:BZ\"\"),44,0))\"),\"\")","v":""},{"$f":"IFERROR(__xludf.DUMMYFUNCTION(\"iferror(VLOOKUP(B729,IMPORTRANGE(\"\"https://docs.google.com/spreadsheets/d/1c3Ia3eDo4sfDZb6ajW2WVML4MhoKXWIVRbYqnsZgQRs/edit#gid=0\"\",\"\"RWA!F:BZ\"\"),48,0))\"),\"\")","v":""},{"$f":"IFERROR(__xludf.DUMMYFUNCTION(\"iferror(VLOOKUP(B729,IMPORTRANGE(\"\"https://docs.google.com/spreadsheets/d/1c3Ia3eDo4sfDZb6ajW2WVML4MhoKXWIVRbYqnsZgQRs/edit#gid=0\"\",\"\"RWA!F:BZ\"\"),49,0))\"),\"\")","v":""}]
[null,null,null,{"$f":"IFERROR(__xludf.DUMMYFUNCTION(\"iferror(VLOOKUP(B730,IMPORTRANGE(\"\"https://docs.google.com/spreadsheets/d/1c3Ia3eDo4sfDZb6ajW2WVML4MhoKXWIVRbYqnsZgQRs/edit#gid=0\"\",\"\"RWA!F:BZ\"\"),44,0))\"),\"\")","v":""},{"$f":"IFERROR(__xludf.DUMMYFUNCTION(\"iferror(VLOOKUP(B730,IMPORTRANGE(\"\"https://docs.google.com/spreadsheets/d/1c3Ia3eDo4sfDZb6ajW2WVML4MhoKXWIVRbYqnsZgQRs/edit#gid=0\"\",\"\"RWA!F:BZ\"\"),48,0))\"),\"\")","v":""},{"$f":"IFERROR(__xludf.DUMMYFUNCTION(\"iferror(VLOOKUP(B730,IMPORTRANGE(\"\"https://docs.google.com/spreadsheets/d/1c3Ia3eDo4sfDZb6ajW2WVML4MhoKXWIVRbYqnsZgQRs/edit#gid=0\"\",\"\"RWA!F:BZ\"\"),49,0))\"),\"\")","v":""}]
[null,null,null,{"$f":"IFERROR(__xludf.DUMMYFUNCTION(\"iferror(VLOOKUP(B731,IMPORTRANGE(\"\"https://docs.google.com/spreadsheets/d/1c3Ia3eDo4sfDZb6ajW2WVML4MhoKXWIVRbYqnsZgQRs/edit#gid=0\"\",\"\"RWA!F:BZ\"\"),44,0))\"),\"\")","v":""},{"$f":"IFERROR(__xludf.DUMMYFUNCTION(\"iferror(VLOOKUP(B731,IMPORTRANGE(\"\"https://docs.google.com/spreadsheets/d/1c3Ia3eDo4sfDZb6ajW2WVML4MhoKXWIVRbYqnsZgQRs/edit#gid=0\"\",\"\"RWA!F:BZ\"\"),48,0))\"),\"\")","v":""},{"$f":"IFERROR(__xludf.DUMMYFUNCTION(\"iferror(VLOOKUP(B731,IMPORTRANGE(\"\"https://docs.google.com/spreadsheets/d/1c3Ia3eDo4sfDZb6ajW2WVML4MhoKXWIVRbYqnsZgQRs/edit#gid=0\"\",\"\"RWA!F:BZ\"\"),49,0))\"),\"\")","v":""}]
[null,null,null,{"$f":"IFERROR(__xludf.DUMMYFUNCTION(\"iferror(VLOOKUP(B732,IMPORTRANGE(\"\"https://docs.google.com/spreadsheets/d/1c3Ia3eDo4sfDZb6ajW2WVML4MhoKXWIVRbYqnsZgQRs/edit#gid=0\"\",\"\"RWA!F:BZ\"\"),44,0))\"),\"\")","v":""},{"$f":"IFERROR(__xludf.DUMMYFUNCTION(\"iferror(VLOOKUP(B732,IMPORTRANGE(\"\"https://docs.google.com/spreadsheets/d/1c3Ia3eDo4sfDZb6ajW2WVML4MhoKXWIVRbYqnsZgQRs/edit#gid=0\"\",\"\"RWA!F:BZ\"\"),48,0))\"),\"\")","v":""},{"$f":"IFERROR(__xludf.DUMMYFUNCTION(\"iferror(VLOOKUP(B732,IMPORTRANGE(\"\"https://docs.google.com/spreadsheets/d/1c3Ia3eDo4sfDZb6ajW2WVML4MhoKXWIVRbYqnsZgQRs/edit#gid=0\"\",\"\"RWA!F:BZ\"\"),49,0))\"),\"\")","v":""}]
[null,null,null,{"$f":"IFERROR(__xludf.DUMMYFUNCTION(\"iferror(VLOOKUP(B733,IMPORTRANGE(\"\"https://docs.google.com/spreadsheets/d/1c3Ia3eDo4sfDZb6ajW2WVML4MhoKXWIVRbYqnsZgQRs/edit#gid=0\"\",\"\"RWA!F:BZ\"\"),44,0))\"),\"\")","v":""},{"$f":"IFERROR(__xludf.DUMMYFUNCTION(\"iferror(VLOOKUP(B733,IMPORTRANGE(\"\"https://docs.google.com/spreadsheets/d/1c3Ia3eDo4sfDZb6ajW2WVML4MhoKXWIVRbYqnsZgQRs/edit#gid=0\"\",\"\"RWA!F:BZ\"\"),48,0))\"),\"\")","v":""},{"$f":"IFERROR(__xludf.DUMMYFUNCTION(\"iferror(VLOOKUP(B733,IMPORTRANGE(\"\"https://docs.google.com/spreadsheets/d/1c3Ia3eDo4sfDZb6ajW2WVML4MhoKXWIVRbYqnsZgQRs/edit#gid=0\"\",\"\"RWA!F:BZ\"\"),49,0))\"),\"\")","v":""}]
[null,null,null,{"$f":"IFERROR(__xludf.DUMMYFUNCTION(\"iferror(VLOOKUP(B734,IMPORTRANGE(\"\"https://docs.google.com/spreadsheets/d/1c3Ia3eDo4sfDZb6ajW2WVML4MhoKXWIVRbYqnsZgQRs/edit#gid=0\"\",\"\"RWA!F:BZ\"\"),44,0))\"),\"\")","v":""},{"$f":"IFERROR(__xludf.DUMMYFUNCTION(\"iferror(VLOOKUP(B734,IMPORTRANGE(\"\"https://docs.google.com/spreadsheets/d/1c3Ia3eDo4sfDZb6ajW2WVML4MhoKXWIVRbYqnsZgQRs/edit#gid=0\"\",\"\"RWA!F:BZ\"\"),48,0))\"),\"\")","v":""},{"$f":"IFERROR(__xludf.DUMMYFUNCTION(\"iferror(VLOOKUP(B734,IMPORTRANGE(\"\"https://docs.google.com/spreadsheets/d/1c3Ia3eDo4sfDZb6ajW2WVML4MhoKXWIVRbYqnsZgQRs/edit#gid=0\"\",\"\"RWA!F:BZ\"\"),49,0))\"),\"\")","v":""}]
[null,null,null,{"$f":"IFERROR(__xludf.DUMMYFUNCTION(\"iferror(VLOOKUP(B735,IMPORTRANGE(\"\"https://docs.google.com/spreadsheets/d/1c3Ia3eDo4sfDZb6ajW2WVML4MhoKXWIVRbYqnsZgQRs/edit#gid=0\"\",\"\"RWA!F:BZ\"\"),44,0))\"),\"\")","v":""},{"$f":"IFERROR(__xludf.DUMMYFUNCTION(\"iferror(VLOOKUP(B735,IMPORTRANGE(\"\"https://docs.google.com/spreadsheets/d/1c3Ia3eDo4sfDZb6ajW2WVML4MhoKXWIVRbYqnsZgQRs/edit#gid=0\"\",\"\"RWA!F:BZ\"\"),48,0))\"),\"\")","v":""},{"$f":"IFERROR(__xludf.DUMMYFUNCTION(\"iferror(VLOOKUP(B735,IMPORTRANGE(\"\"https://docs.google.com/spreadsheets/d/1c3Ia3eDo4sfDZb6ajW2WVML4MhoKXWIVRbYqnsZgQRs/edit#gid=0\"\",\"\"RWA!F:BZ\"\"),49,0))\"),\"\")","v":""}]
[null,null,null,{"$f":"IFERROR(__xludf.DUMMYFUNCTION(\"iferror(VLOOKUP(B736,IMPORTRANGE(\"\"https://docs.google.com/spreadsheets/d/1c3Ia3eDo4sfDZb6ajW2WVML4MhoKXWIVRbYqnsZgQRs/edit#gid=0\"\",\"\"RWA!F:BZ\"\"),44,0))\"),\"\")","v":""},{"$f":"IFERROR(__xludf.DUMMYFUNCTION(\"iferror(VLOOKUP(B736,IMPORTRANGE(\"\"https://docs.google.com/spreadsheets/d/1c3Ia3eDo4sfDZb6ajW2WVML4MhoKXWIVRbYqnsZgQRs/edit#gid=0\"\",\"\"RWA!F:BZ\"\"),48,0))\"),\"\")","v":""},{"$f":"IFERROR(__xludf.DUMMYFUNCTION(\"iferror(VLOOKUP(B736,IMPORTRANGE(\"\"https://docs.google.com/spreadsheets/d/1c3Ia3eDo4sfDZb6ajW2WVML4MhoKXWIVRbYqnsZgQRs/edit#gid=0\"\",\"\"RWA!F:BZ\"\"),49,0))\"),\"\")","v":""}]
[null,null,null,{"$f":"IFERROR(__xludf.DUMMYFUNCTION(\"iferror(VLOOKUP(B737,IMPORTRANGE(\"\"https://docs.google.com/spreadsheets/d/1c3Ia3eDo4sfDZb6ajW2WVML4MhoKXWIVRbYqnsZgQRs/edit#gid=0\"\",\"\"RWA!F:BZ\"\"),44,0))\"),\"\")","v":""},{"$f":"IFERROR(__xludf.DUMMYFUNCTION(\"iferror(VLOOKUP(B737,IMPORTRANGE(\"\"https://docs.google.com/spreadsheets/d/1c3Ia3eDo4sfDZb6ajW2WVML4MhoKXWIVRbYqnsZgQRs/edit#gid=0\"\",\"\"RWA!F:BZ\"\"),48,0))\"),\"\")","v":""},{"$f":"IFERROR(__xludf.DUMMYFUNCTION(\"iferror(VLOOKUP(B737,IMPORTRANGE(\"\"https://docs.google.com/spreadsheets/d/1c3Ia3eDo4sfDZb6ajW2WVML4MhoKXWIVRbYqnsZgQRs/edit#gid=0\"\",\"\"RWA!F:BZ\"\"),49,0))\"),\"\")","v":""}]
[null,null,null,{"$f":"IFERROR(__xludf.DUMMYFUNCTION(\"iferror(VLOOKUP(B738,IMPORTRANGE(\"\"https://docs.google.com/spreadsheets/d/1c3Ia3eDo4sfDZb6ajW2WVML4MhoKXWIVRbYqnsZgQRs/edit#gid=0\"\",\"\"RWA!F:BZ\"\"),44,0))\"),\"\")","v":""},{"$f":"IFERROR(__xludf.DUMMYFUNCTION(\"iferror(VLOOKUP(B738,IMPORTRANGE(\"\"https://docs.google.com/spreadsheets/d/1c3Ia3eDo4sfDZb6ajW2WVML4MhoKXWIVRbYqnsZgQRs/edit#gid=0\"\",\"\"RWA!F:BZ\"\"),48,0))\"),\"\")","v":""},{"$f":"IFERROR(__xludf.DUMMYFUNCTION(\"iferror(VLOOKUP(B738,IMPORTRANGE(\"\"https://docs.google.com/spreadsheets/d/1c3Ia3eDo4sfDZb6ajW2WVML4MhoKXWIVRbYqnsZgQRs/edit#gid=0\"\",\"\"RWA!F:BZ\"\"),49,0))\"),\"\")","v":""}]
[null,null,null,{"$f":"IFERROR(__xludf.DUMMYFUNCTION(\"iferror(VLOOKUP(B739,IMPORTRANGE(\"\"https://docs.google.com/spreadsheets/d/1c3Ia3eDo4sfDZb6ajW2WVML4MhoKXWIVRbYqnsZgQRs/edit#gid=0\"\",\"\"RWA!F:BZ\"\"),44,0))\"),\"\")","v":""},{"$f":"IFERROR(__xludf.DUMMYFUNCTION(\"iferror(VLOOKUP(B739,IMPORTRANGE(\"\"https://docs.google.com/spreadsheets/d/1c3Ia3eDo4sfDZb6ajW2WVML4MhoKXWIVRbYqnsZgQRs/edit#gid=0\"\",\"\"RWA!F:BZ\"\"),48,0))\"),\"\")","v":""},{"$f":"IFERROR(__xludf.DUMMYFUNCTION(\"iferror(VLOOKUP(B739,IMPORTRANGE(\"\"https://docs.google.com/spreadsheets/d/1c3Ia3eDo4sfDZb6ajW2WVML4MhoKXWIVRbYqnsZgQRs/edit#gid=0\"\",\"\"RWA!F:BZ\"\"),49,0))\"),\"\")","v":""}]
[null,null,null,{"$f":"IFERROR(__xludf.DUMMYFUNCTION(\"iferror(VLOOKUP(B740,IMPORTRANGE(\"\"https://docs.google.com/spreadsheets/d/1c3Ia3eDo4sfDZb6ajW2WVML4MhoKXWIVRbYqnsZgQRs/edit#gid=0\"\",\"\"RWA!F:BZ\"\"),44,0))\"),\"\")","v":""},{"$f":"IFERROR(__xludf.DUMMYFUNCTION(\"iferror(VLOOKUP(B740,IMPORTRANGE(\"\"https://docs.google.com/spreadsheets/d/1c3Ia3eDo4sfDZb6ajW2WVML4MhoKXWIVRbYqnsZgQRs/edit#gid=0\"\",\"\"RWA!F:BZ\"\"),48,0))\"),\"\")","v":""},{"$f":"IFERROR(__xludf.DUMMYFUNCTION(\"iferror(VLOOKUP(B740,IMPORTRANGE(\"\"https://docs.google.com/spreadsheets/d/1c3Ia3eDo4sfDZb6ajW2WVML4MhoKXWIVRbYqnsZgQRs/edit#gid=0\"\",\"\"RWA!F:BZ\"\"),49,0))\"),\"\")","v":""}]
[null,null,null,{"$f":"IFERROR(__xludf.DUMMYFUNCTION(\"iferror(VLOOKUP(B741,IMPORTRANGE(\"\"https://docs.google.com/spreadsheets/d/1c3Ia3eDo4sfDZb6ajW2WVML4MhoKXWIVRbYqnsZgQRs/edit#gid=0\"\",\"\"RWA!F:BZ\"\"),44,0))\"),\"\")","v":""},{"$f":"IFERROR(__xludf.DUMMYFUNCTION(\"iferror(VLOOKUP(B741,IMPORTRANGE(\"\"https://docs.google.com/spreadsheets/d/1c3Ia3eDo4sfDZb6ajW2WVML4MhoKXWIVRbYqnsZgQRs/edit#gid=0\"\",\"\"RWA!F:BZ\"\"),48,0))\"),\"\")","v":""},{"$f":"IFERROR(__xludf.DUMMYFUNCTION(\"iferror(VLOOKUP(B741,IMPORTRANGE(\"\"https://docs.google.com/spreadsheets/d/1c3Ia3eDo4sfDZb6ajW2WVML4MhoKXWIVRbYqnsZgQRs/edit#gid=0\"\",\"\"RWA!F:BZ\"\"),49,0))\"),\"\")","v":""}]
[null,null,null,{"$f":"IFERROR(__xludf.DUMMYFUNCTION(\"iferror(VLOOKUP(B742,IMPORTRANGE(\"\"https://docs.google.com/spreadsheets/d/1c3Ia3eDo4sfDZb6ajW2WVML4MhoKXWIVRbYqnsZgQRs/edit#gid=0\"\",\"\"RWA!F:BZ\"\"),44,0))\"),\"\")","v":""},{"$f":"IFERROR(__xludf.DUMMYFUNCTION(\"iferror(VLOOKUP(B742,IMPORTRANGE(\"\"https://docs.google.com/spreadsheets/d/1c3Ia3eDo4sfDZb6ajW2WVML4MhoKXWIVRbYqnsZgQRs/edit#gid=0\"\",\"\"RWA!F:BZ\"\"),48,0))\"),\"\")","v":""},{"$f":"IFERROR(__xludf.DUMMYFUNCTION(\"iferror(VLOOKUP(B742,IMPORTRANGE(\"\"https://docs.google.com/spreadsheets/d/1c3Ia3eDo4sfDZb6ajW2WVML4MhoKXWIVRbYqnsZgQRs/edit#gid=0\"\",\"\"RWA!F:BZ\"\"),49,0))\"),\"\")","v":""}]
[null,null,null,{"$f":"IFERROR(__xludf.DUMMYFUNCTION(\"iferror(VLOOKUP(B743,IMPORTRANGE(\"\"https://docs.google.com/spreadsheets/d/1c3Ia3eDo4sfDZb6ajW2WVML4MhoKXWIVRbYqnsZgQRs/edit#gid=0\"\",\"\"RWA!F:BZ\"\"),44,0))\"),\"\")","v":""},{"$f":"IFERROR(__xludf.DUMMYFUNCTION(\"iferror(VLOOKUP(B743,IMPORTRANGE(\"\"https://docs.google.com/spreadsheets/d/1c3Ia3eDo4sfDZb6ajW2WVML4MhoKXWIVRbYqnsZgQRs/edit#gid=0\"\",\"\"RWA!F:BZ\"\"),48,0))\"),\"\")","v":""},{"$f":"IFERROR(__xludf.DUMMYFUNCTION(\"iferror(VLOOKUP(B743,IMPORTRANGE(\"\"https://docs.google.com/spreadsheets/d/1c3Ia3eDo4sfDZb6ajW2WVML4MhoKXWIVRbYqnsZgQRs/edit#gid=0\"\",\"\"RWA!F:BZ\"\"),49,0))\"),\"\")","v":""}]
[null,null,null,{"$f":"IFERROR(__xludf.DUMMYFUNCTION(\"iferror(VLOOKUP(B744,IMPORTRANGE(\"\"https://docs.google.com/spreadsheets/d/1c3Ia3eDo4sfDZb6ajW2WVML4MhoKXWIVRbYqnsZgQRs/edit#gid=0\"\",\"\"RWA!F:BZ\"\"),44,0))\"),\"\")","v":""},{"$f":"IFERROR(__xludf.DUMMYFUNCTION(\"iferror(VLOOKUP(B744,IMPORTRANGE(\"\"https://docs.google.com/spreadsheets/d/1c3Ia3eDo4sfDZb6ajW2WVML4MhoKXWIVRbYqnsZgQRs/edit#gid=0\"\",\"\"RWA!F:BZ\"\"),48,0))\"),\"\")","v":""},{"$f":"IFERROR(__xludf.DUMMYFUNCTION(\"iferror(VLOOKUP(B744,IMPORTRANGE(\"\"https://docs.google.com/spreadsheets/d/1c3Ia3eDo4sfDZb6ajW2WVML4MhoKXWIVRbYqnsZgQRs/edit#gid=0\"\",\"\"RWA!F:BZ\"\"),49,0))\"),\"\")","v":""}]
[null,null,null,{"$f":"IFERROR(__xludf.DUMMYFUNCTION(\"iferror(VLOOKUP(B745,IMPORTRANGE(\"\"https://docs.google.com/spreadsheets/d/1c3Ia3eDo4sfDZb6ajW2WVML4MhoKXWIVRbYqnsZgQRs/edit#gid=0\"\",\"\"RWA!F:BZ\"\"),44,0))\"),\"\")","v":""},{"$f":"IFERROR(__xludf.DUMMYFUNCTION(\"iferror(VLOOKUP(B745,IMPORTRANGE(\"\"https://docs.google.com/spreadsheets/d/1c3Ia3eDo4sfDZb6ajW2WVML4MhoKXWIVRbYqnsZgQRs/edit#gid=0\"\",\"\"RWA!F:BZ\"\"),48,0))\"),\"\")","v":""},{"$f":"IFERROR(__xludf.DUMMYFUNCTION(\"iferror(VLOOKUP(B745,IMPORTRANGE(\"\"https://docs.google.com/spreadsheets/d/1c3Ia3eDo4sfDZb6ajW2WVML4MhoKXWIVRbYqnsZgQRs/edit#gid=0\"\",\"\"RWA!F:BZ\"\"),49,0))\"),\"\")","v":""}]
[null,null,null,{"$f":"IFERROR(__xludf.DUMMYFUNCTION(\"iferror(VLOOKUP(B746,IMPORTRANGE(\"\"https://docs.google.com/spreadsheets/d/1c3Ia3eDo4sfDZb6ajW2WVML4MhoKXWIVRbYqnsZgQRs/edit#gid=0\"\",\"\"RWA!F:BZ\"\"),44,0))\"),\"\")","v":""},{"$f":"IFERROR(__xludf.DUMMYFUNCTION(\"iferror(VLOOKUP(B746,IMPORTRANGE(\"\"https://docs.google.com/spreadsheets/d/1c3Ia3eDo4sfDZb6ajW2WVML4MhoKXWIVRbYqnsZgQRs/edit#gid=0\"\",\"\"RWA!F:BZ\"\"),48,0))\"),\"\")","v":""},{"$f":"IFERROR(__xludf.DUMMYFUNCTION(\"iferror(VLOOKUP(B746,IMPORTRANGE(\"\"https://docs.google.com/spreadsheets/d/1c3Ia3eDo4sfDZb6ajW2WVML4MhoKXWIVRbYqnsZgQRs/edit#gid=0\"\",\"\"RWA!F:BZ\"\"),49,0))\"),\"\")","v":""}]
[null,null,null,{"$f":"IFERROR(__xludf.DUMMYFUNCTION(\"iferror(VLOOKUP(B747,IMPORTRANGE(\"\"https://docs.google.com/spreadsheets/d/1c3Ia3eDo4sfDZb6ajW2WVML4MhoKXWIVRbYqnsZgQRs/edit#gid=0\"\",\"\"RWA!F:BZ\"\"),44,0))\"),\"\")","v":""},{"$f":"IFERROR(__xludf.DUMMYFUNCTION(\"iferror(VLOOKUP(B747,IMPORTRANGE(\"\"https://docs.google.com/spreadsheets/d/1c3Ia3eDo4sfDZb6ajW2WVML4MhoKXWIVRbYqnsZgQRs/edit#gid=0\"\",\"\"RWA!F:BZ\"\"),48,0))\"),\"\")","v":""},{"$f":"IFERROR(__xludf.DUMMYFUNCTION(\"iferror(VLOOKUP(B747,IMPORTRANGE(\"\"https://docs.google.com/spreadsheets/d/1c3Ia3eDo4sfDZb6ajW2WVML4MhoKXWIVRbYqnsZgQRs/edit#gid=0\"\",\"\"RWA!F:BZ\"\"),49,0))\"),\"\")","v":""}]
[null,null,null,{"$f":"IFERROR(__xludf.DUMMYFUNCTION(\"iferror(VLOOKUP(B748,IMPORTRANGE(\"\"https://docs.google.com/spreadsheets/d/1c3Ia3eDo4sfDZb6ajW2WVML4MhoKXWIVRbYqnsZgQRs/edit#gid=0\"\",\"\"RWA!F:BZ\"\"),44,0))\"),\"\")","v":""},{"$f":"IFERROR(__xludf.DUMMYFUNCTION(\"iferror(VLOOKUP(B748,IMPORTRANGE(\"\"https://docs.google.com/spreadsheets/d/1c3Ia3eDo4sfDZb6ajW2WVML4MhoKXWIVRbYqnsZgQRs/edit#gid=0\"\",\"\"RWA!F:BZ\"\"),48,0))\"),\"\")","v":""},{"$f":"IFERROR(__xludf.DUMMYFUNCTION(\"iferror(VLOOKUP(B748,IMPORTRANGE(\"\"https://docs.google.com/spreadsheets/d/1c3Ia3eDo4sfDZb6ajW2WVML4MhoKXWIVRbYqnsZgQRs/edit#gid=0\"\",\"\"RWA!F:BZ\"\"),49,0))\"),\"\")","v":""}]
[null,null,null,{"$f":"IFERROR(__xludf.DUMMYFUNCTION(\"iferror(VLOOKUP(B749,IMPORTRANGE(\"\"https://docs.google.com/spreadsheets/d/1c3Ia3eDo4sfDZb6ajW2WVML4MhoKXWIVRbYqnsZgQRs/edit#gid=0\"\",\"\"RWA!F:BZ\"\"),44,0))\"),\"\")","v":""},{"$f":"IFERROR(__xludf.DUMMYFUNCTION(\"iferror(VLOOKUP(B749,IMPORTRANGE(\"\"https://docs.google.com/spreadsheets/d/1c3Ia3eDo4sfDZb6ajW2WVML4MhoKXWIVRbYqnsZgQRs/edit#gid=0\"\",\"\"RWA!F:BZ\"\"),48,0))\"),\"\")","v":""},{"$f":"IFERROR(__xludf.DUMMYFUNCTION(\"iferror(VLOOKUP(B749,IMPORTRANGE(\"\"https://docs.google.com/spreadsheets/d/1c3Ia3eDo4sfDZb6ajW2WVML4MhoKXWIVRbYqnsZgQRs/edit#gid=0\"\",\"\"RWA!F:BZ\"\"),49,0))\"),\"\")","v":""}]
[null,null,null,{"$f":"IFERROR(__xludf.DUMMYFUNCTION(\"iferror(VLOOKUP(B750,IMPORTRANGE(\"\"https://docs.google.com/spreadsheets/d/1c3Ia3eDo4sfDZb6ajW2WVML4MhoKXWIVRbYqnsZgQRs/edit#gid=0\"\",\"\"RWA!F:BZ\"\"),44,0))\"),\"\")","v":""},{"$f":"IFERROR(__xludf.DUMMYFUNCTION(\"iferror(VLOOKUP(B750,IMPORTRANGE(\"\"https://docs.google.com/spreadsheets/d/1c3Ia3eDo4sfDZb6ajW2WVML4MhoKXWIVRbYqnsZgQRs/edit#gid=0\"\",\"\"RWA!F:BZ\"\"),48,0))\"),\"\")","v":""},{"$f":"IFERROR(__xludf.DUMMYFUNCTION(\"iferror(VLOOKUP(B750,IMPORTRANGE(\"\"https://docs.google.com/spreadsheets/d/1c3Ia3eDo4sfDZb6ajW2WVML4MhoKXWIVRbYqnsZgQRs/edit#gid=0\"\",\"\"RWA!F:BZ\"\"),49,0))\"),\"\")","v":""}]
[null,null,null,{"$f":"IFERROR(__xludf.DUMMYFUNCTION(\"iferror(VLOOKUP(B751,IMPORTRANGE(\"\"https://docs.google.com/spreadsheets/d/1c3Ia3eDo4sfDZb6ajW2WVML4MhoKXWIVRbYqnsZgQRs/edit#gid=0\"\",\"\"RWA!F:BZ\"\"),44,0))\"),\"\")","v":""},{"$f":"IFERROR(__xludf.DUMMYFUNCTION(\"iferror(VLOOKUP(B751,IMPORTRANGE(\"\"https://docs.google.com/spreadsheets/d/1c3Ia3eDo4sfDZb6ajW2WVML4MhoKXWIVRbYqnsZgQRs/edit#gid=0\"\",\"\"RWA!F:BZ\"\"),48,0))\"),\"\")","v":""},{"$f":"IFERROR(__xludf.DUMMYFUNCTION(\"iferror(VLOOKUP(B751,IMPORTRANGE(\"\"https://docs.google.com/spreadsheets/d/1c3Ia3eDo4sfDZb6ajW2WVML4MhoKXWIVRbYqnsZgQRs/edit#gid=0\"\",\"\"RWA!F:BZ\"\"),49,0))\"),\"\")","v":""}]
[null,null,null,{"$f":"IFERROR(__xludf.DUMMYFUNCTION(\"iferror(VLOOKUP(B752,IMPORTRANGE(\"\"https://docs.google.com/spreadsheets/d/1c3Ia3eDo4sfDZb6ajW2WVML4MhoKXWIVRbYqnsZgQRs/edit#gid=0\"\",\"\"RWA!F:BZ\"\"),44,0))\"),\"\")","v":""},{"$f":"IFERROR(__xludf.DUMMYFUNCTION(\"iferror(VLOOKUP(B752,IMPORTRANGE(\"\"https://docs.google.com/spreadsheets/d/1c3Ia3eDo4sfDZb6ajW2WVML4MhoKXWIVRbYqnsZgQRs/edit#gid=0\"\",\"\"RWA!F:BZ\"\"),48,0))\"),\"\")","v":""},{"$f":"IFERROR(__xludf.DUMMYFUNCTION(\"iferror(VLOOKUP(B752,IMPORTRANGE(\"\"https://docs.google.com/spreadsheets/d/1c3Ia3eDo4sfDZb6ajW2WVML4MhoKXWIVRbYqnsZgQRs/edit#gid=0\"\",\"\"RWA!F:BZ\"\"),49,0))\"),\"\")","v":""}]
[null,null,null,{"$f":"IFERROR(__xludf.DUMMYFUNCTION(\"iferror(VLOOKUP(B753,IMPORTRANGE(\"\"https://docs.google.com/spreadsheets/d/1c3Ia3eDo4sfDZb6ajW2WVML4MhoKXWIVRbYqnsZgQRs/edit#gid=0\"\",\"\"RWA!F:BZ\"\"),44,0))\"),\"\")","v":""},{"$f":"IFERROR(__xludf.DUMMYFUNCTION(\"iferror(VLOOKUP(B753,IMPORTRANGE(\"\"https://docs.google.com/spreadsheets/d/1c3Ia3eDo4sfDZb6ajW2WVML4MhoKXWIVRbYqnsZgQRs/edit#gid=0\"\",\"\"RWA!F:BZ\"\"),48,0))\"),\"\")","v":""},{"$f":"IFERROR(__xludf.DUMMYFUNCTION(\"iferror(VLOOKUP(B753,IMPORTRANGE(\"\"https://docs.google.com/spreadsheets/d/1c3Ia3eDo4sfDZb6ajW2WVML4MhoKXWIVRbYqnsZgQRs/edit#gid=0\"\",\"\"RWA!F:BZ\"\"),49,0))\"),\"\")","v":""}]
[null,null,null,{"$f":"IFERROR(__xludf.DUMMYFUNCTION(\"iferror(VLOOKUP(B754,IMPORTRANGE(\"\"https://docs.google.com/spreadsheets/d/1c3Ia3eDo4sfDZb6ajW2WVML4MhoKXWIVRbYqnsZgQRs/edit#gid=0\"\",\"\"RWA!F:BZ\"\"),44,0))\"),\"\")","v":""},{"$f":"IFERROR(__xludf.DUMMYFUNCTION(\"iferror(VLOOKUP(B754,IMPORTRANGE(\"\"https://docs.google.com/spreadsheets/d/1c3Ia3eDo4sfDZb6ajW2WVML4MhoKXWIVRbYqnsZgQRs/edit#gid=0\"\",\"\"RWA!F:BZ\"\"),48,0))\"),\"\")","v":""},{"$f":"IFERROR(__xludf.DUMMYFUNCTION(\"iferror(VLOOKUP(B754,IMPORTRANGE(\"\"https://docs.google.com/spreadsheets/d/1c3Ia3eDo4sfDZb6ajW2WVML4MhoKXWIVRbYqnsZgQRs/edit#gid=0\"\",\"\"RWA!F:BZ\"\"),49,0))\"),\"\")","v":""}]
[null,null,null,{"$f":"IFERROR(__xludf.DUMMYFUNCTION(\"iferror(VLOOKUP(B755,IMPORTRANGE(\"\"https://docs.google.com/spreadsheets/d/1c3Ia3eDo4sfDZb6ajW2WVML4MhoKXWIVRbYqnsZgQRs/edit#gid=0\"\",\"\"RWA!F:BZ\"\"),44,0))\"),\"\")","v":""},{"$f":"IFERROR(__xludf.DUMMYFUNCTION(\"iferror(VLOOKUP(B755,IMPORTRANGE(\"\"https://docs.google.com/spreadsheets/d/1c3Ia3eDo4sfDZb6ajW2WVML4MhoKXWIVRbYqnsZgQRs/edit#gid=0\"\",\"\"RWA!F:BZ\"\"),48,0))\"),\"\")","v":""},{"$f":"IFERROR(__xludf.DUMMYFUNCTION(\"iferror(VLOOKUP(B755,IMPORTRANGE(\"\"https://docs.google.com/spreadsheets/d/1c3Ia3eDo4sfDZb6ajW2WVML4MhoKXWIVRbYqnsZgQRs/edit#gid=0\"\",\"\"RWA!F:BZ\"\"),49,0))\"),\"\")","v":""}]
[null,null,null,{"$f":"IFERROR(__xludf.DUMMYFUNCTION(\"iferror(VLOOKUP(B756,IMPORTRANGE(\"\"https://docs.google.com/spreadsheets/d/1c3Ia3eDo4sfDZb6ajW2WVML4MhoKXWIVRbYqnsZgQRs/edit#gid=0\"\",\"\"RWA!F:BZ\"\"),44,0))\"),\"\")","v":""},{"$f":"IFERROR(__xludf.DUMMYFUNCTION(\"iferror(VLOOKUP(B756,IMPORTRANGE(\"\"https://docs.google.com/spreadsheets/d/1c3Ia3eDo4sfDZb6ajW2WVML4MhoKXWIVRbYqnsZgQRs/edit#gid=0\"\",\"\"RWA!F:BZ\"\"),48,0))\"),\"\")","v":""},{"$f":"IFERROR(__xludf.DUMMYFUNCTION(\"iferror(VLOOKUP(B756,IMPORTRANGE(\"\"https://docs.google.com/spreadsheets/d/1c3Ia3eDo4sfDZb6ajW2WVML4MhoKXWIVRbYqnsZgQRs/edit#gid=0\"\",\"\"RWA!F:BZ\"\"),49,0))\"),\"\")","v":""}]
[null,null,null,{"$f":"IFERROR(__xludf.DUMMYFUNCTION(\"iferror(VLOOKUP(B757,IMPORTRANGE(\"\"https://docs.google.com/spreadsheets/d/1c3Ia3eDo4sfDZb6ajW2WVML4MhoKXWIVRbYqnsZgQRs/edit#gid=0\"\",\"\"RWA!F:BZ\"\"),44,0))\"),\"\")","v":""},{"$f":"IFERROR(__xludf.DUMMYFUNCTION(\"iferror(VLOOKUP(B757,IMPORTRANGE(\"\"https://docs.google.com/spreadsheets/d/1c3Ia3eDo4sfDZb6ajW2WVML4MhoKXWIVRbYqnsZgQRs/edit#gid=0\"\",\"\"RWA!F:BZ\"\"),48,0))\"),\"\")","v":""},{"$f":"IFERROR(__xludf.DUMMYFUNCTION(\"iferror(VLOOKUP(B757,IMPORTRANGE(\"\"https://docs.google.com/spreadsheets/d/1c3Ia3eDo4sfDZb6ajW2WVML4MhoKXWIVRbYqnsZgQRs/edit#gid=0\"\",\"\"RWA!F:BZ\"\"),49,0))\"),\"\")","v":""}]
[null,null,null,{"$f":"IFERROR(__xludf.DUMMYFUNCTION(\"iferror(VLOOKUP(B758,IMPORTRANGE(\"\"https://docs.google.com/spreadsheets/d/1c3Ia3eDo4sfDZb6ajW2WVML4MhoKXWIVRbYqnsZgQRs/edit#gid=0\"\",\"\"RWA!F:BZ\"\"),44,0))\"),\"\")","v":""},{"$f":"IFERROR(__xludf.DUMMYFUNCTION(\"iferror(VLOOKUP(B758,IMPORTRANGE(\"\"https://docs.google.com/spreadsheets/d/1c3Ia3eDo4sfDZb6ajW2WVML4MhoKXWIVRbYqnsZgQRs/edit#gid=0\"\",\"\"RWA!F:BZ\"\"),48,0))\"),\"\")","v":""},{"$f":"IFERROR(__xludf.DUMMYFUNCTION(\"iferror(VLOOKUP(B758,IMPORTRANGE(\"\"https://docs.google.com/spreadsheets/d/1c3Ia3eDo4sfDZb6ajW2WVML4MhoKXWIVRbYqnsZgQRs/edit#gid=0\"\",\"\"RWA!F:BZ\"\"),49,0))\"),\"\")","v":""}]
[null,null,null,{"$f":"IFERROR(__xludf.DUMMYFUNCTION(\"iferror(VLOOKUP(B759,IMPORTRANGE(\"\"https://docs.google.com/spreadsheets/d/1c3Ia3eDo4sfDZb6ajW2WVML4MhoKXWIVRbYqnsZgQRs/edit#gid=0\"\",\"\"RWA!F:BZ\"\"),44,0))\"),\"\")","v":""},{"$f":"IFERROR(__xludf.DUMMYFUNCTION(\"iferror(VLOOKUP(B759,IMPORTRANGE(\"\"https://docs.google.com/spreadsheets/d/1c3Ia3eDo4sfDZb6ajW2WVML4MhoKXWIVRbYqnsZgQRs/edit#gid=0\"\",\"\"RWA!F:BZ\"\"),48,0))\"),\"\")","v":""},{"$f":"IFERROR(__xludf.DUMMYFUNCTION(\"iferror(VLOOKUP(B759,IMPORTRANGE(\"\"https://docs.google.com/spreadsheets/d/1c3Ia3eDo4sfDZb6ajW2WVML4MhoKXWIVRbYqnsZgQRs/edit#gid=0\"\",\"\"RWA!F:BZ\"\"),49,0))\"),\"\")","v":""}]
[null,null,null,{"$f":"IFERROR(__xludf.DUMMYFUNCTION(\"iferror(VLOOKUP(B760,IMPORTRANGE(\"\"https://docs.google.com/spreadsheets/d/1c3Ia3eDo4sfDZb6ajW2WVML4MhoKXWIVRbYqnsZgQRs/edit#gid=0\"\",\"\"RWA!F:BZ\"\"),44,0))\"),\"\")","v":""},{"$f":"IFERROR(__xludf.DUMMYFUNCTION(\"iferror(VLOOKUP(B760,IMPORTRANGE(\"\"https://docs.google.com/spreadsheets/d/1c3Ia3eDo4sfDZb6ajW2WVML4MhoKXWIVRbYqnsZgQRs/edit#gid=0\"\",\"\"RWA!F:BZ\"\"),48,0))\"),\"\")","v":""},{"$f":"IFERROR(__xludf.DUMMYFUNCTION(\"iferror(VLOOKUP(B760,IMPORTRANGE(\"\"https://docs.google.com/spreadsheets/d/1c3Ia3eDo4sfDZb6ajW2WVML4MhoKXWIVRbYqnsZgQRs/edit#gid=0\"\",\"\"RWA!F:BZ\"\"),49,0))\"),\"\")","v":""}]
[null,null,null,{"$f":"IFERROR(__xludf.DUMMYFUNCTION(\"iferror(VLOOKUP(B761,IMPORTRANGE(\"\"https://docs.google.com/spreadsheets/d/1c3Ia3eDo4sfDZb6ajW2WVML4MhoKXWIVRbYqnsZgQRs/edit#gid=0\"\",\"\"RWA!F:BZ\"\"),44,0))\"),\"\")","v":""},{"$f":"IFERROR(__xludf.DUMMYFUNCTION(\"iferror(VLOOKUP(B761,IMPORTRANGE(\"\"https://docs.google.com/spreadsheets/d/1c3Ia3eDo4sfDZb6ajW2WVML4MhoKXWIVRbYqnsZgQRs/edit#gid=0\"\",\"\"RWA!F:BZ\"\"),48,0))\"),\"\")","v":""},{"$f":"IFERROR(__xludf.DUMMYFUNCTION(\"iferror(VLOOKUP(B761,IMPORTRANGE(\"\"https://docs.google.com/spreadsheets/d/1c3Ia3eDo4sfDZb6ajW2WVML4MhoKXWIVRbYqnsZgQRs/edit#gid=0\"\",\"\"RWA!F:BZ\"\"),49,0))\"),\"\")","v":""}]
[null,null,null,{"$f":"IFERROR(__xludf.DUMMYFUNCTION(\"iferror(VLOOKUP(B762,IMPORTRANGE(\"\"https://docs.google.com/spreadsheets/d/1c3Ia3eDo4sfDZb6ajW2WVML4MhoKXWIVRbYqnsZgQRs/edit#gid=0\"\",\"\"RWA!F:BZ\"\"),44,0))\"),\"\")","v":""},{"$f":"IFERROR(__xludf.DUMMYFUNCTION(\"iferror(VLOOKUP(B762,IMPORTRANGE(\"\"https://docs.google.com/spreadsheets/d/1c3Ia3eDo4sfDZb6ajW2WVML4MhoKXWIVRbYqnsZgQRs/edit#gid=0\"\",\"\"RWA!F:BZ\"\"),48,0))\"),\"\")","v":""},{"$f":"IFERROR(__xludf.DUMMYFUNCTION(\"iferror(VLOOKUP(B762,IMPORTRANGE(\"\"https://docs.google.com/spreadsheets/d/1c3Ia3eDo4sfDZb6ajW2WVML4MhoKXWIVRbYqnsZgQRs/edit#gid=0\"\",\"\"RWA!F:BZ\"\"),49,0))\"),\"\")","v":""}]
[null,null,null,{"$f":"IFERROR(__xludf.DUMMYFUNCTION(\"iferror(VLOOKUP(B763,IMPORTRANGE(\"\"https://docs.google.com/spreadsheets/d/1c3Ia3eDo4sfDZb6ajW2WVML4MhoKXWIVRbYqnsZgQRs/edit#gid=0\"\",\"\"RWA!F:BZ\"\"),44,0))\"),\"\")","v":""},{"$f":"IFERROR(__xludf.DUMMYFUNCTION(\"iferror(VLOOKUP(B763,IMPORTRANGE(\"\"https://docs.google.com/spreadsheets/d/1c3Ia3eDo4sfDZb6ajW2WVML4MhoKXWIVRbYqnsZgQRs/edit#gid=0\"\",\"\"RWA!F:BZ\"\"),48,0))\"),\"\")","v":""},{"$f":"IFERROR(__xludf.DUMMYFUNCTION(\"iferror(VLOOKUP(B763,IMPORTRANGE(\"\"https://docs.google.com/spreadsheets/d/1c3Ia3eDo4sfDZb6ajW2WVML4MhoKXWIVRbYqnsZgQRs/edit#gid=0\"\",\"\"RWA!F:BZ\"\"),49,0))\"),\"\")","v":""}]
[null,null,null,{"$f":"IFERROR(__xludf.DUMMYFUNCTION(\"iferror(VLOOKUP(B764,IMPORTRANGE(\"\"https://docs.google.com/spreadsheets/d/1c3Ia3eDo4sfDZb6ajW2WVML4MhoKXWIVRbYqnsZgQRs/edit#gid=0\"\",\"\"RWA!F:BZ\"\"),44,0))\"),\"\")","v":""},{"$f":"IFERROR(__xludf.DUMMYFUNCTION(\"iferror(VLOOKUP(B764,IMPORTRANGE(\"\"https://docs.google.com/spreadsheets/d/1c3Ia3eDo4sfDZb6ajW2WVML4MhoKXWIVRbYqnsZgQRs/edit#gid=0\"\",\"\"RWA!F:BZ\"\"),48,0))\"),\"\")","v":""},{"$f":"IFERROR(__xludf.DUMMYFUNCTION(\"iferror(VLOOKUP(B764,IMPORTRANGE(\"\"https://docs.google.com/spreadsheets/d/1c3Ia3eDo4sfDZb6ajW2WVML4MhoKXWIVRbYqnsZgQRs/edit#gid=0\"\",\"\"RWA!F:BZ\"\"),49,0))\"),\"\")","v":""}]
[null,null,null,{"$f":"IFERROR(__xludf.DUMMYFUNCTION(\"iferror(VLOOKUP(B765,IMPORTRANGE(\"\"https://docs.google.com/spreadsheets/d/1c3Ia3eDo4sfDZb6ajW2WVML4MhoKXWIVRbYqnsZgQRs/edit#gid=0\"\",\"\"RWA!F:BZ\"\"),44,0))\"),\"\")","v":""},{"$f":"IFERROR(__xludf.DUMMYFUNCTION(\"iferror(VLOOKUP(B765,IMPORTRANGE(\"\"https://docs.google.com/spreadsheets/d/1c3Ia3eDo4sfDZb6ajW2WVML4MhoKXWIVRbYqnsZgQRs/edit#gid=0\"\",\"\"RWA!F:BZ\"\"),48,0))\"),\"\")","v":""},{"$f":"IFERROR(__xludf.DUMMYFUNCTION(\"iferror(VLOOKUP(B765,IMPORTRANGE(\"\"https://docs.google.com/spreadsheets/d/1c3Ia3eDo4sfDZb6ajW2WVML4MhoKXWIVRbYqnsZgQRs/edit#gid=0\"\",\"\"RWA!F:BZ\"\"),49,0))\"),\"\")","v":""}]
[null,null,null,{"$f":"IFERROR(__xludf.DUMMYFUNCTION(\"iferror(VLOOKUP(B766,IMPORTRANGE(\"\"https://docs.google.com/spreadsheets/d/1c3Ia3eDo4sfDZb6ajW2WVML4MhoKXWIVRbYqnsZgQRs/edit#gid=0\"\",\"\"RWA!F:BZ\"\"),44,0))\"),\"\")","v":""},{"$f":"IFERROR(__xludf.DUMMYFUNCTION(\"iferror(VLOOKUP(B766,IMPORTRANGE(\"\"https://docs.google.com/spreadsheets/d/1c3Ia3eDo4sfDZb6ajW2WVML4MhoKXWIVRbYqnsZgQRs/edit#gid=0\"\",\"\"RWA!F:BZ\"\"),48,0))\"),\"\")","v":""},{"$f":"IFERROR(__xludf.DUMMYFUNCTION(\"iferror(VLOOKUP(B766,IMPORTRANGE(\"\"https://docs.google.com/spreadsheets/d/1c3Ia3eDo4sfDZb6ajW2WVML4MhoKXWIVRbYqnsZgQRs/edit#gid=0\"\",\"\"RWA!F:BZ\"\"),49,0))\"),\"\")","v":""}]
[null,null,null,{"$f":"IFERROR(__xludf.DUMMYFUNCTION(\"iferror(VLOOKUP(B767,IMPORTRANGE(\"\"https://docs.google.com/spreadsheets/d/1c3Ia3eDo4sfDZb6ajW2WVML4MhoKXWIVRbYqnsZgQRs/edit#gid=0\"\",\"\"RWA!F:BZ\"\"),44,0))\"),\"\")","v":""},{"$f":"IFERROR(__xludf.DUMMYFUNCTION(\"iferror(VLOOKUP(B767,IMPORTRANGE(\"\"https://docs.google.com/spreadsheets/d/1c3Ia3eDo4sfDZb6ajW2WVML4MhoKXWIVRbYqnsZgQRs/edit#gid=0\"\",\"\"RWA!F:BZ\"\"),48,0))\"),\"\")","v":""},{"$f":"IFERROR(__xludf.DUMMYFUNCTION(\"iferror(VLOOKUP(B767,IMPORTRANGE(\"\"https://docs.google.com/spreadsheets/d/1c3Ia3eDo4sfDZb6ajW2WVML4MhoKXWIVRbYqnsZgQRs/edit#gid=0\"\",\"\"RWA!F:BZ\"\"),49,0))\"),\"\")","v":""}]
[null,null,null,{"$f":"IFERROR(__xludf.DUMMYFUNCTION(\"iferror(VLOOKUP(B768,IMPORTRANGE(\"\"https://docs.google.com/spreadsheets/d/1c3Ia3eDo4sfDZb6ajW2WVML4MhoKXWIVRbYqnsZgQRs/edit#gid=0\"\",\"\"RWA!F:BZ\"\"),44,0))\"),\"\")","v":""},{"$f":"IFERROR(__xludf.DUMMYFUNCTION(\"iferror(VLOOKUP(B768,IMPORTRANGE(\"\"https://docs.google.com/spreadsheets/d/1c3Ia3eDo4sfDZb6ajW2WVML4MhoKXWIVRbYqnsZgQRs/edit#gid=0\"\",\"\"RWA!F:BZ\"\"),48,0))\"),\"\")","v":""},{"$f":"IFERROR(__xludf.DUMMYFUNCTION(\"iferror(VLOOKUP(B768,IMPORTRANGE(\"\"https://docs.google.com/spreadsheets/d/1c3Ia3eDo4sfDZb6ajW2WVML4MhoKXWIVRbYqnsZgQRs/edit#gid=0\"\",\"\"RWA!F:BZ\"\"),49,0))\"),\"\")","v":""}]
[null,null,null,{"$f":"IFERROR(__xludf.DUMMYFUNCTION(\"iferror(VLOOKUP(B769,IMPORTRANGE(\"\"https://docs.google.com/spreadsheets/d/1c3Ia3eDo4sfDZb6ajW2WVML4MhoKXWIVRbYqnsZgQRs/edit#gid=0\"\",\"\"RWA!F:BZ\"\"),44,0))\"),\"\")","v":""},{"$f":"IFERROR(__xludf.DUMMYFUNCTION(\"iferror(VLOOKUP(B769,IMPORTRANGE(\"\"https://docs.google.com/spreadsheets/d/1c3Ia3eDo4sfDZb6ajW2WVML4MhoKXWIVRbYqnsZgQRs/edit#gid=0\"\",\"\"RWA!F:BZ\"\"),48,0))\"),\"\")","v":""},{"$f":"IFERROR(__xludf.DUMMYFUNCTION(\"iferror(VLOOKUP(B769,IMPORTRANGE(\"\"https://docs.google.com/spreadsheets/d/1c3Ia3eDo4sfDZb6ajW2WVML4MhoKXWIVRbYqnsZgQRs/edit#gid=0\"\",\"\"RWA!F:BZ\"\"),49,0))\"),\"\")","v":""}]
[null,null,null,{"$f":"IFERROR(__xludf.DUMMYFUNCTION(\"iferror(VLOOKUP(B770,IMPORTRANGE(\"\"https://docs.google.com/spreadsheets/d/1c3Ia3eDo4sfDZb6ajW2WVML4MhoKXWIVRbYqnsZgQRs/edit#gid=0\"\",\"\"RWA!F:BZ\"\"),44,0))\"),\"\")","v":""},{"$f":"IFERROR(__xludf.DUMMYFUNCTION(\"iferror(VLOOKUP(B770,IMPORTRANGE(\"\"https://docs.google.com/spreadsheets/d/1c3Ia3eDo4sfDZb6ajW2WVML4MhoKXWIVRbYqnsZgQRs/edit#gid=0\"\",\"\"RWA!F:BZ\"\"),48,0))\"),\"\")","v":""},{"$f":"IFERROR(__xludf.DUMMYFUNCTION(\"iferror(VLOOKUP(B770,IMPORTRANGE(\"\"https://docs.google.com/spreadsheets/d/1c3Ia3eDo4sfDZb6ajW2WVML4MhoKXWIVRbYqnsZgQRs/edit#gid=0\"\",\"\"RWA!F:BZ\"\"),49,0))\"),\"\")","v":""}]
[null,null,null,{"$f":"IFERROR(__xludf.DUMMYFUNCTION(\"iferror(VLOOKUP(B771,IMPORTRANGE(\"\"https://docs.google.com/spreadsheets/d/1c3Ia3eDo4sfDZb6ajW2WVML4MhoKXWIVRbYqnsZgQRs/edit#gid=0\"\",\"\"RWA!F:BZ\"\"),44,0))\"),\"\")","v":""},{"$f":"IFERROR(__xludf.DUMMYFUNCTION(\"iferror(VLOOKUP(B771,IMPORTRANGE(\"\"https://docs.google.com/spreadsheets/d/1c3Ia3eDo4sfDZb6ajW2WVML4MhoKXWIVRbYqnsZgQRs/edit#gid=0\"\",\"\"RWA!F:BZ\"\"),48,0))\"),\"\")","v":""},{"$f":"IFERROR(__xludf.DUMMYFUNCTION(\"iferror(VLOOKUP(B771,IMPORTRANGE(\"\"https://docs.google.com/spreadsheets/d/1c3Ia3eDo4sfDZb6ajW2WVML4MhoKXWIVRbYqnsZgQRs/edit#gid=0\"\",\"\"RWA!F:BZ\"\"),49,0))\"),\"\")","v":""}]
[null,null,null,{"$f":"IFERROR(__xludf.DUMMYFUNCTION(\"iferror(VLOOKUP(B772,IMPORTRANGE(\"\"https://docs.google.com/spreadsheets/d/1c3Ia3eDo4sfDZb6ajW2WVML4MhoKXWIVRbYqnsZgQRs/edit#gid=0\"\",\"\"RWA!F:BZ\"\"),44,0))\"),\"\")","v":""},{"$f":"IFERROR(__xludf.DUMMYFUNCTION(\"iferror(VLOOKUP(B772,IMPORTRANGE(\"\"https://docs.google.com/spreadsheets/d/1c3Ia3eDo4sfDZb6ajW2WVML4MhoKXWIVRbYqnsZgQRs/edit#gid=0\"\",\"\"RWA!F:BZ\"\"),48,0))\"),\"\")","v":""},{"$f":"IFERROR(__xludf.DUMMYFUNCTION(\"iferror(VLOOKUP(B772,IMPORTRANGE(\"\"https://docs.google.com/spreadsheets/d/1c3Ia3eDo4sfDZb6ajW2WVML4MhoKXWIVRbYqnsZgQRs/edit#gid=0\"\",\"\"RWA!F:BZ\"\"),49,0))\"),\"\")","v":""}]
[null,null,null,{"$f":"IFERROR(__xludf.DUMMYFUNCTION(\"iferror(VLOOKUP(B773,IMPORTRANGE(\"\"https://docs.google.com/spreadsheets/d/1c3Ia3eDo4sfDZb6ajW2WVML4MhoKXWIVRbYqnsZgQRs/edit#gid=0\"\",\"\"RWA!F:BZ\"\"),44,0))\"),\"\")","v":""},{"$f":"IFERROR(__xludf.DUMMYFUNCTION(\"iferror(VLOOKUP(B773,IMPORTRANGE(\"\"https://docs.google.com/spreadsheets/d/1c3Ia3eDo4sfDZb6ajW2WVML4MhoKXWIVRbYqnsZgQRs/edit#gid=0\"\",\"\"RWA!F:BZ\"\"),48,0))\"),\"\")","v":""},{"$f":"IFERROR(__xludf.DUMMYFUNCTION(\"iferror(VLOOKUP(B773,IMPORTRANGE(\"\"https://docs.google.com/spreadsheets/d/1c3Ia3eDo4sfDZb6ajW2WVML4MhoKXWIVRbYqnsZgQRs/edit#gid=0\"\",\"\"RWA!F:BZ\"\"),49,0))\"),\"\")","v":""}]
[null,null,null,{"$f":"IFERROR(__xludf.DUMMYFUNCTION(\"iferror(VLOOKUP(B774,IMPORTRANGE(\"\"https://docs.google.com/spreadsheets/d/1c3Ia3eDo4sfDZb6ajW2WVML4MhoKXWIVRbYqnsZgQRs/edit#gid=0\"\",\"\"RWA!F:BZ\"\"),44,0))\"),\"\")","v":""},{"$f":"IFERROR(__xludf.DUMMYFUNCTION(\"iferror(VLOOKUP(B774,IMPORTRANGE(\"\"https://docs.google.com/spreadsheets/d/1c3Ia3eDo4sfDZb6ajW2WVML4MhoKXWIVRbYqnsZgQRs/edit#gid=0\"\",\"\"RWA!F:BZ\"\"),48,0))\"),\"\")","v":""},{"$f":"IFERROR(__xludf.DUMMYFUNCTION(\"iferror(VLOOKUP(B774,IMPORTRANGE(\"\"https://docs.google.com/spreadsheets/d/1c3Ia3eDo4sfDZb6ajW2WVML4MhoKXWIVRbYqnsZgQRs/edit#gid=0\"\",\"\"RWA!F:BZ\"\"),49,0))\"),\"\")","v":""}]
[null,null,null,{"$f":"IFERROR(__xludf.DUMMYFUNCTION(\"iferror(VLOOKUP(B775,IMPORTRANGE(\"\"https://docs.google.com/spreadsheets/d/1c3Ia3eDo4sfDZb6ajW2WVML4MhoKXWIVRbYqnsZgQRs/edit#gid=0\"\",\"\"RWA!F:BZ\"\"),44,0))\"),\"\")","v":""},{"$f":"IFERROR(__xludf.DUMMYFUNCTION(\"iferror(VLOOKUP(B775,IMPORTRANGE(\"\"https://docs.google.com/spreadsheets/d/1c3Ia3eDo4sfDZb6ajW2WVML4MhoKXWIVRbYqnsZgQRs/edit#gid=0\"\",\"\"RWA!F:BZ\"\"),48,0))\"),\"\")","v":""},{"$f":"IFERROR(__xludf.DUMMYFUNCTION(\"iferror(VLOOKUP(B775,IMPORTRANGE(\"\"https://docs.google.com/spreadsheets/d/1c3Ia3eDo4sfDZb6ajW2WVML4MhoKXWIVRbYqnsZgQRs/edit#gid=0\"\",\"\"RWA!F:BZ\"\"),49,0))\"),\"\")","v":""}]
[null,null,null,{"$f":"IFERROR(__xludf.DUMMYFUNCTION(\"iferror(VLOOKUP(B776,IMPORTRANGE(\"\"https://docs.google.com/spreadsheets/d/1c3Ia3eDo4sfDZb6ajW2WVML4MhoKXWIVRbYqnsZgQRs/edit#gid=0\"\",\"\"RWA!F:BZ\"\"),44,0))\"),\"\")","v":""},{"$f":"IFERROR(__xludf.DUMMYFUNCTION(\"iferror(VLOOKUP(B776,IMPORTRANGE(\"\"https://docs.google.com/spreadsheets/d/1c3Ia3eDo4sfDZb6ajW2WVML4MhoKXWIVRbYqnsZgQRs/edit#gid=0\"\",\"\"RWA!F:BZ\"\"),48,0))\"),\"\")","v":""},{"$f":"IFERROR(__xludf.DUMMYFUNCTION(\"iferror(VLOOKUP(B776,IMPORTRANGE(\"\"https://docs.google.com/spreadsheets/d/1c3Ia3eDo4sfDZb6ajW2WVML4MhoKXWIVRbYqnsZgQRs/edit#gid=0\"\",\"\"RWA!F:BZ\"\"),49,0))\"),\"\")","v":""}]
[null,null,null,{"$f":"IFERROR(__xludf.DUMMYFUNCTION(\"iferror(VLOOKUP(B777,IMPORTRANGE(\"\"https://docs.google.com/spreadsheets/d/1c3Ia3eDo4sfDZb6ajW2WVML4MhoKXWIVRbYqnsZgQRs/edit#gid=0\"\",\"\"RWA!F:BZ\"\"),44,0))\"),\"\")","v":""},{"$f":"IFERROR(__xludf.DUMMYFUNCTION(\"iferror(VLOOKUP(B777,IMPORTRANGE(\"\"https://docs.google.com/spreadsheets/d/1c3Ia3eDo4sfDZb6ajW2WVML4MhoKXWIVRbYqnsZgQRs/edit#gid=0\"\",\"\"RWA!F:BZ\"\"),48,0))\"),\"\")","v":""},{"$f":"IFERROR(__xludf.DUMMYFUNCTION(\"iferror(VLOOKUP(B777,IMPORTRANGE(\"\"https://docs.google.com/spreadsheets/d/1c3Ia3eDo4sfDZb6ajW2WVML4MhoKXWIVRbYqnsZgQRs/edit#gid=0\"\",\"\"RWA!F:BZ\"\"),49,0))\"),\"\")","v":""}]
[null,null,null,{"$f":"IFERROR(__xludf.DUMMYFUNCTION(\"iferror(VLOOKUP(B778,IMPORTRANGE(\"\"https://docs.google.com/spreadsheets/d/1c3Ia3eDo4sfDZb6ajW2WVML4MhoKXWIVRbYqnsZgQRs/edit#gid=0\"\",\"\"RWA!F:BZ\"\"),44,0))\"),\"\")","v":""},{"$f":"IFERROR(__xludf.DUMMYFUNCTION(\"iferror(VLOOKUP(B778,IMPORTRANGE(\"\"https://docs.google.com/spreadsheets/d/1c3Ia3eDo4sfDZb6ajW2WVML4MhoKXWIVRbYqnsZgQRs/edit#gid=0\"\",\"\"RWA!F:BZ\"\"),48,0))\"),\"\")","v":""},{"$f":"IFERROR(__xludf.DUMMYFUNCTION(\"iferror(VLOOKUP(B778,IMPORTRANGE(\"\"https://docs.google.com/spreadsheets/d/1c3Ia3eDo4sfDZb6ajW2WVML4MhoKXWIVRbYqnsZgQRs/edit#gid=0\"\",\"\"RWA!F:BZ\"\"),49,0))\"),\"\")","v":""}]
[null,null,null,{"$f":"IFERROR(__xludf.DUMMYFUNCTION(\"iferror(VLOOKUP(B779,IMPORTRANGE(\"\"https://docs.google.com/spreadsheets/d/1c3Ia3eDo4sfDZb6ajW2WVML4MhoKXWIVRbYqnsZgQRs/edit#gid=0\"\",\"\"RWA!F:BZ\"\"),44,0))\"),\"\")","v":""},{"$f":"IFERROR(__xludf.DUMMYFUNCTION(\"iferror(VLOOKUP(B779,IMPORTRANGE(\"\"https://docs.google.com/spreadsheets/d/1c3Ia3eDo4sfDZb6ajW2WVML4MhoKXWIVRbYqnsZgQRs/edit#gid=0\"\",\"\"RWA!F:BZ\"\"),48,0))\"),\"\")","v":""},{"$f":"IFERROR(__xludf.DUMMYFUNCTION(\"iferror(VLOOKUP(B779,IMPORTRANGE(\"\"https://docs.google.com/spreadsheets/d/1c3Ia3eDo4sfDZb6ajW2WVML4MhoKXWIVRbYqnsZgQRs/edit#gid=0\"\",\"\"RWA!F:BZ\"\"),49,0))\"),\"\")","v":""}]
[null,null,null,{"$f":"IFERROR(__xludf.DUMMYFUNCTION(\"iferror(VLOOKUP(B780,IMPORTRANGE(\"\"https://docs.google.com/spreadsheets/d/1c3Ia3eDo4sfDZb6ajW2WVML4MhoKXWIVRbYqnsZgQRs/edit#gid=0\"\",\"\"RWA!F:BZ\"\"),44,0))\"),\"\")","v":""},{"$f":"IFERROR(__xludf.DUMMYFUNCTION(\"iferror(VLOOKUP(B780,IMPORTRANGE(\"\"https://docs.google.com/spreadsheets/d/1c3Ia3eDo4sfDZb6ajW2WVML4MhoKXWIVRbYqnsZgQRs/edit#gid=0\"\",\"\"RWA!F:BZ\"\"),48,0))\"),\"\")","v":""},{"$f":"IFERROR(__xludf.DUMMYFUNCTION(\"iferror(VLOOKUP(B780,IMPORTRANGE(\"\"https://docs.google.com/spreadsheets/d/1c3Ia3eDo4sfDZb6ajW2WVML4MhoKXWIVRbYqnsZgQRs/edit#gid=0\"\",\"\"RWA!F:BZ\"\"),49,0))\"),\"\")","v":""}]
[null,null,null,{"$f":"IFERROR(__xludf.DUMMYFUNCTION(\"iferror(VLOOKUP(B781,IMPORTRANGE(\"\"https://docs.google.com/spreadsheets/d/1c3Ia3eDo4sfDZb6ajW2WVML4MhoKXWIVRbYqnsZgQRs/edit#gid=0\"\",\"\"RWA!F:BZ\"\"),44,0))\"),\"\")","v":""},{"$f":"IFERROR(__xludf.DUMMYFUNCTION(\"iferror(VLOOKUP(B781,IMPORTRANGE(\"\"https://docs.google.com/spreadsheets/d/1c3Ia3eDo4sfDZb6ajW2WVML4MhoKXWIVRbYqnsZgQRs/edit#gid=0\"\",\"\"RWA!F:BZ\"\"),48,0))\"),\"\")","v":""},{"$f":"IFERROR(__xludf.DUMMYFUNCTION(\"iferror(VLOOKUP(B781,IMPORTRANGE(\"\"https://docs.google.com/spreadsheets/d/1c3Ia3eDo4sfDZb6ajW2WVML4MhoKXWIVRbYqnsZgQRs/edit#gid=0\"\",\"\"RWA!F:BZ\"\"),49,0))\"),\"\")","v":""}]
[null,null,null,{"$f":"IFERROR(__xludf.DUMMYFUNCTION(\"iferror(VLOOKUP(B782,IMPORTRANGE(\"\"https://docs.google.com/spreadsheets/d/1c3Ia3eDo4sfDZb6ajW2WVML4MhoKXWIVRbYqnsZgQRs/edit#gid=0\"\",\"\"RWA!F:BZ\"\"),44,0))\"),\"\")","v":""},{"$f":"IFERROR(__xludf.DUMMYFUNCTION(\"iferror(VLOOKUP(B782,IMPORTRANGE(\"\"https://docs.google.com/spreadsheets/d/1c3Ia3eDo4sfDZb6ajW2WVML4MhoKXWIVRbYqnsZgQRs/edit#gid=0\"\",\"\"RWA!F:BZ\"\"),48,0))\"),\"\")","v":""},{"$f":"IFERROR(__xludf.DUMMYFUNCTION(\"iferror(VLOOKUP(B782,IMPORTRANGE(\"\"https://docs.google.com/spreadsheets/d/1c3Ia3eDo4sfDZb6ajW2WVML4MhoKXWIVRbYqnsZgQRs/edit#gid=0\"\",\"\"RWA!F:BZ\"\"),49,0))\"),\"\")","v":""}]
[null,null,null,{"$f":"IFERROR(__xludf.DUMMYFUNCTION(\"iferror(VLOOKUP(B783,IMPORTRANGE(\"\"https://docs.google.com/spreadsheets/d/1c3Ia3eDo4sfDZb6ajW2WVML4MhoKXWIVRbYqnsZgQRs/edit#gid=0\"\",\"\"RWA!F:BZ\"\"),44,0))\"),\"\")","v":""},{"$f":"IFERROR(__xludf.DUMMYFUNCTION(\"iferror(VLOOKUP(B783,IMPORTRANGE(\"\"https://docs.google.com/spreadsheets/d/1c3Ia3eDo4sfDZb6ajW2WVML4MhoKXWIVRbYqnsZgQRs/edit#gid=0\"\",\"\"RWA!F:BZ\"\"),48,0))\"),\"\")","v":""},{"$f":"IFERROR(__xludf.DUMMYFUNCTION(\"iferror(VLOOKUP(B783,IMPORTRANGE(\"\"https://docs.google.com/spreadsheets/d/1c3Ia3eDo4sfDZb6ajW2WVML4MhoKXWIVRbYqnsZgQRs/edit#gid=0\"\",\"\"RWA!F:BZ\"\"),49,0))\"),\"\")","v":""}]
[null,null,null,{"$f":"IFERROR(__xludf.DUMMYFUNCTION(\"iferror(VLOOKUP(B784,IMPORTRANGE(\"\"https://docs.google.com/spreadsheets/d/1c3Ia3eDo4sfDZb6ajW2WVML4MhoKXWIVRbYqnsZgQRs/edit#gid=0\"\",\"\"RWA!F:BZ\"\"),44,0))\"),\"\")","v":""},{"$f":"IFERROR(__xludf.DUMMYFUNCTION(\"iferror(VLOOKUP(B784,IMPORTRANGE(\"\"https://docs.google.com/spreadsheets/d/1c3Ia3eDo4sfDZb6ajW2WVML4MhoKXWIVRbYqnsZgQRs/edit#gid=0\"\",\"\"RWA!F:BZ\"\"),48,0))\"),\"\")","v":""},{"$f":"IFERROR(__xludf.DUMMYFUNCTION(\"iferror(VLOOKUP(B784,IMPORTRANGE(\"\"https://docs.google.com/spreadsheets/d/1c3Ia3eDo4sfDZb6ajW2WVML4MhoKXWIVRbYqnsZgQRs/edit#gid=0\"\",\"\"RWA!F:BZ\"\"),49,0))\"),\"\")","v":""}]
[null,null,null,{"$f":"IFERROR(__xludf.DUMMYFUNCTION(\"iferror(VLOOKUP(B785,IMPORTRANGE(\"\"https://docs.google.com/spreadsheets/d/1c3Ia3eDo4sfDZb6ajW2WVML4MhoKXWIVRbYqnsZgQRs/edit#gid=0\"\",\"\"RWA!F:BZ\"\"),44,0))\"),\"\")","v":""},{"$f":"IFERROR(__xludf.DUMMYFUNCTION(\"iferror(VLOOKUP(B785,IMPORTRANGE(\"\"https://docs.google.com/spreadsheets/d/1c3Ia3eDo4sfDZb6ajW2WVML4MhoKXWIVRbYqnsZgQRs/edit#gid=0\"\",\"\"RWA!F:BZ\"\"),48,0))\"),\"\")","v":""},{"$f":"IFERROR(__xludf.DUMMYFUNCTION(\"iferror(VLOOKUP(B785,IMPORTRANGE(\"\"https://docs.google.com/spreadsheets/d/1c3Ia3eDo4sfDZb6ajW2WVML4MhoKXWIVRbYqnsZgQRs/edit#gid=0\"\",\"\"RWA!F:BZ\"\"),49,0))\"),\"\")","v":""}]
[null,null,null,{"$f":"IFERROR(__xludf.DUMMYFUNCTION(\"iferror(VLOOKUP(B786,IMPORTRANGE(\"\"https://docs.google.com/spreadsheets/d/1c3Ia3eDo4sfDZb6ajW2WVML4MhoKXWIVRbYqnsZgQRs/edit#gid=0\"\",\"\"RWA!F:BZ\"\"),44,0))\"),\"\")","v":""},{"$f":"IFERROR(__xludf.DUMMYFUNCTION(\"iferror(VLOOKUP(B786,IMPORTRANGE(\"\"https://docs.google.com/spreadsheets/d/1c3Ia3eDo4sfDZb6ajW2WVML4MhoKXWIVRbYqnsZgQRs/edit#gid=0\"\",\"\"RWA!F:BZ\"\"),48,0))\"),\"\")","v":""},{"$f":"IFERROR(__xludf.DUMMYFUNCTION(\"iferror(VLOOKUP(B786,IMPORTRANGE(\"\"https://docs.google.com/spreadsheets/d/1c3Ia3eDo4sfDZb6ajW2WVML4MhoKXWIVRbYqnsZgQRs/edit#gid=0\"\",\"\"RWA!F:BZ\"\"),49,0))\"),\"\")","v":""}]
[null,null,null,{"$f":"IFERROR(__xludf.DUMMYFUNCTION(\"iferror(VLOOKUP(B787,IMPORTRANGE(\"\"https://docs.google.com/spreadsheets/d/1c3Ia3eDo4sfDZb6ajW2WVML4MhoKXWIVRbYqnsZgQRs/edit#gid=0\"\",\"\"RWA!F:BZ\"\"),44,0))\"),\"\")","v":""},{"$f":"IFERROR(__xludf.DUMMYFUNCTION(\"iferror(VLOOKUP(B787,IMPORTRANGE(\"\"https://docs.google.com/spreadsheets/d/1c3Ia3eDo4sfDZb6ajW2WVML4MhoKXWIVRbYqnsZgQRs/edit#gid=0\"\",\"\"RWA!F:BZ\"\"),48,0))\"),\"\")","v":""},{"$f":"IFERROR(__xludf.DUMMYFUNCTION(\"iferror(VLOOKUP(B787,IMPORTRANGE(\"\"https://docs.google.com/spreadsheets/d/1c3Ia3eDo4sfDZb6ajW2WVML4MhoKXWIVRbYqnsZgQRs/edit#gid=0\"\",\"\"RWA!F:BZ\"\"),49,0))\"),\"\")","v":""}]
[null,null,null,{"$f":"IFERROR(__xludf.DUMMYFUNCTION(\"iferror(VLOOKUP(B788,IMPORTRANGE(\"\"https://docs.google.com/spreadsheets/d/1c3Ia3eDo4sfDZb6ajW2WVML4MhoKXWIVRbYqnsZgQRs/edit#gid=0\"\",\"\"RWA!F:BZ\"\"),44,0))\"),\"\")","v":""},{"$f":"IFERROR(__xludf.DUMMYFUNCTION(\"iferror(VLOOKUP(B788,IMPORTRANGE(\"\"https://docs.google.com/spreadsheets/d/1c3Ia3eDo4sfDZb6ajW2WVML4MhoKXWIVRbYqnsZgQRs/edit#gid=0\"\",\"\"RWA!F:BZ\"\"),48,0))\"),\"\")","v":""},{"$f":"IFERROR(__xludf.DUMMYFUNCTION(\"iferror(VLOOKUP(B788,IMPORTRANGE(\"\"https://docs.google.com/spreadsheets/d/1c3Ia3eDo4sfDZb6ajW2WVML4MhoKXWIVRbYqnsZgQRs/edit#gid=0\"\",\"\"RWA!F:BZ\"\"),49,0))\"),\"\")","v":""}]
[null,null,null,{"$f":"IFERROR(__xludf.DUMMYFUNCTION(\"iferror(VLOOKUP(B789,IMPORTRANGE(\"\"https://docs.google.com/spreadsheets/d/1c3Ia3eDo4sfDZb6ajW2WVML4MhoKXWIVRbYqnsZgQRs/edit#gid=0\"\",\"\"RWA!F:BZ\"\"),44,0))\"),\"\")","v":""},{"$f":"IFERROR(__xludf.DUMMYFUNCTION(\"iferror(VLOOKUP(B789,IMPORTRANGE(\"\"https://docs.google.com/spreadsheets/d/1c3Ia3eDo4sfDZb6ajW2WVML4MhoKXWIVRbYqnsZgQRs/edit#gid=0\"\",\"\"RWA!F:BZ\"\"),48,0))\"),\"\")","v":""},{"$f":"IFERROR(__xludf.DUMMYFUNCTION(\"iferror(VLOOKUP(B789,IMPORTRANGE(\"\"https://docs.google.com/spreadsheets/d/1c3Ia3eDo4sfDZb6ajW2WVML4MhoKXWIVRbYqnsZgQRs/edit#gid=0\"\",\"\"RWA!F:BZ\"\"),49,0))\"),\"\")","v":""}]
[null,null,null,{"$f":"IFERROR(__xludf.DUMMYFUNCTION(\"iferror(VLOOKUP(B790,IMPORTRANGE(\"\"https://docs.google.com/spreadsheets/d/1c3Ia3eDo4sfDZb6ajW2WVML4MhoKXWIVRbYqnsZgQRs/edit#gid=0\"\",\"\"RWA!F:BZ\"\"),44,0))\"),\"\")","v":""},{"$f":"IFERROR(__xludf.DUMMYFUNCTION(\"iferror(VLOOKUP(B790,IMPORTRANGE(\"\"https://docs.google.com/spreadsheets/d/1c3Ia3eDo4sfDZb6ajW2WVML4MhoKXWIVRbYqnsZgQRs/edit#gid=0\"\",\"\"RWA!F:BZ\"\"),48,0))\"),\"\")","v":""},{"$f":"IFERROR(__xludf.DUMMYFUNCTION(\"iferror(VLOOKUP(B790,IMPORTRANGE(\"\"https://docs.google.com/spreadsheets/d/1c3Ia3eDo4sfDZb6ajW2WVML4MhoKXWIVRbYqnsZgQRs/edit#gid=0\"\",\"\"RWA!F:BZ\"\"),49,0))\"),\"\")","v":""}]
[null,null,null,{"$f":"IFERROR(__xludf.DUMMYFUNCTION(\"iferror(VLOOKUP(B791,IMPORTRANGE(\"\"https://docs.google.com/spreadsheets/d/1c3Ia3eDo4sfDZb6ajW2WVML4MhoKXWIVRbYqnsZgQRs/edit#gid=0\"\",\"\"RWA!F:BZ\"\"),44,0))\"),\"\")","v":""},{"$f":"IFERROR(__xludf.DUMMYFUNCTION(\"iferror(VLOOKUP(B791,IMPORTRANGE(\"\"https://docs.google.com/spreadsheets/d/1c3Ia3eDo4sfDZb6ajW2WVML4MhoKXWIVRbYqnsZgQRs/edit#gid=0\"\",\"\"RWA!F:BZ\"\"),48,0))\"),\"\")","v":""},{"$f":"IFERROR(__xludf.DUMMYFUNCTION(\"iferror(VLOOKUP(B791,IMPORTRANGE(\"\"https://docs.google.com/spreadsheets/d/1c3Ia3eDo4sfDZb6ajW2WVML4MhoKXWIVRbYqnsZgQRs/edit#gid=0\"\",\"\"RWA!F:BZ\"\"),49,0))\"),\"\")","v":""}]
[null,null,null,{"$f":"IFERROR(__xludf.DUMMYFUNCTION(\"iferror(VLOOKUP(B792,IMPORTRANGE(\"\"https://docs.google.com/spreadsheets/d/1c3Ia3eDo4sfDZb6ajW2WVML4MhoKXWIVRbYqnsZgQRs/edit#gid=0\"\",\"\"RWA!F:BZ\"\"),44,0))\"),\"\")","v":""},{"$f":"IFERROR(__xludf.DUMMYFUNCTION(\"iferror(VLOOKUP(B792,IMPORTRANGE(\"\"https://docs.google.com/spreadsheets/d/1c3Ia3eDo4sfDZb6ajW2WVML4MhoKXWIVRbYqnsZgQRs/edit#gid=0\"\",\"\"RWA!F:BZ\"\"),48,0))\"),\"\")","v":""},{"$f":"IFERROR(__xludf.DUMMYFUNCTION(\"iferror(VLOOKUP(B792,IMPORTRANGE(\"\"https://docs.google.com/spreadsheets/d/1c3Ia3eDo4sfDZb6ajW2WVML4MhoKXWIVRbYqnsZgQRs/edit#gid=0\"\",\"\"RWA!F:BZ\"\"),49,0))\"),\"\")","v":""}]
[null,null,null,{"$f":"IFERROR(__xludf.DUMMYFUNCTION(\"iferror(VLOOKUP(B793,IMPORTRANGE(\"\"https://docs.google.com/spreadsheets/d/1c3Ia3eDo4sfDZb6ajW2WVML4MhoKXWIVRbYqnsZgQRs/edit#gid=0\"\",\"\"RWA!F:BZ\"\"),44,0))\"),\"\")","v":""},{"$f":"IFERROR(__xludf.DUMMYFUNCTION(\"iferror(VLOOKUP(B793,IMPORTRANGE(\"\"https://docs.google.com/spreadsheets/d/1c3Ia3eDo4sfDZb6ajW2WVML4MhoKXWIVRbYqnsZgQRs/edit#gid=0\"\",\"\"RWA!F:BZ\"\"),48,0))\"),\"\")","v":""},{"$f":"IFERROR(__xludf.DUMMYFUNCTION(\"iferror(VLOOKUP(B793,IMPORTRANGE(\"\"https://docs.google.com/spreadsheets/d/1c3Ia3eDo4sfDZb6ajW2WVML4MhoKXWIVRbYqnsZgQRs/edit#gid=0\"\",\"\"RWA!F:BZ\"\"),49,0))\"),\"\")","v":""}]
[null,null,null,{"$f":"IFERROR(__xludf.DUMMYFUNCTION(\"iferror(VLOOKUP(B794,IMPORTRANGE(\"\"https://docs.google.com/spreadsheets/d/1c3Ia3eDo4sfDZb6ajW2WVML4MhoKXWIVRbYqnsZgQRs/edit#gid=0\"\",\"\"RWA!F:BZ\"\"),44,0))\"),\"\")","v":""},{"$f":"IFERROR(__xludf.DUMMYFUNCTION(\"iferror(VLOOKUP(B794,IMPORTRANGE(\"\"https://docs.google.com/spreadsheets/d/1c3Ia3eDo4sfDZb6ajW2WVML4MhoKXWIVRbYqnsZgQRs/edit#gid=0\"\",\"\"RWA!F:BZ\"\"),48,0))\"),\"\")","v":""},{"$f":"IFERROR(__xludf.DUMMYFUNCTION(\"iferror(VLOOKUP(B794,IMPORTRANGE(\"\"https://docs.google.com/spreadsheets/d/1c3Ia3eDo4sfDZb6ajW2WVML4MhoKXWIVRbYqnsZgQRs/edit#gid=0\"\",\"\"RWA!F:BZ\"\"),49,0))\"),\"\")","v":""}]
[null,null,null,{"$f":"IFERROR(__xludf.DUMMYFUNCTION(\"iferror(VLOOKUP(B795,IMPORTRANGE(\"\"https://docs.google.com/spreadsheets/d/1c3Ia3eDo4sfDZb6ajW2WVML4MhoKXWIVRbYqnsZgQRs/edit#gid=0\"\",\"\"RWA!F:BZ\"\"),44,0))\"),\"\")","v":""},{"$f":"IFERROR(__xludf.DUMMYFUNCTION(\"iferror(VLOOKUP(B795,IMPORTRANGE(\"\"https://docs.google.com/spreadsheets/d/1c3Ia3eDo4sfDZb6ajW2WVML4MhoKXWIVRbYqnsZgQRs/edit#gid=0\"\",\"\"RWA!F:BZ\"\"),48,0))\"),\"\")","v":""},{"$f":"IFERROR(__xludf.DUMMYFUNCTION(\"iferror(VLOOKUP(B795,IMPORTRANGE(\"\"https://docs.google.com/spreadsheets/d/1c3Ia3eDo4sfDZb6ajW2WVML4MhoKXWIVRbYqnsZgQRs/edit#gid=0\"\",\"\"RWA!F:BZ\"\"),49,0))\"),\"\")","v":""}]
[null,null,null,{"$f":"IFERROR(__xludf.DUMMYFUNCTION(\"iferror(VLOOKUP(B796,IMPORTRANGE(\"\"https://docs.google.com/spreadsheets/d/1c3Ia3eDo4sfDZb6ajW2WVML4MhoKXWIVRbYqnsZgQRs/edit#gid=0\"\",\"\"RWA!F:BZ\"\"),44,0))\"),\"\")","v":""},{"$f":"IFERROR(__xludf.DUMMYFUNCTION(\"iferror(VLOOKUP(B796,IMPORTRANGE(\"\"https://docs.google.com/spreadsheets/d/1c3Ia3eDo4sfDZb6ajW2WVML4MhoKXWIVRbYqnsZgQRs/edit#gid=0\"\",\"\"RWA!F:BZ\"\"),48,0))\"),\"\")","v":""},{"$f":"IFERROR(__xludf.DUMMYFUNCTION(\"iferror(VLOOKUP(B796,IMPORTRANGE(\"\"https://docs.google.com/spreadsheets/d/1c3Ia3eDo4sfDZb6ajW2WVML4MhoKXWIVRbYqnsZgQRs/edit#gid=0\"\",\"\"RWA!F:BZ\"\"),49,0))\"),\"\")","v":""}]
[null,null,null,{"$f":"IFERROR(__xludf.DUMMYFUNCTION(\"iferror(VLOOKUP(B797,IMPORTRANGE(\"\"https://docs.google.com/spreadsheets/d/1c3Ia3eDo4sfDZb6ajW2WVML4MhoKXWIVRbYqnsZgQRs/edit#gid=0\"\",\"\"RWA!F:BZ\"\"),44,0))\"),\"\")","v":""},{"$f":"IFERROR(__xludf.DUMMYFUNCTION(\"iferror(VLOOKUP(B797,IMPORTRANGE(\"\"https://docs.google.com/spreadsheets/d/1c3Ia3eDo4sfDZb6ajW2WVML4MhoKXWIVRbYqnsZgQRs/edit#gid=0\"\",\"\"RWA!F:BZ\"\"),48,0))\"),\"\")","v":""},{"$f":"IFERROR(__xludf.DUMMYFUNCTION(\"iferror(VLOOKUP(B797,IMPORTRANGE(\"\"https://docs.google.com/spreadsheets/d/1c3Ia3eDo4sfDZb6ajW2WVML4MhoKXWIVRbYqnsZgQRs/edit#gid=0\"\",\"\"RWA!F:BZ\"\"),49,0))\"),\"\")","v":""}]
[null,null,null,{"$f":"IFERROR(__xludf.DUMMYFUNCTION(\"iferror(VLOOKUP(B798,IMPORTRANGE(\"\"https://docs.google.com/spreadsheets/d/1c3Ia3eDo4sfDZb6ajW2WVML4MhoKXWIVRbYqnsZgQRs/edit#gid=0\"\",\"\"RWA!F:BZ\"\"),44,0))\"),\"\")","v":""},{"$f":"IFERROR(__xludf.DUMMYFUNCTION(\"iferror(VLOOKUP(B798,IMPORTRANGE(\"\"https://docs.google.com/spreadsheets/d/1c3Ia3eDo4sfDZb6ajW2WVML4MhoKXWIVRbYqnsZgQRs/edit#gid=0\"\",\"\"RWA!F:BZ\"\"),48,0))\"),\"\")","v":""},{"$f":"IFERROR(__xludf.DUMMYFUNCTION(\"iferror(VLOOKUP(B798,IMPORTRANGE(\"\"https://docs.google.com/spreadsheets/d/1c3Ia3eDo4sfDZb6ajW2WVML4MhoKXWIVRbYqnsZgQRs/edit#gid=0\"\",\"\"RWA!F:BZ\"\"),49,0))\"),\"\")","v":""}]
[null,null,null,{"$f":"IFERROR(__xludf.DUMMYFUNCTION(\"iferror(VLOOKUP(B799,IMPORTRANGE(\"\"https://docs.google.com/spreadsheets/d/1c3Ia3eDo4sfDZb6ajW2WVML4MhoKXWIVRbYqnsZgQRs/edit#gid=0\"\",\"\"RWA!F:BZ\"\"),44,0))\"),\"\")","v":""},{"$f":"IFERROR(__xludf.DUMMYFUNCTION(\"iferror(VLOOKUP(B799,IMPORTRANGE(\"\"https://docs.google.com/spreadsheets/d/1c3Ia3eDo4sfDZb6ajW2WVML4MhoKXWIVRbYqnsZgQRs/edit#gid=0\"\",\"\"RWA!F:BZ\"\"),48,0))\"),\"\")","v":""},{"$f":"IFERROR(__xludf.DUMMYFUNCTION(\"iferror(VLOOKUP(B799,IMPORTRANGE(\"\"https://docs.google.com/spreadsheets/d/1c3Ia3eDo4sfDZb6ajW2WVML4MhoKXWIVRbYqnsZgQRs/edit#gid=0\"\",\"\"RWA!F:BZ\"\"),49,0))\"),\"\")","v":""}]
[null,null,null,{"$f":"IFERROR(__xludf.DUMMYFUNCTION(\"iferror(VLOOKUP(B800,IMPORTRANGE(\"\"https://docs.google.com/spreadsheets/d/1c3Ia3eDo4sfDZb6ajW2WVML4MhoKXWIVRbYqnsZgQRs/edit#gid=0\"\",\"\"RWA!F:BZ\"\"),44,0))\"),\"\")","v":""},{"$f":"IFERROR(__xludf.DUMMYFUNCTION(\"iferror(VLOOKUP(B800,IMPORTRANGE(\"\"https://docs.google.com/spreadsheets/d/1c3Ia3eDo4sfDZb6ajW2WVML4MhoKXWIVRbYqnsZgQRs/edit#gid=0\"\",\"\"RWA!F:BZ\"\"),48,0))\"),\"\")","v":""},{"$f":"IFERROR(__xludf.DUMMYFUNCTION(\"iferror(VLOOKUP(B800,IMPORTRANGE(\"\"https://docs.google.com/spreadsheets/d/1c3Ia3eDo4sfDZb6ajW2WVML4MhoKXWIVRbYqnsZgQRs/edit#gid=0\"\",\"\"RWA!F:BZ\"\"),49,0))\"),\"\")","v":""}]
[null,null,null,{"$f":"IFERROR(__xludf.DUMMYFUNCTION(\"iferror(VLOOKUP(B801,IMPORTRANGE(\"\"https://docs.google.com/spreadsheets/d/1c3Ia3eDo4sfDZb6ajW2WVML4MhoKXWIVRbYqnsZgQRs/edit#gid=0\"\",\"\"RWA!F:BZ\"\"),44,0))\"),\"\")","v":""},{"$f":"IFERROR(__xludf.DUMMYFUNCTION(\"iferror(VLOOKUP(B801,IMPORTRANGE(\"\"https://docs.google.com/spreadsheets/d/1c3Ia3eDo4sfDZb6ajW2WVML4MhoKXWIVRbYqnsZgQRs/edit#gid=0\"\",\"\"RWA!F:BZ\"\"),48,0))\"),\"\")","v":""},{"$f":"IFERROR(__xludf.DUMMYFUNCTION(\"iferror(VLOOKUP(B801,IMPORTRANGE(\"\"https://docs.google.com/spreadsheets/d/1c3Ia3eDo4sfDZb6ajW2WVML4MhoKXWIVRbYqnsZgQRs/edit#gid=0\"\",\"\"RWA!F:BZ\"\"),49,0))\"),\"\")","v":""}]
[null,null,null,{"$f":"IFERROR(__xludf.DUMMYFUNCTION(\"iferror(VLOOKUP(B802,IMPORTRANGE(\"\"https://docs.google.com/spreadsheets/d/1c3Ia3eDo4sfDZb6ajW2WVML4MhoKXWIVRbYqnsZgQRs/edit#gid=0\"\",\"\"RWA!F:BZ\"\"),44,0))\"),\"\")","v":""},{"$f":"IFERROR(__xludf.DUMMYFUNCTION(\"iferror(VLOOKUP(B802,IMPORTRANGE(\"\"https://docs.google.com/spreadsheets/d/1c3Ia3eDo4sfDZb6ajW2WVML4MhoKXWIVRbYqnsZgQRs/edit#gid=0\"\",\"\"RWA!F:BZ\"\"),48,0))\"),\"\")","v":""},{"$f":"IFERROR(__xludf.DUMMYFUNCTION(\"iferror(VLOOKUP(B802,IMPORTRANGE(\"\"https://docs.google.com/spreadsheets/d/1c3Ia3eDo4sfDZb6ajW2WVML4MhoKXWIVRbYqnsZgQRs/edit#gid=0\"\",\"\"RWA!F:BZ\"\"),49,0))\"),\"\")","v":""}]
[null,null,null,{"$f":"IFERROR(__xludf.DUMMYFUNCTION(\"iferror(VLOOKUP(B803,IMPORTRANGE(\"\"https://docs.google.com/spreadsheets/d/1c3Ia3eDo4sfDZb6ajW2WVML4MhoKXWIVRbYqnsZgQRs/edit#gid=0\"\",\"\"RWA!F:BZ\"\"),44,0))\"),\"\")","v":""},{"$f":"IFERROR(__xludf.DUMMYFUNCTION(\"iferror(VLOOKUP(B803,IMPORTRANGE(\"\"https://docs.google.com/spreadsheets/d/1c3Ia3eDo4sfDZb6ajW2WVML4MhoKXWIVRbYqnsZgQRs/edit#gid=0\"\",\"\"RWA!F:BZ\"\"),48,0))\"),\"\")","v":""},{"$f":"IFERROR(__xludf.DUMMYFUNCTION(\"iferror(VLOOKUP(B803,IMPORTRANGE(\"\"https://docs.google.com/spreadsheets/d/1c3Ia3eDo4sfDZb6ajW2WVML4MhoKXWIVRbYqnsZgQRs/edit#gid=0\"\",\"\"RWA!F:BZ\"\"),49,0))\"),\"\")","v":""}]
[null,null,null,{"$f":"IFERROR(__xludf.DUMMYFUNCTION(\"iferror(VLOOKUP(B804,IMPORTRANGE(\"\"https://docs.google.com/spreadsheets/d/1c3Ia3eDo4sfDZb6ajW2WVML4MhoKXWIVRbYqnsZgQRs/edit#gid=0\"\",\"\"RWA!F:BZ\"\"),44,0))\"),\"\")","v":""},{"$f":"IFERROR(__xludf.DUMMYFUNCTION(\"iferror(VLOOKUP(B804,IMPORTRANGE(\"\"https://docs.google.com/spreadsheets/d/1c3Ia3eDo4sfDZb6ajW2WVML4MhoKXWIVRbYqnsZgQRs/edit#gid=0\"\",\"\"RWA!F:BZ\"\"),48,0))\"),\"\")","v":""},{"$f":"IFERROR(__xludf.DUMMYFUNCTION(\"iferror(VLOOKUP(B804,IMPORTRANGE(\"\"https://docs.google.com/spreadsheets/d/1c3Ia3eDo4sfDZb6ajW2WVML4MhoKXWIVRbYqnsZgQRs/edit#gid=0\"\",\"\"RWA!F:BZ\"\"),49,0))\"),\"\")","v":""}]
[null,null,null,{"$f":"IFERROR(__xludf.DUMMYFUNCTION(\"iferror(VLOOKUP(B805,IMPORTRANGE(\"\"https://docs.google.com/spreadsheets/d/1c3Ia3eDo4sfDZb6ajW2WVML4MhoKXWIVRbYqnsZgQRs/edit#gid=0\"\",\"\"RWA!F:BZ\"\"),44,0))\"),\"\")","v":""},{"$f":"IFERROR(__xludf.DUMMYFUNCTION(\"iferror(VLOOKUP(B805,IMPORTRANGE(\"\"https://docs.google.com/spreadsheets/d/1c3Ia3eDo4sfDZb6ajW2WVML4MhoKXWIVRbYqnsZgQRs/edit#gid=0\"\",\"\"RWA!F:BZ\"\"),48,0))\"),\"\")","v":""},{"$f":"IFERROR(__xludf.DUMMYFUNCTION(\"iferror(VLOOKUP(B805,IMPORTRANGE(\"\"https://docs.google.com/spreadsheets/d/1c3Ia3eDo4sfDZb6ajW2WVML4MhoKXWIVRbYqnsZgQRs/edit#gid=0\"\",\"\"RWA!F:BZ\"\"),49,0))\"),\"\")","v":""}]
[null,null,null,{"$f":"IFERROR(__xludf.DUMMYFUNCTION(\"iferror(VLOOKUP(B806,IMPORTRANGE(\"\"https://docs.google.com/spreadsheets/d/1c3Ia3eDo4sfDZb6ajW2WVML4MhoKXWIVRbYqnsZgQRs/edit#gid=0\"\",\"\"RWA!F:BZ\"\"),44,0))\"),\"\")","v":""},{"$f":"IFERROR(__xludf.DUMMYFUNCTION(\"iferror(VLOOKUP(B806,IMPORTRANGE(\"\"https://docs.google.com/spreadsheets/d/1c3Ia3eDo4sfDZb6ajW2WVML4MhoKXWIVRbYqnsZgQRs/edit#gid=0\"\",\"\"RWA!F:BZ\"\"),48,0))\"),\"\")","v":""},{"$f":"IFERROR(__xludf.DUMMYFUNCTION(\"iferror(VLOOKUP(B806,IMPORTRANGE(\"\"https://docs.google.com/spreadsheets/d/1c3Ia3eDo4sfDZb6ajW2WVML4MhoKXWIVRbYqnsZgQRs/edit#gid=0\"\",\"\"RWA!F:BZ\"\"),49,0))\"),\"\")","v":""}]
[null,null,null,{"$f":"IFERROR(__xludf.DUMMYFUNCTION(\"iferror(VLOOKUP(B807,IMPORTRANGE(\"\"https://docs.google.com/spreadsheets/d/1c3Ia3eDo4sfDZb6ajW2WVML4MhoKXWIVRbYqnsZgQRs/edit#gid=0\"\",\"\"RWA!F:BZ\"\"),44,0))\"),\"\")","v":""},{"$f":"IFERROR(__xludf.DUMMYFUNCTION(\"iferror(VLOOKUP(B807,IMPORTRANGE(\"\"https://docs.google.com/spreadsheets/d/1c3Ia3eDo4sfDZb6ajW2WVML4MhoKXWIVRbYqnsZgQRs/edit#gid=0\"\",\"\"RWA!F:BZ\"\"),48,0))\"),\"\")","v":""},{"$f":"IFERROR(__xludf.DUMMYFUNCTION(\"iferror(VLOOKUP(B807,IMPORTRANGE(\"\"https://docs.google.com/spreadsheets/d/1c3Ia3eDo4sfDZb6ajW2WVML4MhoKXWIVRbYqnsZgQRs/edit#gid=0\"\",\"\"RWA!F:BZ\"\"),49,0))\"),\"\")","v":""}]
[null,null,null,{"$f":"IFERROR(__xludf.DUMMYFUNCTION(\"iferror(VLOOKUP(B808,IMPORTRANGE(\"\"https://docs.google.com/spreadsheets/d/1c3Ia3eDo4sfDZb6ajW2WVML4MhoKXWIVRbYqnsZgQRs/edit#gid=0\"\",\"\"RWA!F:BZ\"\"),44,0))\"),\"\")","v":""},{"$f":"IFERROR(__xludf.DUMMYFUNCTION(\"iferror(VLOOKUP(B808,IMPORTRANGE(\"\"https://docs.google.com/spreadsheets/d/1c3Ia3eDo4sfDZb6ajW2WVML4MhoKXWIVRbYqnsZgQRs/edit#gid=0\"\",\"\"RWA!F:BZ\"\"),48,0))\"),\"\")","v":""},{"$f":"IFERROR(__xludf.DUMMYFUNCTION(\"iferror(VLOOKUP(B808,IMPORTRANGE(\"\"https://docs.google.com/spreadsheets/d/1c3Ia3eDo4sfDZb6ajW2WVML4MhoKXWIVRbYqnsZgQRs/edit#gid=0\"\",\"\"RWA!F:BZ\"\"),49,0))\"),\"\")","v":""}]
[null,null,null,{"$f":"IFERROR(__xludf.DUMMYFUNCTION(\"iferror(VLOOKUP(B809,IMPORTRANGE(\"\"https://docs.google.com/spreadsheets/d/1c3Ia3eDo4sfDZb6ajW2WVML4MhoKXWIVRbYqnsZgQRs/edit#gid=0\"\",\"\"RWA!F:BZ\"\"),44,0))\"),\"\")","v":""},{"$f":"IFERROR(__xludf.DUMMYFUNCTION(\"iferror(VLOOKUP(B809,IMPORTRANGE(\"\"https://docs.google.com/spreadsheets/d/1c3Ia3eDo4sfDZb6ajW2WVML4MhoKXWIVRbYqnsZgQRs/edit#gid=0\"\",\"\"RWA!F:BZ\"\"),48,0))\"),\"\")","v":""},{"$f":"IFERROR(__xludf.DUMMYFUNCTION(\"iferror(VLOOKUP(B809,IMPORTRANGE(\"\"https://docs.google.com/spreadsheets/d/1c3Ia3eDo4sfDZb6ajW2WVML4MhoKXWIVRbYqnsZgQRs/edit#gid=0\"\",\"\"RWA!F:BZ\"\"),49,0))\"),\"\")","v":""}]
[null,null,null,{"$f":"IFERROR(__xludf.DUMMYFUNCTION(\"iferror(VLOOKUP(B810,IMPORTRANGE(\"\"https://docs.google.com/spreadsheets/d/1c3Ia3eDo4sfDZb6ajW2WVML4MhoKXWIVRbYqnsZgQRs/edit#gid=0\"\",\"\"RWA!F:BZ\"\"),44,0))\"),\"\")","v":""},{"$f":"IFERROR(__xludf.DUMMYFUNCTION(\"iferror(VLOOKUP(B810,IMPORTRANGE(\"\"https://docs.google.com/spreadsheets/d/1c3Ia3eDo4sfDZb6ajW2WVML4MhoKXWIVRbYqnsZgQRs/edit#gid=0\"\",\"\"RWA!F:BZ\"\"),48,0))\"),\"\")","v":""},{"$f":"IFERROR(__xludf.DUMMYFUNCTION(\"iferror(VLOOKUP(B810,IMPORTRANGE(\"\"https://docs.google.com/spreadsheets/d/1c3Ia3eDo4sfDZb6ajW2WVML4MhoKXWIVRbYqnsZgQRs/edit#gid=0\"\",\"\"RWA!F:BZ\"\"),49,0))\"),\"\")","v":""}]
[null,null,null,{"$f":"IFERROR(__xludf.DUMMYFUNCTION(\"iferror(VLOOKUP(B811,IMPORTRANGE(\"\"https://docs.google.com/spreadsheets/d/1c3Ia3eDo4sfDZb6ajW2WVML4MhoKXWIVRbYqnsZgQRs/edit#gid=0\"\",\"\"RWA!F:BZ\"\"),44,0))\"),\"\")","v":""},{"$f":"IFERROR(__xludf.DUMMYFUNCTION(\"iferror(VLOOKUP(B811,IMPORTRANGE(\"\"https://docs.google.com/spreadsheets/d/1c3Ia3eDo4sfDZb6ajW2WVML4MhoKXWIVRbYqnsZgQRs/edit#gid=0\"\",\"\"RWA!F:BZ\"\"),48,0))\"),\"\")","v":""},{"$f":"IFERROR(__xludf.DUMMYFUNCTION(\"iferror(VLOOKUP(B811,IMPORTRANGE(\"\"https://docs.google.com/spreadsheets/d/1c3Ia3eDo4sfDZb6ajW2WVML4MhoKXWIVRbYqnsZgQRs/edit#gid=0\"\",\"\"RWA!F:BZ\"\"),49,0))\"),\"\")","v":""}]
[null,null,null,{"$f":"IFERROR(__xludf.DUMMYFUNCTION(\"iferror(VLOOKUP(B812,IMPORTRANGE(\"\"https://docs.google.com/spreadsheets/d/1c3Ia3eDo4sfDZb6ajW2WVML4MhoKXWIVRbYqnsZgQRs/edit#gid=0\"\",\"\"RWA!F:BZ\"\"),44,0))\"),\"\")","v":""},{"$f":"IFERROR(__xludf.DUMMYFUNCTION(\"iferror(VLOOKUP(B812,IMPORTRANGE(\"\"https://docs.google.com/spreadsheets/d/1c3Ia3eDo4sfDZb6ajW2WVML4MhoKXWIVRbYqnsZgQRs/edit#gid=0\"\",\"\"RWA!F:BZ\"\"),48,0))\"),\"\")","v":""},{"$f":"IFERROR(__xludf.DUMMYFUNCTION(\"iferror(VLOOKUP(B812,IMPORTRANGE(\"\"https://docs.google.com/spreadsheets/d/1c3Ia3eDo4sfDZb6ajW2WVML4MhoKXWIVRbYqnsZgQRs/edit#gid=0\"\",\"\"RWA!F:BZ\"\"),49,0))\"),\"\")","v":""}]
[null,null,null,{"$f":"IFERROR(__xludf.DUMMYFUNCTION(\"iferror(VLOOKUP(B813,IMPORTRANGE(\"\"https://docs.google.com/spreadsheets/d/1c3Ia3eDo4sfDZb6ajW2WVML4MhoKXWIVRbYqnsZgQRs/edit#gid=0\"\",\"\"RWA!F:BZ\"\"),44,0))\"),\"\")","v":""},{"$f":"IFERROR(__xludf.DUMMYFUNCTION(\"iferror(VLOOKUP(B813,IMPORTRANGE(\"\"https://docs.google.com/spreadsheets/d/1c3Ia3eDo4sfDZb6ajW2WVML4MhoKXWIVRbYqnsZgQRs/edit#gid=0\"\",\"\"RWA!F:BZ\"\"),48,0))\"),\"\")","v":""},{"$f":"IFERROR(__xludf.DUMMYFUNCTION(\"iferror(VLOOKUP(B813,IMPORTRANGE(\"\"https://docs.google.com/spreadsheets/d/1c3Ia3eDo4sfDZb6ajW2WVML4MhoKXWIVRbYqnsZgQRs/edit#gid=0\"\",\"\"RWA!F:BZ\"\"),49,0))\"),\"\")","v":""}]
[null,null,null,{"$f":"IFERROR(__xludf.DUMMYFUNCTION(\"iferror(VLOOKUP(B814,IMPORTRANGE(\"\"https://docs.google.com/spreadsheets/d/1c3Ia3eDo4sfDZb6ajW2WVML4MhoKXWIVRbYqnsZgQRs/edit#gid=0\"\",\"\"RWA!F:BZ\"\"),44,0))\"),\"\")","v":""},{"$f":"IFERROR(__xludf.DUMMYFUNCTION(\"iferror(VLOOKUP(B814,IMPORTRANGE(\"\"https://docs.google.com/spreadsheets/d/1c3Ia3eDo4sfDZb6ajW2WVML4MhoKXWIVRbYqnsZgQRs/edit#gid=0\"\",\"\"RWA!F:BZ\"\"),48,0))\"),\"\")","v":""},{"$f":"IFERROR(__xludf.DUMMYFUNCTION(\"iferror(VLOOKUP(B814,IMPORTRANGE(\"\"https://docs.google.com/spreadsheets/d/1c3Ia3eDo4sfDZb6ajW2WVML4MhoKXWIVRbYqnsZgQRs/edit#gid=0\"\",\"\"RWA!F:BZ\"\"),49,0))\"),\"\")","v":""}]
[null,null,null,{"$f":"IFERROR(__xludf.DUMMYFUNCTION(\"iferror(VLOOKUP(B815,IMPORTRANGE(\"\"https://docs.google.com/spreadsheets/d/1c3Ia3eDo4sfDZb6ajW2WVML4MhoKXWIVRbYqnsZgQRs/edit#gid=0\"\",\"\"RWA!F:BZ\"\"),44,0))\"),\"\")","v":""},{"$f":"IFERROR(__xludf.DUMMYFUNCTION(\"iferror(VLOOKUP(B815,IMPORTRANGE(\"\"https://docs.google.com/spreadsheets/d/1c3Ia3eDo4sfDZb6ajW2WVML4MhoKXWIVRbYqnsZgQRs/edit#gid=0\"\",\"\"RWA!F:BZ\"\"),48,0))\"),\"\")","v":""},{"$f":"IFERROR(__xludf.DUMMYFUNCTION(\"iferror(VLOOKUP(B815,IMPORTRANGE(\"\"https://docs.google.com/spreadsheets/d/1c3Ia3eDo4sfDZb6ajW2WVML4MhoKXWIVRbYqnsZgQRs/edit#gid=0\"\",\"\"RWA!F:BZ\"\"),49,0))\"),\"\")","v":""}]
[null,null,null,{"$f":"IFERROR(__xludf.DUMMYFUNCTION(\"iferror(VLOOKUP(B816,IMPORTRANGE(\"\"https://docs.google.com/spreadsheets/d/1c3Ia3eDo4sfDZb6ajW2WVML4MhoKXWIVRbYqnsZgQRs/edit#gid=0\"\",\"\"RWA!F:BZ\"\"),44,0))\"),\"\")","v":""},{"$f":"IFERROR(__xludf.DUMMYFUNCTION(\"iferror(VLOOKUP(B816,IMPORTRANGE(\"\"https://docs.google.com/spreadsheets/d/1c3Ia3eDo4sfDZb6ajW2WVML4MhoKXWIVRbYqnsZgQRs/edit#gid=0\"\",\"\"RWA!F:BZ\"\"),48,0))\"),\"\")","v":""},{"$f":"IFERROR(__xludf.DUMMYFUNCTION(\"iferror(VLOOKUP(B816,IMPORTRANGE(\"\"https://docs.google.com/spreadsheets/d/1c3Ia3eDo4sfDZb6ajW2WVML4MhoKXWIVRbYqnsZgQRs/edit#gid=0\"\",\"\"RWA!F:BZ\"\"),49,0))\"),\"\")","v":""}]
[null,null,null,{"$f":"IFERROR(__xludf.DUMMYFUNCTION(\"iferror(VLOOKUP(B817,IMPORTRANGE(\"\"https://docs.google.com/spreadsheets/d/1c3Ia3eDo4sfDZb6ajW2WVML4MhoKXWIVRbYqnsZgQRs/edit#gid=0\"\",\"\"RWA!F:BZ\"\"),44,0))\"),\"\")","v":""},{"$f":"IFERROR(__xludf.DUMMYFUNCTION(\"iferror(VLOOKUP(B817,IMPORTRANGE(\"\"https://docs.google.com/spreadsheets/d/1c3Ia3eDo4sfDZb6ajW2WVML4MhoKXWIVRbYqnsZgQRs/edit#gid=0\"\",\"\"RWA!F:BZ\"\"),48,0))\"),\"\")","v":""},{"$f":"IFERROR(__xludf.DUMMYFUNCTION(\"iferror(VLOOKUP(B817,IMPORTRANGE(\"\"https://docs.google.com/spreadsheets/d/1c3Ia3eDo4sfDZb6ajW2WVML4MhoKXWIVRbYqnsZgQRs/edit#gid=0\"\",\"\"RWA!F:BZ\"\"),49,0))\"),\"\")","v":""}]
[null,null,null,{"$f":"IFERROR(__xludf.DUMMYFUNCTION(\"iferror(VLOOKUP(B818,IMPORTRANGE(\"\"https://docs.google.com/spreadsheets/d/1c3Ia3eDo4sfDZb6ajW2WVML4MhoKXWIVRbYqnsZgQRs/edit#gid=0\"\",\"\"RWA!F:BZ\"\"),44,0))\"),\"\")","v":""},{"$f":"IFERROR(__xludf.DUMMYFUNCTION(\"iferror(VLOOKUP(B818,IMPORTRANGE(\"\"https://docs.google.com/spreadsheets/d/1c3Ia3eDo4sfDZb6ajW2WVML4MhoKXWIVRbYqnsZgQRs/edit#gid=0\"\",\"\"RWA!F:BZ\"\"),48,0))\"),\"\")","v":""},{"$f":"IFERROR(__xludf.DUMMYFUNCTION(\"iferror(VLOOKUP(B818,IMPORTRANGE(\"\"https://docs.google.com/spreadsheets/d/1c3Ia3eDo4sfDZb6ajW2WVML4MhoKXWIVRbYqnsZgQRs/edit#gid=0\"\",\"\"RWA!F:BZ\"\"),49,0))\"),\"\")","v":""}]
[null,null,null,{"$f":"IFERROR(__xludf.DUMMYFUNCTION(\"iferror(VLOOKUP(B819,IMPORTRANGE(\"\"https://docs.google.com/spreadsheets/d/1c3Ia3eDo4sfDZb6ajW2WVML4MhoKXWIVRbYqnsZgQRs/edit#gid=0\"\",\"\"RWA!F:BZ\"\"),44,0))\"),\"\")","v":""},{"$f":"IFERROR(__xludf.DUMMYFUNCTION(\"iferror(VLOOKUP(B819,IMPORTRANGE(\"\"https://docs.google.com/spreadsheets/d/1c3Ia3eDo4sfDZb6ajW2WVML4MhoKXWIVRbYqnsZgQRs/edit#gid=0\"\",\"\"RWA!F:BZ\"\"),48,0))\"),\"\")","v":""},{"$f":"IFERROR(__xludf.DUMMYFUNCTION(\"iferror(VLOOKUP(B819,IMPORTRANGE(\"\"https://docs.google.com/spreadsheets/d/1c3Ia3eDo4sfDZb6ajW2WVML4MhoKXWIVRbYqnsZgQRs/edit#gid=0\"\",\"\"RWA!F:BZ\"\"),49,0))\"),\"\")","v":""}]
[null,null,null,{"$f":"IFERROR(__xludf.DUMMYFUNCTION(\"iferror(VLOOKUP(B820,IMPORTRANGE(\"\"https://docs.google.com/spreadsheets/d/1c3Ia3eDo4sfDZb6ajW2WVML4MhoKXWIVRbYqnsZgQRs/edit#gid=0\"\",\"\"RWA!F:BZ\"\"),44,0))\"),\"\")","v":""},{"$f":"IFERROR(__xludf.DUMMYFUNCTION(\"iferror(VLOOKUP(B820,IMPORTRANGE(\"\"https://docs.google.com/spreadsheets/d/1c3Ia3eDo4sfDZb6ajW2WVML4MhoKXWIVRbYqnsZgQRs/edit#gid=0\"\",\"\"RWA!F:BZ\"\"),48,0))\"),\"\")","v":""},{"$f":"IFERROR(__xludf.DUMMYFUNCTION(\"iferror(VLOOKUP(B820,IMPORTRANGE(\"\"https://docs.google.com/spreadsheets/d/1c3Ia3eDo4sfDZb6ajW2WVML4MhoKXWIVRbYqnsZgQRs/edit#gid=0\"\",\"\"RWA!F:BZ\"\"),49,0))\"),\"\")","v":""}]
[null,null,null,{"$f":"IFERROR(__xludf.DUMMYFUNCTION(\"iferror(VLOOKUP(B821,IMPORTRANGE(\"\"https://docs.google.com/spreadsheets/d/1c3Ia3eDo4sfDZb6ajW2WVML4MhoKXWIVRbYqnsZgQRs/edit#gid=0\"\",\"\"RWA!F:BZ\"\"),44,0))\"),\"\")","v":""},{"$f":"IFERROR(__xludf.DUMMYFUNCTION(\"iferror(VLOOKUP(B821,IMPORTRANGE(\"\"https://docs.google.com/spreadsheets/d/1c3Ia3eDo4sfDZb6ajW2WVML4MhoKXWIVRbYqnsZgQRs/edit#gid=0\"\",\"\"RWA!F:BZ\"\"),48,0))\"),\"\")","v":""},{"$f":"IFERROR(__xludf.DUMMYFUNCTION(\"iferror(VLOOKUP(B821,IMPORTRANGE(\"\"https://docs.google.com/spreadsheets/d/1c3Ia3eDo4sfDZb6ajW2WVML4MhoKXWIVRbYqnsZgQRs/edit#gid=0\"\",\"\"RWA!F:BZ\"\"),49,0))\"),\"\")","v":""}]
[null,null,null,{"$f":"IFERROR(__xludf.DUMMYFUNCTION(\"iferror(VLOOKUP(B822,IMPORTRANGE(\"\"https://docs.google.com/spreadsheets/d/1c3Ia3eDo4sfDZb6ajW2WVML4MhoKXWIVRbYqnsZgQRs/edit#gid=0\"\",\"\"RWA!F:BZ\"\"),44,0))\"),\"\")","v":""},{"$f":"IFERROR(__xludf.DUMMYFUNCTION(\"iferror(VLOOKUP(B822,IMPORTRANGE(\"\"https://docs.google.com/spreadsheets/d/1c3Ia3eDo4sfDZb6ajW2WVML4MhoKXWIVRbYqnsZgQRs/edit#gid=0\"\",\"\"RWA!F:BZ\"\"),48,0))\"),\"\")","v":""},{"$f":"IFERROR(__xludf.DUMMYFUNCTION(\"iferror(VLOOKUP(B822,IMPORTRANGE(\"\"https://docs.google.com/spreadsheets/d/1c3Ia3eDo4sfDZb6ajW2WVML4MhoKXWIVRbYqnsZgQRs/edit#gid=0\"\",\"\"RWA!F:BZ\"\"),49,0))\"),\"\")","v":""}]
[null,null,null,{"$f":"IFERROR(__xludf.DUMMYFUNCTION(\"iferror(VLOOKUP(B823,IMPORTRANGE(\"\"https://docs.google.com/spreadsheets/d/1c3Ia3eDo4sfDZb6ajW2WVML4MhoKXWIVRbYqnsZgQRs/edit#gid=0\"\",\"\"RWA!F:BZ\"\"),44,0))\"),\"\")","v":""},{"$f":"IFERROR(__xludf.DUMMYFUNCTION(\"iferror(VLOOKUP(B823,IMPORTRANGE(\"\"https://docs.google.com/spreadsheets/d/1c3Ia3eDo4sfDZb6ajW2WVML4MhoKXWIVRbYqnsZgQRs/edit#gid=0\"\",\"\"RWA!F:BZ\"\"),48,0))\"),\"\")","v":""},{"$f":"IFERROR(__xludf.DUMMYFUNCTION(\"iferror(VLOOKUP(B823,IMPORTRANGE(\"\"https://docs.google.com/spreadsheets/d/1c3Ia3eDo4sfDZb6ajW2WVML4MhoKXWIVRbYqnsZgQRs/edit#gid=0\"\",\"\"RWA!F:BZ\"\"),49,0))\"),\"\")","v":""}]
[null,null,null,{"$f":"IFERROR(__xludf.DUMMYFUNCTION(\"iferror(VLOOKUP(B824,IMPORTRANGE(\"\"https://docs.google.com/spreadsheets/d/1c3Ia3eDo4sfDZb6ajW2WVML4MhoKXWIVRbYqnsZgQRs/edit#gid=0\"\",\"\"RWA!F:BZ\"\"),44,0))\"),\"\")","v":""},{"$f":"IFERROR(__xludf.DUMMYFUNCTION(\"iferror(VLOOKUP(B824,IMPORTRANGE(\"\"https://docs.google.com/spreadsheets/d/1c3Ia3eDo4sfDZb6ajW2WVML4MhoKXWIVRbYqnsZgQRs/edit#gid=0\"\",\"\"RWA!F:BZ\"\"),48,0))\"),\"\")","v":""},{"$f":"IFERROR(__xludf.DUMMYFUNCTION(\"iferror(VLOOKUP(B824,IMPORTRANGE(\"\"https://docs.google.com/spreadsheets/d/1c3Ia3eDo4sfDZb6ajW2WVML4MhoKXWIVRbYqnsZgQRs/edit#gid=0\"\",\"\"RWA!F:BZ\"\"),49,0))\"),\"\")","v":""}]
[null,null,null,{"$f":"IFERROR(__xludf.DUMMYFUNCTION(\"iferror(VLOOKUP(B825,IMPORTRANGE(\"\"https://docs.google.com/spreadsheets/d/1c3Ia3eDo4sfDZb6ajW2WVML4MhoKXWIVRbYqnsZgQRs/edit#gid=0\"\",\"\"RWA!F:BZ\"\"),44,0))\"),\"\")","v":""},{"$f":"IFERROR(__xludf.DUMMYFUNCTION(\"iferror(VLOOKUP(B825,IMPORTRANGE(\"\"https://docs.google.com/spreadsheets/d/1c3Ia3eDo4sfDZb6ajW2WVML4MhoKXWIVRbYqnsZgQRs/edit#gid=0\"\",\"\"RWA!F:BZ\"\"),48,0))\"),\"\")","v":""},{"$f":"IFERROR(__xludf.DUMMYFUNCTION(\"iferror(VLOOKUP(B825,IMPORTRANGE(\"\"https://docs.google.com/spreadsheets/d/1c3Ia3eDo4sfDZb6ajW2WVML4MhoKXWIVRbYqnsZgQRs/edit#gid=0\"\",\"\"RWA!F:BZ\"\"),49,0))\"),\"\")","v":""}]
[null,null,null,{"$f":"IFERROR(__xludf.DUMMYFUNCTION(\"iferror(VLOOKUP(B826,IMPORTRANGE(\"\"https://docs.google.com/spreadsheets/d/1c3Ia3eDo4sfDZb6ajW2WVML4MhoKXWIVRbYqnsZgQRs/edit#gid=0\"\",\"\"RWA!F:BZ\"\"),44,0))\"),\"\")","v":""},{"$f":"IFERROR(__xludf.DUMMYFUNCTION(\"iferror(VLOOKUP(B826,IMPORTRANGE(\"\"https://docs.google.com/spreadsheets/d/1c3Ia3eDo4sfDZb6ajW2WVML4MhoKXWIVRbYqnsZgQRs/edit#gid=0\"\",\"\"RWA!F:BZ\"\"),48,0))\"),\"\")","v":""},{"$f":"IFERROR(__xludf.DUMMYFUNCTION(\"iferror(VLOOKUP(B826,IMPORTRANGE(\"\"https://docs.google.com/spreadsheets/d/1c3Ia3eDo4sfDZb6ajW2WVML4MhoKXWIVRbYqnsZgQRs/edit#gid=0\"\",\"\"RWA!F:BZ\"\"),49,0))\"),\"\")","v":""}]
[null,null,null,{"$f":"IFERROR(__xludf.DUMMYFUNCTION(\"iferror(VLOOKUP(B827,IMPORTRANGE(\"\"https://docs.google.com/spreadsheets/d/1c3Ia3eDo4sfDZb6ajW2WVML4MhoKXWIVRbYqnsZgQRs/edit#gid=0\"\",\"\"RWA!F:BZ\"\"),44,0))\"),\"\")","v":""},{"$f":"IFERROR(__xludf.DUMMYFUNCTION(\"iferror(VLOOKUP(B827,IMPORTRANGE(\"\"https://docs.google.com/spreadsheets/d/1c3Ia3eDo4sfDZb6ajW2WVML4MhoKXWIVRbYqnsZgQRs/edit#gid=0\"\",\"\"RWA!F:BZ\"\"),48,0))\"),\"\")","v":""},{"$f":"IFERROR(__xludf.DUMMYFUNCTION(\"iferror(VLOOKUP(B827,IMPORTRANGE(\"\"https://docs.google.com/spreadsheets/d/1c3Ia3eDo4sfDZb6ajW2WVML4MhoKXWIVRbYqnsZgQRs/edit#gid=0\"\",\"\"RWA!F:BZ\"\"),49,0))\"),\"\")","v":""}]
[null,null,null,{"$f":"IFERROR(__xludf.DUMMYFUNCTION(\"iferror(VLOOKUP(B828,IMPORTRANGE(\"\"https://docs.google.com/spreadsheets/d/1c3Ia3eDo4sfDZb6ajW2WVML4MhoKXWIVRbYqnsZgQRs/edit#gid=0\"\",\"\"RWA!F:BZ\"\"),44,0))\"),\"\")","v":""},{"$f":"IFERROR(__xludf.DUMMYFUNCTION(\"iferror(VLOOKUP(B828,IMPORTRANGE(\"\"https://docs.google.com/spreadsheets/d/1c3Ia3eDo4sfDZb6ajW2WVML4MhoKXWIVRbYqnsZgQRs/edit#gid=0\"\",\"\"RWA!F:BZ\"\"),48,0))\"),\"\")","v":""},{"$f":"IFERROR(__xludf.DUMMYFUNCTION(\"iferror(VLOOKUP(B828,IMPORTRANGE(\"\"https://docs.google.com/spreadsheets/d/1c3Ia3eDo4sfDZb6ajW2WVML4MhoKXWIVRbYqnsZgQRs/edit#gid=0\"\",\"\"RWA!F:BZ\"\"),49,0))\"),\"\")","v":""}]
[null,null,null,{"$f":"IFERROR(__xludf.DUMMYFUNCTION(\"iferror(VLOOKUP(B829,IMPORTRANGE(\"\"https://docs.google.com/spreadsheets/d/1c3Ia3eDo4sfDZb6ajW2WVML4MhoKXWIVRbYqnsZgQRs/edit#gid=0\"\",\"\"RWA!F:BZ\"\"),44,0))\"),\"\")","v":""},{"$f":"IFERROR(__xludf.DUMMYFUNCTION(\"iferror(VLOOKUP(B829,IMPORTRANGE(\"\"https://docs.google.com/spreadsheets/d/1c3Ia3eDo4sfDZb6ajW2WVML4MhoKXWIVRbYqnsZgQRs/edit#gid=0\"\",\"\"RWA!F:BZ\"\"),48,0))\"),\"\")","v":""},{"$f":"IFERROR(__xludf.DUMMYFUNCTION(\"iferror(VLOOKUP(B829,IMPORTRANGE(\"\"https://docs.google.com/spreadsheets/d/1c3Ia3eDo4sfDZb6ajW2WVML4MhoKXWIVRbYqnsZgQRs/edit#gid=0\"\",\"\"RWA!F:BZ\"\"),49,0))\"),\"\")","v":""}]
[null,null,null,{"$f":"IFERROR(__xludf.DUMMYFUNCTION(\"iferror(VLOOKUP(B830,IMPORTRANGE(\"\"https://docs.google.com/spreadsheets/d/1c3Ia3eDo4sfDZb6ajW2WVML4MhoKXWIVRbYqnsZgQRs/edit#gid=0\"\",\"\"RWA!F:BZ\"\"),44,0))\"),\"\")","v":""},{"$f":"IFERROR(__xludf.DUMMYFUNCTION(\"iferror(VLOOKUP(B830,IMPORTRANGE(\"\"https://docs.google.com/spreadsheets/d/1c3Ia3eDo4sfDZb6ajW2WVML4MhoKXWIVRbYqnsZgQRs/edit#gid=0\"\",\"\"RWA!F:BZ\"\"),48,0))\"),\"\")","v":""},{"$f":"IFERROR(__xludf.DUMMYFUNCTION(\"iferror(VLOOKUP(B830,IMPORTRANGE(\"\"https://docs.google.com/spreadsheets/d/1c3Ia3eDo4sfDZb6ajW2WVML4MhoKXWIVRbYqnsZgQRs/edit#gid=0\"\",\"\"RWA!F:BZ\"\"),49,0))\"),\"\")","v":""}]
[null,null,null,{"$f":"IFERROR(__xludf.DUMMYFUNCTION(\"iferror(VLOOKUP(B831,IMPORTRANGE(\"\"https://docs.google.com/spreadsheets/d/1c3Ia3eDo4sfDZb6ajW2WVML4MhoKXWIVRbYqnsZgQRs/edit#gid=0\"\",\"\"RWA!F:BZ\"\"),44,0))\"),\"\")","v":""},{"$f":"IFERROR(__xludf.DUMMYFUNCTION(\"iferror(VLOOKUP(B831,IMPORTRANGE(\"\"https://docs.google.com/spreadsheets/d/1c3Ia3eDo4sfDZb6ajW2WVML4MhoKXWIVRbYqnsZgQRs/edit#gid=0\"\",\"\"RWA!F:BZ\"\"),48,0))\"),\"\")","v":""},{"$f":"IFERROR(__xludf.DUMMYFUNCTION(\"iferror(VLOOKUP(B831,IMPORTRANGE(\"\"https://docs.google.com/spreadsheets/d/1c3Ia3eDo4sfDZb6ajW2WVML4MhoKXWIVRbYqnsZgQRs/edit#gid=0\"\",\"\"RWA!F:BZ\"\"),49,0))\"),\"\")","v":""}]
[null,null,null,{"$f":"IFERROR(__xludf.DUMMYFUNCTION(\"iferror(VLOOKUP(B832,IMPORTRANGE(\"\"https://docs.google.com/spreadsheets/d/1c3Ia3eDo4sfDZb6ajW2WVML4MhoKXWIVRbYqnsZgQRs/edit#gid=0\"\",\"\"RWA!F:BZ\"\"),44,0))\"),\"\")","v":""},{"$f":"IFERROR(__xludf.DUMMYFUNCTION(\"iferror(VLOOKUP(B832,IMPORTRANGE(\"\"https://docs.google.com/spreadsheets/d/1c3Ia3eDo4sfDZb6ajW2WVML4MhoKXWIVRbYqnsZgQRs/edit#gid=0\"\",\"\"RWA!F:BZ\"\"),48,0))\"),\"\")","v":""},{"$f":"IFERROR(__xludf.DUMMYFUNCTION(\"iferror(VLOOKUP(B832,IMPORTRANGE(\"\"https://docs.google.com/spreadsheets/d/1c3Ia3eDo4sfDZb6ajW2WVML4MhoKXWIVRbYqnsZgQRs/edit#gid=0\"\",\"\"RWA!F:BZ\"\"),49,0))\"),\"\")","v":""}]
[null,null,null,{"$f":"IFERROR(__xludf.DUMMYFUNCTION(\"iferror(VLOOKUP(B833,IMPORTRANGE(\"\"https://docs.google.com/spreadsheets/d/1c3Ia3eDo4sfDZb6ajW2WVML4MhoKXWIVRbYqnsZgQRs/edit#gid=0\"\",\"\"RWA!F:BZ\"\"),44,0))\"),\"\")","v":""},{"$f":"IFERROR(__xludf.DUMMYFUNCTION(\"iferror(VLOOKUP(B833,IMPORTRANGE(\"\"https://docs.google.com/spreadsheets/d/1c3Ia3eDo4sfDZb6ajW2WVML4MhoKXWIVRbYqnsZgQRs/edit#gid=0\"\",\"\"RWA!F:BZ\"\"),48,0))\"),\"\")","v":""},{"$f":"IFERROR(__xludf.DUMMYFUNCTION(\"iferror(VLOOKUP(B833,IMPORTRANGE(\"\"https://docs.google.com/spreadsheets/d/1c3Ia3eDo4sfDZb6ajW2WVML4MhoKXWIVRbYqnsZgQRs/edit#gid=0\"\",\"\"RWA!F:BZ\"\"),49,0))\"),\"\")","v":""}]
[null,null,null,{"$f":"IFERROR(__xludf.DUMMYFUNCTION(\"iferror(VLOOKUP(B834,IMPORTRANGE(\"\"https://docs.google.com/spreadsheets/d/1c3Ia3eDo4sfDZb6ajW2WVML4MhoKXWIVRbYqnsZgQRs/edit#gid=0\"\",\"\"RWA!F:BZ\"\"),44,0))\"),\"\")","v":""},{"$f":"IFERROR(__xludf.DUMMYFUNCTION(\"iferror(VLOOKUP(B834,IMPORTRANGE(\"\"https://docs.google.com/spreadsheets/d/1c3Ia3eDo4sfDZb6ajW2WVML4MhoKXWIVRbYqnsZgQRs/edit#gid=0\"\",\"\"RWA!F:BZ\"\"),48,0))\"),\"\")","v":""},{"$f":"IFERROR(__xludf.DUMMYFUNCTION(\"iferror(VLOOKUP(B834,IMPORTRANGE(\"\"https://docs.google.com/spreadsheets/d/1c3Ia3eDo4sfDZb6ajW2WVML4MhoKXWIVRbYqnsZgQRs/edit#gid=0\"\",\"\"RWA!F:BZ\"\"),49,0))\"),\"\")","v":""}]
[null,null,null,{"$f":"IFERROR(__xludf.DUMMYFUNCTION(\"iferror(VLOOKUP(B835,IMPORTRANGE(\"\"https://docs.google.com/spreadsheets/d/1c3Ia3eDo4sfDZb6ajW2WVML4MhoKXWIVRbYqnsZgQRs/edit#gid=0\"\",\"\"RWA!F:BZ\"\"),44,0))\"),\"\")","v":""},{"$f":"IFERROR(__xludf.DUMMYFUNCTION(\"iferror(VLOOKUP(B835,IMPORTRANGE(\"\"https://docs.google.com/spreadsheets/d/1c3Ia3eDo4sfDZb6ajW2WVML4MhoKXWIVRbYqnsZgQRs/edit#gid=0\"\",\"\"RWA!F:BZ\"\"),48,0))\"),\"\")","v":""},{"$f":"IFERROR(__xludf.DUMMYFUNCTION(\"iferror(VLOOKUP(B835,IMPORTRANGE(\"\"https://docs.google.com/spreadsheets/d/1c3Ia3eDo4sfDZb6ajW2WVML4MhoKXWIVRbYqnsZgQRs/edit#gid=0\"\",\"\"RWA!F:BZ\"\"),49,0))\"),\"\")","v":""}]
[null,null,null,{"$f":"IFERROR(__xludf.DUMMYFUNCTION(\"iferror(VLOOKUP(B836,IMPORTRANGE(\"\"https://docs.google.com/spreadsheets/d/1c3Ia3eDo4sfDZb6ajW2WVML4MhoKXWIVRbYqnsZgQRs/edit#gid=0\"\",\"\"RWA!F:BZ\"\"),44,0))\"),\"\")","v":""},{"$f":"IFERROR(__xludf.DUMMYFUNCTION(\"iferror(VLOOKUP(B836,IMPORTRANGE(\"\"https://docs.google.com/spreadsheets/d/1c3Ia3eDo4sfDZb6ajW2WVML4MhoKXWIVRbYqnsZgQRs/edit#gid=0\"\",\"\"RWA!F:BZ\"\"),48,0))\"),\"\")","v":""},{"$f":"IFERROR(__xludf.DUMMYFUNCTION(\"iferror(VLOOKUP(B836,IMPORTRANGE(\"\"https://docs.google.com/spreadsheets/d/1c3Ia3eDo4sfDZb6ajW2WVML4MhoKXWIVRbYqnsZgQRs/edit#gid=0\"\",\"\"RWA!F:BZ\"\"),49,0))\"),\"\")","v":""}]
[null,null,null,{"$f":"IFERROR(__xludf.DUMMYFUNCTION(\"iferror(VLOOKUP(B837,IMPORTRANGE(\"\"https://docs.google.com/spreadsheets/d/1c3Ia3eDo4sfDZb6ajW2WVML4MhoKXWIVRbYqnsZgQRs/edit#gid=0\"\",\"\"RWA!F:BZ\"\"),44,0))\"),\"\")","v":""},{"$f":"IFERROR(__xludf.DUMMYFUNCTION(\"iferror(VLOOKUP(B837,IMPORTRANGE(\"\"https://docs.google.com/spreadsheets/d/1c3Ia3eDo4sfDZb6ajW2WVML4MhoKXWIVRbYqnsZgQRs/edit#gid=0\"\",\"\"RWA!F:BZ\"\"),48,0))\"),\"\")","v":""},{"$f":"IFERROR(__xludf.DUMMYFUNCTION(\"iferror(VLOOKUP(B837,IMPORTRANGE(\"\"https://docs.google.com/spreadsheets/d/1c3Ia3eDo4sfDZb6ajW2WVML4MhoKXWIVRbYqnsZgQRs/edit#gid=0\"\",\"\"RWA!F:BZ\"\"),49,0))\"),\"\")","v":""}]
[null,null,null,{"$f":"IFERROR(__xludf.DUMMYFUNCTION(\"iferror(VLOOKUP(B838,IMPORTRANGE(\"\"https://docs.google.com/spreadsheets/d/1c3Ia3eDo4sfDZb6ajW2WVML4MhoKXWIVRbYqnsZgQRs/edit#gid=0\"\",\"\"RWA!F:BZ\"\"),44,0))\"),\"\")","v":""},{"$f":"IFERROR(__xludf.DUMMYFUNCTION(\"iferror(VLOOKUP(B838,IMPORTRANGE(\"\"https://docs.google.com/spreadsheets/d/1c3Ia3eDo4sfDZb6ajW2WVML4MhoKXWIVRbYqnsZgQRs/edit#gid=0\"\",\"\"RWA!F:BZ\"\"),48,0))\"),\"\")","v":""},{"$f":"IFERROR(__xludf.DUMMYFUNCTION(\"iferror(VLOOKUP(B838,IMPORTRANGE(\"\"https://docs.google.com/spreadsheets/d/1c3Ia3eDo4sfDZb6ajW2WVML4MhoKXWIVRbYqnsZgQRs/edit#gid=0\"\",\"\"RWA!F:BZ\"\"),49,0))\"),\"\")","v":""}]
[null,null,null,{"$f":"IFERROR(__xludf.DUMMYFUNCTION(\"iferror(VLOOKUP(B839,IMPORTRANGE(\"\"https://docs.google.com/spreadsheets/d/1c3Ia3eDo4sfDZb6ajW2WVML4MhoKXWIVRbYqnsZgQRs/edit#gid=0\"\",\"\"RWA!F:BZ\"\"),44,0))\"),\"\")","v":""},{"$f":"IFERROR(__xludf.DUMMYFUNCTION(\"iferror(VLOOKUP(B839,IMPORTRANGE(\"\"https://docs.google.com/spreadsheets/d/1c3Ia3eDo4sfDZb6ajW2WVML4MhoKXWIVRbYqnsZgQRs/edit#gid=0\"\",\"\"RWA!F:BZ\"\"),48,0))\"),\"\")","v":""},{"$f":"IFERROR(__xludf.DUMMYFUNCTION(\"iferror(VLOOKUP(B839,IMPORTRANGE(\"\"https://docs.google.com/spreadsheets/d/1c3Ia3eDo4sfDZb6ajW2WVML4MhoKXWIVRbYqnsZgQRs/edit#gid=0\"\",\"\"RWA!F:BZ\"\"),49,0))\"),\"\")","v":""}]
[null,null,null,{"$f":"IFERROR(__xludf.DUMMYFUNCTION(\"iferror(VLOOKUP(B840,IMPORTRANGE(\"\"https://docs.google.com/spreadsheets/d/1c3Ia3eDo4sfDZb6ajW2WVML4MhoKXWIVRbYqnsZgQRs/edit#gid=0\"\",\"\"RWA!F:BZ\"\"),44,0))\"),\"\")","v":""},{"$f":"IFERROR(__xludf.DUMMYFUNCTION(\"iferror(VLOOKUP(B840,IMPORTRANGE(\"\"https://docs.google.com/spreadsheets/d/1c3Ia3eDo4sfDZb6ajW2WVML4MhoKXWIVRbYqnsZgQRs/edit#gid=0\"\",\"\"RWA!F:BZ\"\"),48,0))\"),\"\")","v":""},{"$f":"IFERROR(__xludf.DUMMYFUNCTION(\"iferror(VLOOKUP(B840,IMPORTRANGE(\"\"https://docs.google.com/spreadsheets/d/1c3Ia3eDo4sfDZb6ajW2WVML4MhoKXWIVRbYqnsZgQRs/edit#gid=0\"\",\"\"RWA!F:BZ\"\"),49,0))\"),\"\")","v":""}]
[null,null,null,{"$f":"IFERROR(__xludf.DUMMYFUNCTION(\"iferror(VLOOKUP(B841,IMPORTRANGE(\"\"https://docs.google.com/spreadsheets/d/1c3Ia3eDo4sfDZb6ajW2WVML4MhoKXWIVRbYqnsZgQRs/edit#gid=0\"\",\"\"RWA!F:BZ\"\"),44,0))\"),\"\")","v":""},{"$f":"IFERROR(__xludf.DUMMYFUNCTION(\"iferror(VLOOKUP(B841,IMPORTRANGE(\"\"https://docs.google.com/spreadsheets/d/1c3Ia3eDo4sfDZb6ajW2WVML4MhoKXWIVRbYqnsZgQRs/edit#gid=0\"\",\"\"RWA!F:BZ\"\"),48,0))\"),\"\")","v":""},{"$f":"IFERROR(__xludf.DUMMYFUNCTION(\"iferror(VLOOKUP(B841,IMPORTRANGE(\"\"https://docs.google.com/spreadsheets/d/1c3Ia3eDo4sfDZb6ajW2WVML4MhoKXWIVRbYqnsZgQRs/edit#gid=0\"\",\"\"RWA!F:BZ\"\"),49,0))\"),\"\")","v":""}]
[null,null,null,{"$f":"IFERROR(__xludf.DUMMYFUNCTION(\"iferror(VLOOKUP(B842,IMPORTRANGE(\"\"https://docs.google.com/spreadsheets/d/1c3Ia3eDo4sfDZb6ajW2WVML4MhoKXWIVRbYqnsZgQRs/edit#gid=0\"\",\"\"RWA!F:BZ\"\"),44,0))\"),\"\")","v":""},{"$f":"IFERROR(__xludf.DUMMYFUNCTION(\"iferror(VLOOKUP(B842,IMPORTRANGE(\"\"https://docs.google.com/spreadsheets/d/1c3Ia3eDo4sfDZb6ajW2WVML4MhoKXWIVRbYqnsZgQRs/edit#gid=0\"\",\"\"RWA!F:BZ\"\"),48,0))\"),\"\")","v":""},{"$f":"IFERROR(__xludf.DUMMYFUNCTION(\"iferror(VLOOKUP(B842,IMPORTRANGE(\"\"https://docs.google.com/spreadsheets/d/1c3Ia3eDo4sfDZb6ajW2WVML4MhoKXWIVRbYqnsZgQRs/edit#gid=0\"\",\"\"RWA!F:BZ\"\"),49,0))\"),\"\")","v":""}]
[null,null,null,{"$f":"IFERROR(__xludf.DUMMYFUNCTION(\"iferror(VLOOKUP(B843,IMPORTRANGE(\"\"https://docs.google.com/spreadsheets/d/1c3Ia3eDo4sfDZb6ajW2WVML4MhoKXWIVRbYqnsZgQRs/edit#gid=0\"\",\"\"RWA!F:BZ\"\"),44,0))\"),\"\")","v":""},{"$f":"IFERROR(__xludf.DUMMYFUNCTION(\"iferror(VLOOKUP(B843,IMPORTRANGE(\"\"https://docs.google.com/spreadsheets/d/1c3Ia3eDo4sfDZb6ajW2WVML4MhoKXWIVRbYqnsZgQRs/edit#gid=0\"\",\"\"RWA!F:BZ\"\"),48,0))\"),\"\")","v":""},{"$f":"IFERROR(__xludf.DUMMYFUNCTION(\"iferror(VLOOKUP(B843,IMPORTRANGE(\"\"https://docs.google.com/spreadsheets/d/1c3Ia3eDo4sfDZb6ajW2WVML4MhoKXWIVRbYqnsZgQRs/edit#gid=0\"\",\"\"RWA!F:BZ\"\"),49,0))\"),\"\")","v":""}]
[null,null,null,{"$f":"IFERROR(__xludf.DUMMYFUNCTION(\"iferror(VLOOKUP(B844,IMPORTRANGE(\"\"https://docs.google.com/spreadsheets/d/1c3Ia3eDo4sfDZb6ajW2WVML4MhoKXWIVRbYqnsZgQRs/edit#gid=0\"\",\"\"RWA!F:BZ\"\"),44,0))\"),\"\")","v":""},{"$f":"IFERROR(__xludf.DUMMYFUNCTION(\"iferror(VLOOKUP(B844,IMPORTRANGE(\"\"https://docs.google.com/spreadsheets/d/1c3Ia3eDo4sfDZb6ajW2WVML4MhoKXWIVRbYqnsZgQRs/edit#gid=0\"\",\"\"RWA!F:BZ\"\"),48,0))\"),\"\")","v":""},{"$f":"IFERROR(__xludf.DUMMYFUNCTION(\"iferror(VLOOKUP(B844,IMPORTRANGE(\"\"https://docs.google.com/spreadsheets/d/1c3Ia3eDo4sfDZb6ajW2WVML4MhoKXWIVRbYqnsZgQRs/edit#gid=0\"\",\"\"RWA!F:BZ\"\"),49,0))\"),\"\")","v":""}]
[null,null,null,{"$f":"IFERROR(__xludf.DUMMYFUNCTION(\"iferror(VLOOKUP(B845,IMPORTRANGE(\"\"https://docs.google.com/spreadsheets/d/1c3Ia3eDo4sfDZb6ajW2WVML4MhoKXWIVRbYqnsZgQRs/edit#gid=0\"\",\"\"RWA!F:BZ\"\"),44,0))\"),\"\")","v":""},{"$f":"IFERROR(__xludf.DUMMYFUNCTION(\"iferror(VLOOKUP(B845,IMPORTRANGE(\"\"https://docs.google.com/spreadsheets/d/1c3Ia3eDo4sfDZb6ajW2WVML4MhoKXWIVRbYqnsZgQRs/edit#gid=0\"\",\"\"RWA!F:BZ\"\"),48,0))\"),\"\")","v":""},{"$f":"IFERROR(__xludf.DUMMYFUNCTION(\"iferror(VLOOKUP(B845,IMPORTRANGE(\"\"https://docs.google.com/spreadsheets/d/1c3Ia3eDo4sfDZb6ajW2WVML4MhoKXWIVRbYqnsZgQRs/edit#gid=0\"\",\"\"RWA!F:BZ\"\"),49,0))\"),\"\")","v":""}]
[null,null,null,{"$f":"IFERROR(__xludf.DUMMYFUNCTION(\"iferror(VLOOKUP(B846,IMPORTRANGE(\"\"https://docs.google.com/spreadsheets/d/1c3Ia3eDo4sfDZb6ajW2WVML4MhoKXWIVRbYqnsZgQRs/edit#gid=0\"\",\"\"RWA!F:BZ\"\"),44,0))\"),\"\")","v":""},{"$f":"IFERROR(__xludf.DUMMYFUNCTION(\"iferror(VLOOKUP(B846,IMPORTRANGE(\"\"https://docs.google.com/spreadsheets/d/1c3Ia3eDo4sfDZb6ajW2WVML4MhoKXWIVRbYqnsZgQRs/edit#gid=0\"\",\"\"RWA!F:BZ\"\"),48,0))\"),\"\")","v":""},{"$f":"IFERROR(__xludf.DUMMYFUNCTION(\"iferror(VLOOKUP(B846,IMPORTRANGE(\"\"https://docs.google.com/spreadsheets/d/1c3Ia3eDo4sfDZb6ajW2WVML4MhoKXWIVRbYqnsZgQRs/edit#gid=0\"\",\"\"RWA!F:BZ\"\"),49,0))\"),\"\")","v":""}]
[null,null,null,{"$f":"IFERROR(__xludf.DUMMYFUNCTION(\"iferror(VLOOKUP(B847,IMPORTRANGE(\"\"https://docs.google.com/spreadsheets/d/1c3Ia3eDo4sfDZb6ajW2WVML4MhoKXWIVRbYqnsZgQRs/edit#gid=0\"\",\"\"RWA!F:BZ\"\"),44,0))\"),\"\")","v":""},{"$f":"IFERROR(__xludf.DUMMYFUNCTION(\"iferror(VLOOKUP(B847,IMPORTRANGE(\"\"https://docs.google.com/spreadsheets/d/1c3Ia3eDo4sfDZb6ajW2WVML4MhoKXWIVRbYqnsZgQRs/edit#gid=0\"\",\"\"RWA!F:BZ\"\"),48,0))\"),\"\")","v":""},{"$f":"IFERROR(__xludf.DUMMYFUNCTION(\"iferror(VLOOKUP(B847,IMPORTRANGE(\"\"https://docs.google.com/spreadsheets/d/1c3Ia3eDo4sfDZb6ajW2WVML4MhoKXWIVRbYqnsZgQRs/edit#gid=0\"\",\"\"RWA!F:BZ\"\"),49,0))\"),\"\")","v":""}]
[null,null,null,{"$f":"IFERROR(__xludf.DUMMYFUNCTION(\"iferror(VLOOKUP(B848,IMPORTRANGE(\"\"https://docs.google.com/spreadsheets/d/1c3Ia3eDo4sfDZb6ajW2WVML4MhoKXWIVRbYqnsZgQRs/edit#gid=0\"\",\"\"RWA!F:BZ\"\"),44,0))\"),\"\")","v":""},{"$f":"IFERROR(__xludf.DUMMYFUNCTION(\"iferror(VLOOKUP(B848,IMPORTRANGE(\"\"https://docs.google.com/spreadsheets/d/1c3Ia3eDo4sfDZb6ajW2WVML4MhoKXWIVRbYqnsZgQRs/edit#gid=0\"\",\"\"RWA!F:BZ\"\"),48,0))\"),\"\")","v":""},{"$f":"IFERROR(__xludf.DUMMYFUNCTION(\"iferror(VLOOKUP(B848,IMPORTRANGE(\"\"https://docs.google.com/spreadsheets/d/1c3Ia3eDo4sfDZb6ajW2WVML4MhoKXWIVRbYqnsZgQRs/edit#gid=0\"\",\"\"RWA!F:BZ\"\"),49,0))\"),\"\")","v":""}]
[null,null,null,{"$f":"IFERROR(__xludf.DUMMYFUNCTION(\"iferror(VLOOKUP(B849,IMPORTRANGE(\"\"https://docs.google.com/spreadsheets/d/1c3Ia3eDo4sfDZb6ajW2WVML4MhoKXWIVRbYqnsZgQRs/edit#gid=0\"\",\"\"RWA!F:BZ\"\"),44,0))\"),\"\")","v":""},{"$f":"IFERROR(__xludf.DUMMYFUNCTION(\"iferror(VLOOKUP(B849,IMPORTRANGE(\"\"https://docs.google.com/spreadsheets/d/1c3Ia3eDo4sfDZb6ajW2WVML4MhoKXWIVRbYqnsZgQRs/edit#gid=0\"\",\"\"RWA!F:BZ\"\"),48,0))\"),\"\")","v":""},{"$f":"IFERROR(__xludf.DUMMYFUNCTION(\"iferror(VLOOKUP(B849,IMPORTRANGE(\"\"https://docs.google.com/spreadsheets/d/1c3Ia3eDo4sfDZb6ajW2WVML4MhoKXWIVRbYqnsZgQRs/edit#gid=0\"\",\"\"RWA!F:BZ\"\"),49,0))\"),\"\")","v":""}]
[null,null,null,{"$f":"IFERROR(__xludf.DUMMYFUNCTION(\"iferror(VLOOKUP(B850,IMPORTRANGE(\"\"https://docs.google.com/spreadsheets/d/1c3Ia3eDo4sfDZb6ajW2WVML4MhoKXWIVRbYqnsZgQRs/edit#gid=0\"\",\"\"RWA!F:BZ\"\"),44,0))\"),\"\")","v":""},{"$f":"IFERROR(__xludf.DUMMYFUNCTION(\"iferror(VLOOKUP(B850,IMPORTRANGE(\"\"https://docs.google.com/spreadsheets/d/1c3Ia3eDo4sfDZb6ajW2WVML4MhoKXWIVRbYqnsZgQRs/edit#gid=0\"\",\"\"RWA!F:BZ\"\"),48,0))\"),\"\")","v":""},{"$f":"IFERROR(__xludf.DUMMYFUNCTION(\"iferror(VLOOKUP(B850,IMPORTRANGE(\"\"https://docs.google.com/spreadsheets/d/1c3Ia3eDo4sfDZb6ajW2WVML4MhoKXWIVRbYqnsZgQRs/edit#gid=0\"\",\"\"RWA!F:BZ\"\"),49,0))\"),\"\")","v":""}]
[null,null,null,{"$f":"IFERROR(__xludf.DUMMYFUNCTION(\"iferror(VLOOKUP(B851,IMPORTRANGE(\"\"https://docs.google.com/spreadsheets/d/1c3Ia3eDo4sfDZb6ajW2WVML4MhoKXWIVRbYqnsZgQRs/edit#gid=0\"\",\"\"RWA!F:BZ\"\"),44,0))\"),\"\")","v":""},{"$f":"IFERROR(__xludf.DUMMYFUNCTION(\"iferror(VLOOKUP(B851,IMPORTRANGE(\"\"https://docs.google.com/spreadsheets/d/1c3Ia3eDo4sfDZb6ajW2WVML4MhoKXWIVRbYqnsZgQRs/edit#gid=0\"\",\"\"RWA!F:BZ\"\"),48,0))\"),\"\")","v":""},{"$f":"IFERROR(__xludf.DUMMYFUNCTION(\"iferror(VLOOKUP(B851,IMPORTRANGE(\"\"https://docs.google.com/spreadsheets/d/1c3Ia3eDo4sfDZb6ajW2WVML4MhoKXWIVRbYqnsZgQRs/edit#gid=0\"\",\"\"RWA!F:BZ\"\"),49,0))\"),\"\")","v":""}]
[null,null,null,{"$f":"IFERROR(__xludf.DUMMYFUNCTION(\"iferror(VLOOKUP(B852,IMPORTRANGE(\"\"https://docs.google.com/spreadsheets/d/1c3Ia3eDo4sfDZb6ajW2WVML4MhoKXWIVRbYqnsZgQRs/edit#gid=0\"\",\"\"RWA!F:BZ\"\"),44,0))\"),\"\")","v":""},{"$f":"IFERROR(__xludf.DUMMYFUNCTION(\"iferror(VLOOKUP(B852,IMPORTRANGE(\"\"https://docs.google.com/spreadsheets/d/1c3Ia3eDo4sfDZb6ajW2WVML4MhoKXWIVRbYqnsZgQRs/edit#gid=0\"\",\"\"RWA!F:BZ\"\"),48,0))\"),\"\")","v":""},{"$f":"IFERROR(__xludf.DUMMYFUNCTION(\"iferror(VLOOKUP(B852,IMPORTRANGE(\"\"https://docs.google.com/spreadsheets/d/1c3Ia3eDo4sfDZb6ajW2WVML4MhoKXWIVRbYqnsZgQRs/edit#gid=0\"\",\"\"RWA!F:BZ\"\"),49,0))\"),\"\")","v":""}]
[null,null,null,{"$f":"IFERROR(__xludf.DUMMYFUNCTION(\"iferror(VLOOKUP(B853,IMPORTRANGE(\"\"https://docs.google.com/spreadsheets/d/1c3Ia3eDo4sfDZb6ajW2WVML4MhoKXWIVRbYqnsZgQRs/edit#gid=0\"\",\"\"RWA!F:BZ\"\"),44,0))\"),\"\")","v":""},{"$f":"IFERROR(__xludf.DUMMYFUNCTION(\"iferror(VLOOKUP(B853,IMPORTRANGE(\"\"https://docs.google.com/spreadsheets/d/1c3Ia3eDo4sfDZb6ajW2WVML4MhoKXWIVRbYqnsZgQRs/edit#gid=0\"\",\"\"RWA!F:BZ\"\"),48,0))\"),\"\")","v":""},{"$f":"IFERROR(__xludf.DUMMYFUNCTION(\"iferror(VLOOKUP(B853,IMPORTRANGE(\"\"https://docs.google.com/spreadsheets/d/1c3Ia3eDo4sfDZb6ajW2WVML4MhoKXWIVRbYqnsZgQRs/edit#gid=0\"\",\"\"RWA!F:BZ\"\"),49,0))\"),\"\")","v":""}]
[null,null,null,{"$f":"IFERROR(__xludf.DUMMYFUNCTION(\"iferror(VLOOKUP(B854,IMPORTRANGE(\"\"https://docs.google.com/spreadsheets/d/1c3Ia3eDo4sfDZb6ajW2WVML4MhoKXWIVRbYqnsZgQRs/edit#gid=0\"\",\"\"RWA!F:BZ\"\"),44,0))\"),\"\")","v":""},{"$f":"IFERROR(__xludf.DUMMYFUNCTION(\"iferror(VLOOKUP(B854,IMPORTRANGE(\"\"https://docs.google.com/spreadsheets/d/1c3Ia3eDo4sfDZb6ajW2WVML4MhoKXWIVRbYqnsZgQRs/edit#gid=0\"\",\"\"RWA!F:BZ\"\"),48,0))\"),\"\")","v":""},{"$f":"IFERROR(__xludf.DUMMYFUNCTION(\"iferror(VLOOKUP(B854,IMPORTRANGE(\"\"https://docs.google.com/spreadsheets/d/1c3Ia3eDo4sfDZb6ajW2WVML4MhoKXWIVRbYqnsZgQRs/edit#gid=0\"\",\"\"RWA!F:BZ\"\"),49,0))\"),\"\")","v":""}]
[null,null,null,{"$f":"IFERROR(__xludf.DUMMYFUNCTION(\"iferror(VLOOKUP(B855,IMPORTRANGE(\"\"https://docs.google.com/spreadsheets/d/1c3Ia3eDo4sfDZb6ajW2WVML4MhoKXWIVRbYqnsZgQRs/edit#gid=0\"\",\"\"RWA!F:BZ\"\"),44,0))\"),\"\")","v":""},{"$f":"IFERROR(__xludf.DUMMYFUNCTION(\"iferror(VLOOKUP(B855,IMPORTRANGE(\"\"https://docs.google.com/spreadsheets/d/1c3Ia3eDo4sfDZb6ajW2WVML4MhoKXWIVRbYqnsZgQRs/edit#gid=0\"\",\"\"RWA!F:BZ\"\"),48,0))\"),\"\")","v":""},{"$f":"IFERROR(__xludf.DUMMYFUNCTION(\"iferror(VLOOKUP(B855,IMPORTRANGE(\"\"https://docs.google.com/spreadsheets/d/1c3Ia3eDo4sfDZb6ajW2WVML4MhoKXWIVRbYqnsZgQRs/edit#gid=0\"\",\"\"RWA!F:BZ\"\"),49,0))\"),\"\")","v":""}]
[null,null,null,{"$f":"IFERROR(__xludf.DUMMYFUNCTION(\"iferror(VLOOKUP(B856,IMPORTRANGE(\"\"https://docs.google.com/spreadsheets/d/1c3Ia3eDo4sfDZb6ajW2WVML4MhoKXWIVRbYqnsZgQRs/edit#gid=0\"\",\"\"RWA!F:BZ\"\"),44,0))\"),\"\")","v":""},{"$f":"IFERROR(__xludf.DUMMYFUNCTION(\"iferror(VLOOKUP(B856,IMPORTRANGE(\"\"https://docs.google.com/spreadsheets/d/1c3Ia3eDo4sfDZb6ajW2WVML4MhoKXWIVRbYqnsZgQRs/edit#gid=0\"\",\"\"RWA!F:BZ\"\"),48,0))\"),\"\")","v":""},{"$f":"IFERROR(__xludf.DUMMYFUNCTION(\"iferror(VLOOKUP(B856,IMPORTRANGE(\"\"https://docs.google.com/spreadsheets/d/1c3Ia3eDo4sfDZb6ajW2WVML4MhoKXWIVRbYqnsZgQRs/edit#gid=0\"\",\"\"RWA!F:BZ\"\"),49,0))\"),\"\")","v":""}]
[null,null,null,{"$f":"IFERROR(__xludf.DUMMYFUNCTION(\"iferror(VLOOKUP(B857,IMPORTRANGE(\"\"https://docs.google.com/spreadsheets/d/1c3Ia3eDo4sfDZb6ajW2WVML4MhoKXWIVRbYqnsZgQRs/edit#gid=0\"\",\"\"RWA!F:BZ\"\"),44,0))\"),\"\")","v":""},{"$f":"IFERROR(__xludf.DUMMYFUNCTION(\"iferror(VLOOKUP(B857,IMPORTRANGE(\"\"https://docs.google.com/spreadsheets/d/1c3Ia3eDo4sfDZb6ajW2WVML4MhoKXWIVRbYqnsZgQRs/edit#gid=0\"\",\"\"RWA!F:BZ\"\"),48,0))\"),\"\")","v":""},{"$f":"IFERROR(__xludf.DUMMYFUNCTION(\"iferror(VLOOKUP(B857,IMPORTRANGE(\"\"https://docs.google.com/spreadsheets/d/1c3Ia3eDo4sfDZb6ajW2WVML4MhoKXWIVRbYqnsZgQRs/edit#gid=0\"\",\"\"RWA!F:BZ\"\"),49,0))\"),\"\")","v":""}]
[null,null,null,{"$f":"IFERROR(__xludf.DUMMYFUNCTION(\"iferror(VLOOKUP(B858,IMPORTRANGE(\"\"https://docs.google.com/spreadsheets/d/1c3Ia3eDo4sfDZb6ajW2WVML4MhoKXWIVRbYqnsZgQRs/edit#gid=0\"\",\"\"RWA!F:BZ\"\"),44,0))\"),\"\")","v":""},{"$f":"IFERROR(__xludf.DUMMYFUNCTION(\"iferror(VLOOKUP(B858,IMPORTRANGE(\"\"https://docs.google.com/spreadsheets/d/1c3Ia3eDo4sfDZb6ajW2WVML4MhoKXWIVRbYqnsZgQRs/edit#gid=0\"\",\"\"RWA!F:BZ\"\"),48,0))\"),\"\")","v":""},{"$f":"IFERROR(__xludf.DUMMYFUNCTION(\"iferror(VLOOKUP(B858,IMPORTRANGE(\"\"https://docs.google.com/spreadsheets/d/1c3Ia3eDo4sfDZb6ajW2WVML4MhoKXWIVRbYqnsZgQRs/edit#gid=0\"\",\"\"RWA!F:BZ\"\"),49,0))\"),\"\")","v":""}]
[null,null,null,{"$f":"IFERROR(__xludf.DUMMYFUNCTION(\"iferror(VLOOKUP(B859,IMPORTRANGE(\"\"https://docs.google.com/spreadsheets/d/1c3Ia3eDo4sfDZb6ajW2WVML4MhoKXWIVRbYqnsZgQRs/edit#gid=0\"\",\"\"RWA!F:BZ\"\"),44,0))\"),\"\")","v":""},{"$f":"IFERROR(__xludf.DUMMYFUNCTION(\"iferror(VLOOKUP(B859,IMPORTRANGE(\"\"https://docs.google.com/spreadsheets/d/1c3Ia3eDo4sfDZb6ajW2WVML4MhoKXWIVRbYqnsZgQRs/edit#gid=0\"\",\"\"RWA!F:BZ\"\"),48,0))\"),\"\")","v":""},{"$f":"IFERROR(__xludf.DUMMYFUNCTION(\"iferror(VLOOKUP(B859,IMPORTRANGE(\"\"https://docs.google.com/spreadsheets/d/1c3Ia3eDo4sfDZb6ajW2WVML4MhoKXWIVRbYqnsZgQRs/edit#gid=0\"\",\"\"RWA!F:BZ\"\"),49,0))\"),\"\")","v":""}]
[null,null,null,{"$f":"IFERROR(__xludf.DUMMYFUNCTION(\"iferror(VLOOKUP(B860,IMPORTRANGE(\"\"https://docs.google.com/spreadsheets/d/1c3Ia3eDo4sfDZb6ajW2WVML4MhoKXWIVRbYqnsZgQRs/edit#gid=0\"\",\"\"RWA!F:BZ\"\"),44,0))\"),\"\")","v":""},{"$f":"IFERROR(__xludf.DUMMYFUNCTION(\"iferror(VLOOKUP(B860,IMPORTRANGE(\"\"https://docs.google.com/spreadsheets/d/1c3Ia3eDo4sfDZb6ajW2WVML4MhoKXWIVRbYqnsZgQRs/edit#gid=0\"\",\"\"RWA!F:BZ\"\"),48,0))\"),\"\")","v":""},{"$f":"IFERROR(__xludf.DUMMYFUNCTION(\"iferror(VLOOKUP(B860,IMPORTRANGE(\"\"https://docs.google.com/spreadsheets/d/1c3Ia3eDo4sfDZb6ajW2WVML4MhoKXWIVRbYqnsZgQRs/edit#gid=0\"\",\"\"RWA!F:BZ\"\"),49,0))\"),\"\")","v":""}]
[null,null,null,{"$f":"IFERROR(__xludf.DUMMYFUNCTION(\"iferror(VLOOKUP(B861,IMPORTRANGE(\"\"https://docs.google.com/spreadsheets/d/1c3Ia3eDo4sfDZb6ajW2WVML4MhoKXWIVRbYqnsZgQRs/edit#gid=0\"\",\"\"RWA!F:BZ\"\"),44,0))\"),\"\")","v":""},{"$f":"IFERROR(__xludf.DUMMYFUNCTION(\"iferror(VLOOKUP(B861,IMPORTRANGE(\"\"https://docs.google.com/spreadsheets/d/1c3Ia3eDo4sfDZb6ajW2WVML4MhoKXWIVRbYqnsZgQRs/edit#gid=0\"\",\"\"RWA!F:BZ\"\"),48,0))\"),\"\")","v":""},{"$f":"IFERROR(__xludf.DUMMYFUNCTION(\"iferror(VLOOKUP(B861,IMPORTRANGE(\"\"https://docs.google.com/spreadsheets/d/1c3Ia3eDo4sfDZb6ajW2WVML4MhoKXWIVRbYqnsZgQRs/edit#gid=0\"\",\"\"RWA!F:BZ\"\"),49,0))\"),\"\")","v":""}]
[null,null,null,{"$f":"IFERROR(__xludf.DUMMYFUNCTION(\"iferror(VLOOKUP(B862,IMPORTRANGE(\"\"https://docs.google.com/spreadsheets/d/1c3Ia3eDo4sfDZb6ajW2WVML4MhoKXWIVRbYqnsZgQRs/edit#gid=0\"\",\"\"RWA!F:BZ\"\"),44,0))\"),\"\")","v":""},{"$f":"IFERROR(__xludf.DUMMYFUNCTION(\"iferror(VLOOKUP(B862,IMPORTRANGE(\"\"https://docs.google.com/spreadsheets/d/1c3Ia3eDo4sfDZb6ajW2WVML4MhoKXWIVRbYqnsZgQRs/edit#gid=0\"\",\"\"RWA!F:BZ\"\"),48,0))\"),\"\")","v":""},{"$f":"IFERROR(__xludf.DUMMYFUNCTION(\"iferror(VLOOKUP(B862,IMPORTRANGE(\"\"https://docs.google.com/spreadsheets/d/1c3Ia3eDo4sfDZb6ajW2WVML4MhoKXWIVRbYqnsZgQRs/edit#gid=0\"\",\"\"RWA!F:BZ\"\"),49,0))\"),\"\")","v":""}]
[null,null,null,{"$f":"IFERROR(__xludf.DUMMYFUNCTION(\"iferror(VLOOKUP(B863,IMPORTRANGE(\"\"https://docs.google.com/spreadsheets/d/1c3Ia3eDo4sfDZb6ajW2WVML4MhoKXWIVRbYqnsZgQRs/edit#gid=0\"\",\"\"RWA!F:BZ\"\"),44,0))\"),\"\")","v":""},{"$f":"IFERROR(__xludf.DUMMYFUNCTION(\"iferror(VLOOKUP(B863,IMPORTRANGE(\"\"https://docs.google.com/spreadsheets/d/1c3Ia3eDo4sfDZb6ajW2WVML4MhoKXWIVRbYqnsZgQRs/edit#gid=0\"\",\"\"RWA!F:BZ\"\"),48,0))\"),\"\")","v":""},{"$f":"IFERROR(__xludf.DUMMYFUNCTION(\"iferror(VLOOKUP(B863,IMPORTRANGE(\"\"https://docs.google.com/spreadsheets/d/1c3Ia3eDo4sfDZb6ajW2WVML4MhoKXWIVRbYqnsZgQRs/edit#gid=0\"\",\"\"RWA!F:BZ\"\"),49,0))\"),\"\")","v":""}]
[null,null,null,{"$f":"IFERROR(__xludf.DUMMYFUNCTION(\"iferror(VLOOKUP(B864,IMPORTRANGE(\"\"https://docs.google.com/spreadsheets/d/1c3Ia3eDo4sfDZb6ajW2WVML4MhoKXWIVRbYqnsZgQRs/edit#gid=0\"\",\"\"RWA!F:BZ\"\"),44,0))\"),\"\")","v":""},{"$f":"IFERROR(__xludf.DUMMYFUNCTION(\"iferror(VLOOKUP(B864,IMPORTRANGE(\"\"https://docs.google.com/spreadsheets/d/1c3Ia3eDo4sfDZb6ajW2WVML4MhoKXWIVRbYqnsZgQRs/edit#gid=0\"\",\"\"RWA!F:BZ\"\"),48,0))\"),\"\")","v":""},{"$f":"IFERROR(__xludf.DUMMYFUNCTION(\"iferror(VLOOKUP(B864,IMPORTRANGE(\"\"https://docs.google.com/spreadsheets/d/1c3Ia3eDo4sfDZb6ajW2WVML4MhoKXWIVRbYqnsZgQRs/edit#gid=0\"\",\"\"RWA!F:BZ\"\"),49,0))\"),\"\")","v":""}]
[null,null,null,{"$f":"IFERROR(__xludf.DUMMYFUNCTION(\"iferror(VLOOKUP(B865,IMPORTRANGE(\"\"https://docs.google.com/spreadsheets/d/1c3Ia3eDo4sfDZb6ajW2WVML4MhoKXWIVRbYqnsZgQRs/edit#gid=0\"\",\"\"RWA!F:BZ\"\"),44,0))\"),\"\")","v":""},{"$f":"IFERROR(__xludf.DUMMYFUNCTION(\"iferror(VLOOKUP(B865,IMPORTRANGE(\"\"https://docs.google.com/spreadsheets/d/1c3Ia3eDo4sfDZb6ajW2WVML4MhoKXWIVRbYqnsZgQRs/edit#gid=0\"\",\"\"RWA!F:BZ\"\"),48,0))\"),\"\")","v":""},{"$f":"IFERROR(__xludf.DUMMYFUNCTION(\"iferror(VLOOKUP(B865,IMPORTRANGE(\"\"https://docs.google.com/spreadsheets/d/1c3Ia3eDo4sfDZb6ajW2WVML4MhoKXWIVRbYqnsZgQRs/edit#gid=0\"\",\"\"RWA!F:BZ\"\"),49,0))\"),\"\")","v":""}]
[null,null,null,{"$f":"IFERROR(__xludf.DUMMYFUNCTION(\"iferror(VLOOKUP(B866,IMPORTRANGE(\"\"https://docs.google.com/spreadsheets/d/1c3Ia3eDo4sfDZb6ajW2WVML4MhoKXWIVRbYqnsZgQRs/edit#gid=0\"\",\"\"RWA!F:BZ\"\"),44,0))\"),\"\")","v":""},{"$f":"IFERROR(__xludf.DUMMYFUNCTION(\"iferror(VLOOKUP(B866,IMPORTRANGE(\"\"https://docs.google.com/spreadsheets/d/1c3Ia3eDo4sfDZb6ajW2WVML4MhoKXWIVRbYqnsZgQRs/edit#gid=0\"\",\"\"RWA!F:BZ\"\"),48,0))\"),\"\")","v":""},{"$f":"IFERROR(__xludf.DUMMYFUNCTION(\"iferror(VLOOKUP(B866,IMPORTRANGE(\"\"https://docs.google.com/spreadsheets/d/1c3Ia3eDo4sfDZb6ajW2WVML4MhoKXWIVRbYqnsZgQRs/edit#gid=0\"\",\"\"RWA!F:BZ\"\"),49,0))\"),\"\")","v":""}]
[null,null,null,{"$f":"IFERROR(__xludf.DUMMYFUNCTION(\"iferror(VLOOKUP(B867,IMPORTRANGE(\"\"https://docs.google.com/spreadsheets/d/1c3Ia3eDo4sfDZb6ajW2WVML4MhoKXWIVRbYqnsZgQRs/edit#gid=0\"\",\"\"RWA!F:BZ\"\"),44,0))\"),\"\")","v":""},{"$f":"IFERROR(__xludf.DUMMYFUNCTION(\"iferror(VLOOKUP(B867,IMPORTRANGE(\"\"https://docs.google.com/spreadsheets/d/1c3Ia3eDo4sfDZb6ajW2WVML4MhoKXWIVRbYqnsZgQRs/edit#gid=0\"\",\"\"RWA!F:BZ\"\"),48,0))\"),\"\")","v":""},{"$f":"IFERROR(__xludf.DUMMYFUNCTION(\"iferror(VLOOKUP(B867,IMPORTRANGE(\"\"https://docs.google.com/spreadsheets/d/1c3Ia3eDo4sfDZb6ajW2WVML4MhoKXWIVRbYqnsZgQRs/edit#gid=0\"\",\"\"RWA!F:BZ\"\"),49,0))\"),\"\")","v":""}]
[null,null,null,{"$f":"IFERROR(__xludf.DUMMYFUNCTION(\"iferror(VLOOKUP(B868,IMPORTRANGE(\"\"https://docs.google.com/spreadsheets/d/1c3Ia3eDo4sfDZb6ajW2WVML4MhoKXWIVRbYqnsZgQRs/edit#gid=0\"\",\"\"RWA!F:BZ\"\"),44,0))\"),\"\")","v":""},{"$f":"IFERROR(__xludf.DUMMYFUNCTION(\"iferror(VLOOKUP(B868,IMPORTRANGE(\"\"https://docs.google.com/spreadsheets/d/1c3Ia3eDo4sfDZb6ajW2WVML4MhoKXWIVRbYqnsZgQRs/edit#gid=0\"\",\"\"RWA!F:BZ\"\"),48,0))\"),\"\")","v":""},{"$f":"IFERROR(__xludf.DUMMYFUNCTION(\"iferror(VLOOKUP(B868,IMPORTRANGE(\"\"https://docs.google.com/spreadsheets/d/1c3Ia3eDo4sfDZb6ajW2WVML4MhoKXWIVRbYqnsZgQRs/edit#gid=0\"\",\"\"RWA!F:BZ\"\"),49,0))\"),\"\")","v":""}]
[null,null,null,{"$f":"IFERROR(__xludf.DUMMYFUNCTION(\"iferror(VLOOKUP(B869,IMPORTRANGE(\"\"https://docs.google.com/spreadsheets/d/1c3Ia3eDo4sfDZb6ajW2WVML4MhoKXWIVRbYqnsZgQRs/edit#gid=0\"\",\"\"RWA!F:BZ\"\"),44,0))\"),\"\")","v":""},{"$f":"IFERROR(__xludf.DUMMYFUNCTION(\"iferror(VLOOKUP(B869,IMPORTRANGE(\"\"https://docs.google.com/spreadsheets/d/1c3Ia3eDo4sfDZb6ajW2WVML4MhoKXWIVRbYqnsZgQRs/edit#gid=0\"\",\"\"RWA!F:BZ\"\"),48,0))\"),\"\")","v":""},{"$f":"IFERROR(__xludf.DUMMYFUNCTION(\"iferror(VLOOKUP(B869,IMPORTRANGE(\"\"https://docs.google.com/spreadsheets/d/1c3Ia3eDo4sfDZb6ajW2WVML4MhoKXWIVRbYqnsZgQRs/edit#gid=0\"\",\"\"RWA!F:BZ\"\"),49,0))\"),\"\")","v":""}]
[null,null,null,{"$f":"IFERROR(__xludf.DUMMYFUNCTION(\"iferror(VLOOKUP(B870,IMPORTRANGE(\"\"https://docs.google.com/spreadsheets/d/1c3Ia3eDo4sfDZb6ajW2WVML4MhoKXWIVRbYqnsZgQRs/edit#gid=0\"\",\"\"RWA!F:BZ\"\"),44,0))\"),\"\")","v":""},{"$f":"IFERROR(__xludf.DUMMYFUNCTION(\"iferror(VLOOKUP(B870,IMPORTRANGE(\"\"https://docs.google.com/spreadsheets/d/1c3Ia3eDo4sfDZb6ajW2WVML4MhoKXWIVRbYqnsZgQRs/edit#gid=0\"\",\"\"RWA!F:BZ\"\"),48,0))\"),\"\")","v":""},{"$f":"IFERROR(__xludf.DUMMYFUNCTION(\"iferror(VLOOKUP(B870,IMPORTRANGE(\"\"https://docs.google.com/spreadsheets/d/1c3Ia3eDo4sfDZb6ajW2WVML4MhoKXWIVRbYqnsZgQRs/edit#gid=0\"\",\"\"RWA!F:BZ\"\"),49,0))\"),\"\")","v":""}]
[null,null,null,{"$f":"IFERROR(__xludf.DUMMYFUNCTION(\"iferror(VLOOKUP(B871,IMPORTRANGE(\"\"https://docs.google.com/spreadsheets/d/1c3Ia3eDo4sfDZb6ajW2WVML4MhoKXWIVRbYqnsZgQRs/edit#gid=0\"\",\"\"RWA!F:BZ\"\"),44,0))\"),\"\")","v":""},{"$f":"IFERROR(__xludf.DUMMYFUNCTION(\"iferror(VLOOKUP(B871,IMPORTRANGE(\"\"https://docs.google.com/spreadsheets/d/1c3Ia3eDo4sfDZb6ajW2WVML4MhoKXWIVRbYqnsZgQRs/edit#gid=0\"\",\"\"RWA!F:BZ\"\"),48,0))\"),\"\")","v":""},{"$f":"IFERROR(__xludf.DUMMYFUNCTION(\"iferror(VLOOKUP(B871,IMPORTRANGE(\"\"https://docs.google.com/spreadsheets/d/1c3Ia3eDo4sfDZb6ajW2WVML4MhoKXWIVRbYqnsZgQRs/edit#gid=0\"\",\"\"RWA!F:BZ\"\"),49,0))\"),\"\")","v":""}]
[null,null,null,{"$f":"IFERROR(__xludf.DUMMYFUNCTION(\"iferror(VLOOKUP(B872,IMPORTRANGE(\"\"https://docs.google.com/spreadsheets/d/1c3Ia3eDo4sfDZb6ajW2WVML4MhoKXWIVRbYqnsZgQRs/edit#gid=0\"\",\"\"RWA!F:BZ\"\"),44,0))\"),\"\")","v":""},{"$f":"IFERROR(__xludf.DUMMYFUNCTION(\"iferror(VLOOKUP(B872,IMPORTRANGE(\"\"https://docs.google.com/spreadsheets/d/1c3Ia3eDo4sfDZb6ajW2WVML4MhoKXWIVRbYqnsZgQRs/edit#gid=0\"\",\"\"RWA!F:BZ\"\"),48,0))\"),\"\")","v":""},{"$f":"IFERROR(__xludf.DUMMYFUNCTION(\"iferror(VLOOKUP(B872,IMPORTRANGE(\"\"https://docs.google.com/spreadsheets/d/1c3Ia3eDo4sfDZb6ajW2WVML4MhoKXWIVRbYqnsZgQRs/edit#gid=0\"\",\"\"RWA!F:BZ\"\"),49,0))\"),\"\")","v":""}]
[null,null,null,{"$f":"IFERROR(__xludf.DUMMYFUNCTION(\"iferror(VLOOKUP(B873,IMPORTRANGE(\"\"https://docs.google.com/spreadsheets/d/1c3Ia3eDo4sfDZb6ajW2WVML4MhoKXWIVRbYqnsZgQRs/edit#gid=0\"\",\"\"RWA!F:BZ\"\"),44,0))\"),\"\")","v":""},{"$f":"IFERROR(__xludf.DUMMYFUNCTION(\"iferror(VLOOKUP(B873,IMPORTRANGE(\"\"https://docs.google.com/spreadsheets/d/1c3Ia3eDo4sfDZb6ajW2WVML4MhoKXWIVRbYqnsZgQRs/edit#gid=0\"\",\"\"RWA!F:BZ\"\"),48,0))\"),\"\")","v":""},{"$f":"IFERROR(__xludf.DUMMYFUNCTION(\"iferror(VLOOKUP(B873,IMPORTRANGE(\"\"https://docs.google.com/spreadsheets/d/1c3Ia3eDo4sfDZb6ajW2WVML4MhoKXWIVRbYqnsZgQRs/edit#gid=0\"\",\"\"RWA!F:BZ\"\"),49,0))\"),\"\")","v":""}]
[null,null,null,{"$f":"IFERROR(__xludf.DUMMYFUNCTION(\"iferror(VLOOKUP(B874,IMPORTRANGE(\"\"https://docs.google.com/spreadsheets/d/1c3Ia3eDo4sfDZb6ajW2WVML4MhoKXWIVRbYqnsZgQRs/edit#gid=0\"\",\"\"RWA!F:BZ\"\"),44,0))\"),\"\")","v":""},{"$f":"IFERROR(__xludf.DUMMYFUNCTION(\"iferror(VLOOKUP(B874,IMPORTRANGE(\"\"https://docs.google.com/spreadsheets/d/1c3Ia3eDo4sfDZb6ajW2WVML4MhoKXWIVRbYqnsZgQRs/edit#gid=0\"\",\"\"RWA!F:BZ\"\"),48,0))\"),\"\")","v":""},{"$f":"IFERROR(__xludf.DUMMYFUNCTION(\"iferror(VLOOKUP(B874,IMPORTRANGE(\"\"https://docs.google.com/spreadsheets/d/1c3Ia3eDo4sfDZb6ajW2WVML4MhoKXWIVRbYqnsZgQRs/edit#gid=0\"\",\"\"RWA!F:BZ\"\"),49,0))\"),\"\")","v":""}]
[null,null,null,{"$f":"IFERROR(__xludf.DUMMYFUNCTION(\"iferror(VLOOKUP(B875,IMPORTRANGE(\"\"https://docs.google.com/spreadsheets/d/1c3Ia3eDo4sfDZb6ajW2WVML4MhoKXWIVRbYqnsZgQRs/edit#gid=0\"\",\"\"RWA!F:BZ\"\"),44,0))\"),\"\")","v":""},{"$f":"IFERROR(__xludf.DUMMYFUNCTION(\"iferror(VLOOKUP(B875,IMPORTRANGE(\"\"https://docs.google.com/spreadsheets/d/1c3Ia3eDo4sfDZb6ajW2WVML4MhoKXWIVRbYqnsZgQRs/edit#gid=0\"\",\"\"RWA!F:BZ\"\"),48,0))\"),\"\")","v":""},{"$f":"IFERROR(__xludf.DUMMYFUNCTION(\"iferror(VLOOKUP(B875,IMPORTRANGE(\"\"https://docs.google.com/spreadsheets/d/1c3Ia3eDo4sfDZb6ajW2WVML4MhoKXWIVRbYqnsZgQRs/edit#gid=0\"\",\"\"RWA!F:BZ\"\"),49,0))\"),\"\")","v":""}]
[null,null,null,{"$f":"IFERROR(__xludf.DUMMYFUNCTION(\"iferror(VLOOKUP(B876,IMPORTRANGE(\"\"https://docs.google.com/spreadsheets/d/1c3Ia3eDo4sfDZb6ajW2WVML4MhoKXWIVRbYqnsZgQRs/edit#gid=0\"\",\"\"RWA!F:BZ\"\"),44,0))\"),\"\")","v":""},{"$f":"IFERROR(__xludf.DUMMYFUNCTION(\"iferror(VLOOKUP(B876,IMPORTRANGE(\"\"https://docs.google.com/spreadsheets/d/1c3Ia3eDo4sfDZb6ajW2WVML4MhoKXWIVRbYqnsZgQRs/edit#gid=0\"\",\"\"RWA!F:BZ\"\"),48,0))\"),\"\")","v":""},{"$f":"IFERROR(__xludf.DUMMYFUNCTION(\"iferror(VLOOKUP(B876,IMPORTRANGE(\"\"https://docs.google.com/spreadsheets/d/1c3Ia3eDo4sfDZb6ajW2WVML4MhoKXWIVRbYqnsZgQRs/edit#gid=0\"\",\"\"RWA!F:BZ\"\"),49,0))\"),\"\")","v":""}]
[null,null,null,{"$f":"IFERROR(__xludf.DUMMYFUNCTION(\"iferror(VLOOKUP(B877,IMPORTRANGE(\"\"https://docs.google.com/spreadsheets/d/1c3Ia3eDo4sfDZb6ajW2WVML4MhoKXWIVRbYqnsZgQRs/edit#gid=0\"\",\"\"RWA!F:BZ\"\"),44,0))\"),\"\")","v":""},{"$f":"IFERROR(__xludf.DUMMYFUNCTION(\"iferror(VLOOKUP(B877,IMPORTRANGE(\"\"https://docs.google.com/spreadsheets/d/1c3Ia3eDo4sfDZb6ajW2WVML4MhoKXWIVRbYqnsZgQRs/edit#gid=0\"\",\"\"RWA!F:BZ\"\"),48,0))\"),\"\")","v":""},{"$f":"IFERROR(__xludf.DUMMYFUNCTION(\"iferror(VLOOKUP(B877,IMPORTRANGE(\"\"https://docs.google.com/spreadsheets/d/1c3Ia3eDo4sfDZb6ajW2WVML4MhoKXWIVRbYqnsZgQRs/edit#gid=0\"\",\"\"RWA!F:BZ\"\"),49,0))\"),\"\")","v":""}]
[null,null,null,{"$f":"IFERROR(__xludf.DUMMYFUNCTION(\"iferror(VLOOKUP(B878,IMPORTRANGE(\"\"https://docs.google.com/spreadsheets/d/1c3Ia3eDo4sfDZb6ajW2WVML4MhoKXWIVRbYqnsZgQRs/edit#gid=0\"\",\"\"RWA!F:BZ\"\"),44,0))\"),\"\")","v":""},{"$f":"IFERROR(__xludf.DUMMYFUNCTION(\"iferror(VLOOKUP(B878,IMPORTRANGE(\"\"https://docs.google.com/spreadsheets/d/1c3Ia3eDo4sfDZb6ajW2WVML4MhoKXWIVRbYqnsZgQRs/edit#gid=0\"\",\"\"RWA!F:BZ\"\"),48,0))\"),\"\")","v":""},{"$f":"IFERROR(__xludf.DUMMYFUNCTION(\"iferror(VLOOKUP(B878,IMPORTRANGE(\"\"https://docs.google.com/spreadsheets/d/1c3Ia3eDo4sfDZb6ajW2WVML4MhoKXWIVRbYqnsZgQRs/edit#gid=0\"\",\"\"RWA!F:BZ\"\"),49,0))\"),\"\")","v":""}]
[null,null,null,{"$f":"IFERROR(__xludf.DUMMYFUNCTION(\"iferror(VLOOKUP(B879,IMPORTRANGE(\"\"https://docs.google.com/spreadsheets/d/1c3Ia3eDo4sfDZb6ajW2WVML4MhoKXWIVRbYqnsZgQRs/edit#gid=0\"\",\"\"RWA!F:BZ\"\"),44,0))\"),\"\")","v":""},{"$f":"IFERROR(__xludf.DUMMYFUNCTION(\"iferror(VLOOKUP(B879,IMPORTRANGE(\"\"https://docs.google.com/spreadsheets/d/1c3Ia3eDo4sfDZb6ajW2WVML4MhoKXWIVRbYqnsZgQRs/edit#gid=0\"\",\"\"RWA!F:BZ\"\"),48,0))\"),\"\")","v":""},{"$f":"IFERROR(__xludf.DUMMYFUNCTION(\"iferror(VLOOKUP(B879,IMPORTRANGE(\"\"https://docs.google.com/spreadsheets/d/1c3Ia3eDo4sfDZb6ajW2WVML4MhoKXWIVRbYqnsZgQRs/edit#gid=0\"\",\"\"RWA!F:BZ\"\"),49,0))\"),\"\")","v":""}]
[null,null,null,{"$f":"IFERROR(__xludf.DUMMYFUNCTION(\"iferror(VLOOKUP(B880,IMPORTRANGE(\"\"https://docs.google.com/spreadsheets/d/1c3Ia3eDo4sfDZb6ajW2WVML4MhoKXWIVRbYqnsZgQRs/edit#gid=0\"\",\"\"RWA!F:BZ\"\"),44,0))\"),\"\")","v":""},{"$f":"IFERROR(__xludf.DUMMYFUNCTION(\"iferror(VLOOKUP(B880,IMPORTRANGE(\"\"https://docs.google.com/spreadsheets/d/1c3Ia3eDo4sfDZb6ajW2WVML4MhoKXWIVRbYqnsZgQRs/edit#gid=0\"\",\"\"RWA!F:BZ\"\"),48,0))\"),\"\")","v":""},{"$f":"IFERROR(__xludf.DUMMYFUNCTION(\"iferror(VLOOKUP(B880,IMPORTRANGE(\"\"https://docs.google.com/spreadsheets/d/1c3Ia3eDo4sfDZb6ajW2WVML4MhoKXWIVRbYqnsZgQRs/edit#gid=0\"\",\"\"RWA!F:BZ\"\"),49,0))\"),\"\")","v":""}]
[null,null,null,{"$f":"IFERROR(__xludf.DUMMYFUNCTION(\"iferror(VLOOKUP(B881,IMPORTRANGE(\"\"https://docs.google.com/spreadsheets/d/1c3Ia3eDo4sfDZb6ajW2WVML4MhoKXWIVRbYqnsZgQRs/edit#gid=0\"\",\"\"RWA!F:BZ\"\"),44,0))\"),\"\")","v":""},{"$f":"IFERROR(__xludf.DUMMYFUNCTION(\"iferror(VLOOKUP(B881,IMPORTRANGE(\"\"https://docs.google.com/spreadsheets/d/1c3Ia3eDo4sfDZb6ajW2WVML4MhoKXWIVRbYqnsZgQRs/edit#gid=0\"\",\"\"RWA!F:BZ\"\"),48,0))\"),\"\")","v":""},{"$f":"IFERROR(__xludf.DUMMYFUNCTION(\"iferror(VLOOKUP(B881,IMPORTRANGE(\"\"https://docs.google.com/spreadsheets/d/1c3Ia3eDo4sfDZb6ajW2WVML4MhoKXWIVRbYqnsZgQRs/edit#gid=0\"\",\"\"RWA!F:BZ\"\"),49,0))\"),\"\")","v":""}]
[null,null,null,{"$f":"IFERROR(__xludf.DUMMYFUNCTION(\"iferror(VLOOKUP(B882,IMPORTRANGE(\"\"https://docs.google.com/spreadsheets/d/1c3Ia3eDo4sfDZb6ajW2WVML4MhoKXWIVRbYqnsZgQRs/edit#gid=0\"\",\"\"RWA!F:BZ\"\"),44,0))\"),\"\")","v":""},{"$f":"IFERROR(__xludf.DUMMYFUNCTION(\"iferror(VLOOKUP(B882,IMPORTRANGE(\"\"https://docs.google.com/spreadsheets/d/1c3Ia3eDo4sfDZb6ajW2WVML4MhoKXWIVRbYqnsZgQRs/edit#gid=0\"\",\"\"RWA!F:BZ\"\"),48,0))\"),\"\")","v":""},{"$f":"IFERROR(__xludf.DUMMYFUNCTION(\"iferror(VLOOKUP(B882,IMPORTRANGE(\"\"https://docs.google.com/spreadsheets/d/1c3Ia3eDo4sfDZb6ajW2WVML4MhoKXWIVRbYqnsZgQRs/edit#gid=0\"\",\"\"RWA!F:BZ\"\"),49,0))\"),\"\")","v":""}]
[null,null,null,{"$f":"IFERROR(__xludf.DUMMYFUNCTION(\"iferror(VLOOKUP(B883,IMPORTRANGE(\"\"https://docs.google.com/spreadsheets/d/1c3Ia3eDo4sfDZb6ajW2WVML4MhoKXWIVRbYqnsZgQRs/edit#gid=0\"\",\"\"RWA!F:BZ\"\"),44,0))\"),\"\")","v":""},{"$f":"IFERROR(__xludf.DUMMYFUNCTION(\"iferror(VLOOKUP(B883,IMPORTRANGE(\"\"https://docs.google.com/spreadsheets/d/1c3Ia3eDo4sfDZb6ajW2WVML4MhoKXWIVRbYqnsZgQRs/edit#gid=0\"\",\"\"RWA!F:BZ\"\"),48,0))\"),\"\")","v":""},{"$f":"IFERROR(__xludf.DUMMYFUNCTION(\"iferror(VLOOKUP(B883,IMPORTRANGE(\"\"https://docs.google.com/spreadsheets/d/1c3Ia3eDo4sfDZb6ajW2WVML4MhoKXWIVRbYqnsZgQRs/edit#gid=0\"\",\"\"RWA!F:BZ\"\"),49,0))\"),\"\")","v":""}]
[null,null,null,{"$f":"IFERROR(__xludf.DUMMYFUNCTION(\"iferror(VLOOKUP(B884,IMPORTRANGE(\"\"https://docs.google.com/spreadsheets/d/1c3Ia3eDo4sfDZb6ajW2WVML4MhoKXWIVRbYqnsZgQRs/edit#gid=0\"\",\"\"RWA!F:BZ\"\"),44,0))\"),\"\")","v":""},{"$f":"IFERROR(__xludf.DUMMYFUNCTION(\"iferror(VLOOKUP(B884,IMPORTRANGE(\"\"https://docs.google.com/spreadsheets/d/1c3Ia3eDo4sfDZb6ajW2WVML4MhoKXWIVRbYqnsZgQRs/edit#gid=0\"\",\"\"RWA!F:BZ\"\"),48,0))\"),\"\")","v":""},{"$f":"IFERROR(__xludf.DUMMYFUNCTION(\"iferror(VLOOKUP(B884,IMPORTRANGE(\"\"https://docs.google.com/spreadsheets/d/1c3Ia3eDo4sfDZb6ajW2WVML4MhoKXWIVRbYqnsZgQRs/edit#gid=0\"\",\"\"RWA!F:BZ\"\"),49,0))\"),\"\")","v":""}]
[null,null,null,{"$f":"IFERROR(__xludf.DUMMYFUNCTION(\"iferror(VLOOKUP(B885,IMPORTRANGE(\"\"https://docs.google.com/spreadsheets/d/1c3Ia3eDo4sfDZb6ajW2WVML4MhoKXWIVRbYqnsZgQRs/edit#gid=0\"\",\"\"RWA!F:BZ\"\"),44,0))\"),\"\")","v":""},{"$f":"IFERROR(__xludf.DUMMYFUNCTION(\"iferror(VLOOKUP(B885,IMPORTRANGE(\"\"https://docs.google.com/spreadsheets/d/1c3Ia3eDo4sfDZb6ajW2WVML4MhoKXWIVRbYqnsZgQRs/edit#gid=0\"\",\"\"RWA!F:BZ\"\"),48,0))\"),\"\")","v":""},{"$f":"IFERROR(__xludf.DUMMYFUNCTION(\"iferror(VLOOKUP(B885,IMPORTRANGE(\"\"https://docs.google.com/spreadsheets/d/1c3Ia3eDo4sfDZb6ajW2WVML4MhoKXWIVRbYqnsZgQRs/edit#gid=0\"\",\"\"RWA!F:BZ\"\"),49,0))\"),\"\")","v":""}]
[null,null,null,{"$f":"IFERROR(__xludf.DUMMYFUNCTION(\"iferror(VLOOKUP(B886,IMPORTRANGE(\"\"https://docs.google.com/spreadsheets/d/1c3Ia3eDo4sfDZb6ajW2WVML4MhoKXWIVRbYqnsZgQRs/edit#gid=0\"\",\"\"RWA!F:BZ\"\"),44,0))\"),\"\")","v":""},{"$f":"IFERROR(__xludf.DUMMYFUNCTION(\"iferror(VLOOKUP(B886,IMPORTRANGE(\"\"https://docs.google.com/spreadsheets/d/1c3Ia3eDo4sfDZb6ajW2WVML4MhoKXWIVRbYqnsZgQRs/edit#gid=0\"\",\"\"RWA!F:BZ\"\"),48,0))\"),\"\")","v":""},{"$f":"IFERROR(__xludf.DUMMYFUNCTION(\"iferror(VLOOKUP(B886,IMPORTRANGE(\"\"https://docs.google.com/spreadsheets/d/1c3Ia3eDo4sfDZb6ajW2WVML4MhoKXWIVRbYqnsZgQRs/edit#gid=0\"\",\"\"RWA!F:BZ\"\"),49,0))\"),\"\")","v":""}]
[null,null,null,{"$f":"IFERROR(__xludf.DUMMYFUNCTION(\"iferror(VLOOKUP(B887,IMPORTRANGE(\"\"https://docs.google.com/spreadsheets/d/1c3Ia3eDo4sfDZb6ajW2WVML4MhoKXWIVRbYqnsZgQRs/edit#gid=0\"\",\"\"RWA!F:BZ\"\"),44,0))\"),\"\")","v":""},{"$f":"IFERROR(__xludf.DUMMYFUNCTION(\"iferror(VLOOKUP(B887,IMPORTRANGE(\"\"https://docs.google.com/spreadsheets/d/1c3Ia3eDo4sfDZb6ajW2WVML4MhoKXWIVRbYqnsZgQRs/edit#gid=0\"\",\"\"RWA!F:BZ\"\"),48,0))\"),\"\")","v":""},{"$f":"IFERROR(__xludf.DUMMYFUNCTION(\"iferror(VLOOKUP(B887,IMPORTRANGE(\"\"https://docs.google.com/spreadsheets/d/1c3Ia3eDo4sfDZb6ajW2WVML4MhoKXWIVRbYqnsZgQRs/edit#gid=0\"\",\"\"RWA!F:BZ\"\"),49,0))\"),\"\")","v":""}]
[null,null,null,{"$f":"IFERROR(__xludf.DUMMYFUNCTION(\"iferror(VLOOKUP(B888,IMPORTRANGE(\"\"https://docs.google.com/spreadsheets/d/1c3Ia3eDo4sfDZb6ajW2WVML4MhoKXWIVRbYqnsZgQRs/edit#gid=0\"\",\"\"RWA!F:BZ\"\"),44,0))\"),\"\")","v":""},{"$f":"IFERROR(__xludf.DUMMYFUNCTION(\"iferror(VLOOKUP(B888,IMPORTRANGE(\"\"https://docs.google.com/spreadsheets/d/1c3Ia3eDo4sfDZb6ajW2WVML4MhoKXWIVRbYqnsZgQRs/edit#gid=0\"\",\"\"RWA!F:BZ\"\"),48,0))\"),\"\")","v":""},{"$f":"IFERROR(__xludf.DUMMYFUNCTION(\"iferror(VLOOKUP(B888,IMPORTRANGE(\"\"https://docs.google.com/spreadsheets/d/1c3Ia3eDo4sfDZb6ajW2WVML4MhoKXWIVRbYqnsZgQRs/edit#gid=0\"\",\"\"RWA!F:BZ\"\"),49,0))\"),\"\")","v":""}]
[null,null,null,{"$f":"IFERROR(__xludf.DUMMYFUNCTION(\"iferror(VLOOKUP(B889,IMPORTRANGE(\"\"https://docs.google.com/spreadsheets/d/1c3Ia3eDo4sfDZb6ajW2WVML4MhoKXWIVRbYqnsZgQRs/edit#gid=0\"\",\"\"RWA!F:BZ\"\"),44,0))\"),\"\")","v":""},{"$f":"IFERROR(__xludf.DUMMYFUNCTION(\"iferror(VLOOKUP(B889,IMPORTRANGE(\"\"https://docs.google.com/spreadsheets/d/1c3Ia3eDo4sfDZb6ajW2WVML4MhoKXWIVRbYqnsZgQRs/edit#gid=0\"\",\"\"RWA!F:BZ\"\"),48,0))\"),\"\")","v":""},{"$f":"IFERROR(__xludf.DUMMYFUNCTION(\"iferror(VLOOKUP(B889,IMPORTRANGE(\"\"https://docs.google.com/spreadsheets/d/1c3Ia3eDo4sfDZb6ajW2WVML4MhoKXWIVRbYqnsZgQRs/edit#gid=0\"\",\"\"RWA!F:BZ\"\"),49,0))\"),\"\")","v":""}]
[null,null,null,{"$f":"IFERROR(__xludf.DUMMYFUNCTION(\"iferror(VLOOKUP(B890,IMPORTRANGE(\"\"https://docs.google.com/spreadsheets/d/1c3Ia3eDo4sfDZb6ajW2WVML4MhoKXWIVRbYqnsZgQRs/edit#gid=0\"\",\"\"RWA!F:BZ\"\"),44,0))\"),\"\")","v":""},{"$f":"IFERROR(__xludf.DUMMYFUNCTION(\"iferror(VLOOKUP(B890,IMPORTRANGE(\"\"https://docs.google.com/spreadsheets/d/1c3Ia3eDo4sfDZb6ajW2WVML4MhoKXWIVRbYqnsZgQRs/edit#gid=0\"\",\"\"RWA!F:BZ\"\"),48,0))\"),\"\")","v":""},{"$f":"IFERROR(__xludf.DUMMYFUNCTION(\"iferror(VLOOKUP(B890,IMPORTRANGE(\"\"https://docs.google.com/spreadsheets/d/1c3Ia3eDo4sfDZb6ajW2WVML4MhoKXWIVRbYqnsZgQRs/edit#gid=0\"\",\"\"RWA!F:BZ\"\"),49,0))\"),\"\")","v":""}]
[null,null,null,{"$f":"IFERROR(__xludf.DUMMYFUNCTION(\"iferror(VLOOKUP(B891,IMPORTRANGE(\"\"https://docs.google.com/spreadsheets/d/1c3Ia3eDo4sfDZb6ajW2WVML4MhoKXWIVRbYqnsZgQRs/edit#gid=0\"\",\"\"RWA!F:BZ\"\"),44,0))\"),\"\")","v":""},{"$f":"IFERROR(__xludf.DUMMYFUNCTION(\"iferror(VLOOKUP(B891,IMPORTRANGE(\"\"https://docs.google.com/spreadsheets/d/1c3Ia3eDo4sfDZb6ajW2WVML4MhoKXWIVRbYqnsZgQRs/edit#gid=0\"\",\"\"RWA!F:BZ\"\"),48,0))\"),\"\")","v":""},{"$f":"IFERROR(__xludf.DUMMYFUNCTION(\"iferror(VLOOKUP(B891,IMPORTRANGE(\"\"https://docs.google.com/spreadsheets/d/1c3Ia3eDo4sfDZb6ajW2WVML4MhoKXWIVRbYqnsZgQRs/edit#gid=0\"\",\"\"RWA!F:BZ\"\"),49,0))\"),\"\")","v":""}]
[null,null,null,{"$f":"IFERROR(__xludf.DUMMYFUNCTION(\"iferror(VLOOKUP(B892,IMPORTRANGE(\"\"https://docs.google.com/spreadsheets/d/1c3Ia3eDo4sfDZb6ajW2WVML4MhoKXWIVRbYqnsZgQRs/edit#gid=0\"\",\"\"RWA!F:BZ\"\"),44,0))\"),\"\")","v":""},{"$f":"IFERROR(__xludf.DUMMYFUNCTION(\"iferror(VLOOKUP(B892,IMPORTRANGE(\"\"https://docs.google.com/spreadsheets/d/1c3Ia3eDo4sfDZb6ajW2WVML4MhoKXWIVRbYqnsZgQRs/edit#gid=0\"\",\"\"RWA!F:BZ\"\"),48,0))\"),\"\")","v":""},{"$f":"IFERROR(__xludf.DUMMYFUNCTION(\"iferror(VLOOKUP(B892,IMPORTRANGE(\"\"https://docs.google.com/spreadsheets/d/1c3Ia3eDo4sfDZb6ajW2WVML4MhoKXWIVRbYqnsZgQRs/edit#gid=0\"\",\"\"RWA!F:BZ\"\"),49,0))\"),\"\")","v":""}]
[null,null,null,{"$f":"IFERROR(__xludf.DUMMYFUNCTION(\"iferror(VLOOKUP(B893,IMPORTRANGE(\"\"https://docs.google.com/spreadsheets/d/1c3Ia3eDo4sfDZb6ajW2WVML4MhoKXWIVRbYqnsZgQRs/edit#gid=0\"\",\"\"RWA!F:BZ\"\"),44,0))\"),\"\")","v":""},{"$f":"IFERROR(__xludf.DUMMYFUNCTION(\"iferror(VLOOKUP(B893,IMPORTRANGE(\"\"https://docs.google.com/spreadsheets/d/1c3Ia3eDo4sfDZb6ajW2WVML4MhoKXWIVRbYqnsZgQRs/edit#gid=0\"\",\"\"RWA!F:BZ\"\"),48,0))\"),\"\")","v":""},{"$f":"IFERROR(__xludf.DUMMYFUNCTION(\"iferror(VLOOKUP(B893,IMPORTRANGE(\"\"https://docs.google.com/spreadsheets/d/1c3Ia3eDo4sfDZb6ajW2WVML4MhoKXWIVRbYqnsZgQRs/edit#gid=0\"\",\"\"RWA!F:BZ\"\"),49,0))\"),\"\")","v":""}]
[null,null,null,{"$f":"IFERROR(__xludf.DUMMYFUNCTION(\"iferror(VLOOKUP(B894,IMPORTRANGE(\"\"https://docs.google.com/spreadsheets/d/1c3Ia3eDo4sfDZb6ajW2WVML4MhoKXWIVRbYqnsZgQRs/edit#gid=0\"\",\"\"RWA!F:BZ\"\"),44,0))\"),\"\")","v":""},{"$f":"IFERROR(__xludf.DUMMYFUNCTION(\"iferror(VLOOKUP(B894,IMPORTRANGE(\"\"https://docs.google.com/spreadsheets/d/1c3Ia3eDo4sfDZb6ajW2WVML4MhoKXWIVRbYqnsZgQRs/edit#gid=0\"\",\"\"RWA!F:BZ\"\"),48,0))\"),\"\")","v":""},{"$f":"IFERROR(__xludf.DUMMYFUNCTION(\"iferror(VLOOKUP(B894,IMPORTRANGE(\"\"https://docs.google.com/spreadsheets/d/1c3Ia3eDo4sfDZb6ajW2WVML4MhoKXWIVRbYqnsZgQRs/edit#gid=0\"\",\"\"RWA!F:BZ\"\"),49,0))\"),\"\")","v":""}]
[null,null,null,{"$f":"IFERROR(__xludf.DUMMYFUNCTION(\"iferror(VLOOKUP(B895,IMPORTRANGE(\"\"https://docs.google.com/spreadsheets/d/1c3Ia3eDo4sfDZb6ajW2WVML4MhoKXWIVRbYqnsZgQRs/edit#gid=0\"\",\"\"RWA!F:BZ\"\"),44,0))\"),\"\")","v":""},{"$f":"IFERROR(__xludf.DUMMYFUNCTION(\"iferror(VLOOKUP(B895,IMPORTRANGE(\"\"https://docs.google.com/spreadsheets/d/1c3Ia3eDo4sfDZb6ajW2WVML4MhoKXWIVRbYqnsZgQRs/edit#gid=0\"\",\"\"RWA!F:BZ\"\"),48,0))\"),\"\")","v":""},{"$f":"IFERROR(__xludf.DUMMYFUNCTION(\"iferror(VLOOKUP(B895,IMPORTRANGE(\"\"https://docs.google.com/spreadsheets/d/1c3Ia3eDo4sfDZb6ajW2WVML4MhoKXWIVRbYqnsZgQRs/edit#gid=0\"\",\"\"RWA!F:BZ\"\"),49,0))\"),\"\")","v":""}]
[null,null,null,{"$f":"IFERROR(__xludf.DUMMYFUNCTION(\"iferror(VLOOKUP(B896,IMPORTRANGE(\"\"https://docs.google.com/spreadsheets/d/1c3Ia3eDo4sfDZb6ajW2WVML4MhoKXWIVRbYqnsZgQRs/edit#gid=0\"\",\"\"RWA!F:BZ\"\"),44,0))\"),\"\")","v":""},{"$f":"IFERROR(__xludf.DUMMYFUNCTION(\"iferror(VLOOKUP(B896,IMPORTRANGE(\"\"https://docs.google.com/spreadsheets/d/1c3Ia3eDo4sfDZb6ajW2WVML4MhoKXWIVRbYqnsZgQRs/edit#gid=0\"\",\"\"RWA!F:BZ\"\"),48,0))\"),\"\")","v":""},{"$f":"IFERROR(__xludf.DUMMYFUNCTION(\"iferror(VLOOKUP(B896,IMPORTRANGE(\"\"https://docs.google.com/spreadsheets/d/1c3Ia3eDo4sfDZb6ajW2WVML4MhoKXWIVRbYqnsZgQRs/edit#gid=0\"\",\"\"RWA!F:BZ\"\"),49,0))\"),\"\")","v":""}]
[null,null,null,{"$f":"IFERROR(__xludf.DUMMYFUNCTION(\"iferror(VLOOKUP(B897,IMPORTRANGE(\"\"https://docs.google.com/spreadsheets/d/1c3Ia3eDo4sfDZb6ajW2WVML4MhoKXWIVRbYqnsZgQRs/edit#gid=0\"\",\"\"RWA!F:BZ\"\"),44,0))\"),\"\")","v":""},{"$f":"IFERROR(__xludf.DUMMYFUNCTION(\"iferror(VLOOKUP(B897,IMPORTRANGE(\"\"https://docs.google.com/spreadsheets/d/1c3Ia3eDo4sfDZb6ajW2WVML4MhoKXWIVRbYqnsZgQRs/edit#gid=0\"\",\"\"RWA!F:BZ\"\"),48,0))\"),\"\")","v":""},{"$f":"IFERROR(__xludf.DUMMYFUNCTION(\"iferror(VLOOKUP(B897,IMPORTRANGE(\"\"https://docs.google.com/spreadsheets/d/1c3Ia3eDo4sfDZb6ajW2WVML4MhoKXWIVRbYqnsZgQRs/edit#gid=0\"\",\"\"RWA!F:BZ\"\"),49,0))\"),\"\")","v":""}]
[null,null,null,{"$f":"IFERROR(__xludf.DUMMYFUNCTION(\"iferror(VLOOKUP(B898,IMPORTRANGE(\"\"https://docs.google.com/spreadsheets/d/1c3Ia3eDo4sfDZb6ajW2WVML4MhoKXWIVRbYqnsZgQRs/edit#gid=0\"\",\"\"RWA!F:BZ\"\"),44,0))\"),\"\")","v":""},{"$f":"IFERROR(__xludf.DUMMYFUNCTION(\"iferror(VLOOKUP(B898,IMPORTRANGE(\"\"https://docs.google.com/spreadsheets/d/1c3Ia3eDo4sfDZb6ajW2WVML4MhoKXWIVRbYqnsZgQRs/edit#gid=0\"\",\"\"RWA!F:BZ\"\"),48,0))\"),\"\")","v":""},{"$f":"IFERROR(__xludf.DUMMYFUNCTION(\"iferror(VLOOKUP(B898,IMPORTRANGE(\"\"https://docs.google.com/spreadsheets/d/1c3Ia3eDo4sfDZb6ajW2WVML4MhoKXWIVRbYqnsZgQRs/edit#gid=0\"\",\"\"RWA!F:BZ\"\"),49,0))\"),\"\")","v":""}]
[null,null,null,{"$f":"IFERROR(__xludf.DUMMYFUNCTION(\"iferror(VLOOKUP(B899,IMPORTRANGE(\"\"https://docs.google.com/spreadsheets/d/1c3Ia3eDo4sfDZb6ajW2WVML4MhoKXWIVRbYqnsZgQRs/edit#gid=0\"\",\"\"RWA!F:BZ\"\"),44,0))\"),\"\")","v":""},{"$f":"IFERROR(__xludf.DUMMYFUNCTION(\"iferror(VLOOKUP(B899,IMPORTRANGE(\"\"https://docs.google.com/spreadsheets/d/1c3Ia3eDo4sfDZb6ajW2WVML4MhoKXWIVRbYqnsZgQRs/edit#gid=0\"\",\"\"RWA!F:BZ\"\"),48,0))\"),\"\")","v":""},{"$f":"IFERROR(__xludf.DUMMYFUNCTION(\"iferror(VLOOKUP(B899,IMPORTRANGE(\"\"https://docs.google.com/spreadsheets/d/1c3Ia3eDo4sfDZb6ajW2WVML4MhoKXWIVRbYqnsZgQRs/edit#gid=0\"\",\"\"RWA!F:BZ\"\"),49,0))\"),\"\")","v":""}]
[null,null,null,{"$f":"IFERROR(__xludf.DUMMYFUNCTION(\"iferror(VLOOKUP(B900,IMPORTRANGE(\"\"https://docs.google.com/spreadsheets/d/1c3Ia3eDo4sfDZb6ajW2WVML4MhoKXWIVRbYqnsZgQRs/edit#gid=0\"\",\"\"RWA!F:BZ\"\"),44,0))\"),\"\")","v":""},{"$f":"IFERROR(__xludf.DUMMYFUNCTION(\"iferror(VLOOKUP(B900,IMPORTRANGE(\"\"https://docs.google.com/spreadsheets/d/1c3Ia3eDo4sfDZb6ajW2WVML4MhoKXWIVRbYqnsZgQRs/edit#gid=0\"\",\"\"RWA!F:BZ\"\"),48,0))\"),\"\")","v":""},{"$f":"IFERROR(__xludf.DUMMYFUNCTION(\"iferror(VLOOKUP(B900,IMPORTRANGE(\"\"https://docs.google.com/spreadsheets/d/1c3Ia3eDo4sfDZb6ajW2WVML4MhoKXWIVRbYqnsZgQRs/edit#gid=0\"\",\"\"RWA!F:BZ\"\"),49,0))\"),\"\")","v":""}]
[null,null,null,{"$f":"IFERROR(__xludf.DUMMYFUNCTION(\"iferror(VLOOKUP(B901,IMPORTRANGE(\"\"https://docs.google.com/spreadsheets/d/1c3Ia3eDo4sfDZb6ajW2WVML4MhoKXWIVRbYqnsZgQRs/edit#gid=0\"\",\"\"RWA!F:BZ\"\"),44,0))\"),\"\")","v":""},{"$f":"IFERROR(__xludf.DUMMYFUNCTION(\"iferror(VLOOKUP(B901,IMPORTRANGE(\"\"https://docs.google.com/spreadsheets/d/1c3Ia3eDo4sfDZb6ajW2WVML4MhoKXWIVRbYqnsZgQRs/edit#gid=0\"\",\"\"RWA!F:BZ\"\"),48,0))\"),\"\")","v":""},{"$f":"IFERROR(__xludf.DUMMYFUNCTION(\"iferror(VLOOKUP(B901,IMPORTRANGE(\"\"https://docs.google.com/spreadsheets/d/1c3Ia3eDo4sfDZb6ajW2WVML4MhoKXWIVRbYqnsZgQRs/edit#gid=0\"\",\"\"RWA!F:BZ\"\"),49,0))\"),\"\")","v":""}]
[null,null,null,{"$f":"IFERROR(__xludf.DUMMYFUNCTION(\"iferror(VLOOKUP(B902,IMPORTRANGE(\"\"https://docs.google.com/spreadsheets/d/1c3Ia3eDo4sfDZb6ajW2WVML4MhoKXWIVRbYqnsZgQRs/edit#gid=0\"\",\"\"RWA!F:BZ\"\"),44,0))\"),\"\")","v":""},{"$f":"IFERROR(__xludf.DUMMYFUNCTION(\"iferror(VLOOKUP(B902,IMPORTRANGE(\"\"https://docs.google.com/spreadsheets/d/1c3Ia3eDo4sfDZb6ajW2WVML4MhoKXWIVRbYqnsZgQRs/edit#gid=0\"\",\"\"RWA!F:BZ\"\"),48,0))\"),\"\")","v":""},{"$f":"IFERROR(__xludf.DUMMYFUNCTION(\"iferror(VLOOKUP(B902,IMPORTRANGE(\"\"https://docs.google.com/spreadsheets/d/1c3Ia3eDo4sfDZb6ajW2WVML4MhoKXWIVRbYqnsZgQRs/edit#gid=0\"\",\"\"RWA!F:BZ\"\"),49,0))\"),\"\")","v":""}]
[null,null,null,{"$f":"IFERROR(__xludf.DUMMYFUNCTION(\"iferror(VLOOKUP(B903,IMPORTRANGE(\"\"https://docs.google.com/spreadsheets/d/1c3Ia3eDo4sfDZb6ajW2WVML4MhoKXWIVRbYqnsZgQRs/edit#gid=0\"\",\"\"RWA!F:BZ\"\"),44,0))\"),\"\")","v":""},{"$f":"IFERROR(__xludf.DUMMYFUNCTION(\"iferror(VLOOKUP(B903,IMPORTRANGE(\"\"https://docs.google.com/spreadsheets/d/1c3Ia3eDo4sfDZb6ajW2WVML4MhoKXWIVRbYqnsZgQRs/edit#gid=0\"\",\"\"RWA!F:BZ\"\"),48,0))\"),\"\")","v":""},{"$f":"IFERROR(__xludf.DUMMYFUNCTION(\"iferror(VLOOKUP(B903,IMPORTRANGE(\"\"https://docs.google.com/spreadsheets/d/1c3Ia3eDo4sfDZb6ajW2WVML4MhoKXWIVRbYqnsZgQRs/edit#gid=0\"\",\"\"RWA!F:BZ\"\"),49,0))\"),\"\")","v":""}]
[null,null,null,{"$f":"IFERROR(__xludf.DUMMYFUNCTION(\"iferror(VLOOKUP(B904,IMPORTRANGE(\"\"https://docs.google.com/spreadsheets/d/1c3Ia3eDo4sfDZb6ajW2WVML4MhoKXWIVRbYqnsZgQRs/edit#gid=0\"\",\"\"RWA!F:BZ\"\"),44,0))\"),\"\")","v":""},{"$f":"IFERROR(__xludf.DUMMYFUNCTION(\"iferror(VLOOKUP(B904,IMPORTRANGE(\"\"https://docs.google.com/spreadsheets/d/1c3Ia3eDo4sfDZb6ajW2WVML4MhoKXWIVRbYqnsZgQRs/edit#gid=0\"\",\"\"RWA!F:BZ\"\"),48,0))\"),\"\")","v":""},{"$f":"IFERROR(__xludf.DUMMYFUNCTION(\"iferror(VLOOKUP(B904,IMPORTRANGE(\"\"https://docs.google.com/spreadsheets/d/1c3Ia3eDo4sfDZb6ajW2WVML4MhoKXWIVRbYqnsZgQRs/edit#gid=0\"\",\"\"RWA!F:BZ\"\"),49,0))\"),\"\")","v":""}]
[null,null,null,{"$f":"IFERROR(__xludf.DUMMYFUNCTION(\"iferror(VLOOKUP(B905,IMPORTRANGE(\"\"https://docs.google.com/spreadsheets/d/1c3Ia3eDo4sfDZb6ajW2WVML4MhoKXWIVRbYqnsZgQRs/edit#gid=0\"\",\"\"RWA!F:BZ\"\"),44,0))\"),\"\")","v":""},{"$f":"IFERROR(__xludf.DUMMYFUNCTION(\"iferror(VLOOKUP(B905,IMPORTRANGE(\"\"https://docs.google.com/spreadsheets/d/1c3Ia3eDo4sfDZb6ajW2WVML4MhoKXWIVRbYqnsZgQRs/edit#gid=0\"\",\"\"RWA!F:BZ\"\"),48,0))\"),\"\")","v":""},{"$f":"IFERROR(__xludf.DUMMYFUNCTION(\"iferror(VLOOKUP(B905,IMPORTRANGE(\"\"https://docs.google.com/spreadsheets/d/1c3Ia3eDo4sfDZb6ajW2WVML4MhoKXWIVRbYqnsZgQRs/edit#gid=0\"\",\"\"RWA!F:BZ\"\"),49,0))\"),\"\")","v":""}]
[null,null,null,{"$f":"IFERROR(__xludf.DUMMYFUNCTION(\"iferror(VLOOKUP(B906,IMPORTRANGE(\"\"https://docs.google.com/spreadsheets/d/1c3Ia3eDo4sfDZb6ajW2WVML4MhoKXWIVRbYqnsZgQRs/edit#gid=0\"\",\"\"RWA!F:BZ\"\"),44,0))\"),\"\")","v":""},{"$f":"IFERROR(__xludf.DUMMYFUNCTION(\"iferror(VLOOKUP(B906,IMPORTRANGE(\"\"https://docs.google.com/spreadsheets/d/1c3Ia3eDo4sfDZb6ajW2WVML4MhoKXWIVRbYqnsZgQRs/edit#gid=0\"\",\"\"RWA!F:BZ\"\"),48,0))\"),\"\")","v":""},{"$f":"IFERROR(__xludf.DUMMYFUNCTION(\"iferror(VLOOKUP(B906,IMPORTRANGE(\"\"https://docs.google.com/spreadsheets/d/1c3Ia3eDo4sfDZb6ajW2WVML4MhoKXWIVRbYqnsZgQRs/edit#gid=0\"\",\"\"RWA!F:BZ\"\"),49,0))\"),\"\")","v":""}]
[null,null,null,{"$f":"IFERROR(__xludf.DUMMYFUNCTION(\"iferror(VLOOKUP(B907,IMPORTRANGE(\"\"https://docs.google.com/spreadsheets/d/1c3Ia3eDo4sfDZb6ajW2WVML4MhoKXWIVRbYqnsZgQRs/edit#gid=0\"\",\"\"RWA!F:BZ\"\"),44,0))\"),\"\")","v":""},{"$f":"IFERROR(__xludf.DUMMYFUNCTION(\"iferror(VLOOKUP(B907,IMPORTRANGE(\"\"https://docs.google.com/spreadsheets/d/1c3Ia3eDo4sfDZb6ajW2WVML4MhoKXWIVRbYqnsZgQRs/edit#gid=0\"\",\"\"RWA!F:BZ\"\"),48,0))\"),\"\")","v":""},{"$f":"IFERROR(__xludf.DUMMYFUNCTION(\"iferror(VLOOKUP(B907,IMPORTRANGE(\"\"https://docs.google.com/spreadsheets/d/1c3Ia3eDo4sfDZb6ajW2WVML4MhoKXWIVRbYqnsZgQRs/edit#gid=0\"\",\"\"RWA!F:BZ\"\"),49,0))\"),\"\")","v":""}]
[null,null,null,{"$f":"IFERROR(__xludf.DUMMYFUNCTION(\"iferror(VLOOKUP(B908,IMPORTRANGE(\"\"https://docs.google.com/spreadsheets/d/1c3Ia3eDo4sfDZb6ajW2WVML4MhoKXWIVRbYqnsZgQRs/edit#gid=0\"\",\"\"RWA!F:BZ\"\"),44,0))\"),\"\")","v":""},{"$f":"IFERROR(__xludf.DUMMYFUNCTION(\"iferror(VLOOKUP(B908,IMPORTRANGE(\"\"https://docs.google.com/spreadsheets/d/1c3Ia3eDo4sfDZb6ajW2WVML4MhoKXWIVRbYqnsZgQRs/edit#gid=0\"\",\"\"RWA!F:BZ\"\"),48,0))\"),\"\")","v":""},{"$f":"IFERROR(__xludf.DUMMYFUNCTION(\"iferror(VLOOKUP(B908,IMPORTRANGE(\"\"https://docs.google.com/spreadsheets/d/1c3Ia3eDo4sfDZb6ajW2WVML4MhoKXWIVRbYqnsZgQRs/edit#gid=0\"\",\"\"RWA!F:BZ\"\"),49,0))\"),\"\")","v":""}]
[null,null,null,{"$f":"IFERROR(__xludf.DUMMYFUNCTION(\"iferror(VLOOKUP(B909,IMPORTRANGE(\"\"https://docs.google.com/spreadsheets/d/1c3Ia3eDo4sfDZb6ajW2WVML4MhoKXWIVRbYqnsZgQRs/edit#gid=0\"\",\"\"RWA!F:BZ\"\"),44,0))\"),\"\")","v":""},{"$f":"IFERROR(__xludf.DUMMYFUNCTION(\"iferror(VLOOKUP(B909,IMPORTRANGE(\"\"https://docs.google.com/spreadsheets/d/1c3Ia3eDo4sfDZb6ajW2WVML4MhoKXWIVRbYqnsZgQRs/edit#gid=0\"\",\"\"RWA!F:BZ\"\"),48,0))\"),\"\")","v":""},{"$f":"IFERROR(__xludf.DUMMYFUNCTION(\"iferror(VLOOKUP(B909,IMPORTRANGE(\"\"https://docs.google.com/spreadsheets/d/1c3Ia3eDo4sfDZb6ajW2WVML4MhoKXWIVRbYqnsZgQRs/edit#gid=0\"\",\"\"RWA!F:BZ\"\"),49,0))\"),\"\")","v":""}]
[null,null,null,{"$f":"IFERROR(__xludf.DUMMYFUNCTION(\"iferror(VLOOKUP(B910,IMPORTRANGE(\"\"https://docs.google.com/spreadsheets/d/1c3Ia3eDo4sfDZb6ajW2WVML4MhoKXWIVRbYqnsZgQRs/edit#gid=0\"\",\"\"RWA!F:BZ\"\"),44,0))\"),\"\")","v":""},{"$f":"IFERROR(__xludf.DUMMYFUNCTION(\"iferror(VLOOKUP(B910,IMPORTRANGE(\"\"https://docs.google.com/spreadsheets/d/1c3Ia3eDo4sfDZb6ajW2WVML4MhoKXWIVRbYqnsZgQRs/edit#gid=0\"\",\"\"RWA!F:BZ\"\"),48,0))\"),\"\")","v":""},{"$f":"IFERROR(__xludf.DUMMYFUNCTION(\"iferror(VLOOKUP(B910,IMPORTRANGE(\"\"https://docs.google.com/spreadsheets/d/1c3Ia3eDo4sfDZb6ajW2WVML4MhoKXWIVRbYqnsZgQRs/edit#gid=0\"\",\"\"RWA!F:BZ\"\"),49,0))\"),\"\")","v":""}]
[null,null,null,{"$f":"IFERROR(__xludf.DUMMYFUNCTION(\"iferror(VLOOKUP(B911,IMPORTRANGE(\"\"https://docs.google.com/spreadsheets/d/1c3Ia3eDo4sfDZb6ajW2WVML4MhoKXWIVRbYqnsZgQRs/edit#gid=0\"\",\"\"RWA!F:BZ\"\"),44,0))\"),\"\")","v":""},{"$f":"IFERROR(__xludf.DUMMYFUNCTION(\"iferror(VLOOKUP(B911,IMPORTRANGE(\"\"https://docs.google.com/spreadsheets/d/1c3Ia3eDo4sfDZb6ajW2WVML4MhoKXWIVRbYqnsZgQRs/edit#gid=0\"\",\"\"RWA!F:BZ\"\"),48,0))\"),\"\")","v":""},{"$f":"IFERROR(__xludf.DUMMYFUNCTION(\"iferror(VLOOKUP(B911,IMPORTRANGE(\"\"https://docs.google.com/spreadsheets/d/1c3Ia3eDo4sfDZb6ajW2WVML4MhoKXWIVRbYqnsZgQRs/edit#gid=0\"\",\"\"RWA!F:BZ\"\"),49,0))\"),\"\")","v":""}]
[null,null,null,{"$f":"IFERROR(__xludf.DUMMYFUNCTION(\"iferror(VLOOKUP(B912,IMPORTRANGE(\"\"https://docs.google.com/spreadsheets/d/1c3Ia3eDo4sfDZb6ajW2WVML4MhoKXWIVRbYqnsZgQRs/edit#gid=0\"\",\"\"RWA!F:BZ\"\"),44,0))\"),\"\")","v":""},{"$f":"IFERROR(__xludf.DUMMYFUNCTION(\"iferror(VLOOKUP(B912,IMPORTRANGE(\"\"https://docs.google.com/spreadsheets/d/1c3Ia3eDo4sfDZb6ajW2WVML4MhoKXWIVRbYqnsZgQRs/edit#gid=0\"\",\"\"RWA!F:BZ\"\"),48,0))\"),\"\")","v":""},{"$f":"IFERROR(__xludf.DUMMYFUNCTION(\"iferror(VLOOKUP(B912,IMPORTRANGE(\"\"https://docs.google.com/spreadsheets/d/1c3Ia3eDo4sfDZb6ajW2WVML4MhoKXWIVRbYqnsZgQRs/edit#gid=0\"\",\"\"RWA!F:BZ\"\"),49,0))\"),\"\")","v":""}]
[null,null,null,{"$f":"IFERROR(__xludf.DUMMYFUNCTION(\"iferror(VLOOKUP(B913,IMPORTRANGE(\"\"https://docs.google.com/spreadsheets/d/1c3Ia3eDo4sfDZb6ajW2WVML4MhoKXWIVRbYqnsZgQRs/edit#gid=0\"\",\"\"RWA!F:BZ\"\"),44,0))\"),\"\")","v":""},{"$f":"IFERROR(__xludf.DUMMYFUNCTION(\"iferror(VLOOKUP(B913,IMPORTRANGE(\"\"https://docs.google.com/spreadsheets/d/1c3Ia3eDo4sfDZb6ajW2WVML4MhoKXWIVRbYqnsZgQRs/edit#gid=0\"\",\"\"RWA!F:BZ\"\"),48,0))\"),\"\")","v":""},{"$f":"IFERROR(__xludf.DUMMYFUNCTION(\"iferror(VLOOKUP(B913,IMPORTRANGE(\"\"https://docs.google.com/spreadsheets/d/1c3Ia3eDo4sfDZb6ajW2WVML4MhoKXWIVRbYqnsZgQRs/edit#gid=0\"\",\"\"RWA!F:BZ\"\"),49,0))\"),\"\")","v":""}]
[null,null,null,{"$f":"IFERROR(__xludf.DUMMYFUNCTION(\"iferror(VLOOKUP(B914,IMPORTRANGE(\"\"https://docs.google.com/spreadsheets/d/1c3Ia3eDo4sfDZb6ajW2WVML4MhoKXWIVRbYqnsZgQRs/edit#gid=0\"\",\"\"RWA!F:BZ\"\"),44,0))\"),\"\")","v":""},{"$f":"IFERROR(__xludf.DUMMYFUNCTION(\"iferror(VLOOKUP(B914,IMPORTRANGE(\"\"https://docs.google.com/spreadsheets/d/1c3Ia3eDo4sfDZb6ajW2WVML4MhoKXWIVRbYqnsZgQRs/edit#gid=0\"\",\"\"RWA!F:BZ\"\"),48,0))\"),\"\")","v":""},{"$f":"IFERROR(__xludf.DUMMYFUNCTION(\"iferror(VLOOKUP(B914,IMPORTRANGE(\"\"https://docs.google.com/spreadsheets/d/1c3Ia3eDo4sfDZb6ajW2WVML4MhoKXWIVRbYqnsZgQRs/edit#gid=0\"\",\"\"RWA!F:BZ\"\"),49,0))\"),\"\")","v":""}]
[null,null,null,{"$f":"IFERROR(__xludf.DUMMYFUNCTION(\"iferror(VLOOKUP(B915,IMPORTRANGE(\"\"https://docs.google.com/spreadsheets/d/1c3Ia3eDo4sfDZb6ajW2WVML4MhoKXWIVRbYqnsZgQRs/edit#gid=0\"\",\"\"RWA!F:BZ\"\"),44,0))\"),\"\")","v":""},{"$f":"IFERROR(__xludf.DUMMYFUNCTION(\"iferror(VLOOKUP(B915,IMPORTRANGE(\"\"https://docs.google.com/spreadsheets/d/1c3Ia3eDo4sfDZb6ajW2WVML4MhoKXWIVRbYqnsZgQRs/edit#gid=0\"\",\"\"RWA!F:BZ\"\"),48,0))\"),\"\")","v":""},{"$f":"IFERROR(__xludf.DUMMYFUNCTION(\"iferror(VLOOKUP(B915,IMPORTRANGE(\"\"https://docs.google.com/spreadsheets/d/1c3Ia3eDo4sfDZb6ajW2WVML4MhoKXWIVRbYqnsZgQRs/edit#gid=0\"\",\"\"RWA!F:BZ\"\"),49,0))\"),\"\")","v":""}]
[null,null,null,{"$f":"IFERROR(__xludf.DUMMYFUNCTION(\"iferror(VLOOKUP(B916,IMPORTRANGE(\"\"https://docs.google.com/spreadsheets/d/1c3Ia3eDo4sfDZb6ajW2WVML4MhoKXWIVRbYqnsZgQRs/edit#gid=0\"\",\"\"RWA!F:BZ\"\"),44,0))\"),\"\")","v":""},{"$f":"IFERROR(__xludf.DUMMYFUNCTION(\"iferror(VLOOKUP(B916,IMPORTRANGE(\"\"https://docs.google.com/spreadsheets/d/1c3Ia3eDo4sfDZb6ajW2WVML4MhoKXWIVRbYqnsZgQRs/edit#gid=0\"\",\"\"RWA!F:BZ\"\"),48,0))\"),\"\")","v":""},{"$f":"IFERROR(__xludf.DUMMYFUNCTION(\"iferror(VLOOKUP(B916,IMPORTRANGE(\"\"https://docs.google.com/spreadsheets/d/1c3Ia3eDo4sfDZb6ajW2WVML4MhoKXWIVRbYqnsZgQRs/edit#gid=0\"\",\"\"RWA!F:BZ\"\"),49,0))\"),\"\")","v":""}]
[null,null,null,{"$f":"IFERROR(__xludf.DUMMYFUNCTION(\"iferror(VLOOKUP(B917,IMPORTRANGE(\"\"https://docs.google.com/spreadsheets/d/1c3Ia3eDo4sfDZb6ajW2WVML4MhoKXWIVRbYqnsZgQRs/edit#gid=0\"\",\"\"RWA!F:BZ\"\"),44,0))\"),\"\")","v":""},{"$f":"IFERROR(__xludf.DUMMYFUNCTION(\"iferror(VLOOKUP(B917,IMPORTRANGE(\"\"https://docs.google.com/spreadsheets/d/1c3Ia3eDo4sfDZb6ajW2WVML4MhoKXWIVRbYqnsZgQRs/edit#gid=0\"\",\"\"RWA!F:BZ\"\"),48,0))\"),\"\")","v":""},{"$f":"IFERROR(__xludf.DUMMYFUNCTION(\"iferror(VLOOKUP(B917,IMPORTRANGE(\"\"https://docs.google.com/spreadsheets/d/1c3Ia3eDo4sfDZb6ajW2WVML4MhoKXWIVRbYqnsZgQRs/edit#gid=0\"\",\"\"RWA!F:BZ\"\"),49,0))\"),\"\")","v":""}]
[null,null,null,{"$f":"IFERROR(__xludf.DUMMYFUNCTION(\"iferror(VLOOKUP(B918,IMPORTRANGE(\"\"https://docs.google.com/spreadsheets/d/1c3Ia3eDo4sfDZb6ajW2WVML4MhoKXWIVRbYqnsZgQRs/edit#gid=0\"\",\"\"RWA!F:BZ\"\"),44,0))\"),\"\")","v":""},{"$f":"IFERROR(__xludf.DUMMYFUNCTION(\"iferror(VLOOKUP(B918,IMPORTRANGE(\"\"https://docs.google.com/spreadsheets/d/1c3Ia3eDo4sfDZb6ajW2WVML4MhoKXWIVRbYqnsZgQRs/edit#gid=0\"\",\"\"RWA!F:BZ\"\"),48,0))\"),\"\")","v":""},{"$f":"IFERROR(__xludf.DUMMYFUNCTION(\"iferror(VLOOKUP(B918,IMPORTRANGE(\"\"https://docs.google.com/spreadsheets/d/1c3Ia3eDo4sfDZb6ajW2WVML4MhoKXWIVRbYqnsZgQRs/edit#gid=0\"\",\"\"RWA!F:BZ\"\"),49,0))\"),\"\")","v":""}]
[null,null,null,{"$f":"IFERROR(__xludf.DUMMYFUNCTION(\"iferror(VLOOKUP(B919,IMPORTRANGE(\"\"https://docs.google.com/spreadsheets/d/1c3Ia3eDo4sfDZb6ajW2WVML4MhoKXWIVRbYqnsZgQRs/edit#gid=0\"\",\"\"RWA!F:BZ\"\"),44,0))\"),\"\")","v":""},{"$f":"IFERROR(__xludf.DUMMYFUNCTION(\"iferror(VLOOKUP(B919,IMPORTRANGE(\"\"https://docs.google.com/spreadsheets/d/1c3Ia3eDo4sfDZb6ajW2WVML4MhoKXWIVRbYqnsZgQRs/edit#gid=0\"\",\"\"RWA!F:BZ\"\"),48,0))\"),\"\")","v":""},{"$f":"IFERROR(__xludf.DUMMYFUNCTION(\"iferror(VLOOKUP(B919,IMPORTRANGE(\"\"https://docs.google.com/spreadsheets/d/1c3Ia3eDo4sfDZb6ajW2WVML4MhoKXWIVRbYqnsZgQRs/edit#gid=0\"\",\"\"RWA!F:BZ\"\"),49,0))\"),\"\")","v":""}]
[null,null,null,{"$f":"IFERROR(__xludf.DUMMYFUNCTION(\"iferror(VLOOKUP(B920,IMPORTRANGE(\"\"https://docs.google.com/spreadsheets/d/1c3Ia3eDo4sfDZb6ajW2WVML4MhoKXWIVRbYqnsZgQRs/edit#gid=0\"\",\"\"RWA!F:BZ\"\"),44,0))\"),\"\")","v":""},{"$f":"IFERROR(__xludf.DUMMYFUNCTION(\"iferror(VLOOKUP(B920,IMPORTRANGE(\"\"https://docs.google.com/spreadsheets/d/1c3Ia3eDo4sfDZb6ajW2WVML4MhoKXWIVRbYqnsZgQRs/edit#gid=0\"\",\"\"RWA!F:BZ\"\"),48,0))\"),\"\")","v":""},{"$f":"IFERROR(__xludf.DUMMYFUNCTION(\"iferror(VLOOKUP(B920,IMPORTRANGE(\"\"https://docs.google.com/spreadsheets/d/1c3Ia3eDo4sfDZb6ajW2WVML4MhoKXWIVRbYqnsZgQRs/edit#gid=0\"\",\"\"RWA!F:BZ\"\"),49,0))\"),\"\")","v":""}]
[null,null,null,{"$f":"IFERROR(__xludf.DUMMYFUNCTION(\"iferror(VLOOKUP(B921,IMPORTRANGE(\"\"https://docs.google.com/spreadsheets/d/1c3Ia3eDo4sfDZb6ajW2WVML4MhoKXWIVRbYqnsZgQRs/edit#gid=0\"\",\"\"RWA!F:BZ\"\"),44,0))\"),\"\")","v":""},{"$f":"IFERROR(__xludf.DUMMYFUNCTION(\"iferror(VLOOKUP(B921,IMPORTRANGE(\"\"https://docs.google.com/spreadsheets/d/1c3Ia3eDo4sfDZb6ajW2WVML4MhoKXWIVRbYqnsZgQRs/edit#gid=0\"\",\"\"RWA!F:BZ\"\"),48,0))\"),\"\")","v":""},{"$f":"IFERROR(__xludf.DUMMYFUNCTION(\"iferror(VLOOKUP(B921,IMPORTRANGE(\"\"https://docs.google.com/spreadsheets/d/1c3Ia3eDo4sfDZb6ajW2WVML4MhoKXWIVRbYqnsZgQRs/edit#gid=0\"\",\"\"RWA!F:BZ\"\"),49,0))\"),\"\")","v":""}]
[null,null,null,{"$f":"IFERROR(__xludf.DUMMYFUNCTION(\"iferror(VLOOKUP(B922,IMPORTRANGE(\"\"https://docs.google.com/spreadsheets/d/1c3Ia3eDo4sfDZb6ajW2WVML4MhoKXWIVRbYqnsZgQRs/edit#gid=0\"\",\"\"RWA!F:BZ\"\"),44,0))\"),\"\")","v":""},{"$f":"IFERROR(__xludf.DUMMYFUNCTION(\"iferror(VLOOKUP(B922,IMPORTRANGE(\"\"https://docs.google.com/spreadsheets/d/1c3Ia3eDo4sfDZb6ajW2WVML4MhoKXWIVRbYqnsZgQRs/edit#gid=0\"\",\"\"RWA!F:BZ\"\"),48,0))\"),\"\")","v":""},{"$f":"IFERROR(__xludf.DUMMYFUNCTION(\"iferror(VLOOKUP(B922,IMPORTRANGE(\"\"https://docs.google.com/spreadsheets/d/1c3Ia3eDo4sfDZb6ajW2WVML4MhoKXWIVRbYqnsZgQRs/edit#gid=0\"\",\"\"RWA!F:BZ\"\"),49,0))\"),\"\")","v":""}]
[null,null,null,{"$f":"IFERROR(__xludf.DUMMYFUNCTION(\"iferror(VLOOKUP(B923,IMPORTRANGE(\"\"https://docs.google.com/spreadsheets/d/1c3Ia3eDo4sfDZb6ajW2WVML4MhoKXWIVRbYqnsZgQRs/edit#gid=0\"\",\"\"RWA!F:BZ\"\"),44,0))\"),\"\")","v":""},{"$f":"IFERROR(__xludf.DUMMYFUNCTION(\"iferror(VLOOKUP(B923,IMPORTRANGE(\"\"https://docs.google.com/spreadsheets/d/1c3Ia3eDo4sfDZb6ajW2WVML4MhoKXWIVRbYqnsZgQRs/edit#gid=0\"\",\"\"RWA!F:BZ\"\"),48,0))\"),\"\")","v":""},{"$f":"IFERROR(__xludf.DUMMYFUNCTION(\"iferror(VLOOKUP(B923,IMPORTRANGE(\"\"https://docs.google.com/spreadsheets/d/1c3Ia3eDo4sfDZb6ajW2WVML4MhoKXWIVRbYqnsZgQRs/edit#gid=0\"\",\"\"RWA!F:BZ\"\"),49,0))\"),\"\")","v":""}]
[null,null,null,{"$f":"IFERROR(__xludf.DUMMYFUNCTION(\"iferror(VLOOKUP(B924,IMPORTRANGE(\"\"https://docs.google.com/spreadsheets/d/1c3Ia3eDo4sfDZb6ajW2WVML4MhoKXWIVRbYqnsZgQRs/edit#gid=0\"\",\"\"RWA!F:BZ\"\"),44,0))\"),\"\")","v":""},{"$f":"IFERROR(__xludf.DUMMYFUNCTION(\"iferror(VLOOKUP(B924,IMPORTRANGE(\"\"https://docs.google.com/spreadsheets/d/1c3Ia3eDo4sfDZb6ajW2WVML4MhoKXWIVRbYqnsZgQRs/edit#gid=0\"\",\"\"RWA!F:BZ\"\"),48,0))\"),\"\")","v":""},{"$f":"IFERROR(__xludf.DUMMYFUNCTION(\"iferror(VLOOKUP(B924,IMPORTRANGE(\"\"https://docs.google.com/spreadsheets/d/1c3Ia3eDo4sfDZb6ajW2WVML4MhoKXWIVRbYqnsZgQRs/edit#gid=0\"\",\"\"RWA!F:BZ\"\"),49,0))\"),\"\")","v":""}]
[null,null,null,{"$f":"IFERROR(__xludf.DUMMYFUNCTION(\"iferror(VLOOKUP(B925,IMPORTRANGE(\"\"https://docs.google.com/spreadsheets/d/1c3Ia3eDo4sfDZb6ajW2WVML4MhoKXWIVRbYqnsZgQRs/edit#gid=0\"\",\"\"RWA!F:BZ\"\"),44,0))\"),\"\")","v":""},{"$f":"IFERROR(__xludf.DUMMYFUNCTION(\"iferror(VLOOKUP(B925,IMPORTRANGE(\"\"https://docs.google.com/spreadsheets/d/1c3Ia3eDo4sfDZb6ajW2WVML4MhoKXWIVRbYqnsZgQRs/edit#gid=0\"\",\"\"RWA!F:BZ\"\"),48,0))\"),\"\")","v":""},{"$f":"IFERROR(__xludf.DUMMYFUNCTION(\"iferror(VLOOKUP(B925,IMPORTRANGE(\"\"https://docs.google.com/spreadsheets/d/1c3Ia3eDo4sfDZb6ajW2WVML4MhoKXWIVRbYqnsZgQRs/edit#gid=0\"\",\"\"RWA!F:BZ\"\"),49,0))\"),\"\")","v":""}]
[null,null,null,{"$f":"IFERROR(__xludf.DUMMYFUNCTION(\"iferror(VLOOKUP(B926,IMPORTRANGE(\"\"https://docs.google.com/spreadsheets/d/1c3Ia3eDo4sfDZb6ajW2WVML4MhoKXWIVRbYqnsZgQRs/edit#gid=0\"\",\"\"RWA!F:BZ\"\"),44,0))\"),\"\")","v":""},{"$f":"IFERROR(__xludf.DUMMYFUNCTION(\"iferror(VLOOKUP(B926,IMPORTRANGE(\"\"https://docs.google.com/spreadsheets/d/1c3Ia3eDo4sfDZb6ajW2WVML4MhoKXWIVRbYqnsZgQRs/edit#gid=0\"\",\"\"RWA!F:BZ\"\"),48,0))\"),\"\")","v":""},{"$f":"IFERROR(__xludf.DUMMYFUNCTION(\"iferror(VLOOKUP(B926,IMPORTRANGE(\"\"https://docs.google.com/spreadsheets/d/1c3Ia3eDo4sfDZb6ajW2WVML4MhoKXWIVRbYqnsZgQRs/edit#gid=0\"\",\"\"RWA!F:BZ\"\"),49,0))\"),\"\")","v":""}]
[null,null,null,{"$f":"IFERROR(__xludf.DUMMYFUNCTION(\"iferror(VLOOKUP(B927,IMPORTRANGE(\"\"https://docs.google.com/spreadsheets/d/1c3Ia3eDo4sfDZb6ajW2WVML4MhoKXWIVRbYqnsZgQRs/edit#gid=0\"\",\"\"RWA!F:BZ\"\"),44,0))\"),\"\")","v":""},{"$f":"IFERROR(__xludf.DUMMYFUNCTION(\"iferror(VLOOKUP(B927,IMPORTRANGE(\"\"https://docs.google.com/spreadsheets/d/1c3Ia3eDo4sfDZb6ajW2WVML4MhoKXWIVRbYqnsZgQRs/edit#gid=0\"\",\"\"RWA!F:BZ\"\"),48,0))\"),\"\")","v":""},{"$f":"IFERROR(__xludf.DUMMYFUNCTION(\"iferror(VLOOKUP(B927,IMPORTRANGE(\"\"https://docs.google.com/spreadsheets/d/1c3Ia3eDo4sfDZb6ajW2WVML4MhoKXWIVRbYqnsZgQRs/edit#gid=0\"\",\"\"RWA!F:BZ\"\"),49,0))\"),\"\")","v":""}]
[null,null,null,{"$f":"IFERROR(__xludf.DUMMYFUNCTION(\"iferror(VLOOKUP(B928,IMPORTRANGE(\"\"https://docs.google.com/spreadsheets/d/1c3Ia3eDo4sfDZb6ajW2WVML4MhoKXWIVRbYqnsZgQRs/edit#gid=0\"\",\"\"RWA!F:BZ\"\"),44,0))\"),\"\")","v":""},{"$f":"IFERROR(__xludf.DUMMYFUNCTION(\"iferror(VLOOKUP(B928,IMPORTRANGE(\"\"https://docs.google.com/spreadsheets/d/1c3Ia3eDo4sfDZb6ajW2WVML4MhoKXWIVRbYqnsZgQRs/edit#gid=0\"\",\"\"RWA!F:BZ\"\"),48,0))\"),\"\")","v":""},{"$f":"IFERROR(__xludf.DUMMYFUNCTION(\"iferror(VLOOKUP(B928,IMPORTRANGE(\"\"https://docs.google.com/spreadsheets/d/1c3Ia3eDo4sfDZb6ajW2WVML4MhoKXWIVRbYqnsZgQRs/edit#gid=0\"\",\"\"RWA!F:BZ\"\"),49,0))\"),\"\")","v":""}]
[null,null,null,{"$f":"IFERROR(__xludf.DUMMYFUNCTION(\"iferror(VLOOKUP(B929,IMPORTRANGE(\"\"https://docs.google.com/spreadsheets/d/1c3Ia3eDo4sfDZb6ajW2WVML4MhoKXWIVRbYqnsZgQRs/edit#gid=0\"\",\"\"RWA!F:BZ\"\"),44,0))\"),\"\")","v":""},{"$f":"IFERROR(__xludf.DUMMYFUNCTION(\"iferror(VLOOKUP(B929,IMPORTRANGE(\"\"https://docs.google.com/spreadsheets/d/1c3Ia3eDo4sfDZb6ajW2WVML4MhoKXWIVRbYqnsZgQRs/edit#gid=0\"\",\"\"RWA!F:BZ\"\"),48,0))\"),\"\")","v":""},{"$f":"IFERROR(__xludf.DUMMYFUNCTION(\"iferror(VLOOKUP(B929,IMPORTRANGE(\"\"https://docs.google.com/spreadsheets/d/1c3Ia3eDo4sfDZb6ajW2WVML4MhoKXWIVRbYqnsZgQRs/edit#gid=0\"\",\"\"RWA!F:BZ\"\"),49,0))\"),\"\")","v":""}]
[null,null,null,{"$f":"IFERROR(__xludf.DUMMYFUNCTION(\"iferror(VLOOKUP(B930,IMPORTRANGE(\"\"https://docs.google.com/spreadsheets/d/1c3Ia3eDo4sfDZb6ajW2WVML4MhoKXWIVRbYqnsZgQRs/edit#gid=0\"\",\"\"RWA!F:BZ\"\"),44,0))\"),\"\")","v":""},{"$f":"IFERROR(__xludf.DUMMYFUNCTION(\"iferror(VLOOKUP(B930,IMPORTRANGE(\"\"https://docs.google.com/spreadsheets/d/1c3Ia3eDo4sfDZb6ajW2WVML4MhoKXWIVRbYqnsZgQRs/edit#gid=0\"\",\"\"RWA!F:BZ\"\"),48,0))\"),\"\")","v":""},{"$f":"IFERROR(__xludf.DUMMYFUNCTION(\"iferror(VLOOKUP(B930,IMPORTRANGE(\"\"https://docs.google.com/spreadsheets/d/1c3Ia3eDo4sfDZb6ajW2WVML4MhoKXWIVRbYqnsZgQRs/edit#gid=0\"\",\"\"RWA!F:BZ\"\"),49,0))\"),\"\")","v":""}]
[null,null,null,{"$f":"IFERROR(__xludf.DUMMYFUNCTION(\"iferror(VLOOKUP(B931,IMPORTRANGE(\"\"https://docs.google.com/spreadsheets/d/1c3Ia3eDo4sfDZb6ajW2WVML4MhoKXWIVRbYqnsZgQRs/edit#gid=0\"\",\"\"RWA!F:BZ\"\"),44,0))\"),\"\")","v":""},{"$f":"IFERROR(__xludf.DUMMYFUNCTION(\"iferror(VLOOKUP(B931,IMPORTRANGE(\"\"https://docs.google.com/spreadsheets/d/1c3Ia3eDo4sfDZb6ajW2WVML4MhoKXWIVRbYqnsZgQRs/edit#gid=0\"\",\"\"RWA!F:BZ\"\"),48,0))\"),\"\")","v":""},{"$f":"IFERROR(__xludf.DUMMYFUNCTION(\"iferror(VLOOKUP(B931,IMPORTRANGE(\"\"https://docs.google.com/spreadsheets/d/1c3Ia3eDo4sfDZb6ajW2WVML4MhoKXWIVRbYqnsZgQRs/edit#gid=0\"\",\"\"RWA!F:BZ\"\"),49,0))\"),\"\")","v":""}]
[null,null,null,{"$f":"IFERROR(__xludf.DUMMYFUNCTION(\"iferror(VLOOKUP(B932,IMPORTRANGE(\"\"https://docs.google.com/spreadsheets/d/1c3Ia3eDo4sfDZb6ajW2WVML4MhoKXWIVRbYqnsZgQRs/edit#gid=0\"\",\"\"RWA!F:BZ\"\"),44,0))\"),\"\")","v":""},{"$f":"IFERROR(__xludf.DUMMYFUNCTION(\"iferror(VLOOKUP(B932,IMPORTRANGE(\"\"https://docs.google.com/spreadsheets/d/1c3Ia3eDo4sfDZb6ajW2WVML4MhoKXWIVRbYqnsZgQRs/edit#gid=0\"\",\"\"RWA!F:BZ\"\"),48,0))\"),\"\")","v":""},{"$f":"IFERROR(__xludf.DUMMYFUNCTION(\"iferror(VLOOKUP(B932,IMPORTRANGE(\"\"https://docs.google.com/spreadsheets/d/1c3Ia3eDo4sfDZb6ajW2WVML4MhoKXWIVRbYqnsZgQRs/edit#gid=0\"\",\"\"RWA!F:BZ\"\"),49,0))\"),\"\")","v":""}]
[null,null,null,{"$f":"IFERROR(__xludf.DUMMYFUNCTION(\"iferror(VLOOKUP(B933,IMPORTRANGE(\"\"https://docs.google.com/spreadsheets/d/1c3Ia3eDo4sfDZb6ajW2WVML4MhoKXWIVRbYqnsZgQRs/edit#gid=0\"\",\"\"RWA!F:BZ\"\"),44,0))\"),\"\")","v":""},{"$f":"IFERROR(__xludf.DUMMYFUNCTION(\"iferror(VLOOKUP(B933,IMPORTRANGE(\"\"https://docs.google.com/spreadsheets/d/1c3Ia3eDo4sfDZb6ajW2WVML4MhoKXWIVRbYqnsZgQRs/edit#gid=0\"\",\"\"RWA!F:BZ\"\"),48,0))\"),\"\")","v":""},{"$f":"IFERROR(__xludf.DUMMYFUNCTION(\"iferror(VLOOKUP(B933,IMPORTRANGE(\"\"https://docs.google.com/spreadsheets/d/1c3Ia3eDo4sfDZb6ajW2WVML4MhoKXWIVRbYqnsZgQRs/edit#gid=0\"\",\"\"RWA!F:BZ\"\"),49,0))\"),\"\")","v":""}]
[null,null,null,{"$f":"IFERROR(__xludf.DUMMYFUNCTION(\"iferror(VLOOKUP(B934,IMPORTRANGE(\"\"https://docs.google.com/spreadsheets/d/1c3Ia3eDo4sfDZb6ajW2WVML4MhoKXWIVRbYqnsZgQRs/edit#gid=0\"\",\"\"RWA!F:BZ\"\"),44,0))\"),\"\")","v":""},{"$f":"IFERROR(__xludf.DUMMYFUNCTION(\"iferror(VLOOKUP(B934,IMPORTRANGE(\"\"https://docs.google.com/spreadsheets/d/1c3Ia3eDo4sfDZb6ajW2WVML4MhoKXWIVRbYqnsZgQRs/edit#gid=0\"\",\"\"RWA!F:BZ\"\"),48,0))\"),\"\")","v":""},{"$f":"IFERROR(__xludf.DUMMYFUNCTION(\"iferror(VLOOKUP(B934,IMPORTRANGE(\"\"https://docs.google.com/spreadsheets/d/1c3Ia3eDo4sfDZb6ajW2WVML4MhoKXWIVRbYqnsZgQRs/edit#gid=0\"\",\"\"RWA!F:BZ\"\"),49,0))\"),\"\")","v":""}]
[null,null,null,{"$f":"IFERROR(__xludf.DUMMYFUNCTION(\"iferror(VLOOKUP(B935,IMPORTRANGE(\"\"https://docs.google.com/spreadsheets/d/1c3Ia3eDo4sfDZb6ajW2WVML4MhoKXWIVRbYqnsZgQRs/edit#gid=0\"\",\"\"RWA!F:BZ\"\"),44,0))\"),\"\")","v":""},{"$f":"IFERROR(__xludf.DUMMYFUNCTION(\"iferror(VLOOKUP(B935,IMPORTRANGE(\"\"https://docs.google.com/spreadsheets/d/1c3Ia3eDo4sfDZb6ajW2WVML4MhoKXWIVRbYqnsZgQRs/edit#gid=0\"\",\"\"RWA!F:BZ\"\"),48,0))\"),\"\")","v":""},{"$f":"IFERROR(__xludf.DUMMYFUNCTION(\"iferror(VLOOKUP(B935,IMPORTRANGE(\"\"https://docs.google.com/spreadsheets/d/1c3Ia3eDo4sfDZb6ajW2WVML4MhoKXWIVRbYqnsZgQRs/edit#gid=0\"\",\"\"RWA!F:BZ\"\"),49,0))\"),\"\")","v":""}]
[null,null,null,{"$f":"IFERROR(__xludf.DUMMYFUNCTION(\"iferror(VLOOKUP(B936,IMPORTRANGE(\"\"https://docs.google.com/spreadsheets/d/1c3Ia3eDo4sfDZb6ajW2WVML4MhoKXWIVRbYqnsZgQRs/edit#gid=0\"\",\"\"RWA!F:BZ\"\"),44,0))\"),\"\")","v":""},{"$f":"IFERROR(__xludf.DUMMYFUNCTION(\"iferror(VLOOKUP(B936,IMPORTRANGE(\"\"https://docs.google.com/spreadsheets/d/1c3Ia3eDo4sfDZb6ajW2WVML4MhoKXWIVRbYqnsZgQRs/edit#gid=0\"\",\"\"RWA!F:BZ\"\"),48,0))\"),\"\")","v":""},{"$f":"IFERROR(__xludf.DUMMYFUNCTION(\"iferror(VLOOKUP(B936,IMPORTRANGE(\"\"https://docs.google.com/spreadsheets/d/1c3Ia3eDo4sfDZb6ajW2WVML4MhoKXWIVRbYqnsZgQRs/edit#gid=0\"\",\"\"RWA!F:BZ\"\"),49,0))\"),\"\")","v":""}]
[null,null,null,{"$f":"IFERROR(__xludf.DUMMYFUNCTION(\"iferror(VLOOKUP(B937,IMPORTRANGE(\"\"https://docs.google.com/spreadsheets/d/1c3Ia3eDo4sfDZb6ajW2WVML4MhoKXWIVRbYqnsZgQRs/edit#gid=0\"\",\"\"RWA!F:BZ\"\"),44,0))\"),\"\")","v":""},{"$f":"IFERROR(__xludf.DUMMYFUNCTION(\"iferror(VLOOKUP(B937,IMPORTRANGE(\"\"https://docs.google.com/spreadsheets/d/1c3Ia3eDo4sfDZb6ajW2WVML4MhoKXWIVRbYqnsZgQRs/edit#gid=0\"\",\"\"RWA!F:BZ\"\"),48,0))\"),\"\")","v":""},{"$f":"IFERROR(__xludf.DUMMYFUNCTION(\"iferror(VLOOKUP(B937,IMPORTRANGE(\"\"https://docs.google.com/spreadsheets/d/1c3Ia3eDo4sfDZb6ajW2WVML4MhoKXWIVRbYqnsZgQRs/edit#gid=0\"\",\"\"RWA!F:BZ\"\"),49,0))\"),\"\")","v":""}]
[null,null,null,{"$f":"IFERROR(__xludf.DUMMYFUNCTION(\"iferror(VLOOKUP(B938,IMPORTRANGE(\"\"https://docs.google.com/spreadsheets/d/1c3Ia3eDo4sfDZb6ajW2WVML4MhoKXWIVRbYqnsZgQRs/edit#gid=0\"\",\"\"RWA!F:BZ\"\"),44,0))\"),\"\")","v":""},{"$f":"IFERROR(__xludf.DUMMYFUNCTION(\"iferror(VLOOKUP(B938,IMPORTRANGE(\"\"https://docs.google.com/spreadsheets/d/1c3Ia3eDo4sfDZb6ajW2WVML4MhoKXWIVRbYqnsZgQRs/edit#gid=0\"\",\"\"RWA!F:BZ\"\"),48,0))\"),\"\")","v":""},{"$f":"IFERROR(__xludf.DUMMYFUNCTION(\"iferror(VLOOKUP(B938,IMPORTRANGE(\"\"https://docs.google.com/spreadsheets/d/1c3Ia3eDo4sfDZb6ajW2WVML4MhoKXWIVRbYqnsZgQRs/edit#gid=0\"\",\"\"RWA!F:BZ\"\"),49,0))\"),\"\")","v":""}]
[null,null,null,{"$f":"IFERROR(__xludf.DUMMYFUNCTION(\"iferror(VLOOKUP(B939,IMPORTRANGE(\"\"https://docs.google.com/spreadsheets/d/1c3Ia3eDo4sfDZb6ajW2WVML4MhoKXWIVRbYqnsZgQRs/edit#gid=0\"\",\"\"RWA!F:BZ\"\"),44,0))\"),\"\")","v":""},{"$f":"IFERROR(__xludf.DUMMYFUNCTION(\"iferror(VLOOKUP(B939,IMPORTRANGE(\"\"https://docs.google.com/spreadsheets/d/1c3Ia3eDo4sfDZb6ajW2WVML4MhoKXWIVRbYqnsZgQRs/edit#gid=0\"\",\"\"RWA!F:BZ\"\"),48,0))\"),\"\")","v":""},{"$f":"IFERROR(__xludf.DUMMYFUNCTION(\"iferror(VLOOKUP(B939,IMPORTRANGE(\"\"https://docs.google.com/spreadsheets/d/1c3Ia3eDo4sfDZb6ajW2WVML4MhoKXWIVRbYqnsZgQRs/edit#gid=0\"\",\"\"RWA!F:BZ\"\"),49,0))\"),\"\")","v":""}]
[null,null,null,{"$f":"IFERROR(__xludf.DUMMYFUNCTION(\"iferror(VLOOKUP(B940,IMPORTRANGE(\"\"https://docs.google.com/spreadsheets/d/1c3Ia3eDo4sfDZb6ajW2WVML4MhoKXWIVRbYqnsZgQRs/edit#gid=0\"\",\"\"RWA!F:BZ\"\"),44,0))\"),\"\")","v":""},{"$f":"IFERROR(__xludf.DUMMYFUNCTION(\"iferror(VLOOKUP(B940,IMPORTRANGE(\"\"https://docs.google.com/spreadsheets/d/1c3Ia3eDo4sfDZb6ajW2WVML4MhoKXWIVRbYqnsZgQRs/edit#gid=0\"\",\"\"RWA!F:BZ\"\"),48,0))\"),\"\")","v":""},{"$f":"IFERROR(__xludf.DUMMYFUNCTION(\"iferror(VLOOKUP(B940,IMPORTRANGE(\"\"https://docs.google.com/spreadsheets/d/1c3Ia3eDo4sfDZb6ajW2WVML4MhoKXWIVRbYqnsZgQRs/edit#gid=0\"\",\"\"RWA!F:BZ\"\"),49,0))\"),\"\")","v":""}]
[null,null,null,{"$f":"IFERROR(__xludf.DUMMYFUNCTION(\"iferror(VLOOKUP(B941,IMPORTRANGE(\"\"https://docs.google.com/spreadsheets/d/1c3Ia3eDo4sfDZb6ajW2WVML4MhoKXWIVRbYqnsZgQRs/edit#gid=0\"\",\"\"RWA!F:BZ\"\"),44,0))\"),\"\")","v":""},{"$f":"IFERROR(__xludf.DUMMYFUNCTION(\"iferror(VLOOKUP(B941,IMPORTRANGE(\"\"https://docs.google.com/spreadsheets/d/1c3Ia3eDo4sfDZb6ajW2WVML4MhoKXWIVRbYqnsZgQRs/edit#gid=0\"\",\"\"RWA!F:BZ\"\"),48,0))\"),\"\")","v":""},{"$f":"IFERROR(__xludf.DUMMYFUNCTION(\"iferror(VLOOKUP(B941,IMPORTRANGE(\"\"https://docs.google.com/spreadsheets/d/1c3Ia3eDo4sfDZb6ajW2WVML4MhoKXWIVRbYqnsZgQRs/edit#gid=0\"\",\"\"RWA!F:BZ\"\"),49,0))\"),\"\")","v":""}]
[null,null,null,{"$f":"IFERROR(__xludf.DUMMYFUNCTION(\"iferror(VLOOKUP(B942,IMPORTRANGE(\"\"https://docs.google.com/spreadsheets/d/1c3Ia3eDo4sfDZb6ajW2WVML4MhoKXWIVRbYqnsZgQRs/edit#gid=0\"\",\"\"RWA!F:BZ\"\"),44,0))\"),\"\")","v":""},{"$f":"IFERROR(__xludf.DUMMYFUNCTION(\"iferror(VLOOKUP(B942,IMPORTRANGE(\"\"https://docs.google.com/spreadsheets/d/1c3Ia3eDo4sfDZb6ajW2WVML4MhoKXWIVRbYqnsZgQRs/edit#gid=0\"\",\"\"RWA!F:BZ\"\"),48,0))\"),\"\")","v":""},{"$f":"IFERROR(__xludf.DUMMYFUNCTION(\"iferror(VLOOKUP(B942,IMPORTRANGE(\"\"https://docs.google.com/spreadsheets/d/1c3Ia3eDo4sfDZb6ajW2WVML4MhoKXWIVRbYqnsZgQRs/edit#gid=0\"\",\"\"RWA!F:BZ\"\"),49,0))\"),\"\")","v":""}]
[null,null,null,{"$f":"IFERROR(__xludf.DUMMYFUNCTION(\"iferror(VLOOKUP(B943,IMPORTRANGE(\"\"https://docs.google.com/spreadsheets/d/1c3Ia3eDo4sfDZb6ajW2WVML4MhoKXWIVRbYqnsZgQRs/edit#gid=0\"\",\"\"RWA!F:BZ\"\"),44,0))\"),\"\")","v":""},{"$f":"IFERROR(__xludf.DUMMYFUNCTION(\"iferror(VLOOKUP(B943,IMPORTRANGE(\"\"https://docs.google.com/spreadsheets/d/1c3Ia3eDo4sfDZb6ajW2WVML4MhoKXWIVRbYqnsZgQRs/edit#gid=0\"\",\"\"RWA!F:BZ\"\"),48,0))\"),\"\")","v":""},{"$f":"IFERROR(__xludf.DUMMYFUNCTION(\"iferror(VLOOKUP(B943,IMPORTRANGE(\"\"https://docs.google.com/spreadsheets/d/1c3Ia3eDo4sfDZb6ajW2WVML4MhoKXWIVRbYqnsZgQRs/edit#gid=0\"\",\"\"RWA!F:BZ\"\"),49,0))\"),\"\")","v":""}]
[null,null,null,{"$f":"IFERROR(__xludf.DUMMYFUNCTION(\"iferror(VLOOKUP(B944,IMPORTRANGE(\"\"https://docs.google.com/spreadsheets/d/1c3Ia3eDo4sfDZb6ajW2WVML4MhoKXWIVRbYqnsZgQRs/edit#gid=0\"\",\"\"RWA!F:BZ\"\"),44,0))\"),\"\")","v":""},{"$f":"IFERROR(__xludf.DUMMYFUNCTION(\"iferror(VLOOKUP(B944,IMPORTRANGE(\"\"https://docs.google.com/spreadsheets/d/1c3Ia3eDo4sfDZb6ajW2WVML4MhoKXWIVRbYqnsZgQRs/edit#gid=0\"\",\"\"RWA!F:BZ\"\"),48,0))\"),\"\")","v":""},{"$f":"IFERROR(__xludf.DUMMYFUNCTION(\"iferror(VLOOKUP(B944,IMPORTRANGE(\"\"https://docs.google.com/spreadsheets/d/1c3Ia3eDo4sfDZb6ajW2WVML4MhoKXWIVRbYqnsZgQRs/edit#gid=0\"\",\"\"RWA!F:BZ\"\"),49,0))\"),\"\")","v":""}]
[null,null,null,{"$f":"IFERROR(__xludf.DUMMYFUNCTION(\"iferror(VLOOKUP(B945,IMPORTRANGE(\"\"https://docs.google.com/spreadsheets/d/1c3Ia3eDo4sfDZb6ajW2WVML4MhoKXWIVRbYqnsZgQRs/edit#gid=0\"\",\"\"RWA!F:BZ\"\"),44,0))\"),\"\")","v":""},{"$f":"IFERROR(__xludf.DUMMYFUNCTION(\"iferror(VLOOKUP(B945,IMPORTRANGE(\"\"https://docs.google.com/spreadsheets/d/1c3Ia3eDo4sfDZb6ajW2WVML4MhoKXWIVRbYqnsZgQRs/edit#gid=0\"\",\"\"RWA!F:BZ\"\"),48,0))\"),\"\")","v":""},{"$f":"IFERROR(__xludf.DUMMYFUNCTION(\"iferror(VLOOKUP(B945,IMPORTRANGE(\"\"https://docs.google.com/spreadsheets/d/1c3Ia3eDo4sfDZb6ajW2WVML4MhoKXWIVRbYqnsZgQRs/edit#gid=0\"\",\"\"RWA!F:BZ\"\"),49,0))\"),\"\")","v":""}]
[null,null,null,{"$f":"IFERROR(__xludf.DUMMYFUNCTION(\"iferror(VLOOKUP(B946,IMPORTRANGE(\"\"https://docs.google.com/spreadsheets/d/1c3Ia3eDo4sfDZb6ajW2WVML4MhoKXWIVRbYqnsZgQRs/edit#gid=0\"\",\"\"RWA!F:BZ\"\"),44,0))\"),\"\")","v":""},{"$f":"IFERROR(__xludf.DUMMYFUNCTION(\"iferror(VLOOKUP(B946,IMPORTRANGE(\"\"https://docs.google.com/spreadsheets/d/1c3Ia3eDo4sfDZb6ajW2WVML4MhoKXWIVRbYqnsZgQRs/edit#gid=0\"\",\"\"RWA!F:BZ\"\"),48,0))\"),\"\")","v":""},{"$f":"IFERROR(__xludf.DUMMYFUNCTION(\"iferror(VLOOKUP(B946,IMPORTRANGE(\"\"https://docs.google.com/spreadsheets/d/1c3Ia3eDo4sfDZb6ajW2WVML4MhoKXWIVRbYqnsZgQRs/edit#gid=0\"\",\"\"RWA!F:BZ\"\"),49,0))\"),\"\")","v":""}]
[null,null,null,{"$f":"IFERROR(__xludf.DUMMYFUNCTION(\"iferror(VLOOKUP(B947,IMPORTRANGE(\"\"https://docs.google.com/spreadsheets/d/1c3Ia3eDo4sfDZb6ajW2WVML4MhoKXWIVRbYqnsZgQRs/edit#gid=0\"\",\"\"RWA!F:BZ\"\"),44,0))\"),\"\")","v":""},{"$f":"IFERROR(__xludf.DUMMYFUNCTION(\"iferror(VLOOKUP(B947,IMPORTRANGE(\"\"https://docs.google.com/spreadsheets/d/1c3Ia3eDo4sfDZb6ajW2WVML4MhoKXWIVRbYqnsZgQRs/edit#gid=0\"\",\"\"RWA!F:BZ\"\"),48,0))\"),\"\")","v":""},{"$f":"IFERROR(__xludf.DUMMYFUNCTION(\"iferror(VLOOKUP(B947,IMPORTRANGE(\"\"https://docs.google.com/spreadsheets/d/1c3Ia3eDo4sfDZb6ajW2WVML4MhoKXWIVRbYqnsZgQRs/edit#gid=0\"\",\"\"RWA!F:BZ\"\"),49,0))\"),\"\")","v":""}]
[null,null,null,{"$f":"IFERROR(__xludf.DUMMYFUNCTION(\"iferror(VLOOKUP(B948,IMPORTRANGE(\"\"https://docs.google.com/spreadsheets/d/1c3Ia3eDo4sfDZb6ajW2WVML4MhoKXWIVRbYqnsZgQRs/edit#gid=0\"\",\"\"RWA!F:BZ\"\"),44,0))\"),\"\")","v":""},{"$f":"IFERROR(__xludf.DUMMYFUNCTION(\"iferror(VLOOKUP(B948,IMPORTRANGE(\"\"https://docs.google.com/spreadsheets/d/1c3Ia3eDo4sfDZb6ajW2WVML4MhoKXWIVRbYqnsZgQRs/edit#gid=0\"\",\"\"RWA!F:BZ\"\"),48,0))\"),\"\")","v":""},{"$f":"IFERROR(__xludf.DUMMYFUNCTION(\"iferror(VLOOKUP(B948,IMPORTRANGE(\"\"https://docs.google.com/spreadsheets/d/1c3Ia3eDo4sfDZb6ajW2WVML4MhoKXWIVRbYqnsZgQRs/edit#gid=0\"\",\"\"RWA!F:BZ\"\"),49,0))\"),\"\")","v":""}]
[null,null,null,{"$f":"IFERROR(__xludf.DUMMYFUNCTION(\"iferror(VLOOKUP(B949,IMPORTRANGE(\"\"https://docs.google.com/spreadsheets/d/1c3Ia3eDo4sfDZb6ajW2WVML4MhoKXWIVRbYqnsZgQRs/edit#gid=0\"\",\"\"RWA!F:BZ\"\"),44,0))\"),\"\")","v":""},{"$f":"IFERROR(__xludf.DUMMYFUNCTION(\"iferror(VLOOKUP(B949,IMPORTRANGE(\"\"https://docs.google.com/spreadsheets/d/1c3Ia3eDo4sfDZb6ajW2WVML4MhoKXWIVRbYqnsZgQRs/edit#gid=0\"\",\"\"RWA!F:BZ\"\"),48,0))\"),\"\")","v":""},{"$f":"IFERROR(__xludf.DUMMYFUNCTION(\"iferror(VLOOKUP(B949,IMPORTRANGE(\"\"https://docs.google.com/spreadsheets/d/1c3Ia3eDo4sfDZb6ajW2WVML4MhoKXWIVRbYqnsZgQRs/edit#gid=0\"\",\"\"RWA!F:BZ\"\"),49,0))\"),\"\")","v":""}]
[null,null,null,{"$f":"IFERROR(__xludf.DUMMYFUNCTION(\"iferror(VLOOKUP(B950,IMPORTRANGE(\"\"https://docs.google.com/spreadsheets/d/1c3Ia3eDo4sfDZb6ajW2WVML4MhoKXWIVRbYqnsZgQRs/edit#gid=0\"\",\"\"RWA!F:BZ\"\"),44,0))\"),\"\")","v":""},{"$f":"IFERROR(__xludf.DUMMYFUNCTION(\"iferror(VLOOKUP(B950,IMPORTRANGE(\"\"https://docs.google.com/spreadsheets/d/1c3Ia3eDo4sfDZb6ajW2WVML4MhoKXWIVRbYqnsZgQRs/edit#gid=0\"\",\"\"RWA!F:BZ\"\"),48,0))\"),\"\")","v":""},{"$f":"IFERROR(__xludf.DUMMYFUNCTION(\"iferror(VLOOKUP(B950,IMPORTRANGE(\"\"https://docs.google.com/spreadsheets/d/1c3Ia3eDo4sfDZb6ajW2WVML4MhoKXWIVRbYqnsZgQRs/edit#gid=0\"\",\"\"RWA!F:BZ\"\"),49,0))\"),\"\")","v":""}]
[null,null,null,{"$f":"IFERROR(__xludf.DUMMYFUNCTION(\"iferror(VLOOKUP(B951,IMPORTRANGE(\"\"https://docs.google.com/spreadsheets/d/1c3Ia3eDo4sfDZb6ajW2WVML4MhoKXWIVRbYqnsZgQRs/edit#gid=0\"\",\"\"RWA!F:BZ\"\"),44,0))\"),\"\")","v":""},{"$f":"IFERROR(__xludf.DUMMYFUNCTION(\"iferror(VLOOKUP(B951,IMPORTRANGE(\"\"https://docs.google.com/spreadsheets/d/1c3Ia3eDo4sfDZb6ajW2WVML4MhoKXWIVRbYqnsZgQRs/edit#gid=0\"\",\"\"RWA!F:BZ\"\"),48,0))\"),\"\")","v":""},{"$f":"IFERROR(__xludf.DUMMYFUNCTION(\"iferror(VLOOKUP(B951,IMPORTRANGE(\"\"https://docs.google.com/spreadsheets/d/1c3Ia3eDo4sfDZb6ajW2WVML4MhoKXWIVRbYqnsZgQRs/edit#gid=0\"\",\"\"RWA!F:BZ\"\"),49,0))\"),\"\")","v":""}]
[null,null,null,{"$f":"IFERROR(__xludf.DUMMYFUNCTION(\"iferror(VLOOKUP(B952,IMPORTRANGE(\"\"https://docs.google.com/spreadsheets/d/1c3Ia3eDo4sfDZb6ajW2WVML4MhoKXWIVRbYqnsZgQRs/edit#gid=0\"\",\"\"RWA!F:BZ\"\"),44,0))\"),\"\")","v":""},{"$f":"IFERROR(__xludf.DUMMYFUNCTION(\"iferror(VLOOKUP(B952,IMPORTRANGE(\"\"https://docs.google.com/spreadsheets/d/1c3Ia3eDo4sfDZb6ajW2WVML4MhoKXWIVRbYqnsZgQRs/edit#gid=0\"\",\"\"RWA!F:BZ\"\"),48,0))\"),\"\")","v":""},{"$f":"IFERROR(__xludf.DUMMYFUNCTION(\"iferror(VLOOKUP(B952,IMPORTRANGE(\"\"https://docs.google.com/spreadsheets/d/1c3Ia3eDo4sfDZb6ajW2WVML4MhoKXWIVRbYqnsZgQRs/edit#gid=0\"\",\"\"RWA!F:BZ\"\"),49,0))\"),\"\")","v":""}]
[null,null,null,{"$f":"IFERROR(__xludf.DUMMYFUNCTION(\"iferror(VLOOKUP(B953,IMPORTRANGE(\"\"https://docs.google.com/spreadsheets/d/1c3Ia3eDo4sfDZb6ajW2WVML4MhoKXWIVRbYqnsZgQRs/edit#gid=0\"\",\"\"RWA!F:BZ\"\"),44,0))\"),\"\")","v":""},{"$f":"IFERROR(__xludf.DUMMYFUNCTION(\"iferror(VLOOKUP(B953,IMPORTRANGE(\"\"https://docs.google.com/spreadsheets/d/1c3Ia3eDo4sfDZb6ajW2WVML4MhoKXWIVRbYqnsZgQRs/edit#gid=0\"\",\"\"RWA!F:BZ\"\"),48,0))\"),\"\")","v":""},{"$f":"IFERROR(__xludf.DUMMYFUNCTION(\"iferror(VLOOKUP(B953,IMPORTRANGE(\"\"https://docs.google.com/spreadsheets/d/1c3Ia3eDo4sfDZb6ajW2WVML4MhoKXWIVRbYqnsZgQRs/edit#gid=0\"\",\"\"RWA!F:BZ\"\"),49,0))\"),\"\")","v":""}]
[null,null,null,{"$f":"IFERROR(__xludf.DUMMYFUNCTION(\"iferror(VLOOKUP(B954,IMPORTRANGE(\"\"https://docs.google.com/spreadsheets/d/1c3Ia3eDo4sfDZb6ajW2WVML4MhoKXWIVRbYqnsZgQRs/edit#gid=0\"\",\"\"RWA!F:BZ\"\"),44,0))\"),\"\")","v":""},{"$f":"IFERROR(__xludf.DUMMYFUNCTION(\"iferror(VLOOKUP(B954,IMPORTRANGE(\"\"https://docs.google.com/spreadsheets/d/1c3Ia3eDo4sfDZb6ajW2WVML4MhoKXWIVRbYqnsZgQRs/edit#gid=0\"\",\"\"RWA!F:BZ\"\"),48,0))\"),\"\")","v":""},{"$f":"IFERROR(__xludf.DUMMYFUNCTION(\"iferror(VLOOKUP(B954,IMPORTRANGE(\"\"https://docs.google.com/spreadsheets/d/1c3Ia3eDo4sfDZb6ajW2WVML4MhoKXWIVRbYqnsZgQRs/edit#gid=0\"\",\"\"RWA!F:BZ\"\"),49,0))\"),\"\")","v":""}]
[null,null,null,{"$f":"IFERROR(__xludf.DUMMYFUNCTION(\"iferror(VLOOKUP(B955,IMPORTRANGE(\"\"https://docs.google.com/spreadsheets/d/1c3Ia3eDo4sfDZb6ajW2WVML4MhoKXWIVRbYqnsZgQRs/edit#gid=0\"\",\"\"RWA!F:BZ\"\"),44,0))\"),\"\")","v":""},{"$f":"IFERROR(__xludf.DUMMYFUNCTION(\"iferror(VLOOKUP(B955,IMPORTRANGE(\"\"https://docs.google.com/spreadsheets/d/1c3Ia3eDo4sfDZb6ajW2WVML4MhoKXWIVRbYqnsZgQRs/edit#gid=0\"\",\"\"RWA!F:BZ\"\"),48,0))\"),\"\")","v":""},{"$f":"IFERROR(__xludf.DUMMYFUNCTION(\"iferror(VLOOKUP(B955,IMPORTRANGE(\"\"https://docs.google.com/spreadsheets/d/1c3Ia3eDo4sfDZb6ajW2WVML4MhoKXWIVRbYqnsZgQRs/edit#gid=0\"\",\"\"RWA!F:BZ\"\"),49,0))\"),\"\")","v":""}]
[null,null,null,{"$f":"IFERROR(__xludf.DUMMYFUNCTION(\"iferror(VLOOKUP(B956,IMPORTRANGE(\"\"https://docs.google.com/spreadsheets/d/1c3Ia3eDo4sfDZb6ajW2WVML4MhoKXWIVRbYqnsZgQRs/edit#gid=0\"\",\"\"RWA!F:BZ\"\"),44,0))\"),\"\")","v":""},{"$f":"IFERROR(__xludf.DUMMYFUNCTION(\"iferror(VLOOKUP(B956,IMPORTRANGE(\"\"https://docs.google.com/spreadsheets/d/1c3Ia3eDo4sfDZb6ajW2WVML4MhoKXWIVRbYqnsZgQRs/edit#gid=0\"\",\"\"RWA!F:BZ\"\"),48,0))\"),\"\")","v":""},{"$f":"IFERROR(__xludf.DUMMYFUNCTION(\"iferror(VLOOKUP(B956,IMPORTRANGE(\"\"https://docs.google.com/spreadsheets/d/1c3Ia3eDo4sfDZb6ajW2WVML4MhoKXWIVRbYqnsZgQRs/edit#gid=0\"\",\"\"RWA!F:BZ\"\"),49,0))\"),\"\")","v":""}]
[null,null,null,{"$f":"IFERROR(__xludf.DUMMYFUNCTION(\"iferror(VLOOKUP(B957,IMPORTRANGE(\"\"https://docs.google.com/spreadsheets/d/1c3Ia3eDo4sfDZb6ajW2WVML4MhoKXWIVRbYqnsZgQRs/edit#gid=0\"\",\"\"RWA!F:BZ\"\"),44,0))\"),\"\")","v":""},{"$f":"IFERROR(__xludf.DUMMYFUNCTION(\"iferror(VLOOKUP(B957,IMPORTRANGE(\"\"https://docs.google.com/spreadsheets/d/1c3Ia3eDo4sfDZb6ajW2WVML4MhoKXWIVRbYqnsZgQRs/edit#gid=0\"\",\"\"RWA!F:BZ\"\"),48,0))\"),\"\")","v":""},{"$f":"IFERROR(__xludf.DUMMYFUNCTION(\"iferror(VLOOKUP(B957,IMPORTRANGE(\"\"https://docs.google.com/spreadsheets/d/1c3Ia3eDo4sfDZb6ajW2WVML4MhoKXWIVRbYqnsZgQRs/edit#gid=0\"\",\"\"RWA!F:BZ\"\"),49,0))\"),\"\")","v":""}]
[null,null,null,{"$f":"IFERROR(__xludf.DUMMYFUNCTION(\"iferror(VLOOKUP(B958,IMPORTRANGE(\"\"https://docs.google.com/spreadsheets/d/1c3Ia3eDo4sfDZb6ajW2WVML4MhoKXWIVRbYqnsZgQRs/edit#gid=0\"\",\"\"RWA!F:BZ\"\"),44,0))\"),\"\")","v":""},{"$f":"IFERROR(__xludf.DUMMYFUNCTION(\"iferror(VLOOKUP(B958,IMPORTRANGE(\"\"https://docs.google.com/spreadsheets/d/1c3Ia3eDo4sfDZb6ajW2WVML4MhoKXWIVRbYqnsZgQRs/edit#gid=0\"\",\"\"RWA!F:BZ\"\"),48,0))\"),\"\")","v":""},{"$f":"IFERROR(__xludf.DUMMYFUNCTION(\"iferror(VLOOKUP(B958,IMPORTRANGE(\"\"https://docs.google.com/spreadsheets/d/1c3Ia3eDo4sfDZb6ajW2WVML4MhoKXWIVRbYqnsZgQRs/edit#gid=0\"\",\"\"RWA!F:BZ\"\"),49,0))\"),\"\")","v":""}]
[null,null,null,{"$f":"IFERROR(__xludf.DUMMYFUNCTION(\"iferror(VLOOKUP(B959,IMPORTRANGE(\"\"https://docs.google.com/spreadsheets/d/1c3Ia3eDo4sfDZb6ajW2WVML4MhoKXWIVRbYqnsZgQRs/edit#gid=0\"\",\"\"RWA!F:BZ\"\"),44,0))\"),\"\")","v":""},{"$f":"IFERROR(__xludf.DUMMYFUNCTION(\"iferror(VLOOKUP(B959,IMPORTRANGE(\"\"https://docs.google.com/spreadsheets/d/1c3Ia3eDo4sfDZb6ajW2WVML4MhoKXWIVRbYqnsZgQRs/edit#gid=0\"\",\"\"RWA!F:BZ\"\"),48,0))\"),\"\")","v":""},{"$f":"IFERROR(__xludf.DUMMYFUNCTION(\"iferror(VLOOKUP(B959,IMPORTRANGE(\"\"https://docs.google.com/spreadsheets/d/1c3Ia3eDo4sfDZb6ajW2WVML4MhoKXWIVRbYqnsZgQRs/edit#gid=0\"\",\"\"RWA!F:BZ\"\"),49,0))\"),\"\")","v":""}]
[null,null,null,{"$f":"IFERROR(__xludf.DUMMYFUNCTION(\"iferror(VLOOKUP(B960,IMPORTRANGE(\"\"https://docs.google.com/spreadsheets/d/1c3Ia3eDo4sfDZb6ajW2WVML4MhoKXWIVRbYqnsZgQRs/edit#gid=0\"\",\"\"RWA!F:BZ\"\"),44,0))\"),\"\")","v":""},{"$f":"IFERROR(__xludf.DUMMYFUNCTION(\"iferror(VLOOKUP(B960,IMPORTRANGE(\"\"https://docs.google.com/spreadsheets/d/1c3Ia3eDo4sfDZb6ajW2WVML4MhoKXWIVRbYqnsZgQRs/edit#gid=0\"\",\"\"RWA!F:BZ\"\"),48,0))\"),\"\")","v":""},{"$f":"IFERROR(__xludf.DUMMYFUNCTION(\"iferror(VLOOKUP(B960,IMPORTRANGE(\"\"https://docs.google.com/spreadsheets/d/1c3Ia3eDo4sfDZb6ajW2WVML4MhoKXWIVRbYqnsZgQRs/edit#gid=0\"\",\"\"RWA!F:BZ\"\"),49,0))\"),\"\")","v":""}]
[null,null,null,{"$f":"IFERROR(__xludf.DUMMYFUNCTION(\"iferror(VLOOKUP(B961,IMPORTRANGE(\"\"https://docs.google.com/spreadsheets/d/1c3Ia3eDo4sfDZb6ajW2WVML4MhoKXWIVRbYqnsZgQRs/edit#gid=0\"\",\"\"RWA!F:BZ\"\"),44,0))\"),\"\")","v":""},{"$f":"IFERROR(__xludf.DUMMYFUNCTION(\"iferror(VLOOKUP(B961,IMPORTRANGE(\"\"https://docs.google.com/spreadsheets/d/1c3Ia3eDo4sfDZb6ajW2WVML4MhoKXWIVRbYqnsZgQRs/edit#gid=0\"\",\"\"RWA!F:BZ\"\"),48,0))\"),\"\")","v":""},{"$f":"IFERROR(__xludf.DUMMYFUNCTION(\"iferror(VLOOKUP(B961,IMPORTRANGE(\"\"https://docs.google.com/spreadsheets/d/1c3Ia3eDo4sfDZb6ajW2WVML4MhoKXWIVRbYqnsZgQRs/edit#gid=0\"\",\"\"RWA!F:BZ\"\"),49,0))\"),\"\")","v":""}]
[null,null,null,{"$f":"IFERROR(__xludf.DUMMYFUNCTION(\"iferror(VLOOKUP(B962,IMPORTRANGE(\"\"https://docs.google.com/spreadsheets/d/1c3Ia3eDo4sfDZb6ajW2WVML4MhoKXWIVRbYqnsZgQRs/edit#gid=0\"\",\"\"RWA!F:BZ\"\"),44,0))\"),\"\")","v":""},{"$f":"IFERROR(__xludf.DUMMYFUNCTION(\"iferror(VLOOKUP(B962,IMPORTRANGE(\"\"https://docs.google.com/spreadsheets/d/1c3Ia3eDo4sfDZb6ajW2WVML4MhoKXWIVRbYqnsZgQRs/edit#gid=0\"\",\"\"RWA!F:BZ\"\"),48,0))\"),\"\")","v":""},{"$f":"IFERROR(__xludf.DUMMYFUNCTION(\"iferror(VLOOKUP(B962,IMPORTRANGE(\"\"https://docs.google.com/spreadsheets/d/1c3Ia3eDo4sfDZb6ajW2WVML4MhoKXWIVRbYqnsZgQRs/edit#gid=0\"\",\"\"RWA!F:BZ\"\"),49,0))\"),\"\")","v":""}]
[null,null,null,{"$f":"IFERROR(__xludf.DUMMYFUNCTION(\"iferror(VLOOKUP(B963,IMPORTRANGE(\"\"https://docs.google.com/spreadsheets/d/1c3Ia3eDo4sfDZb6ajW2WVML4MhoKXWIVRbYqnsZgQRs/edit#gid=0\"\",\"\"RWA!F:BZ\"\"),44,0))\"),\"\")","v":""},{"$f":"IFERROR(__xludf.DUMMYFUNCTION(\"iferror(VLOOKUP(B963,IMPORTRANGE(\"\"https://docs.google.com/spreadsheets/d/1c3Ia3eDo4sfDZb6ajW2WVML4MhoKXWIVRbYqnsZgQRs/edit#gid=0\"\",\"\"RWA!F:BZ\"\"),48,0))\"),\"\")","v":""},{"$f":"IFERROR(__xludf.DUMMYFUNCTION(\"iferror(VLOOKUP(B963,IMPORTRANGE(\"\"https://docs.google.com/spreadsheets/d/1c3Ia3eDo4sfDZb6ajW2WVML4MhoKXWIVRbYqnsZgQRs/edit#gid=0\"\",\"\"RWA!F:BZ\"\"),49,0))\"),\"\")","v":""}]
[null,null,null,{"$f":"IFERROR(__xludf.DUMMYFUNCTION(\"iferror(VLOOKUP(B964,IMPORTRANGE(\"\"https://docs.google.com/spreadsheets/d/1c3Ia3eDo4sfDZb6ajW2WVML4MhoKXWIVRbYqnsZgQRs/edit#gid=0\"\",\"\"RWA!F:BZ\"\"),44,0))\"),\"\")","v":""},{"$f":"IFERROR(__xludf.DUMMYFUNCTION(\"iferror(VLOOKUP(B964,IMPORTRANGE(\"\"https://docs.google.com/spreadsheets/d/1c3Ia3eDo4sfDZb6ajW2WVML4MhoKXWIVRbYqnsZgQRs/edit#gid=0\"\",\"\"RWA!F:BZ\"\"),48,0))\"),\"\")","v":""},{"$f":"IFERROR(__xludf.DUMMYFUNCTION(\"iferror(VLOOKUP(B964,IMPORTRANGE(\"\"https://docs.google.com/spreadsheets/d/1c3Ia3eDo4sfDZb6ajW2WVML4MhoKXWIVRbYqnsZgQRs/edit#gid=0\"\",\"\"RWA!F:BZ\"\"),49,0))\"),\"\")","v":""}]
[null,null,null,{"$f":"IFERROR(__xludf.DUMMYFUNCTION(\"iferror(VLOOKUP(B965,IMPORTRANGE(\"\"https://docs.google.com/spreadsheets/d/1c3Ia3eDo4sfDZb6ajW2WVML4MhoKXWIVRbYqnsZgQRs/edit#gid=0\"\",\"\"RWA!F:BZ\"\"),44,0))\"),\"\")","v":""},{"$f":"IFERROR(__xludf.DUMMYFUNCTION(\"iferror(VLOOKUP(B965,IMPORTRANGE(\"\"https://docs.google.com/spreadsheets/d/1c3Ia3eDo4sfDZb6ajW2WVML4MhoKXWIVRbYqnsZgQRs/edit#gid=0\"\",\"\"RWA!F:BZ\"\"),48,0))\"),\"\")","v":""},{"$f":"IFERROR(__xludf.DUMMYFUNCTION(\"iferror(VLOOKUP(B965,IMPORTRANGE(\"\"https://docs.google.com/spreadsheets/d/1c3Ia3eDo4sfDZb6ajW2WVML4MhoKXWIVRbYqnsZgQRs/edit#gid=0\"\",\"\"RWA!F:BZ\"\"),49,0))\"),\"\")","v":""}]
[null,null,null,{"$f":"IFERROR(__xludf.DUMMYFUNCTION(\"iferror(VLOOKUP(B966,IMPORTRANGE(\"\"https://docs.google.com/spreadsheets/d/1c3Ia3eDo4sfDZb6ajW2WVML4MhoKXWIVRbYqnsZgQRs/edit#gid=0\"\",\"\"RWA!F:BZ\"\"),44,0))\"),\"\")","v":""},{"$f":"IFERROR(__xludf.DUMMYFUNCTION(\"iferror(VLOOKUP(B966,IMPORTRANGE(\"\"https://docs.google.com/spreadsheets/d/1c3Ia3eDo4sfDZb6ajW2WVML4MhoKXWIVRbYqnsZgQRs/edit#gid=0\"\",\"\"RWA!F:BZ\"\"),48,0))\"),\"\")","v":""},{"$f":"IFERROR(__xludf.DUMMYFUNCTION(\"iferror(VLOOKUP(B966,IMPORTRANGE(\"\"https://docs.google.com/spreadsheets/d/1c3Ia3eDo4sfDZb6ajW2WVML4MhoKXWIVRbYqnsZgQRs/edit#gid=0\"\",\"\"RWA!F:BZ\"\"),49,0))\"),\"\")","v":""}]
[null,null,null,{"$f":"IFERROR(__xludf.DUMMYFUNCTION(\"iferror(VLOOKUP(B967,IMPORTRANGE(\"\"https://docs.google.com/spreadsheets/d/1c3Ia3eDo4sfDZb6ajW2WVML4MhoKXWIVRbYqnsZgQRs/edit#gid=0\"\",\"\"RWA!F:BZ\"\"),44,0))\"),\"\")","v":""},{"$f":"IFERROR(__xludf.DUMMYFUNCTION(\"iferror(VLOOKUP(B967,IMPORTRANGE(\"\"https://docs.google.com/spreadsheets/d/1c3Ia3eDo4sfDZb6ajW2WVML4MhoKXWIVRbYqnsZgQRs/edit#gid=0\"\",\"\"RWA!F:BZ\"\"),48,0))\"),\"\")","v":""},{"$f":"IFERROR(__xludf.DUMMYFUNCTION(\"iferror(VLOOKUP(B967,IMPORTRANGE(\"\"https://docs.google.com/spreadsheets/d/1c3Ia3eDo4sfDZb6ajW2WVML4MhoKXWIVRbYqnsZgQRs/edit#gid=0\"\",\"\"RWA!F:BZ\"\"),49,0))\"),\"\")","v":""}]
[null,null,null,{"$f":"IFERROR(__xludf.DUMMYFUNCTION(\"iferror(VLOOKUP(B968,IMPORTRANGE(\"\"https://docs.google.com/spreadsheets/d/1c3Ia3eDo4sfDZb6ajW2WVML4MhoKXWIVRbYqnsZgQRs/edit#gid=0\"\",\"\"RWA!F:BZ\"\"),44,0))\"),\"\")","v":""},{"$f":"IFERROR(__xludf.DUMMYFUNCTION(\"iferror(VLOOKUP(B968,IMPORTRANGE(\"\"https://docs.google.com/spreadsheets/d/1c3Ia3eDo4sfDZb6ajW2WVML4MhoKXWIVRbYqnsZgQRs/edit#gid=0\"\",\"\"RWA!F:BZ\"\"),48,0))\"),\"\")","v":""},{"$f":"IFERROR(__xludf.DUMMYFUNCTION(\"iferror(VLOOKUP(B968,IMPORTRANGE(\"\"https://docs.google.com/spreadsheets/d/1c3Ia3eDo4sfDZb6ajW2WVML4MhoKXWIVRbYqnsZgQRs/edit#gid=0\"\",\"\"RWA!F:BZ\"\"),49,0))\"),\"\")","v":""}]
[null,null,null,{"$f":"IFERROR(__xludf.DUMMYFUNCTION(\"iferror(VLOOKUP(B969,IMPORTRANGE(\"\"https://docs.google.com/spreadsheets/d/1c3Ia3eDo4sfDZb6ajW2WVML4MhoKXWIVRbYqnsZgQRs/edit#gid=0\"\",\"\"RWA!F:BZ\"\"),44,0))\"),\"\")","v":""},{"$f":"IFERROR(__xludf.DUMMYFUNCTION(\"iferror(VLOOKUP(B969,IMPORTRANGE(\"\"https://docs.google.com/spreadsheets/d/1c3Ia3eDo4sfDZb6ajW2WVML4MhoKXWIVRbYqnsZgQRs/edit#gid=0\"\",\"\"RWA!F:BZ\"\"),48,0))\"),\"\")","v":""},{"$f":"IFERROR(__xludf.DUMMYFUNCTION(\"iferror(VLOOKUP(B969,IMPORTRANGE(\"\"https://docs.google.com/spreadsheets/d/1c3Ia3eDo4sfDZb6ajW2WVML4MhoKXWIVRbYqnsZgQRs/edit#gid=0\"\",\"\"RWA!F:BZ\"\"),49,0))\"),\"\")","v":""}]
[null,null,null,{"$f":"IFERROR(__xludf.DUMMYFUNCTION(\"iferror(VLOOKUP(B970,IMPORTRANGE(\"\"https://docs.google.com/spreadsheets/d/1c3Ia3eDo4sfDZb6ajW2WVML4MhoKXWIVRbYqnsZgQRs/edit#gid=0\"\",\"\"RWA!F:BZ\"\"),44,0))\"),\"\")","v":""},{"$f":"IFERROR(__xludf.DUMMYFUNCTION(\"iferror(VLOOKUP(B970,IMPORTRANGE(\"\"https://docs.google.com/spreadsheets/d/1c3Ia3eDo4sfDZb6ajW2WVML4MhoKXWIVRbYqnsZgQRs/edit#gid=0\"\",\"\"RWA!F:BZ\"\"),48,0))\"),\"\")","v":""},{"$f":"IFERROR(__xludf.DUMMYFUNCTION(\"iferror(VLOOKUP(B970,IMPORTRANGE(\"\"https://docs.google.com/spreadsheets/d/1c3Ia3eDo4sfDZb6ajW2WVML4MhoKXWIVRbYqnsZgQRs/edit#gid=0\"\",\"\"RWA!F:BZ\"\"),49,0))\"),\"\")","v":""}]
[null,null,null,{"$f":"IFERROR(__xludf.DUMMYFUNCTION(\"iferror(VLOOKUP(B971,IMPORTRANGE(\"\"https://docs.google.com/spreadsheets/d/1c3Ia3eDo4sfDZb6ajW2WVML4MhoKXWIVRbYqnsZgQRs/edit#gid=0\"\",\"\"RWA!F:BZ\"\"),44,0))\"),\"\")","v":""},{"$f":"IFERROR(__xludf.DUMMYFUNCTION(\"iferror(VLOOKUP(B971,IMPORTRANGE(\"\"https://docs.google.com/spreadsheets/d/1c3Ia3eDo4sfDZb6ajW2WVML4MhoKXWIVRbYqnsZgQRs/edit#gid=0\"\",\"\"RWA!F:BZ\"\"),48,0))\"),\"\")","v":""},{"$f":"IFERROR(__xludf.DUMMYFUNCTION(\"iferror(VLOOKUP(B971,IMPORTRANGE(\"\"https://docs.google.com/spreadsheets/d/1c3Ia3eDo4sfDZb6ajW2WVML4MhoKXWIVRbYqnsZgQRs/edit#gid=0\"\",\"\"RWA!F:BZ\"\"),49,0))\"),\"\")","v":""}]
[null,null,null,{"$f":"IFERROR(__xludf.DUMMYFUNCTION(\"iferror(VLOOKUP(B972,IMPORTRANGE(\"\"https://docs.google.com/spreadsheets/d/1c3Ia3eDo4sfDZb6ajW2WVML4MhoKXWIVRbYqnsZgQRs/edit#gid=0\"\",\"\"RWA!F:BZ\"\"),44,0))\"),\"\")","v":""},{"$f":"IFERROR(__xludf.DUMMYFUNCTION(\"iferror(VLOOKUP(B972,IMPORTRANGE(\"\"https://docs.google.com/spreadsheets/d/1c3Ia3eDo4sfDZb6ajW2WVML4MhoKXWIVRbYqnsZgQRs/edit#gid=0\"\",\"\"RWA!F:BZ\"\"),48,0))\"),\"\")","v":""},{"$f":"IFERROR(__xludf.DUMMYFUNCTION(\"iferror(VLOOKUP(B972,IMPORTRANGE(\"\"https://docs.google.com/spreadsheets/d/1c3Ia3eDo4sfDZb6ajW2WVML4MhoKXWIVRbYqnsZgQRs/edit#gid=0\"\",\"\"RWA!F:BZ\"\"),49,0))\"),\"\")","v":""}]
[null,null,null,{"$f":"IFERROR(__xludf.DUMMYFUNCTION(\"iferror(VLOOKUP(B973,IMPORTRANGE(\"\"https://docs.google.com/spreadsheets/d/1c3Ia3eDo4sfDZb6ajW2WVML4MhoKXWIVRbYqnsZgQRs/edit#gid=0\"\",\"\"RWA!F:BZ\"\"),44,0))\"),\"\")","v":""},{"$f":"IFERROR(__xludf.DUMMYFUNCTION(\"iferror(VLOOKUP(B973,IMPORTRANGE(\"\"https://docs.google.com/spreadsheets/d/1c3Ia3eDo4sfDZb6ajW2WVML4MhoKXWIVRbYqnsZgQRs/edit#gid=0\"\",\"\"RWA!F:BZ\"\"),48,0))\"),\"\")","v":""},{"$f":"IFERROR(__xludf.DUMMYFUNCTION(\"iferror(VLOOKUP(B973,IMPORTRANGE(\"\"https://docs.google.com/spreadsheets/d/1c3Ia3eDo4sfDZb6ajW2WVML4MhoKXWIVRbYqnsZgQRs/edit#gid=0\"\",\"\"RWA!F:BZ\"\"),49,0))\"),\"\")","v":""}]
[null,null,null,{"$f":"IFERROR(__xludf.DUMMYFUNCTION(\"iferror(VLOOKUP(B974,IMPORTRANGE(\"\"https://docs.google.com/spreadsheets/d/1c3Ia3eDo4sfDZb6ajW2WVML4MhoKXWIVRbYqnsZgQRs/edit#gid=0\"\",\"\"RWA!F:BZ\"\"),44,0))\"),\"\")","v":""},{"$f":"IFERROR(__xludf.DUMMYFUNCTION(\"iferror(VLOOKUP(B974,IMPORTRANGE(\"\"https://docs.google.com/spreadsheets/d/1c3Ia3eDo4sfDZb6ajW2WVML4MhoKXWIVRbYqnsZgQRs/edit#gid=0\"\",\"\"RWA!F:BZ\"\"),48,0))\"),\"\")","v":""},{"$f":"IFERROR(__xludf.DUMMYFUNCTION(\"iferror(VLOOKUP(B974,IMPORTRANGE(\"\"https://docs.google.com/spreadsheets/d/1c3Ia3eDo4sfDZb6ajW2WVML4MhoKXWIVRbYqnsZgQRs/edit#gid=0\"\",\"\"RWA!F:BZ\"\"),49,0))\"),\"\")","v":""}]
[null,null,null,{"$f":"IFERROR(__xludf.DUMMYFUNCTION(\"iferror(VLOOKUP(B975,IMPORTRANGE(\"\"https://docs.google.com/spreadsheets/d/1c3Ia3eDo4sfDZb6ajW2WVML4MhoKXWIVRbYqnsZgQRs/edit#gid=0\"\",\"\"RWA!F:BZ\"\"),44,0))\"),\"\")","v":""},{"$f":"IFERROR(__xludf.DUMMYFUNCTION(\"iferror(VLOOKUP(B975,IMPORTRANGE(\"\"https://docs.google.com/spreadsheets/d/1c3Ia3eDo4sfDZb6ajW2WVML4MhoKXWIVRbYqnsZgQRs/edit#gid=0\"\",\"\"RWA!F:BZ\"\"),48,0))\"),\"\")","v":""},{"$f":"IFERROR(__xludf.DUMMYFUNCTION(\"iferror(VLOOKUP(B975,IMPORTRANGE(\"\"https://docs.google.com/spreadsheets/d/1c3Ia3eDo4sfDZb6ajW2WVML4MhoKXWIVRbYqnsZgQRs/edit#gid=0\"\",\"\"RWA!F:BZ\"\"),49,0))\"),\"\")","v":""}]
[null,null,null,{"$f":"IFERROR(__xludf.DUMMYFUNCTION(\"iferror(VLOOKUP(B976,IMPORTRANGE(\"\"https://docs.google.com/spreadsheets/d/1c3Ia3eDo4sfDZb6ajW2WVML4MhoKXWIVRbYqnsZgQRs/edit#gid=0\"\",\"\"RWA!F:BZ\"\"),44,0))\"),\"\")","v":""},{"$f":"IFERROR(__xludf.DUMMYFUNCTION(\"iferror(VLOOKUP(B976,IMPORTRANGE(\"\"https://docs.google.com/spreadsheets/d/1c3Ia3eDo4sfDZb6ajW2WVML4MhoKXWIVRbYqnsZgQRs/edit#gid=0\"\",\"\"RWA!F:BZ\"\"),48,0))\"),\"\")","v":""},{"$f":"IFERROR(__xludf.DUMMYFUNCTION(\"iferror(VLOOKUP(B976,IMPORTRANGE(\"\"https://docs.google.com/spreadsheets/d/1c3Ia3eDo4sfDZb6ajW2WVML4MhoKXWIVRbYqnsZgQRs/edit#gid=0\"\",\"\"RWA!F:BZ\"\"),49,0))\"),\"\")","v":""}]
[null,null,null,{"$f":"IFERROR(__xludf.DUMMYFUNCTION(\"iferror(VLOOKUP(B977,IMPORTRANGE(\"\"https://docs.google.com/spreadsheets/d/1c3Ia3eDo4sfDZb6ajW2WVML4MhoKXWIVRbYqnsZgQRs/edit#gid=0\"\",\"\"RWA!F:BZ\"\"),44,0))\"),\"\")","v":""},{"$f":"IFERROR(__xludf.DUMMYFUNCTION(\"iferror(VLOOKUP(B977,IMPORTRANGE(\"\"https://docs.google.com/spreadsheets/d/1c3Ia3eDo4sfDZb6ajW2WVML4MhoKXWIVRbYqnsZgQRs/edit#gid=0\"\",\"\"RWA!F:BZ\"\"),48,0))\"),\"\")","v":""},{"$f":"IFERROR(__xludf.DUMMYFUNCTION(\"iferror(VLOOKUP(B977,IMPORTRANGE(\"\"https://docs.google.com/spreadsheets/d/1c3Ia3eDo4sfDZb6ajW2WVML4MhoKXWIVRbYqnsZgQRs/edit#gid=0\"\",\"\"RWA!F:BZ\"\"),49,0))\"),\"\")","v":""}]
[null,null,null,{"$f":"IFERROR(__xludf.DUMMYFUNCTION(\"iferror(VLOOKUP(B978,IMPORTRANGE(\"\"https://docs.google.com/spreadsheets/d/1c3Ia3eDo4sfDZb6ajW2WVML4MhoKXWIVRbYqnsZgQRs/edit#gid=0\"\",\"\"RWA!F:BZ\"\"),44,0))\"),\"\")","v":""},{"$f":"IFERROR(__xludf.DUMMYFUNCTION(\"iferror(VLOOKUP(B978,IMPORTRANGE(\"\"https://docs.google.com/spreadsheets/d/1c3Ia3eDo4sfDZb6ajW2WVML4MhoKXWIVRbYqnsZgQRs/edit#gid=0\"\",\"\"RWA!F:BZ\"\"),48,0))\"),\"\")","v":""},{"$f":"IFERROR(__xludf.DUMMYFUNCTION(\"iferror(VLOOKUP(B978,IMPORTRANGE(\"\"https://docs.google.com/spreadsheets/d/1c3Ia3eDo4sfDZb6ajW2WVML4MhoKXWIVRbYqnsZgQRs/edit#gid=0\"\",\"\"RWA!F:BZ\"\"),49,0))\"),\"\")","v":""}]
[null,null,null,{"$f":"IFERROR(__xludf.DUMMYFUNCTION(\"iferror(VLOOKUP(B979,IMPORTRANGE(\"\"https://docs.google.com/spreadsheets/d/1c3Ia3eDo4sfDZb6ajW2WVML4MhoKXWIVRbYqnsZgQRs/edit#gid=0\"\",\"\"RWA!F:BZ\"\"),44,0))\"),\"\")","v":""},{"$f":"IFERROR(__xludf.DUMMYFUNCTION(\"iferror(VLOOKUP(B979,IMPORTRANGE(\"\"https://docs.google.com/spreadsheets/d/1c3Ia3eDo4sfDZb6ajW2WVML4MhoKXWIVRbYqnsZgQRs/edit#gid=0\"\",\"\"RWA!F:BZ\"\"),48,0))\"),\"\")","v":""},{"$f":"IFERROR(__xludf.DUMMYFUNCTION(\"iferror(VLOOKUP(B979,IMPORTRANGE(\"\"https://docs.google.com/spreadsheets/d/1c3Ia3eDo4sfDZb6ajW2WVML4MhoKXWIVRbYqnsZgQRs/edit#gid=0\"\",\"\"RWA!F:BZ\"\"),49,0))\"),\"\")","v":""}]
[null,null,null,{"$f":"IFERROR(__xludf.DUMMYFUNCTION(\"iferror(VLOOKUP(B980,IMPORTRANGE(\"\"https://docs.google.com/spreadsheets/d/1c3Ia3eDo4sfDZb6ajW2WVML4MhoKXWIVRbYqnsZgQRs/edit#gid=0\"\",\"\"RWA!F:BZ\"\"),44,0))\"),\"\")","v":""},{"$f":"IFERROR(__xludf.DUMMYFUNCTION(\"iferror(VLOOKUP(B980,IMPORTRANGE(\"\"https://docs.google.com/spreadsheets/d/1c3Ia3eDo4sfDZb6ajW2WVML4MhoKXWIVRbYqnsZgQRs/edit#gid=0\"\",\"\"RWA!F:BZ\"\"),48,0))\"),\"\")","v":""},{"$f":"IFERROR(__xludf.DUMMYFUNCTION(\"iferror(VLOOKUP(B980,IMPORTRANGE(\"\"https://docs.google.com/spreadsheets/d/1c3Ia3eDo4sfDZb6ajW2WVML4MhoKXWIVRbYqnsZgQRs/edit#gid=0\"\",\"\"RWA!F:BZ\"\"),49,0))\"),\"\")","v":""}]
[null,null,null,{"$f":"IFERROR(__xludf.DUMMYFUNCTION(\"iferror(VLOOKUP(B981,IMPORTRANGE(\"\"https://docs.google.com/spreadsheets/d/1c3Ia3eDo4sfDZb6ajW2WVML4MhoKXWIVRbYqnsZgQRs/edit#gid=0\"\",\"\"RWA!F:BZ\"\"),44,0))\"),\"\")","v":""},{"$f":"IFERROR(__xludf.DUMMYFUNCTION(\"iferror(VLOOKUP(B981,IMPORTRANGE(\"\"https://docs.google.com/spreadsheets/d/1c3Ia3eDo4sfDZb6ajW2WVML4MhoKXWIVRbYqnsZgQRs/edit#gid=0\"\",\"\"RWA!F:BZ\"\"),48,0))\"),\"\")","v":""},{"$f":"IFERROR(__xludf.DUMMYFUNCTION(\"iferror(VLOOKUP(B981,IMPORTRANGE(\"\"https://docs.google.com/spreadsheets/d/1c3Ia3eDo4sfDZb6ajW2WVML4MhoKXWIVRbYqnsZgQRs/edit#gid=0\"\",\"\"RWA!F:BZ\"\"),49,0))\"),\"\")","v":""}]
[null,null,null,{"$f":"IFERROR(__xludf.DUMMYFUNCTION(\"iferror(VLOOKUP(B982,IMPORTRANGE(\"\"https://docs.google.com/spreadsheets/d/1c3Ia3eDo4sfDZb6ajW2WVML4MhoKXWIVRbYqnsZgQRs/edit#gid=0\"\",\"\"RWA!F:BZ\"\"),44,0))\"),\"\")","v":""},{"$f":"IFERROR(__xludf.DUMMYFUNCTION(\"iferror(VLOOKUP(B982,IMPORTRANGE(\"\"https://docs.google.com/spreadsheets/d/1c3Ia3eDo4sfDZb6ajW2WVML4MhoKXWIVRbYqnsZgQRs/edit#gid=0\"\",\"\"RWA!F:BZ\"\"),48,0))\"),\"\")","v":""},{"$f":"IFERROR(__xludf.DUMMYFUNCTION(\"iferror(VLOOKUP(B982,IMPORTRANGE(\"\"https://docs.google.com/spreadsheets/d/1c3Ia3eDo4sfDZb6ajW2WVML4MhoKXWIVRbYqnsZgQRs/edit#gid=0\"\",\"\"RWA!F:BZ\"\"),49,0))\"),\"\")","v":""}]
[null,null,null,{"$f":"IFERROR(__xludf.DUMMYFUNCTION(\"iferror(VLOOKUP(B983,IMPORTRANGE(\"\"https://docs.google.com/spreadsheets/d/1c3Ia3eDo4sfDZb6ajW2WVML4MhoKXWIVRbYqnsZgQRs/edit#gid=0\"\",\"\"RWA!F:BZ\"\"),44,0))\"),\"\")","v":""},{"$f":"IFERROR(__xludf.DUMMYFUNCTION(\"iferror(VLOOKUP(B983,IMPORTRANGE(\"\"https://docs.google.com/spreadsheets/d/1c3Ia3eDo4sfDZb6ajW2WVML4MhoKXWIVRbYqnsZgQRs/edit#gid=0\"\",\"\"RWA!F:BZ\"\"),48,0))\"),\"\")","v":""},{"$f":"IFERROR(__xludf.DUMMYFUNCTION(\"iferror(VLOOKUP(B983,IMPORTRANGE(\"\"https://docs.google.com/spreadsheets/d/1c3Ia3eDo4sfDZb6ajW2WVML4MhoKXWIVRbYqnsZgQRs/edit#gid=0\"\",\"\"RWA!F:BZ\"\"),49,0))\"),\"\")","v":""}]
[null,null,null,{"$f":"IFERROR(__xludf.DUMMYFUNCTION(\"iferror(VLOOKUP(B984,IMPORTRANGE(\"\"https://docs.google.com/spreadsheets/d/1c3Ia3eDo4sfDZb6ajW2WVML4MhoKXWIVRbYqnsZgQRs/edit#gid=0\"\",\"\"RWA!F:BZ\"\"),44,0))\"),\"\")","v":""},{"$f":"IFERROR(__xludf.DUMMYFUNCTION(\"iferror(VLOOKUP(B984,IMPORTRANGE(\"\"https://docs.google.com/spreadsheets/d/1c3Ia3eDo4sfDZb6ajW2WVML4MhoKXWIVRbYqnsZgQRs/edit#gid=0\"\",\"\"RWA!F:BZ\"\"),48,0))\"),\"\")","v":""},{"$f":"IFERROR(__xludf.DUMMYFUNCTION(\"iferror(VLOOKUP(B984,IMPORTRANGE(\"\"https://docs.google.com/spreadsheets/d/1c3Ia3eDo4sfDZb6ajW2WVML4MhoKXWIVRbYqnsZgQRs/edit#gid=0\"\",\"\"RWA!F:BZ\"\"),49,0))\"),\"\")","v":""}]
[null,null,null,{"$f":"IFERROR(__xludf.DUMMYFUNCTION(\"iferror(VLOOKUP(B985,IMPORTRANGE(\"\"https://docs.google.com/spreadsheets/d/1c3Ia3eDo4sfDZb6ajW2WVML4MhoKXWIVRbYqnsZgQRs/edit#gid=0\"\",\"\"RWA!F:BZ\"\"),44,0))\"),\"\")","v":""},{"$f":"IFERROR(__xludf.DUMMYFUNCTION(\"iferror(VLOOKUP(B985,IMPORTRANGE(\"\"https://docs.google.com/spreadsheets/d/1c3Ia3eDo4sfDZb6ajW2WVML4MhoKXWIVRbYqnsZgQRs/edit#gid=0\"\",\"\"RWA!F:BZ\"\"),48,0))\"),\"\")","v":""},{"$f":"IFERROR(__xludf.DUMMYFUNCTION(\"iferror(VLOOKUP(B985,IMPORTRANGE(\"\"https://docs.google.com/spreadsheets/d/1c3Ia3eDo4sfDZb6ajW2WVML4MhoKXWIVRbYqnsZgQRs/edit#gid=0\"\",\"\"RWA!F:BZ\"\"),49,0))\"),\"\")","v":""}]
[null,null,null,{"$f":"IFERROR(__xludf.DUMMYFUNCTION(\"iferror(VLOOKUP(B986,IMPORTRANGE(\"\"https://docs.google.com/spreadsheets/d/1c3Ia3eDo4sfDZb6ajW2WVML4MhoKXWIVRbYqnsZgQRs/edit#gid=0\"\",\"\"RWA!F:BZ\"\"),44,0))\"),\"\")","v":""},{"$f":"IFERROR(__xludf.DUMMYFUNCTION(\"iferror(VLOOKUP(B986,IMPORTRANGE(\"\"https://docs.google.com/spreadsheets/d/1c3Ia3eDo4sfDZb6ajW2WVML4MhoKXWIVRbYqnsZgQRs/edit#gid=0\"\",\"\"RWA!F:BZ\"\"),48,0))\"),\"\")","v":""},{"$f":"IFERROR(__xludf.DUMMYFUNCTION(\"iferror(VLOOKUP(B986,IMPORTRANGE(\"\"https://docs.google.com/spreadsheets/d/1c3Ia3eDo4sfDZb6ajW2WVML4MhoKXWIVRbYqnsZgQRs/edit#gid=0\"\",\"\"RWA!F:BZ\"\"),49,0))\"),\"\")","v":""}]
[null,null,null,{"$f":"IFERROR(__xludf.DUMMYFUNCTION(\"iferror(VLOOKUP(B987,IMPORTRANGE(\"\"https://docs.google.com/spreadsheets/d/1c3Ia3eDo4sfDZb6ajW2WVML4MhoKXWIVRbYqnsZgQRs/edit#gid=0\"\",\"\"RWA!F:BZ\"\"),44,0))\"),\"\")","v":""},{"$f":"IFERROR(__xludf.DUMMYFUNCTION(\"iferror(VLOOKUP(B987,IMPORTRANGE(\"\"https://docs.google.com/spreadsheets/d/1c3Ia3eDo4sfDZb6ajW2WVML4MhoKXWIVRbYqnsZgQRs/edit#gid=0\"\",\"\"RWA!F:BZ\"\"),48,0))\"),\"\")","v":""},{"$f":"IFERROR(__xludf.DUMMYFUNCTION(\"iferror(VLOOKUP(B987,IMPORTRANGE(\"\"https://docs.google.com/spreadsheets/d/1c3Ia3eDo4sfDZb6ajW2WVML4MhoKXWIVRbYqnsZgQRs/edit#gid=0\"\",\"\"RWA!F:BZ\"\"),49,0))\"),\"\")","v":""}]
[null,null,null,{"$f":"IFERROR(__xludf.DUMMYFUNCTION(\"iferror(VLOOKUP(B988,IMPORTRANGE(\"\"https://docs.google.com/spreadsheets/d/1c3Ia3eDo4sfDZb6ajW2WVML4MhoKXWIVRbYqnsZgQRs/edit#gid=0\"\",\"\"RWA!F:BZ\"\"),44,0))\"),\"\")","v":""},{"$f":"IFERROR(__xludf.DUMMYFUNCTION(\"iferror(VLOOKUP(B988,IMPORTRANGE(\"\"https://docs.google.com/spreadsheets/d/1c3Ia3eDo4sfDZb6ajW2WVML4MhoKXWIVRbYqnsZgQRs/edit#gid=0\"\",\"\"RWA!F:BZ\"\"),48,0))\"),\"\")","v":""},{"$f":"IFERROR(__xludf.DUMMYFUNCTION(\"iferror(VLOOKUP(B988,IMPORTRANGE(\"\"https://docs.google.com/spreadsheets/d/1c3Ia3eDo4sfDZb6ajW2WVML4MhoKXWIVRbYqnsZgQRs/edit#gid=0\"\",\"\"RWA!F:BZ\"\"),49,0))\"),\"\")","v":""}]
[null,null,null,{"$f":"IFERROR(__xludf.DUMMYFUNCTION(\"iferror(VLOOKUP(B989,IMPORTRANGE(\"\"https://docs.google.com/spreadsheets/d/1c3Ia3eDo4sfDZb6ajW2WVML4MhoKXWIVRbYqnsZgQRs/edit#gid=0\"\",\"\"RWA!F:BZ\"\"),44,0))\"),\"\")","v":""},{"$f":"IFERROR(__xludf.DUMMYFUNCTION(\"iferror(VLOOKUP(B989,IMPORTRANGE(\"\"https://docs.google.com/spreadsheets/d/1c3Ia3eDo4sfDZb6ajW2WVML4MhoKXWIVRbYqnsZgQRs/edit#gid=0\"\",\"\"RWA!F:BZ\"\"),48,0))\"),\"\")","v":""},{"$f":"IFERROR(__xludf.DUMMYFUNCTION(\"iferror(VLOOKUP(B989,IMPORTRANGE(\"\"https://docs.google.com/spreadsheets/d/1c3Ia3eDo4sfDZb6ajW2WVML4MhoKXWIVRbYqnsZgQRs/edit#gid=0\"\",\"\"RWA!F:BZ\"\"),49,0))\"),\"\")","v":""}]
[null,null,null,{"$f":"IFERROR(__xludf.DUMMYFUNCTION(\"iferror(VLOOKUP(B990,IMPORTRANGE(\"\"https://docs.google.com/spreadsheets/d/1c3Ia3eDo4sfDZb6ajW2WVML4MhoKXWIVRbYqnsZgQRs/edit#gid=0\"\",\"\"RWA!F:BZ\"\"),44,0))\"),\"\")","v":""},{"$f":"IFERROR(__xludf.DUMMYFUNCTION(\"iferror(VLOOKUP(B990,IMPORTRANGE(\"\"https://docs.google.com/spreadsheets/d/1c3Ia3eDo4sfDZb6ajW2WVML4MhoKXWIVRbYqnsZgQRs/edit#gid=0\"\",\"\"RWA!F:BZ\"\"),48,0))\"),\"\")","v":""},{"$f":"IFERROR(__xludf.DUMMYFUNCTION(\"iferror(VLOOKUP(B990,IMPORTRANGE(\"\"https://docs.google.com/spreadsheets/d/1c3Ia3eDo4sfDZb6ajW2WVML4MhoKXWIVRbYqnsZgQRs/edit#gid=0\"\",\"\"RWA!F:BZ\"\"),49,0))\"),\"\")","v":""}]
[null,null,null,{"$f":"IFERROR(__xludf.DUMMYFUNCTION(\"iferror(VLOOKUP(B991,IMPORTRANGE(\"\"https://docs.google.com/spreadsheets/d/1c3Ia3eDo4sfDZb6ajW2WVML4MhoKXWIVRbYqnsZgQRs/edit#gid=0\"\",\"\"RWA!F:BZ\"\"),44,0))\"),\"\")","v":""},{"$f":"IFERROR(__xludf.DUMMYFUNCTION(\"iferror(VLOOKUP(B991,IMPORTRANGE(\"\"https://docs.google.com/spreadsheets/d/1c3Ia3eDo4sfDZb6ajW2WVML4MhoKXWIVRbYqnsZgQRs/edit#gid=0\"\",\"\"RWA!F:BZ\"\"),48,0))\"),\"\")","v":""},{"$f":"IFERROR(__xludf.DUMMYFUNCTION(\"iferror(VLOOKUP(B991,IMPORTRANGE(\"\"https://docs.google.com/spreadsheets/d/1c3Ia3eDo4sfDZb6ajW2WVML4MhoKXWIVRbYqnsZgQRs/edit#gid=0\"\",\"\"RWA!F:BZ\"\"),49,0))\"),\"\")","v":""}]
[null,null,null,{"$f":"IFERROR(__xludf.DUMMYFUNCTION(\"iferror(VLOOKUP(B992,IMPORTRANGE(\"\"https://docs.google.com/spreadsheets/d/1c3Ia3eDo4sfDZb6ajW2WVML4MhoKXWIVRbYqnsZgQRs/edit#gid=0\"\",\"\"RWA!F:BZ\"\"),44,0))\"),\"\")","v":""},{"$f":"IFERROR(__xludf.DUMMYFUNCTION(\"iferror(VLOOKUP(B992,IMPORTRANGE(\"\"https://docs.google.com/spreadsheets/d/1c3Ia3eDo4sfDZb6ajW2WVML4MhoKXWIVRbYqnsZgQRs/edit#gid=0\"\",\"\"RWA!F:BZ\"\"),48,0))\"),\"\")","v":""},{"$f":"IFERROR(__xludf.DUMMYFUNCTION(\"iferror(VLOOKUP(B992,IMPORTRANGE(\"\"https://docs.google.com/spreadsheets/d/1c3Ia3eDo4sfDZb6ajW2WVML4MhoKXWIVRbYqnsZgQRs/edit#gid=0\"\",\"\"RWA!F:BZ\"\"),49,0))\"),\"\")","v":""}]
[null,null,null,{"$f":"IFERROR(__xludf.DUMMYFUNCTION(\"iferror(VLOOKUP(B993,IMPORTRANGE(\"\"https://docs.google.com/spreadsheets/d/1c3Ia3eDo4sfDZb6ajW2WVML4MhoKXWIVRbYqnsZgQRs/edit#gid=0\"\",\"\"RWA!F:BZ\"\"),44,0))\"),\"\")","v":""},{"$f":"IFERROR(__xludf.DUMMYFUNCTION(\"iferror(VLOOKUP(B993,IMPORTRANGE(\"\"https://docs.google.com/spreadsheets/d/1c3Ia3eDo4sfDZb6ajW2WVML4MhoKXWIVRbYqnsZgQRs/edit#gid=0\"\",\"\"RWA!F:BZ\"\"),48,0))\"),\"\")","v":""},{"$f":"IFERROR(__xludf.DUMMYFUNCTION(\"iferror(VLOOKUP(B993,IMPORTRANGE(\"\"https://docs.google.com/spreadsheets/d/1c3Ia3eDo4sfDZb6ajW2WVML4MhoKXWIVRbYqnsZgQRs/edit#gid=0\"\",\"\"RWA!F:BZ\"\"),49,0))\"),\"\")","v":""}]
[null,null,null,{"$f":"IFERROR(__xludf.DUMMYFUNCTION(\"iferror(VLOOKUP(B994,IMPORTRANGE(\"\"https://docs.google.com/spreadsheets/d/1c3Ia3eDo4sfDZb6ajW2WVML4MhoKXWIVRbYqnsZgQRs/edit#gid=0\"\",\"\"RWA!F:BZ\"\"),44,0))\"),\"\")","v":""},{"$f":"IFERROR(__xludf.DUMMYFUNCTION(\"iferror(VLOOKUP(B994,IMPORTRANGE(\"\"https://docs.google.com/spreadsheets/d/1c3Ia3eDo4sfDZb6ajW2WVML4MhoKXWIVRbYqnsZgQRs/edit#gid=0\"\",\"\"RWA!F:BZ\"\"),48,0))\"),\"\")","v":""},{"$f":"IFERROR(__xludf.DUMMYFUNCTION(\"iferror(VLOOKUP(B994,IMPORTRANGE(\"\"https://docs.google.com/spreadsheets/d/1c3Ia3eDo4sfDZb6ajW2WVML4MhoKXWIVRbYqnsZgQRs/edit#gid=0\"\",\"\"RWA!F:BZ\"\"),49,0))\"),\"\")","v":""}]
[null,null,null,{"$f":"IFERROR(__xludf.DUMMYFUNCTION(\"iferror(VLOOKUP(B995,IMPORTRANGE(\"\"https://docs.google.com/spreadsheets/d/1c3Ia3eDo4sfDZb6ajW2WVML4MhoKXWIVRbYqnsZgQRs/edit#gid=0\"\",\"\"RWA!F:BZ\"\"),44,0))\"),\"\")","v":""},{"$f":"IFERROR(__xludf.DUMMYFUNCTION(\"iferror(VLOOKUP(B995,IMPORTRANGE(\"\"https://docs.google.com/spreadsheets/d/1c3Ia3eDo4sfDZb6ajW2WVML4MhoKXWIVRbYqnsZgQRs/edit#gid=0\"\",\"\"RWA!F:BZ\"\"),48,0))\"),\"\")","v":""},{"$f":"IFERROR(__xludf.DUMMYFUNCTION(\"iferror(VLOOKUP(B995,IMPORTRANGE(\"\"https://docs.google.com/spreadsheets/d/1c3Ia3eDo4sfDZb6ajW2WVML4MhoKXWIVRbYqnsZgQRs/edit#gid=0\"\",\"\"RWA!F:BZ\"\"),49,0))\"),\"\")","v":""}]
[null,null,null,{"$f":"IFERROR(__xludf.DUMMYFUNCTION(\"iferror(VLOOKUP(B996,IMPORTRANGE(\"\"https://docs.google.com/spreadsheets/d/1c3Ia3eDo4sfDZb6ajW2WVML4MhoKXWIVRbYqnsZgQRs/edit#gid=0\"\",\"\"RWA!F:BZ\"\"),44,0))\"),\"\")","v":""},{"$f":"IFERROR(__xludf.DUMMYFUNCTION(\"iferror(VLOOKUP(B996,IMPORTRANGE(\"\"https://docs.google.com/spreadsheets/d/1c3Ia3eDo4sfDZb6ajW2WVML4MhoKXWIVRbYqnsZgQRs/edit#gid=0\"\",\"\"RWA!F:BZ\"\"),48,0))\"),\"\")","v":""},{"$f":"IFERROR(__xludf.DUMMYFUNCTION(\"iferror(VLOOKUP(B996,IMPORTRANGE(\"\"https://docs.google.com/spreadsheets/d/1c3Ia3eDo4sfDZb6ajW2WVML4MhoKXWIVRbYqnsZgQRs/edit#gid=0\"\",\"\"RWA!F:BZ\"\"),49,0))\"),\"\")","v":""}]
[null,null,null,{"$f":"IFERROR(__xludf.DUMMYFUNCTION(\"iferror(VLOOKUP(B997,IMPORTRANGE(\"\"https://docs.google.com/spreadsheets/d/1c3Ia3eDo4sfDZb6ajW2WVML4MhoKXWIVRbYqnsZgQRs/edit#gid=0\"\",\"\"RWA!F:BZ\"\"),44,0))\"),\"\")","v":""},{"$f":"IFERROR(__xludf.DUMMYFUNCTION(\"iferror(VLOOKUP(B997,IMPORTRANGE(\"\"https://docs.google.com/spreadsheets/d/1c3Ia3eDo4sfDZb6ajW2WVML4MhoKXWIVRbYqnsZgQRs/edit#gid=0\"\",\"\"RWA!F:BZ\"\"),48,0))\"),\"\")","v":""},{"$f":"IFERROR(__xludf.DUMMYFUNCTION(\"iferror(VLOOKUP(B997,IMPORTRANGE(\"\"https://docs.google.com/spreadsheets/d/1c3Ia3eDo4sfDZb6ajW2WVML4MhoKXWIVRbYqnsZgQRs/edit#gid=0\"\",\"\"RWA!F:BZ\"\"),49,0))\"),\"\")","v":""}]
[null,null,null,{"$f":"IFERROR(__xludf.DUMMYFUNCTION(\"iferror(VLOOKUP(B998,IMPORTRANGE(\"\"https://docs.google.com/spreadsheets/d/1c3Ia3eDo4sfDZb6ajW2WVML4MhoKXWIVRbYqnsZgQRs/edit#gid=0\"\",\"\"RWA!F:BZ\"\"),44,0))\"),\"\")","v":""},{"$f":"IFERROR(__xludf.DUMMYFUNCTION(\"iferror(VLOOKUP(B998,IMPORTRANGE(\"\"https://docs.google.com/spreadsheets/d/1c3Ia3eDo4sfDZb6ajW2WVML4MhoKXWIVRbYqnsZgQRs/edit#gid=0\"\",\"\"RWA!F:BZ\"\"),48,0))\"),\"\")","v":""},{"$f":"IFERROR(__xludf.DUMMYFUNCTION(\"iferror(VLOOKUP(B998,IMPORTRANGE(\"\"https://docs.google.com/spreadsheets/d/1c3Ia3eDo4sfDZb6ajW2WVML4MhoKXWIVRbYqnsZgQRs/edit#gid=0\"\",\"\"RWA!F:BZ\"\"),49,0))\"),\"\")","v":""}]
[null,null,null,{"$f":"IFERROR(__xludf.DUMMYFUNCTION(\"iferror(VLOOKUP(B999,IMPORTRANGE(\"\"https://docs.google.com/spreadsheets/d/1c3Ia3eDo4sfDZb6ajW2WVML4MhoKXWIVRbYqnsZgQRs/edit#gid=0\"\",\"\"RWA!F:BZ\"\"),44,0))\"),\"\")","v":""},{"$f":"IFERROR(__xludf.DUMMYFUNCTION(\"iferror(VLOOKUP(B999,IMPORTRANGE(\"\"https://docs.google.com/spreadsheets/d/1c3Ia3eDo4sfDZb6ajW2WVML4MhoKXWIVRbYqnsZgQRs/edit#gid=0\"\",\"\"RWA!F:BZ\"\"),48,0))\"),\"\")","v":""},{"$f":"IFERROR(__xludf.DUMMYFUNCTION(\"iferror(VLOOKUP(B999,IMPORTRANGE(\"\"https://docs.google.com/spreadsheets/d/1c3Ia3eDo4sfDZb6ajW2WVML4MhoKXWIVRbYqnsZgQRs/edit#gid=0\"\",\"\"RWA!F:BZ\"\"),49,0))\"),\"\")","v":""}]
[null,null,null,{"$f":"IFERROR(__xludf.DUMMYFUNCTION(\"iferror(VLOOKUP(B1000,IMPORTRANGE(\"\"https://docs.google.com/spreadsheets/d/1c3Ia3eDo4sfDZb6ajW2WVML4MhoKXWIVRbYqnsZgQRs/edit#gid=0\"\",\"\"RWA!F:BZ\"\"),44,0))\"),\"\")","v":""},{"$f":"IFERROR(__xludf.DUMMYFUNCTION(\"iferror(VLOOKUP(B1000,IMPORTRANGE(\"\"https://docs.google.com/spreadsheets/d/1c3Ia3eDo4sfDZb6ajW2WVML4MhoKXWIVRbYqnsZgQRs/edit#gid=0\"\",\"\"RWA!F:BZ\"\"),48,0))\"),\"\")","v":""},{"$f":"IFERROR(__xludf.DUMMYFUNCTION(\"iferror(VLOOKUP(B1000,IMPORTRANGE(\"\"https://docs.google.com/spreadsheets/d/1c3Ia3eDo4sfDZb6ajW2WVML4MhoKXWIVRbYqnsZgQRs/edit#gid=0\"\",\"\"RWA!F:BZ\"\"),49,0))\"),\"\")","v":""}]