{"text_format":"2","workbook":"xlsx","n_sheets":2,"sheets":["001 - L (11.7x16.5 In)","002 - A (18x24 In)"],"not_rendered":{"charts":0,"images":0,"macros":0,"external_links":0,"defined_names":0,"comments":0,"pivot_tables":0},"unopened":[],"bounds":{"document_bytes":16777216,"sheet_cells":100000,"run_cost":"one","rows_first":2000,"rows_last":500,"rows_between":2000,"halvings":0,"cell_chars":16384,"cell_head_chars":4096},"cells_cut":0,"cells_raw":0,"read":"whole","date_system":"1900"}

{"sheet":"001 - L (11.7x16.5 In)","index":0,"n_rows":217,"n_cols":5,"rows_kept":217,"cut":false,"hidden":false,"merged":[[216,0,216,2]]}
["S. No","Location","Society Name","No of flats","No of Lifts"]
[1,"Mumbai","SETHIA SEA VIEW CHSL",205,6]
[2,"Mumbai","MAITRY HEIGHTS",437,10]
[3,"Mumbai","Atlas royal B wing",80,2]
[4,"Mumbai","AVENUE D PHASE 3",140,5]
[5,"Mumbai","ORANGE HEIGHTS PHASE II CO-OP HSG SOC LTD",112,4]
[6,"Mumbai","Siddesh Deep D Wing",80,3]
[7,"Mumbai","TARABAUG CO OPERATING HOUSING SOCIETY",202,8]
[8,"Mumbai","Heramb Heights ",112,4]
[9,"Mumbai","Rustomjee Avenue L1L2L4 ",1287,6]
[10,"Mumbai","KGN CHS",119,2]
[11,"Mumbai","PALM MEADOWS CHS",198,3]
[12,"Mumbai","Kedy Tower A Wing ",102,2]
[13,"Mumbai","AGARWAL LIFESTYLE B-1 CHS LTD",670,17]
[14,"Mumbai","KANDIVALI SYMPHONY CO OP HOUSING SOCIETY",166,4]
[15,"Mumbai","LIFESCAPE MIRAGE",88,4]
[16,"Mumbai","Arihant Towers ",58,2]
[17,"Mumbai","SUMIT GREENDALE CHS",400,16]
[18,"Mumbai","EKTA BHOOMI GARDEN 1 & 2 CHSL",463,22]
[19,"Mumbai","NIEGHBOURHOOD CHS",247,10]
[20,"Mumbai","RUSTOMJEE ROYALE CHSL",128,4]
[21,"Mumbai","DELTA VRINDAVAN CHS LTD",328,8]
[22,"Mumbai","SRIDUTT GARDEN AVENUE K CHSL",850,10]
[23,"Mumbai","Plam complx",1205,36]
[24,"Mumbai","Shre abhishek",164,4]
[25,"Mumbai","Kalparuksh height",329,8]
[26,"Mumbai","SUDARSHAN PARADISE",null,2]
[27,"Mumbai","MAHALAXMI CHSL",51,2]
[28,"Mumbai","Diamond Deck",134,6]
[29,"Mumbai","Terrain heights ",50,2]
[30,"Mumbai","POONAM PARK VIEW A TO I CHS",720,18]
[31,"Mumbai","Mauli chs",250,3]
[32,"Mumbai","Srinivas tower",562,6]
[33,"Mumbai","Crest tower ",228,4]
[34,"Mumbai","EVERSHINE HOMES",168,7]
[35,"Mumbai","PUSHPAK PREMIUM PARK CHSL",100,4]
[36,"Mumbai","INDRAPRASTHA CHS",300,9]
[37,"Mumbai","PARAMOUNT CHS",309,6]
[38,"Mumbai","DELUXE APPARTMENT",38,4]
[39,"Mumbai","HILL VIEW TOWER CHS LTD.",197,6]
[40,"Mumbai","GARDEN VIEW APARTMENT CHSL",150,6]
[41,"Mumbai","KONARK NOBLE WOODS",42,3]
[42,"Mumbai","DHURI TOWER",69,2]
[43,"Mumbai","RAJ HEIGHTS",82,2]
[44,"Mumbai","MEENAKSHI VEENA CHS",71,2]
[45,"Mumbai","SAFA MARWA",54,2]
[46,"Mumbai","SUPREME HEIGHTS",139,3]
[47,"Mumbai","ASHOK TOWERS",300,16]
[48,"Mumbai","DEW BERRY CHS LTD",222,5]
[49,"Mumbai","OM CHAMUNDA",55,2]
[50,"Mumbai","TERRAIN HEIGHTS CHS",50,2]
[51,"Mumbai","HARMONY CHS LTD",24,1]
[52,"Mumbai","SOHAM APARTMENT",52,2]
[53,"Mumbai","DN NAGAR AKSHAY CHSL",125,2]
[54,"Mumbai","TRANS RESIDENCY BUILDING 3( B AND C)",56,2]
[55,"Mumbai","CASTLE TOWER",51,2]
[56,"Mumbai","SOLITAIRE 3",162,5]
[57,"Mumbai","SAMRIDDHI CHS",628,13]
[58,"Mumbai","HAPPY HOME HEIGHTS CHSL",227,10]
[59,"Mumbai","SUDARSHAN",47,4]
[60,"Mumbai","ORCHID TULIP JANGID ENCLAVE CHS",252,8]
[61,"Mumbai","CENTURY HEIGHTS CHS LTD A PRABHADEVI",288,3]
[62,"Mumbai","MAHALAXMI NAVRANG",246,4]
[63,"Mumbai","UNITY",144,2]
[64,"Mumbai","VAKIL CHAWL CO OP HSG SOC LTD",21,2]
[65,"Mumbai","WEST VIEW",120,3]
[66,"Mumbai","JANKI AVENUE",95,5]
[67,"Mumbai","JP NORTH ATRIA CHS LTD",370,6]
[68,"Mumbai","ROCK AVENUE E",227,10]
[69,"Mumbai","TRIDENT CHS LTD",117,4]
[70,"Mumbai","SWARAJYA HEIGHTS 2C CO-OP HOUSING SOCIETY LIMITED",177,2]
[71,"Mumbai","EDEN ROSE BLDG NO. 5AB CHS LTD",101,2]
[72,"Mumbai","NEW DINDOSHI GREEN HILL",140,5]
[73,"Mumbai","ANA AVANT GARDE PHASE 1 CHS",176,4]
[74,"Mumbai","GREEN MEADOWS 1-4 CHSL",255,6]
[75,"Mumbai","HIGHLAND PARK F",60,2]
[76,"Mumbai","PARK SIDE 3 CHS LTD",154,8]
[77,"Mumbai","GIRDHAR PARK",174,5]
[78,"Mumbai","KANAKIA ANANTA CHS",56,4]
[79,"Mumbai","PATIDAR CHSL",272,6]
[80,"Mumbai","GAYATRI AVENUE CHSL",112,5]
[81,"Mumbai","KRISHNAN GOKUL GARDEN CHS",164,6]
[82,"Mumbai","VASUNDHARA CHS",176,3]
[83,"Mumbai","SHIVRAJ HEIGHTS CHS",166,4]
[84,"Mumbai","CHHEDA COMPLEX",130,4]
[85,"Mumbai","BHOOMI VALLEY CHS",249,14]
[86,"Mumbai","GREEN MEADOWS 5&6",190,5]
[87,"Mumbai","SKYLINE",256,6]
[88,"Mumbai","NEMINATH HEIGHTS",243,4]
[89,"Mumbai","VINEET CHS",41,2]
[90,"Mumbai","NEW MARIGOLD 5 CHSL",84,3]
[91,"Mumbai","VINAY RESIDENCY CHS",75,1]
[92,"Mumbai","SAGAR TOWER",120,3]
[93,"Mumbai","NG SILVER SPRING",43,2]
[94,"Mumbai","GOKUL TOWER CHS LTD",126,5]
[95,"Mumbai","SHRUSHTI HEIGHTS",160,5]
[96,"Mumbai","ODYSSEY",165,6]
[97,"Mumbai","MULUND MUKTI CHS LTD",70,3]
[98,"Mumbai","ROSWALT HEIGHTS",75,3]
[99,"Mumbai","ATLAS ROYAL",72,4]
[100,"Mumbai","BISMILLAH HEIGHTS",187,6]
[101,"Mumbai","OMKAR VIVE",174,6]
[102,"Mumbai","PEARL MAJESTIC CHS",176,12]
[103,"Mumbai","JANAVI CHS.",53,2]
[104,"Mumbai","CENTROID CO-OPERATIVE HOUSING SOCIETY LIMITED",131,4]
[105,"Mumbai","VASTU RIDDHI",128,2]
[106,"Mumbai","RAJ LEGACY",36,6]
[107,"Mumbai","MAPLE TOWER CHS",85,3]
[108,"Mumbai","POONAM COMPLEX 96-97",63,2]
[109,"Mumbai","NEW OM TOWER",64,2]
[110,"Mumbai","AADESHWAR KRUPA CHSL",57,2]
[111,"Mumbai","NG PALMS",108,6]
[112,"Mumbai","VASUNDHARA 5 CHSL",104,3]
[113,"Mumbai","KRISHNA APARTMENT CHSL",56,2]
[114,"Mumbai","JAYA GARDEN BUILDING NO.3",32,1]
[115,"Mumbai","GAURAV WOODS BLDG NO.1 CHS LTD",70,8]
[116,"Mumbai","ORCHID A WING CHS",32,1]
[117,"Mumbai","OSTWAL AVENUE",78,3]
[118,"Mumbai","GAURAV WOODS PHASE 2 CO OP HSG SOC",96,2]
[119,"Mumbai","SWAPNADEEP CHS LTD",88,3]
[120,"Mumbai","SADGURU LAXMI HEAVEN CHSL",50,2]
[121,"Mumbai","RAJDEEP VILLA",68,3]
[122,"Mumbai","SWARAJ COMPLEX C WING CHSL LTD",177,2]
[123,"Mumbai","HIMACHAL CHS",66,2]
[124,"Mumbai","SKY HIGH ABC CHS",59,3]
[125,"Mumbai","SARKAR RESIDENCY",71,2]
[126,"Mumbai","KINGSTON COURT CHSL",164,12]
[127,"Mumbai","SETHIA LINK VIEW CHS",112,3]
[128,"Mumbai","SILICON PARK CHSL BLDG NO 2 B-WING",85,2]
[129,"Mumbai","VAKRATUNDA CHS",71,4]
[130,"Mumbai","CLASSIC BURJ",115,2]
[131,"Mumbai","SAMARTH GARDEN F & G",220,5]
[132,"Mumbai","THE NEST",243,4]
[133,"Mumbai","DHEERAJ DREAMS BUILDING 1",622,12]
[134,"Mumbai","SUBHAM LIFE A",null,3]
[135,"Mumbai","SUBHAM WING B",null,3]
[136,"Mumbai","LOK RAUNAK B",137,3]
[137,"Mumbai","JALARAM ASHISH CHS",102,8]
[138,"Mumbai","GREEN PARK CHS",450,21]
[139,"Mumbai","PADMAVATI NAGAR CHS",108,8]
[140,"Mumbai","NEW USHA NAGAR CHSL",444,8]
[141,"Mumbai","SUNDER JAMNOTRI CHS",42,1]
[142,"Mumbai","THE CITY MAKE BUILDING",119,2]
[143,"Mumbai","PEARL PLATINUM CO- OPERATIVE HOUSING SOCIETY",144,6]
[144,"Mumbai","MANGLA TOWER",40,4]
[145,"Mumbai","THE BORIVALI NEEL KAMAL CO HOUSING",221,2]
[146,"Mumbai","GOKUL GALAXY CHS",232,9]
[147,"Mumbai","VRISHI COMPLEX CHS",166,5]
[148,"Mumbai","PRAVESH CHS",103,6]
[149,"Mumbai","ECO RESIDENCY",59,2]
[150,"Mumbai","KANAKIA RAIN FOREST"]
[151,"Mumbai","LOK VIHAR",68,4]
[152,"Mumbai","GULMOHAR LOK MILAN CHSL WING C",96,3]
[153,"Mumbai","BACHRAJ PARADISE",144,3]
[154,"Mumbai","VASUNDHARA CHS LTD",84,4]
[155,"Mumbai","UNIQUE AURUM B&C",255,5]
[156,"Mumbai","RAJ LEGACY 2",196,6]
[157,"Mumbai","PLUTO APARTMENT",82,2]
[158,"Mumbai","SHREE SHASWAT TOWER 16 17 18 CHS",220,6]
[159,"Mumbai","ORCHID ATRIUM",27,4]
[160,"Mumbai","COMFORT CHS",48,2]
[161,"Mumbai","HIRANANDANI TULIP",84,6]
[162,"Mumbai","L WING, NEW PMGP, KALPATARU",125,2]
[163,"Mumbai","CHANAKYA LOK BHARATI CHSL",97,3]
[164,"Mumbai","JAI DURGA CHS",68,3]
[165,"Mumbai","SAVANNAH AVALON CHS LTD",82,2]
[166,"Mumbai","ASTER CHSL",112,6]
[167,"Mumbai","NEW SONALI CO - OPERATIVE HOU SOC LTD",42,2]
[168,"Mumbai","EVERSHINE HALLEY TOWER & INSAT CHS LTD",600,15]
[169,"Mumbai","NISARG CHS",252,4]
[170,"Mumbai","VINAY TOWER CHS LTD",190,4]
[171,"Mumbai","MARIGOLD 1 CHS",140,5]
[172,"Mumbai","SEVEN ELEVEN RESIDENCY",166,5]
[173,"Mumbai","TATHASTU CO. OPT. HSG. SOCIETY LTD.",258,6]
[174,"Mumbai","AL BURHAN CHSL",59,4]
[175,"Mumbai","PEARL HARMONY CHS",150,6]
[176,"Mumbai","AGARWAL TRINITY CO OP HSG SOC",150,3]
[177,"Mumbai","ONE AVIGHNA PARK",195,8]
[178,"Mumbai","VIKRANT CHS LTD",86,2]
[179,"Mumbai","HS ALAG",108,6]
[180,"Mumbai","VENKATESH KRUPA",81,4]
[181,"Mumbai","ROYAL RESIDENCY",88,4]
[182,"Mumbai","AURUM CHS",30,2]
[183,"Mumbai","RAHEJA ASCONA & AMALFI",192,8]
[184,"Mumbai","COURTYARD IVY CHSL LTD",114,3]
[185,"Mumbai","MOUNT CLASSIC",84,3]
[186,"Mumbai","PREMIER RESIDENCY",985,22]
[187,"Mumbai","ELANZA CHS",98,4]
[188,"Mumbai","KHANDELWAL FRIENDS CHS",36,2]
[189,"Mumbai","DHEERAJ UPVAN 3 CHS",232,10]
[190,"Mumbai","CLAREMONT COOPERATIVE HOUSING SOCIETY LIMITED",304,10]
[191,"Mumbai","ASMITA JYOTI CHSL",816,20]
[192,"Mumbai","PARADISE HEIGHTS CHSL",564,12]
[193,"Mumbai","GURUKRUPA TERRACE CHS LTD",91,2]
[194,"Mumbai","OM VAIKUNTH CHS",69,3]
[195,"Mumbai","OM BABA VIHAR CHS",78,4]
[196,"Mumbai","THE BAYA GOLDSPOT",110,6]
[197,"Mumbai","OSTWAL ORCHID BLDG 12",20,1]
[198,"Mumbai","OSTWAL BLDG 9",54,2]
[199,"Mumbai","ADINATH TOWER",100,5]
[200,"Mumbai","DOLL CHS",74,4]
[201,"Mumbai","DLH KESLY CHS LTD",95,4]
[202,"Mumbai","POWAI JALTARANG CHS LTD",84,3]
[203,"Mumbai","SHREE SAMARTH VISCARIA CHS",78,2]
[204,"Mumbai","GULMOHAR HEIGHTS CHS",67,3]
[205,"Mumbai","MUTHU BAI",29,2]
[206,"Mumbai","PANTNAGAR SETHU A WING (LABHAM RESIDENCY)",65,4]
[207,"Mumbai","RUSTOMJEE RESIDENCY",55,4]
[208,"Mumbai","AKURLI SHREE RIDDHI SIDDHI CHS LTD (GREEN GAGAN)",108,4]
[209,"Mumbai","SATELLITE GARDEN D-1 CHSL",84,3]
[210,"Mumbai","BENZER TOWER CHS LTD",92,4]
[211,"Mumbai","HERMITAGE SHIVALAY",12,1]
[212,"Mumbai","OSTWAL BLDG 10",82,2]
[213,"Mumbai","RASHMI TANMAY F & G",56,2]
[214,"Mumbai","INTEGRATED BHOOMI CHS LTD",86,4]
[215,"Mumbai","KUSH PRESTIGE",51,4]
["Total",null,null,{"$f":"SUM(D2:D216)","v":35801},{"$f":"SUM(E2:E216)","v":1077}]

{"sheet":"002 - A (18x24 In)","index":1,"n_rows":1000,"n_cols":7,"rows_kept":1000,"cut":false,"hidden":false,"merged":[[274,0,274,1]]}
["RWA Name","Frame Placement","Minimum Order Quantity(No Of Lifts)","Zone","Locality","Captive Households (no of flats)","Approx Reach"]
["Akshar Building no 1 chsl","Left",3,"Western","Kandivali",131,524]
["Akshar Building no 1 chsl","Right",3,"Western","Kandivali",131,524]
["Alta Monte A","Left",5,"Western","Malad E",327,1308]
["Anand regency","Left",3,"Western","Mira Road",91,364]
["Anand regency","Center",3,"Western","Mira Road",91,364]
["Antarctica","Left",4,"Thane","Dombivali",192,768]
["Antarctica","Right",4,"Thane","Dombivali",192,768]
["Arjun Chsl","Left",5,"Western","Dahisar E",154,616]
["Arjun Chsl","Right",5,"Western","Dahisar E",154,616]
["Balaji Annex B & C","Left",2,"Western","Mira Road",57,228]
["Balaji Annex B & C","Right",2,"Western","Mira Road",57,228]
["Casa clara","Left",26,"Thane","Dombivali",1200,4800]
["Casa clara","Right",26,"Thane","Dombivali",1200,4800]
["Caspiana CHSL A wing","Left",5,"Thane","Nilje Gaon Maharashtra",240,960]
["Caspiana CHSL A wing","Right",5,"Thane","Nilje Gaon Maharashtra",240,960]
["Crown city CHSL","Right",6,"Thane","Kalyan",250,1000]
["Dolphin Garden CHSL","Left",5,"Western","Mira Road",148,592]
["Dolphin Garden CHSL","Right",5,"Western","Mira Road",148,592]
["Dream land park","Left",2,"Western","Mira Road",105,420]
["Dream land park","Right",2,"Western","Mira Road",105,420]
["Evershine Insat chsl","Left",12,"Western","Kandivali",168,672]
["Evershine Insat chsl","Right",12,"Western","Kandivali",168,672]
["Evershine pine bldg no 1,2,3 & 4 Chsl","Left",7,"Western","Mira Road",128,512]
["Evershine pine bldg no 1,2,3 & 4 Chsl","Right",8,"Western","Mira Road",128,512]
["Fressia Ranibello","Center",9,"Western","Malad East",234,936]
["Galaxy Bright Sky","Left",4,"Thane","Thane",160,640]
["Galaxy Bright Sky","Right",4,"Thane","Thane",160,640]
["Gokul residency A to G","Left",7,"Western","Kandivali",233,932]
["Gokul residency A to G","Right",7,"Western","Kandivali",233,932]
["Guru Atman C WING","Left",3,"Thane","Kalyan",144,576]
["Guru Atman C WING","Right",3,"Thane","Kalyan",144,576]
["Guru Atman E","Left",2,"Thane","Kalyan",95,380]
["Guru Atman E","Right",1,"Thane","Kalyan",95,380]
["Hazeline","Left",6,"Western","Andheri",98,392]
["Hazeline","Right",6,"Western","Andheri",98,392]
["Hilla towers CHSL","Center",4,"South Mumbai","Parel",140,560]
["Hyde Park Harmony Chsl","Left",24,"Navi Mumbai","kharghar",800,3200]
["Hyde Park Harmony Chsl","Right",24,"Navi Mumbai","kharghar",800,3200]
["Joy homes chs ltd","Left",2,"Central","Bhandup",297,1188]
["Joy homes chs ltd","Right",8,"Central","Bhandup",297,1188]
["Kanchanjanga Lokdhara CHSL","Left",4,"Thane","Kalyan",208,832]
["Kanchanjanga Lokdhara CHSL","Right",4,"Thane","Kalyan",208,832]
["Kesar Exotica","Left",18,"Navi mumbai","Kharghar",250,1000]
["Kesar Exotica","Right",18,"Navi mumbai","Kharghar",250,1000]
["Krishna apartment Chsl","Left",5,"Navi Mumbai","Kamothe",208,832]
["Krishna apartment Chsl","Right",5,"Navi Mumbai","Kamothe",208,832]
["Krishna Classic Chsl","Left",6,"Western","Borivali",98,392]
["Krishna Classic Chsl","Right",6,"Western","Borivali",98,392]
["Laxmi Vishnu SGSM","Left",2,"Navi Mumbai","Panvel",62,248]
["Laxmi Vishnu SGSM","Right",2,"Navi Mumbai","Panvel",62,248]
["Madhuram CHSL","Left",5,"Navi mumbai","Navi Mumbai",106,424]
["Madhuram CHSL","Right",5,"Navi mumbai","Navi Mumbai",106,424]
["Marathon Nexzone Zenith","Left",3,"Navi mumbai","Panvel",250,1000]
["Marathon Nexzone Zenith","Right",3,"Navi mumbai","Panvel",250,1000]
["Mayuresh Park Jasmine L,M & N chsl","Center",3,"Central","Bhandup",146,584]
["Motinagar Chsl","Right",4,"Western","Borivali",90,360]
["NRI Complex Phase 1 (SEAWOODS ESTATE)","Left",30,"Navi mumbai","Navi Mumbai",1536,6144]
["NRI Complex Phase 1 (SEAWOODS ESTATE)","Left",30,"Navi mumbai","Navi Mumbai",1536,6144]
["NRI Complex Phase 1 (SEAWOODS ESTATE)","Left",30,"Navi mumbai","Navi Mumbai",1536,6144]
["NRI Complex Phase 1 (SEAWOODS ESTATE)","Right",30,"Navi mumbai","Navi Mumbai",1536,6144]
["NRI Complex Phase 1 (SEAWOODS ESTATE)","Right",30,"Navi mumbai","Navi Mumbai",1536,6144]
["NRI Complex Phase 1 (SEAWOODS ESTATE)","Right",30,"Navi mumbai","Navi Mumbai",1536,6144]
["Om Raj Vaibhav Chs","Left",4,"Western","Mira Road",151,604]
["Om Raj Vaibhav Chs","Right",4,"Western","Mira Road",151,604]
["Poonam Orchid Chsl","Left",3,"Western","Mira Road",84,336]
["Poonam Orchid Chsl","Right",3,"Western","Mira Road",84,336]
["RAI PARADISE","Left",7,"Thane","Kalyan",230,920]
["RAI PARADISE","Right",7,"Thane","Kalyan",230,920]
["Raj Residency","Left",2,"Western","Goregaon",38,152]
["Raj Residency","Right",2,"Western","Goregaon",38,152]
["Regency Ellanza Chsl","Left",4,"Navi mumbai","Kalamboli",136,544]
["Regency Ellanza Chsl","Right",4,"Navi mumbai","Kalamboli",136,544]
["Regency Estate","Left",31,"Thane","Dombivali",1100,4400]
["Regency Estate","Right",5,"Thane","Dombivali",1100,4400]
["Regency Estate","Center",12,"Thane","Dombivali",1100,4400]
["Sai Ashirwad CHSL","Left",1,"Navi mumbai","Virar",28,112]
["Sai Ashirwad CHSL","Right",1,"Navi mumbai","Virar",28,112]
["Sai Sastha Crystal","Center",2,"Central","Bhandup",100,400]
["Sai sastha Hills","Left",2,"Central","Bhandup",48,192]
["Sai sthaan CHSL","Left",4,"Navi Mumbai","Nerul",128,512]
["Sai sthaan CHSL","Right",4,"Navi Mumbai","Nerul",128,512]
["sanskruti Chsl","Left",7,"Navi mumbai","Kharghar",196,784]
["sanskruti Chsl","Right",7,"Navi mumbai","Kharghar",196,784]
["Satyam Residency Chsl","Left",4,"Navi mumbai","Panvel",88,352]
["Satyam Residency Chsl","Right",4,"Navi mumbai","Panvel",88,352]
["Shree ganesh plaza 2","Left",6,"Navi mumbai","Panvel",181,724]
["Shree ganesh plaza 2","Right",6,"Navi mumbai","Panvel",181,724]
["Shree Radha Krishna","Left",2,"Western","Mira Road",56,224]
["Shree Radha Krishna","Right",2,"Western","Mira Road",56,224]
["Shree rajshree dhara CHSL","Left",3,"Thane","Kalyan",96,384]
["Shree rajshree dhara CHSL","Right",3,"Thane","Kalyan",96,384]
["Space Residency CHSL","Left",3,"Navi mumbai","Navi Mumbai",128,512]
["Space Residency CHSL","Right",3,"Navi mumbai","Navi Mumbai",128,512]
["Trembakeshwar Chsl","Left",3,"Navi mumbai","Navi Mumbai",76,304]
["Trembakeshwar Chsl","Right",3,"Navi mumbai","Navi Mumbai",76,304]
["Tricity skyline","Left",2,"Navi Mumbai","sanpada",70,280]
["Tricity skyline","Right",2,"Navi Mumbai","sanpada",70,280]
["Vaibhav Paradise","Center",6,"Western","Santacruz",113,452]
["Vasudev Planet CO-OPERATIVE HOUSING SOCIETY LIMITED","Left",4,"Western","Mira Road",180,720]
["Vasudev Planet CO-OPERATIVE HOUSING SOCIETY LIMITED","Right",4,"Western","Mira Road",180,720]
["Volga CHSL","Left",6,"Thane","Dombivali east",288,1152]
["Volga CHSL","Right",6,"Thane","Dombivali east",288,1152]
["Kesar Harmony","Left",6,"Navi mumbai","Kharghar",234,936]
["Kesar Harmony","Right",6,"Navi mumbai","Kharghar",234,936]
["Gulistan Shahsaqlain Chsl","Left",2,"Central","Kurla",42,168]
["Gulistan Shahsaqlain Chsl","Right",2,"Central","Kurla",42,168]
["Hill View tower","Right",3,"Central","Vikhroli",180,720]
["N G park bldg no1","Left",3,"Western","Dahisar East",119,476]
["N G park bldg no1","Right",3,"Western","Dahisar East",119,476]
["New Marigold- 5 chsl","Left",3,"Western","Bhayandar",84,336]
["New Marigold- 5 chsl","Right",3,"Western","Bhayandar",84,336]
["Shree ambica Heritage CHSL","Left",1,"Navi mumbai","Kharghar",136,544]
["Shree ambica Heritage CHSL","Right",3,"Navi mumbai","Kharghar",136,544]
["Poonam complex 94 & 95","Left",2,"Western","Mira road",64,256]
["Poonam complex 94 & 95","Right",2,"Western","Mira road",64,256]
["Silver Leaf","Center",6,"Western","Kandivali East",136,544]
["Charkop Shree Gulohar chsl","Left",3,"Western","Kandivali",72,288]
["Charkop Shree Gulohar chsl","Center",3,"Western","Kandivali",72,288]
["Ritu Gardenia A & B","Left",2,"Western","miraroad",91,364]
["Ritu Gardenia A & B","Right",2,"Western","miraroad",91,364]
["Shree Saheba CHSL","Left",1,"navi mumbai","Kamothe",132,528]
["Shree Saheba CHSL","Right",1,"navi mumbai","Kamothe",132,528]
["Castle Tower CHSL","Left",1,"Western","Jogeshwari",48,192]
["Castle Tower CHSL","Right",1,"Western","Jogeshwari",48,192]
["Suman heights CHS Ltd","Left",3,"Thane","Dombivali",105,420]
["Suman heights CHS Ltd","Right",3,"Thane","Dombivali",105,420]
["N G Park Bldg no 6 Chsl","Left",4,"Western","Malad",111,444]
["N G Park Bldg no 6 Chsl","Right",4,"Western","Malad",111,444]
["Nirmal lifestyle Chsl","Center",8,"Central","Mulund w",456,1824]
["Gold Crest 369 chs ltd","Left",5,"Western","Virar",32,128]
["Gold Crest 369 chs ltd","Right",5,"Western","Virar",32,128]
["Sant Ghadge Maharaj Chsl","Left",2,"Central","Chembur",180,720]
["Sant Ghadge Maharaj Chsl","Right",2,"Central","Chembur",180,720]
["Jaya Niwas chs ltd","Left",2,"WESTERN","Malad",65,260]
["Jaya Niwas chs ltd","Right",2,"WESTERN","Malad",65,260]
["Mihar Apartment C Chsl","Left",2,"WESTERN","Kandivali19.210366782674203, 72.81909669733405",42,168]
["Mihar Apartment C Chsl","Right",2,"WESTERN","Kandivali19.210366782674203, 72.81909669733405",42,168]
["Eco elegance Chsl","Left",3,"Western","Andheri",56,224]
["Eco elegance Chsl","Right",3,"Western","Andheri",56,224]
["Kamla Arcade Chsl","Left",2,"Navi Mumbai","Rabale",79,316]
["Kamla Arcade Chsl","Right",2,"Navi Mumbai","Rabale",79,316]
["Shreeji Villa","Left",2,"South Mumbai","Matunga Road",190,760]
["Shreeji Villa","Center",1,"South Mumbai","Matunga Road",190,760]
["C Teja Signature Chsl","Left",3,"Navi mumbai","Belapur",74,296]
["C Teja Signature Chsl","Right",3,"Navi mumbai","Belapur",74,296]
["Vinay Residency","Left",1,"Western","Mira Road",70,280]
["Vinay Residency","Right",1,"Western","Mira Road",70,280]
["New Rashmi Apartments","Left",3,"Thane","Mira road",86,344]
["New Rashmi Apartments","Right",3,"Thane","Mira road",86,344]
["Shree samarth Galaxy Chsl","Left",2,"Central","Bhandup",60,240]
["Shree Marleshwar chsl","Right",3,"Central","Bhandup",68,272]
["Seven Storied Welfare Association","Left",4,"Western","Goregaon",154,616]
["Seven Storied Welfare Association","Right",4,"Western","Goregaon",154,616]
["Balaji Aangan","Left",4,"Navi mumbai","Panvel",144,576]
["Balaji Aangan","Right",4,"Navi mumbai","Panvel",144,576]
["Woodland Heights","Left",2,"Central","Andheri West",130,520]
["Woodland Heights","Right",3,"Central","Andheri West",130,520]
["Powai jaltarang","Left",3,"Central","Powai",84,336]
["Powai jaltarang","Right",3,"Central","Powai",84,336]
["Eco residency","Center",2,"Western","Andheri",69,276]
["Malkans Gruhsankul","Left",3,"Navi Mumbai","Navi Mumbai",252,1008]
["Malkans Gruhsankul","Right",3,"Navi Mumbai","Navi Mumbai",252,1008]
["Progressive Signature","Left",3,"Navi Mumbai","Ghansoli",92,368]
["Progressive Signature","Right",3,"Navi Mumbai","Ghansoli",92,368]
["Today avenue CHSL","Left",1,"Navi Mumbai","Panvel",41,164]
["Today avenue CHSL","Right",1,"Navi Mumbai","Panvel",41,164]
["Rashmi Hetal Phase 2 Chs Y, Z","Left",2,"Western","Mira Road",56,224]
["Rashmi Hetal Phase 2 Chs Y, Z","Center",2,"Western","Mira Road",56,224]
["Anand paradise","Left",2,"Western","Bhayander east",52,208]
["Anand paradise","Right",2,"Western","Bhayander east",52,208]
["Eden rose bldg no 3","Left",3,"Western","Miraroad",84,336]
["Eden rose bldg no 3","Right",3,"Western","Miraroad",84,336]
["Omkar Welfare (Mahadev Complex)","Left",2,"Western","Mira road",270,1080]
["Omkar Welfare (Mahadev Complex)","Right",2,"Western","Mira road",270,1080]
["Swapnadeep Chsl","Left",2,"Thane","Mira road",109,436]
["Swapnadeep Chsl","Right",1,"Thane","Mira road",109,436]
["Mata Vaishno","Left",4,"Navi Mumbai","Seawoods",54,216]
["Shatdal","Left",6,"Western","Andheri",99,396]
["Shatdal","Right",6,"Western","Andheri",99,396]
["Metropolis CHSL","Left",6,"Western","Andheri",472,1888]
["Metropolis CHSL","Right",6,"Western","Andheri",472,1888]
["Pagoda view","Left",8,"Western","Kandivali",220,880]
["Pagoda view","Right",8,"Western","Kandivali",220,880]
["Aqsa Palace","Left",2,"Western","Andheri West",39,156]
["Aqsa Palace","Right",2,"Western","Andheri West",39,156]
["Vasant complex Chsl","Left",13,"WESTERN","Kandivali 19.216489069660355, 72.83732051108703",465,1860]
["Penrith Chsl","Left",4,"Thane","Hiranandani Estate",118,472]
["Penrith Chsl","Right",4,"Thane","Hiranandani Estate",118,472]
["Vihang Valley Phase 1","Left",10,"Thane","Sai Nagar",336,1344]
["Brahmand Phase 3","Left",6,"Thane","Thane",325,1300]
["Brahmand Phase 3","Right",8,"Thane","Thane",325,1300]
["Brahmand Phase 3","Center",6,"Thane","Thane",325,1300]
["SHREE SWAMI KRUPA PHASE 2","Left",6,"Thane","Thane",184,736]
["SHREE SWAMI KRUPA PHASE 2","Right",6,"Thane","Thane",184,736]
["Vihang HILLS CHSL","Right",12,"Thane","Thane",382,1528]
["Daffodil residency CHSL","Left",2,"Thane","Thane",128,512]
["Daffodil residency CHSL","Right",2,"Thane","Thane",128,512]
["Pride Residency Chsl","Left",6,"Thane","Thane",209,836]
["Pride Residency Chsl","Right",6,"Thane","Thane",209,836]
["Mahavir Kalpavrusha Maple & Cedar","Left",4,"Thane","Kasarvadavali",120,480]
["Mahavir Kalpavrusha Maple & Cedar","Right",4,"Thane","Kasarvadavali",120,480]
["Vijay garden Jasmine CHSL","Left",5,"Thane","kavesar",175,700]
["Vijay garden Jasmine CHSL","Right",4,"Thane","kavesar",175,700]
["Vijay garden Jasmine CHSL","Center",1,"Thane","kavesar",175,700]
["Rosa Gardenia","Left",16,"Thane","Thane",532,2128]
["Rosa Gardenia","Right",16,"Thane","Thane",532,2128]
["CHHEDA HEIGHTS","Left",6,"Central","Bhandup",174,696]
["CHHEDA HEIGHTS","Center",6,"Central","Bhandup",174,696]
["Vijay Vilas Vega","Left",6,"Thane","Thane",180,720]
["Vijay Vilas Vega","Right",6,"Thane","Thane",180,720]
["MAHAVIR KALPAVRUKSHA OAK & TULIP CHSL","Left",4,"Thane","Thane",132,528]
["MAHAVIR KALPAVRUKSHA OAK & TULIP CHSL","Right",4,"Thane","Thane",132,528]
["Mahavir Kalpvruksha Cora & hazel","Left",4,"Thane","Thane",150,600]
["Mahavir Kalpvruksha Cora & hazel","Right",4,"Thane","Thane",150,600]
["Mahavir Kalpavruksha Alcacia and Almond","Left",4,"Thane","Thane   ",116,464]
["Mahavir Kalpavruksha Alcacia and Almond","Right",4,"Thane","Thane   ",116,464]
["Kavya Hill View CO-OPERATIVE HOUSING SOCIETY LIMITED","Left",2,"Thane","Thane",105,420]
["Kavya Hill View CO-OPERATIVE HOUSING SOCIETY LIMITED","Right",2,"Thane","Thane",105,420]
["Happy Valley","Left",10,"Thane","Thane",175,700]
["Happy Valley","Right",12,"Thane","Thane",175,700]
["Rumah Bali B3","Left",3,"Thane","Thane",90,360]
["Rumah Bali B3","Right",3,"Thane","Thane",90,360]
["ASHOK SMRUTI","Left",6,"Thane","Kasarvadavali",120,480]
["ASHOK SMRUTI","Right",6,"Thane","Kasarvadavali",120,480]
["New Brahmand Phase 1","Left",7,"Thane","Brahmand Nagar",215,860]
["New Brahmand Phase 1","Right",7,"Thane","Brahmand Nagar",215,860]
["Fortuna hirandani chsl","Left",7,"Thane","Thane",166,664]
["Fortuna hirandani chsl","Right",7,"Thane","Thane",166,664]
["Horizon Heights A&B Chsl","Left",3,"Thane","Kasarwadavli",101,404]
["Horizon Heights A&B Chsl","Right",3,"Thane","Kasarwadavli",101,404]
["Vijay Vatika Chsl","Left",3,"Thane","Kavesar thane",128,512]
["Vijay Vatika Chsl","Center",1,"Thane","Kavesar thane",128,512]
["Mahavir Kalpavrusha Clover","Left",2,"Thane","Kasarvadavali",60,240]
["Mahavir Kalpavrusha Clover","Right",2,"Thane","Kasarvadavali",60,240]
["Centroid CHS","Right",4,"Central","Ghatkopar",131,524]
["PUSHPAK MITRA CHS","Left",2,"Central","Chembur",61,244]
["PUSHPAK MITRA CHS","Right",2,"Central","Chembur",61,244]
["Altavista apartment d wing","Left",2,"Central","Chembur",89,356]
["Altavista apartment d wing","Right",2,"Central","Chembur",89,356]
["Senina Chs","Left",2,"Thane","Thane",228,912]
["Senina Chs","Right",2,"Thane","Thane",228,912]
["Premier Exotica 1 C & D","Left",6,"Central","Kurla",212,848]
["Premier Exotica 1 C & D","Right",6,"Central","Kurla",212,848]
["Mahindra Park","Left",12,"Central","Ghatkopar",440,1760]
["Mahindra Park","Right",10,"Central","Ghatkopar",440,1760]
["Maitri Planet","Left",4,"Navi Mumbai","Kharghar",97,388]
["Maitri Planet","Right",4,"Navi Mumbai","Kharghar",97,388]
["Vihang vally phase 2 Chsl","Left",12,"Thane","G B road",372,1488]
["Vihang vally phase 2 Chsl","Right",12,"Thane","G B road",372,1488]
["Atlanta chs","Left",2,"Thane","Thane   ",64,256]
["Atlanta chs","Right",2,"Thane","Thane   ",64,256]
["Arctica Chsl","Left",5,"Thane","Dombivali",240,960]
["Arctica Chsl","Right",5,"Thane","Dombivali",240,960]
["Devdarshan complex","Left",6,"Central","Navi Mumbai",153,612]
["Devdarshan complex","Right",6,"Central","Navi Mumbai",153,612]
["Rustomjee Acura E Wing CHSL","Left",2,"Thane","Thane",44,176]
["Rustomjee Acura E Wing CHSL","Right",2,"Thane","Thane",44,176]
["Pluto A Wing Co-Operative Housing Society Limited","Left",1,null,"N/A","N/A","N/A"]
["Pluto A Wing Co-Operative Housing Society Limited","Right",1,null,"N/A","N/A","N/A"]
["Adcon Iris Chs","Left",1,null,"N/A","N/A","N/A"]
["Adcon Iris Chs","Right",1,null,"N/A","N/A","N/A"]
["Fortune Heights","Left",2,null,"N/A","N/A","N/A"]
["Fortune Heights","Right",2,null,"N/A","N/A","N/A"]
["Olivia CHSL","Left",1,null,"N/A","N/A","N/A"]
["Olivia CHSL","Right",1,null,"N/A","N/A","N/A"]
["Ashford B Wing CHSL","Left",4,null,"N/A","N/A","N/A"]
["Ashford B Wing CHSL","Right",4,null,"N/A","N/A","N/A"]
["The Symplex Mill","Left",2,null,"N/A","N/A","N/A"]
["The Symplex Mill","Right",2,null,"N/A","N/A","N/A"]
["Maurya chsl","Left",4,null,"N/A","N/A","N/A"]
["Maurya chsl","Right",4,null,"N/A","N/A","N/A"]
["Marina enclave a and b wing","Left",2,null,"N/A","N/A","N/A"]
["Marina enclave a and b wing","Right",2,null,"N/A","N/A","N/A"]
["Total",null,{"$f":"SUM(C2:C274)","v":1403},null,{"$f":"IFERROR(__xludf.DUMMYFUNCTION(\"iferror(VLOOKUP(B275,IMPORTRANGE(\"\"https://docs.google.com/spreadsheets/d/1-zcOrI_PgX9R0t6_sOpXptmEcBDI4IX9Gfz9-2a6his/edit#gid=0\"\",\"\"RWA!F:BZ\"\"),44,0))\"),\"\")","v":""},{"$f":"SUM(F3:F274)","v":52450},{"$f":"SUM(G3:G274)","v":209800}]
[{"$nulls":4},{"$f":"IFERROR(__xludf.DUMMYFUNCTION(\"iferror(VLOOKUP(B276,IMPORTRANGE(\"\"https://docs.google.com/spreadsheets/d/1-zcOrI_PgX9R0t6_sOpXptmEcBDI4IX9Gfz9-2a6his/edit#gid=0\"\",\"\"RWA!F:BZ\"\"),44,0))\"),\"\")","v":""},{"$f":"IFERROR(__xludf.DUMMYFUNCTION(\"iferror(VLOOKUP(B276,IMPORTRANGE(\"\"https://docs.google.com/spreadsheets/d/1-zcOrI_PgX9R0t6_sOpXptmEcBDI4IX9Gfz9-2a6his/edit#gid=0\"\",\"\"RWA!F:BZ\"\"),48,0))\"),\"\")","v":""},{"$f":"IFERROR(__xludf.DUMMYFUNCTION(\"iferror(VLOOKUP(B276,IMPORTRANGE(\"\"https://docs.google.com/spreadsheets/d/1-zcOrI_PgX9R0t6_sOpXptmEcBDI4IX9Gfz9-2a6his/edit#gid=0\"\",\"\"RWA!F:BZ\"\"),49,0))\"),\"\")","v":""}]
[{"$nulls":4},{"$f":"IFERROR(__xludf.DUMMYFUNCTION(\"iferror(VLOOKUP(B277,IMPORTRANGE(\"\"https://docs.google.com/spreadsheets/d/1-zcOrI_PgX9R0t6_sOpXptmEcBDI4IX9Gfz9-2a6his/edit#gid=0\"\",\"\"RWA!F:BZ\"\"),44,0))\"),\"\")","v":""},{"$f":"IFERROR(__xludf.DUMMYFUNCTION(\"iferror(VLOOKUP(B277,IMPORTRANGE(\"\"https://docs.google.com/spreadsheets/d/1-zcOrI_PgX9R0t6_sOpXptmEcBDI4IX9Gfz9-2a6his/edit#gid=0\"\",\"\"RWA!F:BZ\"\"),48,0))\"),\"\")","v":""},{"$f":"IFERROR(__xludf.DUMMYFUNCTION(\"iferror(VLOOKUP(B277,IMPORTRANGE(\"\"https://docs.google.com/spreadsheets/d/1-zcOrI_PgX9R0t6_sOpXptmEcBDI4IX9Gfz9-2a6his/edit#gid=0\"\",\"\"RWA!F:BZ\"\"),49,0))\"),\"\")","v":""}]
[{"$nulls":4},{"$f":"IFERROR(__xludf.DUMMYFUNCTION(\"iferror(VLOOKUP(B278,IMPORTRANGE(\"\"https://docs.google.com/spreadsheets/d/1-zcOrI_PgX9R0t6_sOpXptmEcBDI4IX9Gfz9-2a6his/edit#gid=0\"\",\"\"RWA!F:BZ\"\"),44,0))\"),\"\")","v":""},{"$f":"IFERROR(__xludf.DUMMYFUNCTION(\"iferror(VLOOKUP(B278,IMPORTRANGE(\"\"https://docs.google.com/spreadsheets/d/1-zcOrI_PgX9R0t6_sOpXptmEcBDI4IX9Gfz9-2a6his/edit#gid=0\"\",\"\"RWA!F:BZ\"\"),48,0))\"),\"\")","v":""},{"$f":"IFERROR(__xludf.DUMMYFUNCTION(\"iferror(VLOOKUP(B278,IMPORTRANGE(\"\"https://docs.google.com/spreadsheets/d/1-zcOrI_PgX9R0t6_sOpXptmEcBDI4IX9Gfz9-2a6his/edit#gid=0\"\",\"\"RWA!F:BZ\"\"),49,0))\"),\"\")","v":""}]
[{"$nulls":4},{"$f":"IFERROR(__xludf.DUMMYFUNCTION(\"iferror(VLOOKUP(B279,IMPORTRANGE(\"\"https://docs.google.com/spreadsheets/d/1-zcOrI_PgX9R0t6_sOpXptmEcBDI4IX9Gfz9-2a6his/edit#gid=0\"\",\"\"RWA!F:BZ\"\"),44,0))\"),\"\")","v":""},{"$f":"IFERROR(__xludf.DUMMYFUNCTION(\"iferror(VLOOKUP(B279,IMPORTRANGE(\"\"https://docs.google.com/spreadsheets/d/1-zcOrI_PgX9R0t6_sOpXptmEcBDI4IX9Gfz9-2a6his/edit#gid=0\"\",\"\"RWA!F:BZ\"\"),48,0))\"),\"\")","v":""},{"$f":"IFERROR(__xludf.DUMMYFUNCTION(\"iferror(VLOOKUP(B279,IMPORTRANGE(\"\"https://docs.google.com/spreadsheets/d/1-zcOrI_PgX9R0t6_sOpXptmEcBDI4IX9Gfz9-2a6his/edit#gid=0\"\",\"\"RWA!F:BZ\"\"),49,0))\"),\"\")","v":""}]
[{"$nulls":4},{"$f":"IFERROR(__xludf.DUMMYFUNCTION(\"iferror(VLOOKUP(B280,IMPORTRANGE(\"\"https://docs.google.com/spreadsheets/d/1-zcOrI_PgX9R0t6_sOpXptmEcBDI4IX9Gfz9-2a6his/edit#gid=0\"\",\"\"RWA!F:BZ\"\"),44,0))\"),\"\")","v":""},{"$f":"IFERROR(__xludf.DUMMYFUNCTION(\"iferror(VLOOKUP(B280,IMPORTRANGE(\"\"https://docs.google.com/spreadsheets/d/1-zcOrI_PgX9R0t6_sOpXptmEcBDI4IX9Gfz9-2a6his/edit#gid=0\"\",\"\"RWA!F:BZ\"\"),48,0))\"),\"\")","v":""},{"$f":"IFERROR(__xludf.DUMMYFUNCTION(\"iferror(VLOOKUP(B280,IMPORTRANGE(\"\"https://docs.google.com/spreadsheets/d/1-zcOrI_PgX9R0t6_sOpXptmEcBDI4IX9Gfz9-2a6his/edit#gid=0\"\",\"\"RWA!F:BZ\"\"),49,0))\"),\"\")","v":""}]
[{"$nulls":4},{"$f":"IFERROR(__xludf.DUMMYFUNCTION(\"iferror(VLOOKUP(B281,IMPORTRANGE(\"\"https://docs.google.com/spreadsheets/d/1-zcOrI_PgX9R0t6_sOpXptmEcBDI4IX9Gfz9-2a6his/edit#gid=0\"\",\"\"RWA!F:BZ\"\"),44,0))\"),\"\")","v":""},{"$f":"IFERROR(__xludf.DUMMYFUNCTION(\"iferror(VLOOKUP(B281,IMPORTRANGE(\"\"https://docs.google.com/spreadsheets/d/1-zcOrI_PgX9R0t6_sOpXptmEcBDI4IX9Gfz9-2a6his/edit#gid=0\"\",\"\"RWA!F:BZ\"\"),48,0))\"),\"\")","v":""},{"$f":"IFERROR(__xludf.DUMMYFUNCTION(\"iferror(VLOOKUP(B281,IMPORTRANGE(\"\"https://docs.google.com/spreadsheets/d/1-zcOrI_PgX9R0t6_sOpXptmEcBDI4IX9Gfz9-2a6his/edit#gid=0\"\",\"\"RWA!F:BZ\"\"),49,0))\"),\"\")","v":""}]
[{"$nulls":4},{"$f":"IFERROR(__xludf.DUMMYFUNCTION(\"iferror(VLOOKUP(B282,IMPORTRANGE(\"\"https://docs.google.com/spreadsheets/d/1-zcOrI_PgX9R0t6_sOpXptmEcBDI4IX9Gfz9-2a6his/edit#gid=0\"\",\"\"RWA!F:BZ\"\"),44,0))\"),\"\")","v":""},{"$f":"IFERROR(__xludf.DUMMYFUNCTION(\"iferror(VLOOKUP(B282,IMPORTRANGE(\"\"https://docs.google.com/spreadsheets/d/1-zcOrI_PgX9R0t6_sOpXptmEcBDI4IX9Gfz9-2a6his/edit#gid=0\"\",\"\"RWA!F:BZ\"\"),48,0))\"),\"\")","v":""},{"$f":"IFERROR(__xludf.DUMMYFUNCTION(\"iferror(VLOOKUP(B282,IMPORTRANGE(\"\"https://docs.google.com/spreadsheets/d/1-zcOrI_PgX9R0t6_sOpXptmEcBDI4IX9Gfz9-2a6his/edit#gid=0\"\",\"\"RWA!F:BZ\"\"),49,0))\"),\"\")","v":""}]
[{"$nulls":4},{"$f":"IFERROR(__xludf.DUMMYFUNCTION(\"iferror(VLOOKUP(B283,IMPORTRANGE(\"\"https://docs.google.com/spreadsheets/d/1-zcOrI_PgX9R0t6_sOpXptmEcBDI4IX9Gfz9-2a6his/edit#gid=0\"\",\"\"RWA!F:BZ\"\"),44,0))\"),\"\")","v":""},{"$f":"IFERROR(__xludf.DUMMYFUNCTION(\"iferror(VLOOKUP(B283,IMPORTRANGE(\"\"https://docs.google.com/spreadsheets/d/1-zcOrI_PgX9R0t6_sOpXptmEcBDI4IX9Gfz9-2a6his/edit#gid=0\"\",\"\"RWA!F:BZ\"\"),48,0))\"),\"\")","v":""},{"$f":"IFERROR(__xludf.DUMMYFUNCTION(\"iferror(VLOOKUP(B283,IMPORTRANGE(\"\"https://docs.google.com/spreadsheets/d/1-zcOrI_PgX9R0t6_sOpXptmEcBDI4IX9Gfz9-2a6his/edit#gid=0\"\",\"\"RWA!F:BZ\"\"),49,0))\"),\"\")","v":""}]
[{"$nulls":4},{"$f":"IFERROR(__xludf.DUMMYFUNCTION(\"iferror(VLOOKUP(B284,IMPORTRANGE(\"\"https://docs.google.com/spreadsheets/d/1-zcOrI_PgX9R0t6_sOpXptmEcBDI4IX9Gfz9-2a6his/edit#gid=0\"\",\"\"RWA!F:BZ\"\"),44,0))\"),\"\")","v":""},{"$f":"IFERROR(__xludf.DUMMYFUNCTION(\"iferror(VLOOKUP(B284,IMPORTRANGE(\"\"https://docs.google.com/spreadsheets/d/1-zcOrI_PgX9R0t6_sOpXptmEcBDI4IX9Gfz9-2a6his/edit#gid=0\"\",\"\"RWA!F:BZ\"\"),48,0))\"),\"\")","v":""},{"$f":"IFERROR(__xludf.DUMMYFUNCTION(\"iferror(VLOOKUP(B284,IMPORTRANGE(\"\"https://docs.google.com/spreadsheets/d/1-zcOrI_PgX9R0t6_sOpXptmEcBDI4IX9Gfz9-2a6his/edit#gid=0\"\",\"\"RWA!F:BZ\"\"),49,0))\"),\"\")","v":""}]
[{"$nulls":4},{"$f":"IFERROR(__xludf.DUMMYFUNCTION(\"iferror(VLOOKUP(B285,IMPORTRANGE(\"\"https://docs.google.com/spreadsheets/d/1-zcOrI_PgX9R0t6_sOpXptmEcBDI4IX9Gfz9-2a6his/edit#gid=0\"\",\"\"RWA!F:BZ\"\"),44,0))\"),\"\")","v":""},{"$f":"IFERROR(__xludf.DUMMYFUNCTION(\"iferror(VLOOKUP(B285,IMPORTRANGE(\"\"https://docs.google.com/spreadsheets/d/1-zcOrI_PgX9R0t6_sOpXptmEcBDI4IX9Gfz9-2a6his/edit#gid=0\"\",\"\"RWA!F:BZ\"\"),48,0))\"),\"\")","v":""},{"$f":"IFERROR(__xludf.DUMMYFUNCTION(\"iferror(VLOOKUP(B285,IMPORTRANGE(\"\"https://docs.google.com/spreadsheets/d/1-zcOrI_PgX9R0t6_sOpXptmEcBDI4IX9Gfz9-2a6his/edit#gid=0\"\",\"\"RWA!F:BZ\"\"),49,0))\"),\"\")","v":""}]
[{"$nulls":4},{"$f":"IFERROR(__xludf.DUMMYFUNCTION(\"iferror(VLOOKUP(B286,IMPORTRANGE(\"\"https://docs.google.com/spreadsheets/d/1-zcOrI_PgX9R0t6_sOpXptmEcBDI4IX9Gfz9-2a6his/edit#gid=0\"\",\"\"RWA!F:BZ\"\"),44,0))\"),\"\")","v":""},{"$f":"IFERROR(__xludf.DUMMYFUNCTION(\"iferror(VLOOKUP(B286,IMPORTRANGE(\"\"https://docs.google.com/spreadsheets/d/1-zcOrI_PgX9R0t6_sOpXptmEcBDI4IX9Gfz9-2a6his/edit#gid=0\"\",\"\"RWA!F:BZ\"\"),48,0))\"),\"\")","v":""},{"$f":"IFERROR(__xludf.DUMMYFUNCTION(\"iferror(VLOOKUP(B286,IMPORTRANGE(\"\"https://docs.google.com/spreadsheets/d/1-zcOrI_PgX9R0t6_sOpXptmEcBDI4IX9Gfz9-2a6his/edit#gid=0\"\",\"\"RWA!F:BZ\"\"),49,0))\"),\"\")","v":""}]
[{"$nulls":4},{"$f":"IFERROR(__xludf.DUMMYFUNCTION(\"iferror(VLOOKUP(B287,IMPORTRANGE(\"\"https://docs.google.com/spreadsheets/d/1-zcOrI_PgX9R0t6_sOpXptmEcBDI4IX9Gfz9-2a6his/edit#gid=0\"\",\"\"RWA!F:BZ\"\"),44,0))\"),\"\")","v":""},{"$f":"IFERROR(__xludf.DUMMYFUNCTION(\"iferror(VLOOKUP(B287,IMPORTRANGE(\"\"https://docs.google.com/spreadsheets/d/1-zcOrI_PgX9R0t6_sOpXptmEcBDI4IX9Gfz9-2a6his/edit#gid=0\"\",\"\"RWA!F:BZ\"\"),48,0))\"),\"\")","v":""},{"$f":"IFERROR(__xludf.DUMMYFUNCTION(\"iferror(VLOOKUP(B287,IMPORTRANGE(\"\"https://docs.google.com/spreadsheets/d/1-zcOrI_PgX9R0t6_sOpXptmEcBDI4IX9Gfz9-2a6his/edit#gid=0\"\",\"\"RWA!F:BZ\"\"),49,0))\"),\"\")","v":""}]
[{"$nulls":4},{"$f":"IFERROR(__xludf.DUMMYFUNCTION(\"iferror(VLOOKUP(B288,IMPORTRANGE(\"\"https://docs.google.com/spreadsheets/d/1-zcOrI_PgX9R0t6_sOpXptmEcBDI4IX9Gfz9-2a6his/edit#gid=0\"\",\"\"RWA!F:BZ\"\"),44,0))\"),\"\")","v":""},{"$f":"IFERROR(__xludf.DUMMYFUNCTION(\"iferror(VLOOKUP(B288,IMPORTRANGE(\"\"https://docs.google.com/spreadsheets/d/1-zcOrI_PgX9R0t6_sOpXptmEcBDI4IX9Gfz9-2a6his/edit#gid=0\"\",\"\"RWA!F:BZ\"\"),48,0))\"),\"\")","v":""},{"$f":"IFERROR(__xludf.DUMMYFUNCTION(\"iferror(VLOOKUP(B288,IMPORTRANGE(\"\"https://docs.google.com/spreadsheets/d/1-zcOrI_PgX9R0t6_sOpXptmEcBDI4IX9Gfz9-2a6his/edit#gid=0\"\",\"\"RWA!F:BZ\"\"),49,0))\"),\"\")","v":""}]
[{"$nulls":4},{"$f":"IFERROR(__xludf.DUMMYFUNCTION(\"iferror(VLOOKUP(B289,IMPORTRANGE(\"\"https://docs.google.com/spreadsheets/d/1-zcOrI_PgX9R0t6_sOpXptmEcBDI4IX9Gfz9-2a6his/edit#gid=0\"\",\"\"RWA!F:BZ\"\"),44,0))\"),\"\")","v":""},{"$f":"IFERROR(__xludf.DUMMYFUNCTION(\"iferror(VLOOKUP(B289,IMPORTRANGE(\"\"https://docs.google.com/spreadsheets/d/1-zcOrI_PgX9R0t6_sOpXptmEcBDI4IX9Gfz9-2a6his/edit#gid=0\"\",\"\"RWA!F:BZ\"\"),48,0))\"),\"\")","v":""},{"$f":"IFERROR(__xludf.DUMMYFUNCTION(\"iferror(VLOOKUP(B289,IMPORTRANGE(\"\"https://docs.google.com/spreadsheets/d/1-zcOrI_PgX9R0t6_sOpXptmEcBDI4IX9Gfz9-2a6his/edit#gid=0\"\",\"\"RWA!F:BZ\"\"),49,0))\"),\"\")","v":""}]
[{"$nulls":4},{"$f":"IFERROR(__xludf.DUMMYFUNCTION(\"iferror(VLOOKUP(B290,IMPORTRANGE(\"\"https://docs.google.com/spreadsheets/d/1-zcOrI_PgX9R0t6_sOpXptmEcBDI4IX9Gfz9-2a6his/edit#gid=0\"\",\"\"RWA!F:BZ\"\"),44,0))\"),\"\")","v":""},{"$f":"IFERROR(__xludf.DUMMYFUNCTION(\"iferror(VLOOKUP(B290,IMPORTRANGE(\"\"https://docs.google.com/spreadsheets/d/1-zcOrI_PgX9R0t6_sOpXptmEcBDI4IX9Gfz9-2a6his/edit#gid=0\"\",\"\"RWA!F:BZ\"\"),48,0))\"),\"\")","v":""},{"$f":"IFERROR(__xludf.DUMMYFUNCTION(\"iferror(VLOOKUP(B290,IMPORTRANGE(\"\"https://docs.google.com/spreadsheets/d/1-zcOrI_PgX9R0t6_sOpXptmEcBDI4IX9Gfz9-2a6his/edit#gid=0\"\",\"\"RWA!F:BZ\"\"),49,0))\"),\"\")","v":""}]
[{"$nulls":4},{"$f":"IFERROR(__xludf.DUMMYFUNCTION(\"iferror(VLOOKUP(B291,IMPORTRANGE(\"\"https://docs.google.com/spreadsheets/d/1-zcOrI_PgX9R0t6_sOpXptmEcBDI4IX9Gfz9-2a6his/edit#gid=0\"\",\"\"RWA!F:BZ\"\"),44,0))\"),\"\")","v":""},{"$f":"IFERROR(__xludf.DUMMYFUNCTION(\"iferror(VLOOKUP(B291,IMPORTRANGE(\"\"https://docs.google.com/spreadsheets/d/1-zcOrI_PgX9R0t6_sOpXptmEcBDI4IX9Gfz9-2a6his/edit#gid=0\"\",\"\"RWA!F:BZ\"\"),48,0))\"),\"\")","v":""},{"$f":"IFERROR(__xludf.DUMMYFUNCTION(\"iferror(VLOOKUP(B291,IMPORTRANGE(\"\"https://docs.google.com/spreadsheets/d/1-zcOrI_PgX9R0t6_sOpXptmEcBDI4IX9Gfz9-2a6his/edit#gid=0\"\",\"\"RWA!F:BZ\"\"),49,0))\"),\"\")","v":""}]
[{"$nulls":4},{"$f":"IFERROR(__xludf.DUMMYFUNCTION(\"iferror(VLOOKUP(B292,IMPORTRANGE(\"\"https://docs.google.com/spreadsheets/d/1-zcOrI_PgX9R0t6_sOpXptmEcBDI4IX9Gfz9-2a6his/edit#gid=0\"\",\"\"RWA!F:BZ\"\"),44,0))\"),\"\")","v":""},{"$f":"IFERROR(__xludf.DUMMYFUNCTION(\"iferror(VLOOKUP(B292,IMPORTRANGE(\"\"https://docs.google.com/spreadsheets/d/1-zcOrI_PgX9R0t6_sOpXptmEcBDI4IX9Gfz9-2a6his/edit#gid=0\"\",\"\"RWA!F:BZ\"\"),48,0))\"),\"\")","v":""},{"$f":"IFERROR(__xludf.DUMMYFUNCTION(\"iferror(VLOOKUP(B292,IMPORTRANGE(\"\"https://docs.google.com/spreadsheets/d/1-zcOrI_PgX9R0t6_sOpXptmEcBDI4IX9Gfz9-2a6his/edit#gid=0\"\",\"\"RWA!F:BZ\"\"),49,0))\"),\"\")","v":""}]
[{"$nulls":4},{"$f":"IFERROR(__xludf.DUMMYFUNCTION(\"iferror(VLOOKUP(B293,IMPORTRANGE(\"\"https://docs.google.com/spreadsheets/d/1-zcOrI_PgX9R0t6_sOpXptmEcBDI4IX9Gfz9-2a6his/edit#gid=0\"\",\"\"RWA!F:BZ\"\"),44,0))\"),\"\")","v":""},{"$f":"IFERROR(__xludf.DUMMYFUNCTION(\"iferror(VLOOKUP(B293,IMPORTRANGE(\"\"https://docs.google.com/spreadsheets/d/1-zcOrI_PgX9R0t6_sOpXptmEcBDI4IX9Gfz9-2a6his/edit#gid=0\"\",\"\"RWA!F:BZ\"\"),48,0))\"),\"\")","v":""},{"$f":"IFERROR(__xludf.DUMMYFUNCTION(\"iferror(VLOOKUP(B293,IMPORTRANGE(\"\"https://docs.google.com/spreadsheets/d/1-zcOrI_PgX9R0t6_sOpXptmEcBDI4IX9Gfz9-2a6his/edit#gid=0\"\",\"\"RWA!F:BZ\"\"),49,0))\"),\"\")","v":""}]
[{"$nulls":4},{"$f":"IFERROR(__xludf.DUMMYFUNCTION(\"iferror(VLOOKUP(B294,IMPORTRANGE(\"\"https://docs.google.com/spreadsheets/d/1-zcOrI_PgX9R0t6_sOpXptmEcBDI4IX9Gfz9-2a6his/edit#gid=0\"\",\"\"RWA!F:BZ\"\"),44,0))\"),\"\")","v":""},{"$f":"IFERROR(__xludf.DUMMYFUNCTION(\"iferror(VLOOKUP(B294,IMPORTRANGE(\"\"https://docs.google.com/spreadsheets/d/1-zcOrI_PgX9R0t6_sOpXptmEcBDI4IX9Gfz9-2a6his/edit#gid=0\"\",\"\"RWA!F:BZ\"\"),48,0))\"),\"\")","v":""},{"$f":"IFERROR(__xludf.DUMMYFUNCTION(\"iferror(VLOOKUP(B294,IMPORTRANGE(\"\"https://docs.google.com/spreadsheets/d/1-zcOrI_PgX9R0t6_sOpXptmEcBDI4IX9Gfz9-2a6his/edit#gid=0\"\",\"\"RWA!F:BZ\"\"),49,0))\"),\"\")","v":""}]
[{"$nulls":4},{"$f":"IFERROR(__xludf.DUMMYFUNCTION(\"iferror(VLOOKUP(B295,IMPORTRANGE(\"\"https://docs.google.com/spreadsheets/d/1-zcOrI_PgX9R0t6_sOpXptmEcBDI4IX9Gfz9-2a6his/edit#gid=0\"\",\"\"RWA!F:BZ\"\"),44,0))\"),\"\")","v":""},{"$f":"IFERROR(__xludf.DUMMYFUNCTION(\"iferror(VLOOKUP(B295,IMPORTRANGE(\"\"https://docs.google.com/spreadsheets/d/1-zcOrI_PgX9R0t6_sOpXptmEcBDI4IX9Gfz9-2a6his/edit#gid=0\"\",\"\"RWA!F:BZ\"\"),48,0))\"),\"\")","v":""},{"$f":"IFERROR(__xludf.DUMMYFUNCTION(\"iferror(VLOOKUP(B295,IMPORTRANGE(\"\"https://docs.google.com/spreadsheets/d/1-zcOrI_PgX9R0t6_sOpXptmEcBDI4IX9Gfz9-2a6his/edit#gid=0\"\",\"\"RWA!F:BZ\"\"),49,0))\"),\"\")","v":""}]
[{"$nulls":4},{"$f":"IFERROR(__xludf.DUMMYFUNCTION(\"iferror(VLOOKUP(B296,IMPORTRANGE(\"\"https://docs.google.com/spreadsheets/d/1-zcOrI_PgX9R0t6_sOpXptmEcBDI4IX9Gfz9-2a6his/edit#gid=0\"\",\"\"RWA!F:BZ\"\"),44,0))\"),\"\")","v":""},{"$f":"IFERROR(__xludf.DUMMYFUNCTION(\"iferror(VLOOKUP(B296,IMPORTRANGE(\"\"https://docs.google.com/spreadsheets/d/1-zcOrI_PgX9R0t6_sOpXptmEcBDI4IX9Gfz9-2a6his/edit#gid=0\"\",\"\"RWA!F:BZ\"\"),48,0))\"),\"\")","v":""},{"$f":"IFERROR(__xludf.DUMMYFUNCTION(\"iferror(VLOOKUP(B296,IMPORTRANGE(\"\"https://docs.google.com/spreadsheets/d/1-zcOrI_PgX9R0t6_sOpXptmEcBDI4IX9Gfz9-2a6his/edit#gid=0\"\",\"\"RWA!F:BZ\"\"),49,0))\"),\"\")","v":""}]
[{"$nulls":4},{"$f":"IFERROR(__xludf.DUMMYFUNCTION(\"iferror(VLOOKUP(B297,IMPORTRANGE(\"\"https://docs.google.com/spreadsheets/d/1-zcOrI_PgX9R0t6_sOpXptmEcBDI4IX9Gfz9-2a6his/edit#gid=0\"\",\"\"RWA!F:BZ\"\"),44,0))\"),\"\")","v":""},{"$f":"IFERROR(__xludf.DUMMYFUNCTION(\"iferror(VLOOKUP(B297,IMPORTRANGE(\"\"https://docs.google.com/spreadsheets/d/1-zcOrI_PgX9R0t6_sOpXptmEcBDI4IX9Gfz9-2a6his/edit#gid=0\"\",\"\"RWA!F:BZ\"\"),48,0))\"),\"\")","v":""},{"$f":"IFERROR(__xludf.DUMMYFUNCTION(\"iferror(VLOOKUP(B297,IMPORTRANGE(\"\"https://docs.google.com/spreadsheets/d/1-zcOrI_PgX9R0t6_sOpXptmEcBDI4IX9Gfz9-2a6his/edit#gid=0\"\",\"\"RWA!F:BZ\"\"),49,0))\"),\"\")","v":""}]
[{"$nulls":4},{"$f":"IFERROR(__xludf.DUMMYFUNCTION(\"iferror(VLOOKUP(B298,IMPORTRANGE(\"\"https://docs.google.com/spreadsheets/d/1-zcOrI_PgX9R0t6_sOpXptmEcBDI4IX9Gfz9-2a6his/edit#gid=0\"\",\"\"RWA!F:BZ\"\"),44,0))\"),\"\")","v":""},{"$f":"IFERROR(__xludf.DUMMYFUNCTION(\"iferror(VLOOKUP(B298,IMPORTRANGE(\"\"https://docs.google.com/spreadsheets/d/1-zcOrI_PgX9R0t6_sOpXptmEcBDI4IX9Gfz9-2a6his/edit#gid=0\"\",\"\"RWA!F:BZ\"\"),48,0))\"),\"\")","v":""},{"$f":"IFERROR(__xludf.DUMMYFUNCTION(\"iferror(VLOOKUP(B298,IMPORTRANGE(\"\"https://docs.google.com/spreadsheets/d/1-zcOrI_PgX9R0t6_sOpXptmEcBDI4IX9Gfz9-2a6his/edit#gid=0\"\",\"\"RWA!F:BZ\"\"),49,0))\"),\"\")","v":""}]
[{"$nulls":4},{"$f":"IFERROR(__xludf.DUMMYFUNCTION(\"iferror(VLOOKUP(B299,IMPORTRANGE(\"\"https://docs.google.com/spreadsheets/d/1-zcOrI_PgX9R0t6_sOpXptmEcBDI4IX9Gfz9-2a6his/edit#gid=0\"\",\"\"RWA!F:BZ\"\"),44,0))\"),\"\")","v":""},{"$f":"IFERROR(__xludf.DUMMYFUNCTION(\"iferror(VLOOKUP(B299,IMPORTRANGE(\"\"https://docs.google.com/spreadsheets/d/1-zcOrI_PgX9R0t6_sOpXptmEcBDI4IX9Gfz9-2a6his/edit#gid=0\"\",\"\"RWA!F:BZ\"\"),48,0))\"),\"\")","v":""},{"$f":"IFERROR(__xludf.DUMMYFUNCTION(\"iferror(VLOOKUP(B299,IMPORTRANGE(\"\"https://docs.google.com/spreadsheets/d/1-zcOrI_PgX9R0t6_sOpXptmEcBDI4IX9Gfz9-2a6his/edit#gid=0\"\",\"\"RWA!F:BZ\"\"),49,0))\"),\"\")","v":""}]
[{"$nulls":4},{"$f":"IFERROR(__xludf.DUMMYFUNCTION(\"iferror(VLOOKUP(B300,IMPORTRANGE(\"\"https://docs.google.com/spreadsheets/d/1-zcOrI_PgX9R0t6_sOpXptmEcBDI4IX9Gfz9-2a6his/edit#gid=0\"\",\"\"RWA!F:BZ\"\"),44,0))\"),\"\")","v":""},{"$f":"IFERROR(__xludf.DUMMYFUNCTION(\"iferror(VLOOKUP(B300,IMPORTRANGE(\"\"https://docs.google.com/spreadsheets/d/1-zcOrI_PgX9R0t6_sOpXptmEcBDI4IX9Gfz9-2a6his/edit#gid=0\"\",\"\"RWA!F:BZ\"\"),48,0))\"),\"\")","v":""},{"$f":"IFERROR(__xludf.DUMMYFUNCTION(\"iferror(VLOOKUP(B300,IMPORTRANGE(\"\"https://docs.google.com/spreadsheets/d/1-zcOrI_PgX9R0t6_sOpXptmEcBDI4IX9Gfz9-2a6his/edit#gid=0\"\",\"\"RWA!F:BZ\"\"),49,0))\"),\"\")","v":""}]
[{"$nulls":4},{"$f":"IFERROR(__xludf.DUMMYFUNCTION(\"iferror(VLOOKUP(B301,IMPORTRANGE(\"\"https://docs.google.com/spreadsheets/d/1-zcOrI_PgX9R0t6_sOpXptmEcBDI4IX9Gfz9-2a6his/edit#gid=0\"\",\"\"RWA!F:BZ\"\"),44,0))\"),\"\")","v":""},{"$f":"IFERROR(__xludf.DUMMYFUNCTION(\"iferror(VLOOKUP(B301,IMPORTRANGE(\"\"https://docs.google.com/spreadsheets/d/1-zcOrI_PgX9R0t6_sOpXptmEcBDI4IX9Gfz9-2a6his/edit#gid=0\"\",\"\"RWA!F:BZ\"\"),48,0))\"),\"\")","v":""},{"$f":"IFERROR(__xludf.DUMMYFUNCTION(\"iferror(VLOOKUP(B301,IMPORTRANGE(\"\"https://docs.google.com/spreadsheets/d/1-zcOrI_PgX9R0t6_sOpXptmEcBDI4IX9Gfz9-2a6his/edit#gid=0\"\",\"\"RWA!F:BZ\"\"),49,0))\"),\"\")","v":""}]
[{"$nulls":4},{"$f":"IFERROR(__xludf.DUMMYFUNCTION(\"iferror(VLOOKUP(B302,IMPORTRANGE(\"\"https://docs.google.com/spreadsheets/d/1-zcOrI_PgX9R0t6_sOpXptmEcBDI4IX9Gfz9-2a6his/edit#gid=0\"\",\"\"RWA!F:BZ\"\"),44,0))\"),\"\")","v":""},{"$f":"IFERROR(__xludf.DUMMYFUNCTION(\"iferror(VLOOKUP(B302,IMPORTRANGE(\"\"https://docs.google.com/spreadsheets/d/1-zcOrI_PgX9R0t6_sOpXptmEcBDI4IX9Gfz9-2a6his/edit#gid=0\"\",\"\"RWA!F:BZ\"\"),48,0))\"),\"\")","v":""},{"$f":"IFERROR(__xludf.DUMMYFUNCTION(\"iferror(VLOOKUP(B302,IMPORTRANGE(\"\"https://docs.google.com/spreadsheets/d/1-zcOrI_PgX9R0t6_sOpXptmEcBDI4IX9Gfz9-2a6his/edit#gid=0\"\",\"\"RWA!F:BZ\"\"),49,0))\"),\"\")","v":""}]
[{"$nulls":4},{"$f":"IFERROR(__xludf.DUMMYFUNCTION(\"iferror(VLOOKUP(B303,IMPORTRANGE(\"\"https://docs.google.com/spreadsheets/d/1-zcOrI_PgX9R0t6_sOpXptmEcBDI4IX9Gfz9-2a6his/edit#gid=0\"\",\"\"RWA!F:BZ\"\"),44,0))\"),\"\")","v":""},{"$f":"IFERROR(__xludf.DUMMYFUNCTION(\"iferror(VLOOKUP(B303,IMPORTRANGE(\"\"https://docs.google.com/spreadsheets/d/1-zcOrI_PgX9R0t6_sOpXptmEcBDI4IX9Gfz9-2a6his/edit#gid=0\"\",\"\"RWA!F:BZ\"\"),48,0))\"),\"\")","v":""},{"$f":"IFERROR(__xludf.DUMMYFUNCTION(\"iferror(VLOOKUP(B303,IMPORTRANGE(\"\"https://docs.google.com/spreadsheets/d/1-zcOrI_PgX9R0t6_sOpXptmEcBDI4IX9Gfz9-2a6his/edit#gid=0\"\",\"\"RWA!F:BZ\"\"),49,0))\"),\"\")","v":""}]
[{"$nulls":4},{"$f":"IFERROR(__xludf.DUMMYFUNCTION(\"iferror(VLOOKUP(B304,IMPORTRANGE(\"\"https://docs.google.com/spreadsheets/d/1-zcOrI_PgX9R0t6_sOpXptmEcBDI4IX9Gfz9-2a6his/edit#gid=0\"\",\"\"RWA!F:BZ\"\"),44,0))\"),\"\")","v":""},{"$f":"IFERROR(__xludf.DUMMYFUNCTION(\"iferror(VLOOKUP(B304,IMPORTRANGE(\"\"https://docs.google.com/spreadsheets/d/1-zcOrI_PgX9R0t6_sOpXptmEcBDI4IX9Gfz9-2a6his/edit#gid=0\"\",\"\"RWA!F:BZ\"\"),48,0))\"),\"\")","v":""},{"$f":"IFERROR(__xludf.DUMMYFUNCTION(\"iferror(VLOOKUP(B304,IMPORTRANGE(\"\"https://docs.google.com/spreadsheets/d/1-zcOrI_PgX9R0t6_sOpXptmEcBDI4IX9Gfz9-2a6his/edit#gid=0\"\",\"\"RWA!F:BZ\"\"),49,0))\"),\"\")","v":""}]
[{"$nulls":4},{"$f":"IFERROR(__xludf.DUMMYFUNCTION(\"iferror(VLOOKUP(B305,IMPORTRANGE(\"\"https://docs.google.com/spreadsheets/d/1-zcOrI_PgX9R0t6_sOpXptmEcBDI4IX9Gfz9-2a6his/edit#gid=0\"\",\"\"RWA!F:BZ\"\"),44,0))\"),\"\")","v":""},{"$f":"IFERROR(__xludf.DUMMYFUNCTION(\"iferror(VLOOKUP(B305,IMPORTRANGE(\"\"https://docs.google.com/spreadsheets/d/1-zcOrI_PgX9R0t6_sOpXptmEcBDI4IX9Gfz9-2a6his/edit#gid=0\"\",\"\"RWA!F:BZ\"\"),48,0))\"),\"\")","v":""},{"$f":"IFERROR(__xludf.DUMMYFUNCTION(\"iferror(VLOOKUP(B305,IMPORTRANGE(\"\"https://docs.google.com/spreadsheets/d/1-zcOrI_PgX9R0t6_sOpXptmEcBDI4IX9Gfz9-2a6his/edit#gid=0\"\",\"\"RWA!F:BZ\"\"),49,0))\"),\"\")","v":""}]
[{"$nulls":4},{"$f":"IFERROR(__xludf.DUMMYFUNCTION(\"iferror(VLOOKUP(B306,IMPORTRANGE(\"\"https://docs.google.com/spreadsheets/d/1-zcOrI_PgX9R0t6_sOpXptmEcBDI4IX9Gfz9-2a6his/edit#gid=0\"\",\"\"RWA!F:BZ\"\"),44,0))\"),\"\")","v":""},{"$f":"IFERROR(__xludf.DUMMYFUNCTION(\"iferror(VLOOKUP(B306,IMPORTRANGE(\"\"https://docs.google.com/spreadsheets/d/1-zcOrI_PgX9R0t6_sOpXptmEcBDI4IX9Gfz9-2a6his/edit#gid=0\"\",\"\"RWA!F:BZ\"\"),48,0))\"),\"\")","v":""},{"$f":"IFERROR(__xludf.DUMMYFUNCTION(\"iferror(VLOOKUP(B306,IMPORTRANGE(\"\"https://docs.google.com/spreadsheets/d/1-zcOrI_PgX9R0t6_sOpXptmEcBDI4IX9Gfz9-2a6his/edit#gid=0\"\",\"\"RWA!F:BZ\"\"),49,0))\"),\"\")","v":""}]
[{"$nulls":4},{"$f":"IFERROR(__xludf.DUMMYFUNCTION(\"iferror(VLOOKUP(B307,IMPORTRANGE(\"\"https://docs.google.com/spreadsheets/d/1-zcOrI_PgX9R0t6_sOpXptmEcBDI4IX9Gfz9-2a6his/edit#gid=0\"\",\"\"RWA!F:BZ\"\"),44,0))\"),\"\")","v":""},{"$f":"IFERROR(__xludf.DUMMYFUNCTION(\"iferror(VLOOKUP(B307,IMPORTRANGE(\"\"https://docs.google.com/spreadsheets/d/1-zcOrI_PgX9R0t6_sOpXptmEcBDI4IX9Gfz9-2a6his/edit#gid=0\"\",\"\"RWA!F:BZ\"\"),48,0))\"),\"\")","v":""},{"$f":"IFERROR(__xludf.DUMMYFUNCTION(\"iferror(VLOOKUP(B307,IMPORTRANGE(\"\"https://docs.google.com/spreadsheets/d/1-zcOrI_PgX9R0t6_sOpXptmEcBDI4IX9Gfz9-2a6his/edit#gid=0\"\",\"\"RWA!F:BZ\"\"),49,0))\"),\"\")","v":""}]
[{"$nulls":4},{"$f":"IFERROR(__xludf.DUMMYFUNCTION(\"iferror(VLOOKUP(B308,IMPORTRANGE(\"\"https://docs.google.com/spreadsheets/d/1-zcOrI_PgX9R0t6_sOpXptmEcBDI4IX9Gfz9-2a6his/edit#gid=0\"\",\"\"RWA!F:BZ\"\"),44,0))\"),\"\")","v":""},{"$f":"IFERROR(__xludf.DUMMYFUNCTION(\"iferror(VLOOKUP(B308,IMPORTRANGE(\"\"https://docs.google.com/spreadsheets/d/1-zcOrI_PgX9R0t6_sOpXptmEcBDI4IX9Gfz9-2a6his/edit#gid=0\"\",\"\"RWA!F:BZ\"\"),48,0))\"),\"\")","v":""},{"$f":"IFERROR(__xludf.DUMMYFUNCTION(\"iferror(VLOOKUP(B308,IMPORTRANGE(\"\"https://docs.google.com/spreadsheets/d/1-zcOrI_PgX9R0t6_sOpXptmEcBDI4IX9Gfz9-2a6his/edit#gid=0\"\",\"\"RWA!F:BZ\"\"),49,0))\"),\"\")","v":""}]
[{"$nulls":4},{"$f":"IFERROR(__xludf.DUMMYFUNCTION(\"iferror(VLOOKUP(B309,IMPORTRANGE(\"\"https://docs.google.com/spreadsheets/d/1-zcOrI_PgX9R0t6_sOpXptmEcBDI4IX9Gfz9-2a6his/edit#gid=0\"\",\"\"RWA!F:BZ\"\"),44,0))\"),\"\")","v":""},{"$f":"IFERROR(__xludf.DUMMYFUNCTION(\"iferror(VLOOKUP(B309,IMPORTRANGE(\"\"https://docs.google.com/spreadsheets/d/1-zcOrI_PgX9R0t6_sOpXptmEcBDI4IX9Gfz9-2a6his/edit#gid=0\"\",\"\"RWA!F:BZ\"\"),48,0))\"),\"\")","v":""},{"$f":"IFERROR(__xludf.DUMMYFUNCTION(\"iferror(VLOOKUP(B309,IMPORTRANGE(\"\"https://docs.google.com/spreadsheets/d/1-zcOrI_PgX9R0t6_sOpXptmEcBDI4IX9Gfz9-2a6his/edit#gid=0\"\",\"\"RWA!F:BZ\"\"),49,0))\"),\"\")","v":""}]
[{"$nulls":4},{"$f":"IFERROR(__xludf.DUMMYFUNCTION(\"iferror(VLOOKUP(B310,IMPORTRANGE(\"\"https://docs.google.com/spreadsheets/d/1-zcOrI_PgX9R0t6_sOpXptmEcBDI4IX9Gfz9-2a6his/edit#gid=0\"\",\"\"RWA!F:BZ\"\"),44,0))\"),\"\")","v":""},{"$f":"IFERROR(__xludf.DUMMYFUNCTION(\"iferror(VLOOKUP(B310,IMPORTRANGE(\"\"https://docs.google.com/spreadsheets/d/1-zcOrI_PgX9R0t6_sOpXptmEcBDI4IX9Gfz9-2a6his/edit#gid=0\"\",\"\"RWA!F:BZ\"\"),48,0))\"),\"\")","v":""},{"$f":"IFERROR(__xludf.DUMMYFUNCTION(\"iferror(VLOOKUP(B310,IMPORTRANGE(\"\"https://docs.google.com/spreadsheets/d/1-zcOrI_PgX9R0t6_sOpXptmEcBDI4IX9Gfz9-2a6his/edit#gid=0\"\",\"\"RWA!F:BZ\"\"),49,0))\"),\"\")","v":""}]
[{"$nulls":4},{"$f":"IFERROR(__xludf.DUMMYFUNCTION(\"iferror(VLOOKUP(B311,IMPORTRANGE(\"\"https://docs.google.com/spreadsheets/d/1-zcOrI_PgX9R0t6_sOpXptmEcBDI4IX9Gfz9-2a6his/edit#gid=0\"\",\"\"RWA!F:BZ\"\"),44,0))\"),\"\")","v":""},{"$f":"IFERROR(__xludf.DUMMYFUNCTION(\"iferror(VLOOKUP(B311,IMPORTRANGE(\"\"https://docs.google.com/spreadsheets/d/1-zcOrI_PgX9R0t6_sOpXptmEcBDI4IX9Gfz9-2a6his/edit#gid=0\"\",\"\"RWA!F:BZ\"\"),48,0))\"),\"\")","v":""},{"$f":"IFERROR(__xludf.DUMMYFUNCTION(\"iferror(VLOOKUP(B311,IMPORTRANGE(\"\"https://docs.google.com/spreadsheets/d/1-zcOrI_PgX9R0t6_sOpXptmEcBDI4IX9Gfz9-2a6his/edit#gid=0\"\",\"\"RWA!F:BZ\"\"),49,0))\"),\"\")","v":""}]
[{"$nulls":4},{"$f":"IFERROR(__xludf.DUMMYFUNCTION(\"iferror(VLOOKUP(B312,IMPORTRANGE(\"\"https://docs.google.com/spreadsheets/d/1-zcOrI_PgX9R0t6_sOpXptmEcBDI4IX9Gfz9-2a6his/edit#gid=0\"\",\"\"RWA!F:BZ\"\"),44,0))\"),\"\")","v":""},{"$f":"IFERROR(__xludf.DUMMYFUNCTION(\"iferror(VLOOKUP(B312,IMPORTRANGE(\"\"https://docs.google.com/spreadsheets/d/1-zcOrI_PgX9R0t6_sOpXptmEcBDI4IX9Gfz9-2a6his/edit#gid=0\"\",\"\"RWA!F:BZ\"\"),48,0))\"),\"\")","v":""},{"$f":"IFERROR(__xludf.DUMMYFUNCTION(\"iferror(VLOOKUP(B312,IMPORTRANGE(\"\"https://docs.google.com/spreadsheets/d/1-zcOrI_PgX9R0t6_sOpXptmEcBDI4IX9Gfz9-2a6his/edit#gid=0\"\",\"\"RWA!F:BZ\"\"),49,0))\"),\"\")","v":""}]
[{"$nulls":4},{"$f":"IFERROR(__xludf.DUMMYFUNCTION(\"iferror(VLOOKUP(B313,IMPORTRANGE(\"\"https://docs.google.com/spreadsheets/d/1-zcOrI_PgX9R0t6_sOpXptmEcBDI4IX9Gfz9-2a6his/edit#gid=0\"\",\"\"RWA!F:BZ\"\"),44,0))\"),\"\")","v":""},{"$f":"IFERROR(__xludf.DUMMYFUNCTION(\"iferror(VLOOKUP(B313,IMPORTRANGE(\"\"https://docs.google.com/spreadsheets/d/1-zcOrI_PgX9R0t6_sOpXptmEcBDI4IX9Gfz9-2a6his/edit#gid=0\"\",\"\"RWA!F:BZ\"\"),48,0))\"),\"\")","v":""},{"$f":"IFERROR(__xludf.DUMMYFUNCTION(\"iferror(VLOOKUP(B313,IMPORTRANGE(\"\"https://docs.google.com/spreadsheets/d/1-zcOrI_PgX9R0t6_sOpXptmEcBDI4IX9Gfz9-2a6his/edit#gid=0\"\",\"\"RWA!F:BZ\"\"),49,0))\"),\"\")","v":""}]
[{"$nulls":4},{"$f":"IFERROR(__xludf.DUMMYFUNCTION(\"iferror(VLOOKUP(B314,IMPORTRANGE(\"\"https://docs.google.com/spreadsheets/d/1-zcOrI_PgX9R0t6_sOpXptmEcBDI4IX9Gfz9-2a6his/edit#gid=0\"\",\"\"RWA!F:BZ\"\"),44,0))\"),\"\")","v":""},{"$f":"IFERROR(__xludf.DUMMYFUNCTION(\"iferror(VLOOKUP(B314,IMPORTRANGE(\"\"https://docs.google.com/spreadsheets/d/1-zcOrI_PgX9R0t6_sOpXptmEcBDI4IX9Gfz9-2a6his/edit#gid=0\"\",\"\"RWA!F:BZ\"\"),48,0))\"),\"\")","v":""},{"$f":"IFERROR(__xludf.DUMMYFUNCTION(\"iferror(VLOOKUP(B314,IMPORTRANGE(\"\"https://docs.google.com/spreadsheets/d/1-zcOrI_PgX9R0t6_sOpXptmEcBDI4IX9Gfz9-2a6his/edit#gid=0\"\",\"\"RWA!F:BZ\"\"),49,0))\"),\"\")","v":""}]
[{"$nulls":4},{"$f":"IFERROR(__xludf.DUMMYFUNCTION(\"iferror(VLOOKUP(B315,IMPORTRANGE(\"\"https://docs.google.com/spreadsheets/d/1-zcOrI_PgX9R0t6_sOpXptmEcBDI4IX9Gfz9-2a6his/edit#gid=0\"\",\"\"RWA!F:BZ\"\"),44,0))\"),\"\")","v":""},{"$f":"IFERROR(__xludf.DUMMYFUNCTION(\"iferror(VLOOKUP(B315,IMPORTRANGE(\"\"https://docs.google.com/spreadsheets/d/1-zcOrI_PgX9R0t6_sOpXptmEcBDI4IX9Gfz9-2a6his/edit#gid=0\"\",\"\"RWA!F:BZ\"\"),48,0))\"),\"\")","v":""},{"$f":"IFERROR(__xludf.DUMMYFUNCTION(\"iferror(VLOOKUP(B315,IMPORTRANGE(\"\"https://docs.google.com/spreadsheets/d/1-zcOrI_PgX9R0t6_sOpXptmEcBDI4IX9Gfz9-2a6his/edit#gid=0\"\",\"\"RWA!F:BZ\"\"),49,0))\"),\"\")","v":""}]
[{"$nulls":4},{"$f":"IFERROR(__xludf.DUMMYFUNCTION(\"iferror(VLOOKUP(B316,IMPORTRANGE(\"\"https://docs.google.com/spreadsheets/d/1-zcOrI_PgX9R0t6_sOpXptmEcBDI4IX9Gfz9-2a6his/edit#gid=0\"\",\"\"RWA!F:BZ\"\"),44,0))\"),\"\")","v":""},{"$f":"IFERROR(__xludf.DUMMYFUNCTION(\"iferror(VLOOKUP(B316,IMPORTRANGE(\"\"https://docs.google.com/spreadsheets/d/1-zcOrI_PgX9R0t6_sOpXptmEcBDI4IX9Gfz9-2a6his/edit#gid=0\"\",\"\"RWA!F:BZ\"\"),48,0))\"),\"\")","v":""},{"$f":"IFERROR(__xludf.DUMMYFUNCTION(\"iferror(VLOOKUP(B316,IMPORTRANGE(\"\"https://docs.google.com/spreadsheets/d/1-zcOrI_PgX9R0t6_sOpXptmEcBDI4IX9Gfz9-2a6his/edit#gid=0\"\",\"\"RWA!F:BZ\"\"),49,0))\"),\"\")","v":""}]
[{"$nulls":4},{"$f":"IFERROR(__xludf.DUMMYFUNCTION(\"iferror(VLOOKUP(B317,IMPORTRANGE(\"\"https://docs.google.com/spreadsheets/d/1-zcOrI_PgX9R0t6_sOpXptmEcBDI4IX9Gfz9-2a6his/edit#gid=0\"\",\"\"RWA!F:BZ\"\"),44,0))\"),\"\")","v":""},{"$f":"IFERROR(__xludf.DUMMYFUNCTION(\"iferror(VLOOKUP(B317,IMPORTRANGE(\"\"https://docs.google.com/spreadsheets/d/1-zcOrI_PgX9R0t6_sOpXptmEcBDI4IX9Gfz9-2a6his/edit#gid=0\"\",\"\"RWA!F:BZ\"\"),48,0))\"),\"\")","v":""},{"$f":"IFERROR(__xludf.DUMMYFUNCTION(\"iferror(VLOOKUP(B317,IMPORTRANGE(\"\"https://docs.google.com/spreadsheets/d/1-zcOrI_PgX9R0t6_sOpXptmEcBDI4IX9Gfz9-2a6his/edit#gid=0\"\",\"\"RWA!F:BZ\"\"),49,0))\"),\"\")","v":""}]
[{"$nulls":4},{"$f":"IFERROR(__xludf.DUMMYFUNCTION(\"iferror(VLOOKUP(B318,IMPORTRANGE(\"\"https://docs.google.com/spreadsheets/d/1-zcOrI_PgX9R0t6_sOpXptmEcBDI4IX9Gfz9-2a6his/edit#gid=0\"\",\"\"RWA!F:BZ\"\"),44,0))\"),\"\")","v":""},{"$f":"IFERROR(__xludf.DUMMYFUNCTION(\"iferror(VLOOKUP(B318,IMPORTRANGE(\"\"https://docs.google.com/spreadsheets/d/1-zcOrI_PgX9R0t6_sOpXptmEcBDI4IX9Gfz9-2a6his/edit#gid=0\"\",\"\"RWA!F:BZ\"\"),48,0))\"),\"\")","v":""},{"$f":"IFERROR(__xludf.DUMMYFUNCTION(\"iferror(VLOOKUP(B318,IMPORTRANGE(\"\"https://docs.google.com/spreadsheets/d/1-zcOrI_PgX9R0t6_sOpXptmEcBDI4IX9Gfz9-2a6his/edit#gid=0\"\",\"\"RWA!F:BZ\"\"),49,0))\"),\"\")","v":""}]
[{"$nulls":4},{"$f":"IFERROR(__xludf.DUMMYFUNCTION(\"iferror(VLOOKUP(B319,IMPORTRANGE(\"\"https://docs.google.com/spreadsheets/d/1-zcOrI_PgX9R0t6_sOpXptmEcBDI4IX9Gfz9-2a6his/edit#gid=0\"\",\"\"RWA!F:BZ\"\"),44,0))\"),\"\")","v":""},{"$f":"IFERROR(__xludf.DUMMYFUNCTION(\"iferror(VLOOKUP(B319,IMPORTRANGE(\"\"https://docs.google.com/spreadsheets/d/1-zcOrI_PgX9R0t6_sOpXptmEcBDI4IX9Gfz9-2a6his/edit#gid=0\"\",\"\"RWA!F:BZ\"\"),48,0))\"),\"\")","v":""},{"$f":"IFERROR(__xludf.DUMMYFUNCTION(\"iferror(VLOOKUP(B319,IMPORTRANGE(\"\"https://docs.google.com/spreadsheets/d/1-zcOrI_PgX9R0t6_sOpXptmEcBDI4IX9Gfz9-2a6his/edit#gid=0\"\",\"\"RWA!F:BZ\"\"),49,0))\"),\"\")","v":""}]
[{"$nulls":4},{"$f":"IFERROR(__xludf.DUMMYFUNCTION(\"iferror(VLOOKUP(B320,IMPORTRANGE(\"\"https://docs.google.com/spreadsheets/d/1-zcOrI_PgX9R0t6_sOpXptmEcBDI4IX9Gfz9-2a6his/edit#gid=0\"\",\"\"RWA!F:BZ\"\"),44,0))\"),\"\")","v":""},{"$f":"IFERROR(__xludf.DUMMYFUNCTION(\"iferror(VLOOKUP(B320,IMPORTRANGE(\"\"https://docs.google.com/spreadsheets/d/1-zcOrI_PgX9R0t6_sOpXptmEcBDI4IX9Gfz9-2a6his/edit#gid=0\"\",\"\"RWA!F:BZ\"\"),48,0))\"),\"\")","v":""},{"$f":"IFERROR(__xludf.DUMMYFUNCTION(\"iferror(VLOOKUP(B320,IMPORTRANGE(\"\"https://docs.google.com/spreadsheets/d/1-zcOrI_PgX9R0t6_sOpXptmEcBDI4IX9Gfz9-2a6his/edit#gid=0\"\",\"\"RWA!F:BZ\"\"),49,0))\"),\"\")","v":""}]
[{"$nulls":4},{"$f":"IFERROR(__xludf.DUMMYFUNCTION(\"iferror(VLOOKUP(B321,IMPORTRANGE(\"\"https://docs.google.com/spreadsheets/d/1-zcOrI_PgX9R0t6_sOpXptmEcBDI4IX9Gfz9-2a6his/edit#gid=0\"\",\"\"RWA!F:BZ\"\"),44,0))\"),\"\")","v":""},{"$f":"IFERROR(__xludf.DUMMYFUNCTION(\"iferror(VLOOKUP(B321,IMPORTRANGE(\"\"https://docs.google.com/spreadsheets/d/1-zcOrI_PgX9R0t6_sOpXptmEcBDI4IX9Gfz9-2a6his/edit#gid=0\"\",\"\"RWA!F:BZ\"\"),48,0))\"),\"\")","v":""},{"$f":"IFERROR(__xludf.DUMMYFUNCTION(\"iferror(VLOOKUP(B321,IMPORTRANGE(\"\"https://docs.google.com/spreadsheets/d/1-zcOrI_PgX9R0t6_sOpXptmEcBDI4IX9Gfz9-2a6his/edit#gid=0\"\",\"\"RWA!F:BZ\"\"),49,0))\"),\"\")","v":""}]
[{"$nulls":4},{"$f":"IFERROR(__xludf.DUMMYFUNCTION(\"iferror(VLOOKUP(B322,IMPORTRANGE(\"\"https://docs.google.com/spreadsheets/d/1-zcOrI_PgX9R0t6_sOpXptmEcBDI4IX9Gfz9-2a6his/edit#gid=0\"\",\"\"RWA!F:BZ\"\"),44,0))\"),\"\")","v":""},{"$f":"IFERROR(__xludf.DUMMYFUNCTION(\"iferror(VLOOKUP(B322,IMPORTRANGE(\"\"https://docs.google.com/spreadsheets/d/1-zcOrI_PgX9R0t6_sOpXptmEcBDI4IX9Gfz9-2a6his/edit#gid=0\"\",\"\"RWA!F:BZ\"\"),48,0))\"),\"\")","v":""},{"$f":"IFERROR(__xludf.DUMMYFUNCTION(\"iferror(VLOOKUP(B322,IMPORTRANGE(\"\"https://docs.google.com/spreadsheets/d/1-zcOrI_PgX9R0t6_sOpXptmEcBDI4IX9Gfz9-2a6his/edit#gid=0\"\",\"\"RWA!F:BZ\"\"),49,0))\"),\"\")","v":""}]
[{"$nulls":4},{"$f":"IFERROR(__xludf.DUMMYFUNCTION(\"iferror(VLOOKUP(B323,IMPORTRANGE(\"\"https://docs.google.com/spreadsheets/d/1-zcOrI_PgX9R0t6_sOpXptmEcBDI4IX9Gfz9-2a6his/edit#gid=0\"\",\"\"RWA!F:BZ\"\"),44,0))\"),\"\")","v":""},{"$f":"IFERROR(__xludf.DUMMYFUNCTION(\"iferror(VLOOKUP(B323,IMPORTRANGE(\"\"https://docs.google.com/spreadsheets/d/1-zcOrI_PgX9R0t6_sOpXptmEcBDI4IX9Gfz9-2a6his/edit#gid=0\"\",\"\"RWA!F:BZ\"\"),48,0))\"),\"\")","v":""},{"$f":"IFERROR(__xludf.DUMMYFUNCTION(\"iferror(VLOOKUP(B323,IMPORTRANGE(\"\"https://docs.google.com/spreadsheets/d/1-zcOrI_PgX9R0t6_sOpXptmEcBDI4IX9Gfz9-2a6his/edit#gid=0\"\",\"\"RWA!F:BZ\"\"),49,0))\"),\"\")","v":""}]
[{"$nulls":4},{"$f":"IFERROR(__xludf.DUMMYFUNCTION(\"iferror(VLOOKUP(B324,IMPORTRANGE(\"\"https://docs.google.com/spreadsheets/d/1-zcOrI_PgX9R0t6_sOpXptmEcBDI4IX9Gfz9-2a6his/edit#gid=0\"\",\"\"RWA!F:BZ\"\"),44,0))\"),\"\")","v":""},{"$f":"IFERROR(__xludf.DUMMYFUNCTION(\"iferror(VLOOKUP(B324,IMPORTRANGE(\"\"https://docs.google.com/spreadsheets/d/1-zcOrI_PgX9R0t6_sOpXptmEcBDI4IX9Gfz9-2a6his/edit#gid=0\"\",\"\"RWA!F:BZ\"\"),48,0))\"),\"\")","v":""},{"$f":"IFERROR(__xludf.DUMMYFUNCTION(\"iferror(VLOOKUP(B324,IMPORTRANGE(\"\"https://docs.google.com/spreadsheets/d/1-zcOrI_PgX9R0t6_sOpXptmEcBDI4IX9Gfz9-2a6his/edit#gid=0\"\",\"\"RWA!F:BZ\"\"),49,0))\"),\"\")","v":""}]
[{"$nulls":4},{"$f":"IFERROR(__xludf.DUMMYFUNCTION(\"iferror(VLOOKUP(B325,IMPORTRANGE(\"\"https://docs.google.com/spreadsheets/d/1-zcOrI_PgX9R0t6_sOpXptmEcBDI4IX9Gfz9-2a6his/edit#gid=0\"\",\"\"RWA!F:BZ\"\"),44,0))\"),\"\")","v":""},{"$f":"IFERROR(__xludf.DUMMYFUNCTION(\"iferror(VLOOKUP(B325,IMPORTRANGE(\"\"https://docs.google.com/spreadsheets/d/1-zcOrI_PgX9R0t6_sOpXptmEcBDI4IX9Gfz9-2a6his/edit#gid=0\"\",\"\"RWA!F:BZ\"\"),48,0))\"),\"\")","v":""},{"$f":"IFERROR(__xludf.DUMMYFUNCTION(\"iferror(VLOOKUP(B325,IMPORTRANGE(\"\"https://docs.google.com/spreadsheets/d/1-zcOrI_PgX9R0t6_sOpXptmEcBDI4IX9Gfz9-2a6his/edit#gid=0\"\",\"\"RWA!F:BZ\"\"),49,0))\"),\"\")","v":""}]
[{"$nulls":4},{"$f":"IFERROR(__xludf.DUMMYFUNCTION(\"iferror(VLOOKUP(B326,IMPORTRANGE(\"\"https://docs.google.com/spreadsheets/d/1-zcOrI_PgX9R0t6_sOpXptmEcBDI4IX9Gfz9-2a6his/edit#gid=0\"\",\"\"RWA!F:BZ\"\"),44,0))\"),\"\")","v":""},{"$f":"IFERROR(__xludf.DUMMYFUNCTION(\"iferror(VLOOKUP(B326,IMPORTRANGE(\"\"https://docs.google.com/spreadsheets/d/1-zcOrI_PgX9R0t6_sOpXptmEcBDI4IX9Gfz9-2a6his/edit#gid=0\"\",\"\"RWA!F:BZ\"\"),48,0))\"),\"\")","v":""},{"$f":"IFERROR(__xludf.DUMMYFUNCTION(\"iferror(VLOOKUP(B326,IMPORTRANGE(\"\"https://docs.google.com/spreadsheets/d/1-zcOrI_PgX9R0t6_sOpXptmEcBDI4IX9Gfz9-2a6his/edit#gid=0\"\",\"\"RWA!F:BZ\"\"),49,0))\"),\"\")","v":""}]
[{"$nulls":4},{"$f":"IFERROR(__xludf.DUMMYFUNCTION(\"iferror(VLOOKUP(B327,IMPORTRANGE(\"\"https://docs.google.com/spreadsheets/d/1-zcOrI_PgX9R0t6_sOpXptmEcBDI4IX9Gfz9-2a6his/edit#gid=0\"\",\"\"RWA!F:BZ\"\"),44,0))\"),\"\")","v":""},{"$f":"IFERROR(__xludf.DUMMYFUNCTION(\"iferror(VLOOKUP(B327,IMPORTRANGE(\"\"https://docs.google.com/spreadsheets/d/1-zcOrI_PgX9R0t6_sOpXptmEcBDI4IX9Gfz9-2a6his/edit#gid=0\"\",\"\"RWA!F:BZ\"\"),48,0))\"),\"\")","v":""},{"$f":"IFERROR(__xludf.DUMMYFUNCTION(\"iferror(VLOOKUP(B327,IMPORTRANGE(\"\"https://docs.google.com/spreadsheets/d/1-zcOrI_PgX9R0t6_sOpXptmEcBDI4IX9Gfz9-2a6his/edit#gid=0\"\",\"\"RWA!F:BZ\"\"),49,0))\"),\"\")","v":""}]
[{"$nulls":4},{"$f":"IFERROR(__xludf.DUMMYFUNCTION(\"iferror(VLOOKUP(B328,IMPORTRANGE(\"\"https://docs.google.com/spreadsheets/d/1-zcOrI_PgX9R0t6_sOpXptmEcBDI4IX9Gfz9-2a6his/edit#gid=0\"\",\"\"RWA!F:BZ\"\"),44,0))\"),\"\")","v":""},{"$f":"IFERROR(__xludf.DUMMYFUNCTION(\"iferror(VLOOKUP(B328,IMPORTRANGE(\"\"https://docs.google.com/spreadsheets/d/1-zcOrI_PgX9R0t6_sOpXptmEcBDI4IX9Gfz9-2a6his/edit#gid=0\"\",\"\"RWA!F:BZ\"\"),48,0))\"),\"\")","v":""},{"$f":"IFERROR(__xludf.DUMMYFUNCTION(\"iferror(VLOOKUP(B328,IMPORTRANGE(\"\"https://docs.google.com/spreadsheets/d/1-zcOrI_PgX9R0t6_sOpXptmEcBDI4IX9Gfz9-2a6his/edit#gid=0\"\",\"\"RWA!F:BZ\"\"),49,0))\"),\"\")","v":""}]
[{"$nulls":4},{"$f":"IFERROR(__xludf.DUMMYFUNCTION(\"iferror(VLOOKUP(B329,IMPORTRANGE(\"\"https://docs.google.com/spreadsheets/d/1-zcOrI_PgX9R0t6_sOpXptmEcBDI4IX9Gfz9-2a6his/edit#gid=0\"\",\"\"RWA!F:BZ\"\"),44,0))\"),\"\")","v":""},{"$f":"IFERROR(__xludf.DUMMYFUNCTION(\"iferror(VLOOKUP(B329,IMPORTRANGE(\"\"https://docs.google.com/spreadsheets/d/1-zcOrI_PgX9R0t6_sOpXptmEcBDI4IX9Gfz9-2a6his/edit#gid=0\"\",\"\"RWA!F:BZ\"\"),48,0))\"),\"\")","v":""},{"$f":"IFERROR(__xludf.DUMMYFUNCTION(\"iferror(VLOOKUP(B329,IMPORTRANGE(\"\"https://docs.google.com/spreadsheets/d/1-zcOrI_PgX9R0t6_sOpXptmEcBDI4IX9Gfz9-2a6his/edit#gid=0\"\",\"\"RWA!F:BZ\"\"),49,0))\"),\"\")","v":""}]
[{"$nulls":4},{"$f":"IFERROR(__xludf.DUMMYFUNCTION(\"iferror(VLOOKUP(B330,IMPORTRANGE(\"\"https://docs.google.com/spreadsheets/d/1-zcOrI_PgX9R0t6_sOpXptmEcBDI4IX9Gfz9-2a6his/edit#gid=0\"\",\"\"RWA!F:BZ\"\"),44,0))\"),\"\")","v":""},{"$f":"IFERROR(__xludf.DUMMYFUNCTION(\"iferror(VLOOKUP(B330,IMPORTRANGE(\"\"https://docs.google.com/spreadsheets/d/1-zcOrI_PgX9R0t6_sOpXptmEcBDI4IX9Gfz9-2a6his/edit#gid=0\"\",\"\"RWA!F:BZ\"\"),48,0))\"),\"\")","v":""},{"$f":"IFERROR(__xludf.DUMMYFUNCTION(\"iferror(VLOOKUP(B330,IMPORTRANGE(\"\"https://docs.google.com/spreadsheets/d/1-zcOrI_PgX9R0t6_sOpXptmEcBDI4IX9Gfz9-2a6his/edit#gid=0\"\",\"\"RWA!F:BZ\"\"),49,0))\"),\"\")","v":""}]
[{"$nulls":4},{"$f":"IFERROR(__xludf.DUMMYFUNCTION(\"iferror(VLOOKUP(B331,IMPORTRANGE(\"\"https://docs.google.com/spreadsheets/d/1-zcOrI_PgX9R0t6_sOpXptmEcBDI4IX9Gfz9-2a6his/edit#gid=0\"\",\"\"RWA!F:BZ\"\"),44,0))\"),\"\")","v":""},{"$f":"IFERROR(__xludf.DUMMYFUNCTION(\"iferror(VLOOKUP(B331,IMPORTRANGE(\"\"https://docs.google.com/spreadsheets/d/1-zcOrI_PgX9R0t6_sOpXptmEcBDI4IX9Gfz9-2a6his/edit#gid=0\"\",\"\"RWA!F:BZ\"\"),48,0))\"),\"\")","v":""},{"$f":"IFERROR(__xludf.DUMMYFUNCTION(\"iferror(VLOOKUP(B331,IMPORTRANGE(\"\"https://docs.google.com/spreadsheets/d/1-zcOrI_PgX9R0t6_sOpXptmEcBDI4IX9Gfz9-2a6his/edit#gid=0\"\",\"\"RWA!F:BZ\"\"),49,0))\"),\"\")","v":""}]
[{"$nulls":4},{"$f":"IFERROR(__xludf.DUMMYFUNCTION(\"iferror(VLOOKUP(B332,IMPORTRANGE(\"\"https://docs.google.com/spreadsheets/d/1-zcOrI_PgX9R0t6_sOpXptmEcBDI4IX9Gfz9-2a6his/edit#gid=0\"\",\"\"RWA!F:BZ\"\"),44,0))\"),\"\")","v":""},{"$f":"IFERROR(__xludf.DUMMYFUNCTION(\"iferror(VLOOKUP(B332,IMPORTRANGE(\"\"https://docs.google.com/spreadsheets/d/1-zcOrI_PgX9R0t6_sOpXptmEcBDI4IX9Gfz9-2a6his/edit#gid=0\"\",\"\"RWA!F:BZ\"\"),48,0))\"),\"\")","v":""},{"$f":"IFERROR(__xludf.DUMMYFUNCTION(\"iferror(VLOOKUP(B332,IMPORTRANGE(\"\"https://docs.google.com/spreadsheets/d/1-zcOrI_PgX9R0t6_sOpXptmEcBDI4IX9Gfz9-2a6his/edit#gid=0\"\",\"\"RWA!F:BZ\"\"),49,0))\"),\"\")","v":""}]
[{"$nulls":4},{"$f":"IFERROR(__xludf.DUMMYFUNCTION(\"iferror(VLOOKUP(B333,IMPORTRANGE(\"\"https://docs.google.com/spreadsheets/d/1-zcOrI_PgX9R0t6_sOpXptmEcBDI4IX9Gfz9-2a6his/edit#gid=0\"\",\"\"RWA!F:BZ\"\"),44,0))\"),\"\")","v":""},{"$f":"IFERROR(__xludf.DUMMYFUNCTION(\"iferror(VLOOKUP(B333,IMPORTRANGE(\"\"https://docs.google.com/spreadsheets/d/1-zcOrI_PgX9R0t6_sOpXptmEcBDI4IX9Gfz9-2a6his/edit#gid=0\"\",\"\"RWA!F:BZ\"\"),48,0))\"),\"\")","v":""},{"$f":"IFERROR(__xludf.DUMMYFUNCTION(\"iferror(VLOOKUP(B333,IMPORTRANGE(\"\"https://docs.google.com/spreadsheets/d/1-zcOrI_PgX9R0t6_sOpXptmEcBDI4IX9Gfz9-2a6his/edit#gid=0\"\",\"\"RWA!F:BZ\"\"),49,0))\"),\"\")","v":""}]
[{"$nulls":4},{"$f":"IFERROR(__xludf.DUMMYFUNCTION(\"iferror(VLOOKUP(B334,IMPORTRANGE(\"\"https://docs.google.com/spreadsheets/d/1-zcOrI_PgX9R0t6_sOpXptmEcBDI4IX9Gfz9-2a6his/edit#gid=0\"\",\"\"RWA!F:BZ\"\"),44,0))\"),\"\")","v":""},{"$f":"IFERROR(__xludf.DUMMYFUNCTION(\"iferror(VLOOKUP(B334,IMPORTRANGE(\"\"https://docs.google.com/spreadsheets/d/1-zcOrI_PgX9R0t6_sOpXptmEcBDI4IX9Gfz9-2a6his/edit#gid=0\"\",\"\"RWA!F:BZ\"\"),48,0))\"),\"\")","v":""},{"$f":"IFERROR(__xludf.DUMMYFUNCTION(\"iferror(VLOOKUP(B334,IMPORTRANGE(\"\"https://docs.google.com/spreadsheets/d/1-zcOrI_PgX9R0t6_sOpXptmEcBDI4IX9Gfz9-2a6his/edit#gid=0\"\",\"\"RWA!F:BZ\"\"),49,0))\"),\"\")","v":""}]
[{"$nulls":4},{"$f":"IFERROR(__xludf.DUMMYFUNCTION(\"iferror(VLOOKUP(B335,IMPORTRANGE(\"\"https://docs.google.com/spreadsheets/d/1-zcOrI_PgX9R0t6_sOpXptmEcBDI4IX9Gfz9-2a6his/edit#gid=0\"\",\"\"RWA!F:BZ\"\"),44,0))\"),\"\")","v":""},{"$f":"IFERROR(__xludf.DUMMYFUNCTION(\"iferror(VLOOKUP(B335,IMPORTRANGE(\"\"https://docs.google.com/spreadsheets/d/1-zcOrI_PgX9R0t6_sOpXptmEcBDI4IX9Gfz9-2a6his/edit#gid=0\"\",\"\"RWA!F:BZ\"\"),48,0))\"),\"\")","v":""},{"$f":"IFERROR(__xludf.DUMMYFUNCTION(\"iferror(VLOOKUP(B335,IMPORTRANGE(\"\"https://docs.google.com/spreadsheets/d/1-zcOrI_PgX9R0t6_sOpXptmEcBDI4IX9Gfz9-2a6his/edit#gid=0\"\",\"\"RWA!F:BZ\"\"),49,0))\"),\"\")","v":""}]
[{"$nulls":4},{"$f":"IFERROR(__xludf.DUMMYFUNCTION(\"iferror(VLOOKUP(B336,IMPORTRANGE(\"\"https://docs.google.com/spreadsheets/d/1-zcOrI_PgX9R0t6_sOpXptmEcBDI4IX9Gfz9-2a6his/edit#gid=0\"\",\"\"RWA!F:BZ\"\"),44,0))\"),\"\")","v":""},{"$f":"IFERROR(__xludf.DUMMYFUNCTION(\"iferror(VLOOKUP(B336,IMPORTRANGE(\"\"https://docs.google.com/spreadsheets/d/1-zcOrI_PgX9R0t6_sOpXptmEcBDI4IX9Gfz9-2a6his/edit#gid=0\"\",\"\"RWA!F:BZ\"\"),48,0))\"),\"\")","v":""},{"$f":"IFERROR(__xludf.DUMMYFUNCTION(\"iferror(VLOOKUP(B336,IMPORTRANGE(\"\"https://docs.google.com/spreadsheets/d/1-zcOrI_PgX9R0t6_sOpXptmEcBDI4IX9Gfz9-2a6his/edit#gid=0\"\",\"\"RWA!F:BZ\"\"),49,0))\"),\"\")","v":""}]
[{"$nulls":4},{"$f":"IFERROR(__xludf.DUMMYFUNCTION(\"iferror(VLOOKUP(B337,IMPORTRANGE(\"\"https://docs.google.com/spreadsheets/d/1-zcOrI_PgX9R0t6_sOpXptmEcBDI4IX9Gfz9-2a6his/edit#gid=0\"\",\"\"RWA!F:BZ\"\"),44,0))\"),\"\")","v":""},{"$f":"IFERROR(__xludf.DUMMYFUNCTION(\"iferror(VLOOKUP(B337,IMPORTRANGE(\"\"https://docs.google.com/spreadsheets/d/1-zcOrI_PgX9R0t6_sOpXptmEcBDI4IX9Gfz9-2a6his/edit#gid=0\"\",\"\"RWA!F:BZ\"\"),48,0))\"),\"\")","v":""},{"$f":"IFERROR(__xludf.DUMMYFUNCTION(\"iferror(VLOOKUP(B337,IMPORTRANGE(\"\"https://docs.google.com/spreadsheets/d/1-zcOrI_PgX9R0t6_sOpXptmEcBDI4IX9Gfz9-2a6his/edit#gid=0\"\",\"\"RWA!F:BZ\"\"),49,0))\"),\"\")","v":""}]
[{"$nulls":4},{"$f":"IFERROR(__xludf.DUMMYFUNCTION(\"iferror(VLOOKUP(B338,IMPORTRANGE(\"\"https://docs.google.com/spreadsheets/d/1-zcOrI_PgX9R0t6_sOpXptmEcBDI4IX9Gfz9-2a6his/edit#gid=0\"\",\"\"RWA!F:BZ\"\"),44,0))\"),\"\")","v":""},{"$f":"IFERROR(__xludf.DUMMYFUNCTION(\"iferror(VLOOKUP(B338,IMPORTRANGE(\"\"https://docs.google.com/spreadsheets/d/1-zcOrI_PgX9R0t6_sOpXptmEcBDI4IX9Gfz9-2a6his/edit#gid=0\"\",\"\"RWA!F:BZ\"\"),48,0))\"),\"\")","v":""},{"$f":"IFERROR(__xludf.DUMMYFUNCTION(\"iferror(VLOOKUP(B338,IMPORTRANGE(\"\"https://docs.google.com/spreadsheets/d/1-zcOrI_PgX9R0t6_sOpXptmEcBDI4IX9Gfz9-2a6his/edit#gid=0\"\",\"\"RWA!F:BZ\"\"),49,0))\"),\"\")","v":""}]
[{"$nulls":4},{"$f":"IFERROR(__xludf.DUMMYFUNCTION(\"iferror(VLOOKUP(B339,IMPORTRANGE(\"\"https://docs.google.com/spreadsheets/d/1-zcOrI_PgX9R0t6_sOpXptmEcBDI4IX9Gfz9-2a6his/edit#gid=0\"\",\"\"RWA!F:BZ\"\"),44,0))\"),\"\")","v":""},{"$f":"IFERROR(__xludf.DUMMYFUNCTION(\"iferror(VLOOKUP(B339,IMPORTRANGE(\"\"https://docs.google.com/spreadsheets/d/1-zcOrI_PgX9R0t6_sOpXptmEcBDI4IX9Gfz9-2a6his/edit#gid=0\"\",\"\"RWA!F:BZ\"\"),48,0))\"),\"\")","v":""},{"$f":"IFERROR(__xludf.DUMMYFUNCTION(\"iferror(VLOOKUP(B339,IMPORTRANGE(\"\"https://docs.google.com/spreadsheets/d/1-zcOrI_PgX9R0t6_sOpXptmEcBDI4IX9Gfz9-2a6his/edit#gid=0\"\",\"\"RWA!F:BZ\"\"),49,0))\"),\"\")","v":""}]
[{"$nulls":4},{"$f":"IFERROR(__xludf.DUMMYFUNCTION(\"iferror(VLOOKUP(B340,IMPORTRANGE(\"\"https://docs.google.com/spreadsheets/d/1-zcOrI_PgX9R0t6_sOpXptmEcBDI4IX9Gfz9-2a6his/edit#gid=0\"\",\"\"RWA!F:BZ\"\"),44,0))\"),\"\")","v":""},{"$f":"IFERROR(__xludf.DUMMYFUNCTION(\"iferror(VLOOKUP(B340,IMPORTRANGE(\"\"https://docs.google.com/spreadsheets/d/1-zcOrI_PgX9R0t6_sOpXptmEcBDI4IX9Gfz9-2a6his/edit#gid=0\"\",\"\"RWA!F:BZ\"\"),48,0))\"),\"\")","v":""},{"$f":"IFERROR(__xludf.DUMMYFUNCTION(\"iferror(VLOOKUP(B340,IMPORTRANGE(\"\"https://docs.google.com/spreadsheets/d/1-zcOrI_PgX9R0t6_sOpXptmEcBDI4IX9Gfz9-2a6his/edit#gid=0\"\",\"\"RWA!F:BZ\"\"),49,0))\"),\"\")","v":""}]
[{"$nulls":4},{"$f":"IFERROR(__xludf.DUMMYFUNCTION(\"iferror(VLOOKUP(B341,IMPORTRANGE(\"\"https://docs.google.com/spreadsheets/d/1-zcOrI_PgX9R0t6_sOpXptmEcBDI4IX9Gfz9-2a6his/edit#gid=0\"\",\"\"RWA!F:BZ\"\"),44,0))\"),\"\")","v":""},{"$f":"IFERROR(__xludf.DUMMYFUNCTION(\"iferror(VLOOKUP(B341,IMPORTRANGE(\"\"https://docs.google.com/spreadsheets/d/1-zcOrI_PgX9R0t6_sOpXptmEcBDI4IX9Gfz9-2a6his/edit#gid=0\"\",\"\"RWA!F:BZ\"\"),48,0))\"),\"\")","v":""},{"$f":"IFERROR(__xludf.DUMMYFUNCTION(\"iferror(VLOOKUP(B341,IMPORTRANGE(\"\"https://docs.google.com/spreadsheets/d/1-zcOrI_PgX9R0t6_sOpXptmEcBDI4IX9Gfz9-2a6his/edit#gid=0\"\",\"\"RWA!F:BZ\"\"),49,0))\"),\"\")","v":""}]
[{"$nulls":4},{"$f":"IFERROR(__xludf.DUMMYFUNCTION(\"iferror(VLOOKUP(B342,IMPORTRANGE(\"\"https://docs.google.com/spreadsheets/d/1-zcOrI_PgX9R0t6_sOpXptmEcBDI4IX9Gfz9-2a6his/edit#gid=0\"\",\"\"RWA!F:BZ\"\"),44,0))\"),\"\")","v":""},{"$f":"IFERROR(__xludf.DUMMYFUNCTION(\"iferror(VLOOKUP(B342,IMPORTRANGE(\"\"https://docs.google.com/spreadsheets/d/1-zcOrI_PgX9R0t6_sOpXptmEcBDI4IX9Gfz9-2a6his/edit#gid=0\"\",\"\"RWA!F:BZ\"\"),48,0))\"),\"\")","v":""},{"$f":"IFERROR(__xludf.DUMMYFUNCTION(\"iferror(VLOOKUP(B342,IMPORTRANGE(\"\"https://docs.google.com/spreadsheets/d/1-zcOrI_PgX9R0t6_sOpXptmEcBDI4IX9Gfz9-2a6his/edit#gid=0\"\",\"\"RWA!F:BZ\"\"),49,0))\"),\"\")","v":""}]
[{"$nulls":4},{"$f":"IFERROR(__xludf.DUMMYFUNCTION(\"iferror(VLOOKUP(B343,IMPORTRANGE(\"\"https://docs.google.com/spreadsheets/d/1-zcOrI_PgX9R0t6_sOpXptmEcBDI4IX9Gfz9-2a6his/edit#gid=0\"\",\"\"RWA!F:BZ\"\"),44,0))\"),\"\")","v":""},{"$f":"IFERROR(__xludf.DUMMYFUNCTION(\"iferror(VLOOKUP(B343,IMPORTRANGE(\"\"https://docs.google.com/spreadsheets/d/1-zcOrI_PgX9R0t6_sOpXptmEcBDI4IX9Gfz9-2a6his/edit#gid=0\"\",\"\"RWA!F:BZ\"\"),48,0))\"),\"\")","v":""},{"$f":"IFERROR(__xludf.DUMMYFUNCTION(\"iferror(VLOOKUP(B343,IMPORTRANGE(\"\"https://docs.google.com/spreadsheets/d/1-zcOrI_PgX9R0t6_sOpXptmEcBDI4IX9Gfz9-2a6his/edit#gid=0\"\",\"\"RWA!F:BZ\"\"),49,0))\"),\"\")","v":""}]
[{"$nulls":4},{"$f":"IFERROR(__xludf.DUMMYFUNCTION(\"iferror(VLOOKUP(B344,IMPORTRANGE(\"\"https://docs.google.com/spreadsheets/d/1-zcOrI_PgX9R0t6_sOpXptmEcBDI4IX9Gfz9-2a6his/edit#gid=0\"\",\"\"RWA!F:BZ\"\"),44,0))\"),\"\")","v":""},{"$f":"IFERROR(__xludf.DUMMYFUNCTION(\"iferror(VLOOKUP(B344,IMPORTRANGE(\"\"https://docs.google.com/spreadsheets/d/1-zcOrI_PgX9R0t6_sOpXptmEcBDI4IX9Gfz9-2a6his/edit#gid=0\"\",\"\"RWA!F:BZ\"\"),48,0))\"),\"\")","v":""},{"$f":"IFERROR(__xludf.DUMMYFUNCTION(\"iferror(VLOOKUP(B344,IMPORTRANGE(\"\"https://docs.google.com/spreadsheets/d/1-zcOrI_PgX9R0t6_sOpXptmEcBDI4IX9Gfz9-2a6his/edit#gid=0\"\",\"\"RWA!F:BZ\"\"),49,0))\"),\"\")","v":""}]
[{"$nulls":4},{"$f":"IFERROR(__xludf.DUMMYFUNCTION(\"iferror(VLOOKUP(B345,IMPORTRANGE(\"\"https://docs.google.com/spreadsheets/d/1-zcOrI_PgX9R0t6_sOpXptmEcBDI4IX9Gfz9-2a6his/edit#gid=0\"\",\"\"RWA!F:BZ\"\"),44,0))\"),\"\")","v":""},{"$f":"IFERROR(__xludf.DUMMYFUNCTION(\"iferror(VLOOKUP(B345,IMPORTRANGE(\"\"https://docs.google.com/spreadsheets/d/1-zcOrI_PgX9R0t6_sOpXptmEcBDI4IX9Gfz9-2a6his/edit#gid=0\"\",\"\"RWA!F:BZ\"\"),48,0))\"),\"\")","v":""},{"$f":"IFERROR(__xludf.DUMMYFUNCTION(\"iferror(VLOOKUP(B345,IMPORTRANGE(\"\"https://docs.google.com/spreadsheets/d/1-zcOrI_PgX9R0t6_sOpXptmEcBDI4IX9Gfz9-2a6his/edit#gid=0\"\",\"\"RWA!F:BZ\"\"),49,0))\"),\"\")","v":""}]
[{"$nulls":4},{"$f":"IFERROR(__xludf.DUMMYFUNCTION(\"iferror(VLOOKUP(B346,IMPORTRANGE(\"\"https://docs.google.com/spreadsheets/d/1-zcOrI_PgX9R0t6_sOpXptmEcBDI4IX9Gfz9-2a6his/edit#gid=0\"\",\"\"RWA!F:BZ\"\"),44,0))\"),\"\")","v":""},{"$f":"IFERROR(__xludf.DUMMYFUNCTION(\"iferror(VLOOKUP(B346,IMPORTRANGE(\"\"https://docs.google.com/spreadsheets/d/1-zcOrI_PgX9R0t6_sOpXptmEcBDI4IX9Gfz9-2a6his/edit#gid=0\"\",\"\"RWA!F:BZ\"\"),48,0))\"),\"\")","v":""},{"$f":"IFERROR(__xludf.DUMMYFUNCTION(\"iferror(VLOOKUP(B346,IMPORTRANGE(\"\"https://docs.google.com/spreadsheets/d/1-zcOrI_PgX9R0t6_sOpXptmEcBDI4IX9Gfz9-2a6his/edit#gid=0\"\",\"\"RWA!F:BZ\"\"),49,0))\"),\"\")","v":""}]
[{"$nulls":4},{"$f":"IFERROR(__xludf.DUMMYFUNCTION(\"iferror(VLOOKUP(B347,IMPORTRANGE(\"\"https://docs.google.com/spreadsheets/d/1-zcOrI_PgX9R0t6_sOpXptmEcBDI4IX9Gfz9-2a6his/edit#gid=0\"\",\"\"RWA!F:BZ\"\"),44,0))\"),\"\")","v":""},{"$f":"IFERROR(__xludf.DUMMYFUNCTION(\"iferror(VLOOKUP(B347,IMPORTRANGE(\"\"https://docs.google.com/spreadsheets/d/1-zcOrI_PgX9R0t6_sOpXptmEcBDI4IX9Gfz9-2a6his/edit#gid=0\"\",\"\"RWA!F:BZ\"\"),48,0))\"),\"\")","v":""},{"$f":"IFERROR(__xludf.DUMMYFUNCTION(\"iferror(VLOOKUP(B347,IMPORTRANGE(\"\"https://docs.google.com/spreadsheets/d/1-zcOrI_PgX9R0t6_sOpXptmEcBDI4IX9Gfz9-2a6his/edit#gid=0\"\",\"\"RWA!F:BZ\"\"),49,0))\"),\"\")","v":""}]
[{"$nulls":4},{"$f":"IFERROR(__xludf.DUMMYFUNCTION(\"iferror(VLOOKUP(B348,IMPORTRANGE(\"\"https://docs.google.com/spreadsheets/d/1-zcOrI_PgX9R0t6_sOpXptmEcBDI4IX9Gfz9-2a6his/edit#gid=0\"\",\"\"RWA!F:BZ\"\"),44,0))\"),\"\")","v":""},{"$f":"IFERROR(__xludf.DUMMYFUNCTION(\"iferror(VLOOKUP(B348,IMPORTRANGE(\"\"https://docs.google.com/spreadsheets/d/1-zcOrI_PgX9R0t6_sOpXptmEcBDI4IX9Gfz9-2a6his/edit#gid=0\"\",\"\"RWA!F:BZ\"\"),48,0))\"),\"\")","v":""},{"$f":"IFERROR(__xludf.DUMMYFUNCTION(\"iferror(VLOOKUP(B348,IMPORTRANGE(\"\"https://docs.google.com/spreadsheets/d/1-zcOrI_PgX9R0t6_sOpXptmEcBDI4IX9Gfz9-2a6his/edit#gid=0\"\",\"\"RWA!F:BZ\"\"),49,0))\"),\"\")","v":""}]
[{"$nulls":4},{"$f":"IFERROR(__xludf.DUMMYFUNCTION(\"iferror(VLOOKUP(B349,IMPORTRANGE(\"\"https://docs.google.com/spreadsheets/d/1-zcOrI_PgX9R0t6_sOpXptmEcBDI4IX9Gfz9-2a6his/edit#gid=0\"\",\"\"RWA!F:BZ\"\"),44,0))\"),\"\")","v":""},{"$f":"IFERROR(__xludf.DUMMYFUNCTION(\"iferror(VLOOKUP(B349,IMPORTRANGE(\"\"https://docs.google.com/spreadsheets/d/1-zcOrI_PgX9R0t6_sOpXptmEcBDI4IX9Gfz9-2a6his/edit#gid=0\"\",\"\"RWA!F:BZ\"\"),48,0))\"),\"\")","v":""},{"$f":"IFERROR(__xludf.DUMMYFUNCTION(\"iferror(VLOOKUP(B349,IMPORTRANGE(\"\"https://docs.google.com/spreadsheets/d/1-zcOrI_PgX9R0t6_sOpXptmEcBDI4IX9Gfz9-2a6his/edit#gid=0\"\",\"\"RWA!F:BZ\"\"),49,0))\"),\"\")","v":""}]
[{"$nulls":4},{"$f":"IFERROR(__xludf.DUMMYFUNCTION(\"iferror(VLOOKUP(B350,IMPORTRANGE(\"\"https://docs.google.com/spreadsheets/d/1-zcOrI_PgX9R0t6_sOpXptmEcBDI4IX9Gfz9-2a6his/edit#gid=0\"\",\"\"RWA!F:BZ\"\"),44,0))\"),\"\")","v":""},{"$f":"IFERROR(__xludf.DUMMYFUNCTION(\"iferror(VLOOKUP(B350,IMPORTRANGE(\"\"https://docs.google.com/spreadsheets/d/1-zcOrI_PgX9R0t6_sOpXptmEcBDI4IX9Gfz9-2a6his/edit#gid=0\"\",\"\"RWA!F:BZ\"\"),48,0))\"),\"\")","v":""},{"$f":"IFERROR(__xludf.DUMMYFUNCTION(\"iferror(VLOOKUP(B350,IMPORTRANGE(\"\"https://docs.google.com/spreadsheets/d/1-zcOrI_PgX9R0t6_sOpXptmEcBDI4IX9Gfz9-2a6his/edit#gid=0\"\",\"\"RWA!F:BZ\"\"),49,0))\"),\"\")","v":""}]
[{"$nulls":4},{"$f":"IFERROR(__xludf.DUMMYFUNCTION(\"iferror(VLOOKUP(B351,IMPORTRANGE(\"\"https://docs.google.com/spreadsheets/d/1-zcOrI_PgX9R0t6_sOpXptmEcBDI4IX9Gfz9-2a6his/edit#gid=0\"\",\"\"RWA!F:BZ\"\"),44,0))\"),\"\")","v":""},{"$f":"IFERROR(__xludf.DUMMYFUNCTION(\"iferror(VLOOKUP(B351,IMPORTRANGE(\"\"https://docs.google.com/spreadsheets/d/1-zcOrI_PgX9R0t6_sOpXptmEcBDI4IX9Gfz9-2a6his/edit#gid=0\"\",\"\"RWA!F:BZ\"\"),48,0))\"),\"\")","v":""},{"$f":"IFERROR(__xludf.DUMMYFUNCTION(\"iferror(VLOOKUP(B351,IMPORTRANGE(\"\"https://docs.google.com/spreadsheets/d/1-zcOrI_PgX9R0t6_sOpXptmEcBDI4IX9Gfz9-2a6his/edit#gid=0\"\",\"\"RWA!F:BZ\"\"),49,0))\"),\"\")","v":""}]
[{"$nulls":4},{"$f":"IFERROR(__xludf.DUMMYFUNCTION(\"iferror(VLOOKUP(B352,IMPORTRANGE(\"\"https://docs.google.com/spreadsheets/d/1-zcOrI_PgX9R0t6_sOpXptmEcBDI4IX9Gfz9-2a6his/edit#gid=0\"\",\"\"RWA!F:BZ\"\"),44,0))\"),\"\")","v":""},{"$f":"IFERROR(__xludf.DUMMYFUNCTION(\"iferror(VLOOKUP(B352,IMPORTRANGE(\"\"https://docs.google.com/spreadsheets/d/1-zcOrI_PgX9R0t6_sOpXptmEcBDI4IX9Gfz9-2a6his/edit#gid=0\"\",\"\"RWA!F:BZ\"\"),48,0))\"),\"\")","v":""},{"$f":"IFERROR(__xludf.DUMMYFUNCTION(\"iferror(VLOOKUP(B352,IMPORTRANGE(\"\"https://docs.google.com/spreadsheets/d/1-zcOrI_PgX9R0t6_sOpXptmEcBDI4IX9Gfz9-2a6his/edit#gid=0\"\",\"\"RWA!F:BZ\"\"),49,0))\"),\"\")","v":""}]
[{"$nulls":4},{"$f":"IFERROR(__xludf.DUMMYFUNCTION(\"iferror(VLOOKUP(B353,IMPORTRANGE(\"\"https://docs.google.com/spreadsheets/d/1-zcOrI_PgX9R0t6_sOpXptmEcBDI4IX9Gfz9-2a6his/edit#gid=0\"\",\"\"RWA!F:BZ\"\"),44,0))\"),\"\")","v":""},{"$f":"IFERROR(__xludf.DUMMYFUNCTION(\"iferror(VLOOKUP(B353,IMPORTRANGE(\"\"https://docs.google.com/spreadsheets/d/1-zcOrI_PgX9R0t6_sOpXptmEcBDI4IX9Gfz9-2a6his/edit#gid=0\"\",\"\"RWA!F:BZ\"\"),48,0))\"),\"\")","v":""},{"$f":"IFERROR(__xludf.DUMMYFUNCTION(\"iferror(VLOOKUP(B353,IMPORTRANGE(\"\"https://docs.google.com/spreadsheets/d/1-zcOrI_PgX9R0t6_sOpXptmEcBDI4IX9Gfz9-2a6his/edit#gid=0\"\",\"\"RWA!F:BZ\"\"),49,0))\"),\"\")","v":""}]
[{"$nulls":4},{"$f":"IFERROR(__xludf.DUMMYFUNCTION(\"iferror(VLOOKUP(B354,IMPORTRANGE(\"\"https://docs.google.com/spreadsheets/d/1-zcOrI_PgX9R0t6_sOpXptmEcBDI4IX9Gfz9-2a6his/edit#gid=0\"\",\"\"RWA!F:BZ\"\"),44,0))\"),\"\")","v":""},{"$f":"IFERROR(__xludf.DUMMYFUNCTION(\"iferror(VLOOKUP(B354,IMPORTRANGE(\"\"https://docs.google.com/spreadsheets/d/1-zcOrI_PgX9R0t6_sOpXptmEcBDI4IX9Gfz9-2a6his/edit#gid=0\"\",\"\"RWA!F:BZ\"\"),48,0))\"),\"\")","v":""},{"$f":"IFERROR(__xludf.DUMMYFUNCTION(\"iferror(VLOOKUP(B354,IMPORTRANGE(\"\"https://docs.google.com/spreadsheets/d/1-zcOrI_PgX9R0t6_sOpXptmEcBDI4IX9Gfz9-2a6his/edit#gid=0\"\",\"\"RWA!F:BZ\"\"),49,0))\"),\"\")","v":""}]
[{"$nulls":4},{"$f":"IFERROR(__xludf.DUMMYFUNCTION(\"iferror(VLOOKUP(B355,IMPORTRANGE(\"\"https://docs.google.com/spreadsheets/d/1-zcOrI_PgX9R0t6_sOpXptmEcBDI4IX9Gfz9-2a6his/edit#gid=0\"\",\"\"RWA!F:BZ\"\"),44,0))\"),\"\")","v":""},{"$f":"IFERROR(__xludf.DUMMYFUNCTION(\"iferror(VLOOKUP(B355,IMPORTRANGE(\"\"https://docs.google.com/spreadsheets/d/1-zcOrI_PgX9R0t6_sOpXptmEcBDI4IX9Gfz9-2a6his/edit#gid=0\"\",\"\"RWA!F:BZ\"\"),48,0))\"),\"\")","v":""},{"$f":"IFERROR(__xludf.DUMMYFUNCTION(\"iferror(VLOOKUP(B355,IMPORTRANGE(\"\"https://docs.google.com/spreadsheets/d/1-zcOrI_PgX9R0t6_sOpXptmEcBDI4IX9Gfz9-2a6his/edit#gid=0\"\",\"\"RWA!F:BZ\"\"),49,0))\"),\"\")","v":""}]
[{"$nulls":4},{"$f":"IFERROR(__xludf.DUMMYFUNCTION(\"iferror(VLOOKUP(B356,IMPORTRANGE(\"\"https://docs.google.com/spreadsheets/d/1-zcOrI_PgX9R0t6_sOpXptmEcBDI4IX9Gfz9-2a6his/edit#gid=0\"\",\"\"RWA!F:BZ\"\"),44,0))\"),\"\")","v":""},{"$f":"IFERROR(__xludf.DUMMYFUNCTION(\"iferror(VLOOKUP(B356,IMPORTRANGE(\"\"https://docs.google.com/spreadsheets/d/1-zcOrI_PgX9R0t6_sOpXptmEcBDI4IX9Gfz9-2a6his/edit#gid=0\"\",\"\"RWA!F:BZ\"\"),48,0))\"),\"\")","v":""},{"$f":"IFERROR(__xludf.DUMMYFUNCTION(\"iferror(VLOOKUP(B356,IMPORTRANGE(\"\"https://docs.google.com/spreadsheets/d/1-zcOrI_PgX9R0t6_sOpXptmEcBDI4IX9Gfz9-2a6his/edit#gid=0\"\",\"\"RWA!F:BZ\"\"),49,0))\"),\"\")","v":""}]
[{"$nulls":4},{"$f":"IFERROR(__xludf.DUMMYFUNCTION(\"iferror(VLOOKUP(B357,IMPORTRANGE(\"\"https://docs.google.com/spreadsheets/d/1-zcOrI_PgX9R0t6_sOpXptmEcBDI4IX9Gfz9-2a6his/edit#gid=0\"\",\"\"RWA!F:BZ\"\"),44,0))\"),\"\")","v":""},{"$f":"IFERROR(__xludf.DUMMYFUNCTION(\"iferror(VLOOKUP(B357,IMPORTRANGE(\"\"https://docs.google.com/spreadsheets/d/1-zcOrI_PgX9R0t6_sOpXptmEcBDI4IX9Gfz9-2a6his/edit#gid=0\"\",\"\"RWA!F:BZ\"\"),48,0))\"),\"\")","v":""},{"$f":"IFERROR(__xludf.DUMMYFUNCTION(\"iferror(VLOOKUP(B357,IMPORTRANGE(\"\"https://docs.google.com/spreadsheets/d/1-zcOrI_PgX9R0t6_sOpXptmEcBDI4IX9Gfz9-2a6his/edit#gid=0\"\",\"\"RWA!F:BZ\"\"),49,0))\"),\"\")","v":""}]
[{"$nulls":4},{"$f":"IFERROR(__xludf.DUMMYFUNCTION(\"iferror(VLOOKUP(B358,IMPORTRANGE(\"\"https://docs.google.com/spreadsheets/d/1-zcOrI_PgX9R0t6_sOpXptmEcBDI4IX9Gfz9-2a6his/edit#gid=0\"\",\"\"RWA!F:BZ\"\"),44,0))\"),\"\")","v":""},{"$f":"IFERROR(__xludf.DUMMYFUNCTION(\"iferror(VLOOKUP(B358,IMPORTRANGE(\"\"https://docs.google.com/spreadsheets/d/1-zcOrI_PgX9R0t6_sOpXptmEcBDI4IX9Gfz9-2a6his/edit#gid=0\"\",\"\"RWA!F:BZ\"\"),48,0))\"),\"\")","v":""},{"$f":"IFERROR(__xludf.DUMMYFUNCTION(\"iferror(VLOOKUP(B358,IMPORTRANGE(\"\"https://docs.google.com/spreadsheets/d/1-zcOrI_PgX9R0t6_sOpXptmEcBDI4IX9Gfz9-2a6his/edit#gid=0\"\",\"\"RWA!F:BZ\"\"),49,0))\"),\"\")","v":""}]
[{"$nulls":4},{"$f":"IFERROR(__xludf.DUMMYFUNCTION(\"iferror(VLOOKUP(B359,IMPORTRANGE(\"\"https://docs.google.com/spreadsheets/d/1-zcOrI_PgX9R0t6_sOpXptmEcBDI4IX9Gfz9-2a6his/edit#gid=0\"\",\"\"RWA!F:BZ\"\"),44,0))\"),\"\")","v":""},{"$f":"IFERROR(__xludf.DUMMYFUNCTION(\"iferror(VLOOKUP(B359,IMPORTRANGE(\"\"https://docs.google.com/spreadsheets/d/1-zcOrI_PgX9R0t6_sOpXptmEcBDI4IX9Gfz9-2a6his/edit#gid=0\"\",\"\"RWA!F:BZ\"\"),48,0))\"),\"\")","v":""},{"$f":"IFERROR(__xludf.DUMMYFUNCTION(\"iferror(VLOOKUP(B359,IMPORTRANGE(\"\"https://docs.google.com/spreadsheets/d/1-zcOrI_PgX9R0t6_sOpXptmEcBDI4IX9Gfz9-2a6his/edit#gid=0\"\",\"\"RWA!F:BZ\"\"),49,0))\"),\"\")","v":""}]
[{"$nulls":4},{"$f":"IFERROR(__xludf.DUMMYFUNCTION(\"iferror(VLOOKUP(B360,IMPORTRANGE(\"\"https://docs.google.com/spreadsheets/d/1-zcOrI_PgX9R0t6_sOpXptmEcBDI4IX9Gfz9-2a6his/edit#gid=0\"\",\"\"RWA!F:BZ\"\"),44,0))\"),\"\")","v":""},{"$f":"IFERROR(__xludf.DUMMYFUNCTION(\"iferror(VLOOKUP(B360,IMPORTRANGE(\"\"https://docs.google.com/spreadsheets/d/1-zcOrI_PgX9R0t6_sOpXptmEcBDI4IX9Gfz9-2a6his/edit#gid=0\"\",\"\"RWA!F:BZ\"\"),48,0))\"),\"\")","v":""},{"$f":"IFERROR(__xludf.DUMMYFUNCTION(\"iferror(VLOOKUP(B360,IMPORTRANGE(\"\"https://docs.google.com/spreadsheets/d/1-zcOrI_PgX9R0t6_sOpXptmEcBDI4IX9Gfz9-2a6his/edit#gid=0\"\",\"\"RWA!F:BZ\"\"),49,0))\"),\"\")","v":""}]
[{"$nulls":4},{"$f":"IFERROR(__xludf.DUMMYFUNCTION(\"iferror(VLOOKUP(B361,IMPORTRANGE(\"\"https://docs.google.com/spreadsheets/d/1-zcOrI_PgX9R0t6_sOpXptmEcBDI4IX9Gfz9-2a6his/edit#gid=0\"\",\"\"RWA!F:BZ\"\"),44,0))\"),\"\")","v":""},{"$f":"IFERROR(__xludf.DUMMYFUNCTION(\"iferror(VLOOKUP(B361,IMPORTRANGE(\"\"https://docs.google.com/spreadsheets/d/1-zcOrI_PgX9R0t6_sOpXptmEcBDI4IX9Gfz9-2a6his/edit#gid=0\"\",\"\"RWA!F:BZ\"\"),48,0))\"),\"\")","v":""},{"$f":"IFERROR(__xludf.DUMMYFUNCTION(\"iferror(VLOOKUP(B361,IMPORTRANGE(\"\"https://docs.google.com/spreadsheets/d/1-zcOrI_PgX9R0t6_sOpXptmEcBDI4IX9Gfz9-2a6his/edit#gid=0\"\",\"\"RWA!F:BZ\"\"),49,0))\"),\"\")","v":""}]
[{"$nulls":4},{"$f":"IFERROR(__xludf.DUMMYFUNCTION(\"iferror(VLOOKUP(B362,IMPORTRANGE(\"\"https://docs.google.com/spreadsheets/d/1-zcOrI_PgX9R0t6_sOpXptmEcBDI4IX9Gfz9-2a6his/edit#gid=0\"\",\"\"RWA!F:BZ\"\"),44,0))\"),\"\")","v":""},{"$f":"IFERROR(__xludf.DUMMYFUNCTION(\"iferror(VLOOKUP(B362,IMPORTRANGE(\"\"https://docs.google.com/spreadsheets/d/1-zcOrI_PgX9R0t6_sOpXptmEcBDI4IX9Gfz9-2a6his/edit#gid=0\"\",\"\"RWA!F:BZ\"\"),48,0))\"),\"\")","v":""},{"$f":"IFERROR(__xludf.DUMMYFUNCTION(\"iferror(VLOOKUP(B362,IMPORTRANGE(\"\"https://docs.google.com/spreadsheets/d/1-zcOrI_PgX9R0t6_sOpXptmEcBDI4IX9Gfz9-2a6his/edit#gid=0\"\",\"\"RWA!F:BZ\"\"),49,0))\"),\"\")","v":""}]
[{"$nulls":4},{"$f":"IFERROR(__xludf.DUMMYFUNCTION(\"iferror(VLOOKUP(B363,IMPORTRANGE(\"\"https://docs.google.com/spreadsheets/d/1-zcOrI_PgX9R0t6_sOpXptmEcBDI4IX9Gfz9-2a6his/edit#gid=0\"\",\"\"RWA!F:BZ\"\"),44,0))\"),\"\")","v":""},{"$f":"IFERROR(__xludf.DUMMYFUNCTION(\"iferror(VLOOKUP(B363,IMPORTRANGE(\"\"https://docs.google.com/spreadsheets/d/1-zcOrI_PgX9R0t6_sOpXptmEcBDI4IX9Gfz9-2a6his/edit#gid=0\"\",\"\"RWA!F:BZ\"\"),48,0))\"),\"\")","v":""},{"$f":"IFERROR(__xludf.DUMMYFUNCTION(\"iferror(VLOOKUP(B363,IMPORTRANGE(\"\"https://docs.google.com/spreadsheets/d/1-zcOrI_PgX9R0t6_sOpXptmEcBDI4IX9Gfz9-2a6his/edit#gid=0\"\",\"\"RWA!F:BZ\"\"),49,0))\"),\"\")","v":""}]
[{"$nulls":4},{"$f":"IFERROR(__xludf.DUMMYFUNCTION(\"iferror(VLOOKUP(B364,IMPORTRANGE(\"\"https://docs.google.com/spreadsheets/d/1-zcOrI_PgX9R0t6_sOpXptmEcBDI4IX9Gfz9-2a6his/edit#gid=0\"\",\"\"RWA!F:BZ\"\"),44,0))\"),\"\")","v":""},{"$f":"IFERROR(__xludf.DUMMYFUNCTION(\"iferror(VLOOKUP(B364,IMPORTRANGE(\"\"https://docs.google.com/spreadsheets/d/1-zcOrI_PgX9R0t6_sOpXptmEcBDI4IX9Gfz9-2a6his/edit#gid=0\"\",\"\"RWA!F:BZ\"\"),48,0))\"),\"\")","v":""},{"$f":"IFERROR(__xludf.DUMMYFUNCTION(\"iferror(VLOOKUP(B364,IMPORTRANGE(\"\"https://docs.google.com/spreadsheets/d/1-zcOrI_PgX9R0t6_sOpXptmEcBDI4IX9Gfz9-2a6his/edit#gid=0\"\",\"\"RWA!F:BZ\"\"),49,0))\"),\"\")","v":""}]
[{"$nulls":4},{"$f":"IFERROR(__xludf.DUMMYFUNCTION(\"iferror(VLOOKUP(B365,IMPORTRANGE(\"\"https://docs.google.com/spreadsheets/d/1-zcOrI_PgX9R0t6_sOpXptmEcBDI4IX9Gfz9-2a6his/edit#gid=0\"\",\"\"RWA!F:BZ\"\"),44,0))\"),\"\")","v":""},{"$f":"IFERROR(__xludf.DUMMYFUNCTION(\"iferror(VLOOKUP(B365,IMPORTRANGE(\"\"https://docs.google.com/spreadsheets/d/1-zcOrI_PgX9R0t6_sOpXptmEcBDI4IX9Gfz9-2a6his/edit#gid=0\"\",\"\"RWA!F:BZ\"\"),48,0))\"),\"\")","v":""},{"$f":"IFERROR(__xludf.DUMMYFUNCTION(\"iferror(VLOOKUP(B365,IMPORTRANGE(\"\"https://docs.google.com/spreadsheets/d/1-zcOrI_PgX9R0t6_sOpXptmEcBDI4IX9Gfz9-2a6his/edit#gid=0\"\",\"\"RWA!F:BZ\"\"),49,0))\"),\"\")","v":""}]
[{"$nulls":4},{"$f":"IFERROR(__xludf.DUMMYFUNCTION(\"iferror(VLOOKUP(B366,IMPORTRANGE(\"\"https://docs.google.com/spreadsheets/d/1-zcOrI_PgX9R0t6_sOpXptmEcBDI4IX9Gfz9-2a6his/edit#gid=0\"\",\"\"RWA!F:BZ\"\"),44,0))\"),\"\")","v":""},{"$f":"IFERROR(__xludf.DUMMYFUNCTION(\"iferror(VLOOKUP(B366,IMPORTRANGE(\"\"https://docs.google.com/spreadsheets/d/1-zcOrI_PgX9R0t6_sOpXptmEcBDI4IX9Gfz9-2a6his/edit#gid=0\"\",\"\"RWA!F:BZ\"\"),48,0))\"),\"\")","v":""},{"$f":"IFERROR(__xludf.DUMMYFUNCTION(\"iferror(VLOOKUP(B366,IMPORTRANGE(\"\"https://docs.google.com/spreadsheets/d/1-zcOrI_PgX9R0t6_sOpXptmEcBDI4IX9Gfz9-2a6his/edit#gid=0\"\",\"\"RWA!F:BZ\"\"),49,0))\"),\"\")","v":""}]
[{"$nulls":4},{"$f":"IFERROR(__xludf.DUMMYFUNCTION(\"iferror(VLOOKUP(B367,IMPORTRANGE(\"\"https://docs.google.com/spreadsheets/d/1-zcOrI_PgX9R0t6_sOpXptmEcBDI4IX9Gfz9-2a6his/edit#gid=0\"\",\"\"RWA!F:BZ\"\"),44,0))\"),\"\")","v":""},{"$f":"IFERROR(__xludf.DUMMYFUNCTION(\"iferror(VLOOKUP(B367,IMPORTRANGE(\"\"https://docs.google.com/spreadsheets/d/1-zcOrI_PgX9R0t6_sOpXptmEcBDI4IX9Gfz9-2a6his/edit#gid=0\"\",\"\"RWA!F:BZ\"\"),48,0))\"),\"\")","v":""},{"$f":"IFERROR(__xludf.DUMMYFUNCTION(\"iferror(VLOOKUP(B367,IMPORTRANGE(\"\"https://docs.google.com/spreadsheets/d/1-zcOrI_PgX9R0t6_sOpXptmEcBDI4IX9Gfz9-2a6his/edit#gid=0\"\",\"\"RWA!F:BZ\"\"),49,0))\"),\"\")","v":""}]
[{"$nulls":4},{"$f":"IFERROR(__xludf.DUMMYFUNCTION(\"iferror(VLOOKUP(B368,IMPORTRANGE(\"\"https://docs.google.com/spreadsheets/d/1-zcOrI_PgX9R0t6_sOpXptmEcBDI4IX9Gfz9-2a6his/edit#gid=0\"\",\"\"RWA!F:BZ\"\"),44,0))\"),\"\")","v":""},{"$f":"IFERROR(__xludf.DUMMYFUNCTION(\"iferror(VLOOKUP(B368,IMPORTRANGE(\"\"https://docs.google.com/spreadsheets/d/1-zcOrI_PgX9R0t6_sOpXptmEcBDI4IX9Gfz9-2a6his/edit#gid=0\"\",\"\"RWA!F:BZ\"\"),48,0))\"),\"\")","v":""},{"$f":"IFERROR(__xludf.DUMMYFUNCTION(\"iferror(VLOOKUP(B368,IMPORTRANGE(\"\"https://docs.google.com/spreadsheets/d/1-zcOrI_PgX9R0t6_sOpXptmEcBDI4IX9Gfz9-2a6his/edit#gid=0\"\",\"\"RWA!F:BZ\"\"),49,0))\"),\"\")","v":""}]
[{"$nulls":4},{"$f":"IFERROR(__xludf.DUMMYFUNCTION(\"iferror(VLOOKUP(B369,IMPORTRANGE(\"\"https://docs.google.com/spreadsheets/d/1-zcOrI_PgX9R0t6_sOpXptmEcBDI4IX9Gfz9-2a6his/edit#gid=0\"\",\"\"RWA!F:BZ\"\"),44,0))\"),\"\")","v":""},{"$f":"IFERROR(__xludf.DUMMYFUNCTION(\"iferror(VLOOKUP(B369,IMPORTRANGE(\"\"https://docs.google.com/spreadsheets/d/1-zcOrI_PgX9R0t6_sOpXptmEcBDI4IX9Gfz9-2a6his/edit#gid=0\"\",\"\"RWA!F:BZ\"\"),48,0))\"),\"\")","v":""},{"$f":"IFERROR(__xludf.DUMMYFUNCTION(\"iferror(VLOOKUP(B369,IMPORTRANGE(\"\"https://docs.google.com/spreadsheets/d/1-zcOrI_PgX9R0t6_sOpXptmEcBDI4IX9Gfz9-2a6his/edit#gid=0\"\",\"\"RWA!F:BZ\"\"),49,0))\"),\"\")","v":""}]
[{"$nulls":4},{"$f":"IFERROR(__xludf.DUMMYFUNCTION(\"iferror(VLOOKUP(B370,IMPORTRANGE(\"\"https://docs.google.com/spreadsheets/d/1-zcOrI_PgX9R0t6_sOpXptmEcBDI4IX9Gfz9-2a6his/edit#gid=0\"\",\"\"RWA!F:BZ\"\"),44,0))\"),\"\")","v":""},{"$f":"IFERROR(__xludf.DUMMYFUNCTION(\"iferror(VLOOKUP(B370,IMPORTRANGE(\"\"https://docs.google.com/spreadsheets/d/1-zcOrI_PgX9R0t6_sOpXptmEcBDI4IX9Gfz9-2a6his/edit#gid=0\"\",\"\"RWA!F:BZ\"\"),48,0))\"),\"\")","v":""},{"$f":"IFERROR(__xludf.DUMMYFUNCTION(\"iferror(VLOOKUP(B370,IMPORTRANGE(\"\"https://docs.google.com/spreadsheets/d/1-zcOrI_PgX9R0t6_sOpXptmEcBDI4IX9Gfz9-2a6his/edit#gid=0\"\",\"\"RWA!F:BZ\"\"),49,0))\"),\"\")","v":""}]
[{"$nulls":4},{"$f":"IFERROR(__xludf.DUMMYFUNCTION(\"iferror(VLOOKUP(B371,IMPORTRANGE(\"\"https://docs.google.com/spreadsheets/d/1-zcOrI_PgX9R0t6_sOpXptmEcBDI4IX9Gfz9-2a6his/edit#gid=0\"\",\"\"RWA!F:BZ\"\"),44,0))\"),\"\")","v":""},{"$f":"IFERROR(__xludf.DUMMYFUNCTION(\"iferror(VLOOKUP(B371,IMPORTRANGE(\"\"https://docs.google.com/spreadsheets/d/1-zcOrI_PgX9R0t6_sOpXptmEcBDI4IX9Gfz9-2a6his/edit#gid=0\"\",\"\"RWA!F:BZ\"\"),48,0))\"),\"\")","v":""},{"$f":"IFERROR(__xludf.DUMMYFUNCTION(\"iferror(VLOOKUP(B371,IMPORTRANGE(\"\"https://docs.google.com/spreadsheets/d/1-zcOrI_PgX9R0t6_sOpXptmEcBDI4IX9Gfz9-2a6his/edit#gid=0\"\",\"\"RWA!F:BZ\"\"),49,0))\"),\"\")","v":""}]
[{"$nulls":4},{"$f":"IFERROR(__xludf.DUMMYFUNCTION(\"iferror(VLOOKUP(B372,IMPORTRANGE(\"\"https://docs.google.com/spreadsheets/d/1-zcOrI_PgX9R0t6_sOpXptmEcBDI4IX9Gfz9-2a6his/edit#gid=0\"\",\"\"RWA!F:BZ\"\"),44,0))\"),\"\")","v":""},{"$f":"IFERROR(__xludf.DUMMYFUNCTION(\"iferror(VLOOKUP(B372,IMPORTRANGE(\"\"https://docs.google.com/spreadsheets/d/1-zcOrI_PgX9R0t6_sOpXptmEcBDI4IX9Gfz9-2a6his/edit#gid=0\"\",\"\"RWA!F:BZ\"\"),48,0))\"),\"\")","v":""},{"$f":"IFERROR(__xludf.DUMMYFUNCTION(\"iferror(VLOOKUP(B372,IMPORTRANGE(\"\"https://docs.google.com/spreadsheets/d/1-zcOrI_PgX9R0t6_sOpXptmEcBDI4IX9Gfz9-2a6his/edit#gid=0\"\",\"\"RWA!F:BZ\"\"),49,0))\"),\"\")","v":""}]
[{"$nulls":4},{"$f":"IFERROR(__xludf.DUMMYFUNCTION(\"iferror(VLOOKUP(B373,IMPORTRANGE(\"\"https://docs.google.com/spreadsheets/d/1-zcOrI_PgX9R0t6_sOpXptmEcBDI4IX9Gfz9-2a6his/edit#gid=0\"\",\"\"RWA!F:BZ\"\"),44,0))\"),\"\")","v":""},{"$f":"IFERROR(__xludf.DUMMYFUNCTION(\"iferror(VLOOKUP(B373,IMPORTRANGE(\"\"https://docs.google.com/spreadsheets/d/1-zcOrI_PgX9R0t6_sOpXptmEcBDI4IX9Gfz9-2a6his/edit#gid=0\"\",\"\"RWA!F:BZ\"\"),48,0))\"),\"\")","v":""},{"$f":"IFERROR(__xludf.DUMMYFUNCTION(\"iferror(VLOOKUP(B373,IMPORTRANGE(\"\"https://docs.google.com/spreadsheets/d/1-zcOrI_PgX9R0t6_sOpXptmEcBDI4IX9Gfz9-2a6his/edit#gid=0\"\",\"\"RWA!F:BZ\"\"),49,0))\"),\"\")","v":""}]
[{"$nulls":4},{"$f":"IFERROR(__xludf.DUMMYFUNCTION(\"iferror(VLOOKUP(B374,IMPORTRANGE(\"\"https://docs.google.com/spreadsheets/d/1-zcOrI_PgX9R0t6_sOpXptmEcBDI4IX9Gfz9-2a6his/edit#gid=0\"\",\"\"RWA!F:BZ\"\"),44,0))\"),\"\")","v":""},{"$f":"IFERROR(__xludf.DUMMYFUNCTION(\"iferror(VLOOKUP(B374,IMPORTRANGE(\"\"https://docs.google.com/spreadsheets/d/1-zcOrI_PgX9R0t6_sOpXptmEcBDI4IX9Gfz9-2a6his/edit#gid=0\"\",\"\"RWA!F:BZ\"\"),48,0))\"),\"\")","v":""},{"$f":"IFERROR(__xludf.DUMMYFUNCTION(\"iferror(VLOOKUP(B374,IMPORTRANGE(\"\"https://docs.google.com/spreadsheets/d/1-zcOrI_PgX9R0t6_sOpXptmEcBDI4IX9Gfz9-2a6his/edit#gid=0\"\",\"\"RWA!F:BZ\"\"),49,0))\"),\"\")","v":""}]
[{"$nulls":4},{"$f":"IFERROR(__xludf.DUMMYFUNCTION(\"iferror(VLOOKUP(B375,IMPORTRANGE(\"\"https://docs.google.com/spreadsheets/d/1-zcOrI_PgX9R0t6_sOpXptmEcBDI4IX9Gfz9-2a6his/edit#gid=0\"\",\"\"RWA!F:BZ\"\"),44,0))\"),\"\")","v":""},{"$f":"IFERROR(__xludf.DUMMYFUNCTION(\"iferror(VLOOKUP(B375,IMPORTRANGE(\"\"https://docs.google.com/spreadsheets/d/1-zcOrI_PgX9R0t6_sOpXptmEcBDI4IX9Gfz9-2a6his/edit#gid=0\"\",\"\"RWA!F:BZ\"\"),48,0))\"),\"\")","v":""},{"$f":"IFERROR(__xludf.DUMMYFUNCTION(\"iferror(VLOOKUP(B375,IMPORTRANGE(\"\"https://docs.google.com/spreadsheets/d/1-zcOrI_PgX9R0t6_sOpXptmEcBDI4IX9Gfz9-2a6his/edit#gid=0\"\",\"\"RWA!F:BZ\"\"),49,0))\"),\"\")","v":""}]
[{"$nulls":4},{"$f":"IFERROR(__xludf.DUMMYFUNCTION(\"iferror(VLOOKUP(B376,IMPORTRANGE(\"\"https://docs.google.com/spreadsheets/d/1-zcOrI_PgX9R0t6_sOpXptmEcBDI4IX9Gfz9-2a6his/edit#gid=0\"\",\"\"RWA!F:BZ\"\"),44,0))\"),\"\")","v":""},{"$f":"IFERROR(__xludf.DUMMYFUNCTION(\"iferror(VLOOKUP(B376,IMPORTRANGE(\"\"https://docs.google.com/spreadsheets/d/1-zcOrI_PgX9R0t6_sOpXptmEcBDI4IX9Gfz9-2a6his/edit#gid=0\"\",\"\"RWA!F:BZ\"\"),48,0))\"),\"\")","v":""},{"$f":"IFERROR(__xludf.DUMMYFUNCTION(\"iferror(VLOOKUP(B376,IMPORTRANGE(\"\"https://docs.google.com/spreadsheets/d/1-zcOrI_PgX9R0t6_sOpXptmEcBDI4IX9Gfz9-2a6his/edit#gid=0\"\",\"\"RWA!F:BZ\"\"),49,0))\"),\"\")","v":""}]
[{"$nulls":4},{"$f":"IFERROR(__xludf.DUMMYFUNCTION(\"iferror(VLOOKUP(B377,IMPORTRANGE(\"\"https://docs.google.com/spreadsheets/d/1-zcOrI_PgX9R0t6_sOpXptmEcBDI4IX9Gfz9-2a6his/edit#gid=0\"\",\"\"RWA!F:BZ\"\"),44,0))\"),\"\")","v":""},{"$f":"IFERROR(__xludf.DUMMYFUNCTION(\"iferror(VLOOKUP(B377,IMPORTRANGE(\"\"https://docs.google.com/spreadsheets/d/1-zcOrI_PgX9R0t6_sOpXptmEcBDI4IX9Gfz9-2a6his/edit#gid=0\"\",\"\"RWA!F:BZ\"\"),48,0))\"),\"\")","v":""},{"$f":"IFERROR(__xludf.DUMMYFUNCTION(\"iferror(VLOOKUP(B377,IMPORTRANGE(\"\"https://docs.google.com/spreadsheets/d/1-zcOrI_PgX9R0t6_sOpXptmEcBDI4IX9Gfz9-2a6his/edit#gid=0\"\",\"\"RWA!F:BZ\"\"),49,0))\"),\"\")","v":""}]
[{"$nulls":4},{"$f":"IFERROR(__xludf.DUMMYFUNCTION(\"iferror(VLOOKUP(B378,IMPORTRANGE(\"\"https://docs.google.com/spreadsheets/d/1-zcOrI_PgX9R0t6_sOpXptmEcBDI4IX9Gfz9-2a6his/edit#gid=0\"\",\"\"RWA!F:BZ\"\"),44,0))\"),\"\")","v":""},{"$f":"IFERROR(__xludf.DUMMYFUNCTION(\"iferror(VLOOKUP(B378,IMPORTRANGE(\"\"https://docs.google.com/spreadsheets/d/1-zcOrI_PgX9R0t6_sOpXptmEcBDI4IX9Gfz9-2a6his/edit#gid=0\"\",\"\"RWA!F:BZ\"\"),48,0))\"),\"\")","v":""},{"$f":"IFERROR(__xludf.DUMMYFUNCTION(\"iferror(VLOOKUP(B378,IMPORTRANGE(\"\"https://docs.google.com/spreadsheets/d/1-zcOrI_PgX9R0t6_sOpXptmEcBDI4IX9Gfz9-2a6his/edit#gid=0\"\",\"\"RWA!F:BZ\"\"),49,0))\"),\"\")","v":""}]
[{"$nulls":4},{"$f":"IFERROR(__xludf.DUMMYFUNCTION(\"iferror(VLOOKUP(B379,IMPORTRANGE(\"\"https://docs.google.com/spreadsheets/d/1-zcOrI_PgX9R0t6_sOpXptmEcBDI4IX9Gfz9-2a6his/edit#gid=0\"\",\"\"RWA!F:BZ\"\"),44,0))\"),\"\")","v":""},{"$f":"IFERROR(__xludf.DUMMYFUNCTION(\"iferror(VLOOKUP(B379,IMPORTRANGE(\"\"https://docs.google.com/spreadsheets/d/1-zcOrI_PgX9R0t6_sOpXptmEcBDI4IX9Gfz9-2a6his/edit#gid=0\"\",\"\"RWA!F:BZ\"\"),48,0))\"),\"\")","v":""},{"$f":"IFERROR(__xludf.DUMMYFUNCTION(\"iferror(VLOOKUP(B379,IMPORTRANGE(\"\"https://docs.google.com/spreadsheets/d/1-zcOrI_PgX9R0t6_sOpXptmEcBDI4IX9Gfz9-2a6his/edit#gid=0\"\",\"\"RWA!F:BZ\"\"),49,0))\"),\"\")","v":""}]
[{"$nulls":4},{"$f":"IFERROR(__xludf.DUMMYFUNCTION(\"iferror(VLOOKUP(B380,IMPORTRANGE(\"\"https://docs.google.com/spreadsheets/d/1-zcOrI_PgX9R0t6_sOpXptmEcBDI4IX9Gfz9-2a6his/edit#gid=0\"\",\"\"RWA!F:BZ\"\"),44,0))\"),\"\")","v":""},{"$f":"IFERROR(__xludf.DUMMYFUNCTION(\"iferror(VLOOKUP(B380,IMPORTRANGE(\"\"https://docs.google.com/spreadsheets/d/1-zcOrI_PgX9R0t6_sOpXptmEcBDI4IX9Gfz9-2a6his/edit#gid=0\"\",\"\"RWA!F:BZ\"\"),48,0))\"),\"\")","v":""},{"$f":"IFERROR(__xludf.DUMMYFUNCTION(\"iferror(VLOOKUP(B380,IMPORTRANGE(\"\"https://docs.google.com/spreadsheets/d/1-zcOrI_PgX9R0t6_sOpXptmEcBDI4IX9Gfz9-2a6his/edit#gid=0\"\",\"\"RWA!F:BZ\"\"),49,0))\"),\"\")","v":""}]
[{"$nulls":4},{"$f":"IFERROR(__xludf.DUMMYFUNCTION(\"iferror(VLOOKUP(B381,IMPORTRANGE(\"\"https://docs.google.com/spreadsheets/d/1-zcOrI_PgX9R0t6_sOpXptmEcBDI4IX9Gfz9-2a6his/edit#gid=0\"\",\"\"RWA!F:BZ\"\"),44,0))\"),\"\")","v":""},{"$f":"IFERROR(__xludf.DUMMYFUNCTION(\"iferror(VLOOKUP(B381,IMPORTRANGE(\"\"https://docs.google.com/spreadsheets/d/1-zcOrI_PgX9R0t6_sOpXptmEcBDI4IX9Gfz9-2a6his/edit#gid=0\"\",\"\"RWA!F:BZ\"\"),48,0))\"),\"\")","v":""},{"$f":"IFERROR(__xludf.DUMMYFUNCTION(\"iferror(VLOOKUP(B381,IMPORTRANGE(\"\"https://docs.google.com/spreadsheets/d/1-zcOrI_PgX9R0t6_sOpXptmEcBDI4IX9Gfz9-2a6his/edit#gid=0\"\",\"\"RWA!F:BZ\"\"),49,0))\"),\"\")","v":""}]
[{"$nulls":4},{"$f":"IFERROR(__xludf.DUMMYFUNCTION(\"iferror(VLOOKUP(B382,IMPORTRANGE(\"\"https://docs.google.com/spreadsheets/d/1-zcOrI_PgX9R0t6_sOpXptmEcBDI4IX9Gfz9-2a6his/edit#gid=0\"\",\"\"RWA!F:BZ\"\"),44,0))\"),\"\")","v":""},{"$f":"IFERROR(__xludf.DUMMYFUNCTION(\"iferror(VLOOKUP(B382,IMPORTRANGE(\"\"https://docs.google.com/spreadsheets/d/1-zcOrI_PgX9R0t6_sOpXptmEcBDI4IX9Gfz9-2a6his/edit#gid=0\"\",\"\"RWA!F:BZ\"\"),48,0))\"),\"\")","v":""},{"$f":"IFERROR(__xludf.DUMMYFUNCTION(\"iferror(VLOOKUP(B382,IMPORTRANGE(\"\"https://docs.google.com/spreadsheets/d/1-zcOrI_PgX9R0t6_sOpXptmEcBDI4IX9Gfz9-2a6his/edit#gid=0\"\",\"\"RWA!F:BZ\"\"),49,0))\"),\"\")","v":""}]
[{"$nulls":4},{"$f":"IFERROR(__xludf.DUMMYFUNCTION(\"iferror(VLOOKUP(B383,IMPORTRANGE(\"\"https://docs.google.com/spreadsheets/d/1-zcOrI_PgX9R0t6_sOpXptmEcBDI4IX9Gfz9-2a6his/edit#gid=0\"\",\"\"RWA!F:BZ\"\"),44,0))\"),\"\")","v":""},{"$f":"IFERROR(__xludf.DUMMYFUNCTION(\"iferror(VLOOKUP(B383,IMPORTRANGE(\"\"https://docs.google.com/spreadsheets/d/1-zcOrI_PgX9R0t6_sOpXptmEcBDI4IX9Gfz9-2a6his/edit#gid=0\"\",\"\"RWA!F:BZ\"\"),48,0))\"),\"\")","v":""},{"$f":"IFERROR(__xludf.DUMMYFUNCTION(\"iferror(VLOOKUP(B383,IMPORTRANGE(\"\"https://docs.google.com/spreadsheets/d/1-zcOrI_PgX9R0t6_sOpXptmEcBDI4IX9Gfz9-2a6his/edit#gid=0\"\",\"\"RWA!F:BZ\"\"),49,0))\"),\"\")","v":""}]
[{"$nulls":4},{"$f":"IFERROR(__xludf.DUMMYFUNCTION(\"iferror(VLOOKUP(B384,IMPORTRANGE(\"\"https://docs.google.com/spreadsheets/d/1-zcOrI_PgX9R0t6_sOpXptmEcBDI4IX9Gfz9-2a6his/edit#gid=0\"\",\"\"RWA!F:BZ\"\"),44,0))\"),\"\")","v":""},{"$f":"IFERROR(__xludf.DUMMYFUNCTION(\"iferror(VLOOKUP(B384,IMPORTRANGE(\"\"https://docs.google.com/spreadsheets/d/1-zcOrI_PgX9R0t6_sOpXptmEcBDI4IX9Gfz9-2a6his/edit#gid=0\"\",\"\"RWA!F:BZ\"\"),48,0))\"),\"\")","v":""},{"$f":"IFERROR(__xludf.DUMMYFUNCTION(\"iferror(VLOOKUP(B384,IMPORTRANGE(\"\"https://docs.google.com/spreadsheets/d/1-zcOrI_PgX9R0t6_sOpXptmEcBDI4IX9Gfz9-2a6his/edit#gid=0\"\",\"\"RWA!F:BZ\"\"),49,0))\"),\"\")","v":""}]
[{"$nulls":4},{"$f":"IFERROR(__xludf.DUMMYFUNCTION(\"iferror(VLOOKUP(B385,IMPORTRANGE(\"\"https://docs.google.com/spreadsheets/d/1-zcOrI_PgX9R0t6_sOpXptmEcBDI4IX9Gfz9-2a6his/edit#gid=0\"\",\"\"RWA!F:BZ\"\"),44,0))\"),\"\")","v":""},{"$f":"IFERROR(__xludf.DUMMYFUNCTION(\"iferror(VLOOKUP(B385,IMPORTRANGE(\"\"https://docs.google.com/spreadsheets/d/1-zcOrI_PgX9R0t6_sOpXptmEcBDI4IX9Gfz9-2a6his/edit#gid=0\"\",\"\"RWA!F:BZ\"\"),48,0))\"),\"\")","v":""},{"$f":"IFERROR(__xludf.DUMMYFUNCTION(\"iferror(VLOOKUP(B385,IMPORTRANGE(\"\"https://docs.google.com/spreadsheets/d/1-zcOrI_PgX9R0t6_sOpXptmEcBDI4IX9Gfz9-2a6his/edit#gid=0\"\",\"\"RWA!F:BZ\"\"),49,0))\"),\"\")","v":""}]
[{"$nulls":4},{"$f":"IFERROR(__xludf.DUMMYFUNCTION(\"iferror(VLOOKUP(B386,IMPORTRANGE(\"\"https://docs.google.com/spreadsheets/d/1-zcOrI_PgX9R0t6_sOpXptmEcBDI4IX9Gfz9-2a6his/edit#gid=0\"\",\"\"RWA!F:BZ\"\"),44,0))\"),\"\")","v":""},{"$f":"IFERROR(__xludf.DUMMYFUNCTION(\"iferror(VLOOKUP(B386,IMPORTRANGE(\"\"https://docs.google.com/spreadsheets/d/1-zcOrI_PgX9R0t6_sOpXptmEcBDI4IX9Gfz9-2a6his/edit#gid=0\"\",\"\"RWA!F:BZ\"\"),48,0))\"),\"\")","v":""},{"$f":"IFERROR(__xludf.DUMMYFUNCTION(\"iferror(VLOOKUP(B386,IMPORTRANGE(\"\"https://docs.google.com/spreadsheets/d/1-zcOrI_PgX9R0t6_sOpXptmEcBDI4IX9Gfz9-2a6his/edit#gid=0\"\",\"\"RWA!F:BZ\"\"),49,0))\"),\"\")","v":""}]
[{"$nulls":4},{"$f":"IFERROR(__xludf.DUMMYFUNCTION(\"iferror(VLOOKUP(B387,IMPORTRANGE(\"\"https://docs.google.com/spreadsheets/d/1-zcOrI_PgX9R0t6_sOpXptmEcBDI4IX9Gfz9-2a6his/edit#gid=0\"\",\"\"RWA!F:BZ\"\"),44,0))\"),\"\")","v":""},{"$f":"IFERROR(__xludf.DUMMYFUNCTION(\"iferror(VLOOKUP(B387,IMPORTRANGE(\"\"https://docs.google.com/spreadsheets/d/1-zcOrI_PgX9R0t6_sOpXptmEcBDI4IX9Gfz9-2a6his/edit#gid=0\"\",\"\"RWA!F:BZ\"\"),48,0))\"),\"\")","v":""},{"$f":"IFERROR(__xludf.DUMMYFUNCTION(\"iferror(VLOOKUP(B387,IMPORTRANGE(\"\"https://docs.google.com/spreadsheets/d/1-zcOrI_PgX9R0t6_sOpXptmEcBDI4IX9Gfz9-2a6his/edit#gid=0\"\",\"\"RWA!F:BZ\"\"),49,0))\"),\"\")","v":""}]
[{"$nulls":4},{"$f":"IFERROR(__xludf.DUMMYFUNCTION(\"iferror(VLOOKUP(B388,IMPORTRANGE(\"\"https://docs.google.com/spreadsheets/d/1-zcOrI_PgX9R0t6_sOpXptmEcBDI4IX9Gfz9-2a6his/edit#gid=0\"\",\"\"RWA!F:BZ\"\"),44,0))\"),\"\")","v":""},{"$f":"IFERROR(__xludf.DUMMYFUNCTION(\"iferror(VLOOKUP(B388,IMPORTRANGE(\"\"https://docs.google.com/spreadsheets/d/1-zcOrI_PgX9R0t6_sOpXptmEcBDI4IX9Gfz9-2a6his/edit#gid=0\"\",\"\"RWA!F:BZ\"\"),48,0))\"),\"\")","v":""},{"$f":"IFERROR(__xludf.DUMMYFUNCTION(\"iferror(VLOOKUP(B388,IMPORTRANGE(\"\"https://docs.google.com/spreadsheets/d/1-zcOrI_PgX9R0t6_sOpXptmEcBDI4IX9Gfz9-2a6his/edit#gid=0\"\",\"\"RWA!F:BZ\"\"),49,0))\"),\"\")","v":""}]
[{"$nulls":4},{"$f":"IFERROR(__xludf.DUMMYFUNCTION(\"iferror(VLOOKUP(B389,IMPORTRANGE(\"\"https://docs.google.com/spreadsheets/d/1-zcOrI_PgX9R0t6_sOpXptmEcBDI4IX9Gfz9-2a6his/edit#gid=0\"\",\"\"RWA!F:BZ\"\"),44,0))\"),\"\")","v":""},{"$f":"IFERROR(__xludf.DUMMYFUNCTION(\"iferror(VLOOKUP(B389,IMPORTRANGE(\"\"https://docs.google.com/spreadsheets/d/1-zcOrI_PgX9R0t6_sOpXptmEcBDI4IX9Gfz9-2a6his/edit#gid=0\"\",\"\"RWA!F:BZ\"\"),48,0))\"),\"\")","v":""},{"$f":"IFERROR(__xludf.DUMMYFUNCTION(\"iferror(VLOOKUP(B389,IMPORTRANGE(\"\"https://docs.google.com/spreadsheets/d/1-zcOrI_PgX9R0t6_sOpXptmEcBDI4IX9Gfz9-2a6his/edit#gid=0\"\",\"\"RWA!F:BZ\"\"),49,0))\"),\"\")","v":""}]
[{"$nulls":4},{"$f":"IFERROR(__xludf.DUMMYFUNCTION(\"iferror(VLOOKUP(B390,IMPORTRANGE(\"\"https://docs.google.com/spreadsheets/d/1-zcOrI_PgX9R0t6_sOpXptmEcBDI4IX9Gfz9-2a6his/edit#gid=0\"\",\"\"RWA!F:BZ\"\"),44,0))\"),\"\")","v":""},{"$f":"IFERROR(__xludf.DUMMYFUNCTION(\"iferror(VLOOKUP(B390,IMPORTRANGE(\"\"https://docs.google.com/spreadsheets/d/1-zcOrI_PgX9R0t6_sOpXptmEcBDI4IX9Gfz9-2a6his/edit#gid=0\"\",\"\"RWA!F:BZ\"\"),48,0))\"),\"\")","v":""},{"$f":"IFERROR(__xludf.DUMMYFUNCTION(\"iferror(VLOOKUP(B390,IMPORTRANGE(\"\"https://docs.google.com/spreadsheets/d/1-zcOrI_PgX9R0t6_sOpXptmEcBDI4IX9Gfz9-2a6his/edit#gid=0\"\",\"\"RWA!F:BZ\"\"),49,0))\"),\"\")","v":""}]
[{"$nulls":4},{"$f":"IFERROR(__xludf.DUMMYFUNCTION(\"iferror(VLOOKUP(B391,IMPORTRANGE(\"\"https://docs.google.com/spreadsheets/d/1-zcOrI_PgX9R0t6_sOpXptmEcBDI4IX9Gfz9-2a6his/edit#gid=0\"\",\"\"RWA!F:BZ\"\"),44,0))\"),\"\")","v":""},{"$f":"IFERROR(__xludf.DUMMYFUNCTION(\"iferror(VLOOKUP(B391,IMPORTRANGE(\"\"https://docs.google.com/spreadsheets/d/1-zcOrI_PgX9R0t6_sOpXptmEcBDI4IX9Gfz9-2a6his/edit#gid=0\"\",\"\"RWA!F:BZ\"\"),48,0))\"),\"\")","v":""},{"$f":"IFERROR(__xludf.DUMMYFUNCTION(\"iferror(VLOOKUP(B391,IMPORTRANGE(\"\"https://docs.google.com/spreadsheets/d/1-zcOrI_PgX9R0t6_sOpXptmEcBDI4IX9Gfz9-2a6his/edit#gid=0\"\",\"\"RWA!F:BZ\"\"),49,0))\"),\"\")","v":""}]
[{"$nulls":4},{"$f":"IFERROR(__xludf.DUMMYFUNCTION(\"iferror(VLOOKUP(B392,IMPORTRANGE(\"\"https://docs.google.com/spreadsheets/d/1-zcOrI_PgX9R0t6_sOpXptmEcBDI4IX9Gfz9-2a6his/edit#gid=0\"\",\"\"RWA!F:BZ\"\"),44,0))\"),\"\")","v":""},{"$f":"IFERROR(__xludf.DUMMYFUNCTION(\"iferror(VLOOKUP(B392,IMPORTRANGE(\"\"https://docs.google.com/spreadsheets/d/1-zcOrI_PgX9R0t6_sOpXptmEcBDI4IX9Gfz9-2a6his/edit#gid=0\"\",\"\"RWA!F:BZ\"\"),48,0))\"),\"\")","v":""},{"$f":"IFERROR(__xludf.DUMMYFUNCTION(\"iferror(VLOOKUP(B392,IMPORTRANGE(\"\"https://docs.google.com/spreadsheets/d/1-zcOrI_PgX9R0t6_sOpXptmEcBDI4IX9Gfz9-2a6his/edit#gid=0\"\",\"\"RWA!F:BZ\"\"),49,0))\"),\"\")","v":""}]
[{"$nulls":4},{"$f":"IFERROR(__xludf.DUMMYFUNCTION(\"iferror(VLOOKUP(B393,IMPORTRANGE(\"\"https://docs.google.com/spreadsheets/d/1-zcOrI_PgX9R0t6_sOpXptmEcBDI4IX9Gfz9-2a6his/edit#gid=0\"\",\"\"RWA!F:BZ\"\"),44,0))\"),\"\")","v":""},{"$f":"IFERROR(__xludf.DUMMYFUNCTION(\"iferror(VLOOKUP(B393,IMPORTRANGE(\"\"https://docs.google.com/spreadsheets/d/1-zcOrI_PgX9R0t6_sOpXptmEcBDI4IX9Gfz9-2a6his/edit#gid=0\"\",\"\"RWA!F:BZ\"\"),48,0))\"),\"\")","v":""},{"$f":"IFERROR(__xludf.DUMMYFUNCTION(\"iferror(VLOOKUP(B393,IMPORTRANGE(\"\"https://docs.google.com/spreadsheets/d/1-zcOrI_PgX9R0t6_sOpXptmEcBDI4IX9Gfz9-2a6his/edit#gid=0\"\",\"\"RWA!F:BZ\"\"),49,0))\"),\"\")","v":""}]
[{"$nulls":4},{"$f":"IFERROR(__xludf.DUMMYFUNCTION(\"iferror(VLOOKUP(B394,IMPORTRANGE(\"\"https://docs.google.com/spreadsheets/d/1-zcOrI_PgX9R0t6_sOpXptmEcBDI4IX9Gfz9-2a6his/edit#gid=0\"\",\"\"RWA!F:BZ\"\"),44,0))\"),\"\")","v":""},{"$f":"IFERROR(__xludf.DUMMYFUNCTION(\"iferror(VLOOKUP(B394,IMPORTRANGE(\"\"https://docs.google.com/spreadsheets/d/1-zcOrI_PgX9R0t6_sOpXptmEcBDI4IX9Gfz9-2a6his/edit#gid=0\"\",\"\"RWA!F:BZ\"\"),48,0))\"),\"\")","v":""},{"$f":"IFERROR(__xludf.DUMMYFUNCTION(\"iferror(VLOOKUP(B394,IMPORTRANGE(\"\"https://docs.google.com/spreadsheets/d/1-zcOrI_PgX9R0t6_sOpXptmEcBDI4IX9Gfz9-2a6his/edit#gid=0\"\",\"\"RWA!F:BZ\"\"),49,0))\"),\"\")","v":""}]
[{"$nulls":4},{"$f":"IFERROR(__xludf.DUMMYFUNCTION(\"iferror(VLOOKUP(B395,IMPORTRANGE(\"\"https://docs.google.com/spreadsheets/d/1-zcOrI_PgX9R0t6_sOpXptmEcBDI4IX9Gfz9-2a6his/edit#gid=0\"\",\"\"RWA!F:BZ\"\"),44,0))\"),\"\")","v":""},{"$f":"IFERROR(__xludf.DUMMYFUNCTION(\"iferror(VLOOKUP(B395,IMPORTRANGE(\"\"https://docs.google.com/spreadsheets/d/1-zcOrI_PgX9R0t6_sOpXptmEcBDI4IX9Gfz9-2a6his/edit#gid=0\"\",\"\"RWA!F:BZ\"\"),48,0))\"),\"\")","v":""},{"$f":"IFERROR(__xludf.DUMMYFUNCTION(\"iferror(VLOOKUP(B395,IMPORTRANGE(\"\"https://docs.google.com/spreadsheets/d/1-zcOrI_PgX9R0t6_sOpXptmEcBDI4IX9Gfz9-2a6his/edit#gid=0\"\",\"\"RWA!F:BZ\"\"),49,0))\"),\"\")","v":""}]
[{"$nulls":4},{"$f":"IFERROR(__xludf.DUMMYFUNCTION(\"iferror(VLOOKUP(B396,IMPORTRANGE(\"\"https://docs.google.com/spreadsheets/d/1-zcOrI_PgX9R0t6_sOpXptmEcBDI4IX9Gfz9-2a6his/edit#gid=0\"\",\"\"RWA!F:BZ\"\"),44,0))\"),\"\")","v":""},{"$f":"IFERROR(__xludf.DUMMYFUNCTION(\"iferror(VLOOKUP(B396,IMPORTRANGE(\"\"https://docs.google.com/spreadsheets/d/1-zcOrI_PgX9R0t6_sOpXptmEcBDI4IX9Gfz9-2a6his/edit#gid=0\"\",\"\"RWA!F:BZ\"\"),48,0))\"),\"\")","v":""},{"$f":"IFERROR(__xludf.DUMMYFUNCTION(\"iferror(VLOOKUP(B396,IMPORTRANGE(\"\"https://docs.google.com/spreadsheets/d/1-zcOrI_PgX9R0t6_sOpXptmEcBDI4IX9Gfz9-2a6his/edit#gid=0\"\",\"\"RWA!F:BZ\"\"),49,0))\"),\"\")","v":""}]
[{"$nulls":4},{"$f":"IFERROR(__xludf.DUMMYFUNCTION(\"iferror(VLOOKUP(B397,IMPORTRANGE(\"\"https://docs.google.com/spreadsheets/d/1-zcOrI_PgX9R0t6_sOpXptmEcBDI4IX9Gfz9-2a6his/edit#gid=0\"\",\"\"RWA!F:BZ\"\"),44,0))\"),\"\")","v":""},{"$f":"IFERROR(__xludf.DUMMYFUNCTION(\"iferror(VLOOKUP(B397,IMPORTRANGE(\"\"https://docs.google.com/spreadsheets/d/1-zcOrI_PgX9R0t6_sOpXptmEcBDI4IX9Gfz9-2a6his/edit#gid=0\"\",\"\"RWA!F:BZ\"\"),48,0))\"),\"\")","v":""},{"$f":"IFERROR(__xludf.DUMMYFUNCTION(\"iferror(VLOOKUP(B397,IMPORTRANGE(\"\"https://docs.google.com/spreadsheets/d/1-zcOrI_PgX9R0t6_sOpXptmEcBDI4IX9Gfz9-2a6his/edit#gid=0\"\",\"\"RWA!F:BZ\"\"),49,0))\"),\"\")","v":""}]
[{"$nulls":4},{"$f":"IFERROR(__xludf.DUMMYFUNCTION(\"iferror(VLOOKUP(B398,IMPORTRANGE(\"\"https://docs.google.com/spreadsheets/d/1-zcOrI_PgX9R0t6_sOpXptmEcBDI4IX9Gfz9-2a6his/edit#gid=0\"\",\"\"RWA!F:BZ\"\"),44,0))\"),\"\")","v":""},{"$f":"IFERROR(__xludf.DUMMYFUNCTION(\"iferror(VLOOKUP(B398,IMPORTRANGE(\"\"https://docs.google.com/spreadsheets/d/1-zcOrI_PgX9R0t6_sOpXptmEcBDI4IX9Gfz9-2a6his/edit#gid=0\"\",\"\"RWA!F:BZ\"\"),48,0))\"),\"\")","v":""},{"$f":"IFERROR(__xludf.DUMMYFUNCTION(\"iferror(VLOOKUP(B398,IMPORTRANGE(\"\"https://docs.google.com/spreadsheets/d/1-zcOrI_PgX9R0t6_sOpXptmEcBDI4IX9Gfz9-2a6his/edit#gid=0\"\",\"\"RWA!F:BZ\"\"),49,0))\"),\"\")","v":""}]
[{"$nulls":4},{"$f":"IFERROR(__xludf.DUMMYFUNCTION(\"iferror(VLOOKUP(B399,IMPORTRANGE(\"\"https://docs.google.com/spreadsheets/d/1-zcOrI_PgX9R0t6_sOpXptmEcBDI4IX9Gfz9-2a6his/edit#gid=0\"\",\"\"RWA!F:BZ\"\"),44,0))\"),\"\")","v":""},{"$f":"IFERROR(__xludf.DUMMYFUNCTION(\"iferror(VLOOKUP(B399,IMPORTRANGE(\"\"https://docs.google.com/spreadsheets/d/1-zcOrI_PgX9R0t6_sOpXptmEcBDI4IX9Gfz9-2a6his/edit#gid=0\"\",\"\"RWA!F:BZ\"\"),48,0))\"),\"\")","v":""},{"$f":"IFERROR(__xludf.DUMMYFUNCTION(\"iferror(VLOOKUP(B399,IMPORTRANGE(\"\"https://docs.google.com/spreadsheets/d/1-zcOrI_PgX9R0t6_sOpXptmEcBDI4IX9Gfz9-2a6his/edit#gid=0\"\",\"\"RWA!F:BZ\"\"),49,0))\"),\"\")","v":""}]
[{"$nulls":4},{"$f":"IFERROR(__xludf.DUMMYFUNCTION(\"iferror(VLOOKUP(B400,IMPORTRANGE(\"\"https://docs.google.com/spreadsheets/d/1-zcOrI_PgX9R0t6_sOpXptmEcBDI4IX9Gfz9-2a6his/edit#gid=0\"\",\"\"RWA!F:BZ\"\"),44,0))\"),\"\")","v":""},{"$f":"IFERROR(__xludf.DUMMYFUNCTION(\"iferror(VLOOKUP(B400,IMPORTRANGE(\"\"https://docs.google.com/spreadsheets/d/1-zcOrI_PgX9R0t6_sOpXptmEcBDI4IX9Gfz9-2a6his/edit#gid=0\"\",\"\"RWA!F:BZ\"\"),48,0))\"),\"\")","v":""},{"$f":"IFERROR(__xludf.DUMMYFUNCTION(\"iferror(VLOOKUP(B400,IMPORTRANGE(\"\"https://docs.google.com/spreadsheets/d/1-zcOrI_PgX9R0t6_sOpXptmEcBDI4IX9Gfz9-2a6his/edit#gid=0\"\",\"\"RWA!F:BZ\"\"),49,0))\"),\"\")","v":""}]
[{"$nulls":4},{"$f":"IFERROR(__xludf.DUMMYFUNCTION(\"iferror(VLOOKUP(B401,IMPORTRANGE(\"\"https://docs.google.com/spreadsheets/d/1-zcOrI_PgX9R0t6_sOpXptmEcBDI4IX9Gfz9-2a6his/edit#gid=0\"\",\"\"RWA!F:BZ\"\"),44,0))\"),\"\")","v":""},{"$f":"IFERROR(__xludf.DUMMYFUNCTION(\"iferror(VLOOKUP(B401,IMPORTRANGE(\"\"https://docs.google.com/spreadsheets/d/1-zcOrI_PgX9R0t6_sOpXptmEcBDI4IX9Gfz9-2a6his/edit#gid=0\"\",\"\"RWA!F:BZ\"\"),48,0))\"),\"\")","v":""},{"$f":"IFERROR(__xludf.DUMMYFUNCTION(\"iferror(VLOOKUP(B401,IMPORTRANGE(\"\"https://docs.google.com/spreadsheets/d/1-zcOrI_PgX9R0t6_sOpXptmEcBDI4IX9Gfz9-2a6his/edit#gid=0\"\",\"\"RWA!F:BZ\"\"),49,0))\"),\"\")","v":""}]
[{"$nulls":4},{"$f":"IFERROR(__xludf.DUMMYFUNCTION(\"iferror(VLOOKUP(B402,IMPORTRANGE(\"\"https://docs.google.com/spreadsheets/d/1-zcOrI_PgX9R0t6_sOpXptmEcBDI4IX9Gfz9-2a6his/edit#gid=0\"\",\"\"RWA!F:BZ\"\"),44,0))\"),\"\")","v":""},{"$f":"IFERROR(__xludf.DUMMYFUNCTION(\"iferror(VLOOKUP(B402,IMPORTRANGE(\"\"https://docs.google.com/spreadsheets/d/1-zcOrI_PgX9R0t6_sOpXptmEcBDI4IX9Gfz9-2a6his/edit#gid=0\"\",\"\"RWA!F:BZ\"\"),48,0))\"),\"\")","v":""},{"$f":"IFERROR(__xludf.DUMMYFUNCTION(\"iferror(VLOOKUP(B402,IMPORTRANGE(\"\"https://docs.google.com/spreadsheets/d/1-zcOrI_PgX9R0t6_sOpXptmEcBDI4IX9Gfz9-2a6his/edit#gid=0\"\",\"\"RWA!F:BZ\"\"),49,0))\"),\"\")","v":""}]
[{"$nulls":4},{"$f":"IFERROR(__xludf.DUMMYFUNCTION(\"iferror(VLOOKUP(B403,IMPORTRANGE(\"\"https://docs.google.com/spreadsheets/d/1-zcOrI_PgX9R0t6_sOpXptmEcBDI4IX9Gfz9-2a6his/edit#gid=0\"\",\"\"RWA!F:BZ\"\"),44,0))\"),\"\")","v":""},{"$f":"IFERROR(__xludf.DUMMYFUNCTION(\"iferror(VLOOKUP(B403,IMPORTRANGE(\"\"https://docs.google.com/spreadsheets/d/1-zcOrI_PgX9R0t6_sOpXptmEcBDI4IX9Gfz9-2a6his/edit#gid=0\"\",\"\"RWA!F:BZ\"\"),48,0))\"),\"\")","v":""},{"$f":"IFERROR(__xludf.DUMMYFUNCTION(\"iferror(VLOOKUP(B403,IMPORTRANGE(\"\"https://docs.google.com/spreadsheets/d/1-zcOrI_PgX9R0t6_sOpXptmEcBDI4IX9Gfz9-2a6his/edit#gid=0\"\",\"\"RWA!F:BZ\"\"),49,0))\"),\"\")","v":""}]
[{"$nulls":4},{"$f":"IFERROR(__xludf.DUMMYFUNCTION(\"iferror(VLOOKUP(B404,IMPORTRANGE(\"\"https://docs.google.com/spreadsheets/d/1-zcOrI_PgX9R0t6_sOpXptmEcBDI4IX9Gfz9-2a6his/edit#gid=0\"\",\"\"RWA!F:BZ\"\"),44,0))\"),\"\")","v":""},{"$f":"IFERROR(__xludf.DUMMYFUNCTION(\"iferror(VLOOKUP(B404,IMPORTRANGE(\"\"https://docs.google.com/spreadsheets/d/1-zcOrI_PgX9R0t6_sOpXptmEcBDI4IX9Gfz9-2a6his/edit#gid=0\"\",\"\"RWA!F:BZ\"\"),48,0))\"),\"\")","v":""},{"$f":"IFERROR(__xludf.DUMMYFUNCTION(\"iferror(VLOOKUP(B404,IMPORTRANGE(\"\"https://docs.google.com/spreadsheets/d/1-zcOrI_PgX9R0t6_sOpXptmEcBDI4IX9Gfz9-2a6his/edit#gid=0\"\",\"\"RWA!F:BZ\"\"),49,0))\"),\"\")","v":""}]
[{"$nulls":4},{"$f":"IFERROR(__xludf.DUMMYFUNCTION(\"iferror(VLOOKUP(B405,IMPORTRANGE(\"\"https://docs.google.com/spreadsheets/d/1-zcOrI_PgX9R0t6_sOpXptmEcBDI4IX9Gfz9-2a6his/edit#gid=0\"\",\"\"RWA!F:BZ\"\"),44,0))\"),\"\")","v":""},{"$f":"IFERROR(__xludf.DUMMYFUNCTION(\"iferror(VLOOKUP(B405,IMPORTRANGE(\"\"https://docs.google.com/spreadsheets/d/1-zcOrI_PgX9R0t6_sOpXptmEcBDI4IX9Gfz9-2a6his/edit#gid=0\"\",\"\"RWA!F:BZ\"\"),48,0))\"),\"\")","v":""},{"$f":"IFERROR(__xludf.DUMMYFUNCTION(\"iferror(VLOOKUP(B405,IMPORTRANGE(\"\"https://docs.google.com/spreadsheets/d/1-zcOrI_PgX9R0t6_sOpXptmEcBDI4IX9Gfz9-2a6his/edit#gid=0\"\",\"\"RWA!F:BZ\"\"),49,0))\"),\"\")","v":""}]
[{"$nulls":4},{"$f":"IFERROR(__xludf.DUMMYFUNCTION(\"iferror(VLOOKUP(B406,IMPORTRANGE(\"\"https://docs.google.com/spreadsheets/d/1-zcOrI_PgX9R0t6_sOpXptmEcBDI4IX9Gfz9-2a6his/edit#gid=0\"\",\"\"RWA!F:BZ\"\"),44,0))\"),\"\")","v":""},{"$f":"IFERROR(__xludf.DUMMYFUNCTION(\"iferror(VLOOKUP(B406,IMPORTRANGE(\"\"https://docs.google.com/spreadsheets/d/1-zcOrI_PgX9R0t6_sOpXptmEcBDI4IX9Gfz9-2a6his/edit#gid=0\"\",\"\"RWA!F:BZ\"\"),48,0))\"),\"\")","v":""},{"$f":"IFERROR(__xludf.DUMMYFUNCTION(\"iferror(VLOOKUP(B406,IMPORTRANGE(\"\"https://docs.google.com/spreadsheets/d/1-zcOrI_PgX9R0t6_sOpXptmEcBDI4IX9Gfz9-2a6his/edit#gid=0\"\",\"\"RWA!F:BZ\"\"),49,0))\"),\"\")","v":""}]
[{"$nulls":4},{"$f":"IFERROR(__xludf.DUMMYFUNCTION(\"iferror(VLOOKUP(B407,IMPORTRANGE(\"\"https://docs.google.com/spreadsheets/d/1-zcOrI_PgX9R0t6_sOpXptmEcBDI4IX9Gfz9-2a6his/edit#gid=0\"\",\"\"RWA!F:BZ\"\"),44,0))\"),\"\")","v":""},{"$f":"IFERROR(__xludf.DUMMYFUNCTION(\"iferror(VLOOKUP(B407,IMPORTRANGE(\"\"https://docs.google.com/spreadsheets/d/1-zcOrI_PgX9R0t6_sOpXptmEcBDI4IX9Gfz9-2a6his/edit#gid=0\"\",\"\"RWA!F:BZ\"\"),48,0))\"),\"\")","v":""},{"$f":"IFERROR(__xludf.DUMMYFUNCTION(\"iferror(VLOOKUP(B407,IMPORTRANGE(\"\"https://docs.google.com/spreadsheets/d/1-zcOrI_PgX9R0t6_sOpXptmEcBDI4IX9Gfz9-2a6his/edit#gid=0\"\",\"\"RWA!F:BZ\"\"),49,0))\"),\"\")","v":""}]
[{"$nulls":4},{"$f":"IFERROR(__xludf.DUMMYFUNCTION(\"iferror(VLOOKUP(B408,IMPORTRANGE(\"\"https://docs.google.com/spreadsheets/d/1-zcOrI_PgX9R0t6_sOpXptmEcBDI4IX9Gfz9-2a6his/edit#gid=0\"\",\"\"RWA!F:BZ\"\"),44,0))\"),\"\")","v":""},{"$f":"IFERROR(__xludf.DUMMYFUNCTION(\"iferror(VLOOKUP(B408,IMPORTRANGE(\"\"https://docs.google.com/spreadsheets/d/1-zcOrI_PgX9R0t6_sOpXptmEcBDI4IX9Gfz9-2a6his/edit#gid=0\"\",\"\"RWA!F:BZ\"\"),48,0))\"),\"\")","v":""},{"$f":"IFERROR(__xludf.DUMMYFUNCTION(\"iferror(VLOOKUP(B408,IMPORTRANGE(\"\"https://docs.google.com/spreadsheets/d/1-zcOrI_PgX9R0t6_sOpXptmEcBDI4IX9Gfz9-2a6his/edit#gid=0\"\",\"\"RWA!F:BZ\"\"),49,0))\"),\"\")","v":""}]
[{"$nulls":4},{"$f":"IFERROR(__xludf.DUMMYFUNCTION(\"iferror(VLOOKUP(B409,IMPORTRANGE(\"\"https://docs.google.com/spreadsheets/d/1-zcOrI_PgX9R0t6_sOpXptmEcBDI4IX9Gfz9-2a6his/edit#gid=0\"\",\"\"RWA!F:BZ\"\"),44,0))\"),\"\")","v":""},{"$f":"IFERROR(__xludf.DUMMYFUNCTION(\"iferror(VLOOKUP(B409,IMPORTRANGE(\"\"https://docs.google.com/spreadsheets/d/1-zcOrI_PgX9R0t6_sOpXptmEcBDI4IX9Gfz9-2a6his/edit#gid=0\"\",\"\"RWA!F:BZ\"\"),48,0))\"),\"\")","v":""},{"$f":"IFERROR(__xludf.DUMMYFUNCTION(\"iferror(VLOOKUP(B409,IMPORTRANGE(\"\"https://docs.google.com/spreadsheets/d/1-zcOrI_PgX9R0t6_sOpXptmEcBDI4IX9Gfz9-2a6his/edit#gid=0\"\",\"\"RWA!F:BZ\"\"),49,0))\"),\"\")","v":""}]
[{"$nulls":4},{"$f":"IFERROR(__xludf.DUMMYFUNCTION(\"iferror(VLOOKUP(B410,IMPORTRANGE(\"\"https://docs.google.com/spreadsheets/d/1-zcOrI_PgX9R0t6_sOpXptmEcBDI4IX9Gfz9-2a6his/edit#gid=0\"\",\"\"RWA!F:BZ\"\"),44,0))\"),\"\")","v":""},{"$f":"IFERROR(__xludf.DUMMYFUNCTION(\"iferror(VLOOKUP(B410,IMPORTRANGE(\"\"https://docs.google.com/spreadsheets/d/1-zcOrI_PgX9R0t6_sOpXptmEcBDI4IX9Gfz9-2a6his/edit#gid=0\"\",\"\"RWA!F:BZ\"\"),48,0))\"),\"\")","v":""},{"$f":"IFERROR(__xludf.DUMMYFUNCTION(\"iferror(VLOOKUP(B410,IMPORTRANGE(\"\"https://docs.google.com/spreadsheets/d/1-zcOrI_PgX9R0t6_sOpXptmEcBDI4IX9Gfz9-2a6his/edit#gid=0\"\",\"\"RWA!F:BZ\"\"),49,0))\"),\"\")","v":""}]
[{"$nulls":4},{"$f":"IFERROR(__xludf.DUMMYFUNCTION(\"iferror(VLOOKUP(B411,IMPORTRANGE(\"\"https://docs.google.com/spreadsheets/d/1-zcOrI_PgX9R0t6_sOpXptmEcBDI4IX9Gfz9-2a6his/edit#gid=0\"\",\"\"RWA!F:BZ\"\"),44,0))\"),\"\")","v":""},{"$f":"IFERROR(__xludf.DUMMYFUNCTION(\"iferror(VLOOKUP(B411,IMPORTRANGE(\"\"https://docs.google.com/spreadsheets/d/1-zcOrI_PgX9R0t6_sOpXptmEcBDI4IX9Gfz9-2a6his/edit#gid=0\"\",\"\"RWA!F:BZ\"\"),48,0))\"),\"\")","v":""},{"$f":"IFERROR(__xludf.DUMMYFUNCTION(\"iferror(VLOOKUP(B411,IMPORTRANGE(\"\"https://docs.google.com/spreadsheets/d/1-zcOrI_PgX9R0t6_sOpXptmEcBDI4IX9Gfz9-2a6his/edit#gid=0\"\",\"\"RWA!F:BZ\"\"),49,0))\"),\"\")","v":""}]
[{"$nulls":4},{"$f":"IFERROR(__xludf.DUMMYFUNCTION(\"iferror(VLOOKUP(B412,IMPORTRANGE(\"\"https://docs.google.com/spreadsheets/d/1-zcOrI_PgX9R0t6_sOpXptmEcBDI4IX9Gfz9-2a6his/edit#gid=0\"\",\"\"RWA!F:BZ\"\"),44,0))\"),\"\")","v":""},{"$f":"IFERROR(__xludf.DUMMYFUNCTION(\"iferror(VLOOKUP(B412,IMPORTRANGE(\"\"https://docs.google.com/spreadsheets/d/1-zcOrI_PgX9R0t6_sOpXptmEcBDI4IX9Gfz9-2a6his/edit#gid=0\"\",\"\"RWA!F:BZ\"\"),48,0))\"),\"\")","v":""},{"$f":"IFERROR(__xludf.DUMMYFUNCTION(\"iferror(VLOOKUP(B412,IMPORTRANGE(\"\"https://docs.google.com/spreadsheets/d/1-zcOrI_PgX9R0t6_sOpXptmEcBDI4IX9Gfz9-2a6his/edit#gid=0\"\",\"\"RWA!F:BZ\"\"),49,0))\"),\"\")","v":""}]
[{"$nulls":4},{"$f":"IFERROR(__xludf.DUMMYFUNCTION(\"iferror(VLOOKUP(B413,IMPORTRANGE(\"\"https://docs.google.com/spreadsheets/d/1-zcOrI_PgX9R0t6_sOpXptmEcBDI4IX9Gfz9-2a6his/edit#gid=0\"\",\"\"RWA!F:BZ\"\"),44,0))\"),\"\")","v":""},{"$f":"IFERROR(__xludf.DUMMYFUNCTION(\"iferror(VLOOKUP(B413,IMPORTRANGE(\"\"https://docs.google.com/spreadsheets/d/1-zcOrI_PgX9R0t6_sOpXptmEcBDI4IX9Gfz9-2a6his/edit#gid=0\"\",\"\"RWA!F:BZ\"\"),48,0))\"),\"\")","v":""},{"$f":"IFERROR(__xludf.DUMMYFUNCTION(\"iferror(VLOOKUP(B413,IMPORTRANGE(\"\"https://docs.google.com/spreadsheets/d/1-zcOrI_PgX9R0t6_sOpXptmEcBDI4IX9Gfz9-2a6his/edit#gid=0\"\",\"\"RWA!F:BZ\"\"),49,0))\"),\"\")","v":""}]
[{"$nulls":4},{"$f":"IFERROR(__xludf.DUMMYFUNCTION(\"iferror(VLOOKUP(B414,IMPORTRANGE(\"\"https://docs.google.com/spreadsheets/d/1-zcOrI_PgX9R0t6_sOpXptmEcBDI4IX9Gfz9-2a6his/edit#gid=0\"\",\"\"RWA!F:BZ\"\"),44,0))\"),\"\")","v":""},{"$f":"IFERROR(__xludf.DUMMYFUNCTION(\"iferror(VLOOKUP(B414,IMPORTRANGE(\"\"https://docs.google.com/spreadsheets/d/1-zcOrI_PgX9R0t6_sOpXptmEcBDI4IX9Gfz9-2a6his/edit#gid=0\"\",\"\"RWA!F:BZ\"\"),48,0))\"),\"\")","v":""},{"$f":"IFERROR(__xludf.DUMMYFUNCTION(\"iferror(VLOOKUP(B414,IMPORTRANGE(\"\"https://docs.google.com/spreadsheets/d/1-zcOrI_PgX9R0t6_sOpXptmEcBDI4IX9Gfz9-2a6his/edit#gid=0\"\",\"\"RWA!F:BZ\"\"),49,0))\"),\"\")","v":""}]
[{"$nulls":4},{"$f":"IFERROR(__xludf.DUMMYFUNCTION(\"iferror(VLOOKUP(B415,IMPORTRANGE(\"\"https://docs.google.com/spreadsheets/d/1-zcOrI_PgX9R0t6_sOpXptmEcBDI4IX9Gfz9-2a6his/edit#gid=0\"\",\"\"RWA!F:BZ\"\"),44,0))\"),\"\")","v":""},{"$f":"IFERROR(__xludf.DUMMYFUNCTION(\"iferror(VLOOKUP(B415,IMPORTRANGE(\"\"https://docs.google.com/spreadsheets/d/1-zcOrI_PgX9R0t6_sOpXptmEcBDI4IX9Gfz9-2a6his/edit#gid=0\"\",\"\"RWA!F:BZ\"\"),48,0))\"),\"\")","v":""},{"$f":"IFERROR(__xludf.DUMMYFUNCTION(\"iferror(VLOOKUP(B415,IMPORTRANGE(\"\"https://docs.google.com/spreadsheets/d/1-zcOrI_PgX9R0t6_sOpXptmEcBDI4IX9Gfz9-2a6his/edit#gid=0\"\",\"\"RWA!F:BZ\"\"),49,0))\"),\"\")","v":""}]
[{"$nulls":4},{"$f":"IFERROR(__xludf.DUMMYFUNCTION(\"iferror(VLOOKUP(B416,IMPORTRANGE(\"\"https://docs.google.com/spreadsheets/d/1-zcOrI_PgX9R0t6_sOpXptmEcBDI4IX9Gfz9-2a6his/edit#gid=0\"\",\"\"RWA!F:BZ\"\"),44,0))\"),\"\")","v":""},{"$f":"IFERROR(__xludf.DUMMYFUNCTION(\"iferror(VLOOKUP(B416,IMPORTRANGE(\"\"https://docs.google.com/spreadsheets/d/1-zcOrI_PgX9R0t6_sOpXptmEcBDI4IX9Gfz9-2a6his/edit#gid=0\"\",\"\"RWA!F:BZ\"\"),48,0))\"),\"\")","v":""},{"$f":"IFERROR(__xludf.DUMMYFUNCTION(\"iferror(VLOOKUP(B416,IMPORTRANGE(\"\"https://docs.google.com/spreadsheets/d/1-zcOrI_PgX9R0t6_sOpXptmEcBDI4IX9Gfz9-2a6his/edit#gid=0\"\",\"\"RWA!F:BZ\"\"),49,0))\"),\"\")","v":""}]
[{"$nulls":4},{"$f":"IFERROR(__xludf.DUMMYFUNCTION(\"iferror(VLOOKUP(B417,IMPORTRANGE(\"\"https://docs.google.com/spreadsheets/d/1-zcOrI_PgX9R0t6_sOpXptmEcBDI4IX9Gfz9-2a6his/edit#gid=0\"\",\"\"RWA!F:BZ\"\"),44,0))\"),\"\")","v":""},{"$f":"IFERROR(__xludf.DUMMYFUNCTION(\"iferror(VLOOKUP(B417,IMPORTRANGE(\"\"https://docs.google.com/spreadsheets/d/1-zcOrI_PgX9R0t6_sOpXptmEcBDI4IX9Gfz9-2a6his/edit#gid=0\"\",\"\"RWA!F:BZ\"\"),48,0))\"),\"\")","v":""},{"$f":"IFERROR(__xludf.DUMMYFUNCTION(\"iferror(VLOOKUP(B417,IMPORTRANGE(\"\"https://docs.google.com/spreadsheets/d/1-zcOrI_PgX9R0t6_sOpXptmEcBDI4IX9Gfz9-2a6his/edit#gid=0\"\",\"\"RWA!F:BZ\"\"),49,0))\"),\"\")","v":""}]
[{"$nulls":4},{"$f":"IFERROR(__xludf.DUMMYFUNCTION(\"iferror(VLOOKUP(B418,IMPORTRANGE(\"\"https://docs.google.com/spreadsheets/d/1-zcOrI_PgX9R0t6_sOpXptmEcBDI4IX9Gfz9-2a6his/edit#gid=0\"\",\"\"RWA!F:BZ\"\"),44,0))\"),\"\")","v":""},{"$f":"IFERROR(__xludf.DUMMYFUNCTION(\"iferror(VLOOKUP(B418,IMPORTRANGE(\"\"https://docs.google.com/spreadsheets/d/1-zcOrI_PgX9R0t6_sOpXptmEcBDI4IX9Gfz9-2a6his/edit#gid=0\"\",\"\"RWA!F:BZ\"\"),48,0))\"),\"\")","v":""},{"$f":"IFERROR(__xludf.DUMMYFUNCTION(\"iferror(VLOOKUP(B418,IMPORTRANGE(\"\"https://docs.google.com/spreadsheets/d/1-zcOrI_PgX9R0t6_sOpXptmEcBDI4IX9Gfz9-2a6his/edit#gid=0\"\",\"\"RWA!F:BZ\"\"),49,0))\"),\"\")","v":""}]
[{"$nulls":4},{"$f":"IFERROR(__xludf.DUMMYFUNCTION(\"iferror(VLOOKUP(B419,IMPORTRANGE(\"\"https://docs.google.com/spreadsheets/d/1-zcOrI_PgX9R0t6_sOpXptmEcBDI4IX9Gfz9-2a6his/edit#gid=0\"\",\"\"RWA!F:BZ\"\"),44,0))\"),\"\")","v":""},{"$f":"IFERROR(__xludf.DUMMYFUNCTION(\"iferror(VLOOKUP(B419,IMPORTRANGE(\"\"https://docs.google.com/spreadsheets/d/1-zcOrI_PgX9R0t6_sOpXptmEcBDI4IX9Gfz9-2a6his/edit#gid=0\"\",\"\"RWA!F:BZ\"\"),48,0))\"),\"\")","v":""},{"$f":"IFERROR(__xludf.DUMMYFUNCTION(\"iferror(VLOOKUP(B419,IMPORTRANGE(\"\"https://docs.google.com/spreadsheets/d/1-zcOrI_PgX9R0t6_sOpXptmEcBDI4IX9Gfz9-2a6his/edit#gid=0\"\",\"\"RWA!F:BZ\"\"),49,0))\"),\"\")","v":""}]
[{"$nulls":4},{"$f":"IFERROR(__xludf.DUMMYFUNCTION(\"iferror(VLOOKUP(B420,IMPORTRANGE(\"\"https://docs.google.com/spreadsheets/d/1-zcOrI_PgX9R0t6_sOpXptmEcBDI4IX9Gfz9-2a6his/edit#gid=0\"\",\"\"RWA!F:BZ\"\"),44,0))\"),\"\")","v":""},{"$f":"IFERROR(__xludf.DUMMYFUNCTION(\"iferror(VLOOKUP(B420,IMPORTRANGE(\"\"https://docs.google.com/spreadsheets/d/1-zcOrI_PgX9R0t6_sOpXptmEcBDI4IX9Gfz9-2a6his/edit#gid=0\"\",\"\"RWA!F:BZ\"\"),48,0))\"),\"\")","v":""},{"$f":"IFERROR(__xludf.DUMMYFUNCTION(\"iferror(VLOOKUP(B420,IMPORTRANGE(\"\"https://docs.google.com/spreadsheets/d/1-zcOrI_PgX9R0t6_sOpXptmEcBDI4IX9Gfz9-2a6his/edit#gid=0\"\",\"\"RWA!F:BZ\"\"),49,0))\"),\"\")","v":""}]
[{"$nulls":4},{"$f":"IFERROR(__xludf.DUMMYFUNCTION(\"iferror(VLOOKUP(B421,IMPORTRANGE(\"\"https://docs.google.com/spreadsheets/d/1-zcOrI_PgX9R0t6_sOpXptmEcBDI4IX9Gfz9-2a6his/edit#gid=0\"\",\"\"RWA!F:BZ\"\"),44,0))\"),\"\")","v":""},{"$f":"IFERROR(__xludf.DUMMYFUNCTION(\"iferror(VLOOKUP(B421,IMPORTRANGE(\"\"https://docs.google.com/spreadsheets/d/1-zcOrI_PgX9R0t6_sOpXptmEcBDI4IX9Gfz9-2a6his/edit#gid=0\"\",\"\"RWA!F:BZ\"\"),48,0))\"),\"\")","v":""},{"$f":"IFERROR(__xludf.DUMMYFUNCTION(\"iferror(VLOOKUP(B421,IMPORTRANGE(\"\"https://docs.google.com/spreadsheets/d/1-zcOrI_PgX9R0t6_sOpXptmEcBDI4IX9Gfz9-2a6his/edit#gid=0\"\",\"\"RWA!F:BZ\"\"),49,0))\"),\"\")","v":""}]
[{"$nulls":4},{"$f":"IFERROR(__xludf.DUMMYFUNCTION(\"iferror(VLOOKUP(B422,IMPORTRANGE(\"\"https://docs.google.com/spreadsheets/d/1-zcOrI_PgX9R0t6_sOpXptmEcBDI4IX9Gfz9-2a6his/edit#gid=0\"\",\"\"RWA!F:BZ\"\"),44,0))\"),\"\")","v":""},{"$f":"IFERROR(__xludf.DUMMYFUNCTION(\"iferror(VLOOKUP(B422,IMPORTRANGE(\"\"https://docs.google.com/spreadsheets/d/1-zcOrI_PgX9R0t6_sOpXptmEcBDI4IX9Gfz9-2a6his/edit#gid=0\"\",\"\"RWA!F:BZ\"\"),48,0))\"),\"\")","v":""},{"$f":"IFERROR(__xludf.DUMMYFUNCTION(\"iferror(VLOOKUP(B422,IMPORTRANGE(\"\"https://docs.google.com/spreadsheets/d/1-zcOrI_PgX9R0t6_sOpXptmEcBDI4IX9Gfz9-2a6his/edit#gid=0\"\",\"\"RWA!F:BZ\"\"),49,0))\"),\"\")","v":""}]
[{"$nulls":4},{"$f":"IFERROR(__xludf.DUMMYFUNCTION(\"iferror(VLOOKUP(B423,IMPORTRANGE(\"\"https://docs.google.com/spreadsheets/d/1-zcOrI_PgX9R0t6_sOpXptmEcBDI4IX9Gfz9-2a6his/edit#gid=0\"\",\"\"RWA!F:BZ\"\"),44,0))\"),\"\")","v":""},{"$f":"IFERROR(__xludf.DUMMYFUNCTION(\"iferror(VLOOKUP(B423,IMPORTRANGE(\"\"https://docs.google.com/spreadsheets/d/1-zcOrI_PgX9R0t6_sOpXptmEcBDI4IX9Gfz9-2a6his/edit#gid=0\"\",\"\"RWA!F:BZ\"\"),48,0))\"),\"\")","v":""},{"$f":"IFERROR(__xludf.DUMMYFUNCTION(\"iferror(VLOOKUP(B423,IMPORTRANGE(\"\"https://docs.google.com/spreadsheets/d/1-zcOrI_PgX9R0t6_sOpXptmEcBDI4IX9Gfz9-2a6his/edit#gid=0\"\",\"\"RWA!F:BZ\"\"),49,0))\"),\"\")","v":""}]
[{"$nulls":4},{"$f":"IFERROR(__xludf.DUMMYFUNCTION(\"iferror(VLOOKUP(B424,IMPORTRANGE(\"\"https://docs.google.com/spreadsheets/d/1-zcOrI_PgX9R0t6_sOpXptmEcBDI4IX9Gfz9-2a6his/edit#gid=0\"\",\"\"RWA!F:BZ\"\"),44,0))\"),\"\")","v":""},{"$f":"IFERROR(__xludf.DUMMYFUNCTION(\"iferror(VLOOKUP(B424,IMPORTRANGE(\"\"https://docs.google.com/spreadsheets/d/1-zcOrI_PgX9R0t6_sOpXptmEcBDI4IX9Gfz9-2a6his/edit#gid=0\"\",\"\"RWA!F:BZ\"\"),48,0))\"),\"\")","v":""},{"$f":"IFERROR(__xludf.DUMMYFUNCTION(\"iferror(VLOOKUP(B424,IMPORTRANGE(\"\"https://docs.google.com/spreadsheets/d/1-zcOrI_PgX9R0t6_sOpXptmEcBDI4IX9Gfz9-2a6his/edit#gid=0\"\",\"\"RWA!F:BZ\"\"),49,0))\"),\"\")","v":""}]
[{"$nulls":4},{"$f":"IFERROR(__xludf.DUMMYFUNCTION(\"iferror(VLOOKUP(B425,IMPORTRANGE(\"\"https://docs.google.com/spreadsheets/d/1-zcOrI_PgX9R0t6_sOpXptmEcBDI4IX9Gfz9-2a6his/edit#gid=0\"\",\"\"RWA!F:BZ\"\"),44,0))\"),\"\")","v":""},{"$f":"IFERROR(__xludf.DUMMYFUNCTION(\"iferror(VLOOKUP(B425,IMPORTRANGE(\"\"https://docs.google.com/spreadsheets/d/1-zcOrI_PgX9R0t6_sOpXptmEcBDI4IX9Gfz9-2a6his/edit#gid=0\"\",\"\"RWA!F:BZ\"\"),48,0))\"),\"\")","v":""},{"$f":"IFERROR(__xludf.DUMMYFUNCTION(\"iferror(VLOOKUP(B425,IMPORTRANGE(\"\"https://docs.google.com/spreadsheets/d/1-zcOrI_PgX9R0t6_sOpXptmEcBDI4IX9Gfz9-2a6his/edit#gid=0\"\",\"\"RWA!F:BZ\"\"),49,0))\"),\"\")","v":""}]
[{"$nulls":4},{"$f":"IFERROR(__xludf.DUMMYFUNCTION(\"iferror(VLOOKUP(B426,IMPORTRANGE(\"\"https://docs.google.com/spreadsheets/d/1-zcOrI_PgX9R0t6_sOpXptmEcBDI4IX9Gfz9-2a6his/edit#gid=0\"\",\"\"RWA!F:BZ\"\"),44,0))\"),\"\")","v":""},{"$f":"IFERROR(__xludf.DUMMYFUNCTION(\"iferror(VLOOKUP(B426,IMPORTRANGE(\"\"https://docs.google.com/spreadsheets/d/1-zcOrI_PgX9R0t6_sOpXptmEcBDI4IX9Gfz9-2a6his/edit#gid=0\"\",\"\"RWA!F:BZ\"\"),48,0))\"),\"\")","v":""},{"$f":"IFERROR(__xludf.DUMMYFUNCTION(\"iferror(VLOOKUP(B426,IMPORTRANGE(\"\"https://docs.google.com/spreadsheets/d/1-zcOrI_PgX9R0t6_sOpXptmEcBDI4IX9Gfz9-2a6his/edit#gid=0\"\",\"\"RWA!F:BZ\"\"),49,0))\"),\"\")","v":""}]
[{"$nulls":4},{"$f":"IFERROR(__xludf.DUMMYFUNCTION(\"iferror(VLOOKUP(B427,IMPORTRANGE(\"\"https://docs.google.com/spreadsheets/d/1-zcOrI_PgX9R0t6_sOpXptmEcBDI4IX9Gfz9-2a6his/edit#gid=0\"\",\"\"RWA!F:BZ\"\"),44,0))\"),\"\")","v":""},{"$f":"IFERROR(__xludf.DUMMYFUNCTION(\"iferror(VLOOKUP(B427,IMPORTRANGE(\"\"https://docs.google.com/spreadsheets/d/1-zcOrI_PgX9R0t6_sOpXptmEcBDI4IX9Gfz9-2a6his/edit#gid=0\"\",\"\"RWA!F:BZ\"\"),48,0))\"),\"\")","v":""},{"$f":"IFERROR(__xludf.DUMMYFUNCTION(\"iferror(VLOOKUP(B427,IMPORTRANGE(\"\"https://docs.google.com/spreadsheets/d/1-zcOrI_PgX9R0t6_sOpXptmEcBDI4IX9Gfz9-2a6his/edit#gid=0\"\",\"\"RWA!F:BZ\"\"),49,0))\"),\"\")","v":""}]
[{"$nulls":4},{"$f":"IFERROR(__xludf.DUMMYFUNCTION(\"iferror(VLOOKUP(B428,IMPORTRANGE(\"\"https://docs.google.com/spreadsheets/d/1-zcOrI_PgX9R0t6_sOpXptmEcBDI4IX9Gfz9-2a6his/edit#gid=0\"\",\"\"RWA!F:BZ\"\"),44,0))\"),\"\")","v":""},{"$f":"IFERROR(__xludf.DUMMYFUNCTION(\"iferror(VLOOKUP(B428,IMPORTRANGE(\"\"https://docs.google.com/spreadsheets/d/1-zcOrI_PgX9R0t6_sOpXptmEcBDI4IX9Gfz9-2a6his/edit#gid=0\"\",\"\"RWA!F:BZ\"\"),48,0))\"),\"\")","v":""},{"$f":"IFERROR(__xludf.DUMMYFUNCTION(\"iferror(VLOOKUP(B428,IMPORTRANGE(\"\"https://docs.google.com/spreadsheets/d/1-zcOrI_PgX9R0t6_sOpXptmEcBDI4IX9Gfz9-2a6his/edit#gid=0\"\",\"\"RWA!F:BZ\"\"),49,0))\"),\"\")","v":""}]
[{"$nulls":4},{"$f":"IFERROR(__xludf.DUMMYFUNCTION(\"iferror(VLOOKUP(B429,IMPORTRANGE(\"\"https://docs.google.com/spreadsheets/d/1-zcOrI_PgX9R0t6_sOpXptmEcBDI4IX9Gfz9-2a6his/edit#gid=0\"\",\"\"RWA!F:BZ\"\"),44,0))\"),\"\")","v":""},{"$f":"IFERROR(__xludf.DUMMYFUNCTION(\"iferror(VLOOKUP(B429,IMPORTRANGE(\"\"https://docs.google.com/spreadsheets/d/1-zcOrI_PgX9R0t6_sOpXptmEcBDI4IX9Gfz9-2a6his/edit#gid=0\"\",\"\"RWA!F:BZ\"\"),48,0))\"),\"\")","v":""},{"$f":"IFERROR(__xludf.DUMMYFUNCTION(\"iferror(VLOOKUP(B429,IMPORTRANGE(\"\"https://docs.google.com/spreadsheets/d/1-zcOrI_PgX9R0t6_sOpXptmEcBDI4IX9Gfz9-2a6his/edit#gid=0\"\",\"\"RWA!F:BZ\"\"),49,0))\"),\"\")","v":""}]
[{"$nulls":4},{"$f":"IFERROR(__xludf.DUMMYFUNCTION(\"iferror(VLOOKUP(B430,IMPORTRANGE(\"\"https://docs.google.com/spreadsheets/d/1-zcOrI_PgX9R0t6_sOpXptmEcBDI4IX9Gfz9-2a6his/edit#gid=0\"\",\"\"RWA!F:BZ\"\"),44,0))\"),\"\")","v":""},{"$f":"IFERROR(__xludf.DUMMYFUNCTION(\"iferror(VLOOKUP(B430,IMPORTRANGE(\"\"https://docs.google.com/spreadsheets/d/1-zcOrI_PgX9R0t6_sOpXptmEcBDI4IX9Gfz9-2a6his/edit#gid=0\"\",\"\"RWA!F:BZ\"\"),48,0))\"),\"\")","v":""},{"$f":"IFERROR(__xludf.DUMMYFUNCTION(\"iferror(VLOOKUP(B430,IMPORTRANGE(\"\"https://docs.google.com/spreadsheets/d/1-zcOrI_PgX9R0t6_sOpXptmEcBDI4IX9Gfz9-2a6his/edit#gid=0\"\",\"\"RWA!F:BZ\"\"),49,0))\"),\"\")","v":""}]
[{"$nulls":4},{"$f":"IFERROR(__xludf.DUMMYFUNCTION(\"iferror(VLOOKUP(B431,IMPORTRANGE(\"\"https://docs.google.com/spreadsheets/d/1-zcOrI_PgX9R0t6_sOpXptmEcBDI4IX9Gfz9-2a6his/edit#gid=0\"\",\"\"RWA!F:BZ\"\"),44,0))\"),\"\")","v":""},{"$f":"IFERROR(__xludf.DUMMYFUNCTION(\"iferror(VLOOKUP(B431,IMPORTRANGE(\"\"https://docs.google.com/spreadsheets/d/1-zcOrI_PgX9R0t6_sOpXptmEcBDI4IX9Gfz9-2a6his/edit#gid=0\"\",\"\"RWA!F:BZ\"\"),48,0))\"),\"\")","v":""},{"$f":"IFERROR(__xludf.DUMMYFUNCTION(\"iferror(VLOOKUP(B431,IMPORTRANGE(\"\"https://docs.google.com/spreadsheets/d/1-zcOrI_PgX9R0t6_sOpXptmEcBDI4IX9Gfz9-2a6his/edit#gid=0\"\",\"\"RWA!F:BZ\"\"),49,0))\"),\"\")","v":""}]
[{"$nulls":4},{"$f":"IFERROR(__xludf.DUMMYFUNCTION(\"iferror(VLOOKUP(B432,IMPORTRANGE(\"\"https://docs.google.com/spreadsheets/d/1-zcOrI_PgX9R0t6_sOpXptmEcBDI4IX9Gfz9-2a6his/edit#gid=0\"\",\"\"RWA!F:BZ\"\"),44,0))\"),\"\")","v":""},{"$f":"IFERROR(__xludf.DUMMYFUNCTION(\"iferror(VLOOKUP(B432,IMPORTRANGE(\"\"https://docs.google.com/spreadsheets/d/1-zcOrI_PgX9R0t6_sOpXptmEcBDI4IX9Gfz9-2a6his/edit#gid=0\"\",\"\"RWA!F:BZ\"\"),48,0))\"),\"\")","v":""},{"$f":"IFERROR(__xludf.DUMMYFUNCTION(\"iferror(VLOOKUP(B432,IMPORTRANGE(\"\"https://docs.google.com/spreadsheets/d/1-zcOrI_PgX9R0t6_sOpXptmEcBDI4IX9Gfz9-2a6his/edit#gid=0\"\",\"\"RWA!F:BZ\"\"),49,0))\"),\"\")","v":""}]
[{"$nulls":4},{"$f":"IFERROR(__xludf.DUMMYFUNCTION(\"iferror(VLOOKUP(B433,IMPORTRANGE(\"\"https://docs.google.com/spreadsheets/d/1-zcOrI_PgX9R0t6_sOpXptmEcBDI4IX9Gfz9-2a6his/edit#gid=0\"\",\"\"RWA!F:BZ\"\"),44,0))\"),\"\")","v":""},{"$f":"IFERROR(__xludf.DUMMYFUNCTION(\"iferror(VLOOKUP(B433,IMPORTRANGE(\"\"https://docs.google.com/spreadsheets/d/1-zcOrI_PgX9R0t6_sOpXptmEcBDI4IX9Gfz9-2a6his/edit#gid=0\"\",\"\"RWA!F:BZ\"\"),48,0))\"),\"\")","v":""},{"$f":"IFERROR(__xludf.DUMMYFUNCTION(\"iferror(VLOOKUP(B433,IMPORTRANGE(\"\"https://docs.google.com/spreadsheets/d/1-zcOrI_PgX9R0t6_sOpXptmEcBDI4IX9Gfz9-2a6his/edit#gid=0\"\",\"\"RWA!F:BZ\"\"),49,0))\"),\"\")","v":""}]
[{"$nulls":4},{"$f":"IFERROR(__xludf.DUMMYFUNCTION(\"iferror(VLOOKUP(B434,IMPORTRANGE(\"\"https://docs.google.com/spreadsheets/d/1-zcOrI_PgX9R0t6_sOpXptmEcBDI4IX9Gfz9-2a6his/edit#gid=0\"\",\"\"RWA!F:BZ\"\"),44,0))\"),\"\")","v":""},{"$f":"IFERROR(__xludf.DUMMYFUNCTION(\"iferror(VLOOKUP(B434,IMPORTRANGE(\"\"https://docs.google.com/spreadsheets/d/1-zcOrI_PgX9R0t6_sOpXptmEcBDI4IX9Gfz9-2a6his/edit#gid=0\"\",\"\"RWA!F:BZ\"\"),48,0))\"),\"\")","v":""},{"$f":"IFERROR(__xludf.DUMMYFUNCTION(\"iferror(VLOOKUP(B434,IMPORTRANGE(\"\"https://docs.google.com/spreadsheets/d/1-zcOrI_PgX9R0t6_sOpXptmEcBDI4IX9Gfz9-2a6his/edit#gid=0\"\",\"\"RWA!F:BZ\"\"),49,0))\"),\"\")","v":""}]
[{"$nulls":4},{"$f":"IFERROR(__xludf.DUMMYFUNCTION(\"iferror(VLOOKUP(B435,IMPORTRANGE(\"\"https://docs.google.com/spreadsheets/d/1-zcOrI_PgX9R0t6_sOpXptmEcBDI4IX9Gfz9-2a6his/edit#gid=0\"\",\"\"RWA!F:BZ\"\"),44,0))\"),\"\")","v":""},{"$f":"IFERROR(__xludf.DUMMYFUNCTION(\"iferror(VLOOKUP(B435,IMPORTRANGE(\"\"https://docs.google.com/spreadsheets/d/1-zcOrI_PgX9R0t6_sOpXptmEcBDI4IX9Gfz9-2a6his/edit#gid=0\"\",\"\"RWA!F:BZ\"\"),48,0))\"),\"\")","v":""},{"$f":"IFERROR(__xludf.DUMMYFUNCTION(\"iferror(VLOOKUP(B435,IMPORTRANGE(\"\"https://docs.google.com/spreadsheets/d/1-zcOrI_PgX9R0t6_sOpXptmEcBDI4IX9Gfz9-2a6his/edit#gid=0\"\",\"\"RWA!F:BZ\"\"),49,0))\"),\"\")","v":""}]
[{"$nulls":4},{"$f":"IFERROR(__xludf.DUMMYFUNCTION(\"iferror(VLOOKUP(B436,IMPORTRANGE(\"\"https://docs.google.com/spreadsheets/d/1-zcOrI_PgX9R0t6_sOpXptmEcBDI4IX9Gfz9-2a6his/edit#gid=0\"\",\"\"RWA!F:BZ\"\"),44,0))\"),\"\")","v":""},{"$f":"IFERROR(__xludf.DUMMYFUNCTION(\"iferror(VLOOKUP(B436,IMPORTRANGE(\"\"https://docs.google.com/spreadsheets/d/1-zcOrI_PgX9R0t6_sOpXptmEcBDI4IX9Gfz9-2a6his/edit#gid=0\"\",\"\"RWA!F:BZ\"\"),48,0))\"),\"\")","v":""},{"$f":"IFERROR(__xludf.DUMMYFUNCTION(\"iferror(VLOOKUP(B436,IMPORTRANGE(\"\"https://docs.google.com/spreadsheets/d/1-zcOrI_PgX9R0t6_sOpXptmEcBDI4IX9Gfz9-2a6his/edit#gid=0\"\",\"\"RWA!F:BZ\"\"),49,0))\"),\"\")","v":""}]
[{"$nulls":4},{"$f":"IFERROR(__xludf.DUMMYFUNCTION(\"iferror(VLOOKUP(B437,IMPORTRANGE(\"\"https://docs.google.com/spreadsheets/d/1-zcOrI_PgX9R0t6_sOpXptmEcBDI4IX9Gfz9-2a6his/edit#gid=0\"\",\"\"RWA!F:BZ\"\"),44,0))\"),\"\")","v":""},{"$f":"IFERROR(__xludf.DUMMYFUNCTION(\"iferror(VLOOKUP(B437,IMPORTRANGE(\"\"https://docs.google.com/spreadsheets/d/1-zcOrI_PgX9R0t6_sOpXptmEcBDI4IX9Gfz9-2a6his/edit#gid=0\"\",\"\"RWA!F:BZ\"\"),48,0))\"),\"\")","v":""},{"$f":"IFERROR(__xludf.DUMMYFUNCTION(\"iferror(VLOOKUP(B437,IMPORTRANGE(\"\"https://docs.google.com/spreadsheets/d/1-zcOrI_PgX9R0t6_sOpXptmEcBDI4IX9Gfz9-2a6his/edit#gid=0\"\",\"\"RWA!F:BZ\"\"),49,0))\"),\"\")","v":""}]
[{"$nulls":4},{"$f":"IFERROR(__xludf.DUMMYFUNCTION(\"iferror(VLOOKUP(B438,IMPORTRANGE(\"\"https://docs.google.com/spreadsheets/d/1-zcOrI_PgX9R0t6_sOpXptmEcBDI4IX9Gfz9-2a6his/edit#gid=0\"\",\"\"RWA!F:BZ\"\"),44,0))\"),\"\")","v":""},{"$f":"IFERROR(__xludf.DUMMYFUNCTION(\"iferror(VLOOKUP(B438,IMPORTRANGE(\"\"https://docs.google.com/spreadsheets/d/1-zcOrI_PgX9R0t6_sOpXptmEcBDI4IX9Gfz9-2a6his/edit#gid=0\"\",\"\"RWA!F:BZ\"\"),48,0))\"),\"\")","v":""},{"$f":"IFERROR(__xludf.DUMMYFUNCTION(\"iferror(VLOOKUP(B438,IMPORTRANGE(\"\"https://docs.google.com/spreadsheets/d/1-zcOrI_PgX9R0t6_sOpXptmEcBDI4IX9Gfz9-2a6his/edit#gid=0\"\",\"\"RWA!F:BZ\"\"),49,0))\"),\"\")","v":""}]
[{"$nulls":4},{"$f":"IFERROR(__xludf.DUMMYFUNCTION(\"iferror(VLOOKUP(B439,IMPORTRANGE(\"\"https://docs.google.com/spreadsheets/d/1-zcOrI_PgX9R0t6_sOpXptmEcBDI4IX9Gfz9-2a6his/edit#gid=0\"\",\"\"RWA!F:BZ\"\"),44,0))\"),\"\")","v":""},{"$f":"IFERROR(__xludf.DUMMYFUNCTION(\"iferror(VLOOKUP(B439,IMPORTRANGE(\"\"https://docs.google.com/spreadsheets/d/1-zcOrI_PgX9R0t6_sOpXptmEcBDI4IX9Gfz9-2a6his/edit#gid=0\"\",\"\"RWA!F:BZ\"\"),48,0))\"),\"\")","v":""},{"$f":"IFERROR(__xludf.DUMMYFUNCTION(\"iferror(VLOOKUP(B439,IMPORTRANGE(\"\"https://docs.google.com/spreadsheets/d/1-zcOrI_PgX9R0t6_sOpXptmEcBDI4IX9Gfz9-2a6his/edit#gid=0\"\",\"\"RWA!F:BZ\"\"),49,0))\"),\"\")","v":""}]
[{"$nulls":4},{"$f":"IFERROR(__xludf.DUMMYFUNCTION(\"iferror(VLOOKUP(B440,IMPORTRANGE(\"\"https://docs.google.com/spreadsheets/d/1-zcOrI_PgX9R0t6_sOpXptmEcBDI4IX9Gfz9-2a6his/edit#gid=0\"\",\"\"RWA!F:BZ\"\"),44,0))\"),\"\")","v":""},{"$f":"IFERROR(__xludf.DUMMYFUNCTION(\"iferror(VLOOKUP(B440,IMPORTRANGE(\"\"https://docs.google.com/spreadsheets/d/1-zcOrI_PgX9R0t6_sOpXptmEcBDI4IX9Gfz9-2a6his/edit#gid=0\"\",\"\"RWA!F:BZ\"\"),48,0))\"),\"\")","v":""},{"$f":"IFERROR(__xludf.DUMMYFUNCTION(\"iferror(VLOOKUP(B440,IMPORTRANGE(\"\"https://docs.google.com/spreadsheets/d/1-zcOrI_PgX9R0t6_sOpXptmEcBDI4IX9Gfz9-2a6his/edit#gid=0\"\",\"\"RWA!F:BZ\"\"),49,0))\"),\"\")","v":""}]
[{"$nulls":4},{"$f":"IFERROR(__xludf.DUMMYFUNCTION(\"iferror(VLOOKUP(B441,IMPORTRANGE(\"\"https://docs.google.com/spreadsheets/d/1-zcOrI_PgX9R0t6_sOpXptmEcBDI4IX9Gfz9-2a6his/edit#gid=0\"\",\"\"RWA!F:BZ\"\"),44,0))\"),\"\")","v":""},{"$f":"IFERROR(__xludf.DUMMYFUNCTION(\"iferror(VLOOKUP(B441,IMPORTRANGE(\"\"https://docs.google.com/spreadsheets/d/1-zcOrI_PgX9R0t6_sOpXptmEcBDI4IX9Gfz9-2a6his/edit#gid=0\"\",\"\"RWA!F:BZ\"\"),48,0))\"),\"\")","v":""},{"$f":"IFERROR(__xludf.DUMMYFUNCTION(\"iferror(VLOOKUP(B441,IMPORTRANGE(\"\"https://docs.google.com/spreadsheets/d/1-zcOrI_PgX9R0t6_sOpXptmEcBDI4IX9Gfz9-2a6his/edit#gid=0\"\",\"\"RWA!F:BZ\"\"),49,0))\"),\"\")","v":""}]
[{"$nulls":4},{"$f":"IFERROR(__xludf.DUMMYFUNCTION(\"iferror(VLOOKUP(B442,IMPORTRANGE(\"\"https://docs.google.com/spreadsheets/d/1-zcOrI_PgX9R0t6_sOpXptmEcBDI4IX9Gfz9-2a6his/edit#gid=0\"\",\"\"RWA!F:BZ\"\"),44,0))\"),\"\")","v":""},{"$f":"IFERROR(__xludf.DUMMYFUNCTION(\"iferror(VLOOKUP(B442,IMPORTRANGE(\"\"https://docs.google.com/spreadsheets/d/1-zcOrI_PgX9R0t6_sOpXptmEcBDI4IX9Gfz9-2a6his/edit#gid=0\"\",\"\"RWA!F:BZ\"\"),48,0))\"),\"\")","v":""},{"$f":"IFERROR(__xludf.DUMMYFUNCTION(\"iferror(VLOOKUP(B442,IMPORTRANGE(\"\"https://docs.google.com/spreadsheets/d/1-zcOrI_PgX9R0t6_sOpXptmEcBDI4IX9Gfz9-2a6his/edit#gid=0\"\",\"\"RWA!F:BZ\"\"),49,0))\"),\"\")","v":""}]
[{"$nulls":4},{"$f":"IFERROR(__xludf.DUMMYFUNCTION(\"iferror(VLOOKUP(B443,IMPORTRANGE(\"\"https://docs.google.com/spreadsheets/d/1-zcOrI_PgX9R0t6_sOpXptmEcBDI4IX9Gfz9-2a6his/edit#gid=0\"\",\"\"RWA!F:BZ\"\"),44,0))\"),\"\")","v":""},{"$f":"IFERROR(__xludf.DUMMYFUNCTION(\"iferror(VLOOKUP(B443,IMPORTRANGE(\"\"https://docs.google.com/spreadsheets/d/1-zcOrI_PgX9R0t6_sOpXptmEcBDI4IX9Gfz9-2a6his/edit#gid=0\"\",\"\"RWA!F:BZ\"\"),48,0))\"),\"\")","v":""},{"$f":"IFERROR(__xludf.DUMMYFUNCTION(\"iferror(VLOOKUP(B443,IMPORTRANGE(\"\"https://docs.google.com/spreadsheets/d/1-zcOrI_PgX9R0t6_sOpXptmEcBDI4IX9Gfz9-2a6his/edit#gid=0\"\",\"\"RWA!F:BZ\"\"),49,0))\"),\"\")","v":""}]
[{"$nulls":4},{"$f":"IFERROR(__xludf.DUMMYFUNCTION(\"iferror(VLOOKUP(B444,IMPORTRANGE(\"\"https://docs.google.com/spreadsheets/d/1-zcOrI_PgX9R0t6_sOpXptmEcBDI4IX9Gfz9-2a6his/edit#gid=0\"\",\"\"RWA!F:BZ\"\"),44,0))\"),\"\")","v":""},{"$f":"IFERROR(__xludf.DUMMYFUNCTION(\"iferror(VLOOKUP(B444,IMPORTRANGE(\"\"https://docs.google.com/spreadsheets/d/1-zcOrI_PgX9R0t6_sOpXptmEcBDI4IX9Gfz9-2a6his/edit#gid=0\"\",\"\"RWA!F:BZ\"\"),48,0))\"),\"\")","v":""},{"$f":"IFERROR(__xludf.DUMMYFUNCTION(\"iferror(VLOOKUP(B444,IMPORTRANGE(\"\"https://docs.google.com/spreadsheets/d/1-zcOrI_PgX9R0t6_sOpXptmEcBDI4IX9Gfz9-2a6his/edit#gid=0\"\",\"\"RWA!F:BZ\"\"),49,0))\"),\"\")","v":""}]
[{"$nulls":4},{"$f":"IFERROR(__xludf.DUMMYFUNCTION(\"iferror(VLOOKUP(B445,IMPORTRANGE(\"\"https://docs.google.com/spreadsheets/d/1-zcOrI_PgX9R0t6_sOpXptmEcBDI4IX9Gfz9-2a6his/edit#gid=0\"\",\"\"RWA!F:BZ\"\"),44,0))\"),\"\")","v":""},{"$f":"IFERROR(__xludf.DUMMYFUNCTION(\"iferror(VLOOKUP(B445,IMPORTRANGE(\"\"https://docs.google.com/spreadsheets/d/1-zcOrI_PgX9R0t6_sOpXptmEcBDI4IX9Gfz9-2a6his/edit#gid=0\"\",\"\"RWA!F:BZ\"\"),48,0))\"),\"\")","v":""},{"$f":"IFERROR(__xludf.DUMMYFUNCTION(\"iferror(VLOOKUP(B445,IMPORTRANGE(\"\"https://docs.google.com/spreadsheets/d/1-zcOrI_PgX9R0t6_sOpXptmEcBDI4IX9Gfz9-2a6his/edit#gid=0\"\",\"\"RWA!F:BZ\"\"),49,0))\"),\"\")","v":""}]
[{"$nulls":4},{"$f":"IFERROR(__xludf.DUMMYFUNCTION(\"iferror(VLOOKUP(B446,IMPORTRANGE(\"\"https://docs.google.com/spreadsheets/d/1-zcOrI_PgX9R0t6_sOpXptmEcBDI4IX9Gfz9-2a6his/edit#gid=0\"\",\"\"RWA!F:BZ\"\"),44,0))\"),\"\")","v":""},{"$f":"IFERROR(__xludf.DUMMYFUNCTION(\"iferror(VLOOKUP(B446,IMPORTRANGE(\"\"https://docs.google.com/spreadsheets/d/1-zcOrI_PgX9R0t6_sOpXptmEcBDI4IX9Gfz9-2a6his/edit#gid=0\"\",\"\"RWA!F:BZ\"\"),48,0))\"),\"\")","v":""},{"$f":"IFERROR(__xludf.DUMMYFUNCTION(\"iferror(VLOOKUP(B446,IMPORTRANGE(\"\"https://docs.google.com/spreadsheets/d/1-zcOrI_PgX9R0t6_sOpXptmEcBDI4IX9Gfz9-2a6his/edit#gid=0\"\",\"\"RWA!F:BZ\"\"),49,0))\"),\"\")","v":""}]
[{"$nulls":4},{"$f":"IFERROR(__xludf.DUMMYFUNCTION(\"iferror(VLOOKUP(B447,IMPORTRANGE(\"\"https://docs.google.com/spreadsheets/d/1-zcOrI_PgX9R0t6_sOpXptmEcBDI4IX9Gfz9-2a6his/edit#gid=0\"\",\"\"RWA!F:BZ\"\"),44,0))\"),\"\")","v":""},{"$f":"IFERROR(__xludf.DUMMYFUNCTION(\"iferror(VLOOKUP(B447,IMPORTRANGE(\"\"https://docs.google.com/spreadsheets/d/1-zcOrI_PgX9R0t6_sOpXptmEcBDI4IX9Gfz9-2a6his/edit#gid=0\"\",\"\"RWA!F:BZ\"\"),48,0))\"),\"\")","v":""},{"$f":"IFERROR(__xludf.DUMMYFUNCTION(\"iferror(VLOOKUP(B447,IMPORTRANGE(\"\"https://docs.google.com/spreadsheets/d/1-zcOrI_PgX9R0t6_sOpXptmEcBDI4IX9Gfz9-2a6his/edit#gid=0\"\",\"\"RWA!F:BZ\"\"),49,0))\"),\"\")","v":""}]
[{"$nulls":4},{"$f":"IFERROR(__xludf.DUMMYFUNCTION(\"iferror(VLOOKUP(B448,IMPORTRANGE(\"\"https://docs.google.com/spreadsheets/d/1-zcOrI_PgX9R0t6_sOpXptmEcBDI4IX9Gfz9-2a6his/edit#gid=0\"\",\"\"RWA!F:BZ\"\"),44,0))\"),\"\")","v":""},{"$f":"IFERROR(__xludf.DUMMYFUNCTION(\"iferror(VLOOKUP(B448,IMPORTRANGE(\"\"https://docs.google.com/spreadsheets/d/1-zcOrI_PgX9R0t6_sOpXptmEcBDI4IX9Gfz9-2a6his/edit#gid=0\"\",\"\"RWA!F:BZ\"\"),48,0))\"),\"\")","v":""},{"$f":"IFERROR(__xludf.DUMMYFUNCTION(\"iferror(VLOOKUP(B448,IMPORTRANGE(\"\"https://docs.google.com/spreadsheets/d/1-zcOrI_PgX9R0t6_sOpXptmEcBDI4IX9Gfz9-2a6his/edit#gid=0\"\",\"\"RWA!F:BZ\"\"),49,0))\"),\"\")","v":""}]
[{"$nulls":4},{"$f":"IFERROR(__xludf.DUMMYFUNCTION(\"iferror(VLOOKUP(B449,IMPORTRANGE(\"\"https://docs.google.com/spreadsheets/d/1-zcOrI_PgX9R0t6_sOpXptmEcBDI4IX9Gfz9-2a6his/edit#gid=0\"\",\"\"RWA!F:BZ\"\"),44,0))\"),\"\")","v":""},{"$f":"IFERROR(__xludf.DUMMYFUNCTION(\"iferror(VLOOKUP(B449,IMPORTRANGE(\"\"https://docs.google.com/spreadsheets/d/1-zcOrI_PgX9R0t6_sOpXptmEcBDI4IX9Gfz9-2a6his/edit#gid=0\"\",\"\"RWA!F:BZ\"\"),48,0))\"),\"\")","v":""},{"$f":"IFERROR(__xludf.DUMMYFUNCTION(\"iferror(VLOOKUP(B449,IMPORTRANGE(\"\"https://docs.google.com/spreadsheets/d/1-zcOrI_PgX9R0t6_sOpXptmEcBDI4IX9Gfz9-2a6his/edit#gid=0\"\",\"\"RWA!F:BZ\"\"),49,0))\"),\"\")","v":""}]
[{"$nulls":4},{"$f":"IFERROR(__xludf.DUMMYFUNCTION(\"iferror(VLOOKUP(B450,IMPORTRANGE(\"\"https://docs.google.com/spreadsheets/d/1-zcOrI_PgX9R0t6_sOpXptmEcBDI4IX9Gfz9-2a6his/edit#gid=0\"\",\"\"RWA!F:BZ\"\"),44,0))\"),\"\")","v":""},{"$f":"IFERROR(__xludf.DUMMYFUNCTION(\"iferror(VLOOKUP(B450,IMPORTRANGE(\"\"https://docs.google.com/spreadsheets/d/1-zcOrI_PgX9R0t6_sOpXptmEcBDI4IX9Gfz9-2a6his/edit#gid=0\"\",\"\"RWA!F:BZ\"\"),48,0))\"),\"\")","v":""},{"$f":"IFERROR(__xludf.DUMMYFUNCTION(\"iferror(VLOOKUP(B450,IMPORTRANGE(\"\"https://docs.google.com/spreadsheets/d/1-zcOrI_PgX9R0t6_sOpXptmEcBDI4IX9Gfz9-2a6his/edit#gid=0\"\",\"\"RWA!F:BZ\"\"),49,0))\"),\"\")","v":""}]
[{"$nulls":4},{"$f":"IFERROR(__xludf.DUMMYFUNCTION(\"iferror(VLOOKUP(B451,IMPORTRANGE(\"\"https://docs.google.com/spreadsheets/d/1-zcOrI_PgX9R0t6_sOpXptmEcBDI4IX9Gfz9-2a6his/edit#gid=0\"\",\"\"RWA!F:BZ\"\"),44,0))\"),\"\")","v":""},{"$f":"IFERROR(__xludf.DUMMYFUNCTION(\"iferror(VLOOKUP(B451,IMPORTRANGE(\"\"https://docs.google.com/spreadsheets/d/1-zcOrI_PgX9R0t6_sOpXptmEcBDI4IX9Gfz9-2a6his/edit#gid=0\"\",\"\"RWA!F:BZ\"\"),48,0))\"),\"\")","v":""},{"$f":"IFERROR(__xludf.DUMMYFUNCTION(\"iferror(VLOOKUP(B451,IMPORTRANGE(\"\"https://docs.google.com/spreadsheets/d/1-zcOrI_PgX9R0t6_sOpXptmEcBDI4IX9Gfz9-2a6his/edit#gid=0\"\",\"\"RWA!F:BZ\"\"),49,0))\"),\"\")","v":""}]
[{"$nulls":4},{"$f":"IFERROR(__xludf.DUMMYFUNCTION(\"iferror(VLOOKUP(B452,IMPORTRANGE(\"\"https://docs.google.com/spreadsheets/d/1-zcOrI_PgX9R0t6_sOpXptmEcBDI4IX9Gfz9-2a6his/edit#gid=0\"\",\"\"RWA!F:BZ\"\"),44,0))\"),\"\")","v":""},{"$f":"IFERROR(__xludf.DUMMYFUNCTION(\"iferror(VLOOKUP(B452,IMPORTRANGE(\"\"https://docs.google.com/spreadsheets/d/1-zcOrI_PgX9R0t6_sOpXptmEcBDI4IX9Gfz9-2a6his/edit#gid=0\"\",\"\"RWA!F:BZ\"\"),48,0))\"),\"\")","v":""},{"$f":"IFERROR(__xludf.DUMMYFUNCTION(\"iferror(VLOOKUP(B452,IMPORTRANGE(\"\"https://docs.google.com/spreadsheets/d/1-zcOrI_PgX9R0t6_sOpXptmEcBDI4IX9Gfz9-2a6his/edit#gid=0\"\",\"\"RWA!F:BZ\"\"),49,0))\"),\"\")","v":""}]
[{"$nulls":4},{"$f":"IFERROR(__xludf.DUMMYFUNCTION(\"iferror(VLOOKUP(B453,IMPORTRANGE(\"\"https://docs.google.com/spreadsheets/d/1-zcOrI_PgX9R0t6_sOpXptmEcBDI4IX9Gfz9-2a6his/edit#gid=0\"\",\"\"RWA!F:BZ\"\"),44,0))\"),\"\")","v":""},{"$f":"IFERROR(__xludf.DUMMYFUNCTION(\"iferror(VLOOKUP(B453,IMPORTRANGE(\"\"https://docs.google.com/spreadsheets/d/1-zcOrI_PgX9R0t6_sOpXptmEcBDI4IX9Gfz9-2a6his/edit#gid=0\"\",\"\"RWA!F:BZ\"\"),48,0))\"),\"\")","v":""},{"$f":"IFERROR(__xludf.DUMMYFUNCTION(\"iferror(VLOOKUP(B453,IMPORTRANGE(\"\"https://docs.google.com/spreadsheets/d/1-zcOrI_PgX9R0t6_sOpXptmEcBDI4IX9Gfz9-2a6his/edit#gid=0\"\",\"\"RWA!F:BZ\"\"),49,0))\"),\"\")","v":""}]
[{"$nulls":4},{"$f":"IFERROR(__xludf.DUMMYFUNCTION(\"iferror(VLOOKUP(B454,IMPORTRANGE(\"\"https://docs.google.com/spreadsheets/d/1-zcOrI_PgX9R0t6_sOpXptmEcBDI4IX9Gfz9-2a6his/edit#gid=0\"\",\"\"RWA!F:BZ\"\"),44,0))\"),\"\")","v":""},{"$f":"IFERROR(__xludf.DUMMYFUNCTION(\"iferror(VLOOKUP(B454,IMPORTRANGE(\"\"https://docs.google.com/spreadsheets/d/1-zcOrI_PgX9R0t6_sOpXptmEcBDI4IX9Gfz9-2a6his/edit#gid=0\"\",\"\"RWA!F:BZ\"\"),48,0))\"),\"\")","v":""},{"$f":"IFERROR(__xludf.DUMMYFUNCTION(\"iferror(VLOOKUP(B454,IMPORTRANGE(\"\"https://docs.google.com/spreadsheets/d/1-zcOrI_PgX9R0t6_sOpXptmEcBDI4IX9Gfz9-2a6his/edit#gid=0\"\",\"\"RWA!F:BZ\"\"),49,0))\"),\"\")","v":""}]
[{"$nulls":4},{"$f":"IFERROR(__xludf.DUMMYFUNCTION(\"iferror(VLOOKUP(B455,IMPORTRANGE(\"\"https://docs.google.com/spreadsheets/d/1-zcOrI_PgX9R0t6_sOpXptmEcBDI4IX9Gfz9-2a6his/edit#gid=0\"\",\"\"RWA!F:BZ\"\"),44,0))\"),\"\")","v":""},{"$f":"IFERROR(__xludf.DUMMYFUNCTION(\"iferror(VLOOKUP(B455,IMPORTRANGE(\"\"https://docs.google.com/spreadsheets/d/1-zcOrI_PgX9R0t6_sOpXptmEcBDI4IX9Gfz9-2a6his/edit#gid=0\"\",\"\"RWA!F:BZ\"\"),48,0))\"),\"\")","v":""},{"$f":"IFERROR(__xludf.DUMMYFUNCTION(\"iferror(VLOOKUP(B455,IMPORTRANGE(\"\"https://docs.google.com/spreadsheets/d/1-zcOrI_PgX9R0t6_sOpXptmEcBDI4IX9Gfz9-2a6his/edit#gid=0\"\",\"\"RWA!F:BZ\"\"),49,0))\"),\"\")","v":""}]
[{"$nulls":4},{"$f":"IFERROR(__xludf.DUMMYFUNCTION(\"iferror(VLOOKUP(B456,IMPORTRANGE(\"\"https://docs.google.com/spreadsheets/d/1-zcOrI_PgX9R0t6_sOpXptmEcBDI4IX9Gfz9-2a6his/edit#gid=0\"\",\"\"RWA!F:BZ\"\"),44,0))\"),\"\")","v":""},{"$f":"IFERROR(__xludf.DUMMYFUNCTION(\"iferror(VLOOKUP(B456,IMPORTRANGE(\"\"https://docs.google.com/spreadsheets/d/1-zcOrI_PgX9R0t6_sOpXptmEcBDI4IX9Gfz9-2a6his/edit#gid=0\"\",\"\"RWA!F:BZ\"\"),48,0))\"),\"\")","v":""},{"$f":"IFERROR(__xludf.DUMMYFUNCTION(\"iferror(VLOOKUP(B456,IMPORTRANGE(\"\"https://docs.google.com/spreadsheets/d/1-zcOrI_PgX9R0t6_sOpXptmEcBDI4IX9Gfz9-2a6his/edit#gid=0\"\",\"\"RWA!F:BZ\"\"),49,0))\"),\"\")","v":""}]
[{"$nulls":4},{"$f":"IFERROR(__xludf.DUMMYFUNCTION(\"iferror(VLOOKUP(B457,IMPORTRANGE(\"\"https://docs.google.com/spreadsheets/d/1-zcOrI_PgX9R0t6_sOpXptmEcBDI4IX9Gfz9-2a6his/edit#gid=0\"\",\"\"RWA!F:BZ\"\"),44,0))\"),\"\")","v":""},{"$f":"IFERROR(__xludf.DUMMYFUNCTION(\"iferror(VLOOKUP(B457,IMPORTRANGE(\"\"https://docs.google.com/spreadsheets/d/1-zcOrI_PgX9R0t6_sOpXptmEcBDI4IX9Gfz9-2a6his/edit#gid=0\"\",\"\"RWA!F:BZ\"\"),48,0))\"),\"\")","v":""},{"$f":"IFERROR(__xludf.DUMMYFUNCTION(\"iferror(VLOOKUP(B457,IMPORTRANGE(\"\"https://docs.google.com/spreadsheets/d/1-zcOrI_PgX9R0t6_sOpXptmEcBDI4IX9Gfz9-2a6his/edit#gid=0\"\",\"\"RWA!F:BZ\"\"),49,0))\"),\"\")","v":""}]
[{"$nulls":4},{"$f":"IFERROR(__xludf.DUMMYFUNCTION(\"iferror(VLOOKUP(B458,IMPORTRANGE(\"\"https://docs.google.com/spreadsheets/d/1-zcOrI_PgX9R0t6_sOpXptmEcBDI4IX9Gfz9-2a6his/edit#gid=0\"\",\"\"RWA!F:BZ\"\"),44,0))\"),\"\")","v":""},{"$f":"IFERROR(__xludf.DUMMYFUNCTION(\"iferror(VLOOKUP(B458,IMPORTRANGE(\"\"https://docs.google.com/spreadsheets/d/1-zcOrI_PgX9R0t6_sOpXptmEcBDI4IX9Gfz9-2a6his/edit#gid=0\"\",\"\"RWA!F:BZ\"\"),48,0))\"),\"\")","v":""},{"$f":"IFERROR(__xludf.DUMMYFUNCTION(\"iferror(VLOOKUP(B458,IMPORTRANGE(\"\"https://docs.google.com/spreadsheets/d/1-zcOrI_PgX9R0t6_sOpXptmEcBDI4IX9Gfz9-2a6his/edit#gid=0\"\",\"\"RWA!F:BZ\"\"),49,0))\"),\"\")","v":""}]
[{"$nulls":4},{"$f":"IFERROR(__xludf.DUMMYFUNCTION(\"iferror(VLOOKUP(B459,IMPORTRANGE(\"\"https://docs.google.com/spreadsheets/d/1-zcOrI_PgX9R0t6_sOpXptmEcBDI4IX9Gfz9-2a6his/edit#gid=0\"\",\"\"RWA!F:BZ\"\"),44,0))\"),\"\")","v":""},{"$f":"IFERROR(__xludf.DUMMYFUNCTION(\"iferror(VLOOKUP(B459,IMPORTRANGE(\"\"https://docs.google.com/spreadsheets/d/1-zcOrI_PgX9R0t6_sOpXptmEcBDI4IX9Gfz9-2a6his/edit#gid=0\"\",\"\"RWA!F:BZ\"\"),48,0))\"),\"\")","v":""},{"$f":"IFERROR(__xludf.DUMMYFUNCTION(\"iferror(VLOOKUP(B459,IMPORTRANGE(\"\"https://docs.google.com/spreadsheets/d/1-zcOrI_PgX9R0t6_sOpXptmEcBDI4IX9Gfz9-2a6his/edit#gid=0\"\",\"\"RWA!F:BZ\"\"),49,0))\"),\"\")","v":""}]
[{"$nulls":4},{"$f":"IFERROR(__xludf.DUMMYFUNCTION(\"iferror(VLOOKUP(B460,IMPORTRANGE(\"\"https://docs.google.com/spreadsheets/d/1-zcOrI_PgX9R0t6_sOpXptmEcBDI4IX9Gfz9-2a6his/edit#gid=0\"\",\"\"RWA!F:BZ\"\"),44,0))\"),\"\")","v":""},{"$f":"IFERROR(__xludf.DUMMYFUNCTION(\"iferror(VLOOKUP(B460,IMPORTRANGE(\"\"https://docs.google.com/spreadsheets/d/1-zcOrI_PgX9R0t6_sOpXptmEcBDI4IX9Gfz9-2a6his/edit#gid=0\"\",\"\"RWA!F:BZ\"\"),48,0))\"),\"\")","v":""},{"$f":"IFERROR(__xludf.DUMMYFUNCTION(\"iferror(VLOOKUP(B460,IMPORTRANGE(\"\"https://docs.google.com/spreadsheets/d/1-zcOrI_PgX9R0t6_sOpXptmEcBDI4IX9Gfz9-2a6his/edit#gid=0\"\",\"\"RWA!F:BZ\"\"),49,0))\"),\"\")","v":""}]
[{"$nulls":4},{"$f":"IFERROR(__xludf.DUMMYFUNCTION(\"iferror(VLOOKUP(B461,IMPORTRANGE(\"\"https://docs.google.com/spreadsheets/d/1-zcOrI_PgX9R0t6_sOpXptmEcBDI4IX9Gfz9-2a6his/edit#gid=0\"\",\"\"RWA!F:BZ\"\"),44,0))\"),\"\")","v":""},{"$f":"IFERROR(__xludf.DUMMYFUNCTION(\"iferror(VLOOKUP(B461,IMPORTRANGE(\"\"https://docs.google.com/spreadsheets/d/1-zcOrI_PgX9R0t6_sOpXptmEcBDI4IX9Gfz9-2a6his/edit#gid=0\"\",\"\"RWA!F:BZ\"\"),48,0))\"),\"\")","v":""},{"$f":"IFERROR(__xludf.DUMMYFUNCTION(\"iferror(VLOOKUP(B461,IMPORTRANGE(\"\"https://docs.google.com/spreadsheets/d/1-zcOrI_PgX9R0t6_sOpXptmEcBDI4IX9Gfz9-2a6his/edit#gid=0\"\",\"\"RWA!F:BZ\"\"),49,0))\"),\"\")","v":""}]
[{"$nulls":4},{"$f":"IFERROR(__xludf.DUMMYFUNCTION(\"iferror(VLOOKUP(B462,IMPORTRANGE(\"\"https://docs.google.com/spreadsheets/d/1-zcOrI_PgX9R0t6_sOpXptmEcBDI4IX9Gfz9-2a6his/edit#gid=0\"\",\"\"RWA!F:BZ\"\"),44,0))\"),\"\")","v":""},{"$f":"IFERROR(__xludf.DUMMYFUNCTION(\"iferror(VLOOKUP(B462,IMPORTRANGE(\"\"https://docs.google.com/spreadsheets/d/1-zcOrI_PgX9R0t6_sOpXptmEcBDI4IX9Gfz9-2a6his/edit#gid=0\"\",\"\"RWA!F:BZ\"\"),48,0))\"),\"\")","v":""},{"$f":"IFERROR(__xludf.DUMMYFUNCTION(\"iferror(VLOOKUP(B462,IMPORTRANGE(\"\"https://docs.google.com/spreadsheets/d/1-zcOrI_PgX9R0t6_sOpXptmEcBDI4IX9Gfz9-2a6his/edit#gid=0\"\",\"\"RWA!F:BZ\"\"),49,0))\"),\"\")","v":""}]
[{"$nulls":4},{"$f":"IFERROR(__xludf.DUMMYFUNCTION(\"iferror(VLOOKUP(B463,IMPORTRANGE(\"\"https://docs.google.com/spreadsheets/d/1-zcOrI_PgX9R0t6_sOpXptmEcBDI4IX9Gfz9-2a6his/edit#gid=0\"\",\"\"RWA!F:BZ\"\"),44,0))\"),\"\")","v":""},{"$f":"IFERROR(__xludf.DUMMYFUNCTION(\"iferror(VLOOKUP(B463,IMPORTRANGE(\"\"https://docs.google.com/spreadsheets/d/1-zcOrI_PgX9R0t6_sOpXptmEcBDI4IX9Gfz9-2a6his/edit#gid=0\"\",\"\"RWA!F:BZ\"\"),48,0))\"),\"\")","v":""},{"$f":"IFERROR(__xludf.DUMMYFUNCTION(\"iferror(VLOOKUP(B463,IMPORTRANGE(\"\"https://docs.google.com/spreadsheets/d/1-zcOrI_PgX9R0t6_sOpXptmEcBDI4IX9Gfz9-2a6his/edit#gid=0\"\",\"\"RWA!F:BZ\"\"),49,0))\"),\"\")","v":""}]
[{"$nulls":4},{"$f":"IFERROR(__xludf.DUMMYFUNCTION(\"iferror(VLOOKUP(B464,IMPORTRANGE(\"\"https://docs.google.com/spreadsheets/d/1-zcOrI_PgX9R0t6_sOpXptmEcBDI4IX9Gfz9-2a6his/edit#gid=0\"\",\"\"RWA!F:BZ\"\"),44,0))\"),\"\")","v":""},{"$f":"IFERROR(__xludf.DUMMYFUNCTION(\"iferror(VLOOKUP(B464,IMPORTRANGE(\"\"https://docs.google.com/spreadsheets/d/1-zcOrI_PgX9R0t6_sOpXptmEcBDI4IX9Gfz9-2a6his/edit#gid=0\"\",\"\"RWA!F:BZ\"\"),48,0))\"),\"\")","v":""},{"$f":"IFERROR(__xludf.DUMMYFUNCTION(\"iferror(VLOOKUP(B464,IMPORTRANGE(\"\"https://docs.google.com/spreadsheets/d/1-zcOrI_PgX9R0t6_sOpXptmEcBDI4IX9Gfz9-2a6his/edit#gid=0\"\",\"\"RWA!F:BZ\"\"),49,0))\"),\"\")","v":""}]
[{"$nulls":4},{"$f":"IFERROR(__xludf.DUMMYFUNCTION(\"iferror(VLOOKUP(B465,IMPORTRANGE(\"\"https://docs.google.com/spreadsheets/d/1-zcOrI_PgX9R0t6_sOpXptmEcBDI4IX9Gfz9-2a6his/edit#gid=0\"\",\"\"RWA!F:BZ\"\"),44,0))\"),\"\")","v":""},{"$f":"IFERROR(__xludf.DUMMYFUNCTION(\"iferror(VLOOKUP(B465,IMPORTRANGE(\"\"https://docs.google.com/spreadsheets/d/1-zcOrI_PgX9R0t6_sOpXptmEcBDI4IX9Gfz9-2a6his/edit#gid=0\"\",\"\"RWA!F:BZ\"\"),48,0))\"),\"\")","v":""},{"$f":"IFERROR(__xludf.DUMMYFUNCTION(\"iferror(VLOOKUP(B465,IMPORTRANGE(\"\"https://docs.google.com/spreadsheets/d/1-zcOrI_PgX9R0t6_sOpXptmEcBDI4IX9Gfz9-2a6his/edit#gid=0\"\",\"\"RWA!F:BZ\"\"),49,0))\"),\"\")","v":""}]
[{"$nulls":4},{"$f":"IFERROR(__xludf.DUMMYFUNCTION(\"iferror(VLOOKUP(B466,IMPORTRANGE(\"\"https://docs.google.com/spreadsheets/d/1-zcOrI_PgX9R0t6_sOpXptmEcBDI4IX9Gfz9-2a6his/edit#gid=0\"\",\"\"RWA!F:BZ\"\"),44,0))\"),\"\")","v":""},{"$f":"IFERROR(__xludf.DUMMYFUNCTION(\"iferror(VLOOKUP(B466,IMPORTRANGE(\"\"https://docs.google.com/spreadsheets/d/1-zcOrI_PgX9R0t6_sOpXptmEcBDI4IX9Gfz9-2a6his/edit#gid=0\"\",\"\"RWA!F:BZ\"\"),48,0))\"),\"\")","v":""},{"$f":"IFERROR(__xludf.DUMMYFUNCTION(\"iferror(VLOOKUP(B466,IMPORTRANGE(\"\"https://docs.google.com/spreadsheets/d/1-zcOrI_PgX9R0t6_sOpXptmEcBDI4IX9Gfz9-2a6his/edit#gid=0\"\",\"\"RWA!F:BZ\"\"),49,0))\"),\"\")","v":""}]
[{"$nulls":4},{"$f":"IFERROR(__xludf.DUMMYFUNCTION(\"iferror(VLOOKUP(B467,IMPORTRANGE(\"\"https://docs.google.com/spreadsheets/d/1-zcOrI_PgX9R0t6_sOpXptmEcBDI4IX9Gfz9-2a6his/edit#gid=0\"\",\"\"RWA!F:BZ\"\"),44,0))\"),\"\")","v":""},{"$f":"IFERROR(__xludf.DUMMYFUNCTION(\"iferror(VLOOKUP(B467,IMPORTRANGE(\"\"https://docs.google.com/spreadsheets/d/1-zcOrI_PgX9R0t6_sOpXptmEcBDI4IX9Gfz9-2a6his/edit#gid=0\"\",\"\"RWA!F:BZ\"\"),48,0))\"),\"\")","v":""},{"$f":"IFERROR(__xludf.DUMMYFUNCTION(\"iferror(VLOOKUP(B467,IMPORTRANGE(\"\"https://docs.google.com/spreadsheets/d/1-zcOrI_PgX9R0t6_sOpXptmEcBDI4IX9Gfz9-2a6his/edit#gid=0\"\",\"\"RWA!F:BZ\"\"),49,0))\"),\"\")","v":""}]
[{"$nulls":4},{"$f":"IFERROR(__xludf.DUMMYFUNCTION(\"iferror(VLOOKUP(B468,IMPORTRANGE(\"\"https://docs.google.com/spreadsheets/d/1-zcOrI_PgX9R0t6_sOpXptmEcBDI4IX9Gfz9-2a6his/edit#gid=0\"\",\"\"RWA!F:BZ\"\"),44,0))\"),\"\")","v":""},{"$f":"IFERROR(__xludf.DUMMYFUNCTION(\"iferror(VLOOKUP(B468,IMPORTRANGE(\"\"https://docs.google.com/spreadsheets/d/1-zcOrI_PgX9R0t6_sOpXptmEcBDI4IX9Gfz9-2a6his/edit#gid=0\"\",\"\"RWA!F:BZ\"\"),48,0))\"),\"\")","v":""},{"$f":"IFERROR(__xludf.DUMMYFUNCTION(\"iferror(VLOOKUP(B468,IMPORTRANGE(\"\"https://docs.google.com/spreadsheets/d/1-zcOrI_PgX9R0t6_sOpXptmEcBDI4IX9Gfz9-2a6his/edit#gid=0\"\",\"\"RWA!F:BZ\"\"),49,0))\"),\"\")","v":""}]
[{"$nulls":4},{"$f":"IFERROR(__xludf.DUMMYFUNCTION(\"iferror(VLOOKUP(B469,IMPORTRANGE(\"\"https://docs.google.com/spreadsheets/d/1-zcOrI_PgX9R0t6_sOpXptmEcBDI4IX9Gfz9-2a6his/edit#gid=0\"\",\"\"RWA!F:BZ\"\"),44,0))\"),\"\")","v":""},{"$f":"IFERROR(__xludf.DUMMYFUNCTION(\"iferror(VLOOKUP(B469,IMPORTRANGE(\"\"https://docs.google.com/spreadsheets/d/1-zcOrI_PgX9R0t6_sOpXptmEcBDI4IX9Gfz9-2a6his/edit#gid=0\"\",\"\"RWA!F:BZ\"\"),48,0))\"),\"\")","v":""},{"$f":"IFERROR(__xludf.DUMMYFUNCTION(\"iferror(VLOOKUP(B469,IMPORTRANGE(\"\"https://docs.google.com/spreadsheets/d/1-zcOrI_PgX9R0t6_sOpXptmEcBDI4IX9Gfz9-2a6his/edit#gid=0\"\",\"\"RWA!F:BZ\"\"),49,0))\"),\"\")","v":""}]
[{"$nulls":4},{"$f":"IFERROR(__xludf.DUMMYFUNCTION(\"iferror(VLOOKUP(B470,IMPORTRANGE(\"\"https://docs.google.com/spreadsheets/d/1-zcOrI_PgX9R0t6_sOpXptmEcBDI4IX9Gfz9-2a6his/edit#gid=0\"\",\"\"RWA!F:BZ\"\"),44,0))\"),\"\")","v":""},{"$f":"IFERROR(__xludf.DUMMYFUNCTION(\"iferror(VLOOKUP(B470,IMPORTRANGE(\"\"https://docs.google.com/spreadsheets/d/1-zcOrI_PgX9R0t6_sOpXptmEcBDI4IX9Gfz9-2a6his/edit#gid=0\"\",\"\"RWA!F:BZ\"\"),48,0))\"),\"\")","v":""},{"$f":"IFERROR(__xludf.DUMMYFUNCTION(\"iferror(VLOOKUP(B470,IMPORTRANGE(\"\"https://docs.google.com/spreadsheets/d/1-zcOrI_PgX9R0t6_sOpXptmEcBDI4IX9Gfz9-2a6his/edit#gid=0\"\",\"\"RWA!F:BZ\"\"),49,0))\"),\"\")","v":""}]
[{"$nulls":4},{"$f":"IFERROR(__xludf.DUMMYFUNCTION(\"iferror(VLOOKUP(B471,IMPORTRANGE(\"\"https://docs.google.com/spreadsheets/d/1-zcOrI_PgX9R0t6_sOpXptmEcBDI4IX9Gfz9-2a6his/edit#gid=0\"\",\"\"RWA!F:BZ\"\"),44,0))\"),\"\")","v":""},{"$f":"IFERROR(__xludf.DUMMYFUNCTION(\"iferror(VLOOKUP(B471,IMPORTRANGE(\"\"https://docs.google.com/spreadsheets/d/1-zcOrI_PgX9R0t6_sOpXptmEcBDI4IX9Gfz9-2a6his/edit#gid=0\"\",\"\"RWA!F:BZ\"\"),48,0))\"),\"\")","v":""},{"$f":"IFERROR(__xludf.DUMMYFUNCTION(\"iferror(VLOOKUP(B471,IMPORTRANGE(\"\"https://docs.google.com/spreadsheets/d/1-zcOrI_PgX9R0t6_sOpXptmEcBDI4IX9Gfz9-2a6his/edit#gid=0\"\",\"\"RWA!F:BZ\"\"),49,0))\"),\"\")","v":""}]
[{"$nulls":4},{"$f":"IFERROR(__xludf.DUMMYFUNCTION(\"iferror(VLOOKUP(B472,IMPORTRANGE(\"\"https://docs.google.com/spreadsheets/d/1-zcOrI_PgX9R0t6_sOpXptmEcBDI4IX9Gfz9-2a6his/edit#gid=0\"\",\"\"RWA!F:BZ\"\"),44,0))\"),\"\")","v":""},{"$f":"IFERROR(__xludf.DUMMYFUNCTION(\"iferror(VLOOKUP(B472,IMPORTRANGE(\"\"https://docs.google.com/spreadsheets/d/1-zcOrI_PgX9R0t6_sOpXptmEcBDI4IX9Gfz9-2a6his/edit#gid=0\"\",\"\"RWA!F:BZ\"\"),48,0))\"),\"\")","v":""},{"$f":"IFERROR(__xludf.DUMMYFUNCTION(\"iferror(VLOOKUP(B472,IMPORTRANGE(\"\"https://docs.google.com/spreadsheets/d/1-zcOrI_PgX9R0t6_sOpXptmEcBDI4IX9Gfz9-2a6his/edit#gid=0\"\",\"\"RWA!F:BZ\"\"),49,0))\"),\"\")","v":""}]
[{"$nulls":4},{"$f":"IFERROR(__xludf.DUMMYFUNCTION(\"iferror(VLOOKUP(B473,IMPORTRANGE(\"\"https://docs.google.com/spreadsheets/d/1-zcOrI_PgX9R0t6_sOpXptmEcBDI4IX9Gfz9-2a6his/edit#gid=0\"\",\"\"RWA!F:BZ\"\"),44,0))\"),\"\")","v":""},{"$f":"IFERROR(__xludf.DUMMYFUNCTION(\"iferror(VLOOKUP(B473,IMPORTRANGE(\"\"https://docs.google.com/spreadsheets/d/1-zcOrI_PgX9R0t6_sOpXptmEcBDI4IX9Gfz9-2a6his/edit#gid=0\"\",\"\"RWA!F:BZ\"\"),48,0))\"),\"\")","v":""},{"$f":"IFERROR(__xludf.DUMMYFUNCTION(\"iferror(VLOOKUP(B473,IMPORTRANGE(\"\"https://docs.google.com/spreadsheets/d/1-zcOrI_PgX9R0t6_sOpXptmEcBDI4IX9Gfz9-2a6his/edit#gid=0\"\",\"\"RWA!F:BZ\"\"),49,0))\"),\"\")","v":""}]
[{"$nulls":4},{"$f":"IFERROR(__xludf.DUMMYFUNCTION(\"iferror(VLOOKUP(B474,IMPORTRANGE(\"\"https://docs.google.com/spreadsheets/d/1-zcOrI_PgX9R0t6_sOpXptmEcBDI4IX9Gfz9-2a6his/edit#gid=0\"\",\"\"RWA!F:BZ\"\"),44,0))\"),\"\")","v":""},{"$f":"IFERROR(__xludf.DUMMYFUNCTION(\"iferror(VLOOKUP(B474,IMPORTRANGE(\"\"https://docs.google.com/spreadsheets/d/1-zcOrI_PgX9R0t6_sOpXptmEcBDI4IX9Gfz9-2a6his/edit#gid=0\"\",\"\"RWA!F:BZ\"\"),48,0))\"),\"\")","v":""},{"$f":"IFERROR(__xludf.DUMMYFUNCTION(\"iferror(VLOOKUP(B474,IMPORTRANGE(\"\"https://docs.google.com/spreadsheets/d/1-zcOrI_PgX9R0t6_sOpXptmEcBDI4IX9Gfz9-2a6his/edit#gid=0\"\",\"\"RWA!F:BZ\"\"),49,0))\"),\"\")","v":""}]
[{"$nulls":4},{"$f":"IFERROR(__xludf.DUMMYFUNCTION(\"iferror(VLOOKUP(B475,IMPORTRANGE(\"\"https://docs.google.com/spreadsheets/d/1-zcOrI_PgX9R0t6_sOpXptmEcBDI4IX9Gfz9-2a6his/edit#gid=0\"\",\"\"RWA!F:BZ\"\"),44,0))\"),\"\")","v":""},{"$f":"IFERROR(__xludf.DUMMYFUNCTION(\"iferror(VLOOKUP(B475,IMPORTRANGE(\"\"https://docs.google.com/spreadsheets/d/1-zcOrI_PgX9R0t6_sOpXptmEcBDI4IX9Gfz9-2a6his/edit#gid=0\"\",\"\"RWA!F:BZ\"\"),48,0))\"),\"\")","v":""},{"$f":"IFERROR(__xludf.DUMMYFUNCTION(\"iferror(VLOOKUP(B475,IMPORTRANGE(\"\"https://docs.google.com/spreadsheets/d/1-zcOrI_PgX9R0t6_sOpXptmEcBDI4IX9Gfz9-2a6his/edit#gid=0\"\",\"\"RWA!F:BZ\"\"),49,0))\"),\"\")","v":""}]
[{"$nulls":4},{"$f":"IFERROR(__xludf.DUMMYFUNCTION(\"iferror(VLOOKUP(B476,IMPORTRANGE(\"\"https://docs.google.com/spreadsheets/d/1-zcOrI_PgX9R0t6_sOpXptmEcBDI4IX9Gfz9-2a6his/edit#gid=0\"\",\"\"RWA!F:BZ\"\"),44,0))\"),\"\")","v":""},{"$f":"IFERROR(__xludf.DUMMYFUNCTION(\"iferror(VLOOKUP(B476,IMPORTRANGE(\"\"https://docs.google.com/spreadsheets/d/1-zcOrI_PgX9R0t6_sOpXptmEcBDI4IX9Gfz9-2a6his/edit#gid=0\"\",\"\"RWA!F:BZ\"\"),48,0))\"),\"\")","v":""},{"$f":"IFERROR(__xludf.DUMMYFUNCTION(\"iferror(VLOOKUP(B476,IMPORTRANGE(\"\"https://docs.google.com/spreadsheets/d/1-zcOrI_PgX9R0t6_sOpXptmEcBDI4IX9Gfz9-2a6his/edit#gid=0\"\",\"\"RWA!F:BZ\"\"),49,0))\"),\"\")","v":""}]
[{"$nulls":4},{"$f":"IFERROR(__xludf.DUMMYFUNCTION(\"iferror(VLOOKUP(B477,IMPORTRANGE(\"\"https://docs.google.com/spreadsheets/d/1-zcOrI_PgX9R0t6_sOpXptmEcBDI4IX9Gfz9-2a6his/edit#gid=0\"\",\"\"RWA!F:BZ\"\"),44,0))\"),\"\")","v":""},{"$f":"IFERROR(__xludf.DUMMYFUNCTION(\"iferror(VLOOKUP(B477,IMPORTRANGE(\"\"https://docs.google.com/spreadsheets/d/1-zcOrI_PgX9R0t6_sOpXptmEcBDI4IX9Gfz9-2a6his/edit#gid=0\"\",\"\"RWA!F:BZ\"\"),48,0))\"),\"\")","v":""},{"$f":"IFERROR(__xludf.DUMMYFUNCTION(\"iferror(VLOOKUP(B477,IMPORTRANGE(\"\"https://docs.google.com/spreadsheets/d/1-zcOrI_PgX9R0t6_sOpXptmEcBDI4IX9Gfz9-2a6his/edit#gid=0\"\",\"\"RWA!F:BZ\"\"),49,0))\"),\"\")","v":""}]
[{"$nulls":4},{"$f":"IFERROR(__xludf.DUMMYFUNCTION(\"iferror(VLOOKUP(B478,IMPORTRANGE(\"\"https://docs.google.com/spreadsheets/d/1-zcOrI_PgX9R0t6_sOpXptmEcBDI4IX9Gfz9-2a6his/edit#gid=0\"\",\"\"RWA!F:BZ\"\"),44,0))\"),\"\")","v":""},{"$f":"IFERROR(__xludf.DUMMYFUNCTION(\"iferror(VLOOKUP(B478,IMPORTRANGE(\"\"https://docs.google.com/spreadsheets/d/1-zcOrI_PgX9R0t6_sOpXptmEcBDI4IX9Gfz9-2a6his/edit#gid=0\"\",\"\"RWA!F:BZ\"\"),48,0))\"),\"\")","v":""},{"$f":"IFERROR(__xludf.DUMMYFUNCTION(\"iferror(VLOOKUP(B478,IMPORTRANGE(\"\"https://docs.google.com/spreadsheets/d/1-zcOrI_PgX9R0t6_sOpXptmEcBDI4IX9Gfz9-2a6his/edit#gid=0\"\",\"\"RWA!F:BZ\"\"),49,0))\"),\"\")","v":""}]
[{"$nulls":4},{"$f":"IFERROR(__xludf.DUMMYFUNCTION(\"iferror(VLOOKUP(B479,IMPORTRANGE(\"\"https://docs.google.com/spreadsheets/d/1-zcOrI_PgX9R0t6_sOpXptmEcBDI4IX9Gfz9-2a6his/edit#gid=0\"\",\"\"RWA!F:BZ\"\"),44,0))\"),\"\")","v":""},{"$f":"IFERROR(__xludf.DUMMYFUNCTION(\"iferror(VLOOKUP(B479,IMPORTRANGE(\"\"https://docs.google.com/spreadsheets/d/1-zcOrI_PgX9R0t6_sOpXptmEcBDI4IX9Gfz9-2a6his/edit#gid=0\"\",\"\"RWA!F:BZ\"\"),48,0))\"),\"\")","v":""},{"$f":"IFERROR(__xludf.DUMMYFUNCTION(\"iferror(VLOOKUP(B479,IMPORTRANGE(\"\"https://docs.google.com/spreadsheets/d/1-zcOrI_PgX9R0t6_sOpXptmEcBDI4IX9Gfz9-2a6his/edit#gid=0\"\",\"\"RWA!F:BZ\"\"),49,0))\"),\"\")","v":""}]
[{"$nulls":4},{"$f":"IFERROR(__xludf.DUMMYFUNCTION(\"iferror(VLOOKUP(B480,IMPORTRANGE(\"\"https://docs.google.com/spreadsheets/d/1-zcOrI_PgX9R0t6_sOpXptmEcBDI4IX9Gfz9-2a6his/edit#gid=0\"\",\"\"RWA!F:BZ\"\"),44,0))\"),\"\")","v":""},{"$f":"IFERROR(__xludf.DUMMYFUNCTION(\"iferror(VLOOKUP(B480,IMPORTRANGE(\"\"https://docs.google.com/spreadsheets/d/1-zcOrI_PgX9R0t6_sOpXptmEcBDI4IX9Gfz9-2a6his/edit#gid=0\"\",\"\"RWA!F:BZ\"\"),48,0))\"),\"\")","v":""},{"$f":"IFERROR(__xludf.DUMMYFUNCTION(\"iferror(VLOOKUP(B480,IMPORTRANGE(\"\"https://docs.google.com/spreadsheets/d/1-zcOrI_PgX9R0t6_sOpXptmEcBDI4IX9Gfz9-2a6his/edit#gid=0\"\",\"\"RWA!F:BZ\"\"),49,0))\"),\"\")","v":""}]
[{"$nulls":4},{"$f":"IFERROR(__xludf.DUMMYFUNCTION(\"iferror(VLOOKUP(B481,IMPORTRANGE(\"\"https://docs.google.com/spreadsheets/d/1-zcOrI_PgX9R0t6_sOpXptmEcBDI4IX9Gfz9-2a6his/edit#gid=0\"\",\"\"RWA!F:BZ\"\"),44,0))\"),\"\")","v":""},{"$f":"IFERROR(__xludf.DUMMYFUNCTION(\"iferror(VLOOKUP(B481,IMPORTRANGE(\"\"https://docs.google.com/spreadsheets/d/1-zcOrI_PgX9R0t6_sOpXptmEcBDI4IX9Gfz9-2a6his/edit#gid=0\"\",\"\"RWA!F:BZ\"\"),48,0))\"),\"\")","v":""},{"$f":"IFERROR(__xludf.DUMMYFUNCTION(\"iferror(VLOOKUP(B481,IMPORTRANGE(\"\"https://docs.google.com/spreadsheets/d/1-zcOrI_PgX9R0t6_sOpXptmEcBDI4IX9Gfz9-2a6his/edit#gid=0\"\",\"\"RWA!F:BZ\"\"),49,0))\"),\"\")","v":""}]
[{"$nulls":4},{"$f":"IFERROR(__xludf.DUMMYFUNCTION(\"iferror(VLOOKUP(B482,IMPORTRANGE(\"\"https://docs.google.com/spreadsheets/d/1-zcOrI_PgX9R0t6_sOpXptmEcBDI4IX9Gfz9-2a6his/edit#gid=0\"\",\"\"RWA!F:BZ\"\"),44,0))\"),\"\")","v":""},{"$f":"IFERROR(__xludf.DUMMYFUNCTION(\"iferror(VLOOKUP(B482,IMPORTRANGE(\"\"https://docs.google.com/spreadsheets/d/1-zcOrI_PgX9R0t6_sOpXptmEcBDI4IX9Gfz9-2a6his/edit#gid=0\"\",\"\"RWA!F:BZ\"\"),48,0))\"),\"\")","v":""},{"$f":"IFERROR(__xludf.DUMMYFUNCTION(\"iferror(VLOOKUP(B482,IMPORTRANGE(\"\"https://docs.google.com/spreadsheets/d/1-zcOrI_PgX9R0t6_sOpXptmEcBDI4IX9Gfz9-2a6his/edit#gid=0\"\",\"\"RWA!F:BZ\"\"),49,0))\"),\"\")","v":""}]
[{"$nulls":4},{"$f":"IFERROR(__xludf.DUMMYFUNCTION(\"iferror(VLOOKUP(B483,IMPORTRANGE(\"\"https://docs.google.com/spreadsheets/d/1-zcOrI_PgX9R0t6_sOpXptmEcBDI4IX9Gfz9-2a6his/edit#gid=0\"\",\"\"RWA!F:BZ\"\"),44,0))\"),\"\")","v":""},{"$f":"IFERROR(__xludf.DUMMYFUNCTION(\"iferror(VLOOKUP(B483,IMPORTRANGE(\"\"https://docs.google.com/spreadsheets/d/1-zcOrI_PgX9R0t6_sOpXptmEcBDI4IX9Gfz9-2a6his/edit#gid=0\"\",\"\"RWA!F:BZ\"\"),48,0))\"),\"\")","v":""},{"$f":"IFERROR(__xludf.DUMMYFUNCTION(\"iferror(VLOOKUP(B483,IMPORTRANGE(\"\"https://docs.google.com/spreadsheets/d/1-zcOrI_PgX9R0t6_sOpXptmEcBDI4IX9Gfz9-2a6his/edit#gid=0\"\",\"\"RWA!F:BZ\"\"),49,0))\"),\"\")","v":""}]
[{"$nulls":4},{"$f":"IFERROR(__xludf.DUMMYFUNCTION(\"iferror(VLOOKUP(B484,IMPORTRANGE(\"\"https://docs.google.com/spreadsheets/d/1-zcOrI_PgX9R0t6_sOpXptmEcBDI4IX9Gfz9-2a6his/edit#gid=0\"\",\"\"RWA!F:BZ\"\"),44,0))\"),\"\")","v":""},{"$f":"IFERROR(__xludf.DUMMYFUNCTION(\"iferror(VLOOKUP(B484,IMPORTRANGE(\"\"https://docs.google.com/spreadsheets/d/1-zcOrI_PgX9R0t6_sOpXptmEcBDI4IX9Gfz9-2a6his/edit#gid=0\"\",\"\"RWA!F:BZ\"\"),48,0))\"),\"\")","v":""},{"$f":"IFERROR(__xludf.DUMMYFUNCTION(\"iferror(VLOOKUP(B484,IMPORTRANGE(\"\"https://docs.google.com/spreadsheets/d/1-zcOrI_PgX9R0t6_sOpXptmEcBDI4IX9Gfz9-2a6his/edit#gid=0\"\",\"\"RWA!F:BZ\"\"),49,0))\"),\"\")","v":""}]
[{"$nulls":4},{"$f":"IFERROR(__xludf.DUMMYFUNCTION(\"iferror(VLOOKUP(B485,IMPORTRANGE(\"\"https://docs.google.com/spreadsheets/d/1-zcOrI_PgX9R0t6_sOpXptmEcBDI4IX9Gfz9-2a6his/edit#gid=0\"\",\"\"RWA!F:BZ\"\"),44,0))\"),\"\")","v":""},{"$f":"IFERROR(__xludf.DUMMYFUNCTION(\"iferror(VLOOKUP(B485,IMPORTRANGE(\"\"https://docs.google.com/spreadsheets/d/1-zcOrI_PgX9R0t6_sOpXptmEcBDI4IX9Gfz9-2a6his/edit#gid=0\"\",\"\"RWA!F:BZ\"\"),48,0))\"),\"\")","v":""},{"$f":"IFERROR(__xludf.DUMMYFUNCTION(\"iferror(VLOOKUP(B485,IMPORTRANGE(\"\"https://docs.google.com/spreadsheets/d/1-zcOrI_PgX9R0t6_sOpXptmEcBDI4IX9Gfz9-2a6his/edit#gid=0\"\",\"\"RWA!F:BZ\"\"),49,0))\"),\"\")","v":""}]
[{"$nulls":4},{"$f":"IFERROR(__xludf.DUMMYFUNCTION(\"iferror(VLOOKUP(B486,IMPORTRANGE(\"\"https://docs.google.com/spreadsheets/d/1-zcOrI_PgX9R0t6_sOpXptmEcBDI4IX9Gfz9-2a6his/edit#gid=0\"\",\"\"RWA!F:BZ\"\"),44,0))\"),\"\")","v":""},{"$f":"IFERROR(__xludf.DUMMYFUNCTION(\"iferror(VLOOKUP(B486,IMPORTRANGE(\"\"https://docs.google.com/spreadsheets/d/1-zcOrI_PgX9R0t6_sOpXptmEcBDI4IX9Gfz9-2a6his/edit#gid=0\"\",\"\"RWA!F:BZ\"\"),48,0))\"),\"\")","v":""},{"$f":"IFERROR(__xludf.DUMMYFUNCTION(\"iferror(VLOOKUP(B486,IMPORTRANGE(\"\"https://docs.google.com/spreadsheets/d/1-zcOrI_PgX9R0t6_sOpXptmEcBDI4IX9Gfz9-2a6his/edit#gid=0\"\",\"\"RWA!F:BZ\"\"),49,0))\"),\"\")","v":""}]
[{"$nulls":4},{"$f":"IFERROR(__xludf.DUMMYFUNCTION(\"iferror(VLOOKUP(B487,IMPORTRANGE(\"\"https://docs.google.com/spreadsheets/d/1-zcOrI_PgX9R0t6_sOpXptmEcBDI4IX9Gfz9-2a6his/edit#gid=0\"\",\"\"RWA!F:BZ\"\"),44,0))\"),\"\")","v":""},{"$f":"IFERROR(__xludf.DUMMYFUNCTION(\"iferror(VLOOKUP(B487,IMPORTRANGE(\"\"https://docs.google.com/spreadsheets/d/1-zcOrI_PgX9R0t6_sOpXptmEcBDI4IX9Gfz9-2a6his/edit#gid=0\"\",\"\"RWA!F:BZ\"\"),48,0))\"),\"\")","v":""},{"$f":"IFERROR(__xludf.DUMMYFUNCTION(\"iferror(VLOOKUP(B487,IMPORTRANGE(\"\"https://docs.google.com/spreadsheets/d/1-zcOrI_PgX9R0t6_sOpXptmEcBDI4IX9Gfz9-2a6his/edit#gid=0\"\",\"\"RWA!F:BZ\"\"),49,0))\"),\"\")","v":""}]
[{"$nulls":4},{"$f":"IFERROR(__xludf.DUMMYFUNCTION(\"iferror(VLOOKUP(B488,IMPORTRANGE(\"\"https://docs.google.com/spreadsheets/d/1-zcOrI_PgX9R0t6_sOpXptmEcBDI4IX9Gfz9-2a6his/edit#gid=0\"\",\"\"RWA!F:BZ\"\"),44,0))\"),\"\")","v":""},{"$f":"IFERROR(__xludf.DUMMYFUNCTION(\"iferror(VLOOKUP(B488,IMPORTRANGE(\"\"https://docs.google.com/spreadsheets/d/1-zcOrI_PgX9R0t6_sOpXptmEcBDI4IX9Gfz9-2a6his/edit#gid=0\"\",\"\"RWA!F:BZ\"\"),48,0))\"),\"\")","v":""},{"$f":"IFERROR(__xludf.DUMMYFUNCTION(\"iferror(VLOOKUP(B488,IMPORTRANGE(\"\"https://docs.google.com/spreadsheets/d/1-zcOrI_PgX9R0t6_sOpXptmEcBDI4IX9Gfz9-2a6his/edit#gid=0\"\",\"\"RWA!F:BZ\"\"),49,0))\"),\"\")","v":""}]
[{"$nulls":4},{"$f":"IFERROR(__xludf.DUMMYFUNCTION(\"iferror(VLOOKUP(B489,IMPORTRANGE(\"\"https://docs.google.com/spreadsheets/d/1-zcOrI_PgX9R0t6_sOpXptmEcBDI4IX9Gfz9-2a6his/edit#gid=0\"\",\"\"RWA!F:BZ\"\"),44,0))\"),\"\")","v":""},{"$f":"IFERROR(__xludf.DUMMYFUNCTION(\"iferror(VLOOKUP(B489,IMPORTRANGE(\"\"https://docs.google.com/spreadsheets/d/1-zcOrI_PgX9R0t6_sOpXptmEcBDI4IX9Gfz9-2a6his/edit#gid=0\"\",\"\"RWA!F:BZ\"\"),48,0))\"),\"\")","v":""},{"$f":"IFERROR(__xludf.DUMMYFUNCTION(\"iferror(VLOOKUP(B489,IMPORTRANGE(\"\"https://docs.google.com/spreadsheets/d/1-zcOrI_PgX9R0t6_sOpXptmEcBDI4IX9Gfz9-2a6his/edit#gid=0\"\",\"\"RWA!F:BZ\"\"),49,0))\"),\"\")","v":""}]
[{"$nulls":4},{"$f":"IFERROR(__xludf.DUMMYFUNCTION(\"iferror(VLOOKUP(B490,IMPORTRANGE(\"\"https://docs.google.com/spreadsheets/d/1-zcOrI_PgX9R0t6_sOpXptmEcBDI4IX9Gfz9-2a6his/edit#gid=0\"\",\"\"RWA!F:BZ\"\"),44,0))\"),\"\")","v":""},{"$f":"IFERROR(__xludf.DUMMYFUNCTION(\"iferror(VLOOKUP(B490,IMPORTRANGE(\"\"https://docs.google.com/spreadsheets/d/1-zcOrI_PgX9R0t6_sOpXptmEcBDI4IX9Gfz9-2a6his/edit#gid=0\"\",\"\"RWA!F:BZ\"\"),48,0))\"),\"\")","v":""},{"$f":"IFERROR(__xludf.DUMMYFUNCTION(\"iferror(VLOOKUP(B490,IMPORTRANGE(\"\"https://docs.google.com/spreadsheets/d/1-zcOrI_PgX9R0t6_sOpXptmEcBDI4IX9Gfz9-2a6his/edit#gid=0\"\",\"\"RWA!F:BZ\"\"),49,0))\"),\"\")","v":""}]
[{"$nulls":4},{"$f":"IFERROR(__xludf.DUMMYFUNCTION(\"iferror(VLOOKUP(B491,IMPORTRANGE(\"\"https://docs.google.com/spreadsheets/d/1-zcOrI_PgX9R0t6_sOpXptmEcBDI4IX9Gfz9-2a6his/edit#gid=0\"\",\"\"RWA!F:BZ\"\"),44,0))\"),\"\")","v":""},{"$f":"IFERROR(__xludf.DUMMYFUNCTION(\"iferror(VLOOKUP(B491,IMPORTRANGE(\"\"https://docs.google.com/spreadsheets/d/1-zcOrI_PgX9R0t6_sOpXptmEcBDI4IX9Gfz9-2a6his/edit#gid=0\"\",\"\"RWA!F:BZ\"\"),48,0))\"),\"\")","v":""},{"$f":"IFERROR(__xludf.DUMMYFUNCTION(\"iferror(VLOOKUP(B491,IMPORTRANGE(\"\"https://docs.google.com/spreadsheets/d/1-zcOrI_PgX9R0t6_sOpXptmEcBDI4IX9Gfz9-2a6his/edit#gid=0\"\",\"\"RWA!F:BZ\"\"),49,0))\"),\"\")","v":""}]
[{"$nulls":4},{"$f":"IFERROR(__xludf.DUMMYFUNCTION(\"iferror(VLOOKUP(B492,IMPORTRANGE(\"\"https://docs.google.com/spreadsheets/d/1-zcOrI_PgX9R0t6_sOpXptmEcBDI4IX9Gfz9-2a6his/edit#gid=0\"\",\"\"RWA!F:BZ\"\"),44,0))\"),\"\")","v":""},{"$f":"IFERROR(__xludf.DUMMYFUNCTION(\"iferror(VLOOKUP(B492,IMPORTRANGE(\"\"https://docs.google.com/spreadsheets/d/1-zcOrI_PgX9R0t6_sOpXptmEcBDI4IX9Gfz9-2a6his/edit#gid=0\"\",\"\"RWA!F:BZ\"\"),48,0))\"),\"\")","v":""},{"$f":"IFERROR(__xludf.DUMMYFUNCTION(\"iferror(VLOOKUP(B492,IMPORTRANGE(\"\"https://docs.google.com/spreadsheets/d/1-zcOrI_PgX9R0t6_sOpXptmEcBDI4IX9Gfz9-2a6his/edit#gid=0\"\",\"\"RWA!F:BZ\"\"),49,0))\"),\"\")","v":""}]
[{"$nulls":4},{"$f":"IFERROR(__xludf.DUMMYFUNCTION(\"iferror(VLOOKUP(B493,IMPORTRANGE(\"\"https://docs.google.com/spreadsheets/d/1-zcOrI_PgX9R0t6_sOpXptmEcBDI4IX9Gfz9-2a6his/edit#gid=0\"\",\"\"RWA!F:BZ\"\"),44,0))\"),\"\")","v":""},{"$f":"IFERROR(__xludf.DUMMYFUNCTION(\"iferror(VLOOKUP(B493,IMPORTRANGE(\"\"https://docs.google.com/spreadsheets/d/1-zcOrI_PgX9R0t6_sOpXptmEcBDI4IX9Gfz9-2a6his/edit#gid=0\"\",\"\"RWA!F:BZ\"\"),48,0))\"),\"\")","v":""},{"$f":"IFERROR(__xludf.DUMMYFUNCTION(\"iferror(VLOOKUP(B493,IMPORTRANGE(\"\"https://docs.google.com/spreadsheets/d/1-zcOrI_PgX9R0t6_sOpXptmEcBDI4IX9Gfz9-2a6his/edit#gid=0\"\",\"\"RWA!F:BZ\"\"),49,0))\"),\"\")","v":""}]
[{"$nulls":4},{"$f":"IFERROR(__xludf.DUMMYFUNCTION(\"iferror(VLOOKUP(B494,IMPORTRANGE(\"\"https://docs.google.com/spreadsheets/d/1-zcOrI_PgX9R0t6_sOpXptmEcBDI4IX9Gfz9-2a6his/edit#gid=0\"\",\"\"RWA!F:BZ\"\"),44,0))\"),\"\")","v":""},{"$f":"IFERROR(__xludf.DUMMYFUNCTION(\"iferror(VLOOKUP(B494,IMPORTRANGE(\"\"https://docs.google.com/spreadsheets/d/1-zcOrI_PgX9R0t6_sOpXptmEcBDI4IX9Gfz9-2a6his/edit#gid=0\"\",\"\"RWA!F:BZ\"\"),48,0))\"),\"\")","v":""},{"$f":"IFERROR(__xludf.DUMMYFUNCTION(\"iferror(VLOOKUP(B494,IMPORTRANGE(\"\"https://docs.google.com/spreadsheets/d/1-zcOrI_PgX9R0t6_sOpXptmEcBDI4IX9Gfz9-2a6his/edit#gid=0\"\",\"\"RWA!F:BZ\"\"),49,0))\"),\"\")","v":""}]
[{"$nulls":4},{"$f":"IFERROR(__xludf.DUMMYFUNCTION(\"iferror(VLOOKUP(B495,IMPORTRANGE(\"\"https://docs.google.com/spreadsheets/d/1-zcOrI_PgX9R0t6_sOpXptmEcBDI4IX9Gfz9-2a6his/edit#gid=0\"\",\"\"RWA!F:BZ\"\"),44,0))\"),\"\")","v":""},{"$f":"IFERROR(__xludf.DUMMYFUNCTION(\"iferror(VLOOKUP(B495,IMPORTRANGE(\"\"https://docs.google.com/spreadsheets/d/1-zcOrI_PgX9R0t6_sOpXptmEcBDI4IX9Gfz9-2a6his/edit#gid=0\"\",\"\"RWA!F:BZ\"\"),48,0))\"),\"\")","v":""},{"$f":"IFERROR(__xludf.DUMMYFUNCTION(\"iferror(VLOOKUP(B495,IMPORTRANGE(\"\"https://docs.google.com/spreadsheets/d/1-zcOrI_PgX9R0t6_sOpXptmEcBDI4IX9Gfz9-2a6his/edit#gid=0\"\",\"\"RWA!F:BZ\"\"),49,0))\"),\"\")","v":""}]
[{"$nulls":4},{"$f":"IFERROR(__xludf.DUMMYFUNCTION(\"iferror(VLOOKUP(B496,IMPORTRANGE(\"\"https://docs.google.com/spreadsheets/d/1-zcOrI_PgX9R0t6_sOpXptmEcBDI4IX9Gfz9-2a6his/edit#gid=0\"\",\"\"RWA!F:BZ\"\"),44,0))\"),\"\")","v":""},{"$f":"IFERROR(__xludf.DUMMYFUNCTION(\"iferror(VLOOKUP(B496,IMPORTRANGE(\"\"https://docs.google.com/spreadsheets/d/1-zcOrI_PgX9R0t6_sOpXptmEcBDI4IX9Gfz9-2a6his/edit#gid=0\"\",\"\"RWA!F:BZ\"\"),48,0))\"),\"\")","v":""},{"$f":"IFERROR(__xludf.DUMMYFUNCTION(\"iferror(VLOOKUP(B496,IMPORTRANGE(\"\"https://docs.google.com/spreadsheets/d/1-zcOrI_PgX9R0t6_sOpXptmEcBDI4IX9Gfz9-2a6his/edit#gid=0\"\",\"\"RWA!F:BZ\"\"),49,0))\"),\"\")","v":""}]
[{"$nulls":4},{"$f":"IFERROR(__xludf.DUMMYFUNCTION(\"iferror(VLOOKUP(B497,IMPORTRANGE(\"\"https://docs.google.com/spreadsheets/d/1-zcOrI_PgX9R0t6_sOpXptmEcBDI4IX9Gfz9-2a6his/edit#gid=0\"\",\"\"RWA!F:BZ\"\"),44,0))\"),\"\")","v":""},{"$f":"IFERROR(__xludf.DUMMYFUNCTION(\"iferror(VLOOKUP(B497,IMPORTRANGE(\"\"https://docs.google.com/spreadsheets/d/1-zcOrI_PgX9R0t6_sOpXptmEcBDI4IX9Gfz9-2a6his/edit#gid=0\"\",\"\"RWA!F:BZ\"\"),48,0))\"),\"\")","v":""},{"$f":"IFERROR(__xludf.DUMMYFUNCTION(\"iferror(VLOOKUP(B497,IMPORTRANGE(\"\"https://docs.google.com/spreadsheets/d/1-zcOrI_PgX9R0t6_sOpXptmEcBDI4IX9Gfz9-2a6his/edit#gid=0\"\",\"\"RWA!F:BZ\"\"),49,0))\"),\"\")","v":""}]
[{"$nulls":4},{"$f":"IFERROR(__xludf.DUMMYFUNCTION(\"iferror(VLOOKUP(B498,IMPORTRANGE(\"\"https://docs.google.com/spreadsheets/d/1-zcOrI_PgX9R0t6_sOpXptmEcBDI4IX9Gfz9-2a6his/edit#gid=0\"\",\"\"RWA!F:BZ\"\"),44,0))\"),\"\")","v":""},{"$f":"IFERROR(__xludf.DUMMYFUNCTION(\"iferror(VLOOKUP(B498,IMPORTRANGE(\"\"https://docs.google.com/spreadsheets/d/1-zcOrI_PgX9R0t6_sOpXptmEcBDI4IX9Gfz9-2a6his/edit#gid=0\"\",\"\"RWA!F:BZ\"\"),48,0))\"),\"\")","v":""},{"$f":"IFERROR(__xludf.DUMMYFUNCTION(\"iferror(VLOOKUP(B498,IMPORTRANGE(\"\"https://docs.google.com/spreadsheets/d/1-zcOrI_PgX9R0t6_sOpXptmEcBDI4IX9Gfz9-2a6his/edit#gid=0\"\",\"\"RWA!F:BZ\"\"),49,0))\"),\"\")","v":""}]
[{"$nulls":4},{"$f":"IFERROR(__xludf.DUMMYFUNCTION(\"iferror(VLOOKUP(B499,IMPORTRANGE(\"\"https://docs.google.com/spreadsheets/d/1-zcOrI_PgX9R0t6_sOpXptmEcBDI4IX9Gfz9-2a6his/edit#gid=0\"\",\"\"RWA!F:BZ\"\"),44,0))\"),\"\")","v":""},{"$f":"IFERROR(__xludf.DUMMYFUNCTION(\"iferror(VLOOKUP(B499,IMPORTRANGE(\"\"https://docs.google.com/spreadsheets/d/1-zcOrI_PgX9R0t6_sOpXptmEcBDI4IX9Gfz9-2a6his/edit#gid=0\"\",\"\"RWA!F:BZ\"\"),48,0))\"),\"\")","v":""},{"$f":"IFERROR(__xludf.DUMMYFUNCTION(\"iferror(VLOOKUP(B499,IMPORTRANGE(\"\"https://docs.google.com/spreadsheets/d/1-zcOrI_PgX9R0t6_sOpXptmEcBDI4IX9Gfz9-2a6his/edit#gid=0\"\",\"\"RWA!F:BZ\"\"),49,0))\"),\"\")","v":""}]
[{"$nulls":4},{"$f":"IFERROR(__xludf.DUMMYFUNCTION(\"iferror(VLOOKUP(B500,IMPORTRANGE(\"\"https://docs.google.com/spreadsheets/d/1-zcOrI_PgX9R0t6_sOpXptmEcBDI4IX9Gfz9-2a6his/edit#gid=0\"\",\"\"RWA!F:BZ\"\"),44,0))\"),\"\")","v":""},{"$f":"IFERROR(__xludf.DUMMYFUNCTION(\"iferror(VLOOKUP(B500,IMPORTRANGE(\"\"https://docs.google.com/spreadsheets/d/1-zcOrI_PgX9R0t6_sOpXptmEcBDI4IX9Gfz9-2a6his/edit#gid=0\"\",\"\"RWA!F:BZ\"\"),48,0))\"),\"\")","v":""},{"$f":"IFERROR(__xludf.DUMMYFUNCTION(\"iferror(VLOOKUP(B500,IMPORTRANGE(\"\"https://docs.google.com/spreadsheets/d/1-zcOrI_PgX9R0t6_sOpXptmEcBDI4IX9Gfz9-2a6his/edit#gid=0\"\",\"\"RWA!F:BZ\"\"),49,0))\"),\"\")","v":""}]
[{"$nulls":4},{"$f":"IFERROR(__xludf.DUMMYFUNCTION(\"iferror(VLOOKUP(B501,IMPORTRANGE(\"\"https://docs.google.com/spreadsheets/d/1-zcOrI_PgX9R0t6_sOpXptmEcBDI4IX9Gfz9-2a6his/edit#gid=0\"\",\"\"RWA!F:BZ\"\"),44,0))\"),\"\")","v":""},{"$f":"IFERROR(__xludf.DUMMYFUNCTION(\"iferror(VLOOKUP(B501,IMPORTRANGE(\"\"https://docs.google.com/spreadsheets/d/1-zcOrI_PgX9R0t6_sOpXptmEcBDI4IX9Gfz9-2a6his/edit#gid=0\"\",\"\"RWA!F:BZ\"\"),48,0))\"),\"\")","v":""},{"$f":"IFERROR(__xludf.DUMMYFUNCTION(\"iferror(VLOOKUP(B501,IMPORTRANGE(\"\"https://docs.google.com/spreadsheets/d/1-zcOrI_PgX9R0t6_sOpXptmEcBDI4IX9Gfz9-2a6his/edit#gid=0\"\",\"\"RWA!F:BZ\"\"),49,0))\"),\"\")","v":""}]
[{"$nulls":4},{"$f":"IFERROR(__xludf.DUMMYFUNCTION(\"iferror(VLOOKUP(B502,IMPORTRANGE(\"\"https://docs.google.com/spreadsheets/d/1-zcOrI_PgX9R0t6_sOpXptmEcBDI4IX9Gfz9-2a6his/edit#gid=0\"\",\"\"RWA!F:BZ\"\"),44,0))\"),\"\")","v":""},{"$f":"IFERROR(__xludf.DUMMYFUNCTION(\"iferror(VLOOKUP(B502,IMPORTRANGE(\"\"https://docs.google.com/spreadsheets/d/1-zcOrI_PgX9R0t6_sOpXptmEcBDI4IX9Gfz9-2a6his/edit#gid=0\"\",\"\"RWA!F:BZ\"\"),48,0))\"),\"\")","v":""},{"$f":"IFERROR(__xludf.DUMMYFUNCTION(\"iferror(VLOOKUP(B502,IMPORTRANGE(\"\"https://docs.google.com/spreadsheets/d/1-zcOrI_PgX9R0t6_sOpXptmEcBDI4IX9Gfz9-2a6his/edit#gid=0\"\",\"\"RWA!F:BZ\"\"),49,0))\"),\"\")","v":""}]
[{"$nulls":4},{"$f":"IFERROR(__xludf.DUMMYFUNCTION(\"iferror(VLOOKUP(B503,IMPORTRANGE(\"\"https://docs.google.com/spreadsheets/d/1-zcOrI_PgX9R0t6_sOpXptmEcBDI4IX9Gfz9-2a6his/edit#gid=0\"\",\"\"RWA!F:BZ\"\"),44,0))\"),\"\")","v":""},{"$f":"IFERROR(__xludf.DUMMYFUNCTION(\"iferror(VLOOKUP(B503,IMPORTRANGE(\"\"https://docs.google.com/spreadsheets/d/1-zcOrI_PgX9R0t6_sOpXptmEcBDI4IX9Gfz9-2a6his/edit#gid=0\"\",\"\"RWA!F:BZ\"\"),48,0))\"),\"\")","v":""},{"$f":"IFERROR(__xludf.DUMMYFUNCTION(\"iferror(VLOOKUP(B503,IMPORTRANGE(\"\"https://docs.google.com/spreadsheets/d/1-zcOrI_PgX9R0t6_sOpXptmEcBDI4IX9Gfz9-2a6his/edit#gid=0\"\",\"\"RWA!F:BZ\"\"),49,0))\"),\"\")","v":""}]
[{"$nulls":4},{"$f":"IFERROR(__xludf.DUMMYFUNCTION(\"iferror(VLOOKUP(B504,IMPORTRANGE(\"\"https://docs.google.com/spreadsheets/d/1-zcOrI_PgX9R0t6_sOpXptmEcBDI4IX9Gfz9-2a6his/edit#gid=0\"\",\"\"RWA!F:BZ\"\"),44,0))\"),\"\")","v":""},{"$f":"IFERROR(__xludf.DUMMYFUNCTION(\"iferror(VLOOKUP(B504,IMPORTRANGE(\"\"https://docs.google.com/spreadsheets/d/1-zcOrI_PgX9R0t6_sOpXptmEcBDI4IX9Gfz9-2a6his/edit#gid=0\"\",\"\"RWA!F:BZ\"\"),48,0))\"),\"\")","v":""},{"$f":"IFERROR(__xludf.DUMMYFUNCTION(\"iferror(VLOOKUP(B504,IMPORTRANGE(\"\"https://docs.google.com/spreadsheets/d/1-zcOrI_PgX9R0t6_sOpXptmEcBDI4IX9Gfz9-2a6his/edit#gid=0\"\",\"\"RWA!F:BZ\"\"),49,0))\"),\"\")","v":""}]
[{"$nulls":4},{"$f":"IFERROR(__xludf.DUMMYFUNCTION(\"iferror(VLOOKUP(B505,IMPORTRANGE(\"\"https://docs.google.com/spreadsheets/d/1-zcOrI_PgX9R0t6_sOpXptmEcBDI4IX9Gfz9-2a6his/edit#gid=0\"\",\"\"RWA!F:BZ\"\"),44,0))\"),\"\")","v":""},{"$f":"IFERROR(__xludf.DUMMYFUNCTION(\"iferror(VLOOKUP(B505,IMPORTRANGE(\"\"https://docs.google.com/spreadsheets/d/1-zcOrI_PgX9R0t6_sOpXptmEcBDI4IX9Gfz9-2a6his/edit#gid=0\"\",\"\"RWA!F:BZ\"\"),48,0))\"),\"\")","v":""},{"$f":"IFERROR(__xludf.DUMMYFUNCTION(\"iferror(VLOOKUP(B505,IMPORTRANGE(\"\"https://docs.google.com/spreadsheets/d/1-zcOrI_PgX9R0t6_sOpXptmEcBDI4IX9Gfz9-2a6his/edit#gid=0\"\",\"\"RWA!F:BZ\"\"),49,0))\"),\"\")","v":""}]
[{"$nulls":4},{"$f":"IFERROR(__xludf.DUMMYFUNCTION(\"iferror(VLOOKUP(B506,IMPORTRANGE(\"\"https://docs.google.com/spreadsheets/d/1-zcOrI_PgX9R0t6_sOpXptmEcBDI4IX9Gfz9-2a6his/edit#gid=0\"\",\"\"RWA!F:BZ\"\"),44,0))\"),\"\")","v":""},{"$f":"IFERROR(__xludf.DUMMYFUNCTION(\"iferror(VLOOKUP(B506,IMPORTRANGE(\"\"https://docs.google.com/spreadsheets/d/1-zcOrI_PgX9R0t6_sOpXptmEcBDI4IX9Gfz9-2a6his/edit#gid=0\"\",\"\"RWA!F:BZ\"\"),48,0))\"),\"\")","v":""},{"$f":"IFERROR(__xludf.DUMMYFUNCTION(\"iferror(VLOOKUP(B506,IMPORTRANGE(\"\"https://docs.google.com/spreadsheets/d/1-zcOrI_PgX9R0t6_sOpXptmEcBDI4IX9Gfz9-2a6his/edit#gid=0\"\",\"\"RWA!F:BZ\"\"),49,0))\"),\"\")","v":""}]
[{"$nulls":4},{"$f":"IFERROR(__xludf.DUMMYFUNCTION(\"iferror(VLOOKUP(B507,IMPORTRANGE(\"\"https://docs.google.com/spreadsheets/d/1-zcOrI_PgX9R0t6_sOpXptmEcBDI4IX9Gfz9-2a6his/edit#gid=0\"\",\"\"RWA!F:BZ\"\"),44,0))\"),\"\")","v":""},{"$f":"IFERROR(__xludf.DUMMYFUNCTION(\"iferror(VLOOKUP(B507,IMPORTRANGE(\"\"https://docs.google.com/spreadsheets/d/1-zcOrI_PgX9R0t6_sOpXptmEcBDI4IX9Gfz9-2a6his/edit#gid=0\"\",\"\"RWA!F:BZ\"\"),48,0))\"),\"\")","v":""},{"$f":"IFERROR(__xludf.DUMMYFUNCTION(\"iferror(VLOOKUP(B507,IMPORTRANGE(\"\"https://docs.google.com/spreadsheets/d/1-zcOrI_PgX9R0t6_sOpXptmEcBDI4IX9Gfz9-2a6his/edit#gid=0\"\",\"\"RWA!F:BZ\"\"),49,0))\"),\"\")","v":""}]
[{"$nulls":4},{"$f":"IFERROR(__xludf.DUMMYFUNCTION(\"iferror(VLOOKUP(B508,IMPORTRANGE(\"\"https://docs.google.com/spreadsheets/d/1-zcOrI_PgX9R0t6_sOpXptmEcBDI4IX9Gfz9-2a6his/edit#gid=0\"\",\"\"RWA!F:BZ\"\"),44,0))\"),\"\")","v":""},{"$f":"IFERROR(__xludf.DUMMYFUNCTION(\"iferror(VLOOKUP(B508,IMPORTRANGE(\"\"https://docs.google.com/spreadsheets/d/1-zcOrI_PgX9R0t6_sOpXptmEcBDI4IX9Gfz9-2a6his/edit#gid=0\"\",\"\"RWA!F:BZ\"\"),48,0))\"),\"\")","v":""},{"$f":"IFERROR(__xludf.DUMMYFUNCTION(\"iferror(VLOOKUP(B508,IMPORTRANGE(\"\"https://docs.google.com/spreadsheets/d/1-zcOrI_PgX9R0t6_sOpXptmEcBDI4IX9Gfz9-2a6his/edit#gid=0\"\",\"\"RWA!F:BZ\"\"),49,0))\"),\"\")","v":""}]
[{"$nulls":4},{"$f":"IFERROR(__xludf.DUMMYFUNCTION(\"iferror(VLOOKUP(B509,IMPORTRANGE(\"\"https://docs.google.com/spreadsheets/d/1-zcOrI_PgX9R0t6_sOpXptmEcBDI4IX9Gfz9-2a6his/edit#gid=0\"\",\"\"RWA!F:BZ\"\"),44,0))\"),\"\")","v":""},{"$f":"IFERROR(__xludf.DUMMYFUNCTION(\"iferror(VLOOKUP(B509,IMPORTRANGE(\"\"https://docs.google.com/spreadsheets/d/1-zcOrI_PgX9R0t6_sOpXptmEcBDI4IX9Gfz9-2a6his/edit#gid=0\"\",\"\"RWA!F:BZ\"\"),48,0))\"),\"\")","v":""},{"$f":"IFERROR(__xludf.DUMMYFUNCTION(\"iferror(VLOOKUP(B509,IMPORTRANGE(\"\"https://docs.google.com/spreadsheets/d/1-zcOrI_PgX9R0t6_sOpXptmEcBDI4IX9Gfz9-2a6his/edit#gid=0\"\",\"\"RWA!F:BZ\"\"),49,0))\"),\"\")","v":""}]
[{"$nulls":4},{"$f":"IFERROR(__xludf.DUMMYFUNCTION(\"iferror(VLOOKUP(B510,IMPORTRANGE(\"\"https://docs.google.com/spreadsheets/d/1-zcOrI_PgX9R0t6_sOpXptmEcBDI4IX9Gfz9-2a6his/edit#gid=0\"\",\"\"RWA!F:BZ\"\"),44,0))\"),\"\")","v":""},{"$f":"IFERROR(__xludf.DUMMYFUNCTION(\"iferror(VLOOKUP(B510,IMPORTRANGE(\"\"https://docs.google.com/spreadsheets/d/1-zcOrI_PgX9R0t6_sOpXptmEcBDI4IX9Gfz9-2a6his/edit#gid=0\"\",\"\"RWA!F:BZ\"\"),48,0))\"),\"\")","v":""},{"$f":"IFERROR(__xludf.DUMMYFUNCTION(\"iferror(VLOOKUP(B510,IMPORTRANGE(\"\"https://docs.google.com/spreadsheets/d/1-zcOrI_PgX9R0t6_sOpXptmEcBDI4IX9Gfz9-2a6his/edit#gid=0\"\",\"\"RWA!F:BZ\"\"),49,0))\"),\"\")","v":""}]
[{"$nulls":4},{"$f":"IFERROR(__xludf.DUMMYFUNCTION(\"iferror(VLOOKUP(B511,IMPORTRANGE(\"\"https://docs.google.com/spreadsheets/d/1-zcOrI_PgX9R0t6_sOpXptmEcBDI4IX9Gfz9-2a6his/edit#gid=0\"\",\"\"RWA!F:BZ\"\"),44,0))\"),\"\")","v":""},{"$f":"IFERROR(__xludf.DUMMYFUNCTION(\"iferror(VLOOKUP(B511,IMPORTRANGE(\"\"https://docs.google.com/spreadsheets/d/1-zcOrI_PgX9R0t6_sOpXptmEcBDI4IX9Gfz9-2a6his/edit#gid=0\"\",\"\"RWA!F:BZ\"\"),48,0))\"),\"\")","v":""},{"$f":"IFERROR(__xludf.DUMMYFUNCTION(\"iferror(VLOOKUP(B511,IMPORTRANGE(\"\"https://docs.google.com/spreadsheets/d/1-zcOrI_PgX9R0t6_sOpXptmEcBDI4IX9Gfz9-2a6his/edit#gid=0\"\",\"\"RWA!F:BZ\"\"),49,0))\"),\"\")","v":""}]
[{"$nulls":4},{"$f":"IFERROR(__xludf.DUMMYFUNCTION(\"iferror(VLOOKUP(B512,IMPORTRANGE(\"\"https://docs.google.com/spreadsheets/d/1-zcOrI_PgX9R0t6_sOpXptmEcBDI4IX9Gfz9-2a6his/edit#gid=0\"\",\"\"RWA!F:BZ\"\"),44,0))\"),\"\")","v":""},{"$f":"IFERROR(__xludf.DUMMYFUNCTION(\"iferror(VLOOKUP(B512,IMPORTRANGE(\"\"https://docs.google.com/spreadsheets/d/1-zcOrI_PgX9R0t6_sOpXptmEcBDI4IX9Gfz9-2a6his/edit#gid=0\"\",\"\"RWA!F:BZ\"\"),48,0))\"),\"\")","v":""},{"$f":"IFERROR(__xludf.DUMMYFUNCTION(\"iferror(VLOOKUP(B512,IMPORTRANGE(\"\"https://docs.google.com/spreadsheets/d/1-zcOrI_PgX9R0t6_sOpXptmEcBDI4IX9Gfz9-2a6his/edit#gid=0\"\",\"\"RWA!F:BZ\"\"),49,0))\"),\"\")","v":""}]
[{"$nulls":4},{"$f":"IFERROR(__xludf.DUMMYFUNCTION(\"iferror(VLOOKUP(B513,IMPORTRANGE(\"\"https://docs.google.com/spreadsheets/d/1-zcOrI_PgX9R0t6_sOpXptmEcBDI4IX9Gfz9-2a6his/edit#gid=0\"\",\"\"RWA!F:BZ\"\"),44,0))\"),\"\")","v":""},{"$f":"IFERROR(__xludf.DUMMYFUNCTION(\"iferror(VLOOKUP(B513,IMPORTRANGE(\"\"https://docs.google.com/spreadsheets/d/1-zcOrI_PgX9R0t6_sOpXptmEcBDI4IX9Gfz9-2a6his/edit#gid=0\"\",\"\"RWA!F:BZ\"\"),48,0))\"),\"\")","v":""},{"$f":"IFERROR(__xludf.DUMMYFUNCTION(\"iferror(VLOOKUP(B513,IMPORTRANGE(\"\"https://docs.google.com/spreadsheets/d/1-zcOrI_PgX9R0t6_sOpXptmEcBDI4IX9Gfz9-2a6his/edit#gid=0\"\",\"\"RWA!F:BZ\"\"),49,0))\"),\"\")","v":""}]
[{"$nulls":4},{"$f":"IFERROR(__xludf.DUMMYFUNCTION(\"iferror(VLOOKUP(B514,IMPORTRANGE(\"\"https://docs.google.com/spreadsheets/d/1-zcOrI_PgX9R0t6_sOpXptmEcBDI4IX9Gfz9-2a6his/edit#gid=0\"\",\"\"RWA!F:BZ\"\"),44,0))\"),\"\")","v":""},{"$f":"IFERROR(__xludf.DUMMYFUNCTION(\"iferror(VLOOKUP(B514,IMPORTRANGE(\"\"https://docs.google.com/spreadsheets/d/1-zcOrI_PgX9R0t6_sOpXptmEcBDI4IX9Gfz9-2a6his/edit#gid=0\"\",\"\"RWA!F:BZ\"\"),48,0))\"),\"\")","v":""},{"$f":"IFERROR(__xludf.DUMMYFUNCTION(\"iferror(VLOOKUP(B514,IMPORTRANGE(\"\"https://docs.google.com/spreadsheets/d/1-zcOrI_PgX9R0t6_sOpXptmEcBDI4IX9Gfz9-2a6his/edit#gid=0\"\",\"\"RWA!F:BZ\"\"),49,0))\"),\"\")","v":""}]
[{"$nulls":4},{"$f":"IFERROR(__xludf.DUMMYFUNCTION(\"iferror(VLOOKUP(B515,IMPORTRANGE(\"\"https://docs.google.com/spreadsheets/d/1-zcOrI_PgX9R0t6_sOpXptmEcBDI4IX9Gfz9-2a6his/edit#gid=0\"\",\"\"RWA!F:BZ\"\"),44,0))\"),\"\")","v":""},{"$f":"IFERROR(__xludf.DUMMYFUNCTION(\"iferror(VLOOKUP(B515,IMPORTRANGE(\"\"https://docs.google.com/spreadsheets/d/1-zcOrI_PgX9R0t6_sOpXptmEcBDI4IX9Gfz9-2a6his/edit#gid=0\"\",\"\"RWA!F:BZ\"\"),48,0))\"),\"\")","v":""},{"$f":"IFERROR(__xludf.DUMMYFUNCTION(\"iferror(VLOOKUP(B515,IMPORTRANGE(\"\"https://docs.google.com/spreadsheets/d/1-zcOrI_PgX9R0t6_sOpXptmEcBDI4IX9Gfz9-2a6his/edit#gid=0\"\",\"\"RWA!F:BZ\"\"),49,0))\"),\"\")","v":""}]
[{"$nulls":4},{"$f":"IFERROR(__xludf.DUMMYFUNCTION(\"iferror(VLOOKUP(B516,IMPORTRANGE(\"\"https://docs.google.com/spreadsheets/d/1-zcOrI_PgX9R0t6_sOpXptmEcBDI4IX9Gfz9-2a6his/edit#gid=0\"\",\"\"RWA!F:BZ\"\"),44,0))\"),\"\")","v":""},{"$f":"IFERROR(__xludf.DUMMYFUNCTION(\"iferror(VLOOKUP(B516,IMPORTRANGE(\"\"https://docs.google.com/spreadsheets/d/1-zcOrI_PgX9R0t6_sOpXptmEcBDI4IX9Gfz9-2a6his/edit#gid=0\"\",\"\"RWA!F:BZ\"\"),48,0))\"),\"\")","v":""},{"$f":"IFERROR(__xludf.DUMMYFUNCTION(\"iferror(VLOOKUP(B516,IMPORTRANGE(\"\"https://docs.google.com/spreadsheets/d/1-zcOrI_PgX9R0t6_sOpXptmEcBDI4IX9Gfz9-2a6his/edit#gid=0\"\",\"\"RWA!F:BZ\"\"),49,0))\"),\"\")","v":""}]
[{"$nulls":4},{"$f":"IFERROR(__xludf.DUMMYFUNCTION(\"iferror(VLOOKUP(B517,IMPORTRANGE(\"\"https://docs.google.com/spreadsheets/d/1-zcOrI_PgX9R0t6_sOpXptmEcBDI4IX9Gfz9-2a6his/edit#gid=0\"\",\"\"RWA!F:BZ\"\"),44,0))\"),\"\")","v":""},{"$f":"IFERROR(__xludf.DUMMYFUNCTION(\"iferror(VLOOKUP(B517,IMPORTRANGE(\"\"https://docs.google.com/spreadsheets/d/1-zcOrI_PgX9R0t6_sOpXptmEcBDI4IX9Gfz9-2a6his/edit#gid=0\"\",\"\"RWA!F:BZ\"\"),48,0))\"),\"\")","v":""},{"$f":"IFERROR(__xludf.DUMMYFUNCTION(\"iferror(VLOOKUP(B517,IMPORTRANGE(\"\"https://docs.google.com/spreadsheets/d/1-zcOrI_PgX9R0t6_sOpXptmEcBDI4IX9Gfz9-2a6his/edit#gid=0\"\",\"\"RWA!F:BZ\"\"),49,0))\"),\"\")","v":""}]
[{"$nulls":4},{"$f":"IFERROR(__xludf.DUMMYFUNCTION(\"iferror(VLOOKUP(B518,IMPORTRANGE(\"\"https://docs.google.com/spreadsheets/d/1-zcOrI_PgX9R0t6_sOpXptmEcBDI4IX9Gfz9-2a6his/edit#gid=0\"\",\"\"RWA!F:BZ\"\"),44,0))\"),\"\")","v":""},{"$f":"IFERROR(__xludf.DUMMYFUNCTION(\"iferror(VLOOKUP(B518,IMPORTRANGE(\"\"https://docs.google.com/spreadsheets/d/1-zcOrI_PgX9R0t6_sOpXptmEcBDI4IX9Gfz9-2a6his/edit#gid=0\"\",\"\"RWA!F:BZ\"\"),48,0))\"),\"\")","v":""},{"$f":"IFERROR(__xludf.DUMMYFUNCTION(\"iferror(VLOOKUP(B518,IMPORTRANGE(\"\"https://docs.google.com/spreadsheets/d/1-zcOrI_PgX9R0t6_sOpXptmEcBDI4IX9Gfz9-2a6his/edit#gid=0\"\",\"\"RWA!F:BZ\"\"),49,0))\"),\"\")","v":""}]
[{"$nulls":4},{"$f":"IFERROR(__xludf.DUMMYFUNCTION(\"iferror(VLOOKUP(B519,IMPORTRANGE(\"\"https://docs.google.com/spreadsheets/d/1-zcOrI_PgX9R0t6_sOpXptmEcBDI4IX9Gfz9-2a6his/edit#gid=0\"\",\"\"RWA!F:BZ\"\"),44,0))\"),\"\")","v":""},{"$f":"IFERROR(__xludf.DUMMYFUNCTION(\"iferror(VLOOKUP(B519,IMPORTRANGE(\"\"https://docs.google.com/spreadsheets/d/1-zcOrI_PgX9R0t6_sOpXptmEcBDI4IX9Gfz9-2a6his/edit#gid=0\"\",\"\"RWA!F:BZ\"\"),48,0))\"),\"\")","v":""},{"$f":"IFERROR(__xludf.DUMMYFUNCTION(\"iferror(VLOOKUP(B519,IMPORTRANGE(\"\"https://docs.google.com/spreadsheets/d/1-zcOrI_PgX9R0t6_sOpXptmEcBDI4IX9Gfz9-2a6his/edit#gid=0\"\",\"\"RWA!F:BZ\"\"),49,0))\"),\"\")","v":""}]
[{"$nulls":4},{"$f":"IFERROR(__xludf.DUMMYFUNCTION(\"iferror(VLOOKUP(B520,IMPORTRANGE(\"\"https://docs.google.com/spreadsheets/d/1-zcOrI_PgX9R0t6_sOpXptmEcBDI4IX9Gfz9-2a6his/edit#gid=0\"\",\"\"RWA!F:BZ\"\"),44,0))\"),\"\")","v":""},{"$f":"IFERROR(__xludf.DUMMYFUNCTION(\"iferror(VLOOKUP(B520,IMPORTRANGE(\"\"https://docs.google.com/spreadsheets/d/1-zcOrI_PgX9R0t6_sOpXptmEcBDI4IX9Gfz9-2a6his/edit#gid=0\"\",\"\"RWA!F:BZ\"\"),48,0))\"),\"\")","v":""},{"$f":"IFERROR(__xludf.DUMMYFUNCTION(\"iferror(VLOOKUP(B520,IMPORTRANGE(\"\"https://docs.google.com/spreadsheets/d/1-zcOrI_PgX9R0t6_sOpXptmEcBDI4IX9Gfz9-2a6his/edit#gid=0\"\",\"\"RWA!F:BZ\"\"),49,0))\"),\"\")","v":""}]
[{"$nulls":4},{"$f":"IFERROR(__xludf.DUMMYFUNCTION(\"iferror(VLOOKUP(B521,IMPORTRANGE(\"\"https://docs.google.com/spreadsheets/d/1-zcOrI_PgX9R0t6_sOpXptmEcBDI4IX9Gfz9-2a6his/edit#gid=0\"\",\"\"RWA!F:BZ\"\"),44,0))\"),\"\")","v":""},{"$f":"IFERROR(__xludf.DUMMYFUNCTION(\"iferror(VLOOKUP(B521,IMPORTRANGE(\"\"https://docs.google.com/spreadsheets/d/1-zcOrI_PgX9R0t6_sOpXptmEcBDI4IX9Gfz9-2a6his/edit#gid=0\"\",\"\"RWA!F:BZ\"\"),48,0))\"),\"\")","v":""},{"$f":"IFERROR(__xludf.DUMMYFUNCTION(\"iferror(VLOOKUP(B521,IMPORTRANGE(\"\"https://docs.google.com/spreadsheets/d/1-zcOrI_PgX9R0t6_sOpXptmEcBDI4IX9Gfz9-2a6his/edit#gid=0\"\",\"\"RWA!F:BZ\"\"),49,0))\"),\"\")","v":""}]
[{"$nulls":4},{"$f":"IFERROR(__xludf.DUMMYFUNCTION(\"iferror(VLOOKUP(B522,IMPORTRANGE(\"\"https://docs.google.com/spreadsheets/d/1-zcOrI_PgX9R0t6_sOpXptmEcBDI4IX9Gfz9-2a6his/edit#gid=0\"\",\"\"RWA!F:BZ\"\"),44,0))\"),\"\")","v":""},{"$f":"IFERROR(__xludf.DUMMYFUNCTION(\"iferror(VLOOKUP(B522,IMPORTRANGE(\"\"https://docs.google.com/spreadsheets/d/1-zcOrI_PgX9R0t6_sOpXptmEcBDI4IX9Gfz9-2a6his/edit#gid=0\"\",\"\"RWA!F:BZ\"\"),48,0))\"),\"\")","v":""},{"$f":"IFERROR(__xludf.DUMMYFUNCTION(\"iferror(VLOOKUP(B522,IMPORTRANGE(\"\"https://docs.google.com/spreadsheets/d/1-zcOrI_PgX9R0t6_sOpXptmEcBDI4IX9Gfz9-2a6his/edit#gid=0\"\",\"\"RWA!F:BZ\"\"),49,0))\"),\"\")","v":""}]
[{"$nulls":4},{"$f":"IFERROR(__xludf.DUMMYFUNCTION(\"iferror(VLOOKUP(B523,IMPORTRANGE(\"\"https://docs.google.com/spreadsheets/d/1-zcOrI_PgX9R0t6_sOpXptmEcBDI4IX9Gfz9-2a6his/edit#gid=0\"\",\"\"RWA!F:BZ\"\"),44,0))\"),\"\")","v":""},{"$f":"IFERROR(__xludf.DUMMYFUNCTION(\"iferror(VLOOKUP(B523,IMPORTRANGE(\"\"https://docs.google.com/spreadsheets/d/1-zcOrI_PgX9R0t6_sOpXptmEcBDI4IX9Gfz9-2a6his/edit#gid=0\"\",\"\"RWA!F:BZ\"\"),48,0))\"),\"\")","v":""},{"$f":"IFERROR(__xludf.DUMMYFUNCTION(\"iferror(VLOOKUP(B523,IMPORTRANGE(\"\"https://docs.google.com/spreadsheets/d/1-zcOrI_PgX9R0t6_sOpXptmEcBDI4IX9Gfz9-2a6his/edit#gid=0\"\",\"\"RWA!F:BZ\"\"),49,0))\"),\"\")","v":""}]
[{"$nulls":4},{"$f":"IFERROR(__xludf.DUMMYFUNCTION(\"iferror(VLOOKUP(B524,IMPORTRANGE(\"\"https://docs.google.com/spreadsheets/d/1-zcOrI_PgX9R0t6_sOpXptmEcBDI4IX9Gfz9-2a6his/edit#gid=0\"\",\"\"RWA!F:BZ\"\"),44,0))\"),\"\")","v":""},{"$f":"IFERROR(__xludf.DUMMYFUNCTION(\"iferror(VLOOKUP(B524,IMPORTRANGE(\"\"https://docs.google.com/spreadsheets/d/1-zcOrI_PgX9R0t6_sOpXptmEcBDI4IX9Gfz9-2a6his/edit#gid=0\"\",\"\"RWA!F:BZ\"\"),48,0))\"),\"\")","v":""},{"$f":"IFERROR(__xludf.DUMMYFUNCTION(\"iferror(VLOOKUP(B524,IMPORTRANGE(\"\"https://docs.google.com/spreadsheets/d/1-zcOrI_PgX9R0t6_sOpXptmEcBDI4IX9Gfz9-2a6his/edit#gid=0\"\",\"\"RWA!F:BZ\"\"),49,0))\"),\"\")","v":""}]
[{"$nulls":4},{"$f":"IFERROR(__xludf.DUMMYFUNCTION(\"iferror(VLOOKUP(B525,IMPORTRANGE(\"\"https://docs.google.com/spreadsheets/d/1-zcOrI_PgX9R0t6_sOpXptmEcBDI4IX9Gfz9-2a6his/edit#gid=0\"\",\"\"RWA!F:BZ\"\"),44,0))\"),\"\")","v":""},{"$f":"IFERROR(__xludf.DUMMYFUNCTION(\"iferror(VLOOKUP(B525,IMPORTRANGE(\"\"https://docs.google.com/spreadsheets/d/1-zcOrI_PgX9R0t6_sOpXptmEcBDI4IX9Gfz9-2a6his/edit#gid=0\"\",\"\"RWA!F:BZ\"\"),48,0))\"),\"\")","v":""},{"$f":"IFERROR(__xludf.DUMMYFUNCTION(\"iferror(VLOOKUP(B525,IMPORTRANGE(\"\"https://docs.google.com/spreadsheets/d/1-zcOrI_PgX9R0t6_sOpXptmEcBDI4IX9Gfz9-2a6his/edit#gid=0\"\",\"\"RWA!F:BZ\"\"),49,0))\"),\"\")","v":""}]
[{"$nulls":4},{"$f":"IFERROR(__xludf.DUMMYFUNCTION(\"iferror(VLOOKUP(B526,IMPORTRANGE(\"\"https://docs.google.com/spreadsheets/d/1-zcOrI_PgX9R0t6_sOpXptmEcBDI4IX9Gfz9-2a6his/edit#gid=0\"\",\"\"RWA!F:BZ\"\"),44,0))\"),\"\")","v":""},{"$f":"IFERROR(__xludf.DUMMYFUNCTION(\"iferror(VLOOKUP(B526,IMPORTRANGE(\"\"https://docs.google.com/spreadsheets/d/1-zcOrI_PgX9R0t6_sOpXptmEcBDI4IX9Gfz9-2a6his/edit#gid=0\"\",\"\"RWA!F:BZ\"\"),48,0))\"),\"\")","v":""},{"$f":"IFERROR(__xludf.DUMMYFUNCTION(\"iferror(VLOOKUP(B526,IMPORTRANGE(\"\"https://docs.google.com/spreadsheets/d/1-zcOrI_PgX9R0t6_sOpXptmEcBDI4IX9Gfz9-2a6his/edit#gid=0\"\",\"\"RWA!F:BZ\"\"),49,0))\"),\"\")","v":""}]
[{"$nulls":4},{"$f":"IFERROR(__xludf.DUMMYFUNCTION(\"iferror(VLOOKUP(B527,IMPORTRANGE(\"\"https://docs.google.com/spreadsheets/d/1-zcOrI_PgX9R0t6_sOpXptmEcBDI4IX9Gfz9-2a6his/edit#gid=0\"\",\"\"RWA!F:BZ\"\"),44,0))\"),\"\")","v":""},{"$f":"IFERROR(__xludf.DUMMYFUNCTION(\"iferror(VLOOKUP(B527,IMPORTRANGE(\"\"https://docs.google.com/spreadsheets/d/1-zcOrI_PgX9R0t6_sOpXptmEcBDI4IX9Gfz9-2a6his/edit#gid=0\"\",\"\"RWA!F:BZ\"\"),48,0))\"),\"\")","v":""},{"$f":"IFERROR(__xludf.DUMMYFUNCTION(\"iferror(VLOOKUP(B527,IMPORTRANGE(\"\"https://docs.google.com/spreadsheets/d/1-zcOrI_PgX9R0t6_sOpXptmEcBDI4IX9Gfz9-2a6his/edit#gid=0\"\",\"\"RWA!F:BZ\"\"),49,0))\"),\"\")","v":""}]
[{"$nulls":4},{"$f":"IFERROR(__xludf.DUMMYFUNCTION(\"iferror(VLOOKUP(B528,IMPORTRANGE(\"\"https://docs.google.com/spreadsheets/d/1-zcOrI_PgX9R0t6_sOpXptmEcBDI4IX9Gfz9-2a6his/edit#gid=0\"\",\"\"RWA!F:BZ\"\"),44,0))\"),\"\")","v":""},{"$f":"IFERROR(__xludf.DUMMYFUNCTION(\"iferror(VLOOKUP(B528,IMPORTRANGE(\"\"https://docs.google.com/spreadsheets/d/1-zcOrI_PgX9R0t6_sOpXptmEcBDI4IX9Gfz9-2a6his/edit#gid=0\"\",\"\"RWA!F:BZ\"\"),48,0))\"),\"\")","v":""},{"$f":"IFERROR(__xludf.DUMMYFUNCTION(\"iferror(VLOOKUP(B528,IMPORTRANGE(\"\"https://docs.google.com/spreadsheets/d/1-zcOrI_PgX9R0t6_sOpXptmEcBDI4IX9Gfz9-2a6his/edit#gid=0\"\",\"\"RWA!F:BZ\"\"),49,0))\"),\"\")","v":""}]
[{"$nulls":4},{"$f":"IFERROR(__xludf.DUMMYFUNCTION(\"iferror(VLOOKUP(B529,IMPORTRANGE(\"\"https://docs.google.com/spreadsheets/d/1-zcOrI_PgX9R0t6_sOpXptmEcBDI4IX9Gfz9-2a6his/edit#gid=0\"\",\"\"RWA!F:BZ\"\"),44,0))\"),\"\")","v":""},{"$f":"IFERROR(__xludf.DUMMYFUNCTION(\"iferror(VLOOKUP(B529,IMPORTRANGE(\"\"https://docs.google.com/spreadsheets/d/1-zcOrI_PgX9R0t6_sOpXptmEcBDI4IX9Gfz9-2a6his/edit#gid=0\"\",\"\"RWA!F:BZ\"\"),48,0))\"),\"\")","v":""},{"$f":"IFERROR(__xludf.DUMMYFUNCTION(\"iferror(VLOOKUP(B529,IMPORTRANGE(\"\"https://docs.google.com/spreadsheets/d/1-zcOrI_PgX9R0t6_sOpXptmEcBDI4IX9Gfz9-2a6his/edit#gid=0\"\",\"\"RWA!F:BZ\"\"),49,0))\"),\"\")","v":""}]
[{"$nulls":4},{"$f":"IFERROR(__xludf.DUMMYFUNCTION(\"iferror(VLOOKUP(B530,IMPORTRANGE(\"\"https://docs.google.com/spreadsheets/d/1-zcOrI_PgX9R0t6_sOpXptmEcBDI4IX9Gfz9-2a6his/edit#gid=0\"\",\"\"RWA!F:BZ\"\"),44,0))\"),\"\")","v":""},{"$f":"IFERROR(__xludf.DUMMYFUNCTION(\"iferror(VLOOKUP(B530,IMPORTRANGE(\"\"https://docs.google.com/spreadsheets/d/1-zcOrI_PgX9R0t6_sOpXptmEcBDI4IX9Gfz9-2a6his/edit#gid=0\"\",\"\"RWA!F:BZ\"\"),48,0))\"),\"\")","v":""},{"$f":"IFERROR(__xludf.DUMMYFUNCTION(\"iferror(VLOOKUP(B530,IMPORTRANGE(\"\"https://docs.google.com/spreadsheets/d/1-zcOrI_PgX9R0t6_sOpXptmEcBDI4IX9Gfz9-2a6his/edit#gid=0\"\",\"\"RWA!F:BZ\"\"),49,0))\"),\"\")","v":""}]
[{"$nulls":4},{"$f":"IFERROR(__xludf.DUMMYFUNCTION(\"iferror(VLOOKUP(B531,IMPORTRANGE(\"\"https://docs.google.com/spreadsheets/d/1-zcOrI_PgX9R0t6_sOpXptmEcBDI4IX9Gfz9-2a6his/edit#gid=0\"\",\"\"RWA!F:BZ\"\"),44,0))\"),\"\")","v":""},{"$f":"IFERROR(__xludf.DUMMYFUNCTION(\"iferror(VLOOKUP(B531,IMPORTRANGE(\"\"https://docs.google.com/spreadsheets/d/1-zcOrI_PgX9R0t6_sOpXptmEcBDI4IX9Gfz9-2a6his/edit#gid=0\"\",\"\"RWA!F:BZ\"\"),48,0))\"),\"\")","v":""},{"$f":"IFERROR(__xludf.DUMMYFUNCTION(\"iferror(VLOOKUP(B531,IMPORTRANGE(\"\"https://docs.google.com/spreadsheets/d/1-zcOrI_PgX9R0t6_sOpXptmEcBDI4IX9Gfz9-2a6his/edit#gid=0\"\",\"\"RWA!F:BZ\"\"),49,0))\"),\"\")","v":""}]
[{"$nulls":4},{"$f":"IFERROR(__xludf.DUMMYFUNCTION(\"iferror(VLOOKUP(B532,IMPORTRANGE(\"\"https://docs.google.com/spreadsheets/d/1-zcOrI_PgX9R0t6_sOpXptmEcBDI4IX9Gfz9-2a6his/edit#gid=0\"\",\"\"RWA!F:BZ\"\"),44,0))\"),\"\")","v":""},{"$f":"IFERROR(__xludf.DUMMYFUNCTION(\"iferror(VLOOKUP(B532,IMPORTRANGE(\"\"https://docs.google.com/spreadsheets/d/1-zcOrI_PgX9R0t6_sOpXptmEcBDI4IX9Gfz9-2a6his/edit#gid=0\"\",\"\"RWA!F:BZ\"\"),48,0))\"),\"\")","v":""},{"$f":"IFERROR(__xludf.DUMMYFUNCTION(\"iferror(VLOOKUP(B532,IMPORTRANGE(\"\"https://docs.google.com/spreadsheets/d/1-zcOrI_PgX9R0t6_sOpXptmEcBDI4IX9Gfz9-2a6his/edit#gid=0\"\",\"\"RWA!F:BZ\"\"),49,0))\"),\"\")","v":""}]
[{"$nulls":4},{"$f":"IFERROR(__xludf.DUMMYFUNCTION(\"iferror(VLOOKUP(B533,IMPORTRANGE(\"\"https://docs.google.com/spreadsheets/d/1-zcOrI_PgX9R0t6_sOpXptmEcBDI4IX9Gfz9-2a6his/edit#gid=0\"\",\"\"RWA!F:BZ\"\"),44,0))\"),\"\")","v":""},{"$f":"IFERROR(__xludf.DUMMYFUNCTION(\"iferror(VLOOKUP(B533,IMPORTRANGE(\"\"https://docs.google.com/spreadsheets/d/1-zcOrI_PgX9R0t6_sOpXptmEcBDI4IX9Gfz9-2a6his/edit#gid=0\"\",\"\"RWA!F:BZ\"\"),48,0))\"),\"\")","v":""},{"$f":"IFERROR(__xludf.DUMMYFUNCTION(\"iferror(VLOOKUP(B533,IMPORTRANGE(\"\"https://docs.google.com/spreadsheets/d/1-zcOrI_PgX9R0t6_sOpXptmEcBDI4IX9Gfz9-2a6his/edit#gid=0\"\",\"\"RWA!F:BZ\"\"),49,0))\"),\"\")","v":""}]
[{"$nulls":4},{"$f":"IFERROR(__xludf.DUMMYFUNCTION(\"iferror(VLOOKUP(B534,IMPORTRANGE(\"\"https://docs.google.com/spreadsheets/d/1-zcOrI_PgX9R0t6_sOpXptmEcBDI4IX9Gfz9-2a6his/edit#gid=0\"\",\"\"RWA!F:BZ\"\"),44,0))\"),\"\")","v":""},{"$f":"IFERROR(__xludf.DUMMYFUNCTION(\"iferror(VLOOKUP(B534,IMPORTRANGE(\"\"https://docs.google.com/spreadsheets/d/1-zcOrI_PgX9R0t6_sOpXptmEcBDI4IX9Gfz9-2a6his/edit#gid=0\"\",\"\"RWA!F:BZ\"\"),48,0))\"),\"\")","v":""},{"$f":"IFERROR(__xludf.DUMMYFUNCTION(\"iferror(VLOOKUP(B534,IMPORTRANGE(\"\"https://docs.google.com/spreadsheets/d/1-zcOrI_PgX9R0t6_sOpXptmEcBDI4IX9Gfz9-2a6his/edit#gid=0\"\",\"\"RWA!F:BZ\"\"),49,0))\"),\"\")","v":""}]
[{"$nulls":4},{"$f":"IFERROR(__xludf.DUMMYFUNCTION(\"iferror(VLOOKUP(B535,IMPORTRANGE(\"\"https://docs.google.com/spreadsheets/d/1-zcOrI_PgX9R0t6_sOpXptmEcBDI4IX9Gfz9-2a6his/edit#gid=0\"\",\"\"RWA!F:BZ\"\"),44,0))\"),\"\")","v":""},{"$f":"IFERROR(__xludf.DUMMYFUNCTION(\"iferror(VLOOKUP(B535,IMPORTRANGE(\"\"https://docs.google.com/spreadsheets/d/1-zcOrI_PgX9R0t6_sOpXptmEcBDI4IX9Gfz9-2a6his/edit#gid=0\"\",\"\"RWA!F:BZ\"\"),48,0))\"),\"\")","v":""},{"$f":"IFERROR(__xludf.DUMMYFUNCTION(\"iferror(VLOOKUP(B535,IMPORTRANGE(\"\"https://docs.google.com/spreadsheets/d/1-zcOrI_PgX9R0t6_sOpXptmEcBDI4IX9Gfz9-2a6his/edit#gid=0\"\",\"\"RWA!F:BZ\"\"),49,0))\"),\"\")","v":""}]
[{"$nulls":4},{"$f":"IFERROR(__xludf.DUMMYFUNCTION(\"iferror(VLOOKUP(B536,IMPORTRANGE(\"\"https://docs.google.com/spreadsheets/d/1-zcOrI_PgX9R0t6_sOpXptmEcBDI4IX9Gfz9-2a6his/edit#gid=0\"\",\"\"RWA!F:BZ\"\"),44,0))\"),\"\")","v":""},{"$f":"IFERROR(__xludf.DUMMYFUNCTION(\"iferror(VLOOKUP(B536,IMPORTRANGE(\"\"https://docs.google.com/spreadsheets/d/1-zcOrI_PgX9R0t6_sOpXptmEcBDI4IX9Gfz9-2a6his/edit#gid=0\"\",\"\"RWA!F:BZ\"\"),48,0))\"),\"\")","v":""},{"$f":"IFERROR(__xludf.DUMMYFUNCTION(\"iferror(VLOOKUP(B536,IMPORTRANGE(\"\"https://docs.google.com/spreadsheets/d/1-zcOrI_PgX9R0t6_sOpXptmEcBDI4IX9Gfz9-2a6his/edit#gid=0\"\",\"\"RWA!F:BZ\"\"),49,0))\"),\"\")","v":""}]
[{"$nulls":4},{"$f":"IFERROR(__xludf.DUMMYFUNCTION(\"iferror(VLOOKUP(B537,IMPORTRANGE(\"\"https://docs.google.com/spreadsheets/d/1-zcOrI_PgX9R0t6_sOpXptmEcBDI4IX9Gfz9-2a6his/edit#gid=0\"\",\"\"RWA!F:BZ\"\"),44,0))\"),\"\")","v":""},{"$f":"IFERROR(__xludf.DUMMYFUNCTION(\"iferror(VLOOKUP(B537,IMPORTRANGE(\"\"https://docs.google.com/spreadsheets/d/1-zcOrI_PgX9R0t6_sOpXptmEcBDI4IX9Gfz9-2a6his/edit#gid=0\"\",\"\"RWA!F:BZ\"\"),48,0))\"),\"\")","v":""},{"$f":"IFERROR(__xludf.DUMMYFUNCTION(\"iferror(VLOOKUP(B537,IMPORTRANGE(\"\"https://docs.google.com/spreadsheets/d/1-zcOrI_PgX9R0t6_sOpXptmEcBDI4IX9Gfz9-2a6his/edit#gid=0\"\",\"\"RWA!F:BZ\"\"),49,0))\"),\"\")","v":""}]
[{"$nulls":4},{"$f":"IFERROR(__xludf.DUMMYFUNCTION(\"iferror(VLOOKUP(B538,IMPORTRANGE(\"\"https://docs.google.com/spreadsheets/d/1-zcOrI_PgX9R0t6_sOpXptmEcBDI4IX9Gfz9-2a6his/edit#gid=0\"\",\"\"RWA!F:BZ\"\"),44,0))\"),\"\")","v":""},{"$f":"IFERROR(__xludf.DUMMYFUNCTION(\"iferror(VLOOKUP(B538,IMPORTRANGE(\"\"https://docs.google.com/spreadsheets/d/1-zcOrI_PgX9R0t6_sOpXptmEcBDI4IX9Gfz9-2a6his/edit#gid=0\"\",\"\"RWA!F:BZ\"\"),48,0))\"),\"\")","v":""},{"$f":"IFERROR(__xludf.DUMMYFUNCTION(\"iferror(VLOOKUP(B538,IMPORTRANGE(\"\"https://docs.google.com/spreadsheets/d/1-zcOrI_PgX9R0t6_sOpXptmEcBDI4IX9Gfz9-2a6his/edit#gid=0\"\",\"\"RWA!F:BZ\"\"),49,0))\"),\"\")","v":""}]
[{"$nulls":4},{"$f":"IFERROR(__xludf.DUMMYFUNCTION(\"iferror(VLOOKUP(B539,IMPORTRANGE(\"\"https://docs.google.com/spreadsheets/d/1-zcOrI_PgX9R0t6_sOpXptmEcBDI4IX9Gfz9-2a6his/edit#gid=0\"\",\"\"RWA!F:BZ\"\"),44,0))\"),\"\")","v":""},{"$f":"IFERROR(__xludf.DUMMYFUNCTION(\"iferror(VLOOKUP(B539,IMPORTRANGE(\"\"https://docs.google.com/spreadsheets/d/1-zcOrI_PgX9R0t6_sOpXptmEcBDI4IX9Gfz9-2a6his/edit#gid=0\"\",\"\"RWA!F:BZ\"\"),48,0))\"),\"\")","v":""},{"$f":"IFERROR(__xludf.DUMMYFUNCTION(\"iferror(VLOOKUP(B539,IMPORTRANGE(\"\"https://docs.google.com/spreadsheets/d/1-zcOrI_PgX9R0t6_sOpXptmEcBDI4IX9Gfz9-2a6his/edit#gid=0\"\",\"\"RWA!F:BZ\"\"),49,0))\"),\"\")","v":""}]
[{"$nulls":4},{"$f":"IFERROR(__xludf.DUMMYFUNCTION(\"iferror(VLOOKUP(B540,IMPORTRANGE(\"\"https://docs.google.com/spreadsheets/d/1-zcOrI_PgX9R0t6_sOpXptmEcBDI4IX9Gfz9-2a6his/edit#gid=0\"\",\"\"RWA!F:BZ\"\"),44,0))\"),\"\")","v":""},{"$f":"IFERROR(__xludf.DUMMYFUNCTION(\"iferror(VLOOKUP(B540,IMPORTRANGE(\"\"https://docs.google.com/spreadsheets/d/1-zcOrI_PgX9R0t6_sOpXptmEcBDI4IX9Gfz9-2a6his/edit#gid=0\"\",\"\"RWA!F:BZ\"\"),48,0))\"),\"\")","v":""},{"$f":"IFERROR(__xludf.DUMMYFUNCTION(\"iferror(VLOOKUP(B540,IMPORTRANGE(\"\"https://docs.google.com/spreadsheets/d/1-zcOrI_PgX9R0t6_sOpXptmEcBDI4IX9Gfz9-2a6his/edit#gid=0\"\",\"\"RWA!F:BZ\"\"),49,0))\"),\"\")","v":""}]
[{"$nulls":4},{"$f":"IFERROR(__xludf.DUMMYFUNCTION(\"iferror(VLOOKUP(B541,IMPORTRANGE(\"\"https://docs.google.com/spreadsheets/d/1-zcOrI_PgX9R0t6_sOpXptmEcBDI4IX9Gfz9-2a6his/edit#gid=0\"\",\"\"RWA!F:BZ\"\"),44,0))\"),\"\")","v":""},{"$f":"IFERROR(__xludf.DUMMYFUNCTION(\"iferror(VLOOKUP(B541,IMPORTRANGE(\"\"https://docs.google.com/spreadsheets/d/1-zcOrI_PgX9R0t6_sOpXptmEcBDI4IX9Gfz9-2a6his/edit#gid=0\"\",\"\"RWA!F:BZ\"\"),48,0))\"),\"\")","v":""},{"$f":"IFERROR(__xludf.DUMMYFUNCTION(\"iferror(VLOOKUP(B541,IMPORTRANGE(\"\"https://docs.google.com/spreadsheets/d/1-zcOrI_PgX9R0t6_sOpXptmEcBDI4IX9Gfz9-2a6his/edit#gid=0\"\",\"\"RWA!F:BZ\"\"),49,0))\"),\"\")","v":""}]
[{"$nulls":4},{"$f":"IFERROR(__xludf.DUMMYFUNCTION(\"iferror(VLOOKUP(B542,IMPORTRANGE(\"\"https://docs.google.com/spreadsheets/d/1-zcOrI_PgX9R0t6_sOpXptmEcBDI4IX9Gfz9-2a6his/edit#gid=0\"\",\"\"RWA!F:BZ\"\"),44,0))\"),\"\")","v":""},{"$f":"IFERROR(__xludf.DUMMYFUNCTION(\"iferror(VLOOKUP(B542,IMPORTRANGE(\"\"https://docs.google.com/spreadsheets/d/1-zcOrI_PgX9R0t6_sOpXptmEcBDI4IX9Gfz9-2a6his/edit#gid=0\"\",\"\"RWA!F:BZ\"\"),48,0))\"),\"\")","v":""},{"$f":"IFERROR(__xludf.DUMMYFUNCTION(\"iferror(VLOOKUP(B542,IMPORTRANGE(\"\"https://docs.google.com/spreadsheets/d/1-zcOrI_PgX9R0t6_sOpXptmEcBDI4IX9Gfz9-2a6his/edit#gid=0\"\",\"\"RWA!F:BZ\"\"),49,0))\"),\"\")","v":""}]
[{"$nulls":4},{"$f":"IFERROR(__xludf.DUMMYFUNCTION(\"iferror(VLOOKUP(B543,IMPORTRANGE(\"\"https://docs.google.com/spreadsheets/d/1-zcOrI_PgX9R0t6_sOpXptmEcBDI4IX9Gfz9-2a6his/edit#gid=0\"\",\"\"RWA!F:BZ\"\"),44,0))\"),\"\")","v":""},{"$f":"IFERROR(__xludf.DUMMYFUNCTION(\"iferror(VLOOKUP(B543,IMPORTRANGE(\"\"https://docs.google.com/spreadsheets/d/1-zcOrI_PgX9R0t6_sOpXptmEcBDI4IX9Gfz9-2a6his/edit#gid=0\"\",\"\"RWA!F:BZ\"\"),48,0))\"),\"\")","v":""},{"$f":"IFERROR(__xludf.DUMMYFUNCTION(\"iferror(VLOOKUP(B543,IMPORTRANGE(\"\"https://docs.google.com/spreadsheets/d/1-zcOrI_PgX9R0t6_sOpXptmEcBDI4IX9Gfz9-2a6his/edit#gid=0\"\",\"\"RWA!F:BZ\"\"),49,0))\"),\"\")","v":""}]
[{"$nulls":4},{"$f":"IFERROR(__xludf.DUMMYFUNCTION(\"iferror(VLOOKUP(B544,IMPORTRANGE(\"\"https://docs.google.com/spreadsheets/d/1-zcOrI_PgX9R0t6_sOpXptmEcBDI4IX9Gfz9-2a6his/edit#gid=0\"\",\"\"RWA!F:BZ\"\"),44,0))\"),\"\")","v":""},{"$f":"IFERROR(__xludf.DUMMYFUNCTION(\"iferror(VLOOKUP(B544,IMPORTRANGE(\"\"https://docs.google.com/spreadsheets/d/1-zcOrI_PgX9R0t6_sOpXptmEcBDI4IX9Gfz9-2a6his/edit#gid=0\"\",\"\"RWA!F:BZ\"\"),48,0))\"),\"\")","v":""},{"$f":"IFERROR(__xludf.DUMMYFUNCTION(\"iferror(VLOOKUP(B544,IMPORTRANGE(\"\"https://docs.google.com/spreadsheets/d/1-zcOrI_PgX9R0t6_sOpXptmEcBDI4IX9Gfz9-2a6his/edit#gid=0\"\",\"\"RWA!F:BZ\"\"),49,0))\"),\"\")","v":""}]
[{"$nulls":4},{"$f":"IFERROR(__xludf.DUMMYFUNCTION(\"iferror(VLOOKUP(B545,IMPORTRANGE(\"\"https://docs.google.com/spreadsheets/d/1-zcOrI_PgX9R0t6_sOpXptmEcBDI4IX9Gfz9-2a6his/edit#gid=0\"\",\"\"RWA!F:BZ\"\"),44,0))\"),\"\")","v":""},{"$f":"IFERROR(__xludf.DUMMYFUNCTION(\"iferror(VLOOKUP(B545,IMPORTRANGE(\"\"https://docs.google.com/spreadsheets/d/1-zcOrI_PgX9R0t6_sOpXptmEcBDI4IX9Gfz9-2a6his/edit#gid=0\"\",\"\"RWA!F:BZ\"\"),48,0))\"),\"\")","v":""},{"$f":"IFERROR(__xludf.DUMMYFUNCTION(\"iferror(VLOOKUP(B545,IMPORTRANGE(\"\"https://docs.google.com/spreadsheets/d/1-zcOrI_PgX9R0t6_sOpXptmEcBDI4IX9Gfz9-2a6his/edit#gid=0\"\",\"\"RWA!F:BZ\"\"),49,0))\"),\"\")","v":""}]
[{"$nulls":4},{"$f":"IFERROR(__xludf.DUMMYFUNCTION(\"iferror(VLOOKUP(B546,IMPORTRANGE(\"\"https://docs.google.com/spreadsheets/d/1-zcOrI_PgX9R0t6_sOpXptmEcBDI4IX9Gfz9-2a6his/edit#gid=0\"\",\"\"RWA!F:BZ\"\"),44,0))\"),\"\")","v":""},{"$f":"IFERROR(__xludf.DUMMYFUNCTION(\"iferror(VLOOKUP(B546,IMPORTRANGE(\"\"https://docs.google.com/spreadsheets/d/1-zcOrI_PgX9R0t6_sOpXptmEcBDI4IX9Gfz9-2a6his/edit#gid=0\"\",\"\"RWA!F:BZ\"\"),48,0))\"),\"\")","v":""},{"$f":"IFERROR(__xludf.DUMMYFUNCTION(\"iferror(VLOOKUP(B546,IMPORTRANGE(\"\"https://docs.google.com/spreadsheets/d/1-zcOrI_PgX9R0t6_sOpXptmEcBDI4IX9Gfz9-2a6his/edit#gid=0\"\",\"\"RWA!F:BZ\"\"),49,0))\"),\"\")","v":""}]
[{"$nulls":4},{"$f":"IFERROR(__xludf.DUMMYFUNCTION(\"iferror(VLOOKUP(B547,IMPORTRANGE(\"\"https://docs.google.com/spreadsheets/d/1-zcOrI_PgX9R0t6_sOpXptmEcBDI4IX9Gfz9-2a6his/edit#gid=0\"\",\"\"RWA!F:BZ\"\"),44,0))\"),\"\")","v":""},{"$f":"IFERROR(__xludf.DUMMYFUNCTION(\"iferror(VLOOKUP(B547,IMPORTRANGE(\"\"https://docs.google.com/spreadsheets/d/1-zcOrI_PgX9R0t6_sOpXptmEcBDI4IX9Gfz9-2a6his/edit#gid=0\"\",\"\"RWA!F:BZ\"\"),48,0))\"),\"\")","v":""},{"$f":"IFERROR(__xludf.DUMMYFUNCTION(\"iferror(VLOOKUP(B547,IMPORTRANGE(\"\"https://docs.google.com/spreadsheets/d/1-zcOrI_PgX9R0t6_sOpXptmEcBDI4IX9Gfz9-2a6his/edit#gid=0\"\",\"\"RWA!F:BZ\"\"),49,0))\"),\"\")","v":""}]
[{"$nulls":4},{"$f":"IFERROR(__xludf.DUMMYFUNCTION(\"iferror(VLOOKUP(B548,IMPORTRANGE(\"\"https://docs.google.com/spreadsheets/d/1-zcOrI_PgX9R0t6_sOpXptmEcBDI4IX9Gfz9-2a6his/edit#gid=0\"\",\"\"RWA!F:BZ\"\"),44,0))\"),\"\")","v":""},{"$f":"IFERROR(__xludf.DUMMYFUNCTION(\"iferror(VLOOKUP(B548,IMPORTRANGE(\"\"https://docs.google.com/spreadsheets/d/1-zcOrI_PgX9R0t6_sOpXptmEcBDI4IX9Gfz9-2a6his/edit#gid=0\"\",\"\"RWA!F:BZ\"\"),48,0))\"),\"\")","v":""},{"$f":"IFERROR(__xludf.DUMMYFUNCTION(\"iferror(VLOOKUP(B548,IMPORTRANGE(\"\"https://docs.google.com/spreadsheets/d/1-zcOrI_PgX9R0t6_sOpXptmEcBDI4IX9Gfz9-2a6his/edit#gid=0\"\",\"\"RWA!F:BZ\"\"),49,0))\"),\"\")","v":""}]
[{"$nulls":4},{"$f":"IFERROR(__xludf.DUMMYFUNCTION(\"iferror(VLOOKUP(B549,IMPORTRANGE(\"\"https://docs.google.com/spreadsheets/d/1-zcOrI_PgX9R0t6_sOpXptmEcBDI4IX9Gfz9-2a6his/edit#gid=0\"\",\"\"RWA!F:BZ\"\"),44,0))\"),\"\")","v":""},{"$f":"IFERROR(__xludf.DUMMYFUNCTION(\"iferror(VLOOKUP(B549,IMPORTRANGE(\"\"https://docs.google.com/spreadsheets/d/1-zcOrI_PgX9R0t6_sOpXptmEcBDI4IX9Gfz9-2a6his/edit#gid=0\"\",\"\"RWA!F:BZ\"\"),48,0))\"),\"\")","v":""},{"$f":"IFERROR(__xludf.DUMMYFUNCTION(\"iferror(VLOOKUP(B549,IMPORTRANGE(\"\"https://docs.google.com/spreadsheets/d/1-zcOrI_PgX9R0t6_sOpXptmEcBDI4IX9Gfz9-2a6his/edit#gid=0\"\",\"\"RWA!F:BZ\"\"),49,0))\"),\"\")","v":""}]
[{"$nulls":4},{"$f":"IFERROR(__xludf.DUMMYFUNCTION(\"iferror(VLOOKUP(B550,IMPORTRANGE(\"\"https://docs.google.com/spreadsheets/d/1-zcOrI_PgX9R0t6_sOpXptmEcBDI4IX9Gfz9-2a6his/edit#gid=0\"\",\"\"RWA!F:BZ\"\"),44,0))\"),\"\")","v":""},{"$f":"IFERROR(__xludf.DUMMYFUNCTION(\"iferror(VLOOKUP(B550,IMPORTRANGE(\"\"https://docs.google.com/spreadsheets/d/1-zcOrI_PgX9R0t6_sOpXptmEcBDI4IX9Gfz9-2a6his/edit#gid=0\"\",\"\"RWA!F:BZ\"\"),48,0))\"),\"\")","v":""},{"$f":"IFERROR(__xludf.DUMMYFUNCTION(\"iferror(VLOOKUP(B550,IMPORTRANGE(\"\"https://docs.google.com/spreadsheets/d/1-zcOrI_PgX9R0t6_sOpXptmEcBDI4IX9Gfz9-2a6his/edit#gid=0\"\",\"\"RWA!F:BZ\"\"),49,0))\"),\"\")","v":""}]
[{"$nulls":4},{"$f":"IFERROR(__xludf.DUMMYFUNCTION(\"iferror(VLOOKUP(B551,IMPORTRANGE(\"\"https://docs.google.com/spreadsheets/d/1-zcOrI_PgX9R0t6_sOpXptmEcBDI4IX9Gfz9-2a6his/edit#gid=0\"\",\"\"RWA!F:BZ\"\"),44,0))\"),\"\")","v":""},{"$f":"IFERROR(__xludf.DUMMYFUNCTION(\"iferror(VLOOKUP(B551,IMPORTRANGE(\"\"https://docs.google.com/spreadsheets/d/1-zcOrI_PgX9R0t6_sOpXptmEcBDI4IX9Gfz9-2a6his/edit#gid=0\"\",\"\"RWA!F:BZ\"\"),48,0))\"),\"\")","v":""},{"$f":"IFERROR(__xludf.DUMMYFUNCTION(\"iferror(VLOOKUP(B551,IMPORTRANGE(\"\"https://docs.google.com/spreadsheets/d/1-zcOrI_PgX9R0t6_sOpXptmEcBDI4IX9Gfz9-2a6his/edit#gid=0\"\",\"\"RWA!F:BZ\"\"),49,0))\"),\"\")","v":""}]
[{"$nulls":4},{"$f":"IFERROR(__xludf.DUMMYFUNCTION(\"iferror(VLOOKUP(B552,IMPORTRANGE(\"\"https://docs.google.com/spreadsheets/d/1-zcOrI_PgX9R0t6_sOpXptmEcBDI4IX9Gfz9-2a6his/edit#gid=0\"\",\"\"RWA!F:BZ\"\"),44,0))\"),\"\")","v":""},{"$f":"IFERROR(__xludf.DUMMYFUNCTION(\"iferror(VLOOKUP(B552,IMPORTRANGE(\"\"https://docs.google.com/spreadsheets/d/1-zcOrI_PgX9R0t6_sOpXptmEcBDI4IX9Gfz9-2a6his/edit#gid=0\"\",\"\"RWA!F:BZ\"\"),48,0))\"),\"\")","v":""},{"$f":"IFERROR(__xludf.DUMMYFUNCTION(\"iferror(VLOOKUP(B552,IMPORTRANGE(\"\"https://docs.google.com/spreadsheets/d/1-zcOrI_PgX9R0t6_sOpXptmEcBDI4IX9Gfz9-2a6his/edit#gid=0\"\",\"\"RWA!F:BZ\"\"),49,0))\"),\"\")","v":""}]
[{"$nulls":4},{"$f":"IFERROR(__xludf.DUMMYFUNCTION(\"iferror(VLOOKUP(B553,IMPORTRANGE(\"\"https://docs.google.com/spreadsheets/d/1-zcOrI_PgX9R0t6_sOpXptmEcBDI4IX9Gfz9-2a6his/edit#gid=0\"\",\"\"RWA!F:BZ\"\"),44,0))\"),\"\")","v":""},{"$f":"IFERROR(__xludf.DUMMYFUNCTION(\"iferror(VLOOKUP(B553,IMPORTRANGE(\"\"https://docs.google.com/spreadsheets/d/1-zcOrI_PgX9R0t6_sOpXptmEcBDI4IX9Gfz9-2a6his/edit#gid=0\"\",\"\"RWA!F:BZ\"\"),48,0))\"),\"\")","v":""},{"$f":"IFERROR(__xludf.DUMMYFUNCTION(\"iferror(VLOOKUP(B553,IMPORTRANGE(\"\"https://docs.google.com/spreadsheets/d/1-zcOrI_PgX9R0t6_sOpXptmEcBDI4IX9Gfz9-2a6his/edit#gid=0\"\",\"\"RWA!F:BZ\"\"),49,0))\"),\"\")","v":""}]
[{"$nulls":4},{"$f":"IFERROR(__xludf.DUMMYFUNCTION(\"iferror(VLOOKUP(B554,IMPORTRANGE(\"\"https://docs.google.com/spreadsheets/d/1-zcOrI_PgX9R0t6_sOpXptmEcBDI4IX9Gfz9-2a6his/edit#gid=0\"\",\"\"RWA!F:BZ\"\"),44,0))\"),\"\")","v":""},{"$f":"IFERROR(__xludf.DUMMYFUNCTION(\"iferror(VLOOKUP(B554,IMPORTRANGE(\"\"https://docs.google.com/spreadsheets/d/1-zcOrI_PgX9R0t6_sOpXptmEcBDI4IX9Gfz9-2a6his/edit#gid=0\"\",\"\"RWA!F:BZ\"\"),48,0))\"),\"\")","v":""},{"$f":"IFERROR(__xludf.DUMMYFUNCTION(\"iferror(VLOOKUP(B554,IMPORTRANGE(\"\"https://docs.google.com/spreadsheets/d/1-zcOrI_PgX9R0t6_sOpXptmEcBDI4IX9Gfz9-2a6his/edit#gid=0\"\",\"\"RWA!F:BZ\"\"),49,0))\"),\"\")","v":""}]
[{"$nulls":4},{"$f":"IFERROR(__xludf.DUMMYFUNCTION(\"iferror(VLOOKUP(B555,IMPORTRANGE(\"\"https://docs.google.com/spreadsheets/d/1-zcOrI_PgX9R0t6_sOpXptmEcBDI4IX9Gfz9-2a6his/edit#gid=0\"\",\"\"RWA!F:BZ\"\"),44,0))\"),\"\")","v":""},{"$f":"IFERROR(__xludf.DUMMYFUNCTION(\"iferror(VLOOKUP(B555,IMPORTRANGE(\"\"https://docs.google.com/spreadsheets/d/1-zcOrI_PgX9R0t6_sOpXptmEcBDI4IX9Gfz9-2a6his/edit#gid=0\"\",\"\"RWA!F:BZ\"\"),48,0))\"),\"\")","v":""},{"$f":"IFERROR(__xludf.DUMMYFUNCTION(\"iferror(VLOOKUP(B555,IMPORTRANGE(\"\"https://docs.google.com/spreadsheets/d/1-zcOrI_PgX9R0t6_sOpXptmEcBDI4IX9Gfz9-2a6his/edit#gid=0\"\",\"\"RWA!F:BZ\"\"),49,0))\"),\"\")","v":""}]
[{"$nulls":4},{"$f":"IFERROR(__xludf.DUMMYFUNCTION(\"iferror(VLOOKUP(B556,IMPORTRANGE(\"\"https://docs.google.com/spreadsheets/d/1-zcOrI_PgX9R0t6_sOpXptmEcBDI4IX9Gfz9-2a6his/edit#gid=0\"\",\"\"RWA!F:BZ\"\"),44,0))\"),\"\")","v":""},{"$f":"IFERROR(__xludf.DUMMYFUNCTION(\"iferror(VLOOKUP(B556,IMPORTRANGE(\"\"https://docs.google.com/spreadsheets/d/1-zcOrI_PgX9R0t6_sOpXptmEcBDI4IX9Gfz9-2a6his/edit#gid=0\"\",\"\"RWA!F:BZ\"\"),48,0))\"),\"\")","v":""},{"$f":"IFERROR(__xludf.DUMMYFUNCTION(\"iferror(VLOOKUP(B556,IMPORTRANGE(\"\"https://docs.google.com/spreadsheets/d/1-zcOrI_PgX9R0t6_sOpXptmEcBDI4IX9Gfz9-2a6his/edit#gid=0\"\",\"\"RWA!F:BZ\"\"),49,0))\"),\"\")","v":""}]
[{"$nulls":4},{"$f":"IFERROR(__xludf.DUMMYFUNCTION(\"iferror(VLOOKUP(B557,IMPORTRANGE(\"\"https://docs.google.com/spreadsheets/d/1-zcOrI_PgX9R0t6_sOpXptmEcBDI4IX9Gfz9-2a6his/edit#gid=0\"\",\"\"RWA!F:BZ\"\"),44,0))\"),\"\")","v":""},{"$f":"IFERROR(__xludf.DUMMYFUNCTION(\"iferror(VLOOKUP(B557,IMPORTRANGE(\"\"https://docs.google.com/spreadsheets/d/1-zcOrI_PgX9R0t6_sOpXptmEcBDI4IX9Gfz9-2a6his/edit#gid=0\"\",\"\"RWA!F:BZ\"\"),48,0))\"),\"\")","v":""},{"$f":"IFERROR(__xludf.DUMMYFUNCTION(\"iferror(VLOOKUP(B557,IMPORTRANGE(\"\"https://docs.google.com/spreadsheets/d/1-zcOrI_PgX9R0t6_sOpXptmEcBDI4IX9Gfz9-2a6his/edit#gid=0\"\",\"\"RWA!F:BZ\"\"),49,0))\"),\"\")","v":""}]
[{"$nulls":4},{"$f":"IFERROR(__xludf.DUMMYFUNCTION(\"iferror(VLOOKUP(B558,IMPORTRANGE(\"\"https://docs.google.com/spreadsheets/d/1-zcOrI_PgX9R0t6_sOpXptmEcBDI4IX9Gfz9-2a6his/edit#gid=0\"\",\"\"RWA!F:BZ\"\"),44,0))\"),\"\")","v":""},{"$f":"IFERROR(__xludf.DUMMYFUNCTION(\"iferror(VLOOKUP(B558,IMPORTRANGE(\"\"https://docs.google.com/spreadsheets/d/1-zcOrI_PgX9R0t6_sOpXptmEcBDI4IX9Gfz9-2a6his/edit#gid=0\"\",\"\"RWA!F:BZ\"\"),48,0))\"),\"\")","v":""},{"$f":"IFERROR(__xludf.DUMMYFUNCTION(\"iferror(VLOOKUP(B558,IMPORTRANGE(\"\"https://docs.google.com/spreadsheets/d/1-zcOrI_PgX9R0t6_sOpXptmEcBDI4IX9Gfz9-2a6his/edit#gid=0\"\",\"\"RWA!F:BZ\"\"),49,0))\"),\"\")","v":""}]
[{"$nulls":4},{"$f":"IFERROR(__xludf.DUMMYFUNCTION(\"iferror(VLOOKUP(B559,IMPORTRANGE(\"\"https://docs.google.com/spreadsheets/d/1-zcOrI_PgX9R0t6_sOpXptmEcBDI4IX9Gfz9-2a6his/edit#gid=0\"\",\"\"RWA!F:BZ\"\"),44,0))\"),\"\")","v":""},{"$f":"IFERROR(__xludf.DUMMYFUNCTION(\"iferror(VLOOKUP(B559,IMPORTRANGE(\"\"https://docs.google.com/spreadsheets/d/1-zcOrI_PgX9R0t6_sOpXptmEcBDI4IX9Gfz9-2a6his/edit#gid=0\"\",\"\"RWA!F:BZ\"\"),48,0))\"),\"\")","v":""},{"$f":"IFERROR(__xludf.DUMMYFUNCTION(\"iferror(VLOOKUP(B559,IMPORTRANGE(\"\"https://docs.google.com/spreadsheets/d/1-zcOrI_PgX9R0t6_sOpXptmEcBDI4IX9Gfz9-2a6his/edit#gid=0\"\",\"\"RWA!F:BZ\"\"),49,0))\"),\"\")","v":""}]
[{"$nulls":4},{"$f":"IFERROR(__xludf.DUMMYFUNCTION(\"iferror(VLOOKUP(B560,IMPORTRANGE(\"\"https://docs.google.com/spreadsheets/d/1-zcOrI_PgX9R0t6_sOpXptmEcBDI4IX9Gfz9-2a6his/edit#gid=0\"\",\"\"RWA!F:BZ\"\"),44,0))\"),\"\")","v":""},{"$f":"IFERROR(__xludf.DUMMYFUNCTION(\"iferror(VLOOKUP(B560,IMPORTRANGE(\"\"https://docs.google.com/spreadsheets/d/1-zcOrI_PgX9R0t6_sOpXptmEcBDI4IX9Gfz9-2a6his/edit#gid=0\"\",\"\"RWA!F:BZ\"\"),48,0))\"),\"\")","v":""},{"$f":"IFERROR(__xludf.DUMMYFUNCTION(\"iferror(VLOOKUP(B560,IMPORTRANGE(\"\"https://docs.google.com/spreadsheets/d/1-zcOrI_PgX9R0t6_sOpXptmEcBDI4IX9Gfz9-2a6his/edit#gid=0\"\",\"\"RWA!F:BZ\"\"),49,0))\"),\"\")","v":""}]
[{"$nulls":4},{"$f":"IFERROR(__xludf.DUMMYFUNCTION(\"iferror(VLOOKUP(B561,IMPORTRANGE(\"\"https://docs.google.com/spreadsheets/d/1-zcOrI_PgX9R0t6_sOpXptmEcBDI4IX9Gfz9-2a6his/edit#gid=0\"\",\"\"RWA!F:BZ\"\"),44,0))\"),\"\")","v":""},{"$f":"IFERROR(__xludf.DUMMYFUNCTION(\"iferror(VLOOKUP(B561,IMPORTRANGE(\"\"https://docs.google.com/spreadsheets/d/1-zcOrI_PgX9R0t6_sOpXptmEcBDI4IX9Gfz9-2a6his/edit#gid=0\"\",\"\"RWA!F:BZ\"\"),48,0))\"),\"\")","v":""},{"$f":"IFERROR(__xludf.DUMMYFUNCTION(\"iferror(VLOOKUP(B561,IMPORTRANGE(\"\"https://docs.google.com/spreadsheets/d/1-zcOrI_PgX9R0t6_sOpXptmEcBDI4IX9Gfz9-2a6his/edit#gid=0\"\",\"\"RWA!F:BZ\"\"),49,0))\"),\"\")","v":""}]
[{"$nulls":4},{"$f":"IFERROR(__xludf.DUMMYFUNCTION(\"iferror(VLOOKUP(B562,IMPORTRANGE(\"\"https://docs.google.com/spreadsheets/d/1-zcOrI_PgX9R0t6_sOpXptmEcBDI4IX9Gfz9-2a6his/edit#gid=0\"\",\"\"RWA!F:BZ\"\"),44,0))\"),\"\")","v":""},{"$f":"IFERROR(__xludf.DUMMYFUNCTION(\"iferror(VLOOKUP(B562,IMPORTRANGE(\"\"https://docs.google.com/spreadsheets/d/1-zcOrI_PgX9R0t6_sOpXptmEcBDI4IX9Gfz9-2a6his/edit#gid=0\"\",\"\"RWA!F:BZ\"\"),48,0))\"),\"\")","v":""},{"$f":"IFERROR(__xludf.DUMMYFUNCTION(\"iferror(VLOOKUP(B562,IMPORTRANGE(\"\"https://docs.google.com/spreadsheets/d/1-zcOrI_PgX9R0t6_sOpXptmEcBDI4IX9Gfz9-2a6his/edit#gid=0\"\",\"\"RWA!F:BZ\"\"),49,0))\"),\"\")","v":""}]
[{"$nulls":4},{"$f":"IFERROR(__xludf.DUMMYFUNCTION(\"iferror(VLOOKUP(B563,IMPORTRANGE(\"\"https://docs.google.com/spreadsheets/d/1-zcOrI_PgX9R0t6_sOpXptmEcBDI4IX9Gfz9-2a6his/edit#gid=0\"\",\"\"RWA!F:BZ\"\"),44,0))\"),\"\")","v":""},{"$f":"IFERROR(__xludf.DUMMYFUNCTION(\"iferror(VLOOKUP(B563,IMPORTRANGE(\"\"https://docs.google.com/spreadsheets/d/1-zcOrI_PgX9R0t6_sOpXptmEcBDI4IX9Gfz9-2a6his/edit#gid=0\"\",\"\"RWA!F:BZ\"\"),48,0))\"),\"\")","v":""},{"$f":"IFERROR(__xludf.DUMMYFUNCTION(\"iferror(VLOOKUP(B563,IMPORTRANGE(\"\"https://docs.google.com/spreadsheets/d/1-zcOrI_PgX9R0t6_sOpXptmEcBDI4IX9Gfz9-2a6his/edit#gid=0\"\",\"\"RWA!F:BZ\"\"),49,0))\"),\"\")","v":""}]
[{"$nulls":4},{"$f":"IFERROR(__xludf.DUMMYFUNCTION(\"iferror(VLOOKUP(B564,IMPORTRANGE(\"\"https://docs.google.com/spreadsheets/d/1-zcOrI_PgX9R0t6_sOpXptmEcBDI4IX9Gfz9-2a6his/edit#gid=0\"\",\"\"RWA!F:BZ\"\"),44,0))\"),\"\")","v":""},{"$f":"IFERROR(__xludf.DUMMYFUNCTION(\"iferror(VLOOKUP(B564,IMPORTRANGE(\"\"https://docs.google.com/spreadsheets/d/1-zcOrI_PgX9R0t6_sOpXptmEcBDI4IX9Gfz9-2a6his/edit#gid=0\"\",\"\"RWA!F:BZ\"\"),48,0))\"),\"\")","v":""},{"$f":"IFERROR(__xludf.DUMMYFUNCTION(\"iferror(VLOOKUP(B564,IMPORTRANGE(\"\"https://docs.google.com/spreadsheets/d/1-zcOrI_PgX9R0t6_sOpXptmEcBDI4IX9Gfz9-2a6his/edit#gid=0\"\",\"\"RWA!F:BZ\"\"),49,0))\"),\"\")","v":""}]
[{"$nulls":4},{"$f":"IFERROR(__xludf.DUMMYFUNCTION(\"iferror(VLOOKUP(B565,IMPORTRANGE(\"\"https://docs.google.com/spreadsheets/d/1-zcOrI_PgX9R0t6_sOpXptmEcBDI4IX9Gfz9-2a6his/edit#gid=0\"\",\"\"RWA!F:BZ\"\"),44,0))\"),\"\")","v":""},{"$f":"IFERROR(__xludf.DUMMYFUNCTION(\"iferror(VLOOKUP(B565,IMPORTRANGE(\"\"https://docs.google.com/spreadsheets/d/1-zcOrI_PgX9R0t6_sOpXptmEcBDI4IX9Gfz9-2a6his/edit#gid=0\"\",\"\"RWA!F:BZ\"\"),48,0))\"),\"\")","v":""},{"$f":"IFERROR(__xludf.DUMMYFUNCTION(\"iferror(VLOOKUP(B565,IMPORTRANGE(\"\"https://docs.google.com/spreadsheets/d/1-zcOrI_PgX9R0t6_sOpXptmEcBDI4IX9Gfz9-2a6his/edit#gid=0\"\",\"\"RWA!F:BZ\"\"),49,0))\"),\"\")","v":""}]
[{"$nulls":4},{"$f":"IFERROR(__xludf.DUMMYFUNCTION(\"iferror(VLOOKUP(B566,IMPORTRANGE(\"\"https://docs.google.com/spreadsheets/d/1-zcOrI_PgX9R0t6_sOpXptmEcBDI4IX9Gfz9-2a6his/edit#gid=0\"\",\"\"RWA!F:BZ\"\"),44,0))\"),\"\")","v":""},{"$f":"IFERROR(__xludf.DUMMYFUNCTION(\"iferror(VLOOKUP(B566,IMPORTRANGE(\"\"https://docs.google.com/spreadsheets/d/1-zcOrI_PgX9R0t6_sOpXptmEcBDI4IX9Gfz9-2a6his/edit#gid=0\"\",\"\"RWA!F:BZ\"\"),48,0))\"),\"\")","v":""},{"$f":"IFERROR(__xludf.DUMMYFUNCTION(\"iferror(VLOOKUP(B566,IMPORTRANGE(\"\"https://docs.google.com/spreadsheets/d/1-zcOrI_PgX9R0t6_sOpXptmEcBDI4IX9Gfz9-2a6his/edit#gid=0\"\",\"\"RWA!F:BZ\"\"),49,0))\"),\"\")","v":""}]
[{"$nulls":4},{"$f":"IFERROR(__xludf.DUMMYFUNCTION(\"iferror(VLOOKUP(B567,IMPORTRANGE(\"\"https://docs.google.com/spreadsheets/d/1-zcOrI_PgX9R0t6_sOpXptmEcBDI4IX9Gfz9-2a6his/edit#gid=0\"\",\"\"RWA!F:BZ\"\"),44,0))\"),\"\")","v":""},{"$f":"IFERROR(__xludf.DUMMYFUNCTION(\"iferror(VLOOKUP(B567,IMPORTRANGE(\"\"https://docs.google.com/spreadsheets/d/1-zcOrI_PgX9R0t6_sOpXptmEcBDI4IX9Gfz9-2a6his/edit#gid=0\"\",\"\"RWA!F:BZ\"\"),48,0))\"),\"\")","v":""},{"$f":"IFERROR(__xludf.DUMMYFUNCTION(\"iferror(VLOOKUP(B567,IMPORTRANGE(\"\"https://docs.google.com/spreadsheets/d/1-zcOrI_PgX9R0t6_sOpXptmEcBDI4IX9Gfz9-2a6his/edit#gid=0\"\",\"\"RWA!F:BZ\"\"),49,0))\"),\"\")","v":""}]
[{"$nulls":4},{"$f":"IFERROR(__xludf.DUMMYFUNCTION(\"iferror(VLOOKUP(B568,IMPORTRANGE(\"\"https://docs.google.com/spreadsheets/d/1-zcOrI_PgX9R0t6_sOpXptmEcBDI4IX9Gfz9-2a6his/edit#gid=0\"\",\"\"RWA!F:BZ\"\"),44,0))\"),\"\")","v":""},{"$f":"IFERROR(__xludf.DUMMYFUNCTION(\"iferror(VLOOKUP(B568,IMPORTRANGE(\"\"https://docs.google.com/spreadsheets/d/1-zcOrI_PgX9R0t6_sOpXptmEcBDI4IX9Gfz9-2a6his/edit#gid=0\"\",\"\"RWA!F:BZ\"\"),48,0))\"),\"\")","v":""},{"$f":"IFERROR(__xludf.DUMMYFUNCTION(\"iferror(VLOOKUP(B568,IMPORTRANGE(\"\"https://docs.google.com/spreadsheets/d/1-zcOrI_PgX9R0t6_sOpXptmEcBDI4IX9Gfz9-2a6his/edit#gid=0\"\",\"\"RWA!F:BZ\"\"),49,0))\"),\"\")","v":""}]
[{"$nulls":4},{"$f":"IFERROR(__xludf.DUMMYFUNCTION(\"iferror(VLOOKUP(B569,IMPORTRANGE(\"\"https://docs.google.com/spreadsheets/d/1-zcOrI_PgX9R0t6_sOpXptmEcBDI4IX9Gfz9-2a6his/edit#gid=0\"\",\"\"RWA!F:BZ\"\"),44,0))\"),\"\")","v":""},{"$f":"IFERROR(__xludf.DUMMYFUNCTION(\"iferror(VLOOKUP(B569,IMPORTRANGE(\"\"https://docs.google.com/spreadsheets/d/1-zcOrI_PgX9R0t6_sOpXptmEcBDI4IX9Gfz9-2a6his/edit#gid=0\"\",\"\"RWA!F:BZ\"\"),48,0))\"),\"\")","v":""},{"$f":"IFERROR(__xludf.DUMMYFUNCTION(\"iferror(VLOOKUP(B569,IMPORTRANGE(\"\"https://docs.google.com/spreadsheets/d/1-zcOrI_PgX9R0t6_sOpXptmEcBDI4IX9Gfz9-2a6his/edit#gid=0\"\",\"\"RWA!F:BZ\"\"),49,0))\"),\"\")","v":""}]
[{"$nulls":4},{"$f":"IFERROR(__xludf.DUMMYFUNCTION(\"iferror(VLOOKUP(B570,IMPORTRANGE(\"\"https://docs.google.com/spreadsheets/d/1-zcOrI_PgX9R0t6_sOpXptmEcBDI4IX9Gfz9-2a6his/edit#gid=0\"\",\"\"RWA!F:BZ\"\"),44,0))\"),\"\")","v":""},{"$f":"IFERROR(__xludf.DUMMYFUNCTION(\"iferror(VLOOKUP(B570,IMPORTRANGE(\"\"https://docs.google.com/spreadsheets/d/1-zcOrI_PgX9R0t6_sOpXptmEcBDI4IX9Gfz9-2a6his/edit#gid=0\"\",\"\"RWA!F:BZ\"\"),48,0))\"),\"\")","v":""},{"$f":"IFERROR(__xludf.DUMMYFUNCTION(\"iferror(VLOOKUP(B570,IMPORTRANGE(\"\"https://docs.google.com/spreadsheets/d/1-zcOrI_PgX9R0t6_sOpXptmEcBDI4IX9Gfz9-2a6his/edit#gid=0\"\",\"\"RWA!F:BZ\"\"),49,0))\"),\"\")","v":""}]
[{"$nulls":4},{"$f":"IFERROR(__xludf.DUMMYFUNCTION(\"iferror(VLOOKUP(B571,IMPORTRANGE(\"\"https://docs.google.com/spreadsheets/d/1-zcOrI_PgX9R0t6_sOpXptmEcBDI4IX9Gfz9-2a6his/edit#gid=0\"\",\"\"RWA!F:BZ\"\"),44,0))\"),\"\")","v":""},{"$f":"IFERROR(__xludf.DUMMYFUNCTION(\"iferror(VLOOKUP(B571,IMPORTRANGE(\"\"https://docs.google.com/spreadsheets/d/1-zcOrI_PgX9R0t6_sOpXptmEcBDI4IX9Gfz9-2a6his/edit#gid=0\"\",\"\"RWA!F:BZ\"\"),48,0))\"),\"\")","v":""},{"$f":"IFERROR(__xludf.DUMMYFUNCTION(\"iferror(VLOOKUP(B571,IMPORTRANGE(\"\"https://docs.google.com/spreadsheets/d/1-zcOrI_PgX9R0t6_sOpXptmEcBDI4IX9Gfz9-2a6his/edit#gid=0\"\",\"\"RWA!F:BZ\"\"),49,0))\"),\"\")","v":""}]
[{"$nulls":4},{"$f":"IFERROR(__xludf.DUMMYFUNCTION(\"iferror(VLOOKUP(B572,IMPORTRANGE(\"\"https://docs.google.com/spreadsheets/d/1-zcOrI_PgX9R0t6_sOpXptmEcBDI4IX9Gfz9-2a6his/edit#gid=0\"\",\"\"RWA!F:BZ\"\"),44,0))\"),\"\")","v":""},{"$f":"IFERROR(__xludf.DUMMYFUNCTION(\"iferror(VLOOKUP(B572,IMPORTRANGE(\"\"https://docs.google.com/spreadsheets/d/1-zcOrI_PgX9R0t6_sOpXptmEcBDI4IX9Gfz9-2a6his/edit#gid=0\"\",\"\"RWA!F:BZ\"\"),48,0))\"),\"\")","v":""},{"$f":"IFERROR(__xludf.DUMMYFUNCTION(\"iferror(VLOOKUP(B572,IMPORTRANGE(\"\"https://docs.google.com/spreadsheets/d/1-zcOrI_PgX9R0t6_sOpXptmEcBDI4IX9Gfz9-2a6his/edit#gid=0\"\",\"\"RWA!F:BZ\"\"),49,0))\"),\"\")","v":""}]
[{"$nulls":4},{"$f":"IFERROR(__xludf.DUMMYFUNCTION(\"iferror(VLOOKUP(B573,IMPORTRANGE(\"\"https://docs.google.com/spreadsheets/d/1-zcOrI_PgX9R0t6_sOpXptmEcBDI4IX9Gfz9-2a6his/edit#gid=0\"\",\"\"RWA!F:BZ\"\"),44,0))\"),\"\")","v":""},{"$f":"IFERROR(__xludf.DUMMYFUNCTION(\"iferror(VLOOKUP(B573,IMPORTRANGE(\"\"https://docs.google.com/spreadsheets/d/1-zcOrI_PgX9R0t6_sOpXptmEcBDI4IX9Gfz9-2a6his/edit#gid=0\"\",\"\"RWA!F:BZ\"\"),48,0))\"),\"\")","v":""},{"$f":"IFERROR(__xludf.DUMMYFUNCTION(\"iferror(VLOOKUP(B573,IMPORTRANGE(\"\"https://docs.google.com/spreadsheets/d/1-zcOrI_PgX9R0t6_sOpXptmEcBDI4IX9Gfz9-2a6his/edit#gid=0\"\",\"\"RWA!F:BZ\"\"),49,0))\"),\"\")","v":""}]
[{"$nulls":4},{"$f":"IFERROR(__xludf.DUMMYFUNCTION(\"iferror(VLOOKUP(B574,IMPORTRANGE(\"\"https://docs.google.com/spreadsheets/d/1-zcOrI_PgX9R0t6_sOpXptmEcBDI4IX9Gfz9-2a6his/edit#gid=0\"\",\"\"RWA!F:BZ\"\"),44,0))\"),\"\")","v":""},{"$f":"IFERROR(__xludf.DUMMYFUNCTION(\"iferror(VLOOKUP(B574,IMPORTRANGE(\"\"https://docs.google.com/spreadsheets/d/1-zcOrI_PgX9R0t6_sOpXptmEcBDI4IX9Gfz9-2a6his/edit#gid=0\"\",\"\"RWA!F:BZ\"\"),48,0))\"),\"\")","v":""},{"$f":"IFERROR(__xludf.DUMMYFUNCTION(\"iferror(VLOOKUP(B574,IMPORTRANGE(\"\"https://docs.google.com/spreadsheets/d/1-zcOrI_PgX9R0t6_sOpXptmEcBDI4IX9Gfz9-2a6his/edit#gid=0\"\",\"\"RWA!F:BZ\"\"),49,0))\"),\"\")","v":""}]
[{"$nulls":4},{"$f":"IFERROR(__xludf.DUMMYFUNCTION(\"iferror(VLOOKUP(B575,IMPORTRANGE(\"\"https://docs.google.com/spreadsheets/d/1-zcOrI_PgX9R0t6_sOpXptmEcBDI4IX9Gfz9-2a6his/edit#gid=0\"\",\"\"RWA!F:BZ\"\"),44,0))\"),\"\")","v":""},{"$f":"IFERROR(__xludf.DUMMYFUNCTION(\"iferror(VLOOKUP(B575,IMPORTRANGE(\"\"https://docs.google.com/spreadsheets/d/1-zcOrI_PgX9R0t6_sOpXptmEcBDI4IX9Gfz9-2a6his/edit#gid=0\"\",\"\"RWA!F:BZ\"\"),48,0))\"),\"\")","v":""},{"$f":"IFERROR(__xludf.DUMMYFUNCTION(\"iferror(VLOOKUP(B575,IMPORTRANGE(\"\"https://docs.google.com/spreadsheets/d/1-zcOrI_PgX9R0t6_sOpXptmEcBDI4IX9Gfz9-2a6his/edit#gid=0\"\",\"\"RWA!F:BZ\"\"),49,0))\"),\"\")","v":""}]
[{"$nulls":4},{"$f":"IFERROR(__xludf.DUMMYFUNCTION(\"iferror(VLOOKUP(B576,IMPORTRANGE(\"\"https://docs.google.com/spreadsheets/d/1-zcOrI_PgX9R0t6_sOpXptmEcBDI4IX9Gfz9-2a6his/edit#gid=0\"\",\"\"RWA!F:BZ\"\"),44,0))\"),\"\")","v":""},{"$f":"IFERROR(__xludf.DUMMYFUNCTION(\"iferror(VLOOKUP(B576,IMPORTRANGE(\"\"https://docs.google.com/spreadsheets/d/1-zcOrI_PgX9R0t6_sOpXptmEcBDI4IX9Gfz9-2a6his/edit#gid=0\"\",\"\"RWA!F:BZ\"\"),48,0))\"),\"\")","v":""},{"$f":"IFERROR(__xludf.DUMMYFUNCTION(\"iferror(VLOOKUP(B576,IMPORTRANGE(\"\"https://docs.google.com/spreadsheets/d/1-zcOrI_PgX9R0t6_sOpXptmEcBDI4IX9Gfz9-2a6his/edit#gid=0\"\",\"\"RWA!F:BZ\"\"),49,0))\"),\"\")","v":""}]
[{"$nulls":4},{"$f":"IFERROR(__xludf.DUMMYFUNCTION(\"iferror(VLOOKUP(B577,IMPORTRANGE(\"\"https://docs.google.com/spreadsheets/d/1-zcOrI_PgX9R0t6_sOpXptmEcBDI4IX9Gfz9-2a6his/edit#gid=0\"\",\"\"RWA!F:BZ\"\"),44,0))\"),\"\")","v":""},{"$f":"IFERROR(__xludf.DUMMYFUNCTION(\"iferror(VLOOKUP(B577,IMPORTRANGE(\"\"https://docs.google.com/spreadsheets/d/1-zcOrI_PgX9R0t6_sOpXptmEcBDI4IX9Gfz9-2a6his/edit#gid=0\"\",\"\"RWA!F:BZ\"\"),48,0))\"),\"\")","v":""},{"$f":"IFERROR(__xludf.DUMMYFUNCTION(\"iferror(VLOOKUP(B577,IMPORTRANGE(\"\"https://docs.google.com/spreadsheets/d/1-zcOrI_PgX9R0t6_sOpXptmEcBDI4IX9Gfz9-2a6his/edit#gid=0\"\",\"\"RWA!F:BZ\"\"),49,0))\"),\"\")","v":""}]
[{"$nulls":4},{"$f":"IFERROR(__xludf.DUMMYFUNCTION(\"iferror(VLOOKUP(B578,IMPORTRANGE(\"\"https://docs.google.com/spreadsheets/d/1-zcOrI_PgX9R0t6_sOpXptmEcBDI4IX9Gfz9-2a6his/edit#gid=0\"\",\"\"RWA!F:BZ\"\"),44,0))\"),\"\")","v":""},{"$f":"IFERROR(__xludf.DUMMYFUNCTION(\"iferror(VLOOKUP(B578,IMPORTRANGE(\"\"https://docs.google.com/spreadsheets/d/1-zcOrI_PgX9R0t6_sOpXptmEcBDI4IX9Gfz9-2a6his/edit#gid=0\"\",\"\"RWA!F:BZ\"\"),48,0))\"),\"\")","v":""},{"$f":"IFERROR(__xludf.DUMMYFUNCTION(\"iferror(VLOOKUP(B578,IMPORTRANGE(\"\"https://docs.google.com/spreadsheets/d/1-zcOrI_PgX9R0t6_sOpXptmEcBDI4IX9Gfz9-2a6his/edit#gid=0\"\",\"\"RWA!F:BZ\"\"),49,0))\"),\"\")","v":""}]
[{"$nulls":4},{"$f":"IFERROR(__xludf.DUMMYFUNCTION(\"iferror(VLOOKUP(B579,IMPORTRANGE(\"\"https://docs.google.com/spreadsheets/d/1-zcOrI_PgX9R0t6_sOpXptmEcBDI4IX9Gfz9-2a6his/edit#gid=0\"\",\"\"RWA!F:BZ\"\"),44,0))\"),\"\")","v":""},{"$f":"IFERROR(__xludf.DUMMYFUNCTION(\"iferror(VLOOKUP(B579,IMPORTRANGE(\"\"https://docs.google.com/spreadsheets/d/1-zcOrI_PgX9R0t6_sOpXptmEcBDI4IX9Gfz9-2a6his/edit#gid=0\"\",\"\"RWA!F:BZ\"\"),48,0))\"),\"\")","v":""},{"$f":"IFERROR(__xludf.DUMMYFUNCTION(\"iferror(VLOOKUP(B579,IMPORTRANGE(\"\"https://docs.google.com/spreadsheets/d/1-zcOrI_PgX9R0t6_sOpXptmEcBDI4IX9Gfz9-2a6his/edit#gid=0\"\",\"\"RWA!F:BZ\"\"),49,0))\"),\"\")","v":""}]
[{"$nulls":4},{"$f":"IFERROR(__xludf.DUMMYFUNCTION(\"iferror(VLOOKUP(B580,IMPORTRANGE(\"\"https://docs.google.com/spreadsheets/d/1-zcOrI_PgX9R0t6_sOpXptmEcBDI4IX9Gfz9-2a6his/edit#gid=0\"\",\"\"RWA!F:BZ\"\"),44,0))\"),\"\")","v":""},{"$f":"IFERROR(__xludf.DUMMYFUNCTION(\"iferror(VLOOKUP(B580,IMPORTRANGE(\"\"https://docs.google.com/spreadsheets/d/1-zcOrI_PgX9R0t6_sOpXptmEcBDI4IX9Gfz9-2a6his/edit#gid=0\"\",\"\"RWA!F:BZ\"\"),48,0))\"),\"\")","v":""},{"$f":"IFERROR(__xludf.DUMMYFUNCTION(\"iferror(VLOOKUP(B580,IMPORTRANGE(\"\"https://docs.google.com/spreadsheets/d/1-zcOrI_PgX9R0t6_sOpXptmEcBDI4IX9Gfz9-2a6his/edit#gid=0\"\",\"\"RWA!F:BZ\"\"),49,0))\"),\"\")","v":""}]
[{"$nulls":4},{"$f":"IFERROR(__xludf.DUMMYFUNCTION(\"iferror(VLOOKUP(B581,IMPORTRANGE(\"\"https://docs.google.com/spreadsheets/d/1-zcOrI_PgX9R0t6_sOpXptmEcBDI4IX9Gfz9-2a6his/edit#gid=0\"\",\"\"RWA!F:BZ\"\"),44,0))\"),\"\")","v":""},{"$f":"IFERROR(__xludf.DUMMYFUNCTION(\"iferror(VLOOKUP(B581,IMPORTRANGE(\"\"https://docs.google.com/spreadsheets/d/1-zcOrI_PgX9R0t6_sOpXptmEcBDI4IX9Gfz9-2a6his/edit#gid=0\"\",\"\"RWA!F:BZ\"\"),48,0))\"),\"\")","v":""},{"$f":"IFERROR(__xludf.DUMMYFUNCTION(\"iferror(VLOOKUP(B581,IMPORTRANGE(\"\"https://docs.google.com/spreadsheets/d/1-zcOrI_PgX9R0t6_sOpXptmEcBDI4IX9Gfz9-2a6his/edit#gid=0\"\",\"\"RWA!F:BZ\"\"),49,0))\"),\"\")","v":""}]
[{"$nulls":4},{"$f":"IFERROR(__xludf.DUMMYFUNCTION(\"iferror(VLOOKUP(B582,IMPORTRANGE(\"\"https://docs.google.com/spreadsheets/d/1-zcOrI_PgX9R0t6_sOpXptmEcBDI4IX9Gfz9-2a6his/edit#gid=0\"\",\"\"RWA!F:BZ\"\"),44,0))\"),\"\")","v":""},{"$f":"IFERROR(__xludf.DUMMYFUNCTION(\"iferror(VLOOKUP(B582,IMPORTRANGE(\"\"https://docs.google.com/spreadsheets/d/1-zcOrI_PgX9R0t6_sOpXptmEcBDI4IX9Gfz9-2a6his/edit#gid=0\"\",\"\"RWA!F:BZ\"\"),48,0))\"),\"\")","v":""},{"$f":"IFERROR(__xludf.DUMMYFUNCTION(\"iferror(VLOOKUP(B582,IMPORTRANGE(\"\"https://docs.google.com/spreadsheets/d/1-zcOrI_PgX9R0t6_sOpXptmEcBDI4IX9Gfz9-2a6his/edit#gid=0\"\",\"\"RWA!F:BZ\"\"),49,0))\"),\"\")","v":""}]
[{"$nulls":4},{"$f":"IFERROR(__xludf.DUMMYFUNCTION(\"iferror(VLOOKUP(B583,IMPORTRANGE(\"\"https://docs.google.com/spreadsheets/d/1-zcOrI_PgX9R0t6_sOpXptmEcBDI4IX9Gfz9-2a6his/edit#gid=0\"\",\"\"RWA!F:BZ\"\"),44,0))\"),\"\")","v":""},{"$f":"IFERROR(__xludf.DUMMYFUNCTION(\"iferror(VLOOKUP(B583,IMPORTRANGE(\"\"https://docs.google.com/spreadsheets/d/1-zcOrI_PgX9R0t6_sOpXptmEcBDI4IX9Gfz9-2a6his/edit#gid=0\"\",\"\"RWA!F:BZ\"\"),48,0))\"),\"\")","v":""},{"$f":"IFERROR(__xludf.DUMMYFUNCTION(\"iferror(VLOOKUP(B583,IMPORTRANGE(\"\"https://docs.google.com/spreadsheets/d/1-zcOrI_PgX9R0t6_sOpXptmEcBDI4IX9Gfz9-2a6his/edit#gid=0\"\",\"\"RWA!F:BZ\"\"),49,0))\"),\"\")","v":""}]
[{"$nulls":4},{"$f":"IFERROR(__xludf.DUMMYFUNCTION(\"iferror(VLOOKUP(B584,IMPORTRANGE(\"\"https://docs.google.com/spreadsheets/d/1-zcOrI_PgX9R0t6_sOpXptmEcBDI4IX9Gfz9-2a6his/edit#gid=0\"\",\"\"RWA!F:BZ\"\"),44,0))\"),\"\")","v":""},{"$f":"IFERROR(__xludf.DUMMYFUNCTION(\"iferror(VLOOKUP(B584,IMPORTRANGE(\"\"https://docs.google.com/spreadsheets/d/1-zcOrI_PgX9R0t6_sOpXptmEcBDI4IX9Gfz9-2a6his/edit#gid=0\"\",\"\"RWA!F:BZ\"\"),48,0))\"),\"\")","v":""},{"$f":"IFERROR(__xludf.DUMMYFUNCTION(\"iferror(VLOOKUP(B584,IMPORTRANGE(\"\"https://docs.google.com/spreadsheets/d/1-zcOrI_PgX9R0t6_sOpXptmEcBDI4IX9Gfz9-2a6his/edit#gid=0\"\",\"\"RWA!F:BZ\"\"),49,0))\"),\"\")","v":""}]
[{"$nulls":4},{"$f":"IFERROR(__xludf.DUMMYFUNCTION(\"iferror(VLOOKUP(B585,IMPORTRANGE(\"\"https://docs.google.com/spreadsheets/d/1-zcOrI_PgX9R0t6_sOpXptmEcBDI4IX9Gfz9-2a6his/edit#gid=0\"\",\"\"RWA!F:BZ\"\"),44,0))\"),\"\")","v":""},{"$f":"IFERROR(__xludf.DUMMYFUNCTION(\"iferror(VLOOKUP(B585,IMPORTRANGE(\"\"https://docs.google.com/spreadsheets/d/1-zcOrI_PgX9R0t6_sOpXptmEcBDI4IX9Gfz9-2a6his/edit#gid=0\"\",\"\"RWA!F:BZ\"\"),48,0))\"),\"\")","v":""},{"$f":"IFERROR(__xludf.DUMMYFUNCTION(\"iferror(VLOOKUP(B585,IMPORTRANGE(\"\"https://docs.google.com/spreadsheets/d/1-zcOrI_PgX9R0t6_sOpXptmEcBDI4IX9Gfz9-2a6his/edit#gid=0\"\",\"\"RWA!F:BZ\"\"),49,0))\"),\"\")","v":""}]
[{"$nulls":4},{"$f":"IFERROR(__xludf.DUMMYFUNCTION(\"iferror(VLOOKUP(B586,IMPORTRANGE(\"\"https://docs.google.com/spreadsheets/d/1-zcOrI_PgX9R0t6_sOpXptmEcBDI4IX9Gfz9-2a6his/edit#gid=0\"\",\"\"RWA!F:BZ\"\"),44,0))\"),\"\")","v":""},{"$f":"IFERROR(__xludf.DUMMYFUNCTION(\"iferror(VLOOKUP(B586,IMPORTRANGE(\"\"https://docs.google.com/spreadsheets/d/1-zcOrI_PgX9R0t6_sOpXptmEcBDI4IX9Gfz9-2a6his/edit#gid=0\"\",\"\"RWA!F:BZ\"\"),48,0))\"),\"\")","v":""},{"$f":"IFERROR(__xludf.DUMMYFUNCTION(\"iferror(VLOOKUP(B586,IMPORTRANGE(\"\"https://docs.google.com/spreadsheets/d/1-zcOrI_PgX9R0t6_sOpXptmEcBDI4IX9Gfz9-2a6his/edit#gid=0\"\",\"\"RWA!F:BZ\"\"),49,0))\"),\"\")","v":""}]
[{"$nulls":4},{"$f":"IFERROR(__xludf.DUMMYFUNCTION(\"iferror(VLOOKUP(B587,IMPORTRANGE(\"\"https://docs.google.com/spreadsheets/d/1-zcOrI_PgX9R0t6_sOpXptmEcBDI4IX9Gfz9-2a6his/edit#gid=0\"\",\"\"RWA!F:BZ\"\"),44,0))\"),\"\")","v":""},{"$f":"IFERROR(__xludf.DUMMYFUNCTION(\"iferror(VLOOKUP(B587,IMPORTRANGE(\"\"https://docs.google.com/spreadsheets/d/1-zcOrI_PgX9R0t6_sOpXptmEcBDI4IX9Gfz9-2a6his/edit#gid=0\"\",\"\"RWA!F:BZ\"\"),48,0))\"),\"\")","v":""},{"$f":"IFERROR(__xludf.DUMMYFUNCTION(\"iferror(VLOOKUP(B587,IMPORTRANGE(\"\"https://docs.google.com/spreadsheets/d/1-zcOrI_PgX9R0t6_sOpXptmEcBDI4IX9Gfz9-2a6his/edit#gid=0\"\",\"\"RWA!F:BZ\"\"),49,0))\"),\"\")","v":""}]
[{"$nulls":4},{"$f":"IFERROR(__xludf.DUMMYFUNCTION(\"iferror(VLOOKUP(B588,IMPORTRANGE(\"\"https://docs.google.com/spreadsheets/d/1-zcOrI_PgX9R0t6_sOpXptmEcBDI4IX9Gfz9-2a6his/edit#gid=0\"\",\"\"RWA!F:BZ\"\"),44,0))\"),\"\")","v":""},{"$f":"IFERROR(__xludf.DUMMYFUNCTION(\"iferror(VLOOKUP(B588,IMPORTRANGE(\"\"https://docs.google.com/spreadsheets/d/1-zcOrI_PgX9R0t6_sOpXptmEcBDI4IX9Gfz9-2a6his/edit#gid=0\"\",\"\"RWA!F:BZ\"\"),48,0))\"),\"\")","v":""},{"$f":"IFERROR(__xludf.DUMMYFUNCTION(\"iferror(VLOOKUP(B588,IMPORTRANGE(\"\"https://docs.google.com/spreadsheets/d/1-zcOrI_PgX9R0t6_sOpXptmEcBDI4IX9Gfz9-2a6his/edit#gid=0\"\",\"\"RWA!F:BZ\"\"),49,0))\"),\"\")","v":""}]
[{"$nulls":4},{"$f":"IFERROR(__xludf.DUMMYFUNCTION(\"iferror(VLOOKUP(B589,IMPORTRANGE(\"\"https://docs.google.com/spreadsheets/d/1-zcOrI_PgX9R0t6_sOpXptmEcBDI4IX9Gfz9-2a6his/edit#gid=0\"\",\"\"RWA!F:BZ\"\"),44,0))\"),\"\")","v":""},{"$f":"IFERROR(__xludf.DUMMYFUNCTION(\"iferror(VLOOKUP(B589,IMPORTRANGE(\"\"https://docs.google.com/spreadsheets/d/1-zcOrI_PgX9R0t6_sOpXptmEcBDI4IX9Gfz9-2a6his/edit#gid=0\"\",\"\"RWA!F:BZ\"\"),48,0))\"),\"\")","v":""},{"$f":"IFERROR(__xludf.DUMMYFUNCTION(\"iferror(VLOOKUP(B589,IMPORTRANGE(\"\"https://docs.google.com/spreadsheets/d/1-zcOrI_PgX9R0t6_sOpXptmEcBDI4IX9Gfz9-2a6his/edit#gid=0\"\",\"\"RWA!F:BZ\"\"),49,0))\"),\"\")","v":""}]
[{"$nulls":4},{"$f":"IFERROR(__xludf.DUMMYFUNCTION(\"iferror(VLOOKUP(B590,IMPORTRANGE(\"\"https://docs.google.com/spreadsheets/d/1-zcOrI_PgX9R0t6_sOpXptmEcBDI4IX9Gfz9-2a6his/edit#gid=0\"\",\"\"RWA!F:BZ\"\"),44,0))\"),\"\")","v":""},{"$f":"IFERROR(__xludf.DUMMYFUNCTION(\"iferror(VLOOKUP(B590,IMPORTRANGE(\"\"https://docs.google.com/spreadsheets/d/1-zcOrI_PgX9R0t6_sOpXptmEcBDI4IX9Gfz9-2a6his/edit#gid=0\"\",\"\"RWA!F:BZ\"\"),48,0))\"),\"\")","v":""},{"$f":"IFERROR(__xludf.DUMMYFUNCTION(\"iferror(VLOOKUP(B590,IMPORTRANGE(\"\"https://docs.google.com/spreadsheets/d/1-zcOrI_PgX9R0t6_sOpXptmEcBDI4IX9Gfz9-2a6his/edit#gid=0\"\",\"\"RWA!F:BZ\"\"),49,0))\"),\"\")","v":""}]
[{"$nulls":4},{"$f":"IFERROR(__xludf.DUMMYFUNCTION(\"iferror(VLOOKUP(B591,IMPORTRANGE(\"\"https://docs.google.com/spreadsheets/d/1-zcOrI_PgX9R0t6_sOpXptmEcBDI4IX9Gfz9-2a6his/edit#gid=0\"\",\"\"RWA!F:BZ\"\"),44,0))\"),\"\")","v":""},{"$f":"IFERROR(__xludf.DUMMYFUNCTION(\"iferror(VLOOKUP(B591,IMPORTRANGE(\"\"https://docs.google.com/spreadsheets/d/1-zcOrI_PgX9R0t6_sOpXptmEcBDI4IX9Gfz9-2a6his/edit#gid=0\"\",\"\"RWA!F:BZ\"\"),48,0))\"),\"\")","v":""},{"$f":"IFERROR(__xludf.DUMMYFUNCTION(\"iferror(VLOOKUP(B591,IMPORTRANGE(\"\"https://docs.google.com/spreadsheets/d/1-zcOrI_PgX9R0t6_sOpXptmEcBDI4IX9Gfz9-2a6his/edit#gid=0\"\",\"\"RWA!F:BZ\"\"),49,0))\"),\"\")","v":""}]
[{"$nulls":4},{"$f":"IFERROR(__xludf.DUMMYFUNCTION(\"iferror(VLOOKUP(B592,IMPORTRANGE(\"\"https://docs.google.com/spreadsheets/d/1-zcOrI_PgX9R0t6_sOpXptmEcBDI4IX9Gfz9-2a6his/edit#gid=0\"\",\"\"RWA!F:BZ\"\"),44,0))\"),\"\")","v":""},{"$f":"IFERROR(__xludf.DUMMYFUNCTION(\"iferror(VLOOKUP(B592,IMPORTRANGE(\"\"https://docs.google.com/spreadsheets/d/1-zcOrI_PgX9R0t6_sOpXptmEcBDI4IX9Gfz9-2a6his/edit#gid=0\"\",\"\"RWA!F:BZ\"\"),48,0))\"),\"\")","v":""},{"$f":"IFERROR(__xludf.DUMMYFUNCTION(\"iferror(VLOOKUP(B592,IMPORTRANGE(\"\"https://docs.google.com/spreadsheets/d/1-zcOrI_PgX9R0t6_sOpXptmEcBDI4IX9Gfz9-2a6his/edit#gid=0\"\",\"\"RWA!F:BZ\"\"),49,0))\"),\"\")","v":""}]
[{"$nulls":4},{"$f":"IFERROR(__xludf.DUMMYFUNCTION(\"iferror(VLOOKUP(B593,IMPORTRANGE(\"\"https://docs.google.com/spreadsheets/d/1-zcOrI_PgX9R0t6_sOpXptmEcBDI4IX9Gfz9-2a6his/edit#gid=0\"\",\"\"RWA!F:BZ\"\"),44,0))\"),\"\")","v":""},{"$f":"IFERROR(__xludf.DUMMYFUNCTION(\"iferror(VLOOKUP(B593,IMPORTRANGE(\"\"https://docs.google.com/spreadsheets/d/1-zcOrI_PgX9R0t6_sOpXptmEcBDI4IX9Gfz9-2a6his/edit#gid=0\"\",\"\"RWA!F:BZ\"\"),48,0))\"),\"\")","v":""},{"$f":"IFERROR(__xludf.DUMMYFUNCTION(\"iferror(VLOOKUP(B593,IMPORTRANGE(\"\"https://docs.google.com/spreadsheets/d/1-zcOrI_PgX9R0t6_sOpXptmEcBDI4IX9Gfz9-2a6his/edit#gid=0\"\",\"\"RWA!F:BZ\"\"),49,0))\"),\"\")","v":""}]
[{"$nulls":4},{"$f":"IFERROR(__xludf.DUMMYFUNCTION(\"iferror(VLOOKUP(B594,IMPORTRANGE(\"\"https://docs.google.com/spreadsheets/d/1-zcOrI_PgX9R0t6_sOpXptmEcBDI4IX9Gfz9-2a6his/edit#gid=0\"\",\"\"RWA!F:BZ\"\"),44,0))\"),\"\")","v":""},{"$f":"IFERROR(__xludf.DUMMYFUNCTION(\"iferror(VLOOKUP(B594,IMPORTRANGE(\"\"https://docs.google.com/spreadsheets/d/1-zcOrI_PgX9R0t6_sOpXptmEcBDI4IX9Gfz9-2a6his/edit#gid=0\"\",\"\"RWA!F:BZ\"\"),48,0))\"),\"\")","v":""},{"$f":"IFERROR(__xludf.DUMMYFUNCTION(\"iferror(VLOOKUP(B594,IMPORTRANGE(\"\"https://docs.google.com/spreadsheets/d/1-zcOrI_PgX9R0t6_sOpXptmEcBDI4IX9Gfz9-2a6his/edit#gid=0\"\",\"\"RWA!F:BZ\"\"),49,0))\"),\"\")","v":""}]
[{"$nulls":4},{"$f":"IFERROR(__xludf.DUMMYFUNCTION(\"iferror(VLOOKUP(B595,IMPORTRANGE(\"\"https://docs.google.com/spreadsheets/d/1-zcOrI_PgX9R0t6_sOpXptmEcBDI4IX9Gfz9-2a6his/edit#gid=0\"\",\"\"RWA!F:BZ\"\"),44,0))\"),\"\")","v":""},{"$f":"IFERROR(__xludf.DUMMYFUNCTION(\"iferror(VLOOKUP(B595,IMPORTRANGE(\"\"https://docs.google.com/spreadsheets/d/1-zcOrI_PgX9R0t6_sOpXptmEcBDI4IX9Gfz9-2a6his/edit#gid=0\"\",\"\"RWA!F:BZ\"\"),48,0))\"),\"\")","v":""},{"$f":"IFERROR(__xludf.DUMMYFUNCTION(\"iferror(VLOOKUP(B595,IMPORTRANGE(\"\"https://docs.google.com/spreadsheets/d/1-zcOrI_PgX9R0t6_sOpXptmEcBDI4IX9Gfz9-2a6his/edit#gid=0\"\",\"\"RWA!F:BZ\"\"),49,0))\"),\"\")","v":""}]
[{"$nulls":4},{"$f":"IFERROR(__xludf.DUMMYFUNCTION(\"iferror(VLOOKUP(B596,IMPORTRANGE(\"\"https://docs.google.com/spreadsheets/d/1-zcOrI_PgX9R0t6_sOpXptmEcBDI4IX9Gfz9-2a6his/edit#gid=0\"\",\"\"RWA!F:BZ\"\"),44,0))\"),\"\")","v":""},{"$f":"IFERROR(__xludf.DUMMYFUNCTION(\"iferror(VLOOKUP(B596,IMPORTRANGE(\"\"https://docs.google.com/spreadsheets/d/1-zcOrI_PgX9R0t6_sOpXptmEcBDI4IX9Gfz9-2a6his/edit#gid=0\"\",\"\"RWA!F:BZ\"\"),48,0))\"),\"\")","v":""},{"$f":"IFERROR(__xludf.DUMMYFUNCTION(\"iferror(VLOOKUP(B596,IMPORTRANGE(\"\"https://docs.google.com/spreadsheets/d/1-zcOrI_PgX9R0t6_sOpXptmEcBDI4IX9Gfz9-2a6his/edit#gid=0\"\",\"\"RWA!F:BZ\"\"),49,0))\"),\"\")","v":""}]
[{"$nulls":4},{"$f":"IFERROR(__xludf.DUMMYFUNCTION(\"iferror(VLOOKUP(B597,IMPORTRANGE(\"\"https://docs.google.com/spreadsheets/d/1-zcOrI_PgX9R0t6_sOpXptmEcBDI4IX9Gfz9-2a6his/edit#gid=0\"\",\"\"RWA!F:BZ\"\"),44,0))\"),\"\")","v":""},{"$f":"IFERROR(__xludf.DUMMYFUNCTION(\"iferror(VLOOKUP(B597,IMPORTRANGE(\"\"https://docs.google.com/spreadsheets/d/1-zcOrI_PgX9R0t6_sOpXptmEcBDI4IX9Gfz9-2a6his/edit#gid=0\"\",\"\"RWA!F:BZ\"\"),48,0))\"),\"\")","v":""},{"$f":"IFERROR(__xludf.DUMMYFUNCTION(\"iferror(VLOOKUP(B597,IMPORTRANGE(\"\"https://docs.google.com/spreadsheets/d/1-zcOrI_PgX9R0t6_sOpXptmEcBDI4IX9Gfz9-2a6his/edit#gid=0\"\",\"\"RWA!F:BZ\"\"),49,0))\"),\"\")","v":""}]
[{"$nulls":4},{"$f":"IFERROR(__xludf.DUMMYFUNCTION(\"iferror(VLOOKUP(B598,IMPORTRANGE(\"\"https://docs.google.com/spreadsheets/d/1-zcOrI_PgX9R0t6_sOpXptmEcBDI4IX9Gfz9-2a6his/edit#gid=0\"\",\"\"RWA!F:BZ\"\"),44,0))\"),\"\")","v":""},{"$f":"IFERROR(__xludf.DUMMYFUNCTION(\"iferror(VLOOKUP(B598,IMPORTRANGE(\"\"https://docs.google.com/spreadsheets/d/1-zcOrI_PgX9R0t6_sOpXptmEcBDI4IX9Gfz9-2a6his/edit#gid=0\"\",\"\"RWA!F:BZ\"\"),48,0))\"),\"\")","v":""},{"$f":"IFERROR(__xludf.DUMMYFUNCTION(\"iferror(VLOOKUP(B598,IMPORTRANGE(\"\"https://docs.google.com/spreadsheets/d/1-zcOrI_PgX9R0t6_sOpXptmEcBDI4IX9Gfz9-2a6his/edit#gid=0\"\",\"\"RWA!F:BZ\"\"),49,0))\"),\"\")","v":""}]
[{"$nulls":4},{"$f":"IFERROR(__xludf.DUMMYFUNCTION(\"iferror(VLOOKUP(B599,IMPORTRANGE(\"\"https://docs.google.com/spreadsheets/d/1-zcOrI_PgX9R0t6_sOpXptmEcBDI4IX9Gfz9-2a6his/edit#gid=0\"\",\"\"RWA!F:BZ\"\"),44,0))\"),\"\")","v":""},{"$f":"IFERROR(__xludf.DUMMYFUNCTION(\"iferror(VLOOKUP(B599,IMPORTRANGE(\"\"https://docs.google.com/spreadsheets/d/1-zcOrI_PgX9R0t6_sOpXptmEcBDI4IX9Gfz9-2a6his/edit#gid=0\"\",\"\"RWA!F:BZ\"\"),48,0))\"),\"\")","v":""},{"$f":"IFERROR(__xludf.DUMMYFUNCTION(\"iferror(VLOOKUP(B599,IMPORTRANGE(\"\"https://docs.google.com/spreadsheets/d/1-zcOrI_PgX9R0t6_sOpXptmEcBDI4IX9Gfz9-2a6his/edit#gid=0\"\",\"\"RWA!F:BZ\"\"),49,0))\"),\"\")","v":""}]
[{"$nulls":4},{"$f":"IFERROR(__xludf.DUMMYFUNCTION(\"iferror(VLOOKUP(B600,IMPORTRANGE(\"\"https://docs.google.com/spreadsheets/d/1-zcOrI_PgX9R0t6_sOpXptmEcBDI4IX9Gfz9-2a6his/edit#gid=0\"\",\"\"RWA!F:BZ\"\"),44,0))\"),\"\")","v":""},{"$f":"IFERROR(__xludf.DUMMYFUNCTION(\"iferror(VLOOKUP(B600,IMPORTRANGE(\"\"https://docs.google.com/spreadsheets/d/1-zcOrI_PgX9R0t6_sOpXptmEcBDI4IX9Gfz9-2a6his/edit#gid=0\"\",\"\"RWA!F:BZ\"\"),48,0))\"),\"\")","v":""},{"$f":"IFERROR(__xludf.DUMMYFUNCTION(\"iferror(VLOOKUP(B600,IMPORTRANGE(\"\"https://docs.google.com/spreadsheets/d/1-zcOrI_PgX9R0t6_sOpXptmEcBDI4IX9Gfz9-2a6his/edit#gid=0\"\",\"\"RWA!F:BZ\"\"),49,0))\"),\"\")","v":""}]
[{"$nulls":4},{"$f":"IFERROR(__xludf.DUMMYFUNCTION(\"iferror(VLOOKUP(B601,IMPORTRANGE(\"\"https://docs.google.com/spreadsheets/d/1-zcOrI_PgX9R0t6_sOpXptmEcBDI4IX9Gfz9-2a6his/edit#gid=0\"\",\"\"RWA!F:BZ\"\"),44,0))\"),\"\")","v":""},{"$f":"IFERROR(__xludf.DUMMYFUNCTION(\"iferror(VLOOKUP(B601,IMPORTRANGE(\"\"https://docs.google.com/spreadsheets/d/1-zcOrI_PgX9R0t6_sOpXptmEcBDI4IX9Gfz9-2a6his/edit#gid=0\"\",\"\"RWA!F:BZ\"\"),48,0))\"),\"\")","v":""},{"$f":"IFERROR(__xludf.DUMMYFUNCTION(\"iferror(VLOOKUP(B601,IMPORTRANGE(\"\"https://docs.google.com/spreadsheets/d/1-zcOrI_PgX9R0t6_sOpXptmEcBDI4IX9Gfz9-2a6his/edit#gid=0\"\",\"\"RWA!F:BZ\"\"),49,0))\"),\"\")","v":""}]
[{"$nulls":4},{"$f":"IFERROR(__xludf.DUMMYFUNCTION(\"iferror(VLOOKUP(B602,IMPORTRANGE(\"\"https://docs.google.com/spreadsheets/d/1-zcOrI_PgX9R0t6_sOpXptmEcBDI4IX9Gfz9-2a6his/edit#gid=0\"\",\"\"RWA!F:BZ\"\"),44,0))\"),\"\")","v":""},{"$f":"IFERROR(__xludf.DUMMYFUNCTION(\"iferror(VLOOKUP(B602,IMPORTRANGE(\"\"https://docs.google.com/spreadsheets/d/1-zcOrI_PgX9R0t6_sOpXptmEcBDI4IX9Gfz9-2a6his/edit#gid=0\"\",\"\"RWA!F:BZ\"\"),48,0))\"),\"\")","v":""},{"$f":"IFERROR(__xludf.DUMMYFUNCTION(\"iferror(VLOOKUP(B602,IMPORTRANGE(\"\"https://docs.google.com/spreadsheets/d/1-zcOrI_PgX9R0t6_sOpXptmEcBDI4IX9Gfz9-2a6his/edit#gid=0\"\",\"\"RWA!F:BZ\"\"),49,0))\"),\"\")","v":""}]
[{"$nulls":4},{"$f":"IFERROR(__xludf.DUMMYFUNCTION(\"iferror(VLOOKUP(B603,IMPORTRANGE(\"\"https://docs.google.com/spreadsheets/d/1-zcOrI_PgX9R0t6_sOpXptmEcBDI4IX9Gfz9-2a6his/edit#gid=0\"\",\"\"RWA!F:BZ\"\"),44,0))\"),\"\")","v":""},{"$f":"IFERROR(__xludf.DUMMYFUNCTION(\"iferror(VLOOKUP(B603,IMPORTRANGE(\"\"https://docs.google.com/spreadsheets/d/1-zcOrI_PgX9R0t6_sOpXptmEcBDI4IX9Gfz9-2a6his/edit#gid=0\"\",\"\"RWA!F:BZ\"\"),48,0))\"),\"\")","v":""},{"$f":"IFERROR(__xludf.DUMMYFUNCTION(\"iferror(VLOOKUP(B603,IMPORTRANGE(\"\"https://docs.google.com/spreadsheets/d/1-zcOrI_PgX9R0t6_sOpXptmEcBDI4IX9Gfz9-2a6his/edit#gid=0\"\",\"\"RWA!F:BZ\"\"),49,0))\"),\"\")","v":""}]
[{"$nulls":4},{"$f":"IFERROR(__xludf.DUMMYFUNCTION(\"iferror(VLOOKUP(B604,IMPORTRANGE(\"\"https://docs.google.com/spreadsheets/d/1-zcOrI_PgX9R0t6_sOpXptmEcBDI4IX9Gfz9-2a6his/edit#gid=0\"\",\"\"RWA!F:BZ\"\"),44,0))\"),\"\")","v":""},{"$f":"IFERROR(__xludf.DUMMYFUNCTION(\"iferror(VLOOKUP(B604,IMPORTRANGE(\"\"https://docs.google.com/spreadsheets/d/1-zcOrI_PgX9R0t6_sOpXptmEcBDI4IX9Gfz9-2a6his/edit#gid=0\"\",\"\"RWA!F:BZ\"\"),48,0))\"),\"\")","v":""},{"$f":"IFERROR(__xludf.DUMMYFUNCTION(\"iferror(VLOOKUP(B604,IMPORTRANGE(\"\"https://docs.google.com/spreadsheets/d/1-zcOrI_PgX9R0t6_sOpXptmEcBDI4IX9Gfz9-2a6his/edit#gid=0\"\",\"\"RWA!F:BZ\"\"),49,0))\"),\"\")","v":""}]
[{"$nulls":4},{"$f":"IFERROR(__xludf.DUMMYFUNCTION(\"iferror(VLOOKUP(B605,IMPORTRANGE(\"\"https://docs.google.com/spreadsheets/d/1-zcOrI_PgX9R0t6_sOpXptmEcBDI4IX9Gfz9-2a6his/edit#gid=0\"\",\"\"RWA!F:BZ\"\"),44,0))\"),\"\")","v":""},{"$f":"IFERROR(__xludf.DUMMYFUNCTION(\"iferror(VLOOKUP(B605,IMPORTRANGE(\"\"https://docs.google.com/spreadsheets/d/1-zcOrI_PgX9R0t6_sOpXptmEcBDI4IX9Gfz9-2a6his/edit#gid=0\"\",\"\"RWA!F:BZ\"\"),48,0))\"),\"\")","v":""},{"$f":"IFERROR(__xludf.DUMMYFUNCTION(\"iferror(VLOOKUP(B605,IMPORTRANGE(\"\"https://docs.google.com/spreadsheets/d/1-zcOrI_PgX9R0t6_sOpXptmEcBDI4IX9Gfz9-2a6his/edit#gid=0\"\",\"\"RWA!F:BZ\"\"),49,0))\"),\"\")","v":""}]
[{"$nulls":4},{"$f":"IFERROR(__xludf.DUMMYFUNCTION(\"iferror(VLOOKUP(B606,IMPORTRANGE(\"\"https://docs.google.com/spreadsheets/d/1-zcOrI_PgX9R0t6_sOpXptmEcBDI4IX9Gfz9-2a6his/edit#gid=0\"\",\"\"RWA!F:BZ\"\"),44,0))\"),\"\")","v":""},{"$f":"IFERROR(__xludf.DUMMYFUNCTION(\"iferror(VLOOKUP(B606,IMPORTRANGE(\"\"https://docs.google.com/spreadsheets/d/1-zcOrI_PgX9R0t6_sOpXptmEcBDI4IX9Gfz9-2a6his/edit#gid=0\"\",\"\"RWA!F:BZ\"\"),48,0))\"),\"\")","v":""},{"$f":"IFERROR(__xludf.DUMMYFUNCTION(\"iferror(VLOOKUP(B606,IMPORTRANGE(\"\"https://docs.google.com/spreadsheets/d/1-zcOrI_PgX9R0t6_sOpXptmEcBDI4IX9Gfz9-2a6his/edit#gid=0\"\",\"\"RWA!F:BZ\"\"),49,0))\"),\"\")","v":""}]
[{"$nulls":4},{"$f":"IFERROR(__xludf.DUMMYFUNCTION(\"iferror(VLOOKUP(B607,IMPORTRANGE(\"\"https://docs.google.com/spreadsheets/d/1-zcOrI_PgX9R0t6_sOpXptmEcBDI4IX9Gfz9-2a6his/edit#gid=0\"\",\"\"RWA!F:BZ\"\"),44,0))\"),\"\")","v":""},{"$f":"IFERROR(__xludf.DUMMYFUNCTION(\"iferror(VLOOKUP(B607,IMPORTRANGE(\"\"https://docs.google.com/spreadsheets/d/1-zcOrI_PgX9R0t6_sOpXptmEcBDI4IX9Gfz9-2a6his/edit#gid=0\"\",\"\"RWA!F:BZ\"\"),48,0))\"),\"\")","v":""},{"$f":"IFERROR(__xludf.DUMMYFUNCTION(\"iferror(VLOOKUP(B607,IMPORTRANGE(\"\"https://docs.google.com/spreadsheets/d/1-zcOrI_PgX9R0t6_sOpXptmEcBDI4IX9Gfz9-2a6his/edit#gid=0\"\",\"\"RWA!F:BZ\"\"),49,0))\"),\"\")","v":""}]
[{"$nulls":4},{"$f":"IFERROR(__xludf.DUMMYFUNCTION(\"iferror(VLOOKUP(B608,IMPORTRANGE(\"\"https://docs.google.com/spreadsheets/d/1-zcOrI_PgX9R0t6_sOpXptmEcBDI4IX9Gfz9-2a6his/edit#gid=0\"\",\"\"RWA!F:BZ\"\"),44,0))\"),\"\")","v":""},{"$f":"IFERROR(__xludf.DUMMYFUNCTION(\"iferror(VLOOKUP(B608,IMPORTRANGE(\"\"https://docs.google.com/spreadsheets/d/1-zcOrI_PgX9R0t6_sOpXptmEcBDI4IX9Gfz9-2a6his/edit#gid=0\"\",\"\"RWA!F:BZ\"\"),48,0))\"),\"\")","v":""},{"$f":"IFERROR(__xludf.DUMMYFUNCTION(\"iferror(VLOOKUP(B608,IMPORTRANGE(\"\"https://docs.google.com/spreadsheets/d/1-zcOrI_PgX9R0t6_sOpXptmEcBDI4IX9Gfz9-2a6his/edit#gid=0\"\",\"\"RWA!F:BZ\"\"),49,0))\"),\"\")","v":""}]
[{"$nulls":4},{"$f":"IFERROR(__xludf.DUMMYFUNCTION(\"iferror(VLOOKUP(B609,IMPORTRANGE(\"\"https://docs.google.com/spreadsheets/d/1-zcOrI_PgX9R0t6_sOpXptmEcBDI4IX9Gfz9-2a6his/edit#gid=0\"\",\"\"RWA!F:BZ\"\"),44,0))\"),\"\")","v":""},{"$f":"IFERROR(__xludf.DUMMYFUNCTION(\"iferror(VLOOKUP(B609,IMPORTRANGE(\"\"https://docs.google.com/spreadsheets/d/1-zcOrI_PgX9R0t6_sOpXptmEcBDI4IX9Gfz9-2a6his/edit#gid=0\"\",\"\"RWA!F:BZ\"\"),48,0))\"),\"\")","v":""},{"$f":"IFERROR(__xludf.DUMMYFUNCTION(\"iferror(VLOOKUP(B609,IMPORTRANGE(\"\"https://docs.google.com/spreadsheets/d/1-zcOrI_PgX9R0t6_sOpXptmEcBDI4IX9Gfz9-2a6his/edit#gid=0\"\",\"\"RWA!F:BZ\"\"),49,0))\"),\"\")","v":""}]
[{"$nulls":4},{"$f":"IFERROR(__xludf.DUMMYFUNCTION(\"iferror(VLOOKUP(B610,IMPORTRANGE(\"\"https://docs.google.com/spreadsheets/d/1-zcOrI_PgX9R0t6_sOpXptmEcBDI4IX9Gfz9-2a6his/edit#gid=0\"\",\"\"RWA!F:BZ\"\"),44,0))\"),\"\")","v":""},{"$f":"IFERROR(__xludf.DUMMYFUNCTION(\"iferror(VLOOKUP(B610,IMPORTRANGE(\"\"https://docs.google.com/spreadsheets/d/1-zcOrI_PgX9R0t6_sOpXptmEcBDI4IX9Gfz9-2a6his/edit#gid=0\"\",\"\"RWA!F:BZ\"\"),48,0))\"),\"\")","v":""},{"$f":"IFERROR(__xludf.DUMMYFUNCTION(\"iferror(VLOOKUP(B610,IMPORTRANGE(\"\"https://docs.google.com/spreadsheets/d/1-zcOrI_PgX9R0t6_sOpXptmEcBDI4IX9Gfz9-2a6his/edit#gid=0\"\",\"\"RWA!F:BZ\"\"),49,0))\"),\"\")","v":""}]
[{"$nulls":4},{"$f":"IFERROR(__xludf.DUMMYFUNCTION(\"iferror(VLOOKUP(B611,IMPORTRANGE(\"\"https://docs.google.com/spreadsheets/d/1-zcOrI_PgX9R0t6_sOpXptmEcBDI4IX9Gfz9-2a6his/edit#gid=0\"\",\"\"RWA!F:BZ\"\"),44,0))\"),\"\")","v":""},{"$f":"IFERROR(__xludf.DUMMYFUNCTION(\"iferror(VLOOKUP(B611,IMPORTRANGE(\"\"https://docs.google.com/spreadsheets/d/1-zcOrI_PgX9R0t6_sOpXptmEcBDI4IX9Gfz9-2a6his/edit#gid=0\"\",\"\"RWA!F:BZ\"\"),48,0))\"),\"\")","v":""},{"$f":"IFERROR(__xludf.DUMMYFUNCTION(\"iferror(VLOOKUP(B611,IMPORTRANGE(\"\"https://docs.google.com/spreadsheets/d/1-zcOrI_PgX9R0t6_sOpXptmEcBDI4IX9Gfz9-2a6his/edit#gid=0\"\",\"\"RWA!F:BZ\"\"),49,0))\"),\"\")","v":""}]
[{"$nulls":4},{"$f":"IFERROR(__xludf.DUMMYFUNCTION(\"iferror(VLOOKUP(B612,IMPORTRANGE(\"\"https://docs.google.com/spreadsheets/d/1-zcOrI_PgX9R0t6_sOpXptmEcBDI4IX9Gfz9-2a6his/edit#gid=0\"\",\"\"RWA!F:BZ\"\"),44,0))\"),\"\")","v":""},{"$f":"IFERROR(__xludf.DUMMYFUNCTION(\"iferror(VLOOKUP(B612,IMPORTRANGE(\"\"https://docs.google.com/spreadsheets/d/1-zcOrI_PgX9R0t6_sOpXptmEcBDI4IX9Gfz9-2a6his/edit#gid=0\"\",\"\"RWA!F:BZ\"\"),48,0))\"),\"\")","v":""},{"$f":"IFERROR(__xludf.DUMMYFUNCTION(\"iferror(VLOOKUP(B612,IMPORTRANGE(\"\"https://docs.google.com/spreadsheets/d/1-zcOrI_PgX9R0t6_sOpXptmEcBDI4IX9Gfz9-2a6his/edit#gid=0\"\",\"\"RWA!F:BZ\"\"),49,0))\"),\"\")","v":""}]
[{"$nulls":4},{"$f":"IFERROR(__xludf.DUMMYFUNCTION(\"iferror(VLOOKUP(B613,IMPORTRANGE(\"\"https://docs.google.com/spreadsheets/d/1-zcOrI_PgX9R0t6_sOpXptmEcBDI4IX9Gfz9-2a6his/edit#gid=0\"\",\"\"RWA!F:BZ\"\"),44,0))\"),\"\")","v":""},{"$f":"IFERROR(__xludf.DUMMYFUNCTION(\"iferror(VLOOKUP(B613,IMPORTRANGE(\"\"https://docs.google.com/spreadsheets/d/1-zcOrI_PgX9R0t6_sOpXptmEcBDI4IX9Gfz9-2a6his/edit#gid=0\"\",\"\"RWA!F:BZ\"\"),48,0))\"),\"\")","v":""},{"$f":"IFERROR(__xludf.DUMMYFUNCTION(\"iferror(VLOOKUP(B613,IMPORTRANGE(\"\"https://docs.google.com/spreadsheets/d/1-zcOrI_PgX9R0t6_sOpXptmEcBDI4IX9Gfz9-2a6his/edit#gid=0\"\",\"\"RWA!F:BZ\"\"),49,0))\"),\"\")","v":""}]
[{"$nulls":4},{"$f":"IFERROR(__xludf.DUMMYFUNCTION(\"iferror(VLOOKUP(B614,IMPORTRANGE(\"\"https://docs.google.com/spreadsheets/d/1-zcOrI_PgX9R0t6_sOpXptmEcBDI4IX9Gfz9-2a6his/edit#gid=0\"\",\"\"RWA!F:BZ\"\"),44,0))\"),\"\")","v":""},{"$f":"IFERROR(__xludf.DUMMYFUNCTION(\"iferror(VLOOKUP(B614,IMPORTRANGE(\"\"https://docs.google.com/spreadsheets/d/1-zcOrI_PgX9R0t6_sOpXptmEcBDI4IX9Gfz9-2a6his/edit#gid=0\"\",\"\"RWA!F:BZ\"\"),48,0))\"),\"\")","v":""},{"$f":"IFERROR(__xludf.DUMMYFUNCTION(\"iferror(VLOOKUP(B614,IMPORTRANGE(\"\"https://docs.google.com/spreadsheets/d/1-zcOrI_PgX9R0t6_sOpXptmEcBDI4IX9Gfz9-2a6his/edit#gid=0\"\",\"\"RWA!F:BZ\"\"),49,0))\"),\"\")","v":""}]
[{"$nulls":4},{"$f":"IFERROR(__xludf.DUMMYFUNCTION(\"iferror(VLOOKUP(B615,IMPORTRANGE(\"\"https://docs.google.com/spreadsheets/d/1-zcOrI_PgX9R0t6_sOpXptmEcBDI4IX9Gfz9-2a6his/edit#gid=0\"\",\"\"RWA!F:BZ\"\"),44,0))\"),\"\")","v":""},{"$f":"IFERROR(__xludf.DUMMYFUNCTION(\"iferror(VLOOKUP(B615,IMPORTRANGE(\"\"https://docs.google.com/spreadsheets/d/1-zcOrI_PgX9R0t6_sOpXptmEcBDI4IX9Gfz9-2a6his/edit#gid=0\"\",\"\"RWA!F:BZ\"\"),48,0))\"),\"\")","v":""},{"$f":"IFERROR(__xludf.DUMMYFUNCTION(\"iferror(VLOOKUP(B615,IMPORTRANGE(\"\"https://docs.google.com/spreadsheets/d/1-zcOrI_PgX9R0t6_sOpXptmEcBDI4IX9Gfz9-2a6his/edit#gid=0\"\",\"\"RWA!F:BZ\"\"),49,0))\"),\"\")","v":""}]
[{"$nulls":4},{"$f":"IFERROR(__xludf.DUMMYFUNCTION(\"iferror(VLOOKUP(B616,IMPORTRANGE(\"\"https://docs.google.com/spreadsheets/d/1-zcOrI_PgX9R0t6_sOpXptmEcBDI4IX9Gfz9-2a6his/edit#gid=0\"\",\"\"RWA!F:BZ\"\"),44,0))\"),\"\")","v":""},{"$f":"IFERROR(__xludf.DUMMYFUNCTION(\"iferror(VLOOKUP(B616,IMPORTRANGE(\"\"https://docs.google.com/spreadsheets/d/1-zcOrI_PgX9R0t6_sOpXptmEcBDI4IX9Gfz9-2a6his/edit#gid=0\"\",\"\"RWA!F:BZ\"\"),48,0))\"),\"\")","v":""},{"$f":"IFERROR(__xludf.DUMMYFUNCTION(\"iferror(VLOOKUP(B616,IMPORTRANGE(\"\"https://docs.google.com/spreadsheets/d/1-zcOrI_PgX9R0t6_sOpXptmEcBDI4IX9Gfz9-2a6his/edit#gid=0\"\",\"\"RWA!F:BZ\"\"),49,0))\"),\"\")","v":""}]
[{"$nulls":4},{"$f":"IFERROR(__xludf.DUMMYFUNCTION(\"iferror(VLOOKUP(B617,IMPORTRANGE(\"\"https://docs.google.com/spreadsheets/d/1-zcOrI_PgX9R0t6_sOpXptmEcBDI4IX9Gfz9-2a6his/edit#gid=0\"\",\"\"RWA!F:BZ\"\"),44,0))\"),\"\")","v":""},{"$f":"IFERROR(__xludf.DUMMYFUNCTION(\"iferror(VLOOKUP(B617,IMPORTRANGE(\"\"https://docs.google.com/spreadsheets/d/1-zcOrI_PgX9R0t6_sOpXptmEcBDI4IX9Gfz9-2a6his/edit#gid=0\"\",\"\"RWA!F:BZ\"\"),48,0))\"),\"\")","v":""},{"$f":"IFERROR(__xludf.DUMMYFUNCTION(\"iferror(VLOOKUP(B617,IMPORTRANGE(\"\"https://docs.google.com/spreadsheets/d/1-zcOrI_PgX9R0t6_sOpXptmEcBDI4IX9Gfz9-2a6his/edit#gid=0\"\",\"\"RWA!F:BZ\"\"),49,0))\"),\"\")","v":""}]
[{"$nulls":4},{"$f":"IFERROR(__xludf.DUMMYFUNCTION(\"iferror(VLOOKUP(B618,IMPORTRANGE(\"\"https://docs.google.com/spreadsheets/d/1-zcOrI_PgX9R0t6_sOpXptmEcBDI4IX9Gfz9-2a6his/edit#gid=0\"\",\"\"RWA!F:BZ\"\"),44,0))\"),\"\")","v":""},{"$f":"IFERROR(__xludf.DUMMYFUNCTION(\"iferror(VLOOKUP(B618,IMPORTRANGE(\"\"https://docs.google.com/spreadsheets/d/1-zcOrI_PgX9R0t6_sOpXptmEcBDI4IX9Gfz9-2a6his/edit#gid=0\"\",\"\"RWA!F:BZ\"\"),48,0))\"),\"\")","v":""},{"$f":"IFERROR(__xludf.DUMMYFUNCTION(\"iferror(VLOOKUP(B618,IMPORTRANGE(\"\"https://docs.google.com/spreadsheets/d/1-zcOrI_PgX9R0t6_sOpXptmEcBDI4IX9Gfz9-2a6his/edit#gid=0\"\",\"\"RWA!F:BZ\"\"),49,0))\"),\"\")","v":""}]
[{"$nulls":4},{"$f":"IFERROR(__xludf.DUMMYFUNCTION(\"iferror(VLOOKUP(B619,IMPORTRANGE(\"\"https://docs.google.com/spreadsheets/d/1-zcOrI_PgX9R0t6_sOpXptmEcBDI4IX9Gfz9-2a6his/edit#gid=0\"\",\"\"RWA!F:BZ\"\"),44,0))\"),\"\")","v":""},{"$f":"IFERROR(__xludf.DUMMYFUNCTION(\"iferror(VLOOKUP(B619,IMPORTRANGE(\"\"https://docs.google.com/spreadsheets/d/1-zcOrI_PgX9R0t6_sOpXptmEcBDI4IX9Gfz9-2a6his/edit#gid=0\"\",\"\"RWA!F:BZ\"\"),48,0))\"),\"\")","v":""},{"$f":"IFERROR(__xludf.DUMMYFUNCTION(\"iferror(VLOOKUP(B619,IMPORTRANGE(\"\"https://docs.google.com/spreadsheets/d/1-zcOrI_PgX9R0t6_sOpXptmEcBDI4IX9Gfz9-2a6his/edit#gid=0\"\",\"\"RWA!F:BZ\"\"),49,0))\"),\"\")","v":""}]
[{"$nulls":4},{"$f":"IFERROR(__xludf.DUMMYFUNCTION(\"iferror(VLOOKUP(B620,IMPORTRANGE(\"\"https://docs.google.com/spreadsheets/d/1-zcOrI_PgX9R0t6_sOpXptmEcBDI4IX9Gfz9-2a6his/edit#gid=0\"\",\"\"RWA!F:BZ\"\"),44,0))\"),\"\")","v":""},{"$f":"IFERROR(__xludf.DUMMYFUNCTION(\"iferror(VLOOKUP(B620,IMPORTRANGE(\"\"https://docs.google.com/spreadsheets/d/1-zcOrI_PgX9R0t6_sOpXptmEcBDI4IX9Gfz9-2a6his/edit#gid=0\"\",\"\"RWA!F:BZ\"\"),48,0))\"),\"\")","v":""},{"$f":"IFERROR(__xludf.DUMMYFUNCTION(\"iferror(VLOOKUP(B620,IMPORTRANGE(\"\"https://docs.google.com/spreadsheets/d/1-zcOrI_PgX9R0t6_sOpXptmEcBDI4IX9Gfz9-2a6his/edit#gid=0\"\",\"\"RWA!F:BZ\"\"),49,0))\"),\"\")","v":""}]
[{"$nulls":4},{"$f":"IFERROR(__xludf.DUMMYFUNCTION(\"iferror(VLOOKUP(B621,IMPORTRANGE(\"\"https://docs.google.com/spreadsheets/d/1-zcOrI_PgX9R0t6_sOpXptmEcBDI4IX9Gfz9-2a6his/edit#gid=0\"\",\"\"RWA!F:BZ\"\"),44,0))\"),\"\")","v":""},{"$f":"IFERROR(__xludf.DUMMYFUNCTION(\"iferror(VLOOKUP(B621,IMPORTRANGE(\"\"https://docs.google.com/spreadsheets/d/1-zcOrI_PgX9R0t6_sOpXptmEcBDI4IX9Gfz9-2a6his/edit#gid=0\"\",\"\"RWA!F:BZ\"\"),48,0))\"),\"\")","v":""},{"$f":"IFERROR(__xludf.DUMMYFUNCTION(\"iferror(VLOOKUP(B621,IMPORTRANGE(\"\"https://docs.google.com/spreadsheets/d/1-zcOrI_PgX9R0t6_sOpXptmEcBDI4IX9Gfz9-2a6his/edit#gid=0\"\",\"\"RWA!F:BZ\"\"),49,0))\"),\"\")","v":""}]
[{"$nulls":4},{"$f":"IFERROR(__xludf.DUMMYFUNCTION(\"iferror(VLOOKUP(B622,IMPORTRANGE(\"\"https://docs.google.com/spreadsheets/d/1-zcOrI_PgX9R0t6_sOpXptmEcBDI4IX9Gfz9-2a6his/edit#gid=0\"\",\"\"RWA!F:BZ\"\"),44,0))\"),\"\")","v":""},{"$f":"IFERROR(__xludf.DUMMYFUNCTION(\"iferror(VLOOKUP(B622,IMPORTRANGE(\"\"https://docs.google.com/spreadsheets/d/1-zcOrI_PgX9R0t6_sOpXptmEcBDI4IX9Gfz9-2a6his/edit#gid=0\"\",\"\"RWA!F:BZ\"\"),48,0))\"),\"\")","v":""},{"$f":"IFERROR(__xludf.DUMMYFUNCTION(\"iferror(VLOOKUP(B622,IMPORTRANGE(\"\"https://docs.google.com/spreadsheets/d/1-zcOrI_PgX9R0t6_sOpXptmEcBDI4IX9Gfz9-2a6his/edit#gid=0\"\",\"\"RWA!F:BZ\"\"),49,0))\"),\"\")","v":""}]
[{"$nulls":4},{"$f":"IFERROR(__xludf.DUMMYFUNCTION(\"iferror(VLOOKUP(B623,IMPORTRANGE(\"\"https://docs.google.com/spreadsheets/d/1-zcOrI_PgX9R0t6_sOpXptmEcBDI4IX9Gfz9-2a6his/edit#gid=0\"\",\"\"RWA!F:BZ\"\"),44,0))\"),\"\")","v":""},{"$f":"IFERROR(__xludf.DUMMYFUNCTION(\"iferror(VLOOKUP(B623,IMPORTRANGE(\"\"https://docs.google.com/spreadsheets/d/1-zcOrI_PgX9R0t6_sOpXptmEcBDI4IX9Gfz9-2a6his/edit#gid=0\"\",\"\"RWA!F:BZ\"\"),48,0))\"),\"\")","v":""},{"$f":"IFERROR(__xludf.DUMMYFUNCTION(\"iferror(VLOOKUP(B623,IMPORTRANGE(\"\"https://docs.google.com/spreadsheets/d/1-zcOrI_PgX9R0t6_sOpXptmEcBDI4IX9Gfz9-2a6his/edit#gid=0\"\",\"\"RWA!F:BZ\"\"),49,0))\"),\"\")","v":""}]
[{"$nulls":4},{"$f":"IFERROR(__xludf.DUMMYFUNCTION(\"iferror(VLOOKUP(B624,IMPORTRANGE(\"\"https://docs.google.com/spreadsheets/d/1-zcOrI_PgX9R0t6_sOpXptmEcBDI4IX9Gfz9-2a6his/edit#gid=0\"\",\"\"RWA!F:BZ\"\"),44,0))\"),\"\")","v":""},{"$f":"IFERROR(__xludf.DUMMYFUNCTION(\"iferror(VLOOKUP(B624,IMPORTRANGE(\"\"https://docs.google.com/spreadsheets/d/1-zcOrI_PgX9R0t6_sOpXptmEcBDI4IX9Gfz9-2a6his/edit#gid=0\"\",\"\"RWA!F:BZ\"\"),48,0))\"),\"\")","v":""},{"$f":"IFERROR(__xludf.DUMMYFUNCTION(\"iferror(VLOOKUP(B624,IMPORTRANGE(\"\"https://docs.google.com/spreadsheets/d/1-zcOrI_PgX9R0t6_sOpXptmEcBDI4IX9Gfz9-2a6his/edit#gid=0\"\",\"\"RWA!F:BZ\"\"),49,0))\"),\"\")","v":""}]
[{"$nulls":4},{"$f":"IFERROR(__xludf.DUMMYFUNCTION(\"iferror(VLOOKUP(B625,IMPORTRANGE(\"\"https://docs.google.com/spreadsheets/d/1-zcOrI_PgX9R0t6_sOpXptmEcBDI4IX9Gfz9-2a6his/edit#gid=0\"\",\"\"RWA!F:BZ\"\"),44,0))\"),\"\")","v":""},{"$f":"IFERROR(__xludf.DUMMYFUNCTION(\"iferror(VLOOKUP(B625,IMPORTRANGE(\"\"https://docs.google.com/spreadsheets/d/1-zcOrI_PgX9R0t6_sOpXptmEcBDI4IX9Gfz9-2a6his/edit#gid=0\"\",\"\"RWA!F:BZ\"\"),48,0))\"),\"\")","v":""},{"$f":"IFERROR(__xludf.DUMMYFUNCTION(\"iferror(VLOOKUP(B625,IMPORTRANGE(\"\"https://docs.google.com/spreadsheets/d/1-zcOrI_PgX9R0t6_sOpXptmEcBDI4IX9Gfz9-2a6his/edit#gid=0\"\",\"\"RWA!F:BZ\"\"),49,0))\"),\"\")","v":""}]
[{"$nulls":4},{"$f":"IFERROR(__xludf.DUMMYFUNCTION(\"iferror(VLOOKUP(B626,IMPORTRANGE(\"\"https://docs.google.com/spreadsheets/d/1-zcOrI_PgX9R0t6_sOpXptmEcBDI4IX9Gfz9-2a6his/edit#gid=0\"\",\"\"RWA!F:BZ\"\"),44,0))\"),\"\")","v":""},{"$f":"IFERROR(__xludf.DUMMYFUNCTION(\"iferror(VLOOKUP(B626,IMPORTRANGE(\"\"https://docs.google.com/spreadsheets/d/1-zcOrI_PgX9R0t6_sOpXptmEcBDI4IX9Gfz9-2a6his/edit#gid=0\"\",\"\"RWA!F:BZ\"\"),48,0))\"),\"\")","v":""},{"$f":"IFERROR(__xludf.DUMMYFUNCTION(\"iferror(VLOOKUP(B626,IMPORTRANGE(\"\"https://docs.google.com/spreadsheets/d/1-zcOrI_PgX9R0t6_sOpXptmEcBDI4IX9Gfz9-2a6his/edit#gid=0\"\",\"\"RWA!F:BZ\"\"),49,0))\"),\"\")","v":""}]
[{"$nulls":4},{"$f":"IFERROR(__xludf.DUMMYFUNCTION(\"iferror(VLOOKUP(B627,IMPORTRANGE(\"\"https://docs.google.com/spreadsheets/d/1-zcOrI_PgX9R0t6_sOpXptmEcBDI4IX9Gfz9-2a6his/edit#gid=0\"\",\"\"RWA!F:BZ\"\"),44,0))\"),\"\")","v":""},{"$f":"IFERROR(__xludf.DUMMYFUNCTION(\"iferror(VLOOKUP(B627,IMPORTRANGE(\"\"https://docs.google.com/spreadsheets/d/1-zcOrI_PgX9R0t6_sOpXptmEcBDI4IX9Gfz9-2a6his/edit#gid=0\"\",\"\"RWA!F:BZ\"\"),48,0))\"),\"\")","v":""},{"$f":"IFERROR(__xludf.DUMMYFUNCTION(\"iferror(VLOOKUP(B627,IMPORTRANGE(\"\"https://docs.google.com/spreadsheets/d/1-zcOrI_PgX9R0t6_sOpXptmEcBDI4IX9Gfz9-2a6his/edit#gid=0\"\",\"\"RWA!F:BZ\"\"),49,0))\"),\"\")","v":""}]
[{"$nulls":4},{"$f":"IFERROR(__xludf.DUMMYFUNCTION(\"iferror(VLOOKUP(B628,IMPORTRANGE(\"\"https://docs.google.com/spreadsheets/d/1-zcOrI_PgX9R0t6_sOpXptmEcBDI4IX9Gfz9-2a6his/edit#gid=0\"\",\"\"RWA!F:BZ\"\"),44,0))\"),\"\")","v":""},{"$f":"IFERROR(__xludf.DUMMYFUNCTION(\"iferror(VLOOKUP(B628,IMPORTRANGE(\"\"https://docs.google.com/spreadsheets/d/1-zcOrI_PgX9R0t6_sOpXptmEcBDI4IX9Gfz9-2a6his/edit#gid=0\"\",\"\"RWA!F:BZ\"\"),48,0))\"),\"\")","v":""},{"$f":"IFERROR(__xludf.DUMMYFUNCTION(\"iferror(VLOOKUP(B628,IMPORTRANGE(\"\"https://docs.google.com/spreadsheets/d/1-zcOrI_PgX9R0t6_sOpXptmEcBDI4IX9Gfz9-2a6his/edit#gid=0\"\",\"\"RWA!F:BZ\"\"),49,0))\"),\"\")","v":""}]
[{"$nulls":4},{"$f":"IFERROR(__xludf.DUMMYFUNCTION(\"iferror(VLOOKUP(B629,IMPORTRANGE(\"\"https://docs.google.com/spreadsheets/d/1-zcOrI_PgX9R0t6_sOpXptmEcBDI4IX9Gfz9-2a6his/edit#gid=0\"\",\"\"RWA!F:BZ\"\"),44,0))\"),\"\")","v":""},{"$f":"IFERROR(__xludf.DUMMYFUNCTION(\"iferror(VLOOKUP(B629,IMPORTRANGE(\"\"https://docs.google.com/spreadsheets/d/1-zcOrI_PgX9R0t6_sOpXptmEcBDI4IX9Gfz9-2a6his/edit#gid=0\"\",\"\"RWA!F:BZ\"\"),48,0))\"),\"\")","v":""},{"$f":"IFERROR(__xludf.DUMMYFUNCTION(\"iferror(VLOOKUP(B629,IMPORTRANGE(\"\"https://docs.google.com/spreadsheets/d/1-zcOrI_PgX9R0t6_sOpXptmEcBDI4IX9Gfz9-2a6his/edit#gid=0\"\",\"\"RWA!F:BZ\"\"),49,0))\"),\"\")","v":""}]
[{"$nulls":4},{"$f":"IFERROR(__xludf.DUMMYFUNCTION(\"iferror(VLOOKUP(B630,IMPORTRANGE(\"\"https://docs.google.com/spreadsheets/d/1-zcOrI_PgX9R0t6_sOpXptmEcBDI4IX9Gfz9-2a6his/edit#gid=0\"\",\"\"RWA!F:BZ\"\"),44,0))\"),\"\")","v":""},{"$f":"IFERROR(__xludf.DUMMYFUNCTION(\"iferror(VLOOKUP(B630,IMPORTRANGE(\"\"https://docs.google.com/spreadsheets/d/1-zcOrI_PgX9R0t6_sOpXptmEcBDI4IX9Gfz9-2a6his/edit#gid=0\"\",\"\"RWA!F:BZ\"\"),48,0))\"),\"\")","v":""},{"$f":"IFERROR(__xludf.DUMMYFUNCTION(\"iferror(VLOOKUP(B630,IMPORTRANGE(\"\"https://docs.google.com/spreadsheets/d/1-zcOrI_PgX9R0t6_sOpXptmEcBDI4IX9Gfz9-2a6his/edit#gid=0\"\",\"\"RWA!F:BZ\"\"),49,0))\"),\"\")","v":""}]
[{"$nulls":4},{"$f":"IFERROR(__xludf.DUMMYFUNCTION(\"iferror(VLOOKUP(B631,IMPORTRANGE(\"\"https://docs.google.com/spreadsheets/d/1-zcOrI_PgX9R0t6_sOpXptmEcBDI4IX9Gfz9-2a6his/edit#gid=0\"\",\"\"RWA!F:BZ\"\"),44,0))\"),\"\")","v":""},{"$f":"IFERROR(__xludf.DUMMYFUNCTION(\"iferror(VLOOKUP(B631,IMPORTRANGE(\"\"https://docs.google.com/spreadsheets/d/1-zcOrI_PgX9R0t6_sOpXptmEcBDI4IX9Gfz9-2a6his/edit#gid=0\"\",\"\"RWA!F:BZ\"\"),48,0))\"),\"\")","v":""},{"$f":"IFERROR(__xludf.DUMMYFUNCTION(\"iferror(VLOOKUP(B631,IMPORTRANGE(\"\"https://docs.google.com/spreadsheets/d/1-zcOrI_PgX9R0t6_sOpXptmEcBDI4IX9Gfz9-2a6his/edit#gid=0\"\",\"\"RWA!F:BZ\"\"),49,0))\"),\"\")","v":""}]
[{"$nulls":4},{"$f":"IFERROR(__xludf.DUMMYFUNCTION(\"iferror(VLOOKUP(B632,IMPORTRANGE(\"\"https://docs.google.com/spreadsheets/d/1-zcOrI_PgX9R0t6_sOpXptmEcBDI4IX9Gfz9-2a6his/edit#gid=0\"\",\"\"RWA!F:BZ\"\"),44,0))\"),\"\")","v":""},{"$f":"IFERROR(__xludf.DUMMYFUNCTION(\"iferror(VLOOKUP(B632,IMPORTRANGE(\"\"https://docs.google.com/spreadsheets/d/1-zcOrI_PgX9R0t6_sOpXptmEcBDI4IX9Gfz9-2a6his/edit#gid=0\"\",\"\"RWA!F:BZ\"\"),48,0))\"),\"\")","v":""},{"$f":"IFERROR(__xludf.DUMMYFUNCTION(\"iferror(VLOOKUP(B632,IMPORTRANGE(\"\"https://docs.google.com/spreadsheets/d/1-zcOrI_PgX9R0t6_sOpXptmEcBDI4IX9Gfz9-2a6his/edit#gid=0\"\",\"\"RWA!F:BZ\"\"),49,0))\"),\"\")","v":""}]
[{"$nulls":4},{"$f":"IFERROR(__xludf.DUMMYFUNCTION(\"iferror(VLOOKUP(B633,IMPORTRANGE(\"\"https://docs.google.com/spreadsheets/d/1-zcOrI_PgX9R0t6_sOpXptmEcBDI4IX9Gfz9-2a6his/edit#gid=0\"\",\"\"RWA!F:BZ\"\"),44,0))\"),\"\")","v":""},{"$f":"IFERROR(__xludf.DUMMYFUNCTION(\"iferror(VLOOKUP(B633,IMPORTRANGE(\"\"https://docs.google.com/spreadsheets/d/1-zcOrI_PgX9R0t6_sOpXptmEcBDI4IX9Gfz9-2a6his/edit#gid=0\"\",\"\"RWA!F:BZ\"\"),48,0))\"),\"\")","v":""},{"$f":"IFERROR(__xludf.DUMMYFUNCTION(\"iferror(VLOOKUP(B633,IMPORTRANGE(\"\"https://docs.google.com/spreadsheets/d/1-zcOrI_PgX9R0t6_sOpXptmEcBDI4IX9Gfz9-2a6his/edit#gid=0\"\",\"\"RWA!F:BZ\"\"),49,0))\"),\"\")","v":""}]
[{"$nulls":4},{"$f":"IFERROR(__xludf.DUMMYFUNCTION(\"iferror(VLOOKUP(B634,IMPORTRANGE(\"\"https://docs.google.com/spreadsheets/d/1-zcOrI_PgX9R0t6_sOpXptmEcBDI4IX9Gfz9-2a6his/edit#gid=0\"\",\"\"RWA!F:BZ\"\"),44,0))\"),\"\")","v":""},{"$f":"IFERROR(__xludf.DUMMYFUNCTION(\"iferror(VLOOKUP(B634,IMPORTRANGE(\"\"https://docs.google.com/spreadsheets/d/1-zcOrI_PgX9R0t6_sOpXptmEcBDI4IX9Gfz9-2a6his/edit#gid=0\"\",\"\"RWA!F:BZ\"\"),48,0))\"),\"\")","v":""},{"$f":"IFERROR(__xludf.DUMMYFUNCTION(\"iferror(VLOOKUP(B634,IMPORTRANGE(\"\"https://docs.google.com/spreadsheets/d/1-zcOrI_PgX9R0t6_sOpXptmEcBDI4IX9Gfz9-2a6his/edit#gid=0\"\",\"\"RWA!F:BZ\"\"),49,0))\"),\"\")","v":""}]
[{"$nulls":4},{"$f":"IFERROR(__xludf.DUMMYFUNCTION(\"iferror(VLOOKUP(B635,IMPORTRANGE(\"\"https://docs.google.com/spreadsheets/d/1-zcOrI_PgX9R0t6_sOpXptmEcBDI4IX9Gfz9-2a6his/edit#gid=0\"\",\"\"RWA!F:BZ\"\"),44,0))\"),\"\")","v":""},{"$f":"IFERROR(__xludf.DUMMYFUNCTION(\"iferror(VLOOKUP(B635,IMPORTRANGE(\"\"https://docs.google.com/spreadsheets/d/1-zcOrI_PgX9R0t6_sOpXptmEcBDI4IX9Gfz9-2a6his/edit#gid=0\"\",\"\"RWA!F:BZ\"\"),48,0))\"),\"\")","v":""},{"$f":"IFERROR(__xludf.DUMMYFUNCTION(\"iferror(VLOOKUP(B635,IMPORTRANGE(\"\"https://docs.google.com/spreadsheets/d/1-zcOrI_PgX9R0t6_sOpXptmEcBDI4IX9Gfz9-2a6his/edit#gid=0\"\",\"\"RWA!F:BZ\"\"),49,0))\"),\"\")","v":""}]
[{"$nulls":4},{"$f":"IFERROR(__xludf.DUMMYFUNCTION(\"iferror(VLOOKUP(B636,IMPORTRANGE(\"\"https://docs.google.com/spreadsheets/d/1-zcOrI_PgX9R0t6_sOpXptmEcBDI4IX9Gfz9-2a6his/edit#gid=0\"\",\"\"RWA!F:BZ\"\"),44,0))\"),\"\")","v":""},{"$f":"IFERROR(__xludf.DUMMYFUNCTION(\"iferror(VLOOKUP(B636,IMPORTRANGE(\"\"https://docs.google.com/spreadsheets/d/1-zcOrI_PgX9R0t6_sOpXptmEcBDI4IX9Gfz9-2a6his/edit#gid=0\"\",\"\"RWA!F:BZ\"\"),48,0))\"),\"\")","v":""},{"$f":"IFERROR(__xludf.DUMMYFUNCTION(\"iferror(VLOOKUP(B636,IMPORTRANGE(\"\"https://docs.google.com/spreadsheets/d/1-zcOrI_PgX9R0t6_sOpXptmEcBDI4IX9Gfz9-2a6his/edit#gid=0\"\",\"\"RWA!F:BZ\"\"),49,0))\"),\"\")","v":""}]
[{"$nulls":4},{"$f":"IFERROR(__xludf.DUMMYFUNCTION(\"iferror(VLOOKUP(B637,IMPORTRANGE(\"\"https://docs.google.com/spreadsheets/d/1-zcOrI_PgX9R0t6_sOpXptmEcBDI4IX9Gfz9-2a6his/edit#gid=0\"\",\"\"RWA!F:BZ\"\"),44,0))\"),\"\")","v":""},{"$f":"IFERROR(__xludf.DUMMYFUNCTION(\"iferror(VLOOKUP(B637,IMPORTRANGE(\"\"https://docs.google.com/spreadsheets/d/1-zcOrI_PgX9R0t6_sOpXptmEcBDI4IX9Gfz9-2a6his/edit#gid=0\"\",\"\"RWA!F:BZ\"\"),48,0))\"),\"\")","v":""},{"$f":"IFERROR(__xludf.DUMMYFUNCTION(\"iferror(VLOOKUP(B637,IMPORTRANGE(\"\"https://docs.google.com/spreadsheets/d/1-zcOrI_PgX9R0t6_sOpXptmEcBDI4IX9Gfz9-2a6his/edit#gid=0\"\",\"\"RWA!F:BZ\"\"),49,0))\"),\"\")","v":""}]
[{"$nulls":4},{"$f":"IFERROR(__xludf.DUMMYFUNCTION(\"iferror(VLOOKUP(B638,IMPORTRANGE(\"\"https://docs.google.com/spreadsheets/d/1-zcOrI_PgX9R0t6_sOpXptmEcBDI4IX9Gfz9-2a6his/edit#gid=0\"\",\"\"RWA!F:BZ\"\"),44,0))\"),\"\")","v":""},{"$f":"IFERROR(__xludf.DUMMYFUNCTION(\"iferror(VLOOKUP(B638,IMPORTRANGE(\"\"https://docs.google.com/spreadsheets/d/1-zcOrI_PgX9R0t6_sOpXptmEcBDI4IX9Gfz9-2a6his/edit#gid=0\"\",\"\"RWA!F:BZ\"\"),48,0))\"),\"\")","v":""},{"$f":"IFERROR(__xludf.DUMMYFUNCTION(\"iferror(VLOOKUP(B638,IMPORTRANGE(\"\"https://docs.google.com/spreadsheets/d/1-zcOrI_PgX9R0t6_sOpXptmEcBDI4IX9Gfz9-2a6his/edit#gid=0\"\",\"\"RWA!F:BZ\"\"),49,0))\"),\"\")","v":""}]
[{"$nulls":4},{"$f":"IFERROR(__xludf.DUMMYFUNCTION(\"iferror(VLOOKUP(B639,IMPORTRANGE(\"\"https://docs.google.com/spreadsheets/d/1-zcOrI_PgX9R0t6_sOpXptmEcBDI4IX9Gfz9-2a6his/edit#gid=0\"\",\"\"RWA!F:BZ\"\"),44,0))\"),\"\")","v":""},{"$f":"IFERROR(__xludf.DUMMYFUNCTION(\"iferror(VLOOKUP(B639,IMPORTRANGE(\"\"https://docs.google.com/spreadsheets/d/1-zcOrI_PgX9R0t6_sOpXptmEcBDI4IX9Gfz9-2a6his/edit#gid=0\"\",\"\"RWA!F:BZ\"\"),48,0))\"),\"\")","v":""},{"$f":"IFERROR(__xludf.DUMMYFUNCTION(\"iferror(VLOOKUP(B639,IMPORTRANGE(\"\"https://docs.google.com/spreadsheets/d/1-zcOrI_PgX9R0t6_sOpXptmEcBDI4IX9Gfz9-2a6his/edit#gid=0\"\",\"\"RWA!F:BZ\"\"),49,0))\"),\"\")","v":""}]
[{"$nulls":4},{"$f":"IFERROR(__xludf.DUMMYFUNCTION(\"iferror(VLOOKUP(B640,IMPORTRANGE(\"\"https://docs.google.com/spreadsheets/d/1-zcOrI_PgX9R0t6_sOpXptmEcBDI4IX9Gfz9-2a6his/edit#gid=0\"\",\"\"RWA!F:BZ\"\"),44,0))\"),\"\")","v":""},{"$f":"IFERROR(__xludf.DUMMYFUNCTION(\"iferror(VLOOKUP(B640,IMPORTRANGE(\"\"https://docs.google.com/spreadsheets/d/1-zcOrI_PgX9R0t6_sOpXptmEcBDI4IX9Gfz9-2a6his/edit#gid=0\"\",\"\"RWA!F:BZ\"\"),48,0))\"),\"\")","v":""},{"$f":"IFERROR(__xludf.DUMMYFUNCTION(\"iferror(VLOOKUP(B640,IMPORTRANGE(\"\"https://docs.google.com/spreadsheets/d/1-zcOrI_PgX9R0t6_sOpXptmEcBDI4IX9Gfz9-2a6his/edit#gid=0\"\",\"\"RWA!F:BZ\"\"),49,0))\"),\"\")","v":""}]
[{"$nulls":4},{"$f":"IFERROR(__xludf.DUMMYFUNCTION(\"iferror(VLOOKUP(B641,IMPORTRANGE(\"\"https://docs.google.com/spreadsheets/d/1-zcOrI_PgX9R0t6_sOpXptmEcBDI4IX9Gfz9-2a6his/edit#gid=0\"\",\"\"RWA!F:BZ\"\"),44,0))\"),\"\")","v":""},{"$f":"IFERROR(__xludf.DUMMYFUNCTION(\"iferror(VLOOKUP(B641,IMPORTRANGE(\"\"https://docs.google.com/spreadsheets/d/1-zcOrI_PgX9R0t6_sOpXptmEcBDI4IX9Gfz9-2a6his/edit#gid=0\"\",\"\"RWA!F:BZ\"\"),48,0))\"),\"\")","v":""},{"$f":"IFERROR(__xludf.DUMMYFUNCTION(\"iferror(VLOOKUP(B641,IMPORTRANGE(\"\"https://docs.google.com/spreadsheets/d/1-zcOrI_PgX9R0t6_sOpXptmEcBDI4IX9Gfz9-2a6his/edit#gid=0\"\",\"\"RWA!F:BZ\"\"),49,0))\"),\"\")","v":""}]
[{"$nulls":4},{"$f":"IFERROR(__xludf.DUMMYFUNCTION(\"iferror(VLOOKUP(B642,IMPORTRANGE(\"\"https://docs.google.com/spreadsheets/d/1-zcOrI_PgX9R0t6_sOpXptmEcBDI4IX9Gfz9-2a6his/edit#gid=0\"\",\"\"RWA!F:BZ\"\"),44,0))\"),\"\")","v":""},{"$f":"IFERROR(__xludf.DUMMYFUNCTION(\"iferror(VLOOKUP(B642,IMPORTRANGE(\"\"https://docs.google.com/spreadsheets/d/1-zcOrI_PgX9R0t6_sOpXptmEcBDI4IX9Gfz9-2a6his/edit#gid=0\"\",\"\"RWA!F:BZ\"\"),48,0))\"),\"\")","v":""},{"$f":"IFERROR(__xludf.DUMMYFUNCTION(\"iferror(VLOOKUP(B642,IMPORTRANGE(\"\"https://docs.google.com/spreadsheets/d/1-zcOrI_PgX9R0t6_sOpXptmEcBDI4IX9Gfz9-2a6his/edit#gid=0\"\",\"\"RWA!F:BZ\"\"),49,0))\"),\"\")","v":""}]
[{"$nulls":4},{"$f":"IFERROR(__xludf.DUMMYFUNCTION(\"iferror(VLOOKUP(B643,IMPORTRANGE(\"\"https://docs.google.com/spreadsheets/d/1-zcOrI_PgX9R0t6_sOpXptmEcBDI4IX9Gfz9-2a6his/edit#gid=0\"\",\"\"RWA!F:BZ\"\"),44,0))\"),\"\")","v":""},{"$f":"IFERROR(__xludf.DUMMYFUNCTION(\"iferror(VLOOKUP(B643,IMPORTRANGE(\"\"https://docs.google.com/spreadsheets/d/1-zcOrI_PgX9R0t6_sOpXptmEcBDI4IX9Gfz9-2a6his/edit#gid=0\"\",\"\"RWA!F:BZ\"\"),48,0))\"),\"\")","v":""},{"$f":"IFERROR(__xludf.DUMMYFUNCTION(\"iferror(VLOOKUP(B643,IMPORTRANGE(\"\"https://docs.google.com/spreadsheets/d/1-zcOrI_PgX9R0t6_sOpXptmEcBDI4IX9Gfz9-2a6his/edit#gid=0\"\",\"\"RWA!F:BZ\"\"),49,0))\"),\"\")","v":""}]
[{"$nulls":4},{"$f":"IFERROR(__xludf.DUMMYFUNCTION(\"iferror(VLOOKUP(B644,IMPORTRANGE(\"\"https://docs.google.com/spreadsheets/d/1-zcOrI_PgX9R0t6_sOpXptmEcBDI4IX9Gfz9-2a6his/edit#gid=0\"\",\"\"RWA!F:BZ\"\"),44,0))\"),\"\")","v":""},{"$f":"IFERROR(__xludf.DUMMYFUNCTION(\"iferror(VLOOKUP(B644,IMPORTRANGE(\"\"https://docs.google.com/spreadsheets/d/1-zcOrI_PgX9R0t6_sOpXptmEcBDI4IX9Gfz9-2a6his/edit#gid=0\"\",\"\"RWA!F:BZ\"\"),48,0))\"),\"\")","v":""},{"$f":"IFERROR(__xludf.DUMMYFUNCTION(\"iferror(VLOOKUP(B644,IMPORTRANGE(\"\"https://docs.google.com/spreadsheets/d/1-zcOrI_PgX9R0t6_sOpXptmEcBDI4IX9Gfz9-2a6his/edit#gid=0\"\",\"\"RWA!F:BZ\"\"),49,0))\"),\"\")","v":""}]
[{"$nulls":4},{"$f":"IFERROR(__xludf.DUMMYFUNCTION(\"iferror(VLOOKUP(B645,IMPORTRANGE(\"\"https://docs.google.com/spreadsheets/d/1-zcOrI_PgX9R0t6_sOpXptmEcBDI4IX9Gfz9-2a6his/edit#gid=0\"\",\"\"RWA!F:BZ\"\"),44,0))\"),\"\")","v":""},{"$f":"IFERROR(__xludf.DUMMYFUNCTION(\"iferror(VLOOKUP(B645,IMPORTRANGE(\"\"https://docs.google.com/spreadsheets/d/1-zcOrI_PgX9R0t6_sOpXptmEcBDI4IX9Gfz9-2a6his/edit#gid=0\"\",\"\"RWA!F:BZ\"\"),48,0))\"),\"\")","v":""},{"$f":"IFERROR(__xludf.DUMMYFUNCTION(\"iferror(VLOOKUP(B645,IMPORTRANGE(\"\"https://docs.google.com/spreadsheets/d/1-zcOrI_PgX9R0t6_sOpXptmEcBDI4IX9Gfz9-2a6his/edit#gid=0\"\",\"\"RWA!F:BZ\"\"),49,0))\"),\"\")","v":""}]
[{"$nulls":4},{"$f":"IFERROR(__xludf.DUMMYFUNCTION(\"iferror(VLOOKUP(B646,IMPORTRANGE(\"\"https://docs.google.com/spreadsheets/d/1-zcOrI_PgX9R0t6_sOpXptmEcBDI4IX9Gfz9-2a6his/edit#gid=0\"\",\"\"RWA!F:BZ\"\"),44,0))\"),\"\")","v":""},{"$f":"IFERROR(__xludf.DUMMYFUNCTION(\"iferror(VLOOKUP(B646,IMPORTRANGE(\"\"https://docs.google.com/spreadsheets/d/1-zcOrI_PgX9R0t6_sOpXptmEcBDI4IX9Gfz9-2a6his/edit#gid=0\"\",\"\"RWA!F:BZ\"\"),48,0))\"),\"\")","v":""},{"$f":"IFERROR(__xludf.DUMMYFUNCTION(\"iferror(VLOOKUP(B646,IMPORTRANGE(\"\"https://docs.google.com/spreadsheets/d/1-zcOrI_PgX9R0t6_sOpXptmEcBDI4IX9Gfz9-2a6his/edit#gid=0\"\",\"\"RWA!F:BZ\"\"),49,0))\"),\"\")","v":""}]
[{"$nulls":4},{"$f":"IFERROR(__xludf.DUMMYFUNCTION(\"iferror(VLOOKUP(B647,IMPORTRANGE(\"\"https://docs.google.com/spreadsheets/d/1-zcOrI_PgX9R0t6_sOpXptmEcBDI4IX9Gfz9-2a6his/edit#gid=0\"\",\"\"RWA!F:BZ\"\"),44,0))\"),\"\")","v":""},{"$f":"IFERROR(__xludf.DUMMYFUNCTION(\"iferror(VLOOKUP(B647,IMPORTRANGE(\"\"https://docs.google.com/spreadsheets/d/1-zcOrI_PgX9R0t6_sOpXptmEcBDI4IX9Gfz9-2a6his/edit#gid=0\"\",\"\"RWA!F:BZ\"\"),48,0))\"),\"\")","v":""},{"$f":"IFERROR(__xludf.DUMMYFUNCTION(\"iferror(VLOOKUP(B647,IMPORTRANGE(\"\"https://docs.google.com/spreadsheets/d/1-zcOrI_PgX9R0t6_sOpXptmEcBDI4IX9Gfz9-2a6his/edit#gid=0\"\",\"\"RWA!F:BZ\"\"),49,0))\"),\"\")","v":""}]
[{"$nulls":4},{"$f":"IFERROR(__xludf.DUMMYFUNCTION(\"iferror(VLOOKUP(B648,IMPORTRANGE(\"\"https://docs.google.com/spreadsheets/d/1-zcOrI_PgX9R0t6_sOpXptmEcBDI4IX9Gfz9-2a6his/edit#gid=0\"\",\"\"RWA!F:BZ\"\"),44,0))\"),\"\")","v":""},{"$f":"IFERROR(__xludf.DUMMYFUNCTION(\"iferror(VLOOKUP(B648,IMPORTRANGE(\"\"https://docs.google.com/spreadsheets/d/1-zcOrI_PgX9R0t6_sOpXptmEcBDI4IX9Gfz9-2a6his/edit#gid=0\"\",\"\"RWA!F:BZ\"\"),48,0))\"),\"\")","v":""},{"$f":"IFERROR(__xludf.DUMMYFUNCTION(\"iferror(VLOOKUP(B648,IMPORTRANGE(\"\"https://docs.google.com/spreadsheets/d/1-zcOrI_PgX9R0t6_sOpXptmEcBDI4IX9Gfz9-2a6his/edit#gid=0\"\",\"\"RWA!F:BZ\"\"),49,0))\"),\"\")","v":""}]
[{"$nulls":4},{"$f":"IFERROR(__xludf.DUMMYFUNCTION(\"iferror(VLOOKUP(B649,IMPORTRANGE(\"\"https://docs.google.com/spreadsheets/d/1-zcOrI_PgX9R0t6_sOpXptmEcBDI4IX9Gfz9-2a6his/edit#gid=0\"\",\"\"RWA!F:BZ\"\"),44,0))\"),\"\")","v":""},{"$f":"IFERROR(__xludf.DUMMYFUNCTION(\"iferror(VLOOKUP(B649,IMPORTRANGE(\"\"https://docs.google.com/spreadsheets/d/1-zcOrI_PgX9R0t6_sOpXptmEcBDI4IX9Gfz9-2a6his/edit#gid=0\"\",\"\"RWA!F:BZ\"\"),48,0))\"),\"\")","v":""},{"$f":"IFERROR(__xludf.DUMMYFUNCTION(\"iferror(VLOOKUP(B649,IMPORTRANGE(\"\"https://docs.google.com/spreadsheets/d/1-zcOrI_PgX9R0t6_sOpXptmEcBDI4IX9Gfz9-2a6his/edit#gid=0\"\",\"\"RWA!F:BZ\"\"),49,0))\"),\"\")","v":""}]
[{"$nulls":4},{"$f":"IFERROR(__xludf.DUMMYFUNCTION(\"iferror(VLOOKUP(B650,IMPORTRANGE(\"\"https://docs.google.com/spreadsheets/d/1-zcOrI_PgX9R0t6_sOpXptmEcBDI4IX9Gfz9-2a6his/edit#gid=0\"\",\"\"RWA!F:BZ\"\"),44,0))\"),\"\")","v":""},{"$f":"IFERROR(__xludf.DUMMYFUNCTION(\"iferror(VLOOKUP(B650,IMPORTRANGE(\"\"https://docs.google.com/spreadsheets/d/1-zcOrI_PgX9R0t6_sOpXptmEcBDI4IX9Gfz9-2a6his/edit#gid=0\"\",\"\"RWA!F:BZ\"\"),48,0))\"),\"\")","v":""},{"$f":"IFERROR(__xludf.DUMMYFUNCTION(\"iferror(VLOOKUP(B650,IMPORTRANGE(\"\"https://docs.google.com/spreadsheets/d/1-zcOrI_PgX9R0t6_sOpXptmEcBDI4IX9Gfz9-2a6his/edit#gid=0\"\",\"\"RWA!F:BZ\"\"),49,0))\"),\"\")","v":""}]
[{"$nulls":4},{"$f":"IFERROR(__xludf.DUMMYFUNCTION(\"iferror(VLOOKUP(B651,IMPORTRANGE(\"\"https://docs.google.com/spreadsheets/d/1-zcOrI_PgX9R0t6_sOpXptmEcBDI4IX9Gfz9-2a6his/edit#gid=0\"\",\"\"RWA!F:BZ\"\"),44,0))\"),\"\")","v":""},{"$f":"IFERROR(__xludf.DUMMYFUNCTION(\"iferror(VLOOKUP(B651,IMPORTRANGE(\"\"https://docs.google.com/spreadsheets/d/1-zcOrI_PgX9R0t6_sOpXptmEcBDI4IX9Gfz9-2a6his/edit#gid=0\"\",\"\"RWA!F:BZ\"\"),48,0))\"),\"\")","v":""},{"$f":"IFERROR(__xludf.DUMMYFUNCTION(\"iferror(VLOOKUP(B651,IMPORTRANGE(\"\"https://docs.google.com/spreadsheets/d/1-zcOrI_PgX9R0t6_sOpXptmEcBDI4IX9Gfz9-2a6his/edit#gid=0\"\",\"\"RWA!F:BZ\"\"),49,0))\"),\"\")","v":""}]
[{"$nulls":4},{"$f":"IFERROR(__xludf.DUMMYFUNCTION(\"iferror(VLOOKUP(B652,IMPORTRANGE(\"\"https://docs.google.com/spreadsheets/d/1-zcOrI_PgX9R0t6_sOpXptmEcBDI4IX9Gfz9-2a6his/edit#gid=0\"\",\"\"RWA!F:BZ\"\"),44,0))\"),\"\")","v":""},{"$f":"IFERROR(__xludf.DUMMYFUNCTION(\"iferror(VLOOKUP(B652,IMPORTRANGE(\"\"https://docs.google.com/spreadsheets/d/1-zcOrI_PgX9R0t6_sOpXptmEcBDI4IX9Gfz9-2a6his/edit#gid=0\"\",\"\"RWA!F:BZ\"\"),48,0))\"),\"\")","v":""},{"$f":"IFERROR(__xludf.DUMMYFUNCTION(\"iferror(VLOOKUP(B652,IMPORTRANGE(\"\"https://docs.google.com/spreadsheets/d/1-zcOrI_PgX9R0t6_sOpXptmEcBDI4IX9Gfz9-2a6his/edit#gid=0\"\",\"\"RWA!F:BZ\"\"),49,0))\"),\"\")","v":""}]
[{"$nulls":4},{"$f":"IFERROR(__xludf.DUMMYFUNCTION(\"iferror(VLOOKUP(B653,IMPORTRANGE(\"\"https://docs.google.com/spreadsheets/d/1-zcOrI_PgX9R0t6_sOpXptmEcBDI4IX9Gfz9-2a6his/edit#gid=0\"\",\"\"RWA!F:BZ\"\"),44,0))\"),\"\")","v":""},{"$f":"IFERROR(__xludf.DUMMYFUNCTION(\"iferror(VLOOKUP(B653,IMPORTRANGE(\"\"https://docs.google.com/spreadsheets/d/1-zcOrI_PgX9R0t6_sOpXptmEcBDI4IX9Gfz9-2a6his/edit#gid=0\"\",\"\"RWA!F:BZ\"\"),48,0))\"),\"\")","v":""},{"$f":"IFERROR(__xludf.DUMMYFUNCTION(\"iferror(VLOOKUP(B653,IMPORTRANGE(\"\"https://docs.google.com/spreadsheets/d/1-zcOrI_PgX9R0t6_sOpXptmEcBDI4IX9Gfz9-2a6his/edit#gid=0\"\",\"\"RWA!F:BZ\"\"),49,0))\"),\"\")","v":""}]
[{"$nulls":4},{"$f":"IFERROR(__xludf.DUMMYFUNCTION(\"iferror(VLOOKUP(B654,IMPORTRANGE(\"\"https://docs.google.com/spreadsheets/d/1-zcOrI_PgX9R0t6_sOpXptmEcBDI4IX9Gfz9-2a6his/edit#gid=0\"\",\"\"RWA!F:BZ\"\"),44,0))\"),\"\")","v":""},{"$f":"IFERROR(__xludf.DUMMYFUNCTION(\"iferror(VLOOKUP(B654,IMPORTRANGE(\"\"https://docs.google.com/spreadsheets/d/1-zcOrI_PgX9R0t6_sOpXptmEcBDI4IX9Gfz9-2a6his/edit#gid=0\"\",\"\"RWA!F:BZ\"\"),48,0))\"),\"\")","v":""},{"$f":"IFERROR(__xludf.DUMMYFUNCTION(\"iferror(VLOOKUP(B654,IMPORTRANGE(\"\"https://docs.google.com/spreadsheets/d/1-zcOrI_PgX9R0t6_sOpXptmEcBDI4IX9Gfz9-2a6his/edit#gid=0\"\",\"\"RWA!F:BZ\"\"),49,0))\"),\"\")","v":""}]
[{"$nulls":4},{"$f":"IFERROR(__xludf.DUMMYFUNCTION(\"iferror(VLOOKUP(B655,IMPORTRANGE(\"\"https://docs.google.com/spreadsheets/d/1-zcOrI_PgX9R0t6_sOpXptmEcBDI4IX9Gfz9-2a6his/edit#gid=0\"\",\"\"RWA!F:BZ\"\"),44,0))\"),\"\")","v":""},{"$f":"IFERROR(__xludf.DUMMYFUNCTION(\"iferror(VLOOKUP(B655,IMPORTRANGE(\"\"https://docs.google.com/spreadsheets/d/1-zcOrI_PgX9R0t6_sOpXptmEcBDI4IX9Gfz9-2a6his/edit#gid=0\"\",\"\"RWA!F:BZ\"\"),48,0))\"),\"\")","v":""},{"$f":"IFERROR(__xludf.DUMMYFUNCTION(\"iferror(VLOOKUP(B655,IMPORTRANGE(\"\"https://docs.google.com/spreadsheets/d/1-zcOrI_PgX9R0t6_sOpXptmEcBDI4IX9Gfz9-2a6his/edit#gid=0\"\",\"\"RWA!F:BZ\"\"),49,0))\"),\"\")","v":""}]
[{"$nulls":4},{"$f":"IFERROR(__xludf.DUMMYFUNCTION(\"iferror(VLOOKUP(B656,IMPORTRANGE(\"\"https://docs.google.com/spreadsheets/d/1-zcOrI_PgX9R0t6_sOpXptmEcBDI4IX9Gfz9-2a6his/edit#gid=0\"\",\"\"RWA!F:BZ\"\"),44,0))\"),\"\")","v":""},{"$f":"IFERROR(__xludf.DUMMYFUNCTION(\"iferror(VLOOKUP(B656,IMPORTRANGE(\"\"https://docs.google.com/spreadsheets/d/1-zcOrI_PgX9R0t6_sOpXptmEcBDI4IX9Gfz9-2a6his/edit#gid=0\"\",\"\"RWA!F:BZ\"\"),48,0))\"),\"\")","v":""},{"$f":"IFERROR(__xludf.DUMMYFUNCTION(\"iferror(VLOOKUP(B656,IMPORTRANGE(\"\"https://docs.google.com/spreadsheets/d/1-zcOrI_PgX9R0t6_sOpXptmEcBDI4IX9Gfz9-2a6his/edit#gid=0\"\",\"\"RWA!F:BZ\"\"),49,0))\"),\"\")","v":""}]
[{"$nulls":4},{"$f":"IFERROR(__xludf.DUMMYFUNCTION(\"iferror(VLOOKUP(B657,IMPORTRANGE(\"\"https://docs.google.com/spreadsheets/d/1-zcOrI_PgX9R0t6_sOpXptmEcBDI4IX9Gfz9-2a6his/edit#gid=0\"\",\"\"RWA!F:BZ\"\"),44,0))\"),\"\")","v":""},{"$f":"IFERROR(__xludf.DUMMYFUNCTION(\"iferror(VLOOKUP(B657,IMPORTRANGE(\"\"https://docs.google.com/spreadsheets/d/1-zcOrI_PgX9R0t6_sOpXptmEcBDI4IX9Gfz9-2a6his/edit#gid=0\"\",\"\"RWA!F:BZ\"\"),48,0))\"),\"\")","v":""},{"$f":"IFERROR(__xludf.DUMMYFUNCTION(\"iferror(VLOOKUP(B657,IMPORTRANGE(\"\"https://docs.google.com/spreadsheets/d/1-zcOrI_PgX9R0t6_sOpXptmEcBDI4IX9Gfz9-2a6his/edit#gid=0\"\",\"\"RWA!F:BZ\"\"),49,0))\"),\"\")","v":""}]
[{"$nulls":4},{"$f":"IFERROR(__xludf.DUMMYFUNCTION(\"iferror(VLOOKUP(B658,IMPORTRANGE(\"\"https://docs.google.com/spreadsheets/d/1-zcOrI_PgX9R0t6_sOpXptmEcBDI4IX9Gfz9-2a6his/edit#gid=0\"\",\"\"RWA!F:BZ\"\"),44,0))\"),\"\")","v":""},{"$f":"IFERROR(__xludf.DUMMYFUNCTION(\"iferror(VLOOKUP(B658,IMPORTRANGE(\"\"https://docs.google.com/spreadsheets/d/1-zcOrI_PgX9R0t6_sOpXptmEcBDI4IX9Gfz9-2a6his/edit#gid=0\"\",\"\"RWA!F:BZ\"\"),48,0))\"),\"\")","v":""},{"$f":"IFERROR(__xludf.DUMMYFUNCTION(\"iferror(VLOOKUP(B658,IMPORTRANGE(\"\"https://docs.google.com/spreadsheets/d/1-zcOrI_PgX9R0t6_sOpXptmEcBDI4IX9Gfz9-2a6his/edit#gid=0\"\",\"\"RWA!F:BZ\"\"),49,0))\"),\"\")","v":""}]
[{"$nulls":4},{"$f":"IFERROR(__xludf.DUMMYFUNCTION(\"iferror(VLOOKUP(B659,IMPORTRANGE(\"\"https://docs.google.com/spreadsheets/d/1-zcOrI_PgX9R0t6_sOpXptmEcBDI4IX9Gfz9-2a6his/edit#gid=0\"\",\"\"RWA!F:BZ\"\"),44,0))\"),\"\")","v":""},{"$f":"IFERROR(__xludf.DUMMYFUNCTION(\"iferror(VLOOKUP(B659,IMPORTRANGE(\"\"https://docs.google.com/spreadsheets/d/1-zcOrI_PgX9R0t6_sOpXptmEcBDI4IX9Gfz9-2a6his/edit#gid=0\"\",\"\"RWA!F:BZ\"\"),48,0))\"),\"\")","v":""},{"$f":"IFERROR(__xludf.DUMMYFUNCTION(\"iferror(VLOOKUP(B659,IMPORTRANGE(\"\"https://docs.google.com/spreadsheets/d/1-zcOrI_PgX9R0t6_sOpXptmEcBDI4IX9Gfz9-2a6his/edit#gid=0\"\",\"\"RWA!F:BZ\"\"),49,0))\"),\"\")","v":""}]
[{"$nulls":4},{"$f":"IFERROR(__xludf.DUMMYFUNCTION(\"iferror(VLOOKUP(B660,IMPORTRANGE(\"\"https://docs.google.com/spreadsheets/d/1-zcOrI_PgX9R0t6_sOpXptmEcBDI4IX9Gfz9-2a6his/edit#gid=0\"\",\"\"RWA!F:BZ\"\"),44,0))\"),\"\")","v":""},{"$f":"IFERROR(__xludf.DUMMYFUNCTION(\"iferror(VLOOKUP(B660,IMPORTRANGE(\"\"https://docs.google.com/spreadsheets/d/1-zcOrI_PgX9R0t6_sOpXptmEcBDI4IX9Gfz9-2a6his/edit#gid=0\"\",\"\"RWA!F:BZ\"\"),48,0))\"),\"\")","v":""},{"$f":"IFERROR(__xludf.DUMMYFUNCTION(\"iferror(VLOOKUP(B660,IMPORTRANGE(\"\"https://docs.google.com/spreadsheets/d/1-zcOrI_PgX9R0t6_sOpXptmEcBDI4IX9Gfz9-2a6his/edit#gid=0\"\",\"\"RWA!F:BZ\"\"),49,0))\"),\"\")","v":""}]
[{"$nulls":4},{"$f":"IFERROR(__xludf.DUMMYFUNCTION(\"iferror(VLOOKUP(B661,IMPORTRANGE(\"\"https://docs.google.com/spreadsheets/d/1-zcOrI_PgX9R0t6_sOpXptmEcBDI4IX9Gfz9-2a6his/edit#gid=0\"\",\"\"RWA!F:BZ\"\"),44,0))\"),\"\")","v":""},{"$f":"IFERROR(__xludf.DUMMYFUNCTION(\"iferror(VLOOKUP(B661,IMPORTRANGE(\"\"https://docs.google.com/spreadsheets/d/1-zcOrI_PgX9R0t6_sOpXptmEcBDI4IX9Gfz9-2a6his/edit#gid=0\"\",\"\"RWA!F:BZ\"\"),48,0))\"),\"\")","v":""},{"$f":"IFERROR(__xludf.DUMMYFUNCTION(\"iferror(VLOOKUP(B661,IMPORTRANGE(\"\"https://docs.google.com/spreadsheets/d/1-zcOrI_PgX9R0t6_sOpXptmEcBDI4IX9Gfz9-2a6his/edit#gid=0\"\",\"\"RWA!F:BZ\"\"),49,0))\"),\"\")","v":""}]
[{"$nulls":4},{"$f":"IFERROR(__xludf.DUMMYFUNCTION(\"iferror(VLOOKUP(B662,IMPORTRANGE(\"\"https://docs.google.com/spreadsheets/d/1-zcOrI_PgX9R0t6_sOpXptmEcBDI4IX9Gfz9-2a6his/edit#gid=0\"\",\"\"RWA!F:BZ\"\"),44,0))\"),\"\")","v":""},{"$f":"IFERROR(__xludf.DUMMYFUNCTION(\"iferror(VLOOKUP(B662,IMPORTRANGE(\"\"https://docs.google.com/spreadsheets/d/1-zcOrI_PgX9R0t6_sOpXptmEcBDI4IX9Gfz9-2a6his/edit#gid=0\"\",\"\"RWA!F:BZ\"\"),48,0))\"),\"\")","v":""},{"$f":"IFERROR(__xludf.DUMMYFUNCTION(\"iferror(VLOOKUP(B662,IMPORTRANGE(\"\"https://docs.google.com/spreadsheets/d/1-zcOrI_PgX9R0t6_sOpXptmEcBDI4IX9Gfz9-2a6his/edit#gid=0\"\",\"\"RWA!F:BZ\"\"),49,0))\"),\"\")","v":""}]
[{"$nulls":4},{"$f":"IFERROR(__xludf.DUMMYFUNCTION(\"iferror(VLOOKUP(B663,IMPORTRANGE(\"\"https://docs.google.com/spreadsheets/d/1-zcOrI_PgX9R0t6_sOpXptmEcBDI4IX9Gfz9-2a6his/edit#gid=0\"\",\"\"RWA!F:BZ\"\"),44,0))\"),\"\")","v":""},{"$f":"IFERROR(__xludf.DUMMYFUNCTION(\"iferror(VLOOKUP(B663,IMPORTRANGE(\"\"https://docs.google.com/spreadsheets/d/1-zcOrI_PgX9R0t6_sOpXptmEcBDI4IX9Gfz9-2a6his/edit#gid=0\"\",\"\"RWA!F:BZ\"\"),48,0))\"),\"\")","v":""},{"$f":"IFERROR(__xludf.DUMMYFUNCTION(\"iferror(VLOOKUP(B663,IMPORTRANGE(\"\"https://docs.google.com/spreadsheets/d/1-zcOrI_PgX9R0t6_sOpXptmEcBDI4IX9Gfz9-2a6his/edit#gid=0\"\",\"\"RWA!F:BZ\"\"),49,0))\"),\"\")","v":""}]
[{"$nulls":4},{"$f":"IFERROR(__xludf.DUMMYFUNCTION(\"iferror(VLOOKUP(B664,IMPORTRANGE(\"\"https://docs.google.com/spreadsheets/d/1-zcOrI_PgX9R0t6_sOpXptmEcBDI4IX9Gfz9-2a6his/edit#gid=0\"\",\"\"RWA!F:BZ\"\"),44,0))\"),\"\")","v":""},{"$f":"IFERROR(__xludf.DUMMYFUNCTION(\"iferror(VLOOKUP(B664,IMPORTRANGE(\"\"https://docs.google.com/spreadsheets/d/1-zcOrI_PgX9R0t6_sOpXptmEcBDI4IX9Gfz9-2a6his/edit#gid=0\"\",\"\"RWA!F:BZ\"\"),48,0))\"),\"\")","v":""},{"$f":"IFERROR(__xludf.DUMMYFUNCTION(\"iferror(VLOOKUP(B664,IMPORTRANGE(\"\"https://docs.google.com/spreadsheets/d/1-zcOrI_PgX9R0t6_sOpXptmEcBDI4IX9Gfz9-2a6his/edit#gid=0\"\",\"\"RWA!F:BZ\"\"),49,0))\"),\"\")","v":""}]
[{"$nulls":4},{"$f":"IFERROR(__xludf.DUMMYFUNCTION(\"iferror(VLOOKUP(B665,IMPORTRANGE(\"\"https://docs.google.com/spreadsheets/d/1-zcOrI_PgX9R0t6_sOpXptmEcBDI4IX9Gfz9-2a6his/edit#gid=0\"\",\"\"RWA!F:BZ\"\"),44,0))\"),\"\")","v":""},{"$f":"IFERROR(__xludf.DUMMYFUNCTION(\"iferror(VLOOKUP(B665,IMPORTRANGE(\"\"https://docs.google.com/spreadsheets/d/1-zcOrI_PgX9R0t6_sOpXptmEcBDI4IX9Gfz9-2a6his/edit#gid=0\"\",\"\"RWA!F:BZ\"\"),48,0))\"),\"\")","v":""},{"$f":"IFERROR(__xludf.DUMMYFUNCTION(\"iferror(VLOOKUP(B665,IMPORTRANGE(\"\"https://docs.google.com/spreadsheets/d/1-zcOrI_PgX9R0t6_sOpXptmEcBDI4IX9Gfz9-2a6his/edit#gid=0\"\",\"\"RWA!F:BZ\"\"),49,0))\"),\"\")","v":""}]
[{"$nulls":4},{"$f":"IFERROR(__xludf.DUMMYFUNCTION(\"iferror(VLOOKUP(B666,IMPORTRANGE(\"\"https://docs.google.com/spreadsheets/d/1-zcOrI_PgX9R0t6_sOpXptmEcBDI4IX9Gfz9-2a6his/edit#gid=0\"\",\"\"RWA!F:BZ\"\"),44,0))\"),\"\")","v":""},{"$f":"IFERROR(__xludf.DUMMYFUNCTION(\"iferror(VLOOKUP(B666,IMPORTRANGE(\"\"https://docs.google.com/spreadsheets/d/1-zcOrI_PgX9R0t6_sOpXptmEcBDI4IX9Gfz9-2a6his/edit#gid=0\"\",\"\"RWA!F:BZ\"\"),48,0))\"),\"\")","v":""},{"$f":"IFERROR(__xludf.DUMMYFUNCTION(\"iferror(VLOOKUP(B666,IMPORTRANGE(\"\"https://docs.google.com/spreadsheets/d/1-zcOrI_PgX9R0t6_sOpXptmEcBDI4IX9Gfz9-2a6his/edit#gid=0\"\",\"\"RWA!F:BZ\"\"),49,0))\"),\"\")","v":""}]
[{"$nulls":4},{"$f":"IFERROR(__xludf.DUMMYFUNCTION(\"iferror(VLOOKUP(B667,IMPORTRANGE(\"\"https://docs.google.com/spreadsheets/d/1-zcOrI_PgX9R0t6_sOpXptmEcBDI4IX9Gfz9-2a6his/edit#gid=0\"\",\"\"RWA!F:BZ\"\"),44,0))\"),\"\")","v":""},{"$f":"IFERROR(__xludf.DUMMYFUNCTION(\"iferror(VLOOKUP(B667,IMPORTRANGE(\"\"https://docs.google.com/spreadsheets/d/1-zcOrI_PgX9R0t6_sOpXptmEcBDI4IX9Gfz9-2a6his/edit#gid=0\"\",\"\"RWA!F:BZ\"\"),48,0))\"),\"\")","v":""},{"$f":"IFERROR(__xludf.DUMMYFUNCTION(\"iferror(VLOOKUP(B667,IMPORTRANGE(\"\"https://docs.google.com/spreadsheets/d/1-zcOrI_PgX9R0t6_sOpXptmEcBDI4IX9Gfz9-2a6his/edit#gid=0\"\",\"\"RWA!F:BZ\"\"),49,0))\"),\"\")","v":""}]
[{"$nulls":4},{"$f":"IFERROR(__xludf.DUMMYFUNCTION(\"iferror(VLOOKUP(B668,IMPORTRANGE(\"\"https://docs.google.com/spreadsheets/d/1-zcOrI_PgX9R0t6_sOpXptmEcBDI4IX9Gfz9-2a6his/edit#gid=0\"\",\"\"RWA!F:BZ\"\"),44,0))\"),\"\")","v":""},{"$f":"IFERROR(__xludf.DUMMYFUNCTION(\"iferror(VLOOKUP(B668,IMPORTRANGE(\"\"https://docs.google.com/spreadsheets/d/1-zcOrI_PgX9R0t6_sOpXptmEcBDI4IX9Gfz9-2a6his/edit#gid=0\"\",\"\"RWA!F:BZ\"\"),48,0))\"),\"\")","v":""},{"$f":"IFERROR(__xludf.DUMMYFUNCTION(\"iferror(VLOOKUP(B668,IMPORTRANGE(\"\"https://docs.google.com/spreadsheets/d/1-zcOrI_PgX9R0t6_sOpXptmEcBDI4IX9Gfz9-2a6his/edit#gid=0\"\",\"\"RWA!F:BZ\"\"),49,0))\"),\"\")","v":""}]
[{"$nulls":4},{"$f":"IFERROR(__xludf.DUMMYFUNCTION(\"iferror(VLOOKUP(B669,IMPORTRANGE(\"\"https://docs.google.com/spreadsheets/d/1-zcOrI_PgX9R0t6_sOpXptmEcBDI4IX9Gfz9-2a6his/edit#gid=0\"\",\"\"RWA!F:BZ\"\"),44,0))\"),\"\")","v":""},{"$f":"IFERROR(__xludf.DUMMYFUNCTION(\"iferror(VLOOKUP(B669,IMPORTRANGE(\"\"https://docs.google.com/spreadsheets/d/1-zcOrI_PgX9R0t6_sOpXptmEcBDI4IX9Gfz9-2a6his/edit#gid=0\"\",\"\"RWA!F:BZ\"\"),48,0))\"),\"\")","v":""},{"$f":"IFERROR(__xludf.DUMMYFUNCTION(\"iferror(VLOOKUP(B669,IMPORTRANGE(\"\"https://docs.google.com/spreadsheets/d/1-zcOrI_PgX9R0t6_sOpXptmEcBDI4IX9Gfz9-2a6his/edit#gid=0\"\",\"\"RWA!F:BZ\"\"),49,0))\"),\"\")","v":""}]
[{"$nulls":4},{"$f":"IFERROR(__xludf.DUMMYFUNCTION(\"iferror(VLOOKUP(B670,IMPORTRANGE(\"\"https://docs.google.com/spreadsheets/d/1-zcOrI_PgX9R0t6_sOpXptmEcBDI4IX9Gfz9-2a6his/edit#gid=0\"\",\"\"RWA!F:BZ\"\"),44,0))\"),\"\")","v":""},{"$f":"IFERROR(__xludf.DUMMYFUNCTION(\"iferror(VLOOKUP(B670,IMPORTRANGE(\"\"https://docs.google.com/spreadsheets/d/1-zcOrI_PgX9R0t6_sOpXptmEcBDI4IX9Gfz9-2a6his/edit#gid=0\"\",\"\"RWA!F:BZ\"\"),48,0))\"),\"\")","v":""},{"$f":"IFERROR(__xludf.DUMMYFUNCTION(\"iferror(VLOOKUP(B670,IMPORTRANGE(\"\"https://docs.google.com/spreadsheets/d/1-zcOrI_PgX9R0t6_sOpXptmEcBDI4IX9Gfz9-2a6his/edit#gid=0\"\",\"\"RWA!F:BZ\"\"),49,0))\"),\"\")","v":""}]
[{"$nulls":4},{"$f":"IFERROR(__xludf.DUMMYFUNCTION(\"iferror(VLOOKUP(B671,IMPORTRANGE(\"\"https://docs.google.com/spreadsheets/d/1-zcOrI_PgX9R0t6_sOpXptmEcBDI4IX9Gfz9-2a6his/edit#gid=0\"\",\"\"RWA!F:BZ\"\"),44,0))\"),\"\")","v":""},{"$f":"IFERROR(__xludf.DUMMYFUNCTION(\"iferror(VLOOKUP(B671,IMPORTRANGE(\"\"https://docs.google.com/spreadsheets/d/1-zcOrI_PgX9R0t6_sOpXptmEcBDI4IX9Gfz9-2a6his/edit#gid=0\"\",\"\"RWA!F:BZ\"\"),48,0))\"),\"\")","v":""},{"$f":"IFERROR(__xludf.DUMMYFUNCTION(\"iferror(VLOOKUP(B671,IMPORTRANGE(\"\"https://docs.google.com/spreadsheets/d/1-zcOrI_PgX9R0t6_sOpXptmEcBDI4IX9Gfz9-2a6his/edit#gid=0\"\",\"\"RWA!F:BZ\"\"),49,0))\"),\"\")","v":""}]
[{"$nulls":4},{"$f":"IFERROR(__xludf.DUMMYFUNCTION(\"iferror(VLOOKUP(B672,IMPORTRANGE(\"\"https://docs.google.com/spreadsheets/d/1-zcOrI_PgX9R0t6_sOpXptmEcBDI4IX9Gfz9-2a6his/edit#gid=0\"\",\"\"RWA!F:BZ\"\"),44,0))\"),\"\")","v":""},{"$f":"IFERROR(__xludf.DUMMYFUNCTION(\"iferror(VLOOKUP(B672,IMPORTRANGE(\"\"https://docs.google.com/spreadsheets/d/1-zcOrI_PgX9R0t6_sOpXptmEcBDI4IX9Gfz9-2a6his/edit#gid=0\"\",\"\"RWA!F:BZ\"\"),48,0))\"),\"\")","v":""},{"$f":"IFERROR(__xludf.DUMMYFUNCTION(\"iferror(VLOOKUP(B672,IMPORTRANGE(\"\"https://docs.google.com/spreadsheets/d/1-zcOrI_PgX9R0t6_sOpXptmEcBDI4IX9Gfz9-2a6his/edit#gid=0\"\",\"\"RWA!F:BZ\"\"),49,0))\"),\"\")","v":""}]
[{"$nulls":4},{"$f":"IFERROR(__xludf.DUMMYFUNCTION(\"iferror(VLOOKUP(B673,IMPORTRANGE(\"\"https://docs.google.com/spreadsheets/d/1-zcOrI_PgX9R0t6_sOpXptmEcBDI4IX9Gfz9-2a6his/edit#gid=0\"\",\"\"RWA!F:BZ\"\"),44,0))\"),\"\")","v":""},{"$f":"IFERROR(__xludf.DUMMYFUNCTION(\"iferror(VLOOKUP(B673,IMPORTRANGE(\"\"https://docs.google.com/spreadsheets/d/1-zcOrI_PgX9R0t6_sOpXptmEcBDI4IX9Gfz9-2a6his/edit#gid=0\"\",\"\"RWA!F:BZ\"\"),48,0))\"),\"\")","v":""},{"$f":"IFERROR(__xludf.DUMMYFUNCTION(\"iferror(VLOOKUP(B673,IMPORTRANGE(\"\"https://docs.google.com/spreadsheets/d/1-zcOrI_PgX9R0t6_sOpXptmEcBDI4IX9Gfz9-2a6his/edit#gid=0\"\",\"\"RWA!F:BZ\"\"),49,0))\"),\"\")","v":""}]
[{"$nulls":4},{"$f":"IFERROR(__xludf.DUMMYFUNCTION(\"iferror(VLOOKUP(B674,IMPORTRANGE(\"\"https://docs.google.com/spreadsheets/d/1-zcOrI_PgX9R0t6_sOpXptmEcBDI4IX9Gfz9-2a6his/edit#gid=0\"\",\"\"RWA!F:BZ\"\"),44,0))\"),\"\")","v":""},{"$f":"IFERROR(__xludf.DUMMYFUNCTION(\"iferror(VLOOKUP(B674,IMPORTRANGE(\"\"https://docs.google.com/spreadsheets/d/1-zcOrI_PgX9R0t6_sOpXptmEcBDI4IX9Gfz9-2a6his/edit#gid=0\"\",\"\"RWA!F:BZ\"\"),48,0))\"),\"\")","v":""},{"$f":"IFERROR(__xludf.DUMMYFUNCTION(\"iferror(VLOOKUP(B674,IMPORTRANGE(\"\"https://docs.google.com/spreadsheets/d/1-zcOrI_PgX9R0t6_sOpXptmEcBDI4IX9Gfz9-2a6his/edit#gid=0\"\",\"\"RWA!F:BZ\"\"),49,0))\"),\"\")","v":""}]
[{"$nulls":4},{"$f":"IFERROR(__xludf.DUMMYFUNCTION(\"iferror(VLOOKUP(B675,IMPORTRANGE(\"\"https://docs.google.com/spreadsheets/d/1-zcOrI_PgX9R0t6_sOpXptmEcBDI4IX9Gfz9-2a6his/edit#gid=0\"\",\"\"RWA!F:BZ\"\"),44,0))\"),\"\")","v":""},{"$f":"IFERROR(__xludf.DUMMYFUNCTION(\"iferror(VLOOKUP(B675,IMPORTRANGE(\"\"https://docs.google.com/spreadsheets/d/1-zcOrI_PgX9R0t6_sOpXptmEcBDI4IX9Gfz9-2a6his/edit#gid=0\"\",\"\"RWA!F:BZ\"\"),48,0))\"),\"\")","v":""},{"$f":"IFERROR(__xludf.DUMMYFUNCTION(\"iferror(VLOOKUP(B675,IMPORTRANGE(\"\"https://docs.google.com/spreadsheets/d/1-zcOrI_PgX9R0t6_sOpXptmEcBDI4IX9Gfz9-2a6his/edit#gid=0\"\",\"\"RWA!F:BZ\"\"),49,0))\"),\"\")","v":""}]
[{"$nulls":4},{"$f":"IFERROR(__xludf.DUMMYFUNCTION(\"iferror(VLOOKUP(B676,IMPORTRANGE(\"\"https://docs.google.com/spreadsheets/d/1-zcOrI_PgX9R0t6_sOpXptmEcBDI4IX9Gfz9-2a6his/edit#gid=0\"\",\"\"RWA!F:BZ\"\"),44,0))\"),\"\")","v":""},{"$f":"IFERROR(__xludf.DUMMYFUNCTION(\"iferror(VLOOKUP(B676,IMPORTRANGE(\"\"https://docs.google.com/spreadsheets/d/1-zcOrI_PgX9R0t6_sOpXptmEcBDI4IX9Gfz9-2a6his/edit#gid=0\"\",\"\"RWA!F:BZ\"\"),48,0))\"),\"\")","v":""},{"$f":"IFERROR(__xludf.DUMMYFUNCTION(\"iferror(VLOOKUP(B676,IMPORTRANGE(\"\"https://docs.google.com/spreadsheets/d/1-zcOrI_PgX9R0t6_sOpXptmEcBDI4IX9Gfz9-2a6his/edit#gid=0\"\",\"\"RWA!F:BZ\"\"),49,0))\"),\"\")","v":""}]
[{"$nulls":4},{"$f":"IFERROR(__xludf.DUMMYFUNCTION(\"iferror(VLOOKUP(B677,IMPORTRANGE(\"\"https://docs.google.com/spreadsheets/d/1-zcOrI_PgX9R0t6_sOpXptmEcBDI4IX9Gfz9-2a6his/edit#gid=0\"\",\"\"RWA!F:BZ\"\"),44,0))\"),\"\")","v":""},{"$f":"IFERROR(__xludf.DUMMYFUNCTION(\"iferror(VLOOKUP(B677,IMPORTRANGE(\"\"https://docs.google.com/spreadsheets/d/1-zcOrI_PgX9R0t6_sOpXptmEcBDI4IX9Gfz9-2a6his/edit#gid=0\"\",\"\"RWA!F:BZ\"\"),48,0))\"),\"\")","v":""},{"$f":"IFERROR(__xludf.DUMMYFUNCTION(\"iferror(VLOOKUP(B677,IMPORTRANGE(\"\"https://docs.google.com/spreadsheets/d/1-zcOrI_PgX9R0t6_sOpXptmEcBDI4IX9Gfz9-2a6his/edit#gid=0\"\",\"\"RWA!F:BZ\"\"),49,0))\"),\"\")","v":""}]
[{"$nulls":4},{"$f":"IFERROR(__xludf.DUMMYFUNCTION(\"iferror(VLOOKUP(B678,IMPORTRANGE(\"\"https://docs.google.com/spreadsheets/d/1-zcOrI_PgX9R0t6_sOpXptmEcBDI4IX9Gfz9-2a6his/edit#gid=0\"\",\"\"RWA!F:BZ\"\"),44,0))\"),\"\")","v":""},{"$f":"IFERROR(__xludf.DUMMYFUNCTION(\"iferror(VLOOKUP(B678,IMPORTRANGE(\"\"https://docs.google.com/spreadsheets/d/1-zcOrI_PgX9R0t6_sOpXptmEcBDI4IX9Gfz9-2a6his/edit#gid=0\"\",\"\"RWA!F:BZ\"\"),48,0))\"),\"\")","v":""},{"$f":"IFERROR(__xludf.DUMMYFUNCTION(\"iferror(VLOOKUP(B678,IMPORTRANGE(\"\"https://docs.google.com/spreadsheets/d/1-zcOrI_PgX9R0t6_sOpXptmEcBDI4IX9Gfz9-2a6his/edit#gid=0\"\",\"\"RWA!F:BZ\"\"),49,0))\"),\"\")","v":""}]
[{"$nulls":4},{"$f":"IFERROR(__xludf.DUMMYFUNCTION(\"iferror(VLOOKUP(B679,IMPORTRANGE(\"\"https://docs.google.com/spreadsheets/d/1-zcOrI_PgX9R0t6_sOpXptmEcBDI4IX9Gfz9-2a6his/edit#gid=0\"\",\"\"RWA!F:BZ\"\"),44,0))\"),\"\")","v":""},{"$f":"IFERROR(__xludf.DUMMYFUNCTION(\"iferror(VLOOKUP(B679,IMPORTRANGE(\"\"https://docs.google.com/spreadsheets/d/1-zcOrI_PgX9R0t6_sOpXptmEcBDI4IX9Gfz9-2a6his/edit#gid=0\"\",\"\"RWA!F:BZ\"\"),48,0))\"),\"\")","v":""},{"$f":"IFERROR(__xludf.DUMMYFUNCTION(\"iferror(VLOOKUP(B679,IMPORTRANGE(\"\"https://docs.google.com/spreadsheets/d/1-zcOrI_PgX9R0t6_sOpXptmEcBDI4IX9Gfz9-2a6his/edit#gid=0\"\",\"\"RWA!F:BZ\"\"),49,0))\"),\"\")","v":""}]
[{"$nulls":4},{"$f":"IFERROR(__xludf.DUMMYFUNCTION(\"iferror(VLOOKUP(B680,IMPORTRANGE(\"\"https://docs.google.com/spreadsheets/d/1-zcOrI_PgX9R0t6_sOpXptmEcBDI4IX9Gfz9-2a6his/edit#gid=0\"\",\"\"RWA!F:BZ\"\"),44,0))\"),\"\")","v":""},{"$f":"IFERROR(__xludf.DUMMYFUNCTION(\"iferror(VLOOKUP(B680,IMPORTRANGE(\"\"https://docs.google.com/spreadsheets/d/1-zcOrI_PgX9R0t6_sOpXptmEcBDI4IX9Gfz9-2a6his/edit#gid=0\"\",\"\"RWA!F:BZ\"\"),48,0))\"),\"\")","v":""},{"$f":"IFERROR(__xludf.DUMMYFUNCTION(\"iferror(VLOOKUP(B680,IMPORTRANGE(\"\"https://docs.google.com/spreadsheets/d/1-zcOrI_PgX9R0t6_sOpXptmEcBDI4IX9Gfz9-2a6his/edit#gid=0\"\",\"\"RWA!F:BZ\"\"),49,0))\"),\"\")","v":""}]
[{"$nulls":4},{"$f":"IFERROR(__xludf.DUMMYFUNCTION(\"iferror(VLOOKUP(B681,IMPORTRANGE(\"\"https://docs.google.com/spreadsheets/d/1-zcOrI_PgX9R0t6_sOpXptmEcBDI4IX9Gfz9-2a6his/edit#gid=0\"\",\"\"RWA!F:BZ\"\"),44,0))\"),\"\")","v":""},{"$f":"IFERROR(__xludf.DUMMYFUNCTION(\"iferror(VLOOKUP(B681,IMPORTRANGE(\"\"https://docs.google.com/spreadsheets/d/1-zcOrI_PgX9R0t6_sOpXptmEcBDI4IX9Gfz9-2a6his/edit#gid=0\"\",\"\"RWA!F:BZ\"\"),48,0))\"),\"\")","v":""},{"$f":"IFERROR(__xludf.DUMMYFUNCTION(\"iferror(VLOOKUP(B681,IMPORTRANGE(\"\"https://docs.google.com/spreadsheets/d/1-zcOrI_PgX9R0t6_sOpXptmEcBDI4IX9Gfz9-2a6his/edit#gid=0\"\",\"\"RWA!F:BZ\"\"),49,0))\"),\"\")","v":""}]
[{"$nulls":4},{"$f":"IFERROR(__xludf.DUMMYFUNCTION(\"iferror(VLOOKUP(B682,IMPORTRANGE(\"\"https://docs.google.com/spreadsheets/d/1-zcOrI_PgX9R0t6_sOpXptmEcBDI4IX9Gfz9-2a6his/edit#gid=0\"\",\"\"RWA!F:BZ\"\"),44,0))\"),\"\")","v":""},{"$f":"IFERROR(__xludf.DUMMYFUNCTION(\"iferror(VLOOKUP(B682,IMPORTRANGE(\"\"https://docs.google.com/spreadsheets/d/1-zcOrI_PgX9R0t6_sOpXptmEcBDI4IX9Gfz9-2a6his/edit#gid=0\"\",\"\"RWA!F:BZ\"\"),48,0))\"),\"\")","v":""},{"$f":"IFERROR(__xludf.DUMMYFUNCTION(\"iferror(VLOOKUP(B682,IMPORTRANGE(\"\"https://docs.google.com/spreadsheets/d/1-zcOrI_PgX9R0t6_sOpXptmEcBDI4IX9Gfz9-2a6his/edit#gid=0\"\",\"\"RWA!F:BZ\"\"),49,0))\"),\"\")","v":""}]
[{"$nulls":4},{"$f":"IFERROR(__xludf.DUMMYFUNCTION(\"iferror(VLOOKUP(B683,IMPORTRANGE(\"\"https://docs.google.com/spreadsheets/d/1-zcOrI_PgX9R0t6_sOpXptmEcBDI4IX9Gfz9-2a6his/edit#gid=0\"\",\"\"RWA!F:BZ\"\"),44,0))\"),\"\")","v":""},{"$f":"IFERROR(__xludf.DUMMYFUNCTION(\"iferror(VLOOKUP(B683,IMPORTRANGE(\"\"https://docs.google.com/spreadsheets/d/1-zcOrI_PgX9R0t6_sOpXptmEcBDI4IX9Gfz9-2a6his/edit#gid=0\"\",\"\"RWA!F:BZ\"\"),48,0))\"),\"\")","v":""},{"$f":"IFERROR(__xludf.DUMMYFUNCTION(\"iferror(VLOOKUP(B683,IMPORTRANGE(\"\"https://docs.google.com/spreadsheets/d/1-zcOrI_PgX9R0t6_sOpXptmEcBDI4IX9Gfz9-2a6his/edit#gid=0\"\",\"\"RWA!F:BZ\"\"),49,0))\"),\"\")","v":""}]
[{"$nulls":4},{"$f":"IFERROR(__xludf.DUMMYFUNCTION(\"iferror(VLOOKUP(B684,IMPORTRANGE(\"\"https://docs.google.com/spreadsheets/d/1-zcOrI_PgX9R0t6_sOpXptmEcBDI4IX9Gfz9-2a6his/edit#gid=0\"\",\"\"RWA!F:BZ\"\"),44,0))\"),\"\")","v":""},{"$f":"IFERROR(__xludf.DUMMYFUNCTION(\"iferror(VLOOKUP(B684,IMPORTRANGE(\"\"https://docs.google.com/spreadsheets/d/1-zcOrI_PgX9R0t6_sOpXptmEcBDI4IX9Gfz9-2a6his/edit#gid=0\"\",\"\"RWA!F:BZ\"\"),48,0))\"),\"\")","v":""},{"$f":"IFERROR(__xludf.DUMMYFUNCTION(\"iferror(VLOOKUP(B684,IMPORTRANGE(\"\"https://docs.google.com/spreadsheets/d/1-zcOrI_PgX9R0t6_sOpXptmEcBDI4IX9Gfz9-2a6his/edit#gid=0\"\",\"\"RWA!F:BZ\"\"),49,0))\"),\"\")","v":""}]
[{"$nulls":4},{"$f":"IFERROR(__xludf.DUMMYFUNCTION(\"iferror(VLOOKUP(B685,IMPORTRANGE(\"\"https://docs.google.com/spreadsheets/d/1-zcOrI_PgX9R0t6_sOpXptmEcBDI4IX9Gfz9-2a6his/edit#gid=0\"\",\"\"RWA!F:BZ\"\"),44,0))\"),\"\")","v":""},{"$f":"IFERROR(__xludf.DUMMYFUNCTION(\"iferror(VLOOKUP(B685,IMPORTRANGE(\"\"https://docs.google.com/spreadsheets/d/1-zcOrI_PgX9R0t6_sOpXptmEcBDI4IX9Gfz9-2a6his/edit#gid=0\"\",\"\"RWA!F:BZ\"\"),48,0))\"),\"\")","v":""},{"$f":"IFERROR(__xludf.DUMMYFUNCTION(\"iferror(VLOOKUP(B685,IMPORTRANGE(\"\"https://docs.google.com/spreadsheets/d/1-zcOrI_PgX9R0t6_sOpXptmEcBDI4IX9Gfz9-2a6his/edit#gid=0\"\",\"\"RWA!F:BZ\"\"),49,0))\"),\"\")","v":""}]
[{"$nulls":4},{"$f":"IFERROR(__xludf.DUMMYFUNCTION(\"iferror(VLOOKUP(B686,IMPORTRANGE(\"\"https://docs.google.com/spreadsheets/d/1-zcOrI_PgX9R0t6_sOpXptmEcBDI4IX9Gfz9-2a6his/edit#gid=0\"\",\"\"RWA!F:BZ\"\"),44,0))\"),\"\")","v":""},{"$f":"IFERROR(__xludf.DUMMYFUNCTION(\"iferror(VLOOKUP(B686,IMPORTRANGE(\"\"https://docs.google.com/spreadsheets/d/1-zcOrI_PgX9R0t6_sOpXptmEcBDI4IX9Gfz9-2a6his/edit#gid=0\"\",\"\"RWA!F:BZ\"\"),48,0))\"),\"\")","v":""},{"$f":"IFERROR(__xludf.DUMMYFUNCTION(\"iferror(VLOOKUP(B686,IMPORTRANGE(\"\"https://docs.google.com/spreadsheets/d/1-zcOrI_PgX9R0t6_sOpXptmEcBDI4IX9Gfz9-2a6his/edit#gid=0\"\",\"\"RWA!F:BZ\"\"),49,0))\"),\"\")","v":""}]
[{"$nulls":4},{"$f":"IFERROR(__xludf.DUMMYFUNCTION(\"iferror(VLOOKUP(B687,IMPORTRANGE(\"\"https://docs.google.com/spreadsheets/d/1-zcOrI_PgX9R0t6_sOpXptmEcBDI4IX9Gfz9-2a6his/edit#gid=0\"\",\"\"RWA!F:BZ\"\"),44,0))\"),\"\")","v":""},{"$f":"IFERROR(__xludf.DUMMYFUNCTION(\"iferror(VLOOKUP(B687,IMPORTRANGE(\"\"https://docs.google.com/spreadsheets/d/1-zcOrI_PgX9R0t6_sOpXptmEcBDI4IX9Gfz9-2a6his/edit#gid=0\"\",\"\"RWA!F:BZ\"\"),48,0))\"),\"\")","v":""},{"$f":"IFERROR(__xludf.DUMMYFUNCTION(\"iferror(VLOOKUP(B687,IMPORTRANGE(\"\"https://docs.google.com/spreadsheets/d/1-zcOrI_PgX9R0t6_sOpXptmEcBDI4IX9Gfz9-2a6his/edit#gid=0\"\",\"\"RWA!F:BZ\"\"),49,0))\"),\"\")","v":""}]
[{"$nulls":4},{"$f":"IFERROR(__xludf.DUMMYFUNCTION(\"iferror(VLOOKUP(B688,IMPORTRANGE(\"\"https://docs.google.com/spreadsheets/d/1-zcOrI_PgX9R0t6_sOpXptmEcBDI4IX9Gfz9-2a6his/edit#gid=0\"\",\"\"RWA!F:BZ\"\"),44,0))\"),\"\")","v":""},{"$f":"IFERROR(__xludf.DUMMYFUNCTION(\"iferror(VLOOKUP(B688,IMPORTRANGE(\"\"https://docs.google.com/spreadsheets/d/1-zcOrI_PgX9R0t6_sOpXptmEcBDI4IX9Gfz9-2a6his/edit#gid=0\"\",\"\"RWA!F:BZ\"\"),48,0))\"),\"\")","v":""},{"$f":"IFERROR(__xludf.DUMMYFUNCTION(\"iferror(VLOOKUP(B688,IMPORTRANGE(\"\"https://docs.google.com/spreadsheets/d/1-zcOrI_PgX9R0t6_sOpXptmEcBDI4IX9Gfz9-2a6his/edit#gid=0\"\",\"\"RWA!F:BZ\"\"),49,0))\"),\"\")","v":""}]
[{"$nulls":4},{"$f":"IFERROR(__xludf.DUMMYFUNCTION(\"iferror(VLOOKUP(B689,IMPORTRANGE(\"\"https://docs.google.com/spreadsheets/d/1-zcOrI_PgX9R0t6_sOpXptmEcBDI4IX9Gfz9-2a6his/edit#gid=0\"\",\"\"RWA!F:BZ\"\"),44,0))\"),\"\")","v":""},{"$f":"IFERROR(__xludf.DUMMYFUNCTION(\"iferror(VLOOKUP(B689,IMPORTRANGE(\"\"https://docs.google.com/spreadsheets/d/1-zcOrI_PgX9R0t6_sOpXptmEcBDI4IX9Gfz9-2a6his/edit#gid=0\"\",\"\"RWA!F:BZ\"\"),48,0))\"),\"\")","v":""},{"$f":"IFERROR(__xludf.DUMMYFUNCTION(\"iferror(VLOOKUP(B689,IMPORTRANGE(\"\"https://docs.google.com/spreadsheets/d/1-zcOrI_PgX9R0t6_sOpXptmEcBDI4IX9Gfz9-2a6his/edit#gid=0\"\",\"\"RWA!F:BZ\"\"),49,0))\"),\"\")","v":""}]
[{"$nulls":4},{"$f":"IFERROR(__xludf.DUMMYFUNCTION(\"iferror(VLOOKUP(B690,IMPORTRANGE(\"\"https://docs.google.com/spreadsheets/d/1-zcOrI_PgX9R0t6_sOpXptmEcBDI4IX9Gfz9-2a6his/edit#gid=0\"\",\"\"RWA!F:BZ\"\"),44,0))\"),\"\")","v":""},{"$f":"IFERROR(__xludf.DUMMYFUNCTION(\"iferror(VLOOKUP(B690,IMPORTRANGE(\"\"https://docs.google.com/spreadsheets/d/1-zcOrI_PgX9R0t6_sOpXptmEcBDI4IX9Gfz9-2a6his/edit#gid=0\"\",\"\"RWA!F:BZ\"\"),48,0))\"),\"\")","v":""},{"$f":"IFERROR(__xludf.DUMMYFUNCTION(\"iferror(VLOOKUP(B690,IMPORTRANGE(\"\"https://docs.google.com/spreadsheets/d/1-zcOrI_PgX9R0t6_sOpXptmEcBDI4IX9Gfz9-2a6his/edit#gid=0\"\",\"\"RWA!F:BZ\"\"),49,0))\"),\"\")","v":""}]
[{"$nulls":4},{"$f":"IFERROR(__xludf.DUMMYFUNCTION(\"iferror(VLOOKUP(B691,IMPORTRANGE(\"\"https://docs.google.com/spreadsheets/d/1-zcOrI_PgX9R0t6_sOpXptmEcBDI4IX9Gfz9-2a6his/edit#gid=0\"\",\"\"RWA!F:BZ\"\"),44,0))\"),\"\")","v":""},{"$f":"IFERROR(__xludf.DUMMYFUNCTION(\"iferror(VLOOKUP(B691,IMPORTRANGE(\"\"https://docs.google.com/spreadsheets/d/1-zcOrI_PgX9R0t6_sOpXptmEcBDI4IX9Gfz9-2a6his/edit#gid=0\"\",\"\"RWA!F:BZ\"\"),48,0))\"),\"\")","v":""},{"$f":"IFERROR(__xludf.DUMMYFUNCTION(\"iferror(VLOOKUP(B691,IMPORTRANGE(\"\"https://docs.google.com/spreadsheets/d/1-zcOrI_PgX9R0t6_sOpXptmEcBDI4IX9Gfz9-2a6his/edit#gid=0\"\",\"\"RWA!F:BZ\"\"),49,0))\"),\"\")","v":""}]
[{"$nulls":4},{"$f":"IFERROR(__xludf.DUMMYFUNCTION(\"iferror(VLOOKUP(B692,IMPORTRANGE(\"\"https://docs.google.com/spreadsheets/d/1-zcOrI_PgX9R0t6_sOpXptmEcBDI4IX9Gfz9-2a6his/edit#gid=0\"\",\"\"RWA!F:BZ\"\"),44,0))\"),\"\")","v":""},{"$f":"IFERROR(__xludf.DUMMYFUNCTION(\"iferror(VLOOKUP(B692,IMPORTRANGE(\"\"https://docs.google.com/spreadsheets/d/1-zcOrI_PgX9R0t6_sOpXptmEcBDI4IX9Gfz9-2a6his/edit#gid=0\"\",\"\"RWA!F:BZ\"\"),48,0))\"),\"\")","v":""},{"$f":"IFERROR(__xludf.DUMMYFUNCTION(\"iferror(VLOOKUP(B692,IMPORTRANGE(\"\"https://docs.google.com/spreadsheets/d/1-zcOrI_PgX9R0t6_sOpXptmEcBDI4IX9Gfz9-2a6his/edit#gid=0\"\",\"\"RWA!F:BZ\"\"),49,0))\"),\"\")","v":""}]
[{"$nulls":4},{"$f":"IFERROR(__xludf.DUMMYFUNCTION(\"iferror(VLOOKUP(B693,IMPORTRANGE(\"\"https://docs.google.com/spreadsheets/d/1-zcOrI_PgX9R0t6_sOpXptmEcBDI4IX9Gfz9-2a6his/edit#gid=0\"\",\"\"RWA!F:BZ\"\"),44,0))\"),\"\")","v":""},{"$f":"IFERROR(__xludf.DUMMYFUNCTION(\"iferror(VLOOKUP(B693,IMPORTRANGE(\"\"https://docs.google.com/spreadsheets/d/1-zcOrI_PgX9R0t6_sOpXptmEcBDI4IX9Gfz9-2a6his/edit#gid=0\"\",\"\"RWA!F:BZ\"\"),48,0))\"),\"\")","v":""},{"$f":"IFERROR(__xludf.DUMMYFUNCTION(\"iferror(VLOOKUP(B693,IMPORTRANGE(\"\"https://docs.google.com/spreadsheets/d/1-zcOrI_PgX9R0t6_sOpXptmEcBDI4IX9Gfz9-2a6his/edit#gid=0\"\",\"\"RWA!F:BZ\"\"),49,0))\"),\"\")","v":""}]
[{"$nulls":4},{"$f":"IFERROR(__xludf.DUMMYFUNCTION(\"iferror(VLOOKUP(B694,IMPORTRANGE(\"\"https://docs.google.com/spreadsheets/d/1-zcOrI_PgX9R0t6_sOpXptmEcBDI4IX9Gfz9-2a6his/edit#gid=0\"\",\"\"RWA!F:BZ\"\"),44,0))\"),\"\")","v":""},{"$f":"IFERROR(__xludf.DUMMYFUNCTION(\"iferror(VLOOKUP(B694,IMPORTRANGE(\"\"https://docs.google.com/spreadsheets/d/1-zcOrI_PgX9R0t6_sOpXptmEcBDI4IX9Gfz9-2a6his/edit#gid=0\"\",\"\"RWA!F:BZ\"\"),48,0))\"),\"\")","v":""},{"$f":"IFERROR(__xludf.DUMMYFUNCTION(\"iferror(VLOOKUP(B694,IMPORTRANGE(\"\"https://docs.google.com/spreadsheets/d/1-zcOrI_PgX9R0t6_sOpXptmEcBDI4IX9Gfz9-2a6his/edit#gid=0\"\",\"\"RWA!F:BZ\"\"),49,0))\"),\"\")","v":""}]
[{"$nulls":4},{"$f":"IFERROR(__xludf.DUMMYFUNCTION(\"iferror(VLOOKUP(B695,IMPORTRANGE(\"\"https://docs.google.com/spreadsheets/d/1-zcOrI_PgX9R0t6_sOpXptmEcBDI4IX9Gfz9-2a6his/edit#gid=0\"\",\"\"RWA!F:BZ\"\"),44,0))\"),\"\")","v":""},{"$f":"IFERROR(__xludf.DUMMYFUNCTION(\"iferror(VLOOKUP(B695,IMPORTRANGE(\"\"https://docs.google.com/spreadsheets/d/1-zcOrI_PgX9R0t6_sOpXptmEcBDI4IX9Gfz9-2a6his/edit#gid=0\"\",\"\"RWA!F:BZ\"\"),48,0))\"),\"\")","v":""},{"$f":"IFERROR(__xludf.DUMMYFUNCTION(\"iferror(VLOOKUP(B695,IMPORTRANGE(\"\"https://docs.google.com/spreadsheets/d/1-zcOrI_PgX9R0t6_sOpXptmEcBDI4IX9Gfz9-2a6his/edit#gid=0\"\",\"\"RWA!F:BZ\"\"),49,0))\"),\"\")","v":""}]
[{"$nulls":4},{"$f":"IFERROR(__xludf.DUMMYFUNCTION(\"iferror(VLOOKUP(B696,IMPORTRANGE(\"\"https://docs.google.com/spreadsheets/d/1-zcOrI_PgX9R0t6_sOpXptmEcBDI4IX9Gfz9-2a6his/edit#gid=0\"\",\"\"RWA!F:BZ\"\"),44,0))\"),\"\")","v":""},{"$f":"IFERROR(__xludf.DUMMYFUNCTION(\"iferror(VLOOKUP(B696,IMPORTRANGE(\"\"https://docs.google.com/spreadsheets/d/1-zcOrI_PgX9R0t6_sOpXptmEcBDI4IX9Gfz9-2a6his/edit#gid=0\"\",\"\"RWA!F:BZ\"\"),48,0))\"),\"\")","v":""},{"$f":"IFERROR(__xludf.DUMMYFUNCTION(\"iferror(VLOOKUP(B696,IMPORTRANGE(\"\"https://docs.google.com/spreadsheets/d/1-zcOrI_PgX9R0t6_sOpXptmEcBDI4IX9Gfz9-2a6his/edit#gid=0\"\",\"\"RWA!F:BZ\"\"),49,0))\"),\"\")","v":""}]
[{"$nulls":4},{"$f":"IFERROR(__xludf.DUMMYFUNCTION(\"iferror(VLOOKUP(B697,IMPORTRANGE(\"\"https://docs.google.com/spreadsheets/d/1-zcOrI_PgX9R0t6_sOpXptmEcBDI4IX9Gfz9-2a6his/edit#gid=0\"\",\"\"RWA!F:BZ\"\"),44,0))\"),\"\")","v":""},{"$f":"IFERROR(__xludf.DUMMYFUNCTION(\"iferror(VLOOKUP(B697,IMPORTRANGE(\"\"https://docs.google.com/spreadsheets/d/1-zcOrI_PgX9R0t6_sOpXptmEcBDI4IX9Gfz9-2a6his/edit#gid=0\"\",\"\"RWA!F:BZ\"\"),48,0))\"),\"\")","v":""},{"$f":"IFERROR(__xludf.DUMMYFUNCTION(\"iferror(VLOOKUP(B697,IMPORTRANGE(\"\"https://docs.google.com/spreadsheets/d/1-zcOrI_PgX9R0t6_sOpXptmEcBDI4IX9Gfz9-2a6his/edit#gid=0\"\",\"\"RWA!F:BZ\"\"),49,0))\"),\"\")","v":""}]
[{"$nulls":4},{"$f":"IFERROR(__xludf.DUMMYFUNCTION(\"iferror(VLOOKUP(B698,IMPORTRANGE(\"\"https://docs.google.com/spreadsheets/d/1-zcOrI_PgX9R0t6_sOpXptmEcBDI4IX9Gfz9-2a6his/edit#gid=0\"\",\"\"RWA!F:BZ\"\"),44,0))\"),\"\")","v":""},{"$f":"IFERROR(__xludf.DUMMYFUNCTION(\"iferror(VLOOKUP(B698,IMPORTRANGE(\"\"https://docs.google.com/spreadsheets/d/1-zcOrI_PgX9R0t6_sOpXptmEcBDI4IX9Gfz9-2a6his/edit#gid=0\"\",\"\"RWA!F:BZ\"\"),48,0))\"),\"\")","v":""},{"$f":"IFERROR(__xludf.DUMMYFUNCTION(\"iferror(VLOOKUP(B698,IMPORTRANGE(\"\"https://docs.google.com/spreadsheets/d/1-zcOrI_PgX9R0t6_sOpXptmEcBDI4IX9Gfz9-2a6his/edit#gid=0\"\",\"\"RWA!F:BZ\"\"),49,0))\"),\"\")","v":""}]
[{"$nulls":4},{"$f":"IFERROR(__xludf.DUMMYFUNCTION(\"iferror(VLOOKUP(B699,IMPORTRANGE(\"\"https://docs.google.com/spreadsheets/d/1-zcOrI_PgX9R0t6_sOpXptmEcBDI4IX9Gfz9-2a6his/edit#gid=0\"\",\"\"RWA!F:BZ\"\"),44,0))\"),\"\")","v":""},{"$f":"IFERROR(__xludf.DUMMYFUNCTION(\"iferror(VLOOKUP(B699,IMPORTRANGE(\"\"https://docs.google.com/spreadsheets/d/1-zcOrI_PgX9R0t6_sOpXptmEcBDI4IX9Gfz9-2a6his/edit#gid=0\"\",\"\"RWA!F:BZ\"\"),48,0))\"),\"\")","v":""},{"$f":"IFERROR(__xludf.DUMMYFUNCTION(\"iferror(VLOOKUP(B699,IMPORTRANGE(\"\"https://docs.google.com/spreadsheets/d/1-zcOrI_PgX9R0t6_sOpXptmEcBDI4IX9Gfz9-2a6his/edit#gid=0\"\",\"\"RWA!F:BZ\"\"),49,0))\"),\"\")","v":""}]
[{"$nulls":4},{"$f":"IFERROR(__xludf.DUMMYFUNCTION(\"iferror(VLOOKUP(B700,IMPORTRANGE(\"\"https://docs.google.com/spreadsheets/d/1-zcOrI_PgX9R0t6_sOpXptmEcBDI4IX9Gfz9-2a6his/edit#gid=0\"\",\"\"RWA!F:BZ\"\"),44,0))\"),\"\")","v":""},{"$f":"IFERROR(__xludf.DUMMYFUNCTION(\"iferror(VLOOKUP(B700,IMPORTRANGE(\"\"https://docs.google.com/spreadsheets/d/1-zcOrI_PgX9R0t6_sOpXptmEcBDI4IX9Gfz9-2a6his/edit#gid=0\"\",\"\"RWA!F:BZ\"\"),48,0))\"),\"\")","v":""},{"$f":"IFERROR(__xludf.DUMMYFUNCTION(\"iferror(VLOOKUP(B700,IMPORTRANGE(\"\"https://docs.google.com/spreadsheets/d/1-zcOrI_PgX9R0t6_sOpXptmEcBDI4IX9Gfz9-2a6his/edit#gid=0\"\",\"\"RWA!F:BZ\"\"),49,0))\"),\"\")","v":""}]
[{"$nulls":4},{"$f":"IFERROR(__xludf.DUMMYFUNCTION(\"iferror(VLOOKUP(B701,IMPORTRANGE(\"\"https://docs.google.com/spreadsheets/d/1-zcOrI_PgX9R0t6_sOpXptmEcBDI4IX9Gfz9-2a6his/edit#gid=0\"\",\"\"RWA!F:BZ\"\"),44,0))\"),\"\")","v":""},{"$f":"IFERROR(__xludf.DUMMYFUNCTION(\"iferror(VLOOKUP(B701,IMPORTRANGE(\"\"https://docs.google.com/spreadsheets/d/1-zcOrI_PgX9R0t6_sOpXptmEcBDI4IX9Gfz9-2a6his/edit#gid=0\"\",\"\"RWA!F:BZ\"\"),48,0))\"),\"\")","v":""},{"$f":"IFERROR(__xludf.DUMMYFUNCTION(\"iferror(VLOOKUP(B701,IMPORTRANGE(\"\"https://docs.google.com/spreadsheets/d/1-zcOrI_PgX9R0t6_sOpXptmEcBDI4IX9Gfz9-2a6his/edit#gid=0\"\",\"\"RWA!F:BZ\"\"),49,0))\"),\"\")","v":""}]
[{"$nulls":4},{"$f":"IFERROR(__xludf.DUMMYFUNCTION(\"iferror(VLOOKUP(B702,IMPORTRANGE(\"\"https://docs.google.com/spreadsheets/d/1-zcOrI_PgX9R0t6_sOpXptmEcBDI4IX9Gfz9-2a6his/edit#gid=0\"\",\"\"RWA!F:BZ\"\"),44,0))\"),\"\")","v":""},{"$f":"IFERROR(__xludf.DUMMYFUNCTION(\"iferror(VLOOKUP(B702,IMPORTRANGE(\"\"https://docs.google.com/spreadsheets/d/1-zcOrI_PgX9R0t6_sOpXptmEcBDI4IX9Gfz9-2a6his/edit#gid=0\"\",\"\"RWA!F:BZ\"\"),48,0))\"),\"\")","v":""},{"$f":"IFERROR(__xludf.DUMMYFUNCTION(\"iferror(VLOOKUP(B702,IMPORTRANGE(\"\"https://docs.google.com/spreadsheets/d/1-zcOrI_PgX9R0t6_sOpXptmEcBDI4IX9Gfz9-2a6his/edit#gid=0\"\",\"\"RWA!F:BZ\"\"),49,0))\"),\"\")","v":""}]
[{"$nulls":4},{"$f":"IFERROR(__xludf.DUMMYFUNCTION(\"iferror(VLOOKUP(B703,IMPORTRANGE(\"\"https://docs.google.com/spreadsheets/d/1-zcOrI_PgX9R0t6_sOpXptmEcBDI4IX9Gfz9-2a6his/edit#gid=0\"\",\"\"RWA!F:BZ\"\"),44,0))\"),\"\")","v":""},{"$f":"IFERROR(__xludf.DUMMYFUNCTION(\"iferror(VLOOKUP(B703,IMPORTRANGE(\"\"https://docs.google.com/spreadsheets/d/1-zcOrI_PgX9R0t6_sOpXptmEcBDI4IX9Gfz9-2a6his/edit#gid=0\"\",\"\"RWA!F:BZ\"\"),48,0))\"),\"\")","v":""},{"$f":"IFERROR(__xludf.DUMMYFUNCTION(\"iferror(VLOOKUP(B703,IMPORTRANGE(\"\"https://docs.google.com/spreadsheets/d/1-zcOrI_PgX9R0t6_sOpXptmEcBDI4IX9Gfz9-2a6his/edit#gid=0\"\",\"\"RWA!F:BZ\"\"),49,0))\"),\"\")","v":""}]
[{"$nulls":4},{"$f":"IFERROR(__xludf.DUMMYFUNCTION(\"iferror(VLOOKUP(B704,IMPORTRANGE(\"\"https://docs.google.com/spreadsheets/d/1-zcOrI_PgX9R0t6_sOpXptmEcBDI4IX9Gfz9-2a6his/edit#gid=0\"\",\"\"RWA!F:BZ\"\"),44,0))\"),\"\")","v":""},{"$f":"IFERROR(__xludf.DUMMYFUNCTION(\"iferror(VLOOKUP(B704,IMPORTRANGE(\"\"https://docs.google.com/spreadsheets/d/1-zcOrI_PgX9R0t6_sOpXptmEcBDI4IX9Gfz9-2a6his/edit#gid=0\"\",\"\"RWA!F:BZ\"\"),48,0))\"),\"\")","v":""},{"$f":"IFERROR(__xludf.DUMMYFUNCTION(\"iferror(VLOOKUP(B704,IMPORTRANGE(\"\"https://docs.google.com/spreadsheets/d/1-zcOrI_PgX9R0t6_sOpXptmEcBDI4IX9Gfz9-2a6his/edit#gid=0\"\",\"\"RWA!F:BZ\"\"),49,0))\"),\"\")","v":""}]
[{"$nulls":4},{"$f":"IFERROR(__xludf.DUMMYFUNCTION(\"iferror(VLOOKUP(B705,IMPORTRANGE(\"\"https://docs.google.com/spreadsheets/d/1-zcOrI_PgX9R0t6_sOpXptmEcBDI4IX9Gfz9-2a6his/edit#gid=0\"\",\"\"RWA!F:BZ\"\"),44,0))\"),\"\")","v":""},{"$f":"IFERROR(__xludf.DUMMYFUNCTION(\"iferror(VLOOKUP(B705,IMPORTRANGE(\"\"https://docs.google.com/spreadsheets/d/1-zcOrI_PgX9R0t6_sOpXptmEcBDI4IX9Gfz9-2a6his/edit#gid=0\"\",\"\"RWA!F:BZ\"\"),48,0))\"),\"\")","v":""},{"$f":"IFERROR(__xludf.DUMMYFUNCTION(\"iferror(VLOOKUP(B705,IMPORTRANGE(\"\"https://docs.google.com/spreadsheets/d/1-zcOrI_PgX9R0t6_sOpXptmEcBDI4IX9Gfz9-2a6his/edit#gid=0\"\",\"\"RWA!F:BZ\"\"),49,0))\"),\"\")","v":""}]
[{"$nulls":4},{"$f":"IFERROR(__xludf.DUMMYFUNCTION(\"iferror(VLOOKUP(B706,IMPORTRANGE(\"\"https://docs.google.com/spreadsheets/d/1-zcOrI_PgX9R0t6_sOpXptmEcBDI4IX9Gfz9-2a6his/edit#gid=0\"\",\"\"RWA!F:BZ\"\"),44,0))\"),\"\")","v":""},{"$f":"IFERROR(__xludf.DUMMYFUNCTION(\"iferror(VLOOKUP(B706,IMPORTRANGE(\"\"https://docs.google.com/spreadsheets/d/1-zcOrI_PgX9R0t6_sOpXptmEcBDI4IX9Gfz9-2a6his/edit#gid=0\"\",\"\"RWA!F:BZ\"\"),48,0))\"),\"\")","v":""},{"$f":"IFERROR(__xludf.DUMMYFUNCTION(\"iferror(VLOOKUP(B706,IMPORTRANGE(\"\"https://docs.google.com/spreadsheets/d/1-zcOrI_PgX9R0t6_sOpXptmEcBDI4IX9Gfz9-2a6his/edit#gid=0\"\",\"\"RWA!F:BZ\"\"),49,0))\"),\"\")","v":""}]
[{"$nulls":4},{"$f":"IFERROR(__xludf.DUMMYFUNCTION(\"iferror(VLOOKUP(B707,IMPORTRANGE(\"\"https://docs.google.com/spreadsheets/d/1-zcOrI_PgX9R0t6_sOpXptmEcBDI4IX9Gfz9-2a6his/edit#gid=0\"\",\"\"RWA!F:BZ\"\"),44,0))\"),\"\")","v":""},{"$f":"IFERROR(__xludf.DUMMYFUNCTION(\"iferror(VLOOKUP(B707,IMPORTRANGE(\"\"https://docs.google.com/spreadsheets/d/1-zcOrI_PgX9R0t6_sOpXptmEcBDI4IX9Gfz9-2a6his/edit#gid=0\"\",\"\"RWA!F:BZ\"\"),48,0))\"),\"\")","v":""},{"$f":"IFERROR(__xludf.DUMMYFUNCTION(\"iferror(VLOOKUP(B707,IMPORTRANGE(\"\"https://docs.google.com/spreadsheets/d/1-zcOrI_PgX9R0t6_sOpXptmEcBDI4IX9Gfz9-2a6his/edit#gid=0\"\",\"\"RWA!F:BZ\"\"),49,0))\"),\"\")","v":""}]
[{"$nulls":4},{"$f":"IFERROR(__xludf.DUMMYFUNCTION(\"iferror(VLOOKUP(B708,IMPORTRANGE(\"\"https://docs.google.com/spreadsheets/d/1-zcOrI_PgX9R0t6_sOpXptmEcBDI4IX9Gfz9-2a6his/edit#gid=0\"\",\"\"RWA!F:BZ\"\"),44,0))\"),\"\")","v":""},{"$f":"IFERROR(__xludf.DUMMYFUNCTION(\"iferror(VLOOKUP(B708,IMPORTRANGE(\"\"https://docs.google.com/spreadsheets/d/1-zcOrI_PgX9R0t6_sOpXptmEcBDI4IX9Gfz9-2a6his/edit#gid=0\"\",\"\"RWA!F:BZ\"\"),48,0))\"),\"\")","v":""},{"$f":"IFERROR(__xludf.DUMMYFUNCTION(\"iferror(VLOOKUP(B708,IMPORTRANGE(\"\"https://docs.google.com/spreadsheets/d/1-zcOrI_PgX9R0t6_sOpXptmEcBDI4IX9Gfz9-2a6his/edit#gid=0\"\",\"\"RWA!F:BZ\"\"),49,0))\"),\"\")","v":""}]
[{"$nulls":4},{"$f":"IFERROR(__xludf.DUMMYFUNCTION(\"iferror(VLOOKUP(B709,IMPORTRANGE(\"\"https://docs.google.com/spreadsheets/d/1-zcOrI_PgX9R0t6_sOpXptmEcBDI4IX9Gfz9-2a6his/edit#gid=0\"\",\"\"RWA!F:BZ\"\"),44,0))\"),\"\")","v":""},{"$f":"IFERROR(__xludf.DUMMYFUNCTION(\"iferror(VLOOKUP(B709,IMPORTRANGE(\"\"https://docs.google.com/spreadsheets/d/1-zcOrI_PgX9R0t6_sOpXptmEcBDI4IX9Gfz9-2a6his/edit#gid=0\"\",\"\"RWA!F:BZ\"\"),48,0))\"),\"\")","v":""},{"$f":"IFERROR(__xludf.DUMMYFUNCTION(\"iferror(VLOOKUP(B709,IMPORTRANGE(\"\"https://docs.google.com/spreadsheets/d/1-zcOrI_PgX9R0t6_sOpXptmEcBDI4IX9Gfz9-2a6his/edit#gid=0\"\",\"\"RWA!F:BZ\"\"),49,0))\"),\"\")","v":""}]
[{"$nulls":4},{"$f":"IFERROR(__xludf.DUMMYFUNCTION(\"iferror(VLOOKUP(B710,IMPORTRANGE(\"\"https://docs.google.com/spreadsheets/d/1-zcOrI_PgX9R0t6_sOpXptmEcBDI4IX9Gfz9-2a6his/edit#gid=0\"\",\"\"RWA!F:BZ\"\"),44,0))\"),\"\")","v":""},{"$f":"IFERROR(__xludf.DUMMYFUNCTION(\"iferror(VLOOKUP(B710,IMPORTRANGE(\"\"https://docs.google.com/spreadsheets/d/1-zcOrI_PgX9R0t6_sOpXptmEcBDI4IX9Gfz9-2a6his/edit#gid=0\"\",\"\"RWA!F:BZ\"\"),48,0))\"),\"\")","v":""},{"$f":"IFERROR(__xludf.DUMMYFUNCTION(\"iferror(VLOOKUP(B710,IMPORTRANGE(\"\"https://docs.google.com/spreadsheets/d/1-zcOrI_PgX9R0t6_sOpXptmEcBDI4IX9Gfz9-2a6his/edit#gid=0\"\",\"\"RWA!F:BZ\"\"),49,0))\"),\"\")","v":""}]
[{"$nulls":4},{"$f":"IFERROR(__xludf.DUMMYFUNCTION(\"iferror(VLOOKUP(B711,IMPORTRANGE(\"\"https://docs.google.com/spreadsheets/d/1-zcOrI_PgX9R0t6_sOpXptmEcBDI4IX9Gfz9-2a6his/edit#gid=0\"\",\"\"RWA!F:BZ\"\"),44,0))\"),\"\")","v":""},{"$f":"IFERROR(__xludf.DUMMYFUNCTION(\"iferror(VLOOKUP(B711,IMPORTRANGE(\"\"https://docs.google.com/spreadsheets/d/1-zcOrI_PgX9R0t6_sOpXptmEcBDI4IX9Gfz9-2a6his/edit#gid=0\"\",\"\"RWA!F:BZ\"\"),48,0))\"),\"\")","v":""},{"$f":"IFERROR(__xludf.DUMMYFUNCTION(\"iferror(VLOOKUP(B711,IMPORTRANGE(\"\"https://docs.google.com/spreadsheets/d/1-zcOrI_PgX9R0t6_sOpXptmEcBDI4IX9Gfz9-2a6his/edit#gid=0\"\",\"\"RWA!F:BZ\"\"),49,0))\"),\"\")","v":""}]
[{"$nulls":4},{"$f":"IFERROR(__xludf.DUMMYFUNCTION(\"iferror(VLOOKUP(B712,IMPORTRANGE(\"\"https://docs.google.com/spreadsheets/d/1-zcOrI_PgX9R0t6_sOpXptmEcBDI4IX9Gfz9-2a6his/edit#gid=0\"\",\"\"RWA!F:BZ\"\"),44,0))\"),\"\")","v":""},{"$f":"IFERROR(__xludf.DUMMYFUNCTION(\"iferror(VLOOKUP(B712,IMPORTRANGE(\"\"https://docs.google.com/spreadsheets/d/1-zcOrI_PgX9R0t6_sOpXptmEcBDI4IX9Gfz9-2a6his/edit#gid=0\"\",\"\"RWA!F:BZ\"\"),48,0))\"),\"\")","v":""},{"$f":"IFERROR(__xludf.DUMMYFUNCTION(\"iferror(VLOOKUP(B712,IMPORTRANGE(\"\"https://docs.google.com/spreadsheets/d/1-zcOrI_PgX9R0t6_sOpXptmEcBDI4IX9Gfz9-2a6his/edit#gid=0\"\",\"\"RWA!F:BZ\"\"),49,0))\"),\"\")","v":""}]
[{"$nulls":4},{"$f":"IFERROR(__xludf.DUMMYFUNCTION(\"iferror(VLOOKUP(B713,IMPORTRANGE(\"\"https://docs.google.com/spreadsheets/d/1-zcOrI_PgX9R0t6_sOpXptmEcBDI4IX9Gfz9-2a6his/edit#gid=0\"\",\"\"RWA!F:BZ\"\"),44,0))\"),\"\")","v":""},{"$f":"IFERROR(__xludf.DUMMYFUNCTION(\"iferror(VLOOKUP(B713,IMPORTRANGE(\"\"https://docs.google.com/spreadsheets/d/1-zcOrI_PgX9R0t6_sOpXptmEcBDI4IX9Gfz9-2a6his/edit#gid=0\"\",\"\"RWA!F:BZ\"\"),48,0))\"),\"\")","v":""},{"$f":"IFERROR(__xludf.DUMMYFUNCTION(\"iferror(VLOOKUP(B713,IMPORTRANGE(\"\"https://docs.google.com/spreadsheets/d/1-zcOrI_PgX9R0t6_sOpXptmEcBDI4IX9Gfz9-2a6his/edit#gid=0\"\",\"\"RWA!F:BZ\"\"),49,0))\"),\"\")","v":""}]
[{"$nulls":4},{"$f":"IFERROR(__xludf.DUMMYFUNCTION(\"iferror(VLOOKUP(B714,IMPORTRANGE(\"\"https://docs.google.com/spreadsheets/d/1-zcOrI_PgX9R0t6_sOpXptmEcBDI4IX9Gfz9-2a6his/edit#gid=0\"\",\"\"RWA!F:BZ\"\"),44,0))\"),\"\")","v":""},{"$f":"IFERROR(__xludf.DUMMYFUNCTION(\"iferror(VLOOKUP(B714,IMPORTRANGE(\"\"https://docs.google.com/spreadsheets/d/1-zcOrI_PgX9R0t6_sOpXptmEcBDI4IX9Gfz9-2a6his/edit#gid=0\"\",\"\"RWA!F:BZ\"\"),48,0))\"),\"\")","v":""},{"$f":"IFERROR(__xludf.DUMMYFUNCTION(\"iferror(VLOOKUP(B714,IMPORTRANGE(\"\"https://docs.google.com/spreadsheets/d/1-zcOrI_PgX9R0t6_sOpXptmEcBDI4IX9Gfz9-2a6his/edit#gid=0\"\",\"\"RWA!F:BZ\"\"),49,0))\"),\"\")","v":""}]
[{"$nulls":4},{"$f":"IFERROR(__xludf.DUMMYFUNCTION(\"iferror(VLOOKUP(B715,IMPORTRANGE(\"\"https://docs.google.com/spreadsheets/d/1-zcOrI_PgX9R0t6_sOpXptmEcBDI4IX9Gfz9-2a6his/edit#gid=0\"\",\"\"RWA!F:BZ\"\"),44,0))\"),\"\")","v":""},{"$f":"IFERROR(__xludf.DUMMYFUNCTION(\"iferror(VLOOKUP(B715,IMPORTRANGE(\"\"https://docs.google.com/spreadsheets/d/1-zcOrI_PgX9R0t6_sOpXptmEcBDI4IX9Gfz9-2a6his/edit#gid=0\"\",\"\"RWA!F:BZ\"\"),48,0))\"),\"\")","v":""},{"$f":"IFERROR(__xludf.DUMMYFUNCTION(\"iferror(VLOOKUP(B715,IMPORTRANGE(\"\"https://docs.google.com/spreadsheets/d/1-zcOrI_PgX9R0t6_sOpXptmEcBDI4IX9Gfz9-2a6his/edit#gid=0\"\",\"\"RWA!F:BZ\"\"),49,0))\"),\"\")","v":""}]
[{"$nulls":4},{"$f":"IFERROR(__xludf.DUMMYFUNCTION(\"iferror(VLOOKUP(B716,IMPORTRANGE(\"\"https://docs.google.com/spreadsheets/d/1-zcOrI_PgX9R0t6_sOpXptmEcBDI4IX9Gfz9-2a6his/edit#gid=0\"\",\"\"RWA!F:BZ\"\"),44,0))\"),\"\")","v":""},{"$f":"IFERROR(__xludf.DUMMYFUNCTION(\"iferror(VLOOKUP(B716,IMPORTRANGE(\"\"https://docs.google.com/spreadsheets/d/1-zcOrI_PgX9R0t6_sOpXptmEcBDI4IX9Gfz9-2a6his/edit#gid=0\"\",\"\"RWA!F:BZ\"\"),48,0))\"),\"\")","v":""},{"$f":"IFERROR(__xludf.DUMMYFUNCTION(\"iferror(VLOOKUP(B716,IMPORTRANGE(\"\"https://docs.google.com/spreadsheets/d/1-zcOrI_PgX9R0t6_sOpXptmEcBDI4IX9Gfz9-2a6his/edit#gid=0\"\",\"\"RWA!F:BZ\"\"),49,0))\"),\"\")","v":""}]
[{"$nulls":4},{"$f":"IFERROR(__xludf.DUMMYFUNCTION(\"iferror(VLOOKUP(B717,IMPORTRANGE(\"\"https://docs.google.com/spreadsheets/d/1-zcOrI_PgX9R0t6_sOpXptmEcBDI4IX9Gfz9-2a6his/edit#gid=0\"\",\"\"RWA!F:BZ\"\"),44,0))\"),\"\")","v":""},{"$f":"IFERROR(__xludf.DUMMYFUNCTION(\"iferror(VLOOKUP(B717,IMPORTRANGE(\"\"https://docs.google.com/spreadsheets/d/1-zcOrI_PgX9R0t6_sOpXptmEcBDI4IX9Gfz9-2a6his/edit#gid=0\"\",\"\"RWA!F:BZ\"\"),48,0))\"),\"\")","v":""},{"$f":"IFERROR(__xludf.DUMMYFUNCTION(\"iferror(VLOOKUP(B717,IMPORTRANGE(\"\"https://docs.google.com/spreadsheets/d/1-zcOrI_PgX9R0t6_sOpXptmEcBDI4IX9Gfz9-2a6his/edit#gid=0\"\",\"\"RWA!F:BZ\"\"),49,0))\"),\"\")","v":""}]
[{"$nulls":4},{"$f":"IFERROR(__xludf.DUMMYFUNCTION(\"iferror(VLOOKUP(B718,IMPORTRANGE(\"\"https://docs.google.com/spreadsheets/d/1-zcOrI_PgX9R0t6_sOpXptmEcBDI4IX9Gfz9-2a6his/edit#gid=0\"\",\"\"RWA!F:BZ\"\"),44,0))\"),\"\")","v":""},{"$f":"IFERROR(__xludf.DUMMYFUNCTION(\"iferror(VLOOKUP(B718,IMPORTRANGE(\"\"https://docs.google.com/spreadsheets/d/1-zcOrI_PgX9R0t6_sOpXptmEcBDI4IX9Gfz9-2a6his/edit#gid=0\"\",\"\"RWA!F:BZ\"\"),48,0))\"),\"\")","v":""},{"$f":"IFERROR(__xludf.DUMMYFUNCTION(\"iferror(VLOOKUP(B718,IMPORTRANGE(\"\"https://docs.google.com/spreadsheets/d/1-zcOrI_PgX9R0t6_sOpXptmEcBDI4IX9Gfz9-2a6his/edit#gid=0\"\",\"\"RWA!F:BZ\"\"),49,0))\"),\"\")","v":""}]
[{"$nulls":4},{"$f":"IFERROR(__xludf.DUMMYFUNCTION(\"iferror(VLOOKUP(B719,IMPORTRANGE(\"\"https://docs.google.com/spreadsheets/d/1-zcOrI_PgX9R0t6_sOpXptmEcBDI4IX9Gfz9-2a6his/edit#gid=0\"\",\"\"RWA!F:BZ\"\"),44,0))\"),\"\")","v":""},{"$f":"IFERROR(__xludf.DUMMYFUNCTION(\"iferror(VLOOKUP(B719,IMPORTRANGE(\"\"https://docs.google.com/spreadsheets/d/1-zcOrI_PgX9R0t6_sOpXptmEcBDI4IX9Gfz9-2a6his/edit#gid=0\"\",\"\"RWA!F:BZ\"\"),48,0))\"),\"\")","v":""},{"$f":"IFERROR(__xludf.DUMMYFUNCTION(\"iferror(VLOOKUP(B719,IMPORTRANGE(\"\"https://docs.google.com/spreadsheets/d/1-zcOrI_PgX9R0t6_sOpXptmEcBDI4IX9Gfz9-2a6his/edit#gid=0\"\",\"\"RWA!F:BZ\"\"),49,0))\"),\"\")","v":""}]
[{"$nulls":4},{"$f":"IFERROR(__xludf.DUMMYFUNCTION(\"iferror(VLOOKUP(B720,IMPORTRANGE(\"\"https://docs.google.com/spreadsheets/d/1-zcOrI_PgX9R0t6_sOpXptmEcBDI4IX9Gfz9-2a6his/edit#gid=0\"\",\"\"RWA!F:BZ\"\"),44,0))\"),\"\")","v":""},{"$f":"IFERROR(__xludf.DUMMYFUNCTION(\"iferror(VLOOKUP(B720,IMPORTRANGE(\"\"https://docs.google.com/spreadsheets/d/1-zcOrI_PgX9R0t6_sOpXptmEcBDI4IX9Gfz9-2a6his/edit#gid=0\"\",\"\"RWA!F:BZ\"\"),48,0))\"),\"\")","v":""},{"$f":"IFERROR(__xludf.DUMMYFUNCTION(\"iferror(VLOOKUP(B720,IMPORTRANGE(\"\"https://docs.google.com/spreadsheets/d/1-zcOrI_PgX9R0t6_sOpXptmEcBDI4IX9Gfz9-2a6his/edit#gid=0\"\",\"\"RWA!F:BZ\"\"),49,0))\"),\"\")","v":""}]
[{"$nulls":4},{"$f":"IFERROR(__xludf.DUMMYFUNCTION(\"iferror(VLOOKUP(B721,IMPORTRANGE(\"\"https://docs.google.com/spreadsheets/d/1-zcOrI_PgX9R0t6_sOpXptmEcBDI4IX9Gfz9-2a6his/edit#gid=0\"\",\"\"RWA!F:BZ\"\"),44,0))\"),\"\")","v":""},{"$f":"IFERROR(__xludf.DUMMYFUNCTION(\"iferror(VLOOKUP(B721,IMPORTRANGE(\"\"https://docs.google.com/spreadsheets/d/1-zcOrI_PgX9R0t6_sOpXptmEcBDI4IX9Gfz9-2a6his/edit#gid=0\"\",\"\"RWA!F:BZ\"\"),48,0))\"),\"\")","v":""},{"$f":"IFERROR(__xludf.DUMMYFUNCTION(\"iferror(VLOOKUP(B721,IMPORTRANGE(\"\"https://docs.google.com/spreadsheets/d/1-zcOrI_PgX9R0t6_sOpXptmEcBDI4IX9Gfz9-2a6his/edit#gid=0\"\",\"\"RWA!F:BZ\"\"),49,0))\"),\"\")","v":""}]
[{"$nulls":4},{"$f":"IFERROR(__xludf.DUMMYFUNCTION(\"iferror(VLOOKUP(B722,IMPORTRANGE(\"\"https://docs.google.com/spreadsheets/d/1-zcOrI_PgX9R0t6_sOpXptmEcBDI4IX9Gfz9-2a6his/edit#gid=0\"\",\"\"RWA!F:BZ\"\"),44,0))\"),\"\")","v":""},{"$f":"IFERROR(__xludf.DUMMYFUNCTION(\"iferror(VLOOKUP(B722,IMPORTRANGE(\"\"https://docs.google.com/spreadsheets/d/1-zcOrI_PgX9R0t6_sOpXptmEcBDI4IX9Gfz9-2a6his/edit#gid=0\"\",\"\"RWA!F:BZ\"\"),48,0))\"),\"\")","v":""},{"$f":"IFERROR(__xludf.DUMMYFUNCTION(\"iferror(VLOOKUP(B722,IMPORTRANGE(\"\"https://docs.google.com/spreadsheets/d/1-zcOrI_PgX9R0t6_sOpXptmEcBDI4IX9Gfz9-2a6his/edit#gid=0\"\",\"\"RWA!F:BZ\"\"),49,0))\"),\"\")","v":""}]
[{"$nulls":4},{"$f":"IFERROR(__xludf.DUMMYFUNCTION(\"iferror(VLOOKUP(B723,IMPORTRANGE(\"\"https://docs.google.com/spreadsheets/d/1-zcOrI_PgX9R0t6_sOpXptmEcBDI4IX9Gfz9-2a6his/edit#gid=0\"\",\"\"RWA!F:BZ\"\"),44,0))\"),\"\")","v":""},{"$f":"IFERROR(__xludf.DUMMYFUNCTION(\"iferror(VLOOKUP(B723,IMPORTRANGE(\"\"https://docs.google.com/spreadsheets/d/1-zcOrI_PgX9R0t6_sOpXptmEcBDI4IX9Gfz9-2a6his/edit#gid=0\"\",\"\"RWA!F:BZ\"\"),48,0))\"),\"\")","v":""},{"$f":"IFERROR(__xludf.DUMMYFUNCTION(\"iferror(VLOOKUP(B723,IMPORTRANGE(\"\"https://docs.google.com/spreadsheets/d/1-zcOrI_PgX9R0t6_sOpXptmEcBDI4IX9Gfz9-2a6his/edit#gid=0\"\",\"\"RWA!F:BZ\"\"),49,0))\"),\"\")","v":""}]
[{"$nulls":4},{"$f":"IFERROR(__xludf.DUMMYFUNCTION(\"iferror(VLOOKUP(B724,IMPORTRANGE(\"\"https://docs.google.com/spreadsheets/d/1-zcOrI_PgX9R0t6_sOpXptmEcBDI4IX9Gfz9-2a6his/edit#gid=0\"\",\"\"RWA!F:BZ\"\"),44,0))\"),\"\")","v":""},{"$f":"IFERROR(__xludf.DUMMYFUNCTION(\"iferror(VLOOKUP(B724,IMPORTRANGE(\"\"https://docs.google.com/spreadsheets/d/1-zcOrI_PgX9R0t6_sOpXptmEcBDI4IX9Gfz9-2a6his/edit#gid=0\"\",\"\"RWA!F:BZ\"\"),48,0))\"),\"\")","v":""},{"$f":"IFERROR(__xludf.DUMMYFUNCTION(\"iferror(VLOOKUP(B724,IMPORTRANGE(\"\"https://docs.google.com/spreadsheets/d/1-zcOrI_PgX9R0t6_sOpXptmEcBDI4IX9Gfz9-2a6his/edit#gid=0\"\",\"\"RWA!F:BZ\"\"),49,0))\"),\"\")","v":""}]
[{"$nulls":4},{"$f":"IFERROR(__xludf.DUMMYFUNCTION(\"iferror(VLOOKUP(B725,IMPORTRANGE(\"\"https://docs.google.com/spreadsheets/d/1-zcOrI_PgX9R0t6_sOpXptmEcBDI4IX9Gfz9-2a6his/edit#gid=0\"\",\"\"RWA!F:BZ\"\"),44,0))\"),\"\")","v":""},{"$f":"IFERROR(__xludf.DUMMYFUNCTION(\"iferror(VLOOKUP(B725,IMPORTRANGE(\"\"https://docs.google.com/spreadsheets/d/1-zcOrI_PgX9R0t6_sOpXptmEcBDI4IX9Gfz9-2a6his/edit#gid=0\"\",\"\"RWA!F:BZ\"\"),48,0))\"),\"\")","v":""},{"$f":"IFERROR(__xludf.DUMMYFUNCTION(\"iferror(VLOOKUP(B725,IMPORTRANGE(\"\"https://docs.google.com/spreadsheets/d/1-zcOrI_PgX9R0t6_sOpXptmEcBDI4IX9Gfz9-2a6his/edit#gid=0\"\",\"\"RWA!F:BZ\"\"),49,0))\"),\"\")","v":""}]
[{"$nulls":4},{"$f":"IFERROR(__xludf.DUMMYFUNCTION(\"iferror(VLOOKUP(B726,IMPORTRANGE(\"\"https://docs.google.com/spreadsheets/d/1-zcOrI_PgX9R0t6_sOpXptmEcBDI4IX9Gfz9-2a6his/edit#gid=0\"\",\"\"RWA!F:BZ\"\"),44,0))\"),\"\")","v":""},{"$f":"IFERROR(__xludf.DUMMYFUNCTION(\"iferror(VLOOKUP(B726,IMPORTRANGE(\"\"https://docs.google.com/spreadsheets/d/1-zcOrI_PgX9R0t6_sOpXptmEcBDI4IX9Gfz9-2a6his/edit#gid=0\"\",\"\"RWA!F:BZ\"\"),48,0))\"),\"\")","v":""},{"$f":"IFERROR(__xludf.DUMMYFUNCTION(\"iferror(VLOOKUP(B726,IMPORTRANGE(\"\"https://docs.google.com/spreadsheets/d/1-zcOrI_PgX9R0t6_sOpXptmEcBDI4IX9Gfz9-2a6his/edit#gid=0\"\",\"\"RWA!F:BZ\"\"),49,0))\"),\"\")","v":""}]
[{"$nulls":4},{"$f":"IFERROR(__xludf.DUMMYFUNCTION(\"iferror(VLOOKUP(B727,IMPORTRANGE(\"\"https://docs.google.com/spreadsheets/d/1-zcOrI_PgX9R0t6_sOpXptmEcBDI4IX9Gfz9-2a6his/edit#gid=0\"\",\"\"RWA!F:BZ\"\"),44,0))\"),\"\")","v":""},{"$f":"IFERROR(__xludf.DUMMYFUNCTION(\"iferror(VLOOKUP(B727,IMPORTRANGE(\"\"https://docs.google.com/spreadsheets/d/1-zcOrI_PgX9R0t6_sOpXptmEcBDI4IX9Gfz9-2a6his/edit#gid=0\"\",\"\"RWA!F:BZ\"\"),48,0))\"),\"\")","v":""},{"$f":"IFERROR(__xludf.DUMMYFUNCTION(\"iferror(VLOOKUP(B727,IMPORTRANGE(\"\"https://docs.google.com/spreadsheets/d/1-zcOrI_PgX9R0t6_sOpXptmEcBDI4IX9Gfz9-2a6his/edit#gid=0\"\",\"\"RWA!F:BZ\"\"),49,0))\"),\"\")","v":""}]
[{"$nulls":4},{"$f":"IFERROR(__xludf.DUMMYFUNCTION(\"iferror(VLOOKUP(B728,IMPORTRANGE(\"\"https://docs.google.com/spreadsheets/d/1-zcOrI_PgX9R0t6_sOpXptmEcBDI4IX9Gfz9-2a6his/edit#gid=0\"\",\"\"RWA!F:BZ\"\"),44,0))\"),\"\")","v":""},{"$f":"IFERROR(__xludf.DUMMYFUNCTION(\"iferror(VLOOKUP(B728,IMPORTRANGE(\"\"https://docs.google.com/spreadsheets/d/1-zcOrI_PgX9R0t6_sOpXptmEcBDI4IX9Gfz9-2a6his/edit#gid=0\"\",\"\"RWA!F:BZ\"\"),48,0))\"),\"\")","v":""},{"$f":"IFERROR(__xludf.DUMMYFUNCTION(\"iferror(VLOOKUP(B728,IMPORTRANGE(\"\"https://docs.google.com/spreadsheets/d/1-zcOrI_PgX9R0t6_sOpXptmEcBDI4IX9Gfz9-2a6his/edit#gid=0\"\",\"\"RWA!F:BZ\"\"),49,0))\"),\"\")","v":""}]
[{"$nulls":4},{"$f":"IFERROR(__xludf.DUMMYFUNCTION(\"iferror(VLOOKUP(B729,IMPORTRANGE(\"\"https://docs.google.com/spreadsheets/d/1-zcOrI_PgX9R0t6_sOpXptmEcBDI4IX9Gfz9-2a6his/edit#gid=0\"\",\"\"RWA!F:BZ\"\"),44,0))\"),\"\")","v":""},{"$f":"IFERROR(__xludf.DUMMYFUNCTION(\"iferror(VLOOKUP(B729,IMPORTRANGE(\"\"https://docs.google.com/spreadsheets/d/1-zcOrI_PgX9R0t6_sOpXptmEcBDI4IX9Gfz9-2a6his/edit#gid=0\"\",\"\"RWA!F:BZ\"\"),48,0))\"),\"\")","v":""},{"$f":"IFERROR(__xludf.DUMMYFUNCTION(\"iferror(VLOOKUP(B729,IMPORTRANGE(\"\"https://docs.google.com/spreadsheets/d/1-zcOrI_PgX9R0t6_sOpXptmEcBDI4IX9Gfz9-2a6his/edit#gid=0\"\",\"\"RWA!F:BZ\"\"),49,0))\"),\"\")","v":""}]
[{"$nulls":4},{"$f":"IFERROR(__xludf.DUMMYFUNCTION(\"iferror(VLOOKUP(B730,IMPORTRANGE(\"\"https://docs.google.com/spreadsheets/d/1-zcOrI_PgX9R0t6_sOpXptmEcBDI4IX9Gfz9-2a6his/edit#gid=0\"\",\"\"RWA!F:BZ\"\"),44,0))\"),\"\")","v":""},{"$f":"IFERROR(__xludf.DUMMYFUNCTION(\"iferror(VLOOKUP(B730,IMPORTRANGE(\"\"https://docs.google.com/spreadsheets/d/1-zcOrI_PgX9R0t6_sOpXptmEcBDI4IX9Gfz9-2a6his/edit#gid=0\"\",\"\"RWA!F:BZ\"\"),48,0))\"),\"\")","v":""},{"$f":"IFERROR(__xludf.DUMMYFUNCTION(\"iferror(VLOOKUP(B730,IMPORTRANGE(\"\"https://docs.google.com/spreadsheets/d/1-zcOrI_PgX9R0t6_sOpXptmEcBDI4IX9Gfz9-2a6his/edit#gid=0\"\",\"\"RWA!F:BZ\"\"),49,0))\"),\"\")","v":""}]
[{"$nulls":4},{"$f":"IFERROR(__xludf.DUMMYFUNCTION(\"iferror(VLOOKUP(B731,IMPORTRANGE(\"\"https://docs.google.com/spreadsheets/d/1-zcOrI_PgX9R0t6_sOpXptmEcBDI4IX9Gfz9-2a6his/edit#gid=0\"\",\"\"RWA!F:BZ\"\"),44,0))\"),\"\")","v":""},{"$f":"IFERROR(__xludf.DUMMYFUNCTION(\"iferror(VLOOKUP(B731,IMPORTRANGE(\"\"https://docs.google.com/spreadsheets/d/1-zcOrI_PgX9R0t6_sOpXptmEcBDI4IX9Gfz9-2a6his/edit#gid=0\"\",\"\"RWA!F:BZ\"\"),48,0))\"),\"\")","v":""},{"$f":"IFERROR(__xludf.DUMMYFUNCTION(\"iferror(VLOOKUP(B731,IMPORTRANGE(\"\"https://docs.google.com/spreadsheets/d/1-zcOrI_PgX9R0t6_sOpXptmEcBDI4IX9Gfz9-2a6his/edit#gid=0\"\",\"\"RWA!F:BZ\"\"),49,0))\"),\"\")","v":""}]
[{"$nulls":4},{"$f":"IFERROR(__xludf.DUMMYFUNCTION(\"iferror(VLOOKUP(B732,IMPORTRANGE(\"\"https://docs.google.com/spreadsheets/d/1-zcOrI_PgX9R0t6_sOpXptmEcBDI4IX9Gfz9-2a6his/edit#gid=0\"\",\"\"RWA!F:BZ\"\"),44,0))\"),\"\")","v":""},{"$f":"IFERROR(__xludf.DUMMYFUNCTION(\"iferror(VLOOKUP(B732,IMPORTRANGE(\"\"https://docs.google.com/spreadsheets/d/1-zcOrI_PgX9R0t6_sOpXptmEcBDI4IX9Gfz9-2a6his/edit#gid=0\"\",\"\"RWA!F:BZ\"\"),48,0))\"),\"\")","v":""},{"$f":"IFERROR(__xludf.DUMMYFUNCTION(\"iferror(VLOOKUP(B732,IMPORTRANGE(\"\"https://docs.google.com/spreadsheets/d/1-zcOrI_PgX9R0t6_sOpXptmEcBDI4IX9Gfz9-2a6his/edit#gid=0\"\",\"\"RWA!F:BZ\"\"),49,0))\"),\"\")","v":""}]
[{"$nulls":4},{"$f":"IFERROR(__xludf.DUMMYFUNCTION(\"iferror(VLOOKUP(B733,IMPORTRANGE(\"\"https://docs.google.com/spreadsheets/d/1-zcOrI_PgX9R0t6_sOpXptmEcBDI4IX9Gfz9-2a6his/edit#gid=0\"\",\"\"RWA!F:BZ\"\"),44,0))\"),\"\")","v":""},{"$f":"IFERROR(__xludf.DUMMYFUNCTION(\"iferror(VLOOKUP(B733,IMPORTRANGE(\"\"https://docs.google.com/spreadsheets/d/1-zcOrI_PgX9R0t6_sOpXptmEcBDI4IX9Gfz9-2a6his/edit#gid=0\"\",\"\"RWA!F:BZ\"\"),48,0))\"),\"\")","v":""},{"$f":"IFERROR(__xludf.DUMMYFUNCTION(\"iferror(VLOOKUP(B733,IMPORTRANGE(\"\"https://docs.google.com/spreadsheets/d/1-zcOrI_PgX9R0t6_sOpXptmEcBDI4IX9Gfz9-2a6his/edit#gid=0\"\",\"\"RWA!F:BZ\"\"),49,0))\"),\"\")","v":""}]
[{"$nulls":4},{"$f":"IFERROR(__xludf.DUMMYFUNCTION(\"iferror(VLOOKUP(B734,IMPORTRANGE(\"\"https://docs.google.com/spreadsheets/d/1-zcOrI_PgX9R0t6_sOpXptmEcBDI4IX9Gfz9-2a6his/edit#gid=0\"\",\"\"RWA!F:BZ\"\"),44,0))\"),\"\")","v":""},{"$f":"IFERROR(__xludf.DUMMYFUNCTION(\"iferror(VLOOKUP(B734,IMPORTRANGE(\"\"https://docs.google.com/spreadsheets/d/1-zcOrI_PgX9R0t6_sOpXptmEcBDI4IX9Gfz9-2a6his/edit#gid=0\"\",\"\"RWA!F:BZ\"\"),48,0))\"),\"\")","v":""},{"$f":"IFERROR(__xludf.DUMMYFUNCTION(\"iferror(VLOOKUP(B734,IMPORTRANGE(\"\"https://docs.google.com/spreadsheets/d/1-zcOrI_PgX9R0t6_sOpXptmEcBDI4IX9Gfz9-2a6his/edit#gid=0\"\",\"\"RWA!F:BZ\"\"),49,0))\"),\"\")","v":""}]
[{"$nulls":4},{"$f":"IFERROR(__xludf.DUMMYFUNCTION(\"iferror(VLOOKUP(B735,IMPORTRANGE(\"\"https://docs.google.com/spreadsheets/d/1-zcOrI_PgX9R0t6_sOpXptmEcBDI4IX9Gfz9-2a6his/edit#gid=0\"\",\"\"RWA!F:BZ\"\"),44,0))\"),\"\")","v":""},{"$f":"IFERROR(__xludf.DUMMYFUNCTION(\"iferror(VLOOKUP(B735,IMPORTRANGE(\"\"https://docs.google.com/spreadsheets/d/1-zcOrI_PgX9R0t6_sOpXptmEcBDI4IX9Gfz9-2a6his/edit#gid=0\"\",\"\"RWA!F:BZ\"\"),48,0))\"),\"\")","v":""},{"$f":"IFERROR(__xludf.DUMMYFUNCTION(\"iferror(VLOOKUP(B735,IMPORTRANGE(\"\"https://docs.google.com/spreadsheets/d/1-zcOrI_PgX9R0t6_sOpXptmEcBDI4IX9Gfz9-2a6his/edit#gid=0\"\",\"\"RWA!F:BZ\"\"),49,0))\"),\"\")","v":""}]
[{"$nulls":4},{"$f":"IFERROR(__xludf.DUMMYFUNCTION(\"iferror(VLOOKUP(B736,IMPORTRANGE(\"\"https://docs.google.com/spreadsheets/d/1-zcOrI_PgX9R0t6_sOpXptmEcBDI4IX9Gfz9-2a6his/edit#gid=0\"\",\"\"RWA!F:BZ\"\"),44,0))\"),\"\")","v":""},{"$f":"IFERROR(__xludf.DUMMYFUNCTION(\"iferror(VLOOKUP(B736,IMPORTRANGE(\"\"https://docs.google.com/spreadsheets/d/1-zcOrI_PgX9R0t6_sOpXptmEcBDI4IX9Gfz9-2a6his/edit#gid=0\"\",\"\"RWA!F:BZ\"\"),48,0))\"),\"\")","v":""},{"$f":"IFERROR(__xludf.DUMMYFUNCTION(\"iferror(VLOOKUP(B736,IMPORTRANGE(\"\"https://docs.google.com/spreadsheets/d/1-zcOrI_PgX9R0t6_sOpXptmEcBDI4IX9Gfz9-2a6his/edit#gid=0\"\",\"\"RWA!F:BZ\"\"),49,0))\"),\"\")","v":""}]
[{"$nulls":4},{"$f":"IFERROR(__xludf.DUMMYFUNCTION(\"iferror(VLOOKUP(B737,IMPORTRANGE(\"\"https://docs.google.com/spreadsheets/d/1-zcOrI_PgX9R0t6_sOpXptmEcBDI4IX9Gfz9-2a6his/edit#gid=0\"\",\"\"RWA!F:BZ\"\"),44,0))\"),\"\")","v":""},{"$f":"IFERROR(__xludf.DUMMYFUNCTION(\"iferror(VLOOKUP(B737,IMPORTRANGE(\"\"https://docs.google.com/spreadsheets/d/1-zcOrI_PgX9R0t6_sOpXptmEcBDI4IX9Gfz9-2a6his/edit#gid=0\"\",\"\"RWA!F:BZ\"\"),48,0))\"),\"\")","v":""},{"$f":"IFERROR(__xludf.DUMMYFUNCTION(\"iferror(VLOOKUP(B737,IMPORTRANGE(\"\"https://docs.google.com/spreadsheets/d/1-zcOrI_PgX9R0t6_sOpXptmEcBDI4IX9Gfz9-2a6his/edit#gid=0\"\",\"\"RWA!F:BZ\"\"),49,0))\"),\"\")","v":""}]
[{"$nulls":4},{"$f":"IFERROR(__xludf.DUMMYFUNCTION(\"iferror(VLOOKUP(B738,IMPORTRANGE(\"\"https://docs.google.com/spreadsheets/d/1-zcOrI_PgX9R0t6_sOpXptmEcBDI4IX9Gfz9-2a6his/edit#gid=0\"\",\"\"RWA!F:BZ\"\"),44,0))\"),\"\")","v":""},{"$f":"IFERROR(__xludf.DUMMYFUNCTION(\"iferror(VLOOKUP(B738,IMPORTRANGE(\"\"https://docs.google.com/spreadsheets/d/1-zcOrI_PgX9R0t6_sOpXptmEcBDI4IX9Gfz9-2a6his/edit#gid=0\"\",\"\"RWA!F:BZ\"\"),48,0))\"),\"\")","v":""},{"$f":"IFERROR(__xludf.DUMMYFUNCTION(\"iferror(VLOOKUP(B738,IMPORTRANGE(\"\"https://docs.google.com/spreadsheets/d/1-zcOrI_PgX9R0t6_sOpXptmEcBDI4IX9Gfz9-2a6his/edit#gid=0\"\",\"\"RWA!F:BZ\"\"),49,0))\"),\"\")","v":""}]
[{"$nulls":4},{"$f":"IFERROR(__xludf.DUMMYFUNCTION(\"iferror(VLOOKUP(B739,IMPORTRANGE(\"\"https://docs.google.com/spreadsheets/d/1-zcOrI_PgX9R0t6_sOpXptmEcBDI4IX9Gfz9-2a6his/edit#gid=0\"\",\"\"RWA!F:BZ\"\"),44,0))\"),\"\")","v":""},{"$f":"IFERROR(__xludf.DUMMYFUNCTION(\"iferror(VLOOKUP(B739,IMPORTRANGE(\"\"https://docs.google.com/spreadsheets/d/1-zcOrI_PgX9R0t6_sOpXptmEcBDI4IX9Gfz9-2a6his/edit#gid=0\"\",\"\"RWA!F:BZ\"\"),48,0))\"),\"\")","v":""},{"$f":"IFERROR(__xludf.DUMMYFUNCTION(\"iferror(VLOOKUP(B739,IMPORTRANGE(\"\"https://docs.google.com/spreadsheets/d/1-zcOrI_PgX9R0t6_sOpXptmEcBDI4IX9Gfz9-2a6his/edit#gid=0\"\",\"\"RWA!F:BZ\"\"),49,0))\"),\"\")","v":""}]
[{"$nulls":4},{"$f":"IFERROR(__xludf.DUMMYFUNCTION(\"iferror(VLOOKUP(B740,IMPORTRANGE(\"\"https://docs.google.com/spreadsheets/d/1-zcOrI_PgX9R0t6_sOpXptmEcBDI4IX9Gfz9-2a6his/edit#gid=0\"\",\"\"RWA!F:BZ\"\"),44,0))\"),\"\")","v":""},{"$f":"IFERROR(__xludf.DUMMYFUNCTION(\"iferror(VLOOKUP(B740,IMPORTRANGE(\"\"https://docs.google.com/spreadsheets/d/1-zcOrI_PgX9R0t6_sOpXptmEcBDI4IX9Gfz9-2a6his/edit#gid=0\"\",\"\"RWA!F:BZ\"\"),48,0))\"),\"\")","v":""},{"$f":"IFERROR(__xludf.DUMMYFUNCTION(\"iferror(VLOOKUP(B740,IMPORTRANGE(\"\"https://docs.google.com/spreadsheets/d/1-zcOrI_PgX9R0t6_sOpXptmEcBDI4IX9Gfz9-2a6his/edit#gid=0\"\",\"\"RWA!F:BZ\"\"),49,0))\"),\"\")","v":""}]
[{"$nulls":4},{"$f":"IFERROR(__xludf.DUMMYFUNCTION(\"iferror(VLOOKUP(B741,IMPORTRANGE(\"\"https://docs.google.com/spreadsheets/d/1-zcOrI_PgX9R0t6_sOpXptmEcBDI4IX9Gfz9-2a6his/edit#gid=0\"\",\"\"RWA!F:BZ\"\"),44,0))\"),\"\")","v":""},{"$f":"IFERROR(__xludf.DUMMYFUNCTION(\"iferror(VLOOKUP(B741,IMPORTRANGE(\"\"https://docs.google.com/spreadsheets/d/1-zcOrI_PgX9R0t6_sOpXptmEcBDI4IX9Gfz9-2a6his/edit#gid=0\"\",\"\"RWA!F:BZ\"\"),48,0))\"),\"\")","v":""},{"$f":"IFERROR(__xludf.DUMMYFUNCTION(\"iferror(VLOOKUP(B741,IMPORTRANGE(\"\"https://docs.google.com/spreadsheets/d/1-zcOrI_PgX9R0t6_sOpXptmEcBDI4IX9Gfz9-2a6his/edit#gid=0\"\",\"\"RWA!F:BZ\"\"),49,0))\"),\"\")","v":""}]
[{"$nulls":4},{"$f":"IFERROR(__xludf.DUMMYFUNCTION(\"iferror(VLOOKUP(B742,IMPORTRANGE(\"\"https://docs.google.com/spreadsheets/d/1-zcOrI_PgX9R0t6_sOpXptmEcBDI4IX9Gfz9-2a6his/edit#gid=0\"\",\"\"RWA!F:BZ\"\"),44,0))\"),\"\")","v":""},{"$f":"IFERROR(__xludf.DUMMYFUNCTION(\"iferror(VLOOKUP(B742,IMPORTRANGE(\"\"https://docs.google.com/spreadsheets/d/1-zcOrI_PgX9R0t6_sOpXptmEcBDI4IX9Gfz9-2a6his/edit#gid=0\"\",\"\"RWA!F:BZ\"\"),48,0))\"),\"\")","v":""},{"$f":"IFERROR(__xludf.DUMMYFUNCTION(\"iferror(VLOOKUP(B742,IMPORTRANGE(\"\"https://docs.google.com/spreadsheets/d/1-zcOrI_PgX9R0t6_sOpXptmEcBDI4IX9Gfz9-2a6his/edit#gid=0\"\",\"\"RWA!F:BZ\"\"),49,0))\"),\"\")","v":""}]
[{"$nulls":4},{"$f":"IFERROR(__xludf.DUMMYFUNCTION(\"iferror(VLOOKUP(B743,IMPORTRANGE(\"\"https://docs.google.com/spreadsheets/d/1-zcOrI_PgX9R0t6_sOpXptmEcBDI4IX9Gfz9-2a6his/edit#gid=0\"\",\"\"RWA!F:BZ\"\"),44,0))\"),\"\")","v":""},{"$f":"IFERROR(__xludf.DUMMYFUNCTION(\"iferror(VLOOKUP(B743,IMPORTRANGE(\"\"https://docs.google.com/spreadsheets/d/1-zcOrI_PgX9R0t6_sOpXptmEcBDI4IX9Gfz9-2a6his/edit#gid=0\"\",\"\"RWA!F:BZ\"\"),48,0))\"),\"\")","v":""},{"$f":"IFERROR(__xludf.DUMMYFUNCTION(\"iferror(VLOOKUP(B743,IMPORTRANGE(\"\"https://docs.google.com/spreadsheets/d/1-zcOrI_PgX9R0t6_sOpXptmEcBDI4IX9Gfz9-2a6his/edit#gid=0\"\",\"\"RWA!F:BZ\"\"),49,0))\"),\"\")","v":""}]
[{"$nulls":4},{"$f":"IFERROR(__xludf.DUMMYFUNCTION(\"iferror(VLOOKUP(B744,IMPORTRANGE(\"\"https://docs.google.com/spreadsheets/d/1-zcOrI_PgX9R0t6_sOpXptmEcBDI4IX9Gfz9-2a6his/edit#gid=0\"\",\"\"RWA!F:BZ\"\"),44,0))\"),\"\")","v":""},{"$f":"IFERROR(__xludf.DUMMYFUNCTION(\"iferror(VLOOKUP(B744,IMPORTRANGE(\"\"https://docs.google.com/spreadsheets/d/1-zcOrI_PgX9R0t6_sOpXptmEcBDI4IX9Gfz9-2a6his/edit#gid=0\"\",\"\"RWA!F:BZ\"\"),48,0))\"),\"\")","v":""},{"$f":"IFERROR(__xludf.DUMMYFUNCTION(\"iferror(VLOOKUP(B744,IMPORTRANGE(\"\"https://docs.google.com/spreadsheets/d/1-zcOrI_PgX9R0t6_sOpXptmEcBDI4IX9Gfz9-2a6his/edit#gid=0\"\",\"\"RWA!F:BZ\"\"),49,0))\"),\"\")","v":""}]
[{"$nulls":4},{"$f":"IFERROR(__xludf.DUMMYFUNCTION(\"iferror(VLOOKUP(B745,IMPORTRANGE(\"\"https://docs.google.com/spreadsheets/d/1-zcOrI_PgX9R0t6_sOpXptmEcBDI4IX9Gfz9-2a6his/edit#gid=0\"\",\"\"RWA!F:BZ\"\"),44,0))\"),\"\")","v":""},{"$f":"IFERROR(__xludf.DUMMYFUNCTION(\"iferror(VLOOKUP(B745,IMPORTRANGE(\"\"https://docs.google.com/spreadsheets/d/1-zcOrI_PgX9R0t6_sOpXptmEcBDI4IX9Gfz9-2a6his/edit#gid=0\"\",\"\"RWA!F:BZ\"\"),48,0))\"),\"\")","v":""},{"$f":"IFERROR(__xludf.DUMMYFUNCTION(\"iferror(VLOOKUP(B745,IMPORTRANGE(\"\"https://docs.google.com/spreadsheets/d/1-zcOrI_PgX9R0t6_sOpXptmEcBDI4IX9Gfz9-2a6his/edit#gid=0\"\",\"\"RWA!F:BZ\"\"),49,0))\"),\"\")","v":""}]
[{"$nulls":4},{"$f":"IFERROR(__xludf.DUMMYFUNCTION(\"iferror(VLOOKUP(B746,IMPORTRANGE(\"\"https://docs.google.com/spreadsheets/d/1-zcOrI_PgX9R0t6_sOpXptmEcBDI4IX9Gfz9-2a6his/edit#gid=0\"\",\"\"RWA!F:BZ\"\"),44,0))\"),\"\")","v":""},{"$f":"IFERROR(__xludf.DUMMYFUNCTION(\"iferror(VLOOKUP(B746,IMPORTRANGE(\"\"https://docs.google.com/spreadsheets/d/1-zcOrI_PgX9R0t6_sOpXptmEcBDI4IX9Gfz9-2a6his/edit#gid=0\"\",\"\"RWA!F:BZ\"\"),48,0))\"),\"\")","v":""},{"$f":"IFERROR(__xludf.DUMMYFUNCTION(\"iferror(VLOOKUP(B746,IMPORTRANGE(\"\"https://docs.google.com/spreadsheets/d/1-zcOrI_PgX9R0t6_sOpXptmEcBDI4IX9Gfz9-2a6his/edit#gid=0\"\",\"\"RWA!F:BZ\"\"),49,0))\"),\"\")","v":""}]
[{"$nulls":4},{"$f":"IFERROR(__xludf.DUMMYFUNCTION(\"iferror(VLOOKUP(B747,IMPORTRANGE(\"\"https://docs.google.com/spreadsheets/d/1-zcOrI_PgX9R0t6_sOpXptmEcBDI4IX9Gfz9-2a6his/edit#gid=0\"\",\"\"RWA!F:BZ\"\"),44,0))\"),\"\")","v":""},{"$f":"IFERROR(__xludf.DUMMYFUNCTION(\"iferror(VLOOKUP(B747,IMPORTRANGE(\"\"https://docs.google.com/spreadsheets/d/1-zcOrI_PgX9R0t6_sOpXptmEcBDI4IX9Gfz9-2a6his/edit#gid=0\"\",\"\"RWA!F:BZ\"\"),48,0))\"),\"\")","v":""},{"$f":"IFERROR(__xludf.DUMMYFUNCTION(\"iferror(VLOOKUP(B747,IMPORTRANGE(\"\"https://docs.google.com/spreadsheets/d/1-zcOrI_PgX9R0t6_sOpXptmEcBDI4IX9Gfz9-2a6his/edit#gid=0\"\",\"\"RWA!F:BZ\"\"),49,0))\"),\"\")","v":""}]
[{"$nulls":4},{"$f":"IFERROR(__xludf.DUMMYFUNCTION(\"iferror(VLOOKUP(B748,IMPORTRANGE(\"\"https://docs.google.com/spreadsheets/d/1-zcOrI_PgX9R0t6_sOpXptmEcBDI4IX9Gfz9-2a6his/edit#gid=0\"\",\"\"RWA!F:BZ\"\"),44,0))\"),\"\")","v":""},{"$f":"IFERROR(__xludf.DUMMYFUNCTION(\"iferror(VLOOKUP(B748,IMPORTRANGE(\"\"https://docs.google.com/spreadsheets/d/1-zcOrI_PgX9R0t6_sOpXptmEcBDI4IX9Gfz9-2a6his/edit#gid=0\"\",\"\"RWA!F:BZ\"\"),48,0))\"),\"\")","v":""},{"$f":"IFERROR(__xludf.DUMMYFUNCTION(\"iferror(VLOOKUP(B748,IMPORTRANGE(\"\"https://docs.google.com/spreadsheets/d/1-zcOrI_PgX9R0t6_sOpXptmEcBDI4IX9Gfz9-2a6his/edit#gid=0\"\",\"\"RWA!F:BZ\"\"),49,0))\"),\"\")","v":""}]
[{"$nulls":4},{"$f":"IFERROR(__xludf.DUMMYFUNCTION(\"iferror(VLOOKUP(B749,IMPORTRANGE(\"\"https://docs.google.com/spreadsheets/d/1-zcOrI_PgX9R0t6_sOpXptmEcBDI4IX9Gfz9-2a6his/edit#gid=0\"\",\"\"RWA!F:BZ\"\"),44,0))\"),\"\")","v":""},{"$f":"IFERROR(__xludf.DUMMYFUNCTION(\"iferror(VLOOKUP(B749,IMPORTRANGE(\"\"https://docs.google.com/spreadsheets/d/1-zcOrI_PgX9R0t6_sOpXptmEcBDI4IX9Gfz9-2a6his/edit#gid=0\"\",\"\"RWA!F:BZ\"\"),48,0))\"),\"\")","v":""},{"$f":"IFERROR(__xludf.DUMMYFUNCTION(\"iferror(VLOOKUP(B749,IMPORTRANGE(\"\"https://docs.google.com/spreadsheets/d/1-zcOrI_PgX9R0t6_sOpXptmEcBDI4IX9Gfz9-2a6his/edit#gid=0\"\",\"\"RWA!F:BZ\"\"),49,0))\"),\"\")","v":""}]
[{"$nulls":4},{"$f":"IFERROR(__xludf.DUMMYFUNCTION(\"iferror(VLOOKUP(B750,IMPORTRANGE(\"\"https://docs.google.com/spreadsheets/d/1-zcOrI_PgX9R0t6_sOpXptmEcBDI4IX9Gfz9-2a6his/edit#gid=0\"\",\"\"RWA!F:BZ\"\"),44,0))\"),\"\")","v":""},{"$f":"IFERROR(__xludf.DUMMYFUNCTION(\"iferror(VLOOKUP(B750,IMPORTRANGE(\"\"https://docs.google.com/spreadsheets/d/1-zcOrI_PgX9R0t6_sOpXptmEcBDI4IX9Gfz9-2a6his/edit#gid=0\"\",\"\"RWA!F:BZ\"\"),48,0))\"),\"\")","v":""},{"$f":"IFERROR(__xludf.DUMMYFUNCTION(\"iferror(VLOOKUP(B750,IMPORTRANGE(\"\"https://docs.google.com/spreadsheets/d/1-zcOrI_PgX9R0t6_sOpXptmEcBDI4IX9Gfz9-2a6his/edit#gid=0\"\",\"\"RWA!F:BZ\"\"),49,0))\"),\"\")","v":""}]
[{"$nulls":4},{"$f":"IFERROR(__xludf.DUMMYFUNCTION(\"iferror(VLOOKUP(B751,IMPORTRANGE(\"\"https://docs.google.com/spreadsheets/d/1-zcOrI_PgX9R0t6_sOpXptmEcBDI4IX9Gfz9-2a6his/edit#gid=0\"\",\"\"RWA!F:BZ\"\"),44,0))\"),\"\")","v":""},{"$f":"IFERROR(__xludf.DUMMYFUNCTION(\"iferror(VLOOKUP(B751,IMPORTRANGE(\"\"https://docs.google.com/spreadsheets/d/1-zcOrI_PgX9R0t6_sOpXptmEcBDI4IX9Gfz9-2a6his/edit#gid=0\"\",\"\"RWA!F:BZ\"\"),48,0))\"),\"\")","v":""},{"$f":"IFERROR(__xludf.DUMMYFUNCTION(\"iferror(VLOOKUP(B751,IMPORTRANGE(\"\"https://docs.google.com/spreadsheets/d/1-zcOrI_PgX9R0t6_sOpXptmEcBDI4IX9Gfz9-2a6his/edit#gid=0\"\",\"\"RWA!F:BZ\"\"),49,0))\"),\"\")","v":""}]
[{"$nulls":4},{"$f":"IFERROR(__xludf.DUMMYFUNCTION(\"iferror(VLOOKUP(B752,IMPORTRANGE(\"\"https://docs.google.com/spreadsheets/d/1-zcOrI_PgX9R0t6_sOpXptmEcBDI4IX9Gfz9-2a6his/edit#gid=0\"\",\"\"RWA!F:BZ\"\"),44,0))\"),\"\")","v":""},{"$f":"IFERROR(__xludf.DUMMYFUNCTION(\"iferror(VLOOKUP(B752,IMPORTRANGE(\"\"https://docs.google.com/spreadsheets/d/1-zcOrI_PgX9R0t6_sOpXptmEcBDI4IX9Gfz9-2a6his/edit#gid=0\"\",\"\"RWA!F:BZ\"\"),48,0))\"),\"\")","v":""},{"$f":"IFERROR(__xludf.DUMMYFUNCTION(\"iferror(VLOOKUP(B752,IMPORTRANGE(\"\"https://docs.google.com/spreadsheets/d/1-zcOrI_PgX9R0t6_sOpXptmEcBDI4IX9Gfz9-2a6his/edit#gid=0\"\",\"\"RWA!F:BZ\"\"),49,0))\"),\"\")","v":""}]
[{"$nulls":4},{"$f":"IFERROR(__xludf.DUMMYFUNCTION(\"iferror(VLOOKUP(B753,IMPORTRANGE(\"\"https://docs.google.com/spreadsheets/d/1-zcOrI_PgX9R0t6_sOpXptmEcBDI4IX9Gfz9-2a6his/edit#gid=0\"\",\"\"RWA!F:BZ\"\"),44,0))\"),\"\")","v":""},{"$f":"IFERROR(__xludf.DUMMYFUNCTION(\"iferror(VLOOKUP(B753,IMPORTRANGE(\"\"https://docs.google.com/spreadsheets/d/1-zcOrI_PgX9R0t6_sOpXptmEcBDI4IX9Gfz9-2a6his/edit#gid=0\"\",\"\"RWA!F:BZ\"\"),48,0))\"),\"\")","v":""},{"$f":"IFERROR(__xludf.DUMMYFUNCTION(\"iferror(VLOOKUP(B753,IMPORTRANGE(\"\"https://docs.google.com/spreadsheets/d/1-zcOrI_PgX9R0t6_sOpXptmEcBDI4IX9Gfz9-2a6his/edit#gid=0\"\",\"\"RWA!F:BZ\"\"),49,0))\"),\"\")","v":""}]
[{"$nulls":4},{"$f":"IFERROR(__xludf.DUMMYFUNCTION(\"iferror(VLOOKUP(B754,IMPORTRANGE(\"\"https://docs.google.com/spreadsheets/d/1-zcOrI_PgX9R0t6_sOpXptmEcBDI4IX9Gfz9-2a6his/edit#gid=0\"\",\"\"RWA!F:BZ\"\"),44,0))\"),\"\")","v":""},{"$f":"IFERROR(__xludf.DUMMYFUNCTION(\"iferror(VLOOKUP(B754,IMPORTRANGE(\"\"https://docs.google.com/spreadsheets/d/1-zcOrI_PgX9R0t6_sOpXptmEcBDI4IX9Gfz9-2a6his/edit#gid=0\"\",\"\"RWA!F:BZ\"\"),48,0))\"),\"\")","v":""},{"$f":"IFERROR(__xludf.DUMMYFUNCTION(\"iferror(VLOOKUP(B754,IMPORTRANGE(\"\"https://docs.google.com/spreadsheets/d/1-zcOrI_PgX9R0t6_sOpXptmEcBDI4IX9Gfz9-2a6his/edit#gid=0\"\",\"\"RWA!F:BZ\"\"),49,0))\"),\"\")","v":""}]
[{"$nulls":4},{"$f":"IFERROR(__xludf.DUMMYFUNCTION(\"iferror(VLOOKUP(B755,IMPORTRANGE(\"\"https://docs.google.com/spreadsheets/d/1-zcOrI_PgX9R0t6_sOpXptmEcBDI4IX9Gfz9-2a6his/edit#gid=0\"\",\"\"RWA!F:BZ\"\"),44,0))\"),\"\")","v":""},{"$f":"IFERROR(__xludf.DUMMYFUNCTION(\"iferror(VLOOKUP(B755,IMPORTRANGE(\"\"https://docs.google.com/spreadsheets/d/1-zcOrI_PgX9R0t6_sOpXptmEcBDI4IX9Gfz9-2a6his/edit#gid=0\"\",\"\"RWA!F:BZ\"\"),48,0))\"),\"\")","v":""},{"$f":"IFERROR(__xludf.DUMMYFUNCTION(\"iferror(VLOOKUP(B755,IMPORTRANGE(\"\"https://docs.google.com/spreadsheets/d/1-zcOrI_PgX9R0t6_sOpXptmEcBDI4IX9Gfz9-2a6his/edit#gid=0\"\",\"\"RWA!F:BZ\"\"),49,0))\"),\"\")","v":""}]
[{"$nulls":4},{"$f":"IFERROR(__xludf.DUMMYFUNCTION(\"iferror(VLOOKUP(B756,IMPORTRANGE(\"\"https://docs.google.com/spreadsheets/d/1-zcOrI_PgX9R0t6_sOpXptmEcBDI4IX9Gfz9-2a6his/edit#gid=0\"\",\"\"RWA!F:BZ\"\"),44,0))\"),\"\")","v":""},{"$f":"IFERROR(__xludf.DUMMYFUNCTION(\"iferror(VLOOKUP(B756,IMPORTRANGE(\"\"https://docs.google.com/spreadsheets/d/1-zcOrI_PgX9R0t6_sOpXptmEcBDI4IX9Gfz9-2a6his/edit#gid=0\"\",\"\"RWA!F:BZ\"\"),48,0))\"),\"\")","v":""},{"$f":"IFERROR(__xludf.DUMMYFUNCTION(\"iferror(VLOOKUP(B756,IMPORTRANGE(\"\"https://docs.google.com/spreadsheets/d/1-zcOrI_PgX9R0t6_sOpXptmEcBDI4IX9Gfz9-2a6his/edit#gid=0\"\",\"\"RWA!F:BZ\"\"),49,0))\"),\"\")","v":""}]
[{"$nulls":4},{"$f":"IFERROR(__xludf.DUMMYFUNCTION(\"iferror(VLOOKUP(B757,IMPORTRANGE(\"\"https://docs.google.com/spreadsheets/d/1-zcOrI_PgX9R0t6_sOpXptmEcBDI4IX9Gfz9-2a6his/edit#gid=0\"\",\"\"RWA!F:BZ\"\"),44,0))\"),\"\")","v":""},{"$f":"IFERROR(__xludf.DUMMYFUNCTION(\"iferror(VLOOKUP(B757,IMPORTRANGE(\"\"https://docs.google.com/spreadsheets/d/1-zcOrI_PgX9R0t6_sOpXptmEcBDI4IX9Gfz9-2a6his/edit#gid=0\"\",\"\"RWA!F:BZ\"\"),48,0))\"),\"\")","v":""},{"$f":"IFERROR(__xludf.DUMMYFUNCTION(\"iferror(VLOOKUP(B757,IMPORTRANGE(\"\"https://docs.google.com/spreadsheets/d/1-zcOrI_PgX9R0t6_sOpXptmEcBDI4IX9Gfz9-2a6his/edit#gid=0\"\",\"\"RWA!F:BZ\"\"),49,0))\"),\"\")","v":""}]
[{"$nulls":4},{"$f":"IFERROR(__xludf.DUMMYFUNCTION(\"iferror(VLOOKUP(B758,IMPORTRANGE(\"\"https://docs.google.com/spreadsheets/d/1-zcOrI_PgX9R0t6_sOpXptmEcBDI4IX9Gfz9-2a6his/edit#gid=0\"\",\"\"RWA!F:BZ\"\"),44,0))\"),\"\")","v":""},{"$f":"IFERROR(__xludf.DUMMYFUNCTION(\"iferror(VLOOKUP(B758,IMPORTRANGE(\"\"https://docs.google.com/spreadsheets/d/1-zcOrI_PgX9R0t6_sOpXptmEcBDI4IX9Gfz9-2a6his/edit#gid=0\"\",\"\"RWA!F:BZ\"\"),48,0))\"),\"\")","v":""},{"$f":"IFERROR(__xludf.DUMMYFUNCTION(\"iferror(VLOOKUP(B758,IMPORTRANGE(\"\"https://docs.google.com/spreadsheets/d/1-zcOrI_PgX9R0t6_sOpXptmEcBDI4IX9Gfz9-2a6his/edit#gid=0\"\",\"\"RWA!F:BZ\"\"),49,0))\"),\"\")","v":""}]
[{"$nulls":4},{"$f":"IFERROR(__xludf.DUMMYFUNCTION(\"iferror(VLOOKUP(B759,IMPORTRANGE(\"\"https://docs.google.com/spreadsheets/d/1-zcOrI_PgX9R0t6_sOpXptmEcBDI4IX9Gfz9-2a6his/edit#gid=0\"\",\"\"RWA!F:BZ\"\"),44,0))\"),\"\")","v":""},{"$f":"IFERROR(__xludf.DUMMYFUNCTION(\"iferror(VLOOKUP(B759,IMPORTRANGE(\"\"https://docs.google.com/spreadsheets/d/1-zcOrI_PgX9R0t6_sOpXptmEcBDI4IX9Gfz9-2a6his/edit#gid=0\"\",\"\"RWA!F:BZ\"\"),48,0))\"),\"\")","v":""},{"$f":"IFERROR(__xludf.DUMMYFUNCTION(\"iferror(VLOOKUP(B759,IMPORTRANGE(\"\"https://docs.google.com/spreadsheets/d/1-zcOrI_PgX9R0t6_sOpXptmEcBDI4IX9Gfz9-2a6his/edit#gid=0\"\",\"\"RWA!F:BZ\"\"),49,0))\"),\"\")","v":""}]
[{"$nulls":4},{"$f":"IFERROR(__xludf.DUMMYFUNCTION(\"iferror(VLOOKUP(B760,IMPORTRANGE(\"\"https://docs.google.com/spreadsheets/d/1-zcOrI_PgX9R0t6_sOpXptmEcBDI4IX9Gfz9-2a6his/edit#gid=0\"\",\"\"RWA!F:BZ\"\"),44,0))\"),\"\")","v":""},{"$f":"IFERROR(__xludf.DUMMYFUNCTION(\"iferror(VLOOKUP(B760,IMPORTRANGE(\"\"https://docs.google.com/spreadsheets/d/1-zcOrI_PgX9R0t6_sOpXptmEcBDI4IX9Gfz9-2a6his/edit#gid=0\"\",\"\"RWA!F:BZ\"\"),48,0))\"),\"\")","v":""},{"$f":"IFERROR(__xludf.DUMMYFUNCTION(\"iferror(VLOOKUP(B760,IMPORTRANGE(\"\"https://docs.google.com/spreadsheets/d/1-zcOrI_PgX9R0t6_sOpXptmEcBDI4IX9Gfz9-2a6his/edit#gid=0\"\",\"\"RWA!F:BZ\"\"),49,0))\"),\"\")","v":""}]
[{"$nulls":4},{"$f":"IFERROR(__xludf.DUMMYFUNCTION(\"iferror(VLOOKUP(B761,IMPORTRANGE(\"\"https://docs.google.com/spreadsheets/d/1-zcOrI_PgX9R0t6_sOpXptmEcBDI4IX9Gfz9-2a6his/edit#gid=0\"\",\"\"RWA!F:BZ\"\"),44,0))\"),\"\")","v":""},{"$f":"IFERROR(__xludf.DUMMYFUNCTION(\"iferror(VLOOKUP(B761,IMPORTRANGE(\"\"https://docs.google.com/spreadsheets/d/1-zcOrI_PgX9R0t6_sOpXptmEcBDI4IX9Gfz9-2a6his/edit#gid=0\"\",\"\"RWA!F:BZ\"\"),48,0))\"),\"\")","v":""},{"$f":"IFERROR(__xludf.DUMMYFUNCTION(\"iferror(VLOOKUP(B761,IMPORTRANGE(\"\"https://docs.google.com/spreadsheets/d/1-zcOrI_PgX9R0t6_sOpXptmEcBDI4IX9Gfz9-2a6his/edit#gid=0\"\",\"\"RWA!F:BZ\"\"),49,0))\"),\"\")","v":""}]
[{"$nulls":4},{"$f":"IFERROR(__xludf.DUMMYFUNCTION(\"iferror(VLOOKUP(B762,IMPORTRANGE(\"\"https://docs.google.com/spreadsheets/d/1-zcOrI_PgX9R0t6_sOpXptmEcBDI4IX9Gfz9-2a6his/edit#gid=0\"\",\"\"RWA!F:BZ\"\"),44,0))\"),\"\")","v":""},{"$f":"IFERROR(__xludf.DUMMYFUNCTION(\"iferror(VLOOKUP(B762,IMPORTRANGE(\"\"https://docs.google.com/spreadsheets/d/1-zcOrI_PgX9R0t6_sOpXptmEcBDI4IX9Gfz9-2a6his/edit#gid=0\"\",\"\"RWA!F:BZ\"\"),48,0))\"),\"\")","v":""},{"$f":"IFERROR(__xludf.DUMMYFUNCTION(\"iferror(VLOOKUP(B762,IMPORTRANGE(\"\"https://docs.google.com/spreadsheets/d/1-zcOrI_PgX9R0t6_sOpXptmEcBDI4IX9Gfz9-2a6his/edit#gid=0\"\",\"\"RWA!F:BZ\"\"),49,0))\"),\"\")","v":""}]
[{"$nulls":4},{"$f":"IFERROR(__xludf.DUMMYFUNCTION(\"iferror(VLOOKUP(B763,IMPORTRANGE(\"\"https://docs.google.com/spreadsheets/d/1-zcOrI_PgX9R0t6_sOpXptmEcBDI4IX9Gfz9-2a6his/edit#gid=0\"\",\"\"RWA!F:BZ\"\"),44,0))\"),\"\")","v":""},{"$f":"IFERROR(__xludf.DUMMYFUNCTION(\"iferror(VLOOKUP(B763,IMPORTRANGE(\"\"https://docs.google.com/spreadsheets/d/1-zcOrI_PgX9R0t6_sOpXptmEcBDI4IX9Gfz9-2a6his/edit#gid=0\"\",\"\"RWA!F:BZ\"\"),48,0))\"),\"\")","v":""},{"$f":"IFERROR(__xludf.DUMMYFUNCTION(\"iferror(VLOOKUP(B763,IMPORTRANGE(\"\"https://docs.google.com/spreadsheets/d/1-zcOrI_PgX9R0t6_sOpXptmEcBDI4IX9Gfz9-2a6his/edit#gid=0\"\",\"\"RWA!F:BZ\"\"),49,0))\"),\"\")","v":""}]
[{"$nulls":4},{"$f":"IFERROR(__xludf.DUMMYFUNCTION(\"iferror(VLOOKUP(B764,IMPORTRANGE(\"\"https://docs.google.com/spreadsheets/d/1-zcOrI_PgX9R0t6_sOpXptmEcBDI4IX9Gfz9-2a6his/edit#gid=0\"\",\"\"RWA!F:BZ\"\"),44,0))\"),\"\")","v":""},{"$f":"IFERROR(__xludf.DUMMYFUNCTION(\"iferror(VLOOKUP(B764,IMPORTRANGE(\"\"https://docs.google.com/spreadsheets/d/1-zcOrI_PgX9R0t6_sOpXptmEcBDI4IX9Gfz9-2a6his/edit#gid=0\"\",\"\"RWA!F:BZ\"\"),48,0))\"),\"\")","v":""},{"$f":"IFERROR(__xludf.DUMMYFUNCTION(\"iferror(VLOOKUP(B764,IMPORTRANGE(\"\"https://docs.google.com/spreadsheets/d/1-zcOrI_PgX9R0t6_sOpXptmEcBDI4IX9Gfz9-2a6his/edit#gid=0\"\",\"\"RWA!F:BZ\"\"),49,0))\"),\"\")","v":""}]
[{"$nulls":4},{"$f":"IFERROR(__xludf.DUMMYFUNCTION(\"iferror(VLOOKUP(B765,IMPORTRANGE(\"\"https://docs.google.com/spreadsheets/d/1-zcOrI_PgX9R0t6_sOpXptmEcBDI4IX9Gfz9-2a6his/edit#gid=0\"\",\"\"RWA!F:BZ\"\"),44,0))\"),\"\")","v":""},{"$f":"IFERROR(__xludf.DUMMYFUNCTION(\"iferror(VLOOKUP(B765,IMPORTRANGE(\"\"https://docs.google.com/spreadsheets/d/1-zcOrI_PgX9R0t6_sOpXptmEcBDI4IX9Gfz9-2a6his/edit#gid=0\"\",\"\"RWA!F:BZ\"\"),48,0))\"),\"\")","v":""},{"$f":"IFERROR(__xludf.DUMMYFUNCTION(\"iferror(VLOOKUP(B765,IMPORTRANGE(\"\"https://docs.google.com/spreadsheets/d/1-zcOrI_PgX9R0t6_sOpXptmEcBDI4IX9Gfz9-2a6his/edit#gid=0\"\",\"\"RWA!F:BZ\"\"),49,0))\"),\"\")","v":""}]
[{"$nulls":4},{"$f":"IFERROR(__xludf.DUMMYFUNCTION(\"iferror(VLOOKUP(B766,IMPORTRANGE(\"\"https://docs.google.com/spreadsheets/d/1-zcOrI_PgX9R0t6_sOpXptmEcBDI4IX9Gfz9-2a6his/edit#gid=0\"\",\"\"RWA!F:BZ\"\"),44,0))\"),\"\")","v":""},{"$f":"IFERROR(__xludf.DUMMYFUNCTION(\"iferror(VLOOKUP(B766,IMPORTRANGE(\"\"https://docs.google.com/spreadsheets/d/1-zcOrI_PgX9R0t6_sOpXptmEcBDI4IX9Gfz9-2a6his/edit#gid=0\"\",\"\"RWA!F:BZ\"\"),48,0))\"),\"\")","v":""},{"$f":"IFERROR(__xludf.DUMMYFUNCTION(\"iferror(VLOOKUP(B766,IMPORTRANGE(\"\"https://docs.google.com/spreadsheets/d/1-zcOrI_PgX9R0t6_sOpXptmEcBDI4IX9Gfz9-2a6his/edit#gid=0\"\",\"\"RWA!F:BZ\"\"),49,0))\"),\"\")","v":""}]
[{"$nulls":4},{"$f":"IFERROR(__xludf.DUMMYFUNCTION(\"iferror(VLOOKUP(B767,IMPORTRANGE(\"\"https://docs.google.com/spreadsheets/d/1-zcOrI_PgX9R0t6_sOpXptmEcBDI4IX9Gfz9-2a6his/edit#gid=0\"\",\"\"RWA!F:BZ\"\"),44,0))\"),\"\")","v":""},{"$f":"IFERROR(__xludf.DUMMYFUNCTION(\"iferror(VLOOKUP(B767,IMPORTRANGE(\"\"https://docs.google.com/spreadsheets/d/1-zcOrI_PgX9R0t6_sOpXptmEcBDI4IX9Gfz9-2a6his/edit#gid=0\"\",\"\"RWA!F:BZ\"\"),48,0))\"),\"\")","v":""},{"$f":"IFERROR(__xludf.DUMMYFUNCTION(\"iferror(VLOOKUP(B767,IMPORTRANGE(\"\"https://docs.google.com/spreadsheets/d/1-zcOrI_PgX9R0t6_sOpXptmEcBDI4IX9Gfz9-2a6his/edit#gid=0\"\",\"\"RWA!F:BZ\"\"),49,0))\"),\"\")","v":""}]
[{"$nulls":4},{"$f":"IFERROR(__xludf.DUMMYFUNCTION(\"iferror(VLOOKUP(B768,IMPORTRANGE(\"\"https://docs.google.com/spreadsheets/d/1-zcOrI_PgX9R0t6_sOpXptmEcBDI4IX9Gfz9-2a6his/edit#gid=0\"\",\"\"RWA!F:BZ\"\"),44,0))\"),\"\")","v":""},{"$f":"IFERROR(__xludf.DUMMYFUNCTION(\"iferror(VLOOKUP(B768,IMPORTRANGE(\"\"https://docs.google.com/spreadsheets/d/1-zcOrI_PgX9R0t6_sOpXptmEcBDI4IX9Gfz9-2a6his/edit#gid=0\"\",\"\"RWA!F:BZ\"\"),48,0))\"),\"\")","v":""},{"$f":"IFERROR(__xludf.DUMMYFUNCTION(\"iferror(VLOOKUP(B768,IMPORTRANGE(\"\"https://docs.google.com/spreadsheets/d/1-zcOrI_PgX9R0t6_sOpXptmEcBDI4IX9Gfz9-2a6his/edit#gid=0\"\",\"\"RWA!F:BZ\"\"),49,0))\"),\"\")","v":""}]
[{"$nulls":4},{"$f":"IFERROR(__xludf.DUMMYFUNCTION(\"iferror(VLOOKUP(B769,IMPORTRANGE(\"\"https://docs.google.com/spreadsheets/d/1-zcOrI_PgX9R0t6_sOpXptmEcBDI4IX9Gfz9-2a6his/edit#gid=0\"\",\"\"RWA!F:BZ\"\"),44,0))\"),\"\")","v":""},{"$f":"IFERROR(__xludf.DUMMYFUNCTION(\"iferror(VLOOKUP(B769,IMPORTRANGE(\"\"https://docs.google.com/spreadsheets/d/1-zcOrI_PgX9R0t6_sOpXptmEcBDI4IX9Gfz9-2a6his/edit#gid=0\"\",\"\"RWA!F:BZ\"\"),48,0))\"),\"\")","v":""},{"$f":"IFERROR(__xludf.DUMMYFUNCTION(\"iferror(VLOOKUP(B769,IMPORTRANGE(\"\"https://docs.google.com/spreadsheets/d/1-zcOrI_PgX9R0t6_sOpXptmEcBDI4IX9Gfz9-2a6his/edit#gid=0\"\",\"\"RWA!F:BZ\"\"),49,0))\"),\"\")","v":""}]
[{"$nulls":4},{"$f":"IFERROR(__xludf.DUMMYFUNCTION(\"iferror(VLOOKUP(B770,IMPORTRANGE(\"\"https://docs.google.com/spreadsheets/d/1-zcOrI_PgX9R0t6_sOpXptmEcBDI4IX9Gfz9-2a6his/edit#gid=0\"\",\"\"RWA!F:BZ\"\"),44,0))\"),\"\")","v":""},{"$f":"IFERROR(__xludf.DUMMYFUNCTION(\"iferror(VLOOKUP(B770,IMPORTRANGE(\"\"https://docs.google.com/spreadsheets/d/1-zcOrI_PgX9R0t6_sOpXptmEcBDI4IX9Gfz9-2a6his/edit#gid=0\"\",\"\"RWA!F:BZ\"\"),48,0))\"),\"\")","v":""},{"$f":"IFERROR(__xludf.DUMMYFUNCTION(\"iferror(VLOOKUP(B770,IMPORTRANGE(\"\"https://docs.google.com/spreadsheets/d/1-zcOrI_PgX9R0t6_sOpXptmEcBDI4IX9Gfz9-2a6his/edit#gid=0\"\",\"\"RWA!F:BZ\"\"),49,0))\"),\"\")","v":""}]
[{"$nulls":4},{"$f":"IFERROR(__xludf.DUMMYFUNCTION(\"iferror(VLOOKUP(B771,IMPORTRANGE(\"\"https://docs.google.com/spreadsheets/d/1-zcOrI_PgX9R0t6_sOpXptmEcBDI4IX9Gfz9-2a6his/edit#gid=0\"\",\"\"RWA!F:BZ\"\"),44,0))\"),\"\")","v":""},{"$f":"IFERROR(__xludf.DUMMYFUNCTION(\"iferror(VLOOKUP(B771,IMPORTRANGE(\"\"https://docs.google.com/spreadsheets/d/1-zcOrI_PgX9R0t6_sOpXptmEcBDI4IX9Gfz9-2a6his/edit#gid=0\"\",\"\"RWA!F:BZ\"\"),48,0))\"),\"\")","v":""},{"$f":"IFERROR(__xludf.DUMMYFUNCTION(\"iferror(VLOOKUP(B771,IMPORTRANGE(\"\"https://docs.google.com/spreadsheets/d/1-zcOrI_PgX9R0t6_sOpXptmEcBDI4IX9Gfz9-2a6his/edit#gid=0\"\",\"\"RWA!F:BZ\"\"),49,0))\"),\"\")","v":""}]
[{"$nulls":4},{"$f":"IFERROR(__xludf.DUMMYFUNCTION(\"iferror(VLOOKUP(B772,IMPORTRANGE(\"\"https://docs.google.com/spreadsheets/d/1-zcOrI_PgX9R0t6_sOpXptmEcBDI4IX9Gfz9-2a6his/edit#gid=0\"\",\"\"RWA!F:BZ\"\"),44,0))\"),\"\")","v":""},{"$f":"IFERROR(__xludf.DUMMYFUNCTION(\"iferror(VLOOKUP(B772,IMPORTRANGE(\"\"https://docs.google.com/spreadsheets/d/1-zcOrI_PgX9R0t6_sOpXptmEcBDI4IX9Gfz9-2a6his/edit#gid=0\"\",\"\"RWA!F:BZ\"\"),48,0))\"),\"\")","v":""},{"$f":"IFERROR(__xludf.DUMMYFUNCTION(\"iferror(VLOOKUP(B772,IMPORTRANGE(\"\"https://docs.google.com/spreadsheets/d/1-zcOrI_PgX9R0t6_sOpXptmEcBDI4IX9Gfz9-2a6his/edit#gid=0\"\",\"\"RWA!F:BZ\"\"),49,0))\"),\"\")","v":""}]
[{"$nulls":4},{"$f":"IFERROR(__xludf.DUMMYFUNCTION(\"iferror(VLOOKUP(B773,IMPORTRANGE(\"\"https://docs.google.com/spreadsheets/d/1-zcOrI_PgX9R0t6_sOpXptmEcBDI4IX9Gfz9-2a6his/edit#gid=0\"\",\"\"RWA!F:BZ\"\"),44,0))\"),\"\")","v":""},{"$f":"IFERROR(__xludf.DUMMYFUNCTION(\"iferror(VLOOKUP(B773,IMPORTRANGE(\"\"https://docs.google.com/spreadsheets/d/1-zcOrI_PgX9R0t6_sOpXptmEcBDI4IX9Gfz9-2a6his/edit#gid=0\"\",\"\"RWA!F:BZ\"\"),48,0))\"),\"\")","v":""},{"$f":"IFERROR(__xludf.DUMMYFUNCTION(\"iferror(VLOOKUP(B773,IMPORTRANGE(\"\"https://docs.google.com/spreadsheets/d/1-zcOrI_PgX9R0t6_sOpXptmEcBDI4IX9Gfz9-2a6his/edit#gid=0\"\",\"\"RWA!F:BZ\"\"),49,0))\"),\"\")","v":""}]
[{"$nulls":4},{"$f":"IFERROR(__xludf.DUMMYFUNCTION(\"iferror(VLOOKUP(B774,IMPORTRANGE(\"\"https://docs.google.com/spreadsheets/d/1-zcOrI_PgX9R0t6_sOpXptmEcBDI4IX9Gfz9-2a6his/edit#gid=0\"\",\"\"RWA!F:BZ\"\"),44,0))\"),\"\")","v":""},{"$f":"IFERROR(__xludf.DUMMYFUNCTION(\"iferror(VLOOKUP(B774,IMPORTRANGE(\"\"https://docs.google.com/spreadsheets/d/1-zcOrI_PgX9R0t6_sOpXptmEcBDI4IX9Gfz9-2a6his/edit#gid=0\"\",\"\"RWA!F:BZ\"\"),48,0))\"),\"\")","v":""},{"$f":"IFERROR(__xludf.DUMMYFUNCTION(\"iferror(VLOOKUP(B774,IMPORTRANGE(\"\"https://docs.google.com/spreadsheets/d/1-zcOrI_PgX9R0t6_sOpXptmEcBDI4IX9Gfz9-2a6his/edit#gid=0\"\",\"\"RWA!F:BZ\"\"),49,0))\"),\"\")","v":""}]
[{"$nulls":4},{"$f":"IFERROR(__xludf.DUMMYFUNCTION(\"iferror(VLOOKUP(B775,IMPORTRANGE(\"\"https://docs.google.com/spreadsheets/d/1-zcOrI_PgX9R0t6_sOpXptmEcBDI4IX9Gfz9-2a6his/edit#gid=0\"\",\"\"RWA!F:BZ\"\"),44,0))\"),\"\")","v":""},{"$f":"IFERROR(__xludf.DUMMYFUNCTION(\"iferror(VLOOKUP(B775,IMPORTRANGE(\"\"https://docs.google.com/spreadsheets/d/1-zcOrI_PgX9R0t6_sOpXptmEcBDI4IX9Gfz9-2a6his/edit#gid=0\"\",\"\"RWA!F:BZ\"\"),48,0))\"),\"\")","v":""},{"$f":"IFERROR(__xludf.DUMMYFUNCTION(\"iferror(VLOOKUP(B775,IMPORTRANGE(\"\"https://docs.google.com/spreadsheets/d/1-zcOrI_PgX9R0t6_sOpXptmEcBDI4IX9Gfz9-2a6his/edit#gid=0\"\",\"\"RWA!F:BZ\"\"),49,0))\"),\"\")","v":""}]
[{"$nulls":4},{"$f":"IFERROR(__xludf.DUMMYFUNCTION(\"iferror(VLOOKUP(B776,IMPORTRANGE(\"\"https://docs.google.com/spreadsheets/d/1-zcOrI_PgX9R0t6_sOpXptmEcBDI4IX9Gfz9-2a6his/edit#gid=0\"\",\"\"RWA!F:BZ\"\"),44,0))\"),\"\")","v":""},{"$f":"IFERROR(__xludf.DUMMYFUNCTION(\"iferror(VLOOKUP(B776,IMPORTRANGE(\"\"https://docs.google.com/spreadsheets/d/1-zcOrI_PgX9R0t6_sOpXptmEcBDI4IX9Gfz9-2a6his/edit#gid=0\"\",\"\"RWA!F:BZ\"\"),48,0))\"),\"\")","v":""},{"$f":"IFERROR(__xludf.DUMMYFUNCTION(\"iferror(VLOOKUP(B776,IMPORTRANGE(\"\"https://docs.google.com/spreadsheets/d/1-zcOrI_PgX9R0t6_sOpXptmEcBDI4IX9Gfz9-2a6his/edit#gid=0\"\",\"\"RWA!F:BZ\"\"),49,0))\"),\"\")","v":""}]
[{"$nulls":4},{"$f":"IFERROR(__xludf.DUMMYFUNCTION(\"iferror(VLOOKUP(B777,IMPORTRANGE(\"\"https://docs.google.com/spreadsheets/d/1-zcOrI_PgX9R0t6_sOpXptmEcBDI4IX9Gfz9-2a6his/edit#gid=0\"\",\"\"RWA!F:BZ\"\"),44,0))\"),\"\")","v":""},{"$f":"IFERROR(__xludf.DUMMYFUNCTION(\"iferror(VLOOKUP(B777,IMPORTRANGE(\"\"https://docs.google.com/spreadsheets/d/1-zcOrI_PgX9R0t6_sOpXptmEcBDI4IX9Gfz9-2a6his/edit#gid=0\"\",\"\"RWA!F:BZ\"\"),48,0))\"),\"\")","v":""},{"$f":"IFERROR(__xludf.DUMMYFUNCTION(\"iferror(VLOOKUP(B777,IMPORTRANGE(\"\"https://docs.google.com/spreadsheets/d/1-zcOrI_PgX9R0t6_sOpXptmEcBDI4IX9Gfz9-2a6his/edit#gid=0\"\",\"\"RWA!F:BZ\"\"),49,0))\"),\"\")","v":""}]
[{"$nulls":4},{"$f":"IFERROR(__xludf.DUMMYFUNCTION(\"iferror(VLOOKUP(B778,IMPORTRANGE(\"\"https://docs.google.com/spreadsheets/d/1-zcOrI_PgX9R0t6_sOpXptmEcBDI4IX9Gfz9-2a6his/edit#gid=0\"\",\"\"RWA!F:BZ\"\"),44,0))\"),\"\")","v":""},{"$f":"IFERROR(__xludf.DUMMYFUNCTION(\"iferror(VLOOKUP(B778,IMPORTRANGE(\"\"https://docs.google.com/spreadsheets/d/1-zcOrI_PgX9R0t6_sOpXptmEcBDI4IX9Gfz9-2a6his/edit#gid=0\"\",\"\"RWA!F:BZ\"\"),48,0))\"),\"\")","v":""},{"$f":"IFERROR(__xludf.DUMMYFUNCTION(\"iferror(VLOOKUP(B778,IMPORTRANGE(\"\"https://docs.google.com/spreadsheets/d/1-zcOrI_PgX9R0t6_sOpXptmEcBDI4IX9Gfz9-2a6his/edit#gid=0\"\",\"\"RWA!F:BZ\"\"),49,0))\"),\"\")","v":""}]
[{"$nulls":4},{"$f":"IFERROR(__xludf.DUMMYFUNCTION(\"iferror(VLOOKUP(B779,IMPORTRANGE(\"\"https://docs.google.com/spreadsheets/d/1-zcOrI_PgX9R0t6_sOpXptmEcBDI4IX9Gfz9-2a6his/edit#gid=0\"\",\"\"RWA!F:BZ\"\"),44,0))\"),\"\")","v":""},{"$f":"IFERROR(__xludf.DUMMYFUNCTION(\"iferror(VLOOKUP(B779,IMPORTRANGE(\"\"https://docs.google.com/spreadsheets/d/1-zcOrI_PgX9R0t6_sOpXptmEcBDI4IX9Gfz9-2a6his/edit#gid=0\"\",\"\"RWA!F:BZ\"\"),48,0))\"),\"\")","v":""},{"$f":"IFERROR(__xludf.DUMMYFUNCTION(\"iferror(VLOOKUP(B779,IMPORTRANGE(\"\"https://docs.google.com/spreadsheets/d/1-zcOrI_PgX9R0t6_sOpXptmEcBDI4IX9Gfz9-2a6his/edit#gid=0\"\",\"\"RWA!F:BZ\"\"),49,0))\"),\"\")","v":""}]
[{"$nulls":4},{"$f":"IFERROR(__xludf.DUMMYFUNCTION(\"iferror(VLOOKUP(B780,IMPORTRANGE(\"\"https://docs.google.com/spreadsheets/d/1-zcOrI_PgX9R0t6_sOpXptmEcBDI4IX9Gfz9-2a6his/edit#gid=0\"\",\"\"RWA!F:BZ\"\"),44,0))\"),\"\")","v":""},{"$f":"IFERROR(__xludf.DUMMYFUNCTION(\"iferror(VLOOKUP(B780,IMPORTRANGE(\"\"https://docs.google.com/spreadsheets/d/1-zcOrI_PgX9R0t6_sOpXptmEcBDI4IX9Gfz9-2a6his/edit#gid=0\"\",\"\"RWA!F:BZ\"\"),48,0))\"),\"\")","v":""},{"$f":"IFERROR(__xludf.DUMMYFUNCTION(\"iferror(VLOOKUP(B780,IMPORTRANGE(\"\"https://docs.google.com/spreadsheets/d/1-zcOrI_PgX9R0t6_sOpXptmEcBDI4IX9Gfz9-2a6his/edit#gid=0\"\",\"\"RWA!F:BZ\"\"),49,0))\"),\"\")","v":""}]
[{"$nulls":4},{"$f":"IFERROR(__xludf.DUMMYFUNCTION(\"iferror(VLOOKUP(B781,IMPORTRANGE(\"\"https://docs.google.com/spreadsheets/d/1-zcOrI_PgX9R0t6_sOpXptmEcBDI4IX9Gfz9-2a6his/edit#gid=0\"\",\"\"RWA!F:BZ\"\"),44,0))\"),\"\")","v":""},{"$f":"IFERROR(__xludf.DUMMYFUNCTION(\"iferror(VLOOKUP(B781,IMPORTRANGE(\"\"https://docs.google.com/spreadsheets/d/1-zcOrI_PgX9R0t6_sOpXptmEcBDI4IX9Gfz9-2a6his/edit#gid=0\"\",\"\"RWA!F:BZ\"\"),48,0))\"),\"\")","v":""},{"$f":"IFERROR(__xludf.DUMMYFUNCTION(\"iferror(VLOOKUP(B781,IMPORTRANGE(\"\"https://docs.google.com/spreadsheets/d/1-zcOrI_PgX9R0t6_sOpXptmEcBDI4IX9Gfz9-2a6his/edit#gid=0\"\",\"\"RWA!F:BZ\"\"),49,0))\"),\"\")","v":""}]
[{"$nulls":4},{"$f":"IFERROR(__xludf.DUMMYFUNCTION(\"iferror(VLOOKUP(B782,IMPORTRANGE(\"\"https://docs.google.com/spreadsheets/d/1-zcOrI_PgX9R0t6_sOpXptmEcBDI4IX9Gfz9-2a6his/edit#gid=0\"\",\"\"RWA!F:BZ\"\"),44,0))\"),\"\")","v":""},{"$f":"IFERROR(__xludf.DUMMYFUNCTION(\"iferror(VLOOKUP(B782,IMPORTRANGE(\"\"https://docs.google.com/spreadsheets/d/1-zcOrI_PgX9R0t6_sOpXptmEcBDI4IX9Gfz9-2a6his/edit#gid=0\"\",\"\"RWA!F:BZ\"\"),48,0))\"),\"\")","v":""},{"$f":"IFERROR(__xludf.DUMMYFUNCTION(\"iferror(VLOOKUP(B782,IMPORTRANGE(\"\"https://docs.google.com/spreadsheets/d/1-zcOrI_PgX9R0t6_sOpXptmEcBDI4IX9Gfz9-2a6his/edit#gid=0\"\",\"\"RWA!F:BZ\"\"),49,0))\"),\"\")","v":""}]
[{"$nulls":4},{"$f":"IFERROR(__xludf.DUMMYFUNCTION(\"iferror(VLOOKUP(B783,IMPORTRANGE(\"\"https://docs.google.com/spreadsheets/d/1-zcOrI_PgX9R0t6_sOpXptmEcBDI4IX9Gfz9-2a6his/edit#gid=0\"\",\"\"RWA!F:BZ\"\"),44,0))\"),\"\")","v":""},{"$f":"IFERROR(__xludf.DUMMYFUNCTION(\"iferror(VLOOKUP(B783,IMPORTRANGE(\"\"https://docs.google.com/spreadsheets/d/1-zcOrI_PgX9R0t6_sOpXptmEcBDI4IX9Gfz9-2a6his/edit#gid=0\"\",\"\"RWA!F:BZ\"\"),48,0))\"),\"\")","v":""},{"$f":"IFERROR(__xludf.DUMMYFUNCTION(\"iferror(VLOOKUP(B783,IMPORTRANGE(\"\"https://docs.google.com/spreadsheets/d/1-zcOrI_PgX9R0t6_sOpXptmEcBDI4IX9Gfz9-2a6his/edit#gid=0\"\",\"\"RWA!F:BZ\"\"),49,0))\"),\"\")","v":""}]
[{"$nulls":4},{"$f":"IFERROR(__xludf.DUMMYFUNCTION(\"iferror(VLOOKUP(B784,IMPORTRANGE(\"\"https://docs.google.com/spreadsheets/d/1-zcOrI_PgX9R0t6_sOpXptmEcBDI4IX9Gfz9-2a6his/edit#gid=0\"\",\"\"RWA!F:BZ\"\"),44,0))\"),\"\")","v":""},{"$f":"IFERROR(__xludf.DUMMYFUNCTION(\"iferror(VLOOKUP(B784,IMPORTRANGE(\"\"https://docs.google.com/spreadsheets/d/1-zcOrI_PgX9R0t6_sOpXptmEcBDI4IX9Gfz9-2a6his/edit#gid=0\"\",\"\"RWA!F:BZ\"\"),48,0))\"),\"\")","v":""},{"$f":"IFERROR(__xludf.DUMMYFUNCTION(\"iferror(VLOOKUP(B784,IMPORTRANGE(\"\"https://docs.google.com/spreadsheets/d/1-zcOrI_PgX9R0t6_sOpXptmEcBDI4IX9Gfz9-2a6his/edit#gid=0\"\",\"\"RWA!F:BZ\"\"),49,0))\"),\"\")","v":""}]
[{"$nulls":4},{"$f":"IFERROR(__xludf.DUMMYFUNCTION(\"iferror(VLOOKUP(B785,IMPORTRANGE(\"\"https://docs.google.com/spreadsheets/d/1-zcOrI_PgX9R0t6_sOpXptmEcBDI4IX9Gfz9-2a6his/edit#gid=0\"\",\"\"RWA!F:BZ\"\"),44,0))\"),\"\")","v":""},{"$f":"IFERROR(__xludf.DUMMYFUNCTION(\"iferror(VLOOKUP(B785,IMPORTRANGE(\"\"https://docs.google.com/spreadsheets/d/1-zcOrI_PgX9R0t6_sOpXptmEcBDI4IX9Gfz9-2a6his/edit#gid=0\"\",\"\"RWA!F:BZ\"\"),48,0))\"),\"\")","v":""},{"$f":"IFERROR(__xludf.DUMMYFUNCTION(\"iferror(VLOOKUP(B785,IMPORTRANGE(\"\"https://docs.google.com/spreadsheets/d/1-zcOrI_PgX9R0t6_sOpXptmEcBDI4IX9Gfz9-2a6his/edit#gid=0\"\",\"\"RWA!F:BZ\"\"),49,0))\"),\"\")","v":""}]
[{"$nulls":4},{"$f":"IFERROR(__xludf.DUMMYFUNCTION(\"iferror(VLOOKUP(B786,IMPORTRANGE(\"\"https://docs.google.com/spreadsheets/d/1-zcOrI_PgX9R0t6_sOpXptmEcBDI4IX9Gfz9-2a6his/edit#gid=0\"\",\"\"RWA!F:BZ\"\"),44,0))\"),\"\")","v":""},{"$f":"IFERROR(__xludf.DUMMYFUNCTION(\"iferror(VLOOKUP(B786,IMPORTRANGE(\"\"https://docs.google.com/spreadsheets/d/1-zcOrI_PgX9R0t6_sOpXptmEcBDI4IX9Gfz9-2a6his/edit#gid=0\"\",\"\"RWA!F:BZ\"\"),48,0))\"),\"\")","v":""},{"$f":"IFERROR(__xludf.DUMMYFUNCTION(\"iferror(VLOOKUP(B786,IMPORTRANGE(\"\"https://docs.google.com/spreadsheets/d/1-zcOrI_PgX9R0t6_sOpXptmEcBDI4IX9Gfz9-2a6his/edit#gid=0\"\",\"\"RWA!F:BZ\"\"),49,0))\"),\"\")","v":""}]
[{"$nulls":4},{"$f":"IFERROR(__xludf.DUMMYFUNCTION(\"iferror(VLOOKUP(B787,IMPORTRANGE(\"\"https://docs.google.com/spreadsheets/d/1-zcOrI_PgX9R0t6_sOpXptmEcBDI4IX9Gfz9-2a6his/edit#gid=0\"\",\"\"RWA!F:BZ\"\"),44,0))\"),\"\")","v":""},{"$f":"IFERROR(__xludf.DUMMYFUNCTION(\"iferror(VLOOKUP(B787,IMPORTRANGE(\"\"https://docs.google.com/spreadsheets/d/1-zcOrI_PgX9R0t6_sOpXptmEcBDI4IX9Gfz9-2a6his/edit#gid=0\"\",\"\"RWA!F:BZ\"\"),48,0))\"),\"\")","v":""},{"$f":"IFERROR(__xludf.DUMMYFUNCTION(\"iferror(VLOOKUP(B787,IMPORTRANGE(\"\"https://docs.google.com/spreadsheets/d/1-zcOrI_PgX9R0t6_sOpXptmEcBDI4IX9Gfz9-2a6his/edit#gid=0\"\",\"\"RWA!F:BZ\"\"),49,0))\"),\"\")","v":""}]
[{"$nulls":4},{"$f":"IFERROR(__xludf.DUMMYFUNCTION(\"iferror(VLOOKUP(B788,IMPORTRANGE(\"\"https://docs.google.com/spreadsheets/d/1-zcOrI_PgX9R0t6_sOpXptmEcBDI4IX9Gfz9-2a6his/edit#gid=0\"\",\"\"RWA!F:BZ\"\"),44,0))\"),\"\")","v":""},{"$f":"IFERROR(__xludf.DUMMYFUNCTION(\"iferror(VLOOKUP(B788,IMPORTRANGE(\"\"https://docs.google.com/spreadsheets/d/1-zcOrI_PgX9R0t6_sOpXptmEcBDI4IX9Gfz9-2a6his/edit#gid=0\"\",\"\"RWA!F:BZ\"\"),48,0))\"),\"\")","v":""},{"$f":"IFERROR(__xludf.DUMMYFUNCTION(\"iferror(VLOOKUP(B788,IMPORTRANGE(\"\"https://docs.google.com/spreadsheets/d/1-zcOrI_PgX9R0t6_sOpXptmEcBDI4IX9Gfz9-2a6his/edit#gid=0\"\",\"\"RWA!F:BZ\"\"),49,0))\"),\"\")","v":""}]
[{"$nulls":4},{"$f":"IFERROR(__xludf.DUMMYFUNCTION(\"iferror(VLOOKUP(B789,IMPORTRANGE(\"\"https://docs.google.com/spreadsheets/d/1-zcOrI_PgX9R0t6_sOpXptmEcBDI4IX9Gfz9-2a6his/edit#gid=0\"\",\"\"RWA!F:BZ\"\"),44,0))\"),\"\")","v":""},{"$f":"IFERROR(__xludf.DUMMYFUNCTION(\"iferror(VLOOKUP(B789,IMPORTRANGE(\"\"https://docs.google.com/spreadsheets/d/1-zcOrI_PgX9R0t6_sOpXptmEcBDI4IX9Gfz9-2a6his/edit#gid=0\"\",\"\"RWA!F:BZ\"\"),48,0))\"),\"\")","v":""},{"$f":"IFERROR(__xludf.DUMMYFUNCTION(\"iferror(VLOOKUP(B789,IMPORTRANGE(\"\"https://docs.google.com/spreadsheets/d/1-zcOrI_PgX9R0t6_sOpXptmEcBDI4IX9Gfz9-2a6his/edit#gid=0\"\",\"\"RWA!F:BZ\"\"),49,0))\"),\"\")","v":""}]
[{"$nulls":4},{"$f":"IFERROR(__xludf.DUMMYFUNCTION(\"iferror(VLOOKUP(B790,IMPORTRANGE(\"\"https://docs.google.com/spreadsheets/d/1-zcOrI_PgX9R0t6_sOpXptmEcBDI4IX9Gfz9-2a6his/edit#gid=0\"\",\"\"RWA!F:BZ\"\"),44,0))\"),\"\")","v":""},{"$f":"IFERROR(__xludf.DUMMYFUNCTION(\"iferror(VLOOKUP(B790,IMPORTRANGE(\"\"https://docs.google.com/spreadsheets/d/1-zcOrI_PgX9R0t6_sOpXptmEcBDI4IX9Gfz9-2a6his/edit#gid=0\"\",\"\"RWA!F:BZ\"\"),48,0))\"),\"\")","v":""},{"$f":"IFERROR(__xludf.DUMMYFUNCTION(\"iferror(VLOOKUP(B790,IMPORTRANGE(\"\"https://docs.google.com/spreadsheets/d/1-zcOrI_PgX9R0t6_sOpXptmEcBDI4IX9Gfz9-2a6his/edit#gid=0\"\",\"\"RWA!F:BZ\"\"),49,0))\"),\"\")","v":""}]
[{"$nulls":4},{"$f":"IFERROR(__xludf.DUMMYFUNCTION(\"iferror(VLOOKUP(B791,IMPORTRANGE(\"\"https://docs.google.com/spreadsheets/d/1-zcOrI_PgX9R0t6_sOpXptmEcBDI4IX9Gfz9-2a6his/edit#gid=0\"\",\"\"RWA!F:BZ\"\"),44,0))\"),\"\")","v":""},{"$f":"IFERROR(__xludf.DUMMYFUNCTION(\"iferror(VLOOKUP(B791,IMPORTRANGE(\"\"https://docs.google.com/spreadsheets/d/1-zcOrI_PgX9R0t6_sOpXptmEcBDI4IX9Gfz9-2a6his/edit#gid=0\"\",\"\"RWA!F:BZ\"\"),48,0))\"),\"\")","v":""},{"$f":"IFERROR(__xludf.DUMMYFUNCTION(\"iferror(VLOOKUP(B791,IMPORTRANGE(\"\"https://docs.google.com/spreadsheets/d/1-zcOrI_PgX9R0t6_sOpXptmEcBDI4IX9Gfz9-2a6his/edit#gid=0\"\",\"\"RWA!F:BZ\"\"),49,0))\"),\"\")","v":""}]
[{"$nulls":4},{"$f":"IFERROR(__xludf.DUMMYFUNCTION(\"iferror(VLOOKUP(B792,IMPORTRANGE(\"\"https://docs.google.com/spreadsheets/d/1-zcOrI_PgX9R0t6_sOpXptmEcBDI4IX9Gfz9-2a6his/edit#gid=0\"\",\"\"RWA!F:BZ\"\"),44,0))\"),\"\")","v":""},{"$f":"IFERROR(__xludf.DUMMYFUNCTION(\"iferror(VLOOKUP(B792,IMPORTRANGE(\"\"https://docs.google.com/spreadsheets/d/1-zcOrI_PgX9R0t6_sOpXptmEcBDI4IX9Gfz9-2a6his/edit#gid=0\"\",\"\"RWA!F:BZ\"\"),48,0))\"),\"\")","v":""},{"$f":"IFERROR(__xludf.DUMMYFUNCTION(\"iferror(VLOOKUP(B792,IMPORTRANGE(\"\"https://docs.google.com/spreadsheets/d/1-zcOrI_PgX9R0t6_sOpXptmEcBDI4IX9Gfz9-2a6his/edit#gid=0\"\",\"\"RWA!F:BZ\"\"),49,0))\"),\"\")","v":""}]
[{"$nulls":4},{"$f":"IFERROR(__xludf.DUMMYFUNCTION(\"iferror(VLOOKUP(B793,IMPORTRANGE(\"\"https://docs.google.com/spreadsheets/d/1-zcOrI_PgX9R0t6_sOpXptmEcBDI4IX9Gfz9-2a6his/edit#gid=0\"\",\"\"RWA!F:BZ\"\"),44,0))\"),\"\")","v":""},{"$f":"IFERROR(__xludf.DUMMYFUNCTION(\"iferror(VLOOKUP(B793,IMPORTRANGE(\"\"https://docs.google.com/spreadsheets/d/1-zcOrI_PgX9R0t6_sOpXptmEcBDI4IX9Gfz9-2a6his/edit#gid=0\"\",\"\"RWA!F:BZ\"\"),48,0))\"),\"\")","v":""},{"$f":"IFERROR(__xludf.DUMMYFUNCTION(\"iferror(VLOOKUP(B793,IMPORTRANGE(\"\"https://docs.google.com/spreadsheets/d/1-zcOrI_PgX9R0t6_sOpXptmEcBDI4IX9Gfz9-2a6his/edit#gid=0\"\",\"\"RWA!F:BZ\"\"),49,0))\"),\"\")","v":""}]
[{"$nulls":4},{"$f":"IFERROR(__xludf.DUMMYFUNCTION(\"iferror(VLOOKUP(B794,IMPORTRANGE(\"\"https://docs.google.com/spreadsheets/d/1-zcOrI_PgX9R0t6_sOpXptmEcBDI4IX9Gfz9-2a6his/edit#gid=0\"\",\"\"RWA!F:BZ\"\"),44,0))\"),\"\")","v":""},{"$f":"IFERROR(__xludf.DUMMYFUNCTION(\"iferror(VLOOKUP(B794,IMPORTRANGE(\"\"https://docs.google.com/spreadsheets/d/1-zcOrI_PgX9R0t6_sOpXptmEcBDI4IX9Gfz9-2a6his/edit#gid=0\"\",\"\"RWA!F:BZ\"\"),48,0))\"),\"\")","v":""},{"$f":"IFERROR(__xludf.DUMMYFUNCTION(\"iferror(VLOOKUP(B794,IMPORTRANGE(\"\"https://docs.google.com/spreadsheets/d/1-zcOrI_PgX9R0t6_sOpXptmEcBDI4IX9Gfz9-2a6his/edit#gid=0\"\",\"\"RWA!F:BZ\"\"),49,0))\"),\"\")","v":""}]
[{"$nulls":4},{"$f":"IFERROR(__xludf.DUMMYFUNCTION(\"iferror(VLOOKUP(B795,IMPORTRANGE(\"\"https://docs.google.com/spreadsheets/d/1-zcOrI_PgX9R0t6_sOpXptmEcBDI4IX9Gfz9-2a6his/edit#gid=0\"\",\"\"RWA!F:BZ\"\"),44,0))\"),\"\")","v":""},{"$f":"IFERROR(__xludf.DUMMYFUNCTION(\"iferror(VLOOKUP(B795,IMPORTRANGE(\"\"https://docs.google.com/spreadsheets/d/1-zcOrI_PgX9R0t6_sOpXptmEcBDI4IX9Gfz9-2a6his/edit#gid=0\"\",\"\"RWA!F:BZ\"\"),48,0))\"),\"\")","v":""},{"$f":"IFERROR(__xludf.DUMMYFUNCTION(\"iferror(VLOOKUP(B795,IMPORTRANGE(\"\"https://docs.google.com/spreadsheets/d/1-zcOrI_PgX9R0t6_sOpXptmEcBDI4IX9Gfz9-2a6his/edit#gid=0\"\",\"\"RWA!F:BZ\"\"),49,0))\"),\"\")","v":""}]
[{"$nulls":4},{"$f":"IFERROR(__xludf.DUMMYFUNCTION(\"iferror(VLOOKUP(B796,IMPORTRANGE(\"\"https://docs.google.com/spreadsheets/d/1-zcOrI_PgX9R0t6_sOpXptmEcBDI4IX9Gfz9-2a6his/edit#gid=0\"\",\"\"RWA!F:BZ\"\"),44,0))\"),\"\")","v":""},{"$f":"IFERROR(__xludf.DUMMYFUNCTION(\"iferror(VLOOKUP(B796,IMPORTRANGE(\"\"https://docs.google.com/spreadsheets/d/1-zcOrI_PgX9R0t6_sOpXptmEcBDI4IX9Gfz9-2a6his/edit#gid=0\"\",\"\"RWA!F:BZ\"\"),48,0))\"),\"\")","v":""},{"$f":"IFERROR(__xludf.DUMMYFUNCTION(\"iferror(VLOOKUP(B796,IMPORTRANGE(\"\"https://docs.google.com/spreadsheets/d/1-zcOrI_PgX9R0t6_sOpXptmEcBDI4IX9Gfz9-2a6his/edit#gid=0\"\",\"\"RWA!F:BZ\"\"),49,0))\"),\"\")","v":""}]
[{"$nulls":4},{"$f":"IFERROR(__xludf.DUMMYFUNCTION(\"iferror(VLOOKUP(B797,IMPORTRANGE(\"\"https://docs.google.com/spreadsheets/d/1-zcOrI_PgX9R0t6_sOpXptmEcBDI4IX9Gfz9-2a6his/edit#gid=0\"\",\"\"RWA!F:BZ\"\"),44,0))\"),\"\")","v":""},{"$f":"IFERROR(__xludf.DUMMYFUNCTION(\"iferror(VLOOKUP(B797,IMPORTRANGE(\"\"https://docs.google.com/spreadsheets/d/1-zcOrI_PgX9R0t6_sOpXptmEcBDI4IX9Gfz9-2a6his/edit#gid=0\"\",\"\"RWA!F:BZ\"\"),48,0))\"),\"\")","v":""},{"$f":"IFERROR(__xludf.DUMMYFUNCTION(\"iferror(VLOOKUP(B797,IMPORTRANGE(\"\"https://docs.google.com/spreadsheets/d/1-zcOrI_PgX9R0t6_sOpXptmEcBDI4IX9Gfz9-2a6his/edit#gid=0\"\",\"\"RWA!F:BZ\"\"),49,0))\"),\"\")","v":""}]
[{"$nulls":4},{"$f":"IFERROR(__xludf.DUMMYFUNCTION(\"iferror(VLOOKUP(B798,IMPORTRANGE(\"\"https://docs.google.com/spreadsheets/d/1-zcOrI_PgX9R0t6_sOpXptmEcBDI4IX9Gfz9-2a6his/edit#gid=0\"\",\"\"RWA!F:BZ\"\"),44,0))\"),\"\")","v":""},{"$f":"IFERROR(__xludf.DUMMYFUNCTION(\"iferror(VLOOKUP(B798,IMPORTRANGE(\"\"https://docs.google.com/spreadsheets/d/1-zcOrI_PgX9R0t6_sOpXptmEcBDI4IX9Gfz9-2a6his/edit#gid=0\"\",\"\"RWA!F:BZ\"\"),48,0))\"),\"\")","v":""},{"$f":"IFERROR(__xludf.DUMMYFUNCTION(\"iferror(VLOOKUP(B798,IMPORTRANGE(\"\"https://docs.google.com/spreadsheets/d/1-zcOrI_PgX9R0t6_sOpXptmEcBDI4IX9Gfz9-2a6his/edit#gid=0\"\",\"\"RWA!F:BZ\"\"),49,0))\"),\"\")","v":""}]
[{"$nulls":4},{"$f":"IFERROR(__xludf.DUMMYFUNCTION(\"iferror(VLOOKUP(B799,IMPORTRANGE(\"\"https://docs.google.com/spreadsheets/d/1-zcOrI_PgX9R0t6_sOpXptmEcBDI4IX9Gfz9-2a6his/edit#gid=0\"\",\"\"RWA!F:BZ\"\"),44,0))\"),\"\")","v":""},{"$f":"IFERROR(__xludf.DUMMYFUNCTION(\"iferror(VLOOKUP(B799,IMPORTRANGE(\"\"https://docs.google.com/spreadsheets/d/1-zcOrI_PgX9R0t6_sOpXptmEcBDI4IX9Gfz9-2a6his/edit#gid=0\"\",\"\"RWA!F:BZ\"\"),48,0))\"),\"\")","v":""},{"$f":"IFERROR(__xludf.DUMMYFUNCTION(\"iferror(VLOOKUP(B799,IMPORTRANGE(\"\"https://docs.google.com/spreadsheets/d/1-zcOrI_PgX9R0t6_sOpXptmEcBDI4IX9Gfz9-2a6his/edit#gid=0\"\",\"\"RWA!F:BZ\"\"),49,0))\"),\"\")","v":""}]
[{"$nulls":4},{"$f":"IFERROR(__xludf.DUMMYFUNCTION(\"iferror(VLOOKUP(B800,IMPORTRANGE(\"\"https://docs.google.com/spreadsheets/d/1-zcOrI_PgX9R0t6_sOpXptmEcBDI4IX9Gfz9-2a6his/edit#gid=0\"\",\"\"RWA!F:BZ\"\"),44,0))\"),\"\")","v":""},{"$f":"IFERROR(__xludf.DUMMYFUNCTION(\"iferror(VLOOKUP(B800,IMPORTRANGE(\"\"https://docs.google.com/spreadsheets/d/1-zcOrI_PgX9R0t6_sOpXptmEcBDI4IX9Gfz9-2a6his/edit#gid=0\"\",\"\"RWA!F:BZ\"\"),48,0))\"),\"\")","v":""},{"$f":"IFERROR(__xludf.DUMMYFUNCTION(\"iferror(VLOOKUP(B800,IMPORTRANGE(\"\"https://docs.google.com/spreadsheets/d/1-zcOrI_PgX9R0t6_sOpXptmEcBDI4IX9Gfz9-2a6his/edit#gid=0\"\",\"\"RWA!F:BZ\"\"),49,0))\"),\"\")","v":""}]
[{"$nulls":4},{"$f":"IFERROR(__xludf.DUMMYFUNCTION(\"iferror(VLOOKUP(B801,IMPORTRANGE(\"\"https://docs.google.com/spreadsheets/d/1-zcOrI_PgX9R0t6_sOpXptmEcBDI4IX9Gfz9-2a6his/edit#gid=0\"\",\"\"RWA!F:BZ\"\"),44,0))\"),\"\")","v":""},{"$f":"IFERROR(__xludf.DUMMYFUNCTION(\"iferror(VLOOKUP(B801,IMPORTRANGE(\"\"https://docs.google.com/spreadsheets/d/1-zcOrI_PgX9R0t6_sOpXptmEcBDI4IX9Gfz9-2a6his/edit#gid=0\"\",\"\"RWA!F:BZ\"\"),48,0))\"),\"\")","v":""},{"$f":"IFERROR(__xludf.DUMMYFUNCTION(\"iferror(VLOOKUP(B801,IMPORTRANGE(\"\"https://docs.google.com/spreadsheets/d/1-zcOrI_PgX9R0t6_sOpXptmEcBDI4IX9Gfz9-2a6his/edit#gid=0\"\",\"\"RWA!F:BZ\"\"),49,0))\"),\"\")","v":""}]
[{"$nulls":4},{"$f":"IFERROR(__xludf.DUMMYFUNCTION(\"iferror(VLOOKUP(B802,IMPORTRANGE(\"\"https://docs.google.com/spreadsheets/d/1-zcOrI_PgX9R0t6_sOpXptmEcBDI4IX9Gfz9-2a6his/edit#gid=0\"\",\"\"RWA!F:BZ\"\"),44,0))\"),\"\")","v":""},{"$f":"IFERROR(__xludf.DUMMYFUNCTION(\"iferror(VLOOKUP(B802,IMPORTRANGE(\"\"https://docs.google.com/spreadsheets/d/1-zcOrI_PgX9R0t6_sOpXptmEcBDI4IX9Gfz9-2a6his/edit#gid=0\"\",\"\"RWA!F:BZ\"\"),48,0))\"),\"\")","v":""},{"$f":"IFERROR(__xludf.DUMMYFUNCTION(\"iferror(VLOOKUP(B802,IMPORTRANGE(\"\"https://docs.google.com/spreadsheets/d/1-zcOrI_PgX9R0t6_sOpXptmEcBDI4IX9Gfz9-2a6his/edit#gid=0\"\",\"\"RWA!F:BZ\"\"),49,0))\"),\"\")","v":""}]
[{"$nulls":4},{"$f":"IFERROR(__xludf.DUMMYFUNCTION(\"iferror(VLOOKUP(B803,IMPORTRANGE(\"\"https://docs.google.com/spreadsheets/d/1-zcOrI_PgX9R0t6_sOpXptmEcBDI4IX9Gfz9-2a6his/edit#gid=0\"\",\"\"RWA!F:BZ\"\"),44,0))\"),\"\")","v":""},{"$f":"IFERROR(__xludf.DUMMYFUNCTION(\"iferror(VLOOKUP(B803,IMPORTRANGE(\"\"https://docs.google.com/spreadsheets/d/1-zcOrI_PgX9R0t6_sOpXptmEcBDI4IX9Gfz9-2a6his/edit#gid=0\"\",\"\"RWA!F:BZ\"\"),48,0))\"),\"\")","v":""},{"$f":"IFERROR(__xludf.DUMMYFUNCTION(\"iferror(VLOOKUP(B803,IMPORTRANGE(\"\"https://docs.google.com/spreadsheets/d/1-zcOrI_PgX9R0t6_sOpXptmEcBDI4IX9Gfz9-2a6his/edit#gid=0\"\",\"\"RWA!F:BZ\"\"),49,0))\"),\"\")","v":""}]
[{"$nulls":4},{"$f":"IFERROR(__xludf.DUMMYFUNCTION(\"iferror(VLOOKUP(B804,IMPORTRANGE(\"\"https://docs.google.com/spreadsheets/d/1-zcOrI_PgX9R0t6_sOpXptmEcBDI4IX9Gfz9-2a6his/edit#gid=0\"\",\"\"RWA!F:BZ\"\"),44,0))\"),\"\")","v":""},{"$f":"IFERROR(__xludf.DUMMYFUNCTION(\"iferror(VLOOKUP(B804,IMPORTRANGE(\"\"https://docs.google.com/spreadsheets/d/1-zcOrI_PgX9R0t6_sOpXptmEcBDI4IX9Gfz9-2a6his/edit#gid=0\"\",\"\"RWA!F:BZ\"\"),48,0))\"),\"\")","v":""},{"$f":"IFERROR(__xludf.DUMMYFUNCTION(\"iferror(VLOOKUP(B804,IMPORTRANGE(\"\"https://docs.google.com/spreadsheets/d/1-zcOrI_PgX9R0t6_sOpXptmEcBDI4IX9Gfz9-2a6his/edit#gid=0\"\",\"\"RWA!F:BZ\"\"),49,0))\"),\"\")","v":""}]
[{"$nulls":4},{"$f":"IFERROR(__xludf.DUMMYFUNCTION(\"iferror(VLOOKUP(B805,IMPORTRANGE(\"\"https://docs.google.com/spreadsheets/d/1-zcOrI_PgX9R0t6_sOpXptmEcBDI4IX9Gfz9-2a6his/edit#gid=0\"\",\"\"RWA!F:BZ\"\"),44,0))\"),\"\")","v":""},{"$f":"IFERROR(__xludf.DUMMYFUNCTION(\"iferror(VLOOKUP(B805,IMPORTRANGE(\"\"https://docs.google.com/spreadsheets/d/1-zcOrI_PgX9R0t6_sOpXptmEcBDI4IX9Gfz9-2a6his/edit#gid=0\"\",\"\"RWA!F:BZ\"\"),48,0))\"),\"\")","v":""},{"$f":"IFERROR(__xludf.DUMMYFUNCTION(\"iferror(VLOOKUP(B805,IMPORTRANGE(\"\"https://docs.google.com/spreadsheets/d/1-zcOrI_PgX9R0t6_sOpXptmEcBDI4IX9Gfz9-2a6his/edit#gid=0\"\",\"\"RWA!F:BZ\"\"),49,0))\"),\"\")","v":""}]
[{"$nulls":4},{"$f":"IFERROR(__xludf.DUMMYFUNCTION(\"iferror(VLOOKUP(B806,IMPORTRANGE(\"\"https://docs.google.com/spreadsheets/d/1-zcOrI_PgX9R0t6_sOpXptmEcBDI4IX9Gfz9-2a6his/edit#gid=0\"\",\"\"RWA!F:BZ\"\"),44,0))\"),\"\")","v":""},{"$f":"IFERROR(__xludf.DUMMYFUNCTION(\"iferror(VLOOKUP(B806,IMPORTRANGE(\"\"https://docs.google.com/spreadsheets/d/1-zcOrI_PgX9R0t6_sOpXptmEcBDI4IX9Gfz9-2a6his/edit#gid=0\"\",\"\"RWA!F:BZ\"\"),48,0))\"),\"\")","v":""},{"$f":"IFERROR(__xludf.DUMMYFUNCTION(\"iferror(VLOOKUP(B806,IMPORTRANGE(\"\"https://docs.google.com/spreadsheets/d/1-zcOrI_PgX9R0t6_sOpXptmEcBDI4IX9Gfz9-2a6his/edit#gid=0\"\",\"\"RWA!F:BZ\"\"),49,0))\"),\"\")","v":""}]
[{"$nulls":4},{"$f":"IFERROR(__xludf.DUMMYFUNCTION(\"iferror(VLOOKUP(B807,IMPORTRANGE(\"\"https://docs.google.com/spreadsheets/d/1-zcOrI_PgX9R0t6_sOpXptmEcBDI4IX9Gfz9-2a6his/edit#gid=0\"\",\"\"RWA!F:BZ\"\"),44,0))\"),\"\")","v":""},{"$f":"IFERROR(__xludf.DUMMYFUNCTION(\"iferror(VLOOKUP(B807,IMPORTRANGE(\"\"https://docs.google.com/spreadsheets/d/1-zcOrI_PgX9R0t6_sOpXptmEcBDI4IX9Gfz9-2a6his/edit#gid=0\"\",\"\"RWA!F:BZ\"\"),48,0))\"),\"\")","v":""},{"$f":"IFERROR(__xludf.DUMMYFUNCTION(\"iferror(VLOOKUP(B807,IMPORTRANGE(\"\"https://docs.google.com/spreadsheets/d/1-zcOrI_PgX9R0t6_sOpXptmEcBDI4IX9Gfz9-2a6his/edit#gid=0\"\",\"\"RWA!F:BZ\"\"),49,0))\"),\"\")","v":""}]
[{"$nulls":4},{"$f":"IFERROR(__xludf.DUMMYFUNCTION(\"iferror(VLOOKUP(B808,IMPORTRANGE(\"\"https://docs.google.com/spreadsheets/d/1-zcOrI_PgX9R0t6_sOpXptmEcBDI4IX9Gfz9-2a6his/edit#gid=0\"\",\"\"RWA!F:BZ\"\"),44,0))\"),\"\")","v":""},{"$f":"IFERROR(__xludf.DUMMYFUNCTION(\"iferror(VLOOKUP(B808,IMPORTRANGE(\"\"https://docs.google.com/spreadsheets/d/1-zcOrI_PgX9R0t6_sOpXptmEcBDI4IX9Gfz9-2a6his/edit#gid=0\"\",\"\"RWA!F:BZ\"\"),48,0))\"),\"\")","v":""},{"$f":"IFERROR(__xludf.DUMMYFUNCTION(\"iferror(VLOOKUP(B808,IMPORTRANGE(\"\"https://docs.google.com/spreadsheets/d/1-zcOrI_PgX9R0t6_sOpXptmEcBDI4IX9Gfz9-2a6his/edit#gid=0\"\",\"\"RWA!F:BZ\"\"),49,0))\"),\"\")","v":""}]
[{"$nulls":4},{"$f":"IFERROR(__xludf.DUMMYFUNCTION(\"iferror(VLOOKUP(B809,IMPORTRANGE(\"\"https://docs.google.com/spreadsheets/d/1-zcOrI_PgX9R0t6_sOpXptmEcBDI4IX9Gfz9-2a6his/edit#gid=0\"\",\"\"RWA!F:BZ\"\"),44,0))\"),\"\")","v":""},{"$f":"IFERROR(__xludf.DUMMYFUNCTION(\"iferror(VLOOKUP(B809,IMPORTRANGE(\"\"https://docs.google.com/spreadsheets/d/1-zcOrI_PgX9R0t6_sOpXptmEcBDI4IX9Gfz9-2a6his/edit#gid=0\"\",\"\"RWA!F:BZ\"\"),48,0))\"),\"\")","v":""},{"$f":"IFERROR(__xludf.DUMMYFUNCTION(\"iferror(VLOOKUP(B809,IMPORTRANGE(\"\"https://docs.google.com/spreadsheets/d/1-zcOrI_PgX9R0t6_sOpXptmEcBDI4IX9Gfz9-2a6his/edit#gid=0\"\",\"\"RWA!F:BZ\"\"),49,0))\"),\"\")","v":""}]
[{"$nulls":4},{"$f":"IFERROR(__xludf.DUMMYFUNCTION(\"iferror(VLOOKUP(B810,IMPORTRANGE(\"\"https://docs.google.com/spreadsheets/d/1-zcOrI_PgX9R0t6_sOpXptmEcBDI4IX9Gfz9-2a6his/edit#gid=0\"\",\"\"RWA!F:BZ\"\"),44,0))\"),\"\")","v":""},{"$f":"IFERROR(__xludf.DUMMYFUNCTION(\"iferror(VLOOKUP(B810,IMPORTRANGE(\"\"https://docs.google.com/spreadsheets/d/1-zcOrI_PgX9R0t6_sOpXptmEcBDI4IX9Gfz9-2a6his/edit#gid=0\"\",\"\"RWA!F:BZ\"\"),48,0))\"),\"\")","v":""},{"$f":"IFERROR(__xludf.DUMMYFUNCTION(\"iferror(VLOOKUP(B810,IMPORTRANGE(\"\"https://docs.google.com/spreadsheets/d/1-zcOrI_PgX9R0t6_sOpXptmEcBDI4IX9Gfz9-2a6his/edit#gid=0\"\",\"\"RWA!F:BZ\"\"),49,0))\"),\"\")","v":""}]
[{"$nulls":4},{"$f":"IFERROR(__xludf.DUMMYFUNCTION(\"iferror(VLOOKUP(B811,IMPORTRANGE(\"\"https://docs.google.com/spreadsheets/d/1-zcOrI_PgX9R0t6_sOpXptmEcBDI4IX9Gfz9-2a6his/edit#gid=0\"\",\"\"RWA!F:BZ\"\"),44,0))\"),\"\")","v":""},{"$f":"IFERROR(__xludf.DUMMYFUNCTION(\"iferror(VLOOKUP(B811,IMPORTRANGE(\"\"https://docs.google.com/spreadsheets/d/1-zcOrI_PgX9R0t6_sOpXptmEcBDI4IX9Gfz9-2a6his/edit#gid=0\"\",\"\"RWA!F:BZ\"\"),48,0))\"),\"\")","v":""},{"$f":"IFERROR(__xludf.DUMMYFUNCTION(\"iferror(VLOOKUP(B811,IMPORTRANGE(\"\"https://docs.google.com/spreadsheets/d/1-zcOrI_PgX9R0t6_sOpXptmEcBDI4IX9Gfz9-2a6his/edit#gid=0\"\",\"\"RWA!F:BZ\"\"),49,0))\"),\"\")","v":""}]
[{"$nulls":4},{"$f":"IFERROR(__xludf.DUMMYFUNCTION(\"iferror(VLOOKUP(B812,IMPORTRANGE(\"\"https://docs.google.com/spreadsheets/d/1-zcOrI_PgX9R0t6_sOpXptmEcBDI4IX9Gfz9-2a6his/edit#gid=0\"\",\"\"RWA!F:BZ\"\"),44,0))\"),\"\")","v":""},{"$f":"IFERROR(__xludf.DUMMYFUNCTION(\"iferror(VLOOKUP(B812,IMPORTRANGE(\"\"https://docs.google.com/spreadsheets/d/1-zcOrI_PgX9R0t6_sOpXptmEcBDI4IX9Gfz9-2a6his/edit#gid=0\"\",\"\"RWA!F:BZ\"\"),48,0))\"),\"\")","v":""},{"$f":"IFERROR(__xludf.DUMMYFUNCTION(\"iferror(VLOOKUP(B812,IMPORTRANGE(\"\"https://docs.google.com/spreadsheets/d/1-zcOrI_PgX9R0t6_sOpXptmEcBDI4IX9Gfz9-2a6his/edit#gid=0\"\",\"\"RWA!F:BZ\"\"),49,0))\"),\"\")","v":""}]
[{"$nulls":4},{"$f":"IFERROR(__xludf.DUMMYFUNCTION(\"iferror(VLOOKUP(B813,IMPORTRANGE(\"\"https://docs.google.com/spreadsheets/d/1-zcOrI_PgX9R0t6_sOpXptmEcBDI4IX9Gfz9-2a6his/edit#gid=0\"\",\"\"RWA!F:BZ\"\"),44,0))\"),\"\")","v":""},{"$f":"IFERROR(__xludf.DUMMYFUNCTION(\"iferror(VLOOKUP(B813,IMPORTRANGE(\"\"https://docs.google.com/spreadsheets/d/1-zcOrI_PgX9R0t6_sOpXptmEcBDI4IX9Gfz9-2a6his/edit#gid=0\"\",\"\"RWA!F:BZ\"\"),48,0))\"),\"\")","v":""},{"$f":"IFERROR(__xludf.DUMMYFUNCTION(\"iferror(VLOOKUP(B813,IMPORTRANGE(\"\"https://docs.google.com/spreadsheets/d/1-zcOrI_PgX9R0t6_sOpXptmEcBDI4IX9Gfz9-2a6his/edit#gid=0\"\",\"\"RWA!F:BZ\"\"),49,0))\"),\"\")","v":""}]
[{"$nulls":4},{"$f":"IFERROR(__xludf.DUMMYFUNCTION(\"iferror(VLOOKUP(B814,IMPORTRANGE(\"\"https://docs.google.com/spreadsheets/d/1-zcOrI_PgX9R0t6_sOpXptmEcBDI4IX9Gfz9-2a6his/edit#gid=0\"\",\"\"RWA!F:BZ\"\"),44,0))\"),\"\")","v":""},{"$f":"IFERROR(__xludf.DUMMYFUNCTION(\"iferror(VLOOKUP(B814,IMPORTRANGE(\"\"https://docs.google.com/spreadsheets/d/1-zcOrI_PgX9R0t6_sOpXptmEcBDI4IX9Gfz9-2a6his/edit#gid=0\"\",\"\"RWA!F:BZ\"\"),48,0))\"),\"\")","v":""},{"$f":"IFERROR(__xludf.DUMMYFUNCTION(\"iferror(VLOOKUP(B814,IMPORTRANGE(\"\"https://docs.google.com/spreadsheets/d/1-zcOrI_PgX9R0t6_sOpXptmEcBDI4IX9Gfz9-2a6his/edit#gid=0\"\",\"\"RWA!F:BZ\"\"),49,0))\"),\"\")","v":""}]
[{"$nulls":4},{"$f":"IFERROR(__xludf.DUMMYFUNCTION(\"iferror(VLOOKUP(B815,IMPORTRANGE(\"\"https://docs.google.com/spreadsheets/d/1-zcOrI_PgX9R0t6_sOpXptmEcBDI4IX9Gfz9-2a6his/edit#gid=0\"\",\"\"RWA!F:BZ\"\"),44,0))\"),\"\")","v":""},{"$f":"IFERROR(__xludf.DUMMYFUNCTION(\"iferror(VLOOKUP(B815,IMPORTRANGE(\"\"https://docs.google.com/spreadsheets/d/1-zcOrI_PgX9R0t6_sOpXptmEcBDI4IX9Gfz9-2a6his/edit#gid=0\"\",\"\"RWA!F:BZ\"\"),48,0))\"),\"\")","v":""},{"$f":"IFERROR(__xludf.DUMMYFUNCTION(\"iferror(VLOOKUP(B815,IMPORTRANGE(\"\"https://docs.google.com/spreadsheets/d/1-zcOrI_PgX9R0t6_sOpXptmEcBDI4IX9Gfz9-2a6his/edit#gid=0\"\",\"\"RWA!F:BZ\"\"),49,0))\"),\"\")","v":""}]
[{"$nulls":4},{"$f":"IFERROR(__xludf.DUMMYFUNCTION(\"iferror(VLOOKUP(B816,IMPORTRANGE(\"\"https://docs.google.com/spreadsheets/d/1-zcOrI_PgX9R0t6_sOpXptmEcBDI4IX9Gfz9-2a6his/edit#gid=0\"\",\"\"RWA!F:BZ\"\"),44,0))\"),\"\")","v":""},{"$f":"IFERROR(__xludf.DUMMYFUNCTION(\"iferror(VLOOKUP(B816,IMPORTRANGE(\"\"https://docs.google.com/spreadsheets/d/1-zcOrI_PgX9R0t6_sOpXptmEcBDI4IX9Gfz9-2a6his/edit#gid=0\"\",\"\"RWA!F:BZ\"\"),48,0))\"),\"\")","v":""},{"$f":"IFERROR(__xludf.DUMMYFUNCTION(\"iferror(VLOOKUP(B816,IMPORTRANGE(\"\"https://docs.google.com/spreadsheets/d/1-zcOrI_PgX9R0t6_sOpXptmEcBDI4IX9Gfz9-2a6his/edit#gid=0\"\",\"\"RWA!F:BZ\"\"),49,0))\"),\"\")","v":""}]
[{"$nulls":4},{"$f":"IFERROR(__xludf.DUMMYFUNCTION(\"iferror(VLOOKUP(B817,IMPORTRANGE(\"\"https://docs.google.com/spreadsheets/d/1-zcOrI_PgX9R0t6_sOpXptmEcBDI4IX9Gfz9-2a6his/edit#gid=0\"\",\"\"RWA!F:BZ\"\"),44,0))\"),\"\")","v":""},{"$f":"IFERROR(__xludf.DUMMYFUNCTION(\"iferror(VLOOKUP(B817,IMPORTRANGE(\"\"https://docs.google.com/spreadsheets/d/1-zcOrI_PgX9R0t6_sOpXptmEcBDI4IX9Gfz9-2a6his/edit#gid=0\"\",\"\"RWA!F:BZ\"\"),48,0))\"),\"\")","v":""},{"$f":"IFERROR(__xludf.DUMMYFUNCTION(\"iferror(VLOOKUP(B817,IMPORTRANGE(\"\"https://docs.google.com/spreadsheets/d/1-zcOrI_PgX9R0t6_sOpXptmEcBDI4IX9Gfz9-2a6his/edit#gid=0\"\",\"\"RWA!F:BZ\"\"),49,0))\"),\"\")","v":""}]
[{"$nulls":4},{"$f":"IFERROR(__xludf.DUMMYFUNCTION(\"iferror(VLOOKUP(B818,IMPORTRANGE(\"\"https://docs.google.com/spreadsheets/d/1-zcOrI_PgX9R0t6_sOpXptmEcBDI4IX9Gfz9-2a6his/edit#gid=0\"\",\"\"RWA!F:BZ\"\"),44,0))\"),\"\")","v":""},{"$f":"IFERROR(__xludf.DUMMYFUNCTION(\"iferror(VLOOKUP(B818,IMPORTRANGE(\"\"https://docs.google.com/spreadsheets/d/1-zcOrI_PgX9R0t6_sOpXptmEcBDI4IX9Gfz9-2a6his/edit#gid=0\"\",\"\"RWA!F:BZ\"\"),48,0))\"),\"\")","v":""},{"$f":"IFERROR(__xludf.DUMMYFUNCTION(\"iferror(VLOOKUP(B818,IMPORTRANGE(\"\"https://docs.google.com/spreadsheets/d/1-zcOrI_PgX9R0t6_sOpXptmEcBDI4IX9Gfz9-2a6his/edit#gid=0\"\",\"\"RWA!F:BZ\"\"),49,0))\"),\"\")","v":""}]
[{"$nulls":4},{"$f":"IFERROR(__xludf.DUMMYFUNCTION(\"iferror(VLOOKUP(B819,IMPORTRANGE(\"\"https://docs.google.com/spreadsheets/d/1-zcOrI_PgX9R0t6_sOpXptmEcBDI4IX9Gfz9-2a6his/edit#gid=0\"\",\"\"RWA!F:BZ\"\"),44,0))\"),\"\")","v":""},{"$f":"IFERROR(__xludf.DUMMYFUNCTION(\"iferror(VLOOKUP(B819,IMPORTRANGE(\"\"https://docs.google.com/spreadsheets/d/1-zcOrI_PgX9R0t6_sOpXptmEcBDI4IX9Gfz9-2a6his/edit#gid=0\"\",\"\"RWA!F:BZ\"\"),48,0))\"),\"\")","v":""},{"$f":"IFERROR(__xludf.DUMMYFUNCTION(\"iferror(VLOOKUP(B819,IMPORTRANGE(\"\"https://docs.google.com/spreadsheets/d/1-zcOrI_PgX9R0t6_sOpXptmEcBDI4IX9Gfz9-2a6his/edit#gid=0\"\",\"\"RWA!F:BZ\"\"),49,0))\"),\"\")","v":""}]
[{"$nulls":4},{"$f":"IFERROR(__xludf.DUMMYFUNCTION(\"iferror(VLOOKUP(B820,IMPORTRANGE(\"\"https://docs.google.com/spreadsheets/d/1-zcOrI_PgX9R0t6_sOpXptmEcBDI4IX9Gfz9-2a6his/edit#gid=0\"\",\"\"RWA!F:BZ\"\"),44,0))\"),\"\")","v":""},{"$f":"IFERROR(__xludf.DUMMYFUNCTION(\"iferror(VLOOKUP(B820,IMPORTRANGE(\"\"https://docs.google.com/spreadsheets/d/1-zcOrI_PgX9R0t6_sOpXptmEcBDI4IX9Gfz9-2a6his/edit#gid=0\"\",\"\"RWA!F:BZ\"\"),48,0))\"),\"\")","v":""},{"$f":"IFERROR(__xludf.DUMMYFUNCTION(\"iferror(VLOOKUP(B820,IMPORTRANGE(\"\"https://docs.google.com/spreadsheets/d/1-zcOrI_PgX9R0t6_sOpXptmEcBDI4IX9Gfz9-2a6his/edit#gid=0\"\",\"\"RWA!F:BZ\"\"),49,0))\"),\"\")","v":""}]
[{"$nulls":4},{"$f":"IFERROR(__xludf.DUMMYFUNCTION(\"iferror(VLOOKUP(B821,IMPORTRANGE(\"\"https://docs.google.com/spreadsheets/d/1-zcOrI_PgX9R0t6_sOpXptmEcBDI4IX9Gfz9-2a6his/edit#gid=0\"\",\"\"RWA!F:BZ\"\"),44,0))\"),\"\")","v":""},{"$f":"IFERROR(__xludf.DUMMYFUNCTION(\"iferror(VLOOKUP(B821,IMPORTRANGE(\"\"https://docs.google.com/spreadsheets/d/1-zcOrI_PgX9R0t6_sOpXptmEcBDI4IX9Gfz9-2a6his/edit#gid=0\"\",\"\"RWA!F:BZ\"\"),48,0))\"),\"\")","v":""},{"$f":"IFERROR(__xludf.DUMMYFUNCTION(\"iferror(VLOOKUP(B821,IMPORTRANGE(\"\"https://docs.google.com/spreadsheets/d/1-zcOrI_PgX9R0t6_sOpXptmEcBDI4IX9Gfz9-2a6his/edit#gid=0\"\",\"\"RWA!F:BZ\"\"),49,0))\"),\"\")","v":""}]
[{"$nulls":4},{"$f":"IFERROR(__xludf.DUMMYFUNCTION(\"iferror(VLOOKUP(B822,IMPORTRANGE(\"\"https://docs.google.com/spreadsheets/d/1-zcOrI_PgX9R0t6_sOpXptmEcBDI4IX9Gfz9-2a6his/edit#gid=0\"\",\"\"RWA!F:BZ\"\"),44,0))\"),\"\")","v":""},{"$f":"IFERROR(__xludf.DUMMYFUNCTION(\"iferror(VLOOKUP(B822,IMPORTRANGE(\"\"https://docs.google.com/spreadsheets/d/1-zcOrI_PgX9R0t6_sOpXptmEcBDI4IX9Gfz9-2a6his/edit#gid=0\"\",\"\"RWA!F:BZ\"\"),48,0))\"),\"\")","v":""},{"$f":"IFERROR(__xludf.DUMMYFUNCTION(\"iferror(VLOOKUP(B822,IMPORTRANGE(\"\"https://docs.google.com/spreadsheets/d/1-zcOrI_PgX9R0t6_sOpXptmEcBDI4IX9Gfz9-2a6his/edit#gid=0\"\",\"\"RWA!F:BZ\"\"),49,0))\"),\"\")","v":""}]
[{"$nulls":4},{"$f":"IFERROR(__xludf.DUMMYFUNCTION(\"iferror(VLOOKUP(B823,IMPORTRANGE(\"\"https://docs.google.com/spreadsheets/d/1-zcOrI_PgX9R0t6_sOpXptmEcBDI4IX9Gfz9-2a6his/edit#gid=0\"\",\"\"RWA!F:BZ\"\"),44,0))\"),\"\")","v":""},{"$f":"IFERROR(__xludf.DUMMYFUNCTION(\"iferror(VLOOKUP(B823,IMPORTRANGE(\"\"https://docs.google.com/spreadsheets/d/1-zcOrI_PgX9R0t6_sOpXptmEcBDI4IX9Gfz9-2a6his/edit#gid=0\"\",\"\"RWA!F:BZ\"\"),48,0))\"),\"\")","v":""},{"$f":"IFERROR(__xludf.DUMMYFUNCTION(\"iferror(VLOOKUP(B823,IMPORTRANGE(\"\"https://docs.google.com/spreadsheets/d/1-zcOrI_PgX9R0t6_sOpXptmEcBDI4IX9Gfz9-2a6his/edit#gid=0\"\",\"\"RWA!F:BZ\"\"),49,0))\"),\"\")","v":""}]
[{"$nulls":4},{"$f":"IFERROR(__xludf.DUMMYFUNCTION(\"iferror(VLOOKUP(B824,IMPORTRANGE(\"\"https://docs.google.com/spreadsheets/d/1-zcOrI_PgX9R0t6_sOpXptmEcBDI4IX9Gfz9-2a6his/edit#gid=0\"\",\"\"RWA!F:BZ\"\"),44,0))\"),\"\")","v":""},{"$f":"IFERROR(__xludf.DUMMYFUNCTION(\"iferror(VLOOKUP(B824,IMPORTRANGE(\"\"https://docs.google.com/spreadsheets/d/1-zcOrI_PgX9R0t6_sOpXptmEcBDI4IX9Gfz9-2a6his/edit#gid=0\"\",\"\"RWA!F:BZ\"\"),48,0))\"),\"\")","v":""},{"$f":"IFERROR(__xludf.DUMMYFUNCTION(\"iferror(VLOOKUP(B824,IMPORTRANGE(\"\"https://docs.google.com/spreadsheets/d/1-zcOrI_PgX9R0t6_sOpXptmEcBDI4IX9Gfz9-2a6his/edit#gid=0\"\",\"\"RWA!F:BZ\"\"),49,0))\"),\"\")","v":""}]
[{"$nulls":4},{"$f":"IFERROR(__xludf.DUMMYFUNCTION(\"iferror(VLOOKUP(B825,IMPORTRANGE(\"\"https://docs.google.com/spreadsheets/d/1-zcOrI_PgX9R0t6_sOpXptmEcBDI4IX9Gfz9-2a6his/edit#gid=0\"\",\"\"RWA!F:BZ\"\"),44,0))\"),\"\")","v":""},{"$f":"IFERROR(__xludf.DUMMYFUNCTION(\"iferror(VLOOKUP(B825,IMPORTRANGE(\"\"https://docs.google.com/spreadsheets/d/1-zcOrI_PgX9R0t6_sOpXptmEcBDI4IX9Gfz9-2a6his/edit#gid=0\"\",\"\"RWA!F:BZ\"\"),48,0))\"),\"\")","v":""},{"$f":"IFERROR(__xludf.DUMMYFUNCTION(\"iferror(VLOOKUP(B825,IMPORTRANGE(\"\"https://docs.google.com/spreadsheets/d/1-zcOrI_PgX9R0t6_sOpXptmEcBDI4IX9Gfz9-2a6his/edit#gid=0\"\",\"\"RWA!F:BZ\"\"),49,0))\"),\"\")","v":""}]
[{"$nulls":4},{"$f":"IFERROR(__xludf.DUMMYFUNCTION(\"iferror(VLOOKUP(B826,IMPORTRANGE(\"\"https://docs.google.com/spreadsheets/d/1-zcOrI_PgX9R0t6_sOpXptmEcBDI4IX9Gfz9-2a6his/edit#gid=0\"\",\"\"RWA!F:BZ\"\"),44,0))\"),\"\")","v":""},{"$f":"IFERROR(__xludf.DUMMYFUNCTION(\"iferror(VLOOKUP(B826,IMPORTRANGE(\"\"https://docs.google.com/spreadsheets/d/1-zcOrI_PgX9R0t6_sOpXptmEcBDI4IX9Gfz9-2a6his/edit#gid=0\"\",\"\"RWA!F:BZ\"\"),48,0))\"),\"\")","v":""},{"$f":"IFERROR(__xludf.DUMMYFUNCTION(\"iferror(VLOOKUP(B826,IMPORTRANGE(\"\"https://docs.google.com/spreadsheets/d/1-zcOrI_PgX9R0t6_sOpXptmEcBDI4IX9Gfz9-2a6his/edit#gid=0\"\",\"\"RWA!F:BZ\"\"),49,0))\"),\"\")","v":""}]
[{"$nulls":4},{"$f":"IFERROR(__xludf.DUMMYFUNCTION(\"iferror(VLOOKUP(B827,IMPORTRANGE(\"\"https://docs.google.com/spreadsheets/d/1-zcOrI_PgX9R0t6_sOpXptmEcBDI4IX9Gfz9-2a6his/edit#gid=0\"\",\"\"RWA!F:BZ\"\"),44,0))\"),\"\")","v":""},{"$f":"IFERROR(__xludf.DUMMYFUNCTION(\"iferror(VLOOKUP(B827,IMPORTRANGE(\"\"https://docs.google.com/spreadsheets/d/1-zcOrI_PgX9R0t6_sOpXptmEcBDI4IX9Gfz9-2a6his/edit#gid=0\"\",\"\"RWA!F:BZ\"\"),48,0))\"),\"\")","v":""},{"$f":"IFERROR(__xludf.DUMMYFUNCTION(\"iferror(VLOOKUP(B827,IMPORTRANGE(\"\"https://docs.google.com/spreadsheets/d/1-zcOrI_PgX9R0t6_sOpXptmEcBDI4IX9Gfz9-2a6his/edit#gid=0\"\",\"\"RWA!F:BZ\"\"),49,0))\"),\"\")","v":""}]
[{"$nulls":4},{"$f":"IFERROR(__xludf.DUMMYFUNCTION(\"iferror(VLOOKUP(B828,IMPORTRANGE(\"\"https://docs.google.com/spreadsheets/d/1-zcOrI_PgX9R0t6_sOpXptmEcBDI4IX9Gfz9-2a6his/edit#gid=0\"\",\"\"RWA!F:BZ\"\"),44,0))\"),\"\")","v":""},{"$f":"IFERROR(__xludf.DUMMYFUNCTION(\"iferror(VLOOKUP(B828,IMPORTRANGE(\"\"https://docs.google.com/spreadsheets/d/1-zcOrI_PgX9R0t6_sOpXptmEcBDI4IX9Gfz9-2a6his/edit#gid=0\"\",\"\"RWA!F:BZ\"\"),48,0))\"),\"\")","v":""},{"$f":"IFERROR(__xludf.DUMMYFUNCTION(\"iferror(VLOOKUP(B828,IMPORTRANGE(\"\"https://docs.google.com/spreadsheets/d/1-zcOrI_PgX9R0t6_sOpXptmEcBDI4IX9Gfz9-2a6his/edit#gid=0\"\",\"\"RWA!F:BZ\"\"),49,0))\"),\"\")","v":""}]
[{"$nulls":4},{"$f":"IFERROR(__xludf.DUMMYFUNCTION(\"iferror(VLOOKUP(B829,IMPORTRANGE(\"\"https://docs.google.com/spreadsheets/d/1-zcOrI_PgX9R0t6_sOpXptmEcBDI4IX9Gfz9-2a6his/edit#gid=0\"\",\"\"RWA!F:BZ\"\"),44,0))\"),\"\")","v":""},{"$f":"IFERROR(__xludf.DUMMYFUNCTION(\"iferror(VLOOKUP(B829,IMPORTRANGE(\"\"https://docs.google.com/spreadsheets/d/1-zcOrI_PgX9R0t6_sOpXptmEcBDI4IX9Gfz9-2a6his/edit#gid=0\"\",\"\"RWA!F:BZ\"\"),48,0))\"),\"\")","v":""},{"$f":"IFERROR(__xludf.DUMMYFUNCTION(\"iferror(VLOOKUP(B829,IMPORTRANGE(\"\"https://docs.google.com/spreadsheets/d/1-zcOrI_PgX9R0t6_sOpXptmEcBDI4IX9Gfz9-2a6his/edit#gid=0\"\",\"\"RWA!F:BZ\"\"),49,0))\"),\"\")","v":""}]
[{"$nulls":4},{"$f":"IFERROR(__xludf.DUMMYFUNCTION(\"iferror(VLOOKUP(B830,IMPORTRANGE(\"\"https://docs.google.com/spreadsheets/d/1-zcOrI_PgX9R0t6_sOpXptmEcBDI4IX9Gfz9-2a6his/edit#gid=0\"\",\"\"RWA!F:BZ\"\"),44,0))\"),\"\")","v":""},{"$f":"IFERROR(__xludf.DUMMYFUNCTION(\"iferror(VLOOKUP(B830,IMPORTRANGE(\"\"https://docs.google.com/spreadsheets/d/1-zcOrI_PgX9R0t6_sOpXptmEcBDI4IX9Gfz9-2a6his/edit#gid=0\"\",\"\"RWA!F:BZ\"\"),48,0))\"),\"\")","v":""},{"$f":"IFERROR(__xludf.DUMMYFUNCTION(\"iferror(VLOOKUP(B830,IMPORTRANGE(\"\"https://docs.google.com/spreadsheets/d/1-zcOrI_PgX9R0t6_sOpXptmEcBDI4IX9Gfz9-2a6his/edit#gid=0\"\",\"\"RWA!F:BZ\"\"),49,0))\"),\"\")","v":""}]
[{"$nulls":4},{"$f":"IFERROR(__xludf.DUMMYFUNCTION(\"iferror(VLOOKUP(B831,IMPORTRANGE(\"\"https://docs.google.com/spreadsheets/d/1-zcOrI_PgX9R0t6_sOpXptmEcBDI4IX9Gfz9-2a6his/edit#gid=0\"\",\"\"RWA!F:BZ\"\"),44,0))\"),\"\")","v":""},{"$f":"IFERROR(__xludf.DUMMYFUNCTION(\"iferror(VLOOKUP(B831,IMPORTRANGE(\"\"https://docs.google.com/spreadsheets/d/1-zcOrI_PgX9R0t6_sOpXptmEcBDI4IX9Gfz9-2a6his/edit#gid=0\"\",\"\"RWA!F:BZ\"\"),48,0))\"),\"\")","v":""},{"$f":"IFERROR(__xludf.DUMMYFUNCTION(\"iferror(VLOOKUP(B831,IMPORTRANGE(\"\"https://docs.google.com/spreadsheets/d/1-zcOrI_PgX9R0t6_sOpXptmEcBDI4IX9Gfz9-2a6his/edit#gid=0\"\",\"\"RWA!F:BZ\"\"),49,0))\"),\"\")","v":""}]
[{"$nulls":4},{"$f":"IFERROR(__xludf.DUMMYFUNCTION(\"iferror(VLOOKUP(B832,IMPORTRANGE(\"\"https://docs.google.com/spreadsheets/d/1-zcOrI_PgX9R0t6_sOpXptmEcBDI4IX9Gfz9-2a6his/edit#gid=0\"\",\"\"RWA!F:BZ\"\"),44,0))\"),\"\")","v":""},{"$f":"IFERROR(__xludf.DUMMYFUNCTION(\"iferror(VLOOKUP(B832,IMPORTRANGE(\"\"https://docs.google.com/spreadsheets/d/1-zcOrI_PgX9R0t6_sOpXptmEcBDI4IX9Gfz9-2a6his/edit#gid=0\"\",\"\"RWA!F:BZ\"\"),48,0))\"),\"\")","v":""},{"$f":"IFERROR(__xludf.DUMMYFUNCTION(\"iferror(VLOOKUP(B832,IMPORTRANGE(\"\"https://docs.google.com/spreadsheets/d/1-zcOrI_PgX9R0t6_sOpXptmEcBDI4IX9Gfz9-2a6his/edit#gid=0\"\",\"\"RWA!F:BZ\"\"),49,0))\"),\"\")","v":""}]
[{"$nulls":4},{"$f":"IFERROR(__xludf.DUMMYFUNCTION(\"iferror(VLOOKUP(B833,IMPORTRANGE(\"\"https://docs.google.com/spreadsheets/d/1-zcOrI_PgX9R0t6_sOpXptmEcBDI4IX9Gfz9-2a6his/edit#gid=0\"\",\"\"RWA!F:BZ\"\"),44,0))\"),\"\")","v":""},{"$f":"IFERROR(__xludf.DUMMYFUNCTION(\"iferror(VLOOKUP(B833,IMPORTRANGE(\"\"https://docs.google.com/spreadsheets/d/1-zcOrI_PgX9R0t6_sOpXptmEcBDI4IX9Gfz9-2a6his/edit#gid=0\"\",\"\"RWA!F:BZ\"\"),48,0))\"),\"\")","v":""},{"$f":"IFERROR(__xludf.DUMMYFUNCTION(\"iferror(VLOOKUP(B833,IMPORTRANGE(\"\"https://docs.google.com/spreadsheets/d/1-zcOrI_PgX9R0t6_sOpXptmEcBDI4IX9Gfz9-2a6his/edit#gid=0\"\",\"\"RWA!F:BZ\"\"),49,0))\"),\"\")","v":""}]
[{"$nulls":4},{"$f":"IFERROR(__xludf.DUMMYFUNCTION(\"iferror(VLOOKUP(B834,IMPORTRANGE(\"\"https://docs.google.com/spreadsheets/d/1-zcOrI_PgX9R0t6_sOpXptmEcBDI4IX9Gfz9-2a6his/edit#gid=0\"\",\"\"RWA!F:BZ\"\"),44,0))\"),\"\")","v":""},{"$f":"IFERROR(__xludf.DUMMYFUNCTION(\"iferror(VLOOKUP(B834,IMPORTRANGE(\"\"https://docs.google.com/spreadsheets/d/1-zcOrI_PgX9R0t6_sOpXptmEcBDI4IX9Gfz9-2a6his/edit#gid=0\"\",\"\"RWA!F:BZ\"\"),48,0))\"),\"\")","v":""},{"$f":"IFERROR(__xludf.DUMMYFUNCTION(\"iferror(VLOOKUP(B834,IMPORTRANGE(\"\"https://docs.google.com/spreadsheets/d/1-zcOrI_PgX9R0t6_sOpXptmEcBDI4IX9Gfz9-2a6his/edit#gid=0\"\",\"\"RWA!F:BZ\"\"),49,0))\"),\"\")","v":""}]
[{"$nulls":4},{"$f":"IFERROR(__xludf.DUMMYFUNCTION(\"iferror(VLOOKUP(B835,IMPORTRANGE(\"\"https://docs.google.com/spreadsheets/d/1-zcOrI_PgX9R0t6_sOpXptmEcBDI4IX9Gfz9-2a6his/edit#gid=0\"\",\"\"RWA!F:BZ\"\"),44,0))\"),\"\")","v":""},{"$f":"IFERROR(__xludf.DUMMYFUNCTION(\"iferror(VLOOKUP(B835,IMPORTRANGE(\"\"https://docs.google.com/spreadsheets/d/1-zcOrI_PgX9R0t6_sOpXptmEcBDI4IX9Gfz9-2a6his/edit#gid=0\"\",\"\"RWA!F:BZ\"\"),48,0))\"),\"\")","v":""},{"$f":"IFERROR(__xludf.DUMMYFUNCTION(\"iferror(VLOOKUP(B835,IMPORTRANGE(\"\"https://docs.google.com/spreadsheets/d/1-zcOrI_PgX9R0t6_sOpXptmEcBDI4IX9Gfz9-2a6his/edit#gid=0\"\",\"\"RWA!F:BZ\"\"),49,0))\"),\"\")","v":""}]
[{"$nulls":4},{"$f":"IFERROR(__xludf.DUMMYFUNCTION(\"iferror(VLOOKUP(B836,IMPORTRANGE(\"\"https://docs.google.com/spreadsheets/d/1-zcOrI_PgX9R0t6_sOpXptmEcBDI4IX9Gfz9-2a6his/edit#gid=0\"\",\"\"RWA!F:BZ\"\"),44,0))\"),\"\")","v":""},{"$f":"IFERROR(__xludf.DUMMYFUNCTION(\"iferror(VLOOKUP(B836,IMPORTRANGE(\"\"https://docs.google.com/spreadsheets/d/1-zcOrI_PgX9R0t6_sOpXptmEcBDI4IX9Gfz9-2a6his/edit#gid=0\"\",\"\"RWA!F:BZ\"\"),48,0))\"),\"\")","v":""},{"$f":"IFERROR(__xludf.DUMMYFUNCTION(\"iferror(VLOOKUP(B836,IMPORTRANGE(\"\"https://docs.google.com/spreadsheets/d/1-zcOrI_PgX9R0t6_sOpXptmEcBDI4IX9Gfz9-2a6his/edit#gid=0\"\",\"\"RWA!F:BZ\"\"),49,0))\"),\"\")","v":""}]
[{"$nulls":4},{"$f":"IFERROR(__xludf.DUMMYFUNCTION(\"iferror(VLOOKUP(B837,IMPORTRANGE(\"\"https://docs.google.com/spreadsheets/d/1-zcOrI_PgX9R0t6_sOpXptmEcBDI4IX9Gfz9-2a6his/edit#gid=0\"\",\"\"RWA!F:BZ\"\"),44,0))\"),\"\")","v":""},{"$f":"IFERROR(__xludf.DUMMYFUNCTION(\"iferror(VLOOKUP(B837,IMPORTRANGE(\"\"https://docs.google.com/spreadsheets/d/1-zcOrI_PgX9R0t6_sOpXptmEcBDI4IX9Gfz9-2a6his/edit#gid=0\"\",\"\"RWA!F:BZ\"\"),48,0))\"),\"\")","v":""},{"$f":"IFERROR(__xludf.DUMMYFUNCTION(\"iferror(VLOOKUP(B837,IMPORTRANGE(\"\"https://docs.google.com/spreadsheets/d/1-zcOrI_PgX9R0t6_sOpXptmEcBDI4IX9Gfz9-2a6his/edit#gid=0\"\",\"\"RWA!F:BZ\"\"),49,0))\"),\"\")","v":""}]
[{"$nulls":4},{"$f":"IFERROR(__xludf.DUMMYFUNCTION(\"iferror(VLOOKUP(B838,IMPORTRANGE(\"\"https://docs.google.com/spreadsheets/d/1-zcOrI_PgX9R0t6_sOpXptmEcBDI4IX9Gfz9-2a6his/edit#gid=0\"\",\"\"RWA!F:BZ\"\"),44,0))\"),\"\")","v":""},{"$f":"IFERROR(__xludf.DUMMYFUNCTION(\"iferror(VLOOKUP(B838,IMPORTRANGE(\"\"https://docs.google.com/spreadsheets/d/1-zcOrI_PgX9R0t6_sOpXptmEcBDI4IX9Gfz9-2a6his/edit#gid=0\"\",\"\"RWA!F:BZ\"\"),48,0))\"),\"\")","v":""},{"$f":"IFERROR(__xludf.DUMMYFUNCTION(\"iferror(VLOOKUP(B838,IMPORTRANGE(\"\"https://docs.google.com/spreadsheets/d/1-zcOrI_PgX9R0t6_sOpXptmEcBDI4IX9Gfz9-2a6his/edit#gid=0\"\",\"\"RWA!F:BZ\"\"),49,0))\"),\"\")","v":""}]
[{"$nulls":4},{"$f":"IFERROR(__xludf.DUMMYFUNCTION(\"iferror(VLOOKUP(B839,IMPORTRANGE(\"\"https://docs.google.com/spreadsheets/d/1-zcOrI_PgX9R0t6_sOpXptmEcBDI4IX9Gfz9-2a6his/edit#gid=0\"\",\"\"RWA!F:BZ\"\"),44,0))\"),\"\")","v":""},{"$f":"IFERROR(__xludf.DUMMYFUNCTION(\"iferror(VLOOKUP(B839,IMPORTRANGE(\"\"https://docs.google.com/spreadsheets/d/1-zcOrI_PgX9R0t6_sOpXptmEcBDI4IX9Gfz9-2a6his/edit#gid=0\"\",\"\"RWA!F:BZ\"\"),48,0))\"),\"\")","v":""},{"$f":"IFERROR(__xludf.DUMMYFUNCTION(\"iferror(VLOOKUP(B839,IMPORTRANGE(\"\"https://docs.google.com/spreadsheets/d/1-zcOrI_PgX9R0t6_sOpXptmEcBDI4IX9Gfz9-2a6his/edit#gid=0\"\",\"\"RWA!F:BZ\"\"),49,0))\"),\"\")","v":""}]
[{"$nulls":4},{"$f":"IFERROR(__xludf.DUMMYFUNCTION(\"iferror(VLOOKUP(B840,IMPORTRANGE(\"\"https://docs.google.com/spreadsheets/d/1-zcOrI_PgX9R0t6_sOpXptmEcBDI4IX9Gfz9-2a6his/edit#gid=0\"\",\"\"RWA!F:BZ\"\"),44,0))\"),\"\")","v":""},{"$f":"IFERROR(__xludf.DUMMYFUNCTION(\"iferror(VLOOKUP(B840,IMPORTRANGE(\"\"https://docs.google.com/spreadsheets/d/1-zcOrI_PgX9R0t6_sOpXptmEcBDI4IX9Gfz9-2a6his/edit#gid=0\"\",\"\"RWA!F:BZ\"\"),48,0))\"),\"\")","v":""},{"$f":"IFERROR(__xludf.DUMMYFUNCTION(\"iferror(VLOOKUP(B840,IMPORTRANGE(\"\"https://docs.google.com/spreadsheets/d/1-zcOrI_PgX9R0t6_sOpXptmEcBDI4IX9Gfz9-2a6his/edit#gid=0\"\",\"\"RWA!F:BZ\"\"),49,0))\"),\"\")","v":""}]
[{"$nulls":4},{"$f":"IFERROR(__xludf.DUMMYFUNCTION(\"iferror(VLOOKUP(B841,IMPORTRANGE(\"\"https://docs.google.com/spreadsheets/d/1-zcOrI_PgX9R0t6_sOpXptmEcBDI4IX9Gfz9-2a6his/edit#gid=0\"\",\"\"RWA!F:BZ\"\"),44,0))\"),\"\")","v":""},{"$f":"IFERROR(__xludf.DUMMYFUNCTION(\"iferror(VLOOKUP(B841,IMPORTRANGE(\"\"https://docs.google.com/spreadsheets/d/1-zcOrI_PgX9R0t6_sOpXptmEcBDI4IX9Gfz9-2a6his/edit#gid=0\"\",\"\"RWA!F:BZ\"\"),48,0))\"),\"\")","v":""},{"$f":"IFERROR(__xludf.DUMMYFUNCTION(\"iferror(VLOOKUP(B841,IMPORTRANGE(\"\"https://docs.google.com/spreadsheets/d/1-zcOrI_PgX9R0t6_sOpXptmEcBDI4IX9Gfz9-2a6his/edit#gid=0\"\",\"\"RWA!F:BZ\"\"),49,0))\"),\"\")","v":""}]
[{"$nulls":4},{"$f":"IFERROR(__xludf.DUMMYFUNCTION(\"iferror(VLOOKUP(B842,IMPORTRANGE(\"\"https://docs.google.com/spreadsheets/d/1-zcOrI_PgX9R0t6_sOpXptmEcBDI4IX9Gfz9-2a6his/edit#gid=0\"\",\"\"RWA!F:BZ\"\"),44,0))\"),\"\")","v":""},{"$f":"IFERROR(__xludf.DUMMYFUNCTION(\"iferror(VLOOKUP(B842,IMPORTRANGE(\"\"https://docs.google.com/spreadsheets/d/1-zcOrI_PgX9R0t6_sOpXptmEcBDI4IX9Gfz9-2a6his/edit#gid=0\"\",\"\"RWA!F:BZ\"\"),48,0))\"),\"\")","v":""},{"$f":"IFERROR(__xludf.DUMMYFUNCTION(\"iferror(VLOOKUP(B842,IMPORTRANGE(\"\"https://docs.google.com/spreadsheets/d/1-zcOrI_PgX9R0t6_sOpXptmEcBDI4IX9Gfz9-2a6his/edit#gid=0\"\",\"\"RWA!F:BZ\"\"),49,0))\"),\"\")","v":""}]
[{"$nulls":4},{"$f":"IFERROR(__xludf.DUMMYFUNCTION(\"iferror(VLOOKUP(B843,IMPORTRANGE(\"\"https://docs.google.com/spreadsheets/d/1-zcOrI_PgX9R0t6_sOpXptmEcBDI4IX9Gfz9-2a6his/edit#gid=0\"\",\"\"RWA!F:BZ\"\"),44,0))\"),\"\")","v":""},{"$f":"IFERROR(__xludf.DUMMYFUNCTION(\"iferror(VLOOKUP(B843,IMPORTRANGE(\"\"https://docs.google.com/spreadsheets/d/1-zcOrI_PgX9R0t6_sOpXptmEcBDI4IX9Gfz9-2a6his/edit#gid=0\"\",\"\"RWA!F:BZ\"\"),48,0))\"),\"\")","v":""},{"$f":"IFERROR(__xludf.DUMMYFUNCTION(\"iferror(VLOOKUP(B843,IMPORTRANGE(\"\"https://docs.google.com/spreadsheets/d/1-zcOrI_PgX9R0t6_sOpXptmEcBDI4IX9Gfz9-2a6his/edit#gid=0\"\",\"\"RWA!F:BZ\"\"),49,0))\"),\"\")","v":""}]
[{"$nulls":4},{"$f":"IFERROR(__xludf.DUMMYFUNCTION(\"iferror(VLOOKUP(B844,IMPORTRANGE(\"\"https://docs.google.com/spreadsheets/d/1-zcOrI_PgX9R0t6_sOpXptmEcBDI4IX9Gfz9-2a6his/edit#gid=0\"\",\"\"RWA!F:BZ\"\"),44,0))\"),\"\")","v":""},{"$f":"IFERROR(__xludf.DUMMYFUNCTION(\"iferror(VLOOKUP(B844,IMPORTRANGE(\"\"https://docs.google.com/spreadsheets/d/1-zcOrI_PgX9R0t6_sOpXptmEcBDI4IX9Gfz9-2a6his/edit#gid=0\"\",\"\"RWA!F:BZ\"\"),48,0))\"),\"\")","v":""},{"$f":"IFERROR(__xludf.DUMMYFUNCTION(\"iferror(VLOOKUP(B844,IMPORTRANGE(\"\"https://docs.google.com/spreadsheets/d/1-zcOrI_PgX9R0t6_sOpXptmEcBDI4IX9Gfz9-2a6his/edit#gid=0\"\",\"\"RWA!F:BZ\"\"),49,0))\"),\"\")","v":""}]
[{"$nulls":4},{"$f":"IFERROR(__xludf.DUMMYFUNCTION(\"iferror(VLOOKUP(B845,IMPORTRANGE(\"\"https://docs.google.com/spreadsheets/d/1-zcOrI_PgX9R0t6_sOpXptmEcBDI4IX9Gfz9-2a6his/edit#gid=0\"\",\"\"RWA!F:BZ\"\"),44,0))\"),\"\")","v":""},{"$f":"IFERROR(__xludf.DUMMYFUNCTION(\"iferror(VLOOKUP(B845,IMPORTRANGE(\"\"https://docs.google.com/spreadsheets/d/1-zcOrI_PgX9R0t6_sOpXptmEcBDI4IX9Gfz9-2a6his/edit#gid=0\"\",\"\"RWA!F:BZ\"\"),48,0))\"),\"\")","v":""},{"$f":"IFERROR(__xludf.DUMMYFUNCTION(\"iferror(VLOOKUP(B845,IMPORTRANGE(\"\"https://docs.google.com/spreadsheets/d/1-zcOrI_PgX9R0t6_sOpXptmEcBDI4IX9Gfz9-2a6his/edit#gid=0\"\",\"\"RWA!F:BZ\"\"),49,0))\"),\"\")","v":""}]
[{"$nulls":4},{"$f":"IFERROR(__xludf.DUMMYFUNCTION(\"iferror(VLOOKUP(B846,IMPORTRANGE(\"\"https://docs.google.com/spreadsheets/d/1-zcOrI_PgX9R0t6_sOpXptmEcBDI4IX9Gfz9-2a6his/edit#gid=0\"\",\"\"RWA!F:BZ\"\"),44,0))\"),\"\")","v":""},{"$f":"IFERROR(__xludf.DUMMYFUNCTION(\"iferror(VLOOKUP(B846,IMPORTRANGE(\"\"https://docs.google.com/spreadsheets/d/1-zcOrI_PgX9R0t6_sOpXptmEcBDI4IX9Gfz9-2a6his/edit#gid=0\"\",\"\"RWA!F:BZ\"\"),48,0))\"),\"\")","v":""},{"$f":"IFERROR(__xludf.DUMMYFUNCTION(\"iferror(VLOOKUP(B846,IMPORTRANGE(\"\"https://docs.google.com/spreadsheets/d/1-zcOrI_PgX9R0t6_sOpXptmEcBDI4IX9Gfz9-2a6his/edit#gid=0\"\",\"\"RWA!F:BZ\"\"),49,0))\"),\"\")","v":""}]
[{"$nulls":4},{"$f":"IFERROR(__xludf.DUMMYFUNCTION(\"iferror(VLOOKUP(B847,IMPORTRANGE(\"\"https://docs.google.com/spreadsheets/d/1-zcOrI_PgX9R0t6_sOpXptmEcBDI4IX9Gfz9-2a6his/edit#gid=0\"\",\"\"RWA!F:BZ\"\"),44,0))\"),\"\")","v":""},{"$f":"IFERROR(__xludf.DUMMYFUNCTION(\"iferror(VLOOKUP(B847,IMPORTRANGE(\"\"https://docs.google.com/spreadsheets/d/1-zcOrI_PgX9R0t6_sOpXptmEcBDI4IX9Gfz9-2a6his/edit#gid=0\"\",\"\"RWA!F:BZ\"\"),48,0))\"),\"\")","v":""},{"$f":"IFERROR(__xludf.DUMMYFUNCTION(\"iferror(VLOOKUP(B847,IMPORTRANGE(\"\"https://docs.google.com/spreadsheets/d/1-zcOrI_PgX9R0t6_sOpXptmEcBDI4IX9Gfz9-2a6his/edit#gid=0\"\",\"\"RWA!F:BZ\"\"),49,0))\"),\"\")","v":""}]
[{"$nulls":4},{"$f":"IFERROR(__xludf.DUMMYFUNCTION(\"iferror(VLOOKUP(B848,IMPORTRANGE(\"\"https://docs.google.com/spreadsheets/d/1-zcOrI_PgX9R0t6_sOpXptmEcBDI4IX9Gfz9-2a6his/edit#gid=0\"\",\"\"RWA!F:BZ\"\"),44,0))\"),\"\")","v":""},{"$f":"IFERROR(__xludf.DUMMYFUNCTION(\"iferror(VLOOKUP(B848,IMPORTRANGE(\"\"https://docs.google.com/spreadsheets/d/1-zcOrI_PgX9R0t6_sOpXptmEcBDI4IX9Gfz9-2a6his/edit#gid=0\"\",\"\"RWA!F:BZ\"\"),48,0))\"),\"\")","v":""},{"$f":"IFERROR(__xludf.DUMMYFUNCTION(\"iferror(VLOOKUP(B848,IMPORTRANGE(\"\"https://docs.google.com/spreadsheets/d/1-zcOrI_PgX9R0t6_sOpXptmEcBDI4IX9Gfz9-2a6his/edit#gid=0\"\",\"\"RWA!F:BZ\"\"),49,0))\"),\"\")","v":""}]
[{"$nulls":4},{"$f":"IFERROR(__xludf.DUMMYFUNCTION(\"iferror(VLOOKUP(B849,IMPORTRANGE(\"\"https://docs.google.com/spreadsheets/d/1-zcOrI_PgX9R0t6_sOpXptmEcBDI4IX9Gfz9-2a6his/edit#gid=0\"\",\"\"RWA!F:BZ\"\"),44,0))\"),\"\")","v":""},{"$f":"IFERROR(__xludf.DUMMYFUNCTION(\"iferror(VLOOKUP(B849,IMPORTRANGE(\"\"https://docs.google.com/spreadsheets/d/1-zcOrI_PgX9R0t6_sOpXptmEcBDI4IX9Gfz9-2a6his/edit#gid=0\"\",\"\"RWA!F:BZ\"\"),48,0))\"),\"\")","v":""},{"$f":"IFERROR(__xludf.DUMMYFUNCTION(\"iferror(VLOOKUP(B849,IMPORTRANGE(\"\"https://docs.google.com/spreadsheets/d/1-zcOrI_PgX9R0t6_sOpXptmEcBDI4IX9Gfz9-2a6his/edit#gid=0\"\",\"\"RWA!F:BZ\"\"),49,0))\"),\"\")","v":""}]
[{"$nulls":4},{"$f":"IFERROR(__xludf.DUMMYFUNCTION(\"iferror(VLOOKUP(B850,IMPORTRANGE(\"\"https://docs.google.com/spreadsheets/d/1-zcOrI_PgX9R0t6_sOpXptmEcBDI4IX9Gfz9-2a6his/edit#gid=0\"\",\"\"RWA!F:BZ\"\"),44,0))\"),\"\")","v":""},{"$f":"IFERROR(__xludf.DUMMYFUNCTION(\"iferror(VLOOKUP(B850,IMPORTRANGE(\"\"https://docs.google.com/spreadsheets/d/1-zcOrI_PgX9R0t6_sOpXptmEcBDI4IX9Gfz9-2a6his/edit#gid=0\"\",\"\"RWA!F:BZ\"\"),48,0))\"),\"\")","v":""},{"$f":"IFERROR(__xludf.DUMMYFUNCTION(\"iferror(VLOOKUP(B850,IMPORTRANGE(\"\"https://docs.google.com/spreadsheets/d/1-zcOrI_PgX9R0t6_sOpXptmEcBDI4IX9Gfz9-2a6his/edit#gid=0\"\",\"\"RWA!F:BZ\"\"),49,0))\"),\"\")","v":""}]
[{"$nulls":4},{"$f":"IFERROR(__xludf.DUMMYFUNCTION(\"iferror(VLOOKUP(B851,IMPORTRANGE(\"\"https://docs.google.com/spreadsheets/d/1-zcOrI_PgX9R0t6_sOpXptmEcBDI4IX9Gfz9-2a6his/edit#gid=0\"\",\"\"RWA!F:BZ\"\"),44,0))\"),\"\")","v":""},{"$f":"IFERROR(__xludf.DUMMYFUNCTION(\"iferror(VLOOKUP(B851,IMPORTRANGE(\"\"https://docs.google.com/spreadsheets/d/1-zcOrI_PgX9R0t6_sOpXptmEcBDI4IX9Gfz9-2a6his/edit#gid=0\"\",\"\"RWA!F:BZ\"\"),48,0))\"),\"\")","v":""},{"$f":"IFERROR(__xludf.DUMMYFUNCTION(\"iferror(VLOOKUP(B851,IMPORTRANGE(\"\"https://docs.google.com/spreadsheets/d/1-zcOrI_PgX9R0t6_sOpXptmEcBDI4IX9Gfz9-2a6his/edit#gid=0\"\",\"\"RWA!F:BZ\"\"),49,0))\"),\"\")","v":""}]
[{"$nulls":4},{"$f":"IFERROR(__xludf.DUMMYFUNCTION(\"iferror(VLOOKUP(B852,IMPORTRANGE(\"\"https://docs.google.com/spreadsheets/d/1-zcOrI_PgX9R0t6_sOpXptmEcBDI4IX9Gfz9-2a6his/edit#gid=0\"\",\"\"RWA!F:BZ\"\"),44,0))\"),\"\")","v":""},{"$f":"IFERROR(__xludf.DUMMYFUNCTION(\"iferror(VLOOKUP(B852,IMPORTRANGE(\"\"https://docs.google.com/spreadsheets/d/1-zcOrI_PgX9R0t6_sOpXptmEcBDI4IX9Gfz9-2a6his/edit#gid=0\"\",\"\"RWA!F:BZ\"\"),48,0))\"),\"\")","v":""},{"$f":"IFERROR(__xludf.DUMMYFUNCTION(\"iferror(VLOOKUP(B852,IMPORTRANGE(\"\"https://docs.google.com/spreadsheets/d/1-zcOrI_PgX9R0t6_sOpXptmEcBDI4IX9Gfz9-2a6his/edit#gid=0\"\",\"\"RWA!F:BZ\"\"),49,0))\"),\"\")","v":""}]
[{"$nulls":4},{"$f":"IFERROR(__xludf.DUMMYFUNCTION(\"iferror(VLOOKUP(B853,IMPORTRANGE(\"\"https://docs.google.com/spreadsheets/d/1-zcOrI_PgX9R0t6_sOpXptmEcBDI4IX9Gfz9-2a6his/edit#gid=0\"\",\"\"RWA!F:BZ\"\"),44,0))\"),\"\")","v":""},{"$f":"IFERROR(__xludf.DUMMYFUNCTION(\"iferror(VLOOKUP(B853,IMPORTRANGE(\"\"https://docs.google.com/spreadsheets/d/1-zcOrI_PgX9R0t6_sOpXptmEcBDI4IX9Gfz9-2a6his/edit#gid=0\"\",\"\"RWA!F:BZ\"\"),48,0))\"),\"\")","v":""},{"$f":"IFERROR(__xludf.DUMMYFUNCTION(\"iferror(VLOOKUP(B853,IMPORTRANGE(\"\"https://docs.google.com/spreadsheets/d/1-zcOrI_PgX9R0t6_sOpXptmEcBDI4IX9Gfz9-2a6his/edit#gid=0\"\",\"\"RWA!F:BZ\"\"),49,0))\"),\"\")","v":""}]
[{"$nulls":4},{"$f":"IFERROR(__xludf.DUMMYFUNCTION(\"iferror(VLOOKUP(B854,IMPORTRANGE(\"\"https://docs.google.com/spreadsheets/d/1-zcOrI_PgX9R0t6_sOpXptmEcBDI4IX9Gfz9-2a6his/edit#gid=0\"\",\"\"RWA!F:BZ\"\"),44,0))\"),\"\")","v":""},{"$f":"IFERROR(__xludf.DUMMYFUNCTION(\"iferror(VLOOKUP(B854,IMPORTRANGE(\"\"https://docs.google.com/spreadsheets/d/1-zcOrI_PgX9R0t6_sOpXptmEcBDI4IX9Gfz9-2a6his/edit#gid=0\"\",\"\"RWA!F:BZ\"\"),48,0))\"),\"\")","v":""},{"$f":"IFERROR(__xludf.DUMMYFUNCTION(\"iferror(VLOOKUP(B854,IMPORTRANGE(\"\"https://docs.google.com/spreadsheets/d/1-zcOrI_PgX9R0t6_sOpXptmEcBDI4IX9Gfz9-2a6his/edit#gid=0\"\",\"\"RWA!F:BZ\"\"),49,0))\"),\"\")","v":""}]
[{"$nulls":4},{"$f":"IFERROR(__xludf.DUMMYFUNCTION(\"iferror(VLOOKUP(B855,IMPORTRANGE(\"\"https://docs.google.com/spreadsheets/d/1-zcOrI_PgX9R0t6_sOpXptmEcBDI4IX9Gfz9-2a6his/edit#gid=0\"\",\"\"RWA!F:BZ\"\"),44,0))\"),\"\")","v":""},{"$f":"IFERROR(__xludf.DUMMYFUNCTION(\"iferror(VLOOKUP(B855,IMPORTRANGE(\"\"https://docs.google.com/spreadsheets/d/1-zcOrI_PgX9R0t6_sOpXptmEcBDI4IX9Gfz9-2a6his/edit#gid=0\"\",\"\"RWA!F:BZ\"\"),48,0))\"),\"\")","v":""},{"$f":"IFERROR(__xludf.DUMMYFUNCTION(\"iferror(VLOOKUP(B855,IMPORTRANGE(\"\"https://docs.google.com/spreadsheets/d/1-zcOrI_PgX9R0t6_sOpXptmEcBDI4IX9Gfz9-2a6his/edit#gid=0\"\",\"\"RWA!F:BZ\"\"),49,0))\"),\"\")","v":""}]
[{"$nulls":4},{"$f":"IFERROR(__xludf.DUMMYFUNCTION(\"iferror(VLOOKUP(B856,IMPORTRANGE(\"\"https://docs.google.com/spreadsheets/d/1-zcOrI_PgX9R0t6_sOpXptmEcBDI4IX9Gfz9-2a6his/edit#gid=0\"\",\"\"RWA!F:BZ\"\"),44,0))\"),\"\")","v":""},{"$f":"IFERROR(__xludf.DUMMYFUNCTION(\"iferror(VLOOKUP(B856,IMPORTRANGE(\"\"https://docs.google.com/spreadsheets/d/1-zcOrI_PgX9R0t6_sOpXptmEcBDI4IX9Gfz9-2a6his/edit#gid=0\"\",\"\"RWA!F:BZ\"\"),48,0))\"),\"\")","v":""},{"$f":"IFERROR(__xludf.DUMMYFUNCTION(\"iferror(VLOOKUP(B856,IMPORTRANGE(\"\"https://docs.google.com/spreadsheets/d/1-zcOrI_PgX9R0t6_sOpXptmEcBDI4IX9Gfz9-2a6his/edit#gid=0\"\",\"\"RWA!F:BZ\"\"),49,0))\"),\"\")","v":""}]
[{"$nulls":4},{"$f":"IFERROR(__xludf.DUMMYFUNCTION(\"iferror(VLOOKUP(B857,IMPORTRANGE(\"\"https://docs.google.com/spreadsheets/d/1-zcOrI_PgX9R0t6_sOpXptmEcBDI4IX9Gfz9-2a6his/edit#gid=0\"\",\"\"RWA!F:BZ\"\"),44,0))\"),\"\")","v":""},{"$f":"IFERROR(__xludf.DUMMYFUNCTION(\"iferror(VLOOKUP(B857,IMPORTRANGE(\"\"https://docs.google.com/spreadsheets/d/1-zcOrI_PgX9R0t6_sOpXptmEcBDI4IX9Gfz9-2a6his/edit#gid=0\"\",\"\"RWA!F:BZ\"\"),48,0))\"),\"\")","v":""},{"$f":"IFERROR(__xludf.DUMMYFUNCTION(\"iferror(VLOOKUP(B857,IMPORTRANGE(\"\"https://docs.google.com/spreadsheets/d/1-zcOrI_PgX9R0t6_sOpXptmEcBDI4IX9Gfz9-2a6his/edit#gid=0\"\",\"\"RWA!F:BZ\"\"),49,0))\"),\"\")","v":""}]
[{"$nulls":4},{"$f":"IFERROR(__xludf.DUMMYFUNCTION(\"iferror(VLOOKUP(B858,IMPORTRANGE(\"\"https://docs.google.com/spreadsheets/d/1-zcOrI_PgX9R0t6_sOpXptmEcBDI4IX9Gfz9-2a6his/edit#gid=0\"\",\"\"RWA!F:BZ\"\"),44,0))\"),\"\")","v":""},{"$f":"IFERROR(__xludf.DUMMYFUNCTION(\"iferror(VLOOKUP(B858,IMPORTRANGE(\"\"https://docs.google.com/spreadsheets/d/1-zcOrI_PgX9R0t6_sOpXptmEcBDI4IX9Gfz9-2a6his/edit#gid=0\"\",\"\"RWA!F:BZ\"\"),48,0))\"),\"\")","v":""},{"$f":"IFERROR(__xludf.DUMMYFUNCTION(\"iferror(VLOOKUP(B858,IMPORTRANGE(\"\"https://docs.google.com/spreadsheets/d/1-zcOrI_PgX9R0t6_sOpXptmEcBDI4IX9Gfz9-2a6his/edit#gid=0\"\",\"\"RWA!F:BZ\"\"),49,0))\"),\"\")","v":""}]
[{"$nulls":4},{"$f":"IFERROR(__xludf.DUMMYFUNCTION(\"iferror(VLOOKUP(B859,IMPORTRANGE(\"\"https://docs.google.com/spreadsheets/d/1-zcOrI_PgX9R0t6_sOpXptmEcBDI4IX9Gfz9-2a6his/edit#gid=0\"\",\"\"RWA!F:BZ\"\"),44,0))\"),\"\")","v":""},{"$f":"IFERROR(__xludf.DUMMYFUNCTION(\"iferror(VLOOKUP(B859,IMPORTRANGE(\"\"https://docs.google.com/spreadsheets/d/1-zcOrI_PgX9R0t6_sOpXptmEcBDI4IX9Gfz9-2a6his/edit#gid=0\"\",\"\"RWA!F:BZ\"\"),48,0))\"),\"\")","v":""},{"$f":"IFERROR(__xludf.DUMMYFUNCTION(\"iferror(VLOOKUP(B859,IMPORTRANGE(\"\"https://docs.google.com/spreadsheets/d/1-zcOrI_PgX9R0t6_sOpXptmEcBDI4IX9Gfz9-2a6his/edit#gid=0\"\",\"\"RWA!F:BZ\"\"),49,0))\"),\"\")","v":""}]
[{"$nulls":4},{"$f":"IFERROR(__xludf.DUMMYFUNCTION(\"iferror(VLOOKUP(B860,IMPORTRANGE(\"\"https://docs.google.com/spreadsheets/d/1-zcOrI_PgX9R0t6_sOpXptmEcBDI4IX9Gfz9-2a6his/edit#gid=0\"\",\"\"RWA!F:BZ\"\"),44,0))\"),\"\")","v":""},{"$f":"IFERROR(__xludf.DUMMYFUNCTION(\"iferror(VLOOKUP(B860,IMPORTRANGE(\"\"https://docs.google.com/spreadsheets/d/1-zcOrI_PgX9R0t6_sOpXptmEcBDI4IX9Gfz9-2a6his/edit#gid=0\"\",\"\"RWA!F:BZ\"\"),48,0))\"),\"\")","v":""},{"$f":"IFERROR(__xludf.DUMMYFUNCTION(\"iferror(VLOOKUP(B860,IMPORTRANGE(\"\"https://docs.google.com/spreadsheets/d/1-zcOrI_PgX9R0t6_sOpXptmEcBDI4IX9Gfz9-2a6his/edit#gid=0\"\",\"\"RWA!F:BZ\"\"),49,0))\"),\"\")","v":""}]
[{"$nulls":4},{"$f":"IFERROR(__xludf.DUMMYFUNCTION(\"iferror(VLOOKUP(B861,IMPORTRANGE(\"\"https://docs.google.com/spreadsheets/d/1-zcOrI_PgX9R0t6_sOpXptmEcBDI4IX9Gfz9-2a6his/edit#gid=0\"\",\"\"RWA!F:BZ\"\"),44,0))\"),\"\")","v":""},{"$f":"IFERROR(__xludf.DUMMYFUNCTION(\"iferror(VLOOKUP(B861,IMPORTRANGE(\"\"https://docs.google.com/spreadsheets/d/1-zcOrI_PgX9R0t6_sOpXptmEcBDI4IX9Gfz9-2a6his/edit#gid=0\"\",\"\"RWA!F:BZ\"\"),48,0))\"),\"\")","v":""},{"$f":"IFERROR(__xludf.DUMMYFUNCTION(\"iferror(VLOOKUP(B861,IMPORTRANGE(\"\"https://docs.google.com/spreadsheets/d/1-zcOrI_PgX9R0t6_sOpXptmEcBDI4IX9Gfz9-2a6his/edit#gid=0\"\",\"\"RWA!F:BZ\"\"),49,0))\"),\"\")","v":""}]
[{"$nulls":4},{"$f":"IFERROR(__xludf.DUMMYFUNCTION(\"iferror(VLOOKUP(B862,IMPORTRANGE(\"\"https://docs.google.com/spreadsheets/d/1-zcOrI_PgX9R0t6_sOpXptmEcBDI4IX9Gfz9-2a6his/edit#gid=0\"\",\"\"RWA!F:BZ\"\"),44,0))\"),\"\")","v":""},{"$f":"IFERROR(__xludf.DUMMYFUNCTION(\"iferror(VLOOKUP(B862,IMPORTRANGE(\"\"https://docs.google.com/spreadsheets/d/1-zcOrI_PgX9R0t6_sOpXptmEcBDI4IX9Gfz9-2a6his/edit#gid=0\"\",\"\"RWA!F:BZ\"\"),48,0))\"),\"\")","v":""},{"$f":"IFERROR(__xludf.DUMMYFUNCTION(\"iferror(VLOOKUP(B862,IMPORTRANGE(\"\"https://docs.google.com/spreadsheets/d/1-zcOrI_PgX9R0t6_sOpXptmEcBDI4IX9Gfz9-2a6his/edit#gid=0\"\",\"\"RWA!F:BZ\"\"),49,0))\"),\"\")","v":""}]
[{"$nulls":4},{"$f":"IFERROR(__xludf.DUMMYFUNCTION(\"iferror(VLOOKUP(B863,IMPORTRANGE(\"\"https://docs.google.com/spreadsheets/d/1-zcOrI_PgX9R0t6_sOpXptmEcBDI4IX9Gfz9-2a6his/edit#gid=0\"\",\"\"RWA!F:BZ\"\"),44,0))\"),\"\")","v":""},{"$f":"IFERROR(__xludf.DUMMYFUNCTION(\"iferror(VLOOKUP(B863,IMPORTRANGE(\"\"https://docs.google.com/spreadsheets/d/1-zcOrI_PgX9R0t6_sOpXptmEcBDI4IX9Gfz9-2a6his/edit#gid=0\"\",\"\"RWA!F:BZ\"\"),48,0))\"),\"\")","v":""},{"$f":"IFERROR(__xludf.DUMMYFUNCTION(\"iferror(VLOOKUP(B863,IMPORTRANGE(\"\"https://docs.google.com/spreadsheets/d/1-zcOrI_PgX9R0t6_sOpXptmEcBDI4IX9Gfz9-2a6his/edit#gid=0\"\",\"\"RWA!F:BZ\"\"),49,0))\"),\"\")","v":""}]
[{"$nulls":4},{"$f":"IFERROR(__xludf.DUMMYFUNCTION(\"iferror(VLOOKUP(B864,IMPORTRANGE(\"\"https://docs.google.com/spreadsheets/d/1-zcOrI_PgX9R0t6_sOpXptmEcBDI4IX9Gfz9-2a6his/edit#gid=0\"\",\"\"RWA!F:BZ\"\"),44,0))\"),\"\")","v":""},{"$f":"IFERROR(__xludf.DUMMYFUNCTION(\"iferror(VLOOKUP(B864,IMPORTRANGE(\"\"https://docs.google.com/spreadsheets/d/1-zcOrI_PgX9R0t6_sOpXptmEcBDI4IX9Gfz9-2a6his/edit#gid=0\"\",\"\"RWA!F:BZ\"\"),48,0))\"),\"\")","v":""},{"$f":"IFERROR(__xludf.DUMMYFUNCTION(\"iferror(VLOOKUP(B864,IMPORTRANGE(\"\"https://docs.google.com/spreadsheets/d/1-zcOrI_PgX9R0t6_sOpXptmEcBDI4IX9Gfz9-2a6his/edit#gid=0\"\",\"\"RWA!F:BZ\"\"),49,0))\"),\"\")","v":""}]
[{"$nulls":4},{"$f":"IFERROR(__xludf.DUMMYFUNCTION(\"iferror(VLOOKUP(B865,IMPORTRANGE(\"\"https://docs.google.com/spreadsheets/d/1-zcOrI_PgX9R0t6_sOpXptmEcBDI4IX9Gfz9-2a6his/edit#gid=0\"\",\"\"RWA!F:BZ\"\"),44,0))\"),\"\")","v":""},{"$f":"IFERROR(__xludf.DUMMYFUNCTION(\"iferror(VLOOKUP(B865,IMPORTRANGE(\"\"https://docs.google.com/spreadsheets/d/1-zcOrI_PgX9R0t6_sOpXptmEcBDI4IX9Gfz9-2a6his/edit#gid=0\"\",\"\"RWA!F:BZ\"\"),48,0))\"),\"\")","v":""},{"$f":"IFERROR(__xludf.DUMMYFUNCTION(\"iferror(VLOOKUP(B865,IMPORTRANGE(\"\"https://docs.google.com/spreadsheets/d/1-zcOrI_PgX9R0t6_sOpXptmEcBDI4IX9Gfz9-2a6his/edit#gid=0\"\",\"\"RWA!F:BZ\"\"),49,0))\"),\"\")","v":""}]
[{"$nulls":4},{"$f":"IFERROR(__xludf.DUMMYFUNCTION(\"iferror(VLOOKUP(B866,IMPORTRANGE(\"\"https://docs.google.com/spreadsheets/d/1-zcOrI_PgX9R0t6_sOpXptmEcBDI4IX9Gfz9-2a6his/edit#gid=0\"\",\"\"RWA!F:BZ\"\"),44,0))\"),\"\")","v":""},{"$f":"IFERROR(__xludf.DUMMYFUNCTION(\"iferror(VLOOKUP(B866,IMPORTRANGE(\"\"https://docs.google.com/spreadsheets/d/1-zcOrI_PgX9R0t6_sOpXptmEcBDI4IX9Gfz9-2a6his/edit#gid=0\"\",\"\"RWA!F:BZ\"\"),48,0))\"),\"\")","v":""},{"$f":"IFERROR(__xludf.DUMMYFUNCTION(\"iferror(VLOOKUP(B866,IMPORTRANGE(\"\"https://docs.google.com/spreadsheets/d/1-zcOrI_PgX9R0t6_sOpXptmEcBDI4IX9Gfz9-2a6his/edit#gid=0\"\",\"\"RWA!F:BZ\"\"),49,0))\"),\"\")","v":""}]
[{"$nulls":4},{"$f":"IFERROR(__xludf.DUMMYFUNCTION(\"iferror(VLOOKUP(B867,IMPORTRANGE(\"\"https://docs.google.com/spreadsheets/d/1-zcOrI_PgX9R0t6_sOpXptmEcBDI4IX9Gfz9-2a6his/edit#gid=0\"\",\"\"RWA!F:BZ\"\"),44,0))\"),\"\")","v":""},{"$f":"IFERROR(__xludf.DUMMYFUNCTION(\"iferror(VLOOKUP(B867,IMPORTRANGE(\"\"https://docs.google.com/spreadsheets/d/1-zcOrI_PgX9R0t6_sOpXptmEcBDI4IX9Gfz9-2a6his/edit#gid=0\"\",\"\"RWA!F:BZ\"\"),48,0))\"),\"\")","v":""},{"$f":"IFERROR(__xludf.DUMMYFUNCTION(\"iferror(VLOOKUP(B867,IMPORTRANGE(\"\"https://docs.google.com/spreadsheets/d/1-zcOrI_PgX9R0t6_sOpXptmEcBDI4IX9Gfz9-2a6his/edit#gid=0\"\",\"\"RWA!F:BZ\"\"),49,0))\"),\"\")","v":""}]
[{"$nulls":4},{"$f":"IFERROR(__xludf.DUMMYFUNCTION(\"iferror(VLOOKUP(B868,IMPORTRANGE(\"\"https://docs.google.com/spreadsheets/d/1-zcOrI_PgX9R0t6_sOpXptmEcBDI4IX9Gfz9-2a6his/edit#gid=0\"\",\"\"RWA!F:BZ\"\"),44,0))\"),\"\")","v":""},{"$f":"IFERROR(__xludf.DUMMYFUNCTION(\"iferror(VLOOKUP(B868,IMPORTRANGE(\"\"https://docs.google.com/spreadsheets/d/1-zcOrI_PgX9R0t6_sOpXptmEcBDI4IX9Gfz9-2a6his/edit#gid=0\"\",\"\"RWA!F:BZ\"\"),48,0))\"),\"\")","v":""},{"$f":"IFERROR(__xludf.DUMMYFUNCTION(\"iferror(VLOOKUP(B868,IMPORTRANGE(\"\"https://docs.google.com/spreadsheets/d/1-zcOrI_PgX9R0t6_sOpXptmEcBDI4IX9Gfz9-2a6his/edit#gid=0\"\",\"\"RWA!F:BZ\"\"),49,0))\"),\"\")","v":""}]
[{"$nulls":4},{"$f":"IFERROR(__xludf.DUMMYFUNCTION(\"iferror(VLOOKUP(B869,IMPORTRANGE(\"\"https://docs.google.com/spreadsheets/d/1-zcOrI_PgX9R0t6_sOpXptmEcBDI4IX9Gfz9-2a6his/edit#gid=0\"\",\"\"RWA!F:BZ\"\"),44,0))\"),\"\")","v":""},{"$f":"IFERROR(__xludf.DUMMYFUNCTION(\"iferror(VLOOKUP(B869,IMPORTRANGE(\"\"https://docs.google.com/spreadsheets/d/1-zcOrI_PgX9R0t6_sOpXptmEcBDI4IX9Gfz9-2a6his/edit#gid=0\"\",\"\"RWA!F:BZ\"\"),48,0))\"),\"\")","v":""},{"$f":"IFERROR(__xludf.DUMMYFUNCTION(\"iferror(VLOOKUP(B869,IMPORTRANGE(\"\"https://docs.google.com/spreadsheets/d/1-zcOrI_PgX9R0t6_sOpXptmEcBDI4IX9Gfz9-2a6his/edit#gid=0\"\",\"\"RWA!F:BZ\"\"),49,0))\"),\"\")","v":""}]
[{"$nulls":4},{"$f":"IFERROR(__xludf.DUMMYFUNCTION(\"iferror(VLOOKUP(B870,IMPORTRANGE(\"\"https://docs.google.com/spreadsheets/d/1-zcOrI_PgX9R0t6_sOpXptmEcBDI4IX9Gfz9-2a6his/edit#gid=0\"\",\"\"RWA!F:BZ\"\"),44,0))\"),\"\")","v":""},{"$f":"IFERROR(__xludf.DUMMYFUNCTION(\"iferror(VLOOKUP(B870,IMPORTRANGE(\"\"https://docs.google.com/spreadsheets/d/1-zcOrI_PgX9R0t6_sOpXptmEcBDI4IX9Gfz9-2a6his/edit#gid=0\"\",\"\"RWA!F:BZ\"\"),48,0))\"),\"\")","v":""},{"$f":"IFERROR(__xludf.DUMMYFUNCTION(\"iferror(VLOOKUP(B870,IMPORTRANGE(\"\"https://docs.google.com/spreadsheets/d/1-zcOrI_PgX9R0t6_sOpXptmEcBDI4IX9Gfz9-2a6his/edit#gid=0\"\",\"\"RWA!F:BZ\"\"),49,0))\"),\"\")","v":""}]
[{"$nulls":4},{"$f":"IFERROR(__xludf.DUMMYFUNCTION(\"iferror(VLOOKUP(B871,IMPORTRANGE(\"\"https://docs.google.com/spreadsheets/d/1-zcOrI_PgX9R0t6_sOpXptmEcBDI4IX9Gfz9-2a6his/edit#gid=0\"\",\"\"RWA!F:BZ\"\"),44,0))\"),\"\")","v":""},{"$f":"IFERROR(__xludf.DUMMYFUNCTION(\"iferror(VLOOKUP(B871,IMPORTRANGE(\"\"https://docs.google.com/spreadsheets/d/1-zcOrI_PgX9R0t6_sOpXptmEcBDI4IX9Gfz9-2a6his/edit#gid=0\"\",\"\"RWA!F:BZ\"\"),48,0))\"),\"\")","v":""},{"$f":"IFERROR(__xludf.DUMMYFUNCTION(\"iferror(VLOOKUP(B871,IMPORTRANGE(\"\"https://docs.google.com/spreadsheets/d/1-zcOrI_PgX9R0t6_sOpXptmEcBDI4IX9Gfz9-2a6his/edit#gid=0\"\",\"\"RWA!F:BZ\"\"),49,0))\"),\"\")","v":""}]
[{"$nulls":4},{"$f":"IFERROR(__xludf.DUMMYFUNCTION(\"iferror(VLOOKUP(B872,IMPORTRANGE(\"\"https://docs.google.com/spreadsheets/d/1-zcOrI_PgX9R0t6_sOpXptmEcBDI4IX9Gfz9-2a6his/edit#gid=0\"\",\"\"RWA!F:BZ\"\"),44,0))\"),\"\")","v":""},{"$f":"IFERROR(__xludf.DUMMYFUNCTION(\"iferror(VLOOKUP(B872,IMPORTRANGE(\"\"https://docs.google.com/spreadsheets/d/1-zcOrI_PgX9R0t6_sOpXptmEcBDI4IX9Gfz9-2a6his/edit#gid=0\"\",\"\"RWA!F:BZ\"\"),48,0))\"),\"\")","v":""},{"$f":"IFERROR(__xludf.DUMMYFUNCTION(\"iferror(VLOOKUP(B872,IMPORTRANGE(\"\"https://docs.google.com/spreadsheets/d/1-zcOrI_PgX9R0t6_sOpXptmEcBDI4IX9Gfz9-2a6his/edit#gid=0\"\",\"\"RWA!F:BZ\"\"),49,0))\"),\"\")","v":""}]
[{"$nulls":4},{"$f":"IFERROR(__xludf.DUMMYFUNCTION(\"iferror(VLOOKUP(B873,IMPORTRANGE(\"\"https://docs.google.com/spreadsheets/d/1-zcOrI_PgX9R0t6_sOpXptmEcBDI4IX9Gfz9-2a6his/edit#gid=0\"\",\"\"RWA!F:BZ\"\"),44,0))\"),\"\")","v":""},{"$f":"IFERROR(__xludf.DUMMYFUNCTION(\"iferror(VLOOKUP(B873,IMPORTRANGE(\"\"https://docs.google.com/spreadsheets/d/1-zcOrI_PgX9R0t6_sOpXptmEcBDI4IX9Gfz9-2a6his/edit#gid=0\"\",\"\"RWA!F:BZ\"\"),48,0))\"),\"\")","v":""},{"$f":"IFERROR(__xludf.DUMMYFUNCTION(\"iferror(VLOOKUP(B873,IMPORTRANGE(\"\"https://docs.google.com/spreadsheets/d/1-zcOrI_PgX9R0t6_sOpXptmEcBDI4IX9Gfz9-2a6his/edit#gid=0\"\",\"\"RWA!F:BZ\"\"),49,0))\"),\"\")","v":""}]
[{"$nulls":4},{"$f":"IFERROR(__xludf.DUMMYFUNCTION(\"iferror(VLOOKUP(B874,IMPORTRANGE(\"\"https://docs.google.com/spreadsheets/d/1-zcOrI_PgX9R0t6_sOpXptmEcBDI4IX9Gfz9-2a6his/edit#gid=0\"\",\"\"RWA!F:BZ\"\"),44,0))\"),\"\")","v":""},{"$f":"IFERROR(__xludf.DUMMYFUNCTION(\"iferror(VLOOKUP(B874,IMPORTRANGE(\"\"https://docs.google.com/spreadsheets/d/1-zcOrI_PgX9R0t6_sOpXptmEcBDI4IX9Gfz9-2a6his/edit#gid=0\"\",\"\"RWA!F:BZ\"\"),48,0))\"),\"\")","v":""},{"$f":"IFERROR(__xludf.DUMMYFUNCTION(\"iferror(VLOOKUP(B874,IMPORTRANGE(\"\"https://docs.google.com/spreadsheets/d/1-zcOrI_PgX9R0t6_sOpXptmEcBDI4IX9Gfz9-2a6his/edit#gid=0\"\",\"\"RWA!F:BZ\"\"),49,0))\"),\"\")","v":""}]
[{"$nulls":4},{"$f":"IFERROR(__xludf.DUMMYFUNCTION(\"iferror(VLOOKUP(B875,IMPORTRANGE(\"\"https://docs.google.com/spreadsheets/d/1-zcOrI_PgX9R0t6_sOpXptmEcBDI4IX9Gfz9-2a6his/edit#gid=0\"\",\"\"RWA!F:BZ\"\"),44,0))\"),\"\")","v":""},{"$f":"IFERROR(__xludf.DUMMYFUNCTION(\"iferror(VLOOKUP(B875,IMPORTRANGE(\"\"https://docs.google.com/spreadsheets/d/1-zcOrI_PgX9R0t6_sOpXptmEcBDI4IX9Gfz9-2a6his/edit#gid=0\"\",\"\"RWA!F:BZ\"\"),48,0))\"),\"\")","v":""},{"$f":"IFERROR(__xludf.DUMMYFUNCTION(\"iferror(VLOOKUP(B875,IMPORTRANGE(\"\"https://docs.google.com/spreadsheets/d/1-zcOrI_PgX9R0t6_sOpXptmEcBDI4IX9Gfz9-2a6his/edit#gid=0\"\",\"\"RWA!F:BZ\"\"),49,0))\"),\"\")","v":""}]
[{"$nulls":4},{"$f":"IFERROR(__xludf.DUMMYFUNCTION(\"iferror(VLOOKUP(B876,IMPORTRANGE(\"\"https://docs.google.com/spreadsheets/d/1-zcOrI_PgX9R0t6_sOpXptmEcBDI4IX9Gfz9-2a6his/edit#gid=0\"\",\"\"RWA!F:BZ\"\"),44,0))\"),\"\")","v":""},{"$f":"IFERROR(__xludf.DUMMYFUNCTION(\"iferror(VLOOKUP(B876,IMPORTRANGE(\"\"https://docs.google.com/spreadsheets/d/1-zcOrI_PgX9R0t6_sOpXptmEcBDI4IX9Gfz9-2a6his/edit#gid=0\"\",\"\"RWA!F:BZ\"\"),48,0))\"),\"\")","v":""},{"$f":"IFERROR(__xludf.DUMMYFUNCTION(\"iferror(VLOOKUP(B876,IMPORTRANGE(\"\"https://docs.google.com/spreadsheets/d/1-zcOrI_PgX9R0t6_sOpXptmEcBDI4IX9Gfz9-2a6his/edit#gid=0\"\",\"\"RWA!F:BZ\"\"),49,0))\"),\"\")","v":""}]
[{"$nulls":4},{"$f":"IFERROR(__xludf.DUMMYFUNCTION(\"iferror(VLOOKUP(B877,IMPORTRANGE(\"\"https://docs.google.com/spreadsheets/d/1-zcOrI_PgX9R0t6_sOpXptmEcBDI4IX9Gfz9-2a6his/edit#gid=0\"\",\"\"RWA!F:BZ\"\"),44,0))\"),\"\")","v":""},{"$f":"IFERROR(__xludf.DUMMYFUNCTION(\"iferror(VLOOKUP(B877,IMPORTRANGE(\"\"https://docs.google.com/spreadsheets/d/1-zcOrI_PgX9R0t6_sOpXptmEcBDI4IX9Gfz9-2a6his/edit#gid=0\"\",\"\"RWA!F:BZ\"\"),48,0))\"),\"\")","v":""},{"$f":"IFERROR(__xludf.DUMMYFUNCTION(\"iferror(VLOOKUP(B877,IMPORTRANGE(\"\"https://docs.google.com/spreadsheets/d/1-zcOrI_PgX9R0t6_sOpXptmEcBDI4IX9Gfz9-2a6his/edit#gid=0\"\",\"\"RWA!F:BZ\"\"),49,0))\"),\"\")","v":""}]
[{"$nulls":4},{"$f":"IFERROR(__xludf.DUMMYFUNCTION(\"iferror(VLOOKUP(B878,IMPORTRANGE(\"\"https://docs.google.com/spreadsheets/d/1-zcOrI_PgX9R0t6_sOpXptmEcBDI4IX9Gfz9-2a6his/edit#gid=0\"\",\"\"RWA!F:BZ\"\"),44,0))\"),\"\")","v":""},{"$f":"IFERROR(__xludf.DUMMYFUNCTION(\"iferror(VLOOKUP(B878,IMPORTRANGE(\"\"https://docs.google.com/spreadsheets/d/1-zcOrI_PgX9R0t6_sOpXptmEcBDI4IX9Gfz9-2a6his/edit#gid=0\"\",\"\"RWA!F:BZ\"\"),48,0))\"),\"\")","v":""},{"$f":"IFERROR(__xludf.DUMMYFUNCTION(\"iferror(VLOOKUP(B878,IMPORTRANGE(\"\"https://docs.google.com/spreadsheets/d/1-zcOrI_PgX9R0t6_sOpXptmEcBDI4IX9Gfz9-2a6his/edit#gid=0\"\",\"\"RWA!F:BZ\"\"),49,0))\"),\"\")","v":""}]
[{"$nulls":4},{"$f":"IFERROR(__xludf.DUMMYFUNCTION(\"iferror(VLOOKUP(B879,IMPORTRANGE(\"\"https://docs.google.com/spreadsheets/d/1-zcOrI_PgX9R0t6_sOpXptmEcBDI4IX9Gfz9-2a6his/edit#gid=0\"\",\"\"RWA!F:BZ\"\"),44,0))\"),\"\")","v":""},{"$f":"IFERROR(__xludf.DUMMYFUNCTION(\"iferror(VLOOKUP(B879,IMPORTRANGE(\"\"https://docs.google.com/spreadsheets/d/1-zcOrI_PgX9R0t6_sOpXptmEcBDI4IX9Gfz9-2a6his/edit#gid=0\"\",\"\"RWA!F:BZ\"\"),48,0))\"),\"\")","v":""},{"$f":"IFERROR(__xludf.DUMMYFUNCTION(\"iferror(VLOOKUP(B879,IMPORTRANGE(\"\"https://docs.google.com/spreadsheets/d/1-zcOrI_PgX9R0t6_sOpXptmEcBDI4IX9Gfz9-2a6his/edit#gid=0\"\",\"\"RWA!F:BZ\"\"),49,0))\"),\"\")","v":""}]
[{"$nulls":4},{"$f":"IFERROR(__xludf.DUMMYFUNCTION(\"iferror(VLOOKUP(B880,IMPORTRANGE(\"\"https://docs.google.com/spreadsheets/d/1-zcOrI_PgX9R0t6_sOpXptmEcBDI4IX9Gfz9-2a6his/edit#gid=0\"\",\"\"RWA!F:BZ\"\"),44,0))\"),\"\")","v":""},{"$f":"IFERROR(__xludf.DUMMYFUNCTION(\"iferror(VLOOKUP(B880,IMPORTRANGE(\"\"https://docs.google.com/spreadsheets/d/1-zcOrI_PgX9R0t6_sOpXptmEcBDI4IX9Gfz9-2a6his/edit#gid=0\"\",\"\"RWA!F:BZ\"\"),48,0))\"),\"\")","v":""},{"$f":"IFERROR(__xludf.DUMMYFUNCTION(\"iferror(VLOOKUP(B880,IMPORTRANGE(\"\"https://docs.google.com/spreadsheets/d/1-zcOrI_PgX9R0t6_sOpXptmEcBDI4IX9Gfz9-2a6his/edit#gid=0\"\",\"\"RWA!F:BZ\"\"),49,0))\"),\"\")","v":""}]
[{"$nulls":4},{"$f":"IFERROR(__xludf.DUMMYFUNCTION(\"iferror(VLOOKUP(B881,IMPORTRANGE(\"\"https://docs.google.com/spreadsheets/d/1-zcOrI_PgX9R0t6_sOpXptmEcBDI4IX9Gfz9-2a6his/edit#gid=0\"\",\"\"RWA!F:BZ\"\"),44,0))\"),\"\")","v":""},{"$f":"IFERROR(__xludf.DUMMYFUNCTION(\"iferror(VLOOKUP(B881,IMPORTRANGE(\"\"https://docs.google.com/spreadsheets/d/1-zcOrI_PgX9R0t6_sOpXptmEcBDI4IX9Gfz9-2a6his/edit#gid=0\"\",\"\"RWA!F:BZ\"\"),48,0))\"),\"\")","v":""},{"$f":"IFERROR(__xludf.DUMMYFUNCTION(\"iferror(VLOOKUP(B881,IMPORTRANGE(\"\"https://docs.google.com/spreadsheets/d/1-zcOrI_PgX9R0t6_sOpXptmEcBDI4IX9Gfz9-2a6his/edit#gid=0\"\",\"\"RWA!F:BZ\"\"),49,0))\"),\"\")","v":""}]
[{"$nulls":4},{"$f":"IFERROR(__xludf.DUMMYFUNCTION(\"iferror(VLOOKUP(B882,IMPORTRANGE(\"\"https://docs.google.com/spreadsheets/d/1-zcOrI_PgX9R0t6_sOpXptmEcBDI4IX9Gfz9-2a6his/edit#gid=0\"\",\"\"RWA!F:BZ\"\"),44,0))\"),\"\")","v":""},{"$f":"IFERROR(__xludf.DUMMYFUNCTION(\"iferror(VLOOKUP(B882,IMPORTRANGE(\"\"https://docs.google.com/spreadsheets/d/1-zcOrI_PgX9R0t6_sOpXptmEcBDI4IX9Gfz9-2a6his/edit#gid=0\"\",\"\"RWA!F:BZ\"\"),48,0))\"),\"\")","v":""},{"$f":"IFERROR(__xludf.DUMMYFUNCTION(\"iferror(VLOOKUP(B882,IMPORTRANGE(\"\"https://docs.google.com/spreadsheets/d/1-zcOrI_PgX9R0t6_sOpXptmEcBDI4IX9Gfz9-2a6his/edit#gid=0\"\",\"\"RWA!F:BZ\"\"),49,0))\"),\"\")","v":""}]
[{"$nulls":4},{"$f":"IFERROR(__xludf.DUMMYFUNCTION(\"iferror(VLOOKUP(B883,IMPORTRANGE(\"\"https://docs.google.com/spreadsheets/d/1-zcOrI_PgX9R0t6_sOpXptmEcBDI4IX9Gfz9-2a6his/edit#gid=0\"\",\"\"RWA!F:BZ\"\"),44,0))\"),\"\")","v":""},{"$f":"IFERROR(__xludf.DUMMYFUNCTION(\"iferror(VLOOKUP(B883,IMPORTRANGE(\"\"https://docs.google.com/spreadsheets/d/1-zcOrI_PgX9R0t6_sOpXptmEcBDI4IX9Gfz9-2a6his/edit#gid=0\"\",\"\"RWA!F:BZ\"\"),48,0))\"),\"\")","v":""},{"$f":"IFERROR(__xludf.DUMMYFUNCTION(\"iferror(VLOOKUP(B883,IMPORTRANGE(\"\"https://docs.google.com/spreadsheets/d/1-zcOrI_PgX9R0t6_sOpXptmEcBDI4IX9Gfz9-2a6his/edit#gid=0\"\",\"\"RWA!F:BZ\"\"),49,0))\"),\"\")","v":""}]
[{"$nulls":4},{"$f":"IFERROR(__xludf.DUMMYFUNCTION(\"iferror(VLOOKUP(B884,IMPORTRANGE(\"\"https://docs.google.com/spreadsheets/d/1-zcOrI_PgX9R0t6_sOpXptmEcBDI4IX9Gfz9-2a6his/edit#gid=0\"\",\"\"RWA!F:BZ\"\"),44,0))\"),\"\")","v":""},{"$f":"IFERROR(__xludf.DUMMYFUNCTION(\"iferror(VLOOKUP(B884,IMPORTRANGE(\"\"https://docs.google.com/spreadsheets/d/1-zcOrI_PgX9R0t6_sOpXptmEcBDI4IX9Gfz9-2a6his/edit#gid=0\"\",\"\"RWA!F:BZ\"\"),48,0))\"),\"\")","v":""},{"$f":"IFERROR(__xludf.DUMMYFUNCTION(\"iferror(VLOOKUP(B884,IMPORTRANGE(\"\"https://docs.google.com/spreadsheets/d/1-zcOrI_PgX9R0t6_sOpXptmEcBDI4IX9Gfz9-2a6his/edit#gid=0\"\",\"\"RWA!F:BZ\"\"),49,0))\"),\"\")","v":""}]
[{"$nulls":4},{"$f":"IFERROR(__xludf.DUMMYFUNCTION(\"iferror(VLOOKUP(B885,IMPORTRANGE(\"\"https://docs.google.com/spreadsheets/d/1-zcOrI_PgX9R0t6_sOpXptmEcBDI4IX9Gfz9-2a6his/edit#gid=0\"\",\"\"RWA!F:BZ\"\"),44,0))\"),\"\")","v":""},{"$f":"IFERROR(__xludf.DUMMYFUNCTION(\"iferror(VLOOKUP(B885,IMPORTRANGE(\"\"https://docs.google.com/spreadsheets/d/1-zcOrI_PgX9R0t6_sOpXptmEcBDI4IX9Gfz9-2a6his/edit#gid=0\"\",\"\"RWA!F:BZ\"\"),48,0))\"),\"\")","v":""},{"$f":"IFERROR(__xludf.DUMMYFUNCTION(\"iferror(VLOOKUP(B885,IMPORTRANGE(\"\"https://docs.google.com/spreadsheets/d/1-zcOrI_PgX9R0t6_sOpXptmEcBDI4IX9Gfz9-2a6his/edit#gid=0\"\",\"\"RWA!F:BZ\"\"),49,0))\"),\"\")","v":""}]
[{"$nulls":4},{"$f":"IFERROR(__xludf.DUMMYFUNCTION(\"iferror(VLOOKUP(B886,IMPORTRANGE(\"\"https://docs.google.com/spreadsheets/d/1-zcOrI_PgX9R0t6_sOpXptmEcBDI4IX9Gfz9-2a6his/edit#gid=0\"\",\"\"RWA!F:BZ\"\"),44,0))\"),\"\")","v":""},{"$f":"IFERROR(__xludf.DUMMYFUNCTION(\"iferror(VLOOKUP(B886,IMPORTRANGE(\"\"https://docs.google.com/spreadsheets/d/1-zcOrI_PgX9R0t6_sOpXptmEcBDI4IX9Gfz9-2a6his/edit#gid=0\"\",\"\"RWA!F:BZ\"\"),48,0))\"),\"\")","v":""},{"$f":"IFERROR(__xludf.DUMMYFUNCTION(\"iferror(VLOOKUP(B886,IMPORTRANGE(\"\"https://docs.google.com/spreadsheets/d/1-zcOrI_PgX9R0t6_sOpXptmEcBDI4IX9Gfz9-2a6his/edit#gid=0\"\",\"\"RWA!F:BZ\"\"),49,0))\"),\"\")","v":""}]
[{"$nulls":4},{"$f":"IFERROR(__xludf.DUMMYFUNCTION(\"iferror(VLOOKUP(B887,IMPORTRANGE(\"\"https://docs.google.com/spreadsheets/d/1-zcOrI_PgX9R0t6_sOpXptmEcBDI4IX9Gfz9-2a6his/edit#gid=0\"\",\"\"RWA!F:BZ\"\"),44,0))\"),\"\")","v":""},{"$f":"IFERROR(__xludf.DUMMYFUNCTION(\"iferror(VLOOKUP(B887,IMPORTRANGE(\"\"https://docs.google.com/spreadsheets/d/1-zcOrI_PgX9R0t6_sOpXptmEcBDI4IX9Gfz9-2a6his/edit#gid=0\"\",\"\"RWA!F:BZ\"\"),48,0))\"),\"\")","v":""},{"$f":"IFERROR(__xludf.DUMMYFUNCTION(\"iferror(VLOOKUP(B887,IMPORTRANGE(\"\"https://docs.google.com/spreadsheets/d/1-zcOrI_PgX9R0t6_sOpXptmEcBDI4IX9Gfz9-2a6his/edit#gid=0\"\",\"\"RWA!F:BZ\"\"),49,0))\"),\"\")","v":""}]
[{"$nulls":4},{"$f":"IFERROR(__xludf.DUMMYFUNCTION(\"iferror(VLOOKUP(B888,IMPORTRANGE(\"\"https://docs.google.com/spreadsheets/d/1-zcOrI_PgX9R0t6_sOpXptmEcBDI4IX9Gfz9-2a6his/edit#gid=0\"\",\"\"RWA!F:BZ\"\"),44,0))\"),\"\")","v":""},{"$f":"IFERROR(__xludf.DUMMYFUNCTION(\"iferror(VLOOKUP(B888,IMPORTRANGE(\"\"https://docs.google.com/spreadsheets/d/1-zcOrI_PgX9R0t6_sOpXptmEcBDI4IX9Gfz9-2a6his/edit#gid=0\"\",\"\"RWA!F:BZ\"\"),48,0))\"),\"\")","v":""},{"$f":"IFERROR(__xludf.DUMMYFUNCTION(\"iferror(VLOOKUP(B888,IMPORTRANGE(\"\"https://docs.google.com/spreadsheets/d/1-zcOrI_PgX9R0t6_sOpXptmEcBDI4IX9Gfz9-2a6his/edit#gid=0\"\",\"\"RWA!F:BZ\"\"),49,0))\"),\"\")","v":""}]
[{"$nulls":4},{"$f":"IFERROR(__xludf.DUMMYFUNCTION(\"iferror(VLOOKUP(B889,IMPORTRANGE(\"\"https://docs.google.com/spreadsheets/d/1-zcOrI_PgX9R0t6_sOpXptmEcBDI4IX9Gfz9-2a6his/edit#gid=0\"\",\"\"RWA!F:BZ\"\"),44,0))\"),\"\")","v":""},{"$f":"IFERROR(__xludf.DUMMYFUNCTION(\"iferror(VLOOKUP(B889,IMPORTRANGE(\"\"https://docs.google.com/spreadsheets/d/1-zcOrI_PgX9R0t6_sOpXptmEcBDI4IX9Gfz9-2a6his/edit#gid=0\"\",\"\"RWA!F:BZ\"\"),48,0))\"),\"\")","v":""},{"$f":"IFERROR(__xludf.DUMMYFUNCTION(\"iferror(VLOOKUP(B889,IMPORTRANGE(\"\"https://docs.google.com/spreadsheets/d/1-zcOrI_PgX9R0t6_sOpXptmEcBDI4IX9Gfz9-2a6his/edit#gid=0\"\",\"\"RWA!F:BZ\"\"),49,0))\"),\"\")","v":""}]
[{"$nulls":4},{"$f":"IFERROR(__xludf.DUMMYFUNCTION(\"iferror(VLOOKUP(B890,IMPORTRANGE(\"\"https://docs.google.com/spreadsheets/d/1-zcOrI_PgX9R0t6_sOpXptmEcBDI4IX9Gfz9-2a6his/edit#gid=0\"\",\"\"RWA!F:BZ\"\"),44,0))\"),\"\")","v":""},{"$f":"IFERROR(__xludf.DUMMYFUNCTION(\"iferror(VLOOKUP(B890,IMPORTRANGE(\"\"https://docs.google.com/spreadsheets/d/1-zcOrI_PgX9R0t6_sOpXptmEcBDI4IX9Gfz9-2a6his/edit#gid=0\"\",\"\"RWA!F:BZ\"\"),48,0))\"),\"\")","v":""},{"$f":"IFERROR(__xludf.DUMMYFUNCTION(\"iferror(VLOOKUP(B890,IMPORTRANGE(\"\"https://docs.google.com/spreadsheets/d/1-zcOrI_PgX9R0t6_sOpXptmEcBDI4IX9Gfz9-2a6his/edit#gid=0\"\",\"\"RWA!F:BZ\"\"),49,0))\"),\"\")","v":""}]
[{"$nulls":4},{"$f":"IFERROR(__xludf.DUMMYFUNCTION(\"iferror(VLOOKUP(B891,IMPORTRANGE(\"\"https://docs.google.com/spreadsheets/d/1-zcOrI_PgX9R0t6_sOpXptmEcBDI4IX9Gfz9-2a6his/edit#gid=0\"\",\"\"RWA!F:BZ\"\"),44,0))\"),\"\")","v":""},{"$f":"IFERROR(__xludf.DUMMYFUNCTION(\"iferror(VLOOKUP(B891,IMPORTRANGE(\"\"https://docs.google.com/spreadsheets/d/1-zcOrI_PgX9R0t6_sOpXptmEcBDI4IX9Gfz9-2a6his/edit#gid=0\"\",\"\"RWA!F:BZ\"\"),48,0))\"),\"\")","v":""},{"$f":"IFERROR(__xludf.DUMMYFUNCTION(\"iferror(VLOOKUP(B891,IMPORTRANGE(\"\"https://docs.google.com/spreadsheets/d/1-zcOrI_PgX9R0t6_sOpXptmEcBDI4IX9Gfz9-2a6his/edit#gid=0\"\",\"\"RWA!F:BZ\"\"),49,0))\"),\"\")","v":""}]
[{"$nulls":4},{"$f":"IFERROR(__xludf.DUMMYFUNCTION(\"iferror(VLOOKUP(B892,IMPORTRANGE(\"\"https://docs.google.com/spreadsheets/d/1-zcOrI_PgX9R0t6_sOpXptmEcBDI4IX9Gfz9-2a6his/edit#gid=0\"\",\"\"RWA!F:BZ\"\"),44,0))\"),\"\")","v":""},{"$f":"IFERROR(__xludf.DUMMYFUNCTION(\"iferror(VLOOKUP(B892,IMPORTRANGE(\"\"https://docs.google.com/spreadsheets/d/1-zcOrI_PgX9R0t6_sOpXptmEcBDI4IX9Gfz9-2a6his/edit#gid=0\"\",\"\"RWA!F:BZ\"\"),48,0))\"),\"\")","v":""},{"$f":"IFERROR(__xludf.DUMMYFUNCTION(\"iferror(VLOOKUP(B892,IMPORTRANGE(\"\"https://docs.google.com/spreadsheets/d/1-zcOrI_PgX9R0t6_sOpXptmEcBDI4IX9Gfz9-2a6his/edit#gid=0\"\",\"\"RWA!F:BZ\"\"),49,0))\"),\"\")","v":""}]
[{"$nulls":4},{"$f":"IFERROR(__xludf.DUMMYFUNCTION(\"iferror(VLOOKUP(B893,IMPORTRANGE(\"\"https://docs.google.com/spreadsheets/d/1-zcOrI_PgX9R0t6_sOpXptmEcBDI4IX9Gfz9-2a6his/edit#gid=0\"\",\"\"RWA!F:BZ\"\"),44,0))\"),\"\")","v":""},{"$f":"IFERROR(__xludf.DUMMYFUNCTION(\"iferror(VLOOKUP(B893,IMPORTRANGE(\"\"https://docs.google.com/spreadsheets/d/1-zcOrI_PgX9R0t6_sOpXptmEcBDI4IX9Gfz9-2a6his/edit#gid=0\"\",\"\"RWA!F:BZ\"\"),48,0))\"),\"\")","v":""},{"$f":"IFERROR(__xludf.DUMMYFUNCTION(\"iferror(VLOOKUP(B893,IMPORTRANGE(\"\"https://docs.google.com/spreadsheets/d/1-zcOrI_PgX9R0t6_sOpXptmEcBDI4IX9Gfz9-2a6his/edit#gid=0\"\",\"\"RWA!F:BZ\"\"),49,0))\"),\"\")","v":""}]
[{"$nulls":4},{"$f":"IFERROR(__xludf.DUMMYFUNCTION(\"iferror(VLOOKUP(B894,IMPORTRANGE(\"\"https://docs.google.com/spreadsheets/d/1-zcOrI_PgX9R0t6_sOpXptmEcBDI4IX9Gfz9-2a6his/edit#gid=0\"\",\"\"RWA!F:BZ\"\"),44,0))\"),\"\")","v":""},{"$f":"IFERROR(__xludf.DUMMYFUNCTION(\"iferror(VLOOKUP(B894,IMPORTRANGE(\"\"https://docs.google.com/spreadsheets/d/1-zcOrI_PgX9R0t6_sOpXptmEcBDI4IX9Gfz9-2a6his/edit#gid=0\"\",\"\"RWA!F:BZ\"\"),48,0))\"),\"\")","v":""},{"$f":"IFERROR(__xludf.DUMMYFUNCTION(\"iferror(VLOOKUP(B894,IMPORTRANGE(\"\"https://docs.google.com/spreadsheets/d/1-zcOrI_PgX9R0t6_sOpXptmEcBDI4IX9Gfz9-2a6his/edit#gid=0\"\",\"\"RWA!F:BZ\"\"),49,0))\"),\"\")","v":""}]
[{"$nulls":4},{"$f":"IFERROR(__xludf.DUMMYFUNCTION(\"iferror(VLOOKUP(B895,IMPORTRANGE(\"\"https://docs.google.com/spreadsheets/d/1-zcOrI_PgX9R0t6_sOpXptmEcBDI4IX9Gfz9-2a6his/edit#gid=0\"\",\"\"RWA!F:BZ\"\"),44,0))\"),\"\")","v":""},{"$f":"IFERROR(__xludf.DUMMYFUNCTION(\"iferror(VLOOKUP(B895,IMPORTRANGE(\"\"https://docs.google.com/spreadsheets/d/1-zcOrI_PgX9R0t6_sOpXptmEcBDI4IX9Gfz9-2a6his/edit#gid=0\"\",\"\"RWA!F:BZ\"\"),48,0))\"),\"\")","v":""},{"$f":"IFERROR(__xludf.DUMMYFUNCTION(\"iferror(VLOOKUP(B895,IMPORTRANGE(\"\"https://docs.google.com/spreadsheets/d/1-zcOrI_PgX9R0t6_sOpXptmEcBDI4IX9Gfz9-2a6his/edit#gid=0\"\",\"\"RWA!F:BZ\"\"),49,0))\"),\"\")","v":""}]
[{"$nulls":4},{"$f":"IFERROR(__xludf.DUMMYFUNCTION(\"iferror(VLOOKUP(B896,IMPORTRANGE(\"\"https://docs.google.com/spreadsheets/d/1-zcOrI_PgX9R0t6_sOpXptmEcBDI4IX9Gfz9-2a6his/edit#gid=0\"\",\"\"RWA!F:BZ\"\"),44,0))\"),\"\")","v":""},{"$f":"IFERROR(__xludf.DUMMYFUNCTION(\"iferror(VLOOKUP(B896,IMPORTRANGE(\"\"https://docs.google.com/spreadsheets/d/1-zcOrI_PgX9R0t6_sOpXptmEcBDI4IX9Gfz9-2a6his/edit#gid=0\"\",\"\"RWA!F:BZ\"\"),48,0))\"),\"\")","v":""},{"$f":"IFERROR(__xludf.DUMMYFUNCTION(\"iferror(VLOOKUP(B896,IMPORTRANGE(\"\"https://docs.google.com/spreadsheets/d/1-zcOrI_PgX9R0t6_sOpXptmEcBDI4IX9Gfz9-2a6his/edit#gid=0\"\",\"\"RWA!F:BZ\"\"),49,0))\"),\"\")","v":""}]
[{"$nulls":4},{"$f":"IFERROR(__xludf.DUMMYFUNCTION(\"iferror(VLOOKUP(B897,IMPORTRANGE(\"\"https://docs.google.com/spreadsheets/d/1-zcOrI_PgX9R0t6_sOpXptmEcBDI4IX9Gfz9-2a6his/edit#gid=0\"\",\"\"RWA!F:BZ\"\"),44,0))\"),\"\")","v":""},{"$f":"IFERROR(__xludf.DUMMYFUNCTION(\"iferror(VLOOKUP(B897,IMPORTRANGE(\"\"https://docs.google.com/spreadsheets/d/1-zcOrI_PgX9R0t6_sOpXptmEcBDI4IX9Gfz9-2a6his/edit#gid=0\"\",\"\"RWA!F:BZ\"\"),48,0))\"),\"\")","v":""},{"$f":"IFERROR(__xludf.DUMMYFUNCTION(\"iferror(VLOOKUP(B897,IMPORTRANGE(\"\"https://docs.google.com/spreadsheets/d/1-zcOrI_PgX9R0t6_sOpXptmEcBDI4IX9Gfz9-2a6his/edit#gid=0\"\",\"\"RWA!F:BZ\"\"),49,0))\"),\"\")","v":""}]
[{"$nulls":4},{"$f":"IFERROR(__xludf.DUMMYFUNCTION(\"iferror(VLOOKUP(B898,IMPORTRANGE(\"\"https://docs.google.com/spreadsheets/d/1-zcOrI_PgX9R0t6_sOpXptmEcBDI4IX9Gfz9-2a6his/edit#gid=0\"\",\"\"RWA!F:BZ\"\"),44,0))\"),\"\")","v":""},{"$f":"IFERROR(__xludf.DUMMYFUNCTION(\"iferror(VLOOKUP(B898,IMPORTRANGE(\"\"https://docs.google.com/spreadsheets/d/1-zcOrI_PgX9R0t6_sOpXptmEcBDI4IX9Gfz9-2a6his/edit#gid=0\"\",\"\"RWA!F:BZ\"\"),48,0))\"),\"\")","v":""},{"$f":"IFERROR(__xludf.DUMMYFUNCTION(\"iferror(VLOOKUP(B898,IMPORTRANGE(\"\"https://docs.google.com/spreadsheets/d/1-zcOrI_PgX9R0t6_sOpXptmEcBDI4IX9Gfz9-2a6his/edit#gid=0\"\",\"\"RWA!F:BZ\"\"),49,0))\"),\"\")","v":""}]
[{"$nulls":4},{"$f":"IFERROR(__xludf.DUMMYFUNCTION(\"iferror(VLOOKUP(B899,IMPORTRANGE(\"\"https://docs.google.com/spreadsheets/d/1-zcOrI_PgX9R0t6_sOpXptmEcBDI4IX9Gfz9-2a6his/edit#gid=0\"\",\"\"RWA!F:BZ\"\"),44,0))\"),\"\")","v":""},{"$f":"IFERROR(__xludf.DUMMYFUNCTION(\"iferror(VLOOKUP(B899,IMPORTRANGE(\"\"https://docs.google.com/spreadsheets/d/1-zcOrI_PgX9R0t6_sOpXptmEcBDI4IX9Gfz9-2a6his/edit#gid=0\"\",\"\"RWA!F:BZ\"\"),48,0))\"),\"\")","v":""},{"$f":"IFERROR(__xludf.DUMMYFUNCTION(\"iferror(VLOOKUP(B899,IMPORTRANGE(\"\"https://docs.google.com/spreadsheets/d/1-zcOrI_PgX9R0t6_sOpXptmEcBDI4IX9Gfz9-2a6his/edit#gid=0\"\",\"\"RWA!F:BZ\"\"),49,0))\"),\"\")","v":""}]
[{"$nulls":4},{"$f":"IFERROR(__xludf.DUMMYFUNCTION(\"iferror(VLOOKUP(B900,IMPORTRANGE(\"\"https://docs.google.com/spreadsheets/d/1-zcOrI_PgX9R0t6_sOpXptmEcBDI4IX9Gfz9-2a6his/edit#gid=0\"\",\"\"RWA!F:BZ\"\"),44,0))\"),\"\")","v":""},{"$f":"IFERROR(__xludf.DUMMYFUNCTION(\"iferror(VLOOKUP(B900,IMPORTRANGE(\"\"https://docs.google.com/spreadsheets/d/1-zcOrI_PgX9R0t6_sOpXptmEcBDI4IX9Gfz9-2a6his/edit#gid=0\"\",\"\"RWA!F:BZ\"\"),48,0))\"),\"\")","v":""},{"$f":"IFERROR(__xludf.DUMMYFUNCTION(\"iferror(VLOOKUP(B900,IMPORTRANGE(\"\"https://docs.google.com/spreadsheets/d/1-zcOrI_PgX9R0t6_sOpXptmEcBDI4IX9Gfz9-2a6his/edit#gid=0\"\",\"\"RWA!F:BZ\"\"),49,0))\"),\"\")","v":""}]
[{"$nulls":4},{"$f":"IFERROR(__xludf.DUMMYFUNCTION(\"iferror(VLOOKUP(B901,IMPORTRANGE(\"\"https://docs.google.com/spreadsheets/d/1-zcOrI_PgX9R0t6_sOpXptmEcBDI4IX9Gfz9-2a6his/edit#gid=0\"\",\"\"RWA!F:BZ\"\"),44,0))\"),\"\")","v":""},{"$f":"IFERROR(__xludf.DUMMYFUNCTION(\"iferror(VLOOKUP(B901,IMPORTRANGE(\"\"https://docs.google.com/spreadsheets/d/1-zcOrI_PgX9R0t6_sOpXptmEcBDI4IX9Gfz9-2a6his/edit#gid=0\"\",\"\"RWA!F:BZ\"\"),48,0))\"),\"\")","v":""},{"$f":"IFERROR(__xludf.DUMMYFUNCTION(\"iferror(VLOOKUP(B901,IMPORTRANGE(\"\"https://docs.google.com/spreadsheets/d/1-zcOrI_PgX9R0t6_sOpXptmEcBDI4IX9Gfz9-2a6his/edit#gid=0\"\",\"\"RWA!F:BZ\"\"),49,0))\"),\"\")","v":""}]
[{"$nulls":4},{"$f":"IFERROR(__xludf.DUMMYFUNCTION(\"iferror(VLOOKUP(B902,IMPORTRANGE(\"\"https://docs.google.com/spreadsheets/d/1-zcOrI_PgX9R0t6_sOpXptmEcBDI4IX9Gfz9-2a6his/edit#gid=0\"\",\"\"RWA!F:BZ\"\"),44,0))\"),\"\")","v":""},{"$f":"IFERROR(__xludf.DUMMYFUNCTION(\"iferror(VLOOKUP(B902,IMPORTRANGE(\"\"https://docs.google.com/spreadsheets/d/1-zcOrI_PgX9R0t6_sOpXptmEcBDI4IX9Gfz9-2a6his/edit#gid=0\"\",\"\"RWA!F:BZ\"\"),48,0))\"),\"\")","v":""},{"$f":"IFERROR(__xludf.DUMMYFUNCTION(\"iferror(VLOOKUP(B902,IMPORTRANGE(\"\"https://docs.google.com/spreadsheets/d/1-zcOrI_PgX9R0t6_sOpXptmEcBDI4IX9Gfz9-2a6his/edit#gid=0\"\",\"\"RWA!F:BZ\"\"),49,0))\"),\"\")","v":""}]
[{"$nulls":4},{"$f":"IFERROR(__xludf.DUMMYFUNCTION(\"iferror(VLOOKUP(B903,IMPORTRANGE(\"\"https://docs.google.com/spreadsheets/d/1-zcOrI_PgX9R0t6_sOpXptmEcBDI4IX9Gfz9-2a6his/edit#gid=0\"\",\"\"RWA!F:BZ\"\"),44,0))\"),\"\")","v":""},{"$f":"IFERROR(__xludf.DUMMYFUNCTION(\"iferror(VLOOKUP(B903,IMPORTRANGE(\"\"https://docs.google.com/spreadsheets/d/1-zcOrI_PgX9R0t6_sOpXptmEcBDI4IX9Gfz9-2a6his/edit#gid=0\"\",\"\"RWA!F:BZ\"\"),48,0))\"),\"\")","v":""},{"$f":"IFERROR(__xludf.DUMMYFUNCTION(\"iferror(VLOOKUP(B903,IMPORTRANGE(\"\"https://docs.google.com/spreadsheets/d/1-zcOrI_PgX9R0t6_sOpXptmEcBDI4IX9Gfz9-2a6his/edit#gid=0\"\",\"\"RWA!F:BZ\"\"),49,0))\"),\"\")","v":""}]
[{"$nulls":4},{"$f":"IFERROR(__xludf.DUMMYFUNCTION(\"iferror(VLOOKUP(B904,IMPORTRANGE(\"\"https://docs.google.com/spreadsheets/d/1-zcOrI_PgX9R0t6_sOpXptmEcBDI4IX9Gfz9-2a6his/edit#gid=0\"\",\"\"RWA!F:BZ\"\"),44,0))\"),\"\")","v":""},{"$f":"IFERROR(__xludf.DUMMYFUNCTION(\"iferror(VLOOKUP(B904,IMPORTRANGE(\"\"https://docs.google.com/spreadsheets/d/1-zcOrI_PgX9R0t6_sOpXptmEcBDI4IX9Gfz9-2a6his/edit#gid=0\"\",\"\"RWA!F:BZ\"\"),48,0))\"),\"\")","v":""},{"$f":"IFERROR(__xludf.DUMMYFUNCTION(\"iferror(VLOOKUP(B904,IMPORTRANGE(\"\"https://docs.google.com/spreadsheets/d/1-zcOrI_PgX9R0t6_sOpXptmEcBDI4IX9Gfz9-2a6his/edit#gid=0\"\",\"\"RWA!F:BZ\"\"),49,0))\"),\"\")","v":""}]
[{"$nulls":4},{"$f":"IFERROR(__xludf.DUMMYFUNCTION(\"iferror(VLOOKUP(B905,IMPORTRANGE(\"\"https://docs.google.com/spreadsheets/d/1-zcOrI_PgX9R0t6_sOpXptmEcBDI4IX9Gfz9-2a6his/edit#gid=0\"\",\"\"RWA!F:BZ\"\"),44,0))\"),\"\")","v":""},{"$f":"IFERROR(__xludf.DUMMYFUNCTION(\"iferror(VLOOKUP(B905,IMPORTRANGE(\"\"https://docs.google.com/spreadsheets/d/1-zcOrI_PgX9R0t6_sOpXptmEcBDI4IX9Gfz9-2a6his/edit#gid=0\"\",\"\"RWA!F:BZ\"\"),48,0))\"),\"\")","v":""},{"$f":"IFERROR(__xludf.DUMMYFUNCTION(\"iferror(VLOOKUP(B905,IMPORTRANGE(\"\"https://docs.google.com/spreadsheets/d/1-zcOrI_PgX9R0t6_sOpXptmEcBDI4IX9Gfz9-2a6his/edit#gid=0\"\",\"\"RWA!F:BZ\"\"),49,0))\"),\"\")","v":""}]
[{"$nulls":4},{"$f":"IFERROR(__xludf.DUMMYFUNCTION(\"iferror(VLOOKUP(B906,IMPORTRANGE(\"\"https://docs.google.com/spreadsheets/d/1-zcOrI_PgX9R0t6_sOpXptmEcBDI4IX9Gfz9-2a6his/edit#gid=0\"\",\"\"RWA!F:BZ\"\"),44,0))\"),\"\")","v":""},{"$f":"IFERROR(__xludf.DUMMYFUNCTION(\"iferror(VLOOKUP(B906,IMPORTRANGE(\"\"https://docs.google.com/spreadsheets/d/1-zcOrI_PgX9R0t6_sOpXptmEcBDI4IX9Gfz9-2a6his/edit#gid=0\"\",\"\"RWA!F:BZ\"\"),48,0))\"),\"\")","v":""},{"$f":"IFERROR(__xludf.DUMMYFUNCTION(\"iferror(VLOOKUP(B906,IMPORTRANGE(\"\"https://docs.google.com/spreadsheets/d/1-zcOrI_PgX9R0t6_sOpXptmEcBDI4IX9Gfz9-2a6his/edit#gid=0\"\",\"\"RWA!F:BZ\"\"),49,0))\"),\"\")","v":""}]
[{"$nulls":4},{"$f":"IFERROR(__xludf.DUMMYFUNCTION(\"iferror(VLOOKUP(B907,IMPORTRANGE(\"\"https://docs.google.com/spreadsheets/d/1-zcOrI_PgX9R0t6_sOpXptmEcBDI4IX9Gfz9-2a6his/edit#gid=0\"\",\"\"RWA!F:BZ\"\"),44,0))\"),\"\")","v":""},{"$f":"IFERROR(__xludf.DUMMYFUNCTION(\"iferror(VLOOKUP(B907,IMPORTRANGE(\"\"https://docs.google.com/spreadsheets/d/1-zcOrI_PgX9R0t6_sOpXptmEcBDI4IX9Gfz9-2a6his/edit#gid=0\"\",\"\"RWA!F:BZ\"\"),48,0))\"),\"\")","v":""},{"$f":"IFERROR(__xludf.DUMMYFUNCTION(\"iferror(VLOOKUP(B907,IMPORTRANGE(\"\"https://docs.google.com/spreadsheets/d/1-zcOrI_PgX9R0t6_sOpXptmEcBDI4IX9Gfz9-2a6his/edit#gid=0\"\",\"\"RWA!F:BZ\"\"),49,0))\"),\"\")","v":""}]
[{"$nulls":4},{"$f":"IFERROR(__xludf.DUMMYFUNCTION(\"iferror(VLOOKUP(B908,IMPORTRANGE(\"\"https://docs.google.com/spreadsheets/d/1-zcOrI_PgX9R0t6_sOpXptmEcBDI4IX9Gfz9-2a6his/edit#gid=0\"\",\"\"RWA!F:BZ\"\"),44,0))\"),\"\")","v":""},{"$f":"IFERROR(__xludf.DUMMYFUNCTION(\"iferror(VLOOKUP(B908,IMPORTRANGE(\"\"https://docs.google.com/spreadsheets/d/1-zcOrI_PgX9R0t6_sOpXptmEcBDI4IX9Gfz9-2a6his/edit#gid=0\"\",\"\"RWA!F:BZ\"\"),48,0))\"),\"\")","v":""},{"$f":"IFERROR(__xludf.DUMMYFUNCTION(\"iferror(VLOOKUP(B908,IMPORTRANGE(\"\"https://docs.google.com/spreadsheets/d/1-zcOrI_PgX9R0t6_sOpXptmEcBDI4IX9Gfz9-2a6his/edit#gid=0\"\",\"\"RWA!F:BZ\"\"),49,0))\"),\"\")","v":""}]
[{"$nulls":4},{"$f":"IFERROR(__xludf.DUMMYFUNCTION(\"iferror(VLOOKUP(B909,IMPORTRANGE(\"\"https://docs.google.com/spreadsheets/d/1-zcOrI_PgX9R0t6_sOpXptmEcBDI4IX9Gfz9-2a6his/edit#gid=0\"\",\"\"RWA!F:BZ\"\"),44,0))\"),\"\")","v":""},{"$f":"IFERROR(__xludf.DUMMYFUNCTION(\"iferror(VLOOKUP(B909,IMPORTRANGE(\"\"https://docs.google.com/spreadsheets/d/1-zcOrI_PgX9R0t6_sOpXptmEcBDI4IX9Gfz9-2a6his/edit#gid=0\"\",\"\"RWA!F:BZ\"\"),48,0))\"),\"\")","v":""},{"$f":"IFERROR(__xludf.DUMMYFUNCTION(\"iferror(VLOOKUP(B909,IMPORTRANGE(\"\"https://docs.google.com/spreadsheets/d/1-zcOrI_PgX9R0t6_sOpXptmEcBDI4IX9Gfz9-2a6his/edit#gid=0\"\",\"\"RWA!F:BZ\"\"),49,0))\"),\"\")","v":""}]
[{"$nulls":4},{"$f":"IFERROR(__xludf.DUMMYFUNCTION(\"iferror(VLOOKUP(B910,IMPORTRANGE(\"\"https://docs.google.com/spreadsheets/d/1-zcOrI_PgX9R0t6_sOpXptmEcBDI4IX9Gfz9-2a6his/edit#gid=0\"\",\"\"RWA!F:BZ\"\"),44,0))\"),\"\")","v":""},{"$f":"IFERROR(__xludf.DUMMYFUNCTION(\"iferror(VLOOKUP(B910,IMPORTRANGE(\"\"https://docs.google.com/spreadsheets/d/1-zcOrI_PgX9R0t6_sOpXptmEcBDI4IX9Gfz9-2a6his/edit#gid=0\"\",\"\"RWA!F:BZ\"\"),48,0))\"),\"\")","v":""},{"$f":"IFERROR(__xludf.DUMMYFUNCTION(\"iferror(VLOOKUP(B910,IMPORTRANGE(\"\"https://docs.google.com/spreadsheets/d/1-zcOrI_PgX9R0t6_sOpXptmEcBDI4IX9Gfz9-2a6his/edit#gid=0\"\",\"\"RWA!F:BZ\"\"),49,0))\"),\"\")","v":""}]
[{"$nulls":4},{"$f":"IFERROR(__xludf.DUMMYFUNCTION(\"iferror(VLOOKUP(B911,IMPORTRANGE(\"\"https://docs.google.com/spreadsheets/d/1-zcOrI_PgX9R0t6_sOpXptmEcBDI4IX9Gfz9-2a6his/edit#gid=0\"\",\"\"RWA!F:BZ\"\"),44,0))\"),\"\")","v":""},{"$f":"IFERROR(__xludf.DUMMYFUNCTION(\"iferror(VLOOKUP(B911,IMPORTRANGE(\"\"https://docs.google.com/spreadsheets/d/1-zcOrI_PgX9R0t6_sOpXptmEcBDI4IX9Gfz9-2a6his/edit#gid=0\"\",\"\"RWA!F:BZ\"\"),48,0))\"),\"\")","v":""},{"$f":"IFERROR(__xludf.DUMMYFUNCTION(\"iferror(VLOOKUP(B911,IMPORTRANGE(\"\"https://docs.google.com/spreadsheets/d/1-zcOrI_PgX9R0t6_sOpXptmEcBDI4IX9Gfz9-2a6his/edit#gid=0\"\",\"\"RWA!F:BZ\"\"),49,0))\"),\"\")","v":""}]
[{"$nulls":4},{"$f":"IFERROR(__xludf.DUMMYFUNCTION(\"iferror(VLOOKUP(B912,IMPORTRANGE(\"\"https://docs.google.com/spreadsheets/d/1-zcOrI_PgX9R0t6_sOpXptmEcBDI4IX9Gfz9-2a6his/edit#gid=0\"\",\"\"RWA!F:BZ\"\"),44,0))\"),\"\")","v":""},{"$f":"IFERROR(__xludf.DUMMYFUNCTION(\"iferror(VLOOKUP(B912,IMPORTRANGE(\"\"https://docs.google.com/spreadsheets/d/1-zcOrI_PgX9R0t6_sOpXptmEcBDI4IX9Gfz9-2a6his/edit#gid=0\"\",\"\"RWA!F:BZ\"\"),48,0))\"),\"\")","v":""},{"$f":"IFERROR(__xludf.DUMMYFUNCTION(\"iferror(VLOOKUP(B912,IMPORTRANGE(\"\"https://docs.google.com/spreadsheets/d/1-zcOrI_PgX9R0t6_sOpXptmEcBDI4IX9Gfz9-2a6his/edit#gid=0\"\",\"\"RWA!F:BZ\"\"),49,0))\"),\"\")","v":""}]
[{"$nulls":4},{"$f":"IFERROR(__xludf.DUMMYFUNCTION(\"iferror(VLOOKUP(B913,IMPORTRANGE(\"\"https://docs.google.com/spreadsheets/d/1-zcOrI_PgX9R0t6_sOpXptmEcBDI4IX9Gfz9-2a6his/edit#gid=0\"\",\"\"RWA!F:BZ\"\"),44,0))\"),\"\")","v":""},{"$f":"IFERROR(__xludf.DUMMYFUNCTION(\"iferror(VLOOKUP(B913,IMPORTRANGE(\"\"https://docs.google.com/spreadsheets/d/1-zcOrI_PgX9R0t6_sOpXptmEcBDI4IX9Gfz9-2a6his/edit#gid=0\"\",\"\"RWA!F:BZ\"\"),48,0))\"),\"\")","v":""},{"$f":"IFERROR(__xludf.DUMMYFUNCTION(\"iferror(VLOOKUP(B913,IMPORTRANGE(\"\"https://docs.google.com/spreadsheets/d/1-zcOrI_PgX9R0t6_sOpXptmEcBDI4IX9Gfz9-2a6his/edit#gid=0\"\",\"\"RWA!F:BZ\"\"),49,0))\"),\"\")","v":""}]
[{"$nulls":4},{"$f":"IFERROR(__xludf.DUMMYFUNCTION(\"iferror(VLOOKUP(B914,IMPORTRANGE(\"\"https://docs.google.com/spreadsheets/d/1-zcOrI_PgX9R0t6_sOpXptmEcBDI4IX9Gfz9-2a6his/edit#gid=0\"\",\"\"RWA!F:BZ\"\"),44,0))\"),\"\")","v":""},{"$f":"IFERROR(__xludf.DUMMYFUNCTION(\"iferror(VLOOKUP(B914,IMPORTRANGE(\"\"https://docs.google.com/spreadsheets/d/1-zcOrI_PgX9R0t6_sOpXptmEcBDI4IX9Gfz9-2a6his/edit#gid=0\"\",\"\"RWA!F:BZ\"\"),48,0))\"),\"\")","v":""},{"$f":"IFERROR(__xludf.DUMMYFUNCTION(\"iferror(VLOOKUP(B914,IMPORTRANGE(\"\"https://docs.google.com/spreadsheets/d/1-zcOrI_PgX9R0t6_sOpXptmEcBDI4IX9Gfz9-2a6his/edit#gid=0\"\",\"\"RWA!F:BZ\"\"),49,0))\"),\"\")","v":""}]
[{"$nulls":4},{"$f":"IFERROR(__xludf.DUMMYFUNCTION(\"iferror(VLOOKUP(B915,IMPORTRANGE(\"\"https://docs.google.com/spreadsheets/d/1-zcOrI_PgX9R0t6_sOpXptmEcBDI4IX9Gfz9-2a6his/edit#gid=0\"\",\"\"RWA!F:BZ\"\"),44,0))\"),\"\")","v":""},{"$f":"IFERROR(__xludf.DUMMYFUNCTION(\"iferror(VLOOKUP(B915,IMPORTRANGE(\"\"https://docs.google.com/spreadsheets/d/1-zcOrI_PgX9R0t6_sOpXptmEcBDI4IX9Gfz9-2a6his/edit#gid=0\"\",\"\"RWA!F:BZ\"\"),48,0))\"),\"\")","v":""},{"$f":"IFERROR(__xludf.DUMMYFUNCTION(\"iferror(VLOOKUP(B915,IMPORTRANGE(\"\"https://docs.google.com/spreadsheets/d/1-zcOrI_PgX9R0t6_sOpXptmEcBDI4IX9Gfz9-2a6his/edit#gid=0\"\",\"\"RWA!F:BZ\"\"),49,0))\"),\"\")","v":""}]
[{"$nulls":4},{"$f":"IFERROR(__xludf.DUMMYFUNCTION(\"iferror(VLOOKUP(B916,IMPORTRANGE(\"\"https://docs.google.com/spreadsheets/d/1-zcOrI_PgX9R0t6_sOpXptmEcBDI4IX9Gfz9-2a6his/edit#gid=0\"\",\"\"RWA!F:BZ\"\"),44,0))\"),\"\")","v":""},{"$f":"IFERROR(__xludf.DUMMYFUNCTION(\"iferror(VLOOKUP(B916,IMPORTRANGE(\"\"https://docs.google.com/spreadsheets/d/1-zcOrI_PgX9R0t6_sOpXptmEcBDI4IX9Gfz9-2a6his/edit#gid=0\"\",\"\"RWA!F:BZ\"\"),48,0))\"),\"\")","v":""},{"$f":"IFERROR(__xludf.DUMMYFUNCTION(\"iferror(VLOOKUP(B916,IMPORTRANGE(\"\"https://docs.google.com/spreadsheets/d/1-zcOrI_PgX9R0t6_sOpXptmEcBDI4IX9Gfz9-2a6his/edit#gid=0\"\",\"\"RWA!F:BZ\"\"),49,0))\"),\"\")","v":""}]
[{"$nulls":4},{"$f":"IFERROR(__xludf.DUMMYFUNCTION(\"iferror(VLOOKUP(B917,IMPORTRANGE(\"\"https://docs.google.com/spreadsheets/d/1-zcOrI_PgX9R0t6_sOpXptmEcBDI4IX9Gfz9-2a6his/edit#gid=0\"\",\"\"RWA!F:BZ\"\"),44,0))\"),\"\")","v":""},{"$f":"IFERROR(__xludf.DUMMYFUNCTION(\"iferror(VLOOKUP(B917,IMPORTRANGE(\"\"https://docs.google.com/spreadsheets/d/1-zcOrI_PgX9R0t6_sOpXptmEcBDI4IX9Gfz9-2a6his/edit#gid=0\"\",\"\"RWA!F:BZ\"\"),48,0))\"),\"\")","v":""},{"$f":"IFERROR(__xludf.DUMMYFUNCTION(\"iferror(VLOOKUP(B917,IMPORTRANGE(\"\"https://docs.google.com/spreadsheets/d/1-zcOrI_PgX9R0t6_sOpXptmEcBDI4IX9Gfz9-2a6his/edit#gid=0\"\",\"\"RWA!F:BZ\"\"),49,0))\"),\"\")","v":""}]
[{"$nulls":4},{"$f":"IFERROR(__xludf.DUMMYFUNCTION(\"iferror(VLOOKUP(B918,IMPORTRANGE(\"\"https://docs.google.com/spreadsheets/d/1-zcOrI_PgX9R0t6_sOpXptmEcBDI4IX9Gfz9-2a6his/edit#gid=0\"\",\"\"RWA!F:BZ\"\"),44,0))\"),\"\")","v":""},{"$f":"IFERROR(__xludf.DUMMYFUNCTION(\"iferror(VLOOKUP(B918,IMPORTRANGE(\"\"https://docs.google.com/spreadsheets/d/1-zcOrI_PgX9R0t6_sOpXptmEcBDI4IX9Gfz9-2a6his/edit#gid=0\"\",\"\"RWA!F:BZ\"\"),48,0))\"),\"\")","v":""},{"$f":"IFERROR(__xludf.DUMMYFUNCTION(\"iferror(VLOOKUP(B918,IMPORTRANGE(\"\"https://docs.google.com/spreadsheets/d/1-zcOrI_PgX9R0t6_sOpXptmEcBDI4IX9Gfz9-2a6his/edit#gid=0\"\",\"\"RWA!F:BZ\"\"),49,0))\"),\"\")","v":""}]
[{"$nulls":4},{"$f":"IFERROR(__xludf.DUMMYFUNCTION(\"iferror(VLOOKUP(B919,IMPORTRANGE(\"\"https://docs.google.com/spreadsheets/d/1-zcOrI_PgX9R0t6_sOpXptmEcBDI4IX9Gfz9-2a6his/edit#gid=0\"\",\"\"RWA!F:BZ\"\"),44,0))\"),\"\")","v":""},{"$f":"IFERROR(__xludf.DUMMYFUNCTION(\"iferror(VLOOKUP(B919,IMPORTRANGE(\"\"https://docs.google.com/spreadsheets/d/1-zcOrI_PgX9R0t6_sOpXptmEcBDI4IX9Gfz9-2a6his/edit#gid=0\"\",\"\"RWA!F:BZ\"\"),48,0))\"),\"\")","v":""},{"$f":"IFERROR(__xludf.DUMMYFUNCTION(\"iferror(VLOOKUP(B919,IMPORTRANGE(\"\"https://docs.google.com/spreadsheets/d/1-zcOrI_PgX9R0t6_sOpXptmEcBDI4IX9Gfz9-2a6his/edit#gid=0\"\",\"\"RWA!F:BZ\"\"),49,0))\"),\"\")","v":""}]
[{"$nulls":4},{"$f":"IFERROR(__xludf.DUMMYFUNCTION(\"iferror(VLOOKUP(B920,IMPORTRANGE(\"\"https://docs.google.com/spreadsheets/d/1-zcOrI_PgX9R0t6_sOpXptmEcBDI4IX9Gfz9-2a6his/edit#gid=0\"\",\"\"RWA!F:BZ\"\"),44,0))\"),\"\")","v":""},{"$f":"IFERROR(__xludf.DUMMYFUNCTION(\"iferror(VLOOKUP(B920,IMPORTRANGE(\"\"https://docs.google.com/spreadsheets/d/1-zcOrI_PgX9R0t6_sOpXptmEcBDI4IX9Gfz9-2a6his/edit#gid=0\"\",\"\"RWA!F:BZ\"\"),48,0))\"),\"\")","v":""},{"$f":"IFERROR(__xludf.DUMMYFUNCTION(\"iferror(VLOOKUP(B920,IMPORTRANGE(\"\"https://docs.google.com/spreadsheets/d/1-zcOrI_PgX9R0t6_sOpXptmEcBDI4IX9Gfz9-2a6his/edit#gid=0\"\",\"\"RWA!F:BZ\"\"),49,0))\"),\"\")","v":""}]
[{"$nulls":4},{"$f":"IFERROR(__xludf.DUMMYFUNCTION(\"iferror(VLOOKUP(B921,IMPORTRANGE(\"\"https://docs.google.com/spreadsheets/d/1-zcOrI_PgX9R0t6_sOpXptmEcBDI4IX9Gfz9-2a6his/edit#gid=0\"\",\"\"RWA!F:BZ\"\"),44,0))\"),\"\")","v":""},{"$f":"IFERROR(__xludf.DUMMYFUNCTION(\"iferror(VLOOKUP(B921,IMPORTRANGE(\"\"https://docs.google.com/spreadsheets/d/1-zcOrI_PgX9R0t6_sOpXptmEcBDI4IX9Gfz9-2a6his/edit#gid=0\"\",\"\"RWA!F:BZ\"\"),48,0))\"),\"\")","v":""},{"$f":"IFERROR(__xludf.DUMMYFUNCTION(\"iferror(VLOOKUP(B921,IMPORTRANGE(\"\"https://docs.google.com/spreadsheets/d/1-zcOrI_PgX9R0t6_sOpXptmEcBDI4IX9Gfz9-2a6his/edit#gid=0\"\",\"\"RWA!F:BZ\"\"),49,0))\"),\"\")","v":""}]
[{"$nulls":4},{"$f":"IFERROR(__xludf.DUMMYFUNCTION(\"iferror(VLOOKUP(B922,IMPORTRANGE(\"\"https://docs.google.com/spreadsheets/d/1-zcOrI_PgX9R0t6_sOpXptmEcBDI4IX9Gfz9-2a6his/edit#gid=0\"\",\"\"RWA!F:BZ\"\"),44,0))\"),\"\")","v":""},{"$f":"IFERROR(__xludf.DUMMYFUNCTION(\"iferror(VLOOKUP(B922,IMPORTRANGE(\"\"https://docs.google.com/spreadsheets/d/1-zcOrI_PgX9R0t6_sOpXptmEcBDI4IX9Gfz9-2a6his/edit#gid=0\"\",\"\"RWA!F:BZ\"\"),48,0))\"),\"\")","v":""},{"$f":"IFERROR(__xludf.DUMMYFUNCTION(\"iferror(VLOOKUP(B922,IMPORTRANGE(\"\"https://docs.google.com/spreadsheets/d/1-zcOrI_PgX9R0t6_sOpXptmEcBDI4IX9Gfz9-2a6his/edit#gid=0\"\",\"\"RWA!F:BZ\"\"),49,0))\"),\"\")","v":""}]
[{"$nulls":4},{"$f":"IFERROR(__xludf.DUMMYFUNCTION(\"iferror(VLOOKUP(B923,IMPORTRANGE(\"\"https://docs.google.com/spreadsheets/d/1-zcOrI_PgX9R0t6_sOpXptmEcBDI4IX9Gfz9-2a6his/edit#gid=0\"\",\"\"RWA!F:BZ\"\"),44,0))\"),\"\")","v":""},{"$f":"IFERROR(__xludf.DUMMYFUNCTION(\"iferror(VLOOKUP(B923,IMPORTRANGE(\"\"https://docs.google.com/spreadsheets/d/1-zcOrI_PgX9R0t6_sOpXptmEcBDI4IX9Gfz9-2a6his/edit#gid=0\"\",\"\"RWA!F:BZ\"\"),48,0))\"),\"\")","v":""},{"$f":"IFERROR(__xludf.DUMMYFUNCTION(\"iferror(VLOOKUP(B923,IMPORTRANGE(\"\"https://docs.google.com/spreadsheets/d/1-zcOrI_PgX9R0t6_sOpXptmEcBDI4IX9Gfz9-2a6his/edit#gid=0\"\",\"\"RWA!F:BZ\"\"),49,0))\"),\"\")","v":""}]
[{"$nulls":4},{"$f":"IFERROR(__xludf.DUMMYFUNCTION(\"iferror(VLOOKUP(B924,IMPORTRANGE(\"\"https://docs.google.com/spreadsheets/d/1-zcOrI_PgX9R0t6_sOpXptmEcBDI4IX9Gfz9-2a6his/edit#gid=0\"\",\"\"RWA!F:BZ\"\"),44,0))\"),\"\")","v":""},{"$f":"IFERROR(__xludf.DUMMYFUNCTION(\"iferror(VLOOKUP(B924,IMPORTRANGE(\"\"https://docs.google.com/spreadsheets/d/1-zcOrI_PgX9R0t6_sOpXptmEcBDI4IX9Gfz9-2a6his/edit#gid=0\"\",\"\"RWA!F:BZ\"\"),48,0))\"),\"\")","v":""},{"$f":"IFERROR(__xludf.DUMMYFUNCTION(\"iferror(VLOOKUP(B924,IMPORTRANGE(\"\"https://docs.google.com/spreadsheets/d/1-zcOrI_PgX9R0t6_sOpXptmEcBDI4IX9Gfz9-2a6his/edit#gid=0\"\",\"\"RWA!F:BZ\"\"),49,0))\"),\"\")","v":""}]
[{"$nulls":4},{"$f":"IFERROR(__xludf.DUMMYFUNCTION(\"iferror(VLOOKUP(B925,IMPORTRANGE(\"\"https://docs.google.com/spreadsheets/d/1-zcOrI_PgX9R0t6_sOpXptmEcBDI4IX9Gfz9-2a6his/edit#gid=0\"\",\"\"RWA!F:BZ\"\"),44,0))\"),\"\")","v":""},{"$f":"IFERROR(__xludf.DUMMYFUNCTION(\"iferror(VLOOKUP(B925,IMPORTRANGE(\"\"https://docs.google.com/spreadsheets/d/1-zcOrI_PgX9R0t6_sOpXptmEcBDI4IX9Gfz9-2a6his/edit#gid=0\"\",\"\"RWA!F:BZ\"\"),48,0))\"),\"\")","v":""},{"$f":"IFERROR(__xludf.DUMMYFUNCTION(\"iferror(VLOOKUP(B925,IMPORTRANGE(\"\"https://docs.google.com/spreadsheets/d/1-zcOrI_PgX9R0t6_sOpXptmEcBDI4IX9Gfz9-2a6his/edit#gid=0\"\",\"\"RWA!F:BZ\"\"),49,0))\"),\"\")","v":""}]
[{"$nulls":4},{"$f":"IFERROR(__xludf.DUMMYFUNCTION(\"iferror(VLOOKUP(B926,IMPORTRANGE(\"\"https://docs.google.com/spreadsheets/d/1-zcOrI_PgX9R0t6_sOpXptmEcBDI4IX9Gfz9-2a6his/edit#gid=0\"\",\"\"RWA!F:BZ\"\"),44,0))\"),\"\")","v":""},{"$f":"IFERROR(__xludf.DUMMYFUNCTION(\"iferror(VLOOKUP(B926,IMPORTRANGE(\"\"https://docs.google.com/spreadsheets/d/1-zcOrI_PgX9R0t6_sOpXptmEcBDI4IX9Gfz9-2a6his/edit#gid=0\"\",\"\"RWA!F:BZ\"\"),48,0))\"),\"\")","v":""},{"$f":"IFERROR(__xludf.DUMMYFUNCTION(\"iferror(VLOOKUP(B926,IMPORTRANGE(\"\"https://docs.google.com/spreadsheets/d/1-zcOrI_PgX9R0t6_sOpXptmEcBDI4IX9Gfz9-2a6his/edit#gid=0\"\",\"\"RWA!F:BZ\"\"),49,0))\"),\"\")","v":""}]
[{"$nulls":4},{"$f":"IFERROR(__xludf.DUMMYFUNCTION(\"iferror(VLOOKUP(B927,IMPORTRANGE(\"\"https://docs.google.com/spreadsheets/d/1-zcOrI_PgX9R0t6_sOpXptmEcBDI4IX9Gfz9-2a6his/edit#gid=0\"\",\"\"RWA!F:BZ\"\"),44,0))\"),\"\")","v":""},{"$f":"IFERROR(__xludf.DUMMYFUNCTION(\"iferror(VLOOKUP(B927,IMPORTRANGE(\"\"https://docs.google.com/spreadsheets/d/1-zcOrI_PgX9R0t6_sOpXptmEcBDI4IX9Gfz9-2a6his/edit#gid=0\"\",\"\"RWA!F:BZ\"\"),48,0))\"),\"\")","v":""},{"$f":"IFERROR(__xludf.DUMMYFUNCTION(\"iferror(VLOOKUP(B927,IMPORTRANGE(\"\"https://docs.google.com/spreadsheets/d/1-zcOrI_PgX9R0t6_sOpXptmEcBDI4IX9Gfz9-2a6his/edit#gid=0\"\",\"\"RWA!F:BZ\"\"),49,0))\"),\"\")","v":""}]
[{"$nulls":4},{"$f":"IFERROR(__xludf.DUMMYFUNCTION(\"iferror(VLOOKUP(B928,IMPORTRANGE(\"\"https://docs.google.com/spreadsheets/d/1-zcOrI_PgX9R0t6_sOpXptmEcBDI4IX9Gfz9-2a6his/edit#gid=0\"\",\"\"RWA!F:BZ\"\"),44,0))\"),\"\")","v":""},{"$f":"IFERROR(__xludf.DUMMYFUNCTION(\"iferror(VLOOKUP(B928,IMPORTRANGE(\"\"https://docs.google.com/spreadsheets/d/1-zcOrI_PgX9R0t6_sOpXptmEcBDI4IX9Gfz9-2a6his/edit#gid=0\"\",\"\"RWA!F:BZ\"\"),48,0))\"),\"\")","v":""},{"$f":"IFERROR(__xludf.DUMMYFUNCTION(\"iferror(VLOOKUP(B928,IMPORTRANGE(\"\"https://docs.google.com/spreadsheets/d/1-zcOrI_PgX9R0t6_sOpXptmEcBDI4IX9Gfz9-2a6his/edit#gid=0\"\",\"\"RWA!F:BZ\"\"),49,0))\"),\"\")","v":""}]
[{"$nulls":4},{"$f":"IFERROR(__xludf.DUMMYFUNCTION(\"iferror(VLOOKUP(B929,IMPORTRANGE(\"\"https://docs.google.com/spreadsheets/d/1-zcOrI_PgX9R0t6_sOpXptmEcBDI4IX9Gfz9-2a6his/edit#gid=0\"\",\"\"RWA!F:BZ\"\"),44,0))\"),\"\")","v":""},{"$f":"IFERROR(__xludf.DUMMYFUNCTION(\"iferror(VLOOKUP(B929,IMPORTRANGE(\"\"https://docs.google.com/spreadsheets/d/1-zcOrI_PgX9R0t6_sOpXptmEcBDI4IX9Gfz9-2a6his/edit#gid=0\"\",\"\"RWA!F:BZ\"\"),48,0))\"),\"\")","v":""},{"$f":"IFERROR(__xludf.DUMMYFUNCTION(\"iferror(VLOOKUP(B929,IMPORTRANGE(\"\"https://docs.google.com/spreadsheets/d/1-zcOrI_PgX9R0t6_sOpXptmEcBDI4IX9Gfz9-2a6his/edit#gid=0\"\",\"\"RWA!F:BZ\"\"),49,0))\"),\"\")","v":""}]
[{"$nulls":4},{"$f":"IFERROR(__xludf.DUMMYFUNCTION(\"iferror(VLOOKUP(B930,IMPORTRANGE(\"\"https://docs.google.com/spreadsheets/d/1-zcOrI_PgX9R0t6_sOpXptmEcBDI4IX9Gfz9-2a6his/edit#gid=0\"\",\"\"RWA!F:BZ\"\"),44,0))\"),\"\")","v":""},{"$f":"IFERROR(__xludf.DUMMYFUNCTION(\"iferror(VLOOKUP(B930,IMPORTRANGE(\"\"https://docs.google.com/spreadsheets/d/1-zcOrI_PgX9R0t6_sOpXptmEcBDI4IX9Gfz9-2a6his/edit#gid=0\"\",\"\"RWA!F:BZ\"\"),48,0))\"),\"\")","v":""},{"$f":"IFERROR(__xludf.DUMMYFUNCTION(\"iferror(VLOOKUP(B930,IMPORTRANGE(\"\"https://docs.google.com/spreadsheets/d/1-zcOrI_PgX9R0t6_sOpXptmEcBDI4IX9Gfz9-2a6his/edit#gid=0\"\",\"\"RWA!F:BZ\"\"),49,0))\"),\"\")","v":""}]
[{"$nulls":4},{"$f":"IFERROR(__xludf.DUMMYFUNCTION(\"iferror(VLOOKUP(B931,IMPORTRANGE(\"\"https://docs.google.com/spreadsheets/d/1-zcOrI_PgX9R0t6_sOpXptmEcBDI4IX9Gfz9-2a6his/edit#gid=0\"\",\"\"RWA!F:BZ\"\"),44,0))\"),\"\")","v":""},{"$f":"IFERROR(__xludf.DUMMYFUNCTION(\"iferror(VLOOKUP(B931,IMPORTRANGE(\"\"https://docs.google.com/spreadsheets/d/1-zcOrI_PgX9R0t6_sOpXptmEcBDI4IX9Gfz9-2a6his/edit#gid=0\"\",\"\"RWA!F:BZ\"\"),48,0))\"),\"\")","v":""},{"$f":"IFERROR(__xludf.DUMMYFUNCTION(\"iferror(VLOOKUP(B931,IMPORTRANGE(\"\"https://docs.google.com/spreadsheets/d/1-zcOrI_PgX9R0t6_sOpXptmEcBDI4IX9Gfz9-2a6his/edit#gid=0\"\",\"\"RWA!F:BZ\"\"),49,0))\"),\"\")","v":""}]
[{"$nulls":4},{"$f":"IFERROR(__xludf.DUMMYFUNCTION(\"iferror(VLOOKUP(B932,IMPORTRANGE(\"\"https://docs.google.com/spreadsheets/d/1-zcOrI_PgX9R0t6_sOpXptmEcBDI4IX9Gfz9-2a6his/edit#gid=0\"\",\"\"RWA!F:BZ\"\"),44,0))\"),\"\")","v":""},{"$f":"IFERROR(__xludf.DUMMYFUNCTION(\"iferror(VLOOKUP(B932,IMPORTRANGE(\"\"https://docs.google.com/spreadsheets/d/1-zcOrI_PgX9R0t6_sOpXptmEcBDI4IX9Gfz9-2a6his/edit#gid=0\"\",\"\"RWA!F:BZ\"\"),48,0))\"),\"\")","v":""},{"$f":"IFERROR(__xludf.DUMMYFUNCTION(\"iferror(VLOOKUP(B932,IMPORTRANGE(\"\"https://docs.google.com/spreadsheets/d/1-zcOrI_PgX9R0t6_sOpXptmEcBDI4IX9Gfz9-2a6his/edit#gid=0\"\",\"\"RWA!F:BZ\"\"),49,0))\"),\"\")","v":""}]
[{"$nulls":4},{"$f":"IFERROR(__xludf.DUMMYFUNCTION(\"iferror(VLOOKUP(B933,IMPORTRANGE(\"\"https://docs.google.com/spreadsheets/d/1-zcOrI_PgX9R0t6_sOpXptmEcBDI4IX9Gfz9-2a6his/edit#gid=0\"\",\"\"RWA!F:BZ\"\"),44,0))\"),\"\")","v":""},{"$f":"IFERROR(__xludf.DUMMYFUNCTION(\"iferror(VLOOKUP(B933,IMPORTRANGE(\"\"https://docs.google.com/spreadsheets/d/1-zcOrI_PgX9R0t6_sOpXptmEcBDI4IX9Gfz9-2a6his/edit#gid=0\"\",\"\"RWA!F:BZ\"\"),48,0))\"),\"\")","v":""},{"$f":"IFERROR(__xludf.DUMMYFUNCTION(\"iferror(VLOOKUP(B933,IMPORTRANGE(\"\"https://docs.google.com/spreadsheets/d/1-zcOrI_PgX9R0t6_sOpXptmEcBDI4IX9Gfz9-2a6his/edit#gid=0\"\",\"\"RWA!F:BZ\"\"),49,0))\"),\"\")","v":""}]
[{"$nulls":4},{"$f":"IFERROR(__xludf.DUMMYFUNCTION(\"iferror(VLOOKUP(B934,IMPORTRANGE(\"\"https://docs.google.com/spreadsheets/d/1-zcOrI_PgX9R0t6_sOpXptmEcBDI4IX9Gfz9-2a6his/edit#gid=0\"\",\"\"RWA!F:BZ\"\"),44,0))\"),\"\")","v":""},{"$f":"IFERROR(__xludf.DUMMYFUNCTION(\"iferror(VLOOKUP(B934,IMPORTRANGE(\"\"https://docs.google.com/spreadsheets/d/1-zcOrI_PgX9R0t6_sOpXptmEcBDI4IX9Gfz9-2a6his/edit#gid=0\"\",\"\"RWA!F:BZ\"\"),48,0))\"),\"\")","v":""},{"$f":"IFERROR(__xludf.DUMMYFUNCTION(\"iferror(VLOOKUP(B934,IMPORTRANGE(\"\"https://docs.google.com/spreadsheets/d/1-zcOrI_PgX9R0t6_sOpXptmEcBDI4IX9Gfz9-2a6his/edit#gid=0\"\",\"\"RWA!F:BZ\"\"),49,0))\"),\"\")","v":""}]
[{"$nulls":4},{"$f":"IFERROR(__xludf.DUMMYFUNCTION(\"iferror(VLOOKUP(B935,IMPORTRANGE(\"\"https://docs.google.com/spreadsheets/d/1-zcOrI_PgX9R0t6_sOpXptmEcBDI4IX9Gfz9-2a6his/edit#gid=0\"\",\"\"RWA!F:BZ\"\"),44,0))\"),\"\")","v":""},{"$f":"IFERROR(__xludf.DUMMYFUNCTION(\"iferror(VLOOKUP(B935,IMPORTRANGE(\"\"https://docs.google.com/spreadsheets/d/1-zcOrI_PgX9R0t6_sOpXptmEcBDI4IX9Gfz9-2a6his/edit#gid=0\"\",\"\"RWA!F:BZ\"\"),48,0))\"),\"\")","v":""},{"$f":"IFERROR(__xludf.DUMMYFUNCTION(\"iferror(VLOOKUP(B935,IMPORTRANGE(\"\"https://docs.google.com/spreadsheets/d/1-zcOrI_PgX9R0t6_sOpXptmEcBDI4IX9Gfz9-2a6his/edit#gid=0\"\",\"\"RWA!F:BZ\"\"),49,0))\"),\"\")","v":""}]
[{"$nulls":4},{"$f":"IFERROR(__xludf.DUMMYFUNCTION(\"iferror(VLOOKUP(B936,IMPORTRANGE(\"\"https://docs.google.com/spreadsheets/d/1-zcOrI_PgX9R0t6_sOpXptmEcBDI4IX9Gfz9-2a6his/edit#gid=0\"\",\"\"RWA!F:BZ\"\"),44,0))\"),\"\")","v":""},{"$f":"IFERROR(__xludf.DUMMYFUNCTION(\"iferror(VLOOKUP(B936,IMPORTRANGE(\"\"https://docs.google.com/spreadsheets/d/1-zcOrI_PgX9R0t6_sOpXptmEcBDI4IX9Gfz9-2a6his/edit#gid=0\"\",\"\"RWA!F:BZ\"\"),48,0))\"),\"\")","v":""},{"$f":"IFERROR(__xludf.DUMMYFUNCTION(\"iferror(VLOOKUP(B936,IMPORTRANGE(\"\"https://docs.google.com/spreadsheets/d/1-zcOrI_PgX9R0t6_sOpXptmEcBDI4IX9Gfz9-2a6his/edit#gid=0\"\",\"\"RWA!F:BZ\"\"),49,0))\"),\"\")","v":""}]
[{"$nulls":4},{"$f":"IFERROR(__xludf.DUMMYFUNCTION(\"iferror(VLOOKUP(B937,IMPORTRANGE(\"\"https://docs.google.com/spreadsheets/d/1-zcOrI_PgX9R0t6_sOpXptmEcBDI4IX9Gfz9-2a6his/edit#gid=0\"\",\"\"RWA!F:BZ\"\"),44,0))\"),\"\")","v":""},{"$f":"IFERROR(__xludf.DUMMYFUNCTION(\"iferror(VLOOKUP(B937,IMPORTRANGE(\"\"https://docs.google.com/spreadsheets/d/1-zcOrI_PgX9R0t6_sOpXptmEcBDI4IX9Gfz9-2a6his/edit#gid=0\"\",\"\"RWA!F:BZ\"\"),48,0))\"),\"\")","v":""},{"$f":"IFERROR(__xludf.DUMMYFUNCTION(\"iferror(VLOOKUP(B937,IMPORTRANGE(\"\"https://docs.google.com/spreadsheets/d/1-zcOrI_PgX9R0t6_sOpXptmEcBDI4IX9Gfz9-2a6his/edit#gid=0\"\",\"\"RWA!F:BZ\"\"),49,0))\"),\"\")","v":""}]
[{"$nulls":4},{"$f":"IFERROR(__xludf.DUMMYFUNCTION(\"iferror(VLOOKUP(B938,IMPORTRANGE(\"\"https://docs.google.com/spreadsheets/d/1-zcOrI_PgX9R0t6_sOpXptmEcBDI4IX9Gfz9-2a6his/edit#gid=0\"\",\"\"RWA!F:BZ\"\"),44,0))\"),\"\")","v":""},{"$f":"IFERROR(__xludf.DUMMYFUNCTION(\"iferror(VLOOKUP(B938,IMPORTRANGE(\"\"https://docs.google.com/spreadsheets/d/1-zcOrI_PgX9R0t6_sOpXptmEcBDI4IX9Gfz9-2a6his/edit#gid=0\"\",\"\"RWA!F:BZ\"\"),48,0))\"),\"\")","v":""},{"$f":"IFERROR(__xludf.DUMMYFUNCTION(\"iferror(VLOOKUP(B938,IMPORTRANGE(\"\"https://docs.google.com/spreadsheets/d/1-zcOrI_PgX9R0t6_sOpXptmEcBDI4IX9Gfz9-2a6his/edit#gid=0\"\",\"\"RWA!F:BZ\"\"),49,0))\"),\"\")","v":""}]
[{"$nulls":4},{"$f":"IFERROR(__xludf.DUMMYFUNCTION(\"iferror(VLOOKUP(B939,IMPORTRANGE(\"\"https://docs.google.com/spreadsheets/d/1-zcOrI_PgX9R0t6_sOpXptmEcBDI4IX9Gfz9-2a6his/edit#gid=0\"\",\"\"RWA!F:BZ\"\"),44,0))\"),\"\")","v":""},{"$f":"IFERROR(__xludf.DUMMYFUNCTION(\"iferror(VLOOKUP(B939,IMPORTRANGE(\"\"https://docs.google.com/spreadsheets/d/1-zcOrI_PgX9R0t6_sOpXptmEcBDI4IX9Gfz9-2a6his/edit#gid=0\"\",\"\"RWA!F:BZ\"\"),48,0))\"),\"\")","v":""},{"$f":"IFERROR(__xludf.DUMMYFUNCTION(\"iferror(VLOOKUP(B939,IMPORTRANGE(\"\"https://docs.google.com/spreadsheets/d/1-zcOrI_PgX9R0t6_sOpXptmEcBDI4IX9Gfz9-2a6his/edit#gid=0\"\",\"\"RWA!F:BZ\"\"),49,0))\"),\"\")","v":""}]
[{"$nulls":4},{"$f":"IFERROR(__xludf.DUMMYFUNCTION(\"iferror(VLOOKUP(B940,IMPORTRANGE(\"\"https://docs.google.com/spreadsheets/d/1-zcOrI_PgX9R0t6_sOpXptmEcBDI4IX9Gfz9-2a6his/edit#gid=0\"\",\"\"RWA!F:BZ\"\"),44,0))\"),\"\")","v":""},{"$f":"IFERROR(__xludf.DUMMYFUNCTION(\"iferror(VLOOKUP(B940,IMPORTRANGE(\"\"https://docs.google.com/spreadsheets/d/1-zcOrI_PgX9R0t6_sOpXptmEcBDI4IX9Gfz9-2a6his/edit#gid=0\"\",\"\"RWA!F:BZ\"\"),48,0))\"),\"\")","v":""},{"$f":"IFERROR(__xludf.DUMMYFUNCTION(\"iferror(VLOOKUP(B940,IMPORTRANGE(\"\"https://docs.google.com/spreadsheets/d/1-zcOrI_PgX9R0t6_sOpXptmEcBDI4IX9Gfz9-2a6his/edit#gid=0\"\",\"\"RWA!F:BZ\"\"),49,0))\"),\"\")","v":""}]
[{"$nulls":4},{"$f":"IFERROR(__xludf.DUMMYFUNCTION(\"iferror(VLOOKUP(B941,IMPORTRANGE(\"\"https://docs.google.com/spreadsheets/d/1-zcOrI_PgX9R0t6_sOpXptmEcBDI4IX9Gfz9-2a6his/edit#gid=0\"\",\"\"RWA!F:BZ\"\"),44,0))\"),\"\")","v":""},{"$f":"IFERROR(__xludf.DUMMYFUNCTION(\"iferror(VLOOKUP(B941,IMPORTRANGE(\"\"https://docs.google.com/spreadsheets/d/1-zcOrI_PgX9R0t6_sOpXptmEcBDI4IX9Gfz9-2a6his/edit#gid=0\"\",\"\"RWA!F:BZ\"\"),48,0))\"),\"\")","v":""},{"$f":"IFERROR(__xludf.DUMMYFUNCTION(\"iferror(VLOOKUP(B941,IMPORTRANGE(\"\"https://docs.google.com/spreadsheets/d/1-zcOrI_PgX9R0t6_sOpXptmEcBDI4IX9Gfz9-2a6his/edit#gid=0\"\",\"\"RWA!F:BZ\"\"),49,0))\"),\"\")","v":""}]
[{"$nulls":4},{"$f":"IFERROR(__xludf.DUMMYFUNCTION(\"iferror(VLOOKUP(B942,IMPORTRANGE(\"\"https://docs.google.com/spreadsheets/d/1-zcOrI_PgX9R0t6_sOpXptmEcBDI4IX9Gfz9-2a6his/edit#gid=0\"\",\"\"RWA!F:BZ\"\"),44,0))\"),\"\")","v":""},{"$f":"IFERROR(__xludf.DUMMYFUNCTION(\"iferror(VLOOKUP(B942,IMPORTRANGE(\"\"https://docs.google.com/spreadsheets/d/1-zcOrI_PgX9R0t6_sOpXptmEcBDI4IX9Gfz9-2a6his/edit#gid=0\"\",\"\"RWA!F:BZ\"\"),48,0))\"),\"\")","v":""},{"$f":"IFERROR(__xludf.DUMMYFUNCTION(\"iferror(VLOOKUP(B942,IMPORTRANGE(\"\"https://docs.google.com/spreadsheets/d/1-zcOrI_PgX9R0t6_sOpXptmEcBDI4IX9Gfz9-2a6his/edit#gid=0\"\",\"\"RWA!F:BZ\"\"),49,0))\"),\"\")","v":""}]
[{"$nulls":4},{"$f":"IFERROR(__xludf.DUMMYFUNCTION(\"iferror(VLOOKUP(B943,IMPORTRANGE(\"\"https://docs.google.com/spreadsheets/d/1-zcOrI_PgX9R0t6_sOpXptmEcBDI4IX9Gfz9-2a6his/edit#gid=0\"\",\"\"RWA!F:BZ\"\"),44,0))\"),\"\")","v":""},{"$f":"IFERROR(__xludf.DUMMYFUNCTION(\"iferror(VLOOKUP(B943,IMPORTRANGE(\"\"https://docs.google.com/spreadsheets/d/1-zcOrI_PgX9R0t6_sOpXptmEcBDI4IX9Gfz9-2a6his/edit#gid=0\"\",\"\"RWA!F:BZ\"\"),48,0))\"),\"\")","v":""},{"$f":"IFERROR(__xludf.DUMMYFUNCTION(\"iferror(VLOOKUP(B943,IMPORTRANGE(\"\"https://docs.google.com/spreadsheets/d/1-zcOrI_PgX9R0t6_sOpXptmEcBDI4IX9Gfz9-2a6his/edit#gid=0\"\",\"\"RWA!F:BZ\"\"),49,0))\"),\"\")","v":""}]
[{"$nulls":4},{"$f":"IFERROR(__xludf.DUMMYFUNCTION(\"iferror(VLOOKUP(B944,IMPORTRANGE(\"\"https://docs.google.com/spreadsheets/d/1-zcOrI_PgX9R0t6_sOpXptmEcBDI4IX9Gfz9-2a6his/edit#gid=0\"\",\"\"RWA!F:BZ\"\"),44,0))\"),\"\")","v":""},{"$f":"IFERROR(__xludf.DUMMYFUNCTION(\"iferror(VLOOKUP(B944,IMPORTRANGE(\"\"https://docs.google.com/spreadsheets/d/1-zcOrI_PgX9R0t6_sOpXptmEcBDI4IX9Gfz9-2a6his/edit#gid=0\"\",\"\"RWA!F:BZ\"\"),48,0))\"),\"\")","v":""},{"$f":"IFERROR(__xludf.DUMMYFUNCTION(\"iferror(VLOOKUP(B944,IMPORTRANGE(\"\"https://docs.google.com/spreadsheets/d/1-zcOrI_PgX9R0t6_sOpXptmEcBDI4IX9Gfz9-2a6his/edit#gid=0\"\",\"\"RWA!F:BZ\"\"),49,0))\"),\"\")","v":""}]
[{"$nulls":4},{"$f":"IFERROR(__xludf.DUMMYFUNCTION(\"iferror(VLOOKUP(B945,IMPORTRANGE(\"\"https://docs.google.com/spreadsheets/d/1-zcOrI_PgX9R0t6_sOpXptmEcBDI4IX9Gfz9-2a6his/edit#gid=0\"\",\"\"RWA!F:BZ\"\"),44,0))\"),\"\")","v":""},{"$f":"IFERROR(__xludf.DUMMYFUNCTION(\"iferror(VLOOKUP(B945,IMPORTRANGE(\"\"https://docs.google.com/spreadsheets/d/1-zcOrI_PgX9R0t6_sOpXptmEcBDI4IX9Gfz9-2a6his/edit#gid=0\"\",\"\"RWA!F:BZ\"\"),48,0))\"),\"\")","v":""},{"$f":"IFERROR(__xludf.DUMMYFUNCTION(\"iferror(VLOOKUP(B945,IMPORTRANGE(\"\"https://docs.google.com/spreadsheets/d/1-zcOrI_PgX9R0t6_sOpXptmEcBDI4IX9Gfz9-2a6his/edit#gid=0\"\",\"\"RWA!F:BZ\"\"),49,0))\"),\"\")","v":""}]
[{"$nulls":4},{"$f":"IFERROR(__xludf.DUMMYFUNCTION(\"iferror(VLOOKUP(B946,IMPORTRANGE(\"\"https://docs.google.com/spreadsheets/d/1-zcOrI_PgX9R0t6_sOpXptmEcBDI4IX9Gfz9-2a6his/edit#gid=0\"\",\"\"RWA!F:BZ\"\"),44,0))\"),\"\")","v":""},{"$f":"IFERROR(__xludf.DUMMYFUNCTION(\"iferror(VLOOKUP(B946,IMPORTRANGE(\"\"https://docs.google.com/spreadsheets/d/1-zcOrI_PgX9R0t6_sOpXptmEcBDI4IX9Gfz9-2a6his/edit#gid=0\"\",\"\"RWA!F:BZ\"\"),48,0))\"),\"\")","v":""},{"$f":"IFERROR(__xludf.DUMMYFUNCTION(\"iferror(VLOOKUP(B946,IMPORTRANGE(\"\"https://docs.google.com/spreadsheets/d/1-zcOrI_PgX9R0t6_sOpXptmEcBDI4IX9Gfz9-2a6his/edit#gid=0\"\",\"\"RWA!F:BZ\"\"),49,0))\"),\"\")","v":""}]
[{"$nulls":4},{"$f":"IFERROR(__xludf.DUMMYFUNCTION(\"iferror(VLOOKUP(B947,IMPORTRANGE(\"\"https://docs.google.com/spreadsheets/d/1-zcOrI_PgX9R0t6_sOpXptmEcBDI4IX9Gfz9-2a6his/edit#gid=0\"\",\"\"RWA!F:BZ\"\"),44,0))\"),\"\")","v":""},{"$f":"IFERROR(__xludf.DUMMYFUNCTION(\"iferror(VLOOKUP(B947,IMPORTRANGE(\"\"https://docs.google.com/spreadsheets/d/1-zcOrI_PgX9R0t6_sOpXptmEcBDI4IX9Gfz9-2a6his/edit#gid=0\"\",\"\"RWA!F:BZ\"\"),48,0))\"),\"\")","v":""},{"$f":"IFERROR(__xludf.DUMMYFUNCTION(\"iferror(VLOOKUP(B947,IMPORTRANGE(\"\"https://docs.google.com/spreadsheets/d/1-zcOrI_PgX9R0t6_sOpXptmEcBDI4IX9Gfz9-2a6his/edit#gid=0\"\",\"\"RWA!F:BZ\"\"),49,0))\"),\"\")","v":""}]
[{"$nulls":4},{"$f":"IFERROR(__xludf.DUMMYFUNCTION(\"iferror(VLOOKUP(B948,IMPORTRANGE(\"\"https://docs.google.com/spreadsheets/d/1-zcOrI_PgX9R0t6_sOpXptmEcBDI4IX9Gfz9-2a6his/edit#gid=0\"\",\"\"RWA!F:BZ\"\"),44,0))\"),\"\")","v":""},{"$f":"IFERROR(__xludf.DUMMYFUNCTION(\"iferror(VLOOKUP(B948,IMPORTRANGE(\"\"https://docs.google.com/spreadsheets/d/1-zcOrI_PgX9R0t6_sOpXptmEcBDI4IX9Gfz9-2a6his/edit#gid=0\"\",\"\"RWA!F:BZ\"\"),48,0))\"),\"\")","v":""},{"$f":"IFERROR(__xludf.DUMMYFUNCTION(\"iferror(VLOOKUP(B948,IMPORTRANGE(\"\"https://docs.google.com/spreadsheets/d/1-zcOrI_PgX9R0t6_sOpXptmEcBDI4IX9Gfz9-2a6his/edit#gid=0\"\",\"\"RWA!F:BZ\"\"),49,0))\"),\"\")","v":""}]
[{"$nulls":4},{"$f":"IFERROR(__xludf.DUMMYFUNCTION(\"iferror(VLOOKUP(B949,IMPORTRANGE(\"\"https://docs.google.com/spreadsheets/d/1-zcOrI_PgX9R0t6_sOpXptmEcBDI4IX9Gfz9-2a6his/edit#gid=0\"\",\"\"RWA!F:BZ\"\"),44,0))\"),\"\")","v":""},{"$f":"IFERROR(__xludf.DUMMYFUNCTION(\"iferror(VLOOKUP(B949,IMPORTRANGE(\"\"https://docs.google.com/spreadsheets/d/1-zcOrI_PgX9R0t6_sOpXptmEcBDI4IX9Gfz9-2a6his/edit#gid=0\"\",\"\"RWA!F:BZ\"\"),48,0))\"),\"\")","v":""},{"$f":"IFERROR(__xludf.DUMMYFUNCTION(\"iferror(VLOOKUP(B949,IMPORTRANGE(\"\"https://docs.google.com/spreadsheets/d/1-zcOrI_PgX9R0t6_sOpXptmEcBDI4IX9Gfz9-2a6his/edit#gid=0\"\",\"\"RWA!F:BZ\"\"),49,0))\"),\"\")","v":""}]
[{"$nulls":4},{"$f":"IFERROR(__xludf.DUMMYFUNCTION(\"iferror(VLOOKUP(B950,IMPORTRANGE(\"\"https://docs.google.com/spreadsheets/d/1-zcOrI_PgX9R0t6_sOpXptmEcBDI4IX9Gfz9-2a6his/edit#gid=0\"\",\"\"RWA!F:BZ\"\"),44,0))\"),\"\")","v":""},{"$f":"IFERROR(__xludf.DUMMYFUNCTION(\"iferror(VLOOKUP(B950,IMPORTRANGE(\"\"https://docs.google.com/spreadsheets/d/1-zcOrI_PgX9R0t6_sOpXptmEcBDI4IX9Gfz9-2a6his/edit#gid=0\"\",\"\"RWA!F:BZ\"\"),48,0))\"),\"\")","v":""},{"$f":"IFERROR(__xludf.DUMMYFUNCTION(\"iferror(VLOOKUP(B950,IMPORTRANGE(\"\"https://docs.google.com/spreadsheets/d/1-zcOrI_PgX9R0t6_sOpXptmEcBDI4IX9Gfz9-2a6his/edit#gid=0\"\",\"\"RWA!F:BZ\"\"),49,0))\"),\"\")","v":""}]
[{"$nulls":4},{"$f":"IFERROR(__xludf.DUMMYFUNCTION(\"iferror(VLOOKUP(B951,IMPORTRANGE(\"\"https://docs.google.com/spreadsheets/d/1-zcOrI_PgX9R0t6_sOpXptmEcBDI4IX9Gfz9-2a6his/edit#gid=0\"\",\"\"RWA!F:BZ\"\"),44,0))\"),\"\")","v":""},{"$f":"IFERROR(__xludf.DUMMYFUNCTION(\"iferror(VLOOKUP(B951,IMPORTRANGE(\"\"https://docs.google.com/spreadsheets/d/1-zcOrI_PgX9R0t6_sOpXptmEcBDI4IX9Gfz9-2a6his/edit#gid=0\"\",\"\"RWA!F:BZ\"\"),48,0))\"),\"\")","v":""},{"$f":"IFERROR(__xludf.DUMMYFUNCTION(\"iferror(VLOOKUP(B951,IMPORTRANGE(\"\"https://docs.google.com/spreadsheets/d/1-zcOrI_PgX9R0t6_sOpXptmEcBDI4IX9Gfz9-2a6his/edit#gid=0\"\",\"\"RWA!F:BZ\"\"),49,0))\"),\"\")","v":""}]
[{"$nulls":4},{"$f":"IFERROR(__xludf.DUMMYFUNCTION(\"iferror(VLOOKUP(B952,IMPORTRANGE(\"\"https://docs.google.com/spreadsheets/d/1-zcOrI_PgX9R0t6_sOpXptmEcBDI4IX9Gfz9-2a6his/edit#gid=0\"\",\"\"RWA!F:BZ\"\"),44,0))\"),\"\")","v":""},{"$f":"IFERROR(__xludf.DUMMYFUNCTION(\"iferror(VLOOKUP(B952,IMPORTRANGE(\"\"https://docs.google.com/spreadsheets/d/1-zcOrI_PgX9R0t6_sOpXptmEcBDI4IX9Gfz9-2a6his/edit#gid=0\"\",\"\"RWA!F:BZ\"\"),48,0))\"),\"\")","v":""},{"$f":"IFERROR(__xludf.DUMMYFUNCTION(\"iferror(VLOOKUP(B952,IMPORTRANGE(\"\"https://docs.google.com/spreadsheets/d/1-zcOrI_PgX9R0t6_sOpXptmEcBDI4IX9Gfz9-2a6his/edit#gid=0\"\",\"\"RWA!F:BZ\"\"),49,0))\"),\"\")","v":""}]
[{"$nulls":4},{"$f":"IFERROR(__xludf.DUMMYFUNCTION(\"iferror(VLOOKUP(B953,IMPORTRANGE(\"\"https://docs.google.com/spreadsheets/d/1-zcOrI_PgX9R0t6_sOpXptmEcBDI4IX9Gfz9-2a6his/edit#gid=0\"\",\"\"RWA!F:BZ\"\"),44,0))\"),\"\")","v":""},{"$f":"IFERROR(__xludf.DUMMYFUNCTION(\"iferror(VLOOKUP(B953,IMPORTRANGE(\"\"https://docs.google.com/spreadsheets/d/1-zcOrI_PgX9R0t6_sOpXptmEcBDI4IX9Gfz9-2a6his/edit#gid=0\"\",\"\"RWA!F:BZ\"\"),48,0))\"),\"\")","v":""},{"$f":"IFERROR(__xludf.DUMMYFUNCTION(\"iferror(VLOOKUP(B953,IMPORTRANGE(\"\"https://docs.google.com/spreadsheets/d/1-zcOrI_PgX9R0t6_sOpXptmEcBDI4IX9Gfz9-2a6his/edit#gid=0\"\",\"\"RWA!F:BZ\"\"),49,0))\"),\"\")","v":""}]
[{"$nulls":4},{"$f":"IFERROR(__xludf.DUMMYFUNCTION(\"iferror(VLOOKUP(B954,IMPORTRANGE(\"\"https://docs.google.com/spreadsheets/d/1-zcOrI_PgX9R0t6_sOpXptmEcBDI4IX9Gfz9-2a6his/edit#gid=0\"\",\"\"RWA!F:BZ\"\"),44,0))\"),\"\")","v":""},{"$f":"IFERROR(__xludf.DUMMYFUNCTION(\"iferror(VLOOKUP(B954,IMPORTRANGE(\"\"https://docs.google.com/spreadsheets/d/1-zcOrI_PgX9R0t6_sOpXptmEcBDI4IX9Gfz9-2a6his/edit#gid=0\"\",\"\"RWA!F:BZ\"\"),48,0))\"),\"\")","v":""},{"$f":"IFERROR(__xludf.DUMMYFUNCTION(\"iferror(VLOOKUP(B954,IMPORTRANGE(\"\"https://docs.google.com/spreadsheets/d/1-zcOrI_PgX9R0t6_sOpXptmEcBDI4IX9Gfz9-2a6his/edit#gid=0\"\",\"\"RWA!F:BZ\"\"),49,0))\"),\"\")","v":""}]
[{"$nulls":4},{"$f":"IFERROR(__xludf.DUMMYFUNCTION(\"iferror(VLOOKUP(B955,IMPORTRANGE(\"\"https://docs.google.com/spreadsheets/d/1-zcOrI_PgX9R0t6_sOpXptmEcBDI4IX9Gfz9-2a6his/edit#gid=0\"\",\"\"RWA!F:BZ\"\"),44,0))\"),\"\")","v":""},{"$f":"IFERROR(__xludf.DUMMYFUNCTION(\"iferror(VLOOKUP(B955,IMPORTRANGE(\"\"https://docs.google.com/spreadsheets/d/1-zcOrI_PgX9R0t6_sOpXptmEcBDI4IX9Gfz9-2a6his/edit#gid=0\"\",\"\"RWA!F:BZ\"\"),48,0))\"),\"\")","v":""},{"$f":"IFERROR(__xludf.DUMMYFUNCTION(\"iferror(VLOOKUP(B955,IMPORTRANGE(\"\"https://docs.google.com/spreadsheets/d/1-zcOrI_PgX9R0t6_sOpXptmEcBDI4IX9Gfz9-2a6his/edit#gid=0\"\",\"\"RWA!F:BZ\"\"),49,0))\"),\"\")","v":""}]
[{"$nulls":4},{"$f":"IFERROR(__xludf.DUMMYFUNCTION(\"iferror(VLOOKUP(B956,IMPORTRANGE(\"\"https://docs.google.com/spreadsheets/d/1-zcOrI_PgX9R0t6_sOpXptmEcBDI4IX9Gfz9-2a6his/edit#gid=0\"\",\"\"RWA!F:BZ\"\"),44,0))\"),\"\")","v":""},{"$f":"IFERROR(__xludf.DUMMYFUNCTION(\"iferror(VLOOKUP(B956,IMPORTRANGE(\"\"https://docs.google.com/spreadsheets/d/1-zcOrI_PgX9R0t6_sOpXptmEcBDI4IX9Gfz9-2a6his/edit#gid=0\"\",\"\"RWA!F:BZ\"\"),48,0))\"),\"\")","v":""},{"$f":"IFERROR(__xludf.DUMMYFUNCTION(\"iferror(VLOOKUP(B956,IMPORTRANGE(\"\"https://docs.google.com/spreadsheets/d/1-zcOrI_PgX9R0t6_sOpXptmEcBDI4IX9Gfz9-2a6his/edit#gid=0\"\",\"\"RWA!F:BZ\"\"),49,0))\"),\"\")","v":""}]
[{"$nulls":4},{"$f":"IFERROR(__xludf.DUMMYFUNCTION(\"iferror(VLOOKUP(B957,IMPORTRANGE(\"\"https://docs.google.com/spreadsheets/d/1-zcOrI_PgX9R0t6_sOpXptmEcBDI4IX9Gfz9-2a6his/edit#gid=0\"\",\"\"RWA!F:BZ\"\"),44,0))\"),\"\")","v":""},{"$f":"IFERROR(__xludf.DUMMYFUNCTION(\"iferror(VLOOKUP(B957,IMPORTRANGE(\"\"https://docs.google.com/spreadsheets/d/1-zcOrI_PgX9R0t6_sOpXptmEcBDI4IX9Gfz9-2a6his/edit#gid=0\"\",\"\"RWA!F:BZ\"\"),48,0))\"),\"\")","v":""},{"$f":"IFERROR(__xludf.DUMMYFUNCTION(\"iferror(VLOOKUP(B957,IMPORTRANGE(\"\"https://docs.google.com/spreadsheets/d/1-zcOrI_PgX9R0t6_sOpXptmEcBDI4IX9Gfz9-2a6his/edit#gid=0\"\",\"\"RWA!F:BZ\"\"),49,0))\"),\"\")","v":""}]
[{"$nulls":4},{"$f":"IFERROR(__xludf.DUMMYFUNCTION(\"iferror(VLOOKUP(B958,IMPORTRANGE(\"\"https://docs.google.com/spreadsheets/d/1-zcOrI_PgX9R0t6_sOpXptmEcBDI4IX9Gfz9-2a6his/edit#gid=0\"\",\"\"RWA!F:BZ\"\"),44,0))\"),\"\")","v":""},{"$f":"IFERROR(__xludf.DUMMYFUNCTION(\"iferror(VLOOKUP(B958,IMPORTRANGE(\"\"https://docs.google.com/spreadsheets/d/1-zcOrI_PgX9R0t6_sOpXptmEcBDI4IX9Gfz9-2a6his/edit#gid=0\"\",\"\"RWA!F:BZ\"\"),48,0))\"),\"\")","v":""},{"$f":"IFERROR(__xludf.DUMMYFUNCTION(\"iferror(VLOOKUP(B958,IMPORTRANGE(\"\"https://docs.google.com/spreadsheets/d/1-zcOrI_PgX9R0t6_sOpXptmEcBDI4IX9Gfz9-2a6his/edit#gid=0\"\",\"\"RWA!F:BZ\"\"),49,0))\"),\"\")","v":""}]
[{"$nulls":4},{"$f":"IFERROR(__xludf.DUMMYFUNCTION(\"iferror(VLOOKUP(B959,IMPORTRANGE(\"\"https://docs.google.com/spreadsheets/d/1-zcOrI_PgX9R0t6_sOpXptmEcBDI4IX9Gfz9-2a6his/edit#gid=0\"\",\"\"RWA!F:BZ\"\"),44,0))\"),\"\")","v":""},{"$f":"IFERROR(__xludf.DUMMYFUNCTION(\"iferror(VLOOKUP(B959,IMPORTRANGE(\"\"https://docs.google.com/spreadsheets/d/1-zcOrI_PgX9R0t6_sOpXptmEcBDI4IX9Gfz9-2a6his/edit#gid=0\"\",\"\"RWA!F:BZ\"\"),48,0))\"),\"\")","v":""},{"$f":"IFERROR(__xludf.DUMMYFUNCTION(\"iferror(VLOOKUP(B959,IMPORTRANGE(\"\"https://docs.google.com/spreadsheets/d/1-zcOrI_PgX9R0t6_sOpXptmEcBDI4IX9Gfz9-2a6his/edit#gid=0\"\",\"\"RWA!F:BZ\"\"),49,0))\"),\"\")","v":""}]
[{"$nulls":4},{"$f":"IFERROR(__xludf.DUMMYFUNCTION(\"iferror(VLOOKUP(B960,IMPORTRANGE(\"\"https://docs.google.com/spreadsheets/d/1-zcOrI_PgX9R0t6_sOpXptmEcBDI4IX9Gfz9-2a6his/edit#gid=0\"\",\"\"RWA!F:BZ\"\"),44,0))\"),\"\")","v":""},{"$f":"IFERROR(__xludf.DUMMYFUNCTION(\"iferror(VLOOKUP(B960,IMPORTRANGE(\"\"https://docs.google.com/spreadsheets/d/1-zcOrI_PgX9R0t6_sOpXptmEcBDI4IX9Gfz9-2a6his/edit#gid=0\"\",\"\"RWA!F:BZ\"\"),48,0))\"),\"\")","v":""},{"$f":"IFERROR(__xludf.DUMMYFUNCTION(\"iferror(VLOOKUP(B960,IMPORTRANGE(\"\"https://docs.google.com/spreadsheets/d/1-zcOrI_PgX9R0t6_sOpXptmEcBDI4IX9Gfz9-2a6his/edit#gid=0\"\",\"\"RWA!F:BZ\"\"),49,0))\"),\"\")","v":""}]
[{"$nulls":4},{"$f":"IFERROR(__xludf.DUMMYFUNCTION(\"iferror(VLOOKUP(B961,IMPORTRANGE(\"\"https://docs.google.com/spreadsheets/d/1-zcOrI_PgX9R0t6_sOpXptmEcBDI4IX9Gfz9-2a6his/edit#gid=0\"\",\"\"RWA!F:BZ\"\"),44,0))\"),\"\")","v":""},{"$f":"IFERROR(__xludf.DUMMYFUNCTION(\"iferror(VLOOKUP(B961,IMPORTRANGE(\"\"https://docs.google.com/spreadsheets/d/1-zcOrI_PgX9R0t6_sOpXptmEcBDI4IX9Gfz9-2a6his/edit#gid=0\"\",\"\"RWA!F:BZ\"\"),48,0))\"),\"\")","v":""},{"$f":"IFERROR(__xludf.DUMMYFUNCTION(\"iferror(VLOOKUP(B961,IMPORTRANGE(\"\"https://docs.google.com/spreadsheets/d/1-zcOrI_PgX9R0t6_sOpXptmEcBDI4IX9Gfz9-2a6his/edit#gid=0\"\",\"\"RWA!F:BZ\"\"),49,0))\"),\"\")","v":""}]
[{"$nulls":4},{"$f":"IFERROR(__xludf.DUMMYFUNCTION(\"iferror(VLOOKUP(B962,IMPORTRANGE(\"\"https://docs.google.com/spreadsheets/d/1-zcOrI_PgX9R0t6_sOpXptmEcBDI4IX9Gfz9-2a6his/edit#gid=0\"\",\"\"RWA!F:BZ\"\"),44,0))\"),\"\")","v":""},{"$f":"IFERROR(__xludf.DUMMYFUNCTION(\"iferror(VLOOKUP(B962,IMPORTRANGE(\"\"https://docs.google.com/spreadsheets/d/1-zcOrI_PgX9R0t6_sOpXptmEcBDI4IX9Gfz9-2a6his/edit#gid=0\"\",\"\"RWA!F:BZ\"\"),48,0))\"),\"\")","v":""},{"$f":"IFERROR(__xludf.DUMMYFUNCTION(\"iferror(VLOOKUP(B962,IMPORTRANGE(\"\"https://docs.google.com/spreadsheets/d/1-zcOrI_PgX9R0t6_sOpXptmEcBDI4IX9Gfz9-2a6his/edit#gid=0\"\",\"\"RWA!F:BZ\"\"),49,0))\"),\"\")","v":""}]
[{"$nulls":4},{"$f":"IFERROR(__xludf.DUMMYFUNCTION(\"iferror(VLOOKUP(B963,IMPORTRANGE(\"\"https://docs.google.com/spreadsheets/d/1-zcOrI_PgX9R0t6_sOpXptmEcBDI4IX9Gfz9-2a6his/edit#gid=0\"\",\"\"RWA!F:BZ\"\"),44,0))\"),\"\")","v":""},{"$f":"IFERROR(__xludf.DUMMYFUNCTION(\"iferror(VLOOKUP(B963,IMPORTRANGE(\"\"https://docs.google.com/spreadsheets/d/1-zcOrI_PgX9R0t6_sOpXptmEcBDI4IX9Gfz9-2a6his/edit#gid=0\"\",\"\"RWA!F:BZ\"\"),48,0))\"),\"\")","v":""},{"$f":"IFERROR(__xludf.DUMMYFUNCTION(\"iferror(VLOOKUP(B963,IMPORTRANGE(\"\"https://docs.google.com/spreadsheets/d/1-zcOrI_PgX9R0t6_sOpXptmEcBDI4IX9Gfz9-2a6his/edit#gid=0\"\",\"\"RWA!F:BZ\"\"),49,0))\"),\"\")","v":""}]
[{"$nulls":4},{"$f":"IFERROR(__xludf.DUMMYFUNCTION(\"iferror(VLOOKUP(B964,IMPORTRANGE(\"\"https://docs.google.com/spreadsheets/d/1-zcOrI_PgX9R0t6_sOpXptmEcBDI4IX9Gfz9-2a6his/edit#gid=0\"\",\"\"RWA!F:BZ\"\"),44,0))\"),\"\")","v":""},{"$f":"IFERROR(__xludf.DUMMYFUNCTION(\"iferror(VLOOKUP(B964,IMPORTRANGE(\"\"https://docs.google.com/spreadsheets/d/1-zcOrI_PgX9R0t6_sOpXptmEcBDI4IX9Gfz9-2a6his/edit#gid=0\"\",\"\"RWA!F:BZ\"\"),48,0))\"),\"\")","v":""},{"$f":"IFERROR(__xludf.DUMMYFUNCTION(\"iferror(VLOOKUP(B964,IMPORTRANGE(\"\"https://docs.google.com/spreadsheets/d/1-zcOrI_PgX9R0t6_sOpXptmEcBDI4IX9Gfz9-2a6his/edit#gid=0\"\",\"\"RWA!F:BZ\"\"),49,0))\"),\"\")","v":""}]
[{"$nulls":4},{"$f":"IFERROR(__xludf.DUMMYFUNCTION(\"iferror(VLOOKUP(B965,IMPORTRANGE(\"\"https://docs.google.com/spreadsheets/d/1-zcOrI_PgX9R0t6_sOpXptmEcBDI4IX9Gfz9-2a6his/edit#gid=0\"\",\"\"RWA!F:BZ\"\"),44,0))\"),\"\")","v":""},{"$f":"IFERROR(__xludf.DUMMYFUNCTION(\"iferror(VLOOKUP(B965,IMPORTRANGE(\"\"https://docs.google.com/spreadsheets/d/1-zcOrI_PgX9R0t6_sOpXptmEcBDI4IX9Gfz9-2a6his/edit#gid=0\"\",\"\"RWA!F:BZ\"\"),48,0))\"),\"\")","v":""},{"$f":"IFERROR(__xludf.DUMMYFUNCTION(\"iferror(VLOOKUP(B965,IMPORTRANGE(\"\"https://docs.google.com/spreadsheets/d/1-zcOrI_PgX9R0t6_sOpXptmEcBDI4IX9Gfz9-2a6his/edit#gid=0\"\",\"\"RWA!F:BZ\"\"),49,0))\"),\"\")","v":""}]
[{"$nulls":4},{"$f":"IFERROR(__xludf.DUMMYFUNCTION(\"iferror(VLOOKUP(B966,IMPORTRANGE(\"\"https://docs.google.com/spreadsheets/d/1-zcOrI_PgX9R0t6_sOpXptmEcBDI4IX9Gfz9-2a6his/edit#gid=0\"\",\"\"RWA!F:BZ\"\"),44,0))\"),\"\")","v":""},{"$f":"IFERROR(__xludf.DUMMYFUNCTION(\"iferror(VLOOKUP(B966,IMPORTRANGE(\"\"https://docs.google.com/spreadsheets/d/1-zcOrI_PgX9R0t6_sOpXptmEcBDI4IX9Gfz9-2a6his/edit#gid=0\"\",\"\"RWA!F:BZ\"\"),48,0))\"),\"\")","v":""},{"$f":"IFERROR(__xludf.DUMMYFUNCTION(\"iferror(VLOOKUP(B966,IMPORTRANGE(\"\"https://docs.google.com/spreadsheets/d/1-zcOrI_PgX9R0t6_sOpXptmEcBDI4IX9Gfz9-2a6his/edit#gid=0\"\",\"\"RWA!F:BZ\"\"),49,0))\"),\"\")","v":""}]
[{"$nulls":4},{"$f":"IFERROR(__xludf.DUMMYFUNCTION(\"iferror(VLOOKUP(B967,IMPORTRANGE(\"\"https://docs.google.com/spreadsheets/d/1-zcOrI_PgX9R0t6_sOpXptmEcBDI4IX9Gfz9-2a6his/edit#gid=0\"\",\"\"RWA!F:BZ\"\"),44,0))\"),\"\")","v":""},{"$f":"IFERROR(__xludf.DUMMYFUNCTION(\"iferror(VLOOKUP(B967,IMPORTRANGE(\"\"https://docs.google.com/spreadsheets/d/1-zcOrI_PgX9R0t6_sOpXptmEcBDI4IX9Gfz9-2a6his/edit#gid=0\"\",\"\"RWA!F:BZ\"\"),48,0))\"),\"\")","v":""},{"$f":"IFERROR(__xludf.DUMMYFUNCTION(\"iferror(VLOOKUP(B967,IMPORTRANGE(\"\"https://docs.google.com/spreadsheets/d/1-zcOrI_PgX9R0t6_sOpXptmEcBDI4IX9Gfz9-2a6his/edit#gid=0\"\",\"\"RWA!F:BZ\"\"),49,0))\"),\"\")","v":""}]
[{"$nulls":4},{"$f":"IFERROR(__xludf.DUMMYFUNCTION(\"iferror(VLOOKUP(B968,IMPORTRANGE(\"\"https://docs.google.com/spreadsheets/d/1-zcOrI_PgX9R0t6_sOpXptmEcBDI4IX9Gfz9-2a6his/edit#gid=0\"\",\"\"RWA!F:BZ\"\"),44,0))\"),\"\")","v":""},{"$f":"IFERROR(__xludf.DUMMYFUNCTION(\"iferror(VLOOKUP(B968,IMPORTRANGE(\"\"https://docs.google.com/spreadsheets/d/1-zcOrI_PgX9R0t6_sOpXptmEcBDI4IX9Gfz9-2a6his/edit#gid=0\"\",\"\"RWA!F:BZ\"\"),48,0))\"),\"\")","v":""},{"$f":"IFERROR(__xludf.DUMMYFUNCTION(\"iferror(VLOOKUP(B968,IMPORTRANGE(\"\"https://docs.google.com/spreadsheets/d/1-zcOrI_PgX9R0t6_sOpXptmEcBDI4IX9Gfz9-2a6his/edit#gid=0\"\",\"\"RWA!F:BZ\"\"),49,0))\"),\"\")","v":""}]
[{"$nulls":4},{"$f":"IFERROR(__xludf.DUMMYFUNCTION(\"iferror(VLOOKUP(B969,IMPORTRANGE(\"\"https://docs.google.com/spreadsheets/d/1-zcOrI_PgX9R0t6_sOpXptmEcBDI4IX9Gfz9-2a6his/edit#gid=0\"\",\"\"RWA!F:BZ\"\"),44,0))\"),\"\")","v":""},{"$f":"IFERROR(__xludf.DUMMYFUNCTION(\"iferror(VLOOKUP(B969,IMPORTRANGE(\"\"https://docs.google.com/spreadsheets/d/1-zcOrI_PgX9R0t6_sOpXptmEcBDI4IX9Gfz9-2a6his/edit#gid=0\"\",\"\"RWA!F:BZ\"\"),48,0))\"),\"\")","v":""},{"$f":"IFERROR(__xludf.DUMMYFUNCTION(\"iferror(VLOOKUP(B969,IMPORTRANGE(\"\"https://docs.google.com/spreadsheets/d/1-zcOrI_PgX9R0t6_sOpXptmEcBDI4IX9Gfz9-2a6his/edit#gid=0\"\",\"\"RWA!F:BZ\"\"),49,0))\"),\"\")","v":""}]
[{"$nulls":4},{"$f":"IFERROR(__xludf.DUMMYFUNCTION(\"iferror(VLOOKUP(B970,IMPORTRANGE(\"\"https://docs.google.com/spreadsheets/d/1-zcOrI_PgX9R0t6_sOpXptmEcBDI4IX9Gfz9-2a6his/edit#gid=0\"\",\"\"RWA!F:BZ\"\"),44,0))\"),\"\")","v":""},{"$f":"IFERROR(__xludf.DUMMYFUNCTION(\"iferror(VLOOKUP(B970,IMPORTRANGE(\"\"https://docs.google.com/spreadsheets/d/1-zcOrI_PgX9R0t6_sOpXptmEcBDI4IX9Gfz9-2a6his/edit#gid=0\"\",\"\"RWA!F:BZ\"\"),48,0))\"),\"\")","v":""},{"$f":"IFERROR(__xludf.DUMMYFUNCTION(\"iferror(VLOOKUP(B970,IMPORTRANGE(\"\"https://docs.google.com/spreadsheets/d/1-zcOrI_PgX9R0t6_sOpXptmEcBDI4IX9Gfz9-2a6his/edit#gid=0\"\",\"\"RWA!F:BZ\"\"),49,0))\"),\"\")","v":""}]
[{"$nulls":4},{"$f":"IFERROR(__xludf.DUMMYFUNCTION(\"iferror(VLOOKUP(B971,IMPORTRANGE(\"\"https://docs.google.com/spreadsheets/d/1-zcOrI_PgX9R0t6_sOpXptmEcBDI4IX9Gfz9-2a6his/edit#gid=0\"\",\"\"RWA!F:BZ\"\"),44,0))\"),\"\")","v":""},{"$f":"IFERROR(__xludf.DUMMYFUNCTION(\"iferror(VLOOKUP(B971,IMPORTRANGE(\"\"https://docs.google.com/spreadsheets/d/1-zcOrI_PgX9R0t6_sOpXptmEcBDI4IX9Gfz9-2a6his/edit#gid=0\"\",\"\"RWA!F:BZ\"\"),48,0))\"),\"\")","v":""},{"$f":"IFERROR(__xludf.DUMMYFUNCTION(\"iferror(VLOOKUP(B971,IMPORTRANGE(\"\"https://docs.google.com/spreadsheets/d/1-zcOrI_PgX9R0t6_sOpXptmEcBDI4IX9Gfz9-2a6his/edit#gid=0\"\",\"\"RWA!F:BZ\"\"),49,0))\"),\"\")","v":""}]
[{"$nulls":4},{"$f":"IFERROR(__xludf.DUMMYFUNCTION(\"iferror(VLOOKUP(B972,IMPORTRANGE(\"\"https://docs.google.com/spreadsheets/d/1-zcOrI_PgX9R0t6_sOpXptmEcBDI4IX9Gfz9-2a6his/edit#gid=0\"\",\"\"RWA!F:BZ\"\"),44,0))\"),\"\")","v":""},{"$f":"IFERROR(__xludf.DUMMYFUNCTION(\"iferror(VLOOKUP(B972,IMPORTRANGE(\"\"https://docs.google.com/spreadsheets/d/1-zcOrI_PgX9R0t6_sOpXptmEcBDI4IX9Gfz9-2a6his/edit#gid=0\"\",\"\"RWA!F:BZ\"\"),48,0))\"),\"\")","v":""},{"$f":"IFERROR(__xludf.DUMMYFUNCTION(\"iferror(VLOOKUP(B972,IMPORTRANGE(\"\"https://docs.google.com/spreadsheets/d/1-zcOrI_PgX9R0t6_sOpXptmEcBDI4IX9Gfz9-2a6his/edit#gid=0\"\",\"\"RWA!F:BZ\"\"),49,0))\"),\"\")","v":""}]
[{"$nulls":4},{"$f":"IFERROR(__xludf.DUMMYFUNCTION(\"iferror(VLOOKUP(B973,IMPORTRANGE(\"\"https://docs.google.com/spreadsheets/d/1-zcOrI_PgX9R0t6_sOpXptmEcBDI4IX9Gfz9-2a6his/edit#gid=0\"\",\"\"RWA!F:BZ\"\"),44,0))\"),\"\")","v":""},{"$f":"IFERROR(__xludf.DUMMYFUNCTION(\"iferror(VLOOKUP(B973,IMPORTRANGE(\"\"https://docs.google.com/spreadsheets/d/1-zcOrI_PgX9R0t6_sOpXptmEcBDI4IX9Gfz9-2a6his/edit#gid=0\"\",\"\"RWA!F:BZ\"\"),48,0))\"),\"\")","v":""},{"$f":"IFERROR(__xludf.DUMMYFUNCTION(\"iferror(VLOOKUP(B973,IMPORTRANGE(\"\"https://docs.google.com/spreadsheets/d/1-zcOrI_PgX9R0t6_sOpXptmEcBDI4IX9Gfz9-2a6his/edit#gid=0\"\",\"\"RWA!F:BZ\"\"),49,0))\"),\"\")","v":""}]
[{"$nulls":4},{"$f":"IFERROR(__xludf.DUMMYFUNCTION(\"iferror(VLOOKUP(B974,IMPORTRANGE(\"\"https://docs.google.com/spreadsheets/d/1-zcOrI_PgX9R0t6_sOpXptmEcBDI4IX9Gfz9-2a6his/edit#gid=0\"\",\"\"RWA!F:BZ\"\"),44,0))\"),\"\")","v":""},{"$f":"IFERROR(__xludf.DUMMYFUNCTION(\"iferror(VLOOKUP(B974,IMPORTRANGE(\"\"https://docs.google.com/spreadsheets/d/1-zcOrI_PgX9R0t6_sOpXptmEcBDI4IX9Gfz9-2a6his/edit#gid=0\"\",\"\"RWA!F:BZ\"\"),48,0))\"),\"\")","v":""},{"$f":"IFERROR(__xludf.DUMMYFUNCTION(\"iferror(VLOOKUP(B974,IMPORTRANGE(\"\"https://docs.google.com/spreadsheets/d/1-zcOrI_PgX9R0t6_sOpXptmEcBDI4IX9Gfz9-2a6his/edit#gid=0\"\",\"\"RWA!F:BZ\"\"),49,0))\"),\"\")","v":""}]
[{"$nulls":4},{"$f":"IFERROR(__xludf.DUMMYFUNCTION(\"iferror(VLOOKUP(B975,IMPORTRANGE(\"\"https://docs.google.com/spreadsheets/d/1-zcOrI_PgX9R0t6_sOpXptmEcBDI4IX9Gfz9-2a6his/edit#gid=0\"\",\"\"RWA!F:BZ\"\"),44,0))\"),\"\")","v":""},{"$f":"IFERROR(__xludf.DUMMYFUNCTION(\"iferror(VLOOKUP(B975,IMPORTRANGE(\"\"https://docs.google.com/spreadsheets/d/1-zcOrI_PgX9R0t6_sOpXptmEcBDI4IX9Gfz9-2a6his/edit#gid=0\"\",\"\"RWA!F:BZ\"\"),48,0))\"),\"\")","v":""},{"$f":"IFERROR(__xludf.DUMMYFUNCTION(\"iferror(VLOOKUP(B975,IMPORTRANGE(\"\"https://docs.google.com/spreadsheets/d/1-zcOrI_PgX9R0t6_sOpXptmEcBDI4IX9Gfz9-2a6his/edit#gid=0\"\",\"\"RWA!F:BZ\"\"),49,0))\"),\"\")","v":""}]
[{"$nulls":4},{"$f":"IFERROR(__xludf.DUMMYFUNCTION(\"iferror(VLOOKUP(B976,IMPORTRANGE(\"\"https://docs.google.com/spreadsheets/d/1-zcOrI_PgX9R0t6_sOpXptmEcBDI4IX9Gfz9-2a6his/edit#gid=0\"\",\"\"RWA!F:BZ\"\"),44,0))\"),\"\")","v":""},{"$f":"IFERROR(__xludf.DUMMYFUNCTION(\"iferror(VLOOKUP(B976,IMPORTRANGE(\"\"https://docs.google.com/spreadsheets/d/1-zcOrI_PgX9R0t6_sOpXptmEcBDI4IX9Gfz9-2a6his/edit#gid=0\"\",\"\"RWA!F:BZ\"\"),48,0))\"),\"\")","v":""},{"$f":"IFERROR(__xludf.DUMMYFUNCTION(\"iferror(VLOOKUP(B976,IMPORTRANGE(\"\"https://docs.google.com/spreadsheets/d/1-zcOrI_PgX9R0t6_sOpXptmEcBDI4IX9Gfz9-2a6his/edit#gid=0\"\",\"\"RWA!F:BZ\"\"),49,0))\"),\"\")","v":""}]
[{"$nulls":4},{"$f":"IFERROR(__xludf.DUMMYFUNCTION(\"iferror(VLOOKUP(B977,IMPORTRANGE(\"\"https://docs.google.com/spreadsheets/d/1-zcOrI_PgX9R0t6_sOpXptmEcBDI4IX9Gfz9-2a6his/edit#gid=0\"\",\"\"RWA!F:BZ\"\"),44,0))\"),\"\")","v":""},{"$f":"IFERROR(__xludf.DUMMYFUNCTION(\"iferror(VLOOKUP(B977,IMPORTRANGE(\"\"https://docs.google.com/spreadsheets/d/1-zcOrI_PgX9R0t6_sOpXptmEcBDI4IX9Gfz9-2a6his/edit#gid=0\"\",\"\"RWA!F:BZ\"\"),48,0))\"),\"\")","v":""},{"$f":"IFERROR(__xludf.DUMMYFUNCTION(\"iferror(VLOOKUP(B977,IMPORTRANGE(\"\"https://docs.google.com/spreadsheets/d/1-zcOrI_PgX9R0t6_sOpXptmEcBDI4IX9Gfz9-2a6his/edit#gid=0\"\",\"\"RWA!F:BZ\"\"),49,0))\"),\"\")","v":""}]
[{"$nulls":4},{"$f":"IFERROR(__xludf.DUMMYFUNCTION(\"iferror(VLOOKUP(B978,IMPORTRANGE(\"\"https://docs.google.com/spreadsheets/d/1-zcOrI_PgX9R0t6_sOpXptmEcBDI4IX9Gfz9-2a6his/edit#gid=0\"\",\"\"RWA!F:BZ\"\"),44,0))\"),\"\")","v":""},{"$f":"IFERROR(__xludf.DUMMYFUNCTION(\"iferror(VLOOKUP(B978,IMPORTRANGE(\"\"https://docs.google.com/spreadsheets/d/1-zcOrI_PgX9R0t6_sOpXptmEcBDI4IX9Gfz9-2a6his/edit#gid=0\"\",\"\"RWA!F:BZ\"\"),48,0))\"),\"\")","v":""},{"$f":"IFERROR(__xludf.DUMMYFUNCTION(\"iferror(VLOOKUP(B978,IMPORTRANGE(\"\"https://docs.google.com/spreadsheets/d/1-zcOrI_PgX9R0t6_sOpXptmEcBDI4IX9Gfz9-2a6his/edit#gid=0\"\",\"\"RWA!F:BZ\"\"),49,0))\"),\"\")","v":""}]
[{"$nulls":4},{"$f":"IFERROR(__xludf.DUMMYFUNCTION(\"iferror(VLOOKUP(B979,IMPORTRANGE(\"\"https://docs.google.com/spreadsheets/d/1-zcOrI_PgX9R0t6_sOpXptmEcBDI4IX9Gfz9-2a6his/edit#gid=0\"\",\"\"RWA!F:BZ\"\"),44,0))\"),\"\")","v":""},{"$f":"IFERROR(__xludf.DUMMYFUNCTION(\"iferror(VLOOKUP(B979,IMPORTRANGE(\"\"https://docs.google.com/spreadsheets/d/1-zcOrI_PgX9R0t6_sOpXptmEcBDI4IX9Gfz9-2a6his/edit#gid=0\"\",\"\"RWA!F:BZ\"\"),48,0))\"),\"\")","v":""},{"$f":"IFERROR(__xludf.DUMMYFUNCTION(\"iferror(VLOOKUP(B979,IMPORTRANGE(\"\"https://docs.google.com/spreadsheets/d/1-zcOrI_PgX9R0t6_sOpXptmEcBDI4IX9Gfz9-2a6his/edit#gid=0\"\",\"\"RWA!F:BZ\"\"),49,0))\"),\"\")","v":""}]
[{"$nulls":4},{"$f":"IFERROR(__xludf.DUMMYFUNCTION(\"iferror(VLOOKUP(B980,IMPORTRANGE(\"\"https://docs.google.com/spreadsheets/d/1-zcOrI_PgX9R0t6_sOpXptmEcBDI4IX9Gfz9-2a6his/edit#gid=0\"\",\"\"RWA!F:BZ\"\"),44,0))\"),\"\")","v":""},{"$f":"IFERROR(__xludf.DUMMYFUNCTION(\"iferror(VLOOKUP(B980,IMPORTRANGE(\"\"https://docs.google.com/spreadsheets/d/1-zcOrI_PgX9R0t6_sOpXptmEcBDI4IX9Gfz9-2a6his/edit#gid=0\"\",\"\"RWA!F:BZ\"\"),48,0))\"),\"\")","v":""},{"$f":"IFERROR(__xludf.DUMMYFUNCTION(\"iferror(VLOOKUP(B980,IMPORTRANGE(\"\"https://docs.google.com/spreadsheets/d/1-zcOrI_PgX9R0t6_sOpXptmEcBDI4IX9Gfz9-2a6his/edit#gid=0\"\",\"\"RWA!F:BZ\"\"),49,0))\"),\"\")","v":""}]
[{"$nulls":4},{"$f":"IFERROR(__xludf.DUMMYFUNCTION(\"iferror(VLOOKUP(B981,IMPORTRANGE(\"\"https://docs.google.com/spreadsheets/d/1-zcOrI_PgX9R0t6_sOpXptmEcBDI4IX9Gfz9-2a6his/edit#gid=0\"\",\"\"RWA!F:BZ\"\"),44,0))\"),\"\")","v":""},{"$f":"IFERROR(__xludf.DUMMYFUNCTION(\"iferror(VLOOKUP(B981,IMPORTRANGE(\"\"https://docs.google.com/spreadsheets/d/1-zcOrI_PgX9R0t6_sOpXptmEcBDI4IX9Gfz9-2a6his/edit#gid=0\"\",\"\"RWA!F:BZ\"\"),48,0))\"),\"\")","v":""},{"$f":"IFERROR(__xludf.DUMMYFUNCTION(\"iferror(VLOOKUP(B981,IMPORTRANGE(\"\"https://docs.google.com/spreadsheets/d/1-zcOrI_PgX9R0t6_sOpXptmEcBDI4IX9Gfz9-2a6his/edit#gid=0\"\",\"\"RWA!F:BZ\"\"),49,0))\"),\"\")","v":""}]
[{"$nulls":4},{"$f":"IFERROR(__xludf.DUMMYFUNCTION(\"iferror(VLOOKUP(B982,IMPORTRANGE(\"\"https://docs.google.com/spreadsheets/d/1-zcOrI_PgX9R0t6_sOpXptmEcBDI4IX9Gfz9-2a6his/edit#gid=0\"\",\"\"RWA!F:BZ\"\"),44,0))\"),\"\")","v":""},{"$f":"IFERROR(__xludf.DUMMYFUNCTION(\"iferror(VLOOKUP(B982,IMPORTRANGE(\"\"https://docs.google.com/spreadsheets/d/1-zcOrI_PgX9R0t6_sOpXptmEcBDI4IX9Gfz9-2a6his/edit#gid=0\"\",\"\"RWA!F:BZ\"\"),48,0))\"),\"\")","v":""},{"$f":"IFERROR(__xludf.DUMMYFUNCTION(\"iferror(VLOOKUP(B982,IMPORTRANGE(\"\"https://docs.google.com/spreadsheets/d/1-zcOrI_PgX9R0t6_sOpXptmEcBDI4IX9Gfz9-2a6his/edit#gid=0\"\",\"\"RWA!F:BZ\"\"),49,0))\"),\"\")","v":""}]
[{"$nulls":4},{"$f":"IFERROR(__xludf.DUMMYFUNCTION(\"iferror(VLOOKUP(B983,IMPORTRANGE(\"\"https://docs.google.com/spreadsheets/d/1-zcOrI_PgX9R0t6_sOpXptmEcBDI4IX9Gfz9-2a6his/edit#gid=0\"\",\"\"RWA!F:BZ\"\"),44,0))\"),\"\")","v":""},{"$f":"IFERROR(__xludf.DUMMYFUNCTION(\"iferror(VLOOKUP(B983,IMPORTRANGE(\"\"https://docs.google.com/spreadsheets/d/1-zcOrI_PgX9R0t6_sOpXptmEcBDI4IX9Gfz9-2a6his/edit#gid=0\"\",\"\"RWA!F:BZ\"\"),48,0))\"),\"\")","v":""},{"$f":"IFERROR(__xludf.DUMMYFUNCTION(\"iferror(VLOOKUP(B983,IMPORTRANGE(\"\"https://docs.google.com/spreadsheets/d/1-zcOrI_PgX9R0t6_sOpXptmEcBDI4IX9Gfz9-2a6his/edit#gid=0\"\",\"\"RWA!F:BZ\"\"),49,0))\"),\"\")","v":""}]
[{"$nulls":4},{"$f":"IFERROR(__xludf.DUMMYFUNCTION(\"iferror(VLOOKUP(B984,IMPORTRANGE(\"\"https://docs.google.com/spreadsheets/d/1-zcOrI_PgX9R0t6_sOpXptmEcBDI4IX9Gfz9-2a6his/edit#gid=0\"\",\"\"RWA!F:BZ\"\"),44,0))\"),\"\")","v":""},{"$f":"IFERROR(__xludf.DUMMYFUNCTION(\"iferror(VLOOKUP(B984,IMPORTRANGE(\"\"https://docs.google.com/spreadsheets/d/1-zcOrI_PgX9R0t6_sOpXptmEcBDI4IX9Gfz9-2a6his/edit#gid=0\"\",\"\"RWA!F:BZ\"\"),48,0))\"),\"\")","v":""},{"$f":"IFERROR(__xludf.DUMMYFUNCTION(\"iferror(VLOOKUP(B984,IMPORTRANGE(\"\"https://docs.google.com/spreadsheets/d/1-zcOrI_PgX9R0t6_sOpXptmEcBDI4IX9Gfz9-2a6his/edit#gid=0\"\",\"\"RWA!F:BZ\"\"),49,0))\"),\"\")","v":""}]
[{"$nulls":4},{"$f":"IFERROR(__xludf.DUMMYFUNCTION(\"iferror(VLOOKUP(B985,IMPORTRANGE(\"\"https://docs.google.com/spreadsheets/d/1-zcOrI_PgX9R0t6_sOpXptmEcBDI4IX9Gfz9-2a6his/edit#gid=0\"\",\"\"RWA!F:BZ\"\"),44,0))\"),\"\")","v":""},{"$f":"IFERROR(__xludf.DUMMYFUNCTION(\"iferror(VLOOKUP(B985,IMPORTRANGE(\"\"https://docs.google.com/spreadsheets/d/1-zcOrI_PgX9R0t6_sOpXptmEcBDI4IX9Gfz9-2a6his/edit#gid=0\"\",\"\"RWA!F:BZ\"\"),48,0))\"),\"\")","v":""},{"$f":"IFERROR(__xludf.DUMMYFUNCTION(\"iferror(VLOOKUP(B985,IMPORTRANGE(\"\"https://docs.google.com/spreadsheets/d/1-zcOrI_PgX9R0t6_sOpXptmEcBDI4IX9Gfz9-2a6his/edit#gid=0\"\",\"\"RWA!F:BZ\"\"),49,0))\"),\"\")","v":""}]
[{"$nulls":4},{"$f":"IFERROR(__xludf.DUMMYFUNCTION(\"iferror(VLOOKUP(B986,IMPORTRANGE(\"\"https://docs.google.com/spreadsheets/d/1-zcOrI_PgX9R0t6_sOpXptmEcBDI4IX9Gfz9-2a6his/edit#gid=0\"\",\"\"RWA!F:BZ\"\"),44,0))\"),\"\")","v":""},{"$f":"IFERROR(__xludf.DUMMYFUNCTION(\"iferror(VLOOKUP(B986,IMPORTRANGE(\"\"https://docs.google.com/spreadsheets/d/1-zcOrI_PgX9R0t6_sOpXptmEcBDI4IX9Gfz9-2a6his/edit#gid=0\"\",\"\"RWA!F:BZ\"\"),48,0))\"),\"\")","v":""},{"$f":"IFERROR(__xludf.DUMMYFUNCTION(\"iferror(VLOOKUP(B986,IMPORTRANGE(\"\"https://docs.google.com/spreadsheets/d/1-zcOrI_PgX9R0t6_sOpXptmEcBDI4IX9Gfz9-2a6his/edit#gid=0\"\",\"\"RWA!F:BZ\"\"),49,0))\"),\"\")","v":""}]
[{"$nulls":4},{"$f":"IFERROR(__xludf.DUMMYFUNCTION(\"iferror(VLOOKUP(B987,IMPORTRANGE(\"\"https://docs.google.com/spreadsheets/d/1-zcOrI_PgX9R0t6_sOpXptmEcBDI4IX9Gfz9-2a6his/edit#gid=0\"\",\"\"RWA!F:BZ\"\"),44,0))\"),\"\")","v":""},{"$f":"IFERROR(__xludf.DUMMYFUNCTION(\"iferror(VLOOKUP(B987,IMPORTRANGE(\"\"https://docs.google.com/spreadsheets/d/1-zcOrI_PgX9R0t6_sOpXptmEcBDI4IX9Gfz9-2a6his/edit#gid=0\"\",\"\"RWA!F:BZ\"\"),48,0))\"),\"\")","v":""},{"$f":"IFERROR(__xludf.DUMMYFUNCTION(\"iferror(VLOOKUP(B987,IMPORTRANGE(\"\"https://docs.google.com/spreadsheets/d/1-zcOrI_PgX9R0t6_sOpXptmEcBDI4IX9Gfz9-2a6his/edit#gid=0\"\",\"\"RWA!F:BZ\"\"),49,0))\"),\"\")","v":""}]
[{"$nulls":4},{"$f":"IFERROR(__xludf.DUMMYFUNCTION(\"iferror(VLOOKUP(B988,IMPORTRANGE(\"\"https://docs.google.com/spreadsheets/d/1-zcOrI_PgX9R0t6_sOpXptmEcBDI4IX9Gfz9-2a6his/edit#gid=0\"\",\"\"RWA!F:BZ\"\"),44,0))\"),\"\")","v":""},{"$f":"IFERROR(__xludf.DUMMYFUNCTION(\"iferror(VLOOKUP(B988,IMPORTRANGE(\"\"https://docs.google.com/spreadsheets/d/1-zcOrI_PgX9R0t6_sOpXptmEcBDI4IX9Gfz9-2a6his/edit#gid=0\"\",\"\"RWA!F:BZ\"\"),48,0))\"),\"\")","v":""},{"$f":"IFERROR(__xludf.DUMMYFUNCTION(\"iferror(VLOOKUP(B988,IMPORTRANGE(\"\"https://docs.google.com/spreadsheets/d/1-zcOrI_PgX9R0t6_sOpXptmEcBDI4IX9Gfz9-2a6his/edit#gid=0\"\",\"\"RWA!F:BZ\"\"),49,0))\"),\"\")","v":""}]
[{"$nulls":4},{"$f":"IFERROR(__xludf.DUMMYFUNCTION(\"iferror(VLOOKUP(B989,IMPORTRANGE(\"\"https://docs.google.com/spreadsheets/d/1-zcOrI_PgX9R0t6_sOpXptmEcBDI4IX9Gfz9-2a6his/edit#gid=0\"\",\"\"RWA!F:BZ\"\"),44,0))\"),\"\")","v":""},{"$f":"IFERROR(__xludf.DUMMYFUNCTION(\"iferror(VLOOKUP(B989,IMPORTRANGE(\"\"https://docs.google.com/spreadsheets/d/1-zcOrI_PgX9R0t6_sOpXptmEcBDI4IX9Gfz9-2a6his/edit#gid=0\"\",\"\"RWA!F:BZ\"\"),48,0))\"),\"\")","v":""},{"$f":"IFERROR(__xludf.DUMMYFUNCTION(\"iferror(VLOOKUP(B989,IMPORTRANGE(\"\"https://docs.google.com/spreadsheets/d/1-zcOrI_PgX9R0t6_sOpXptmEcBDI4IX9Gfz9-2a6his/edit#gid=0\"\",\"\"RWA!F:BZ\"\"),49,0))\"),\"\")","v":""}]
[{"$nulls":4},{"$f":"IFERROR(__xludf.DUMMYFUNCTION(\"iferror(VLOOKUP(B990,IMPORTRANGE(\"\"https://docs.google.com/spreadsheets/d/1-zcOrI_PgX9R0t6_sOpXptmEcBDI4IX9Gfz9-2a6his/edit#gid=0\"\",\"\"RWA!F:BZ\"\"),44,0))\"),\"\")","v":""},{"$f":"IFERROR(__xludf.DUMMYFUNCTION(\"iferror(VLOOKUP(B990,IMPORTRANGE(\"\"https://docs.google.com/spreadsheets/d/1-zcOrI_PgX9R0t6_sOpXptmEcBDI4IX9Gfz9-2a6his/edit#gid=0\"\",\"\"RWA!F:BZ\"\"),48,0))\"),\"\")","v":""},{"$f":"IFERROR(__xludf.DUMMYFUNCTION(\"iferror(VLOOKUP(B990,IMPORTRANGE(\"\"https://docs.google.com/spreadsheets/d/1-zcOrI_PgX9R0t6_sOpXptmEcBDI4IX9Gfz9-2a6his/edit#gid=0\"\",\"\"RWA!F:BZ\"\"),49,0))\"),\"\")","v":""}]
[{"$nulls":4},{"$f":"IFERROR(__xludf.DUMMYFUNCTION(\"iferror(VLOOKUP(B991,IMPORTRANGE(\"\"https://docs.google.com/spreadsheets/d/1-zcOrI_PgX9R0t6_sOpXptmEcBDI4IX9Gfz9-2a6his/edit#gid=0\"\",\"\"RWA!F:BZ\"\"),44,0))\"),\"\")","v":""},{"$f":"IFERROR(__xludf.DUMMYFUNCTION(\"iferror(VLOOKUP(B991,IMPORTRANGE(\"\"https://docs.google.com/spreadsheets/d/1-zcOrI_PgX9R0t6_sOpXptmEcBDI4IX9Gfz9-2a6his/edit#gid=0\"\",\"\"RWA!F:BZ\"\"),48,0))\"),\"\")","v":""},{"$f":"IFERROR(__xludf.DUMMYFUNCTION(\"iferror(VLOOKUP(B991,IMPORTRANGE(\"\"https://docs.google.com/spreadsheets/d/1-zcOrI_PgX9R0t6_sOpXptmEcBDI4IX9Gfz9-2a6his/edit#gid=0\"\",\"\"RWA!F:BZ\"\"),49,0))\"),\"\")","v":""}]
[{"$nulls":4},{"$f":"IFERROR(__xludf.DUMMYFUNCTION(\"iferror(VLOOKUP(B992,IMPORTRANGE(\"\"https://docs.google.com/spreadsheets/d/1-zcOrI_PgX9R0t6_sOpXptmEcBDI4IX9Gfz9-2a6his/edit#gid=0\"\",\"\"RWA!F:BZ\"\"),44,0))\"),\"\")","v":""},{"$f":"IFERROR(__xludf.DUMMYFUNCTION(\"iferror(VLOOKUP(B992,IMPORTRANGE(\"\"https://docs.google.com/spreadsheets/d/1-zcOrI_PgX9R0t6_sOpXptmEcBDI4IX9Gfz9-2a6his/edit#gid=0\"\",\"\"RWA!F:BZ\"\"),48,0))\"),\"\")","v":""},{"$f":"IFERROR(__xludf.DUMMYFUNCTION(\"iferror(VLOOKUP(B992,IMPORTRANGE(\"\"https://docs.google.com/spreadsheets/d/1-zcOrI_PgX9R0t6_sOpXptmEcBDI4IX9Gfz9-2a6his/edit#gid=0\"\",\"\"RWA!F:BZ\"\"),49,0))\"),\"\")","v":""}]
[{"$nulls":4},{"$f":"IFERROR(__xludf.DUMMYFUNCTION(\"iferror(VLOOKUP(B993,IMPORTRANGE(\"\"https://docs.google.com/spreadsheets/d/1-zcOrI_PgX9R0t6_sOpXptmEcBDI4IX9Gfz9-2a6his/edit#gid=0\"\",\"\"RWA!F:BZ\"\"),44,0))\"),\"\")","v":""},{"$f":"IFERROR(__xludf.DUMMYFUNCTION(\"iferror(VLOOKUP(B993,IMPORTRANGE(\"\"https://docs.google.com/spreadsheets/d/1-zcOrI_PgX9R0t6_sOpXptmEcBDI4IX9Gfz9-2a6his/edit#gid=0\"\",\"\"RWA!F:BZ\"\"),48,0))\"),\"\")","v":""},{"$f":"IFERROR(__xludf.DUMMYFUNCTION(\"iferror(VLOOKUP(B993,IMPORTRANGE(\"\"https://docs.google.com/spreadsheets/d/1-zcOrI_PgX9R0t6_sOpXptmEcBDI4IX9Gfz9-2a6his/edit#gid=0\"\",\"\"RWA!F:BZ\"\"),49,0))\"),\"\")","v":""}]
[{"$nulls":4},{"$f":"IFERROR(__xludf.DUMMYFUNCTION(\"iferror(VLOOKUP(B994,IMPORTRANGE(\"\"https://docs.google.com/spreadsheets/d/1-zcOrI_PgX9R0t6_sOpXptmEcBDI4IX9Gfz9-2a6his/edit#gid=0\"\",\"\"RWA!F:BZ\"\"),44,0))\"),\"\")","v":""},{"$f":"IFERROR(__xludf.DUMMYFUNCTION(\"iferror(VLOOKUP(B994,IMPORTRANGE(\"\"https://docs.google.com/spreadsheets/d/1-zcOrI_PgX9R0t6_sOpXptmEcBDI4IX9Gfz9-2a6his/edit#gid=0\"\",\"\"RWA!F:BZ\"\"),48,0))\"),\"\")","v":""},{"$f":"IFERROR(__xludf.DUMMYFUNCTION(\"iferror(VLOOKUP(B994,IMPORTRANGE(\"\"https://docs.google.com/spreadsheets/d/1-zcOrI_PgX9R0t6_sOpXptmEcBDI4IX9Gfz9-2a6his/edit#gid=0\"\",\"\"RWA!F:BZ\"\"),49,0))\"),\"\")","v":""}]
[{"$nulls":4},{"$f":"IFERROR(__xludf.DUMMYFUNCTION(\"iferror(VLOOKUP(B995,IMPORTRANGE(\"\"https://docs.google.com/spreadsheets/d/1-zcOrI_PgX9R0t6_sOpXptmEcBDI4IX9Gfz9-2a6his/edit#gid=0\"\",\"\"RWA!F:BZ\"\"),44,0))\"),\"\")","v":""},{"$f":"IFERROR(__xludf.DUMMYFUNCTION(\"iferror(VLOOKUP(B995,IMPORTRANGE(\"\"https://docs.google.com/spreadsheets/d/1-zcOrI_PgX9R0t6_sOpXptmEcBDI4IX9Gfz9-2a6his/edit#gid=0\"\",\"\"RWA!F:BZ\"\"),48,0))\"),\"\")","v":""},{"$f":"IFERROR(__xludf.DUMMYFUNCTION(\"iferror(VLOOKUP(B995,IMPORTRANGE(\"\"https://docs.google.com/spreadsheets/d/1-zcOrI_PgX9R0t6_sOpXptmEcBDI4IX9Gfz9-2a6his/edit#gid=0\"\",\"\"RWA!F:BZ\"\"),49,0))\"),\"\")","v":""}]
[{"$nulls":4},{"$f":"IFERROR(__xludf.DUMMYFUNCTION(\"iferror(VLOOKUP(B996,IMPORTRANGE(\"\"https://docs.google.com/spreadsheets/d/1-zcOrI_PgX9R0t6_sOpXptmEcBDI4IX9Gfz9-2a6his/edit#gid=0\"\",\"\"RWA!F:BZ\"\"),44,0))\"),\"\")","v":""},{"$f":"IFERROR(__xludf.DUMMYFUNCTION(\"iferror(VLOOKUP(B996,IMPORTRANGE(\"\"https://docs.google.com/spreadsheets/d/1-zcOrI_PgX9R0t6_sOpXptmEcBDI4IX9Gfz9-2a6his/edit#gid=0\"\",\"\"RWA!F:BZ\"\"),48,0))\"),\"\")","v":""},{"$f":"IFERROR(__xludf.DUMMYFUNCTION(\"iferror(VLOOKUP(B996,IMPORTRANGE(\"\"https://docs.google.com/spreadsheets/d/1-zcOrI_PgX9R0t6_sOpXptmEcBDI4IX9Gfz9-2a6his/edit#gid=0\"\",\"\"RWA!F:BZ\"\"),49,0))\"),\"\")","v":""}]
[{"$nulls":4},{"$f":"IFERROR(__xludf.DUMMYFUNCTION(\"iferror(VLOOKUP(B997,IMPORTRANGE(\"\"https://docs.google.com/spreadsheets/d/1-zcOrI_PgX9R0t6_sOpXptmEcBDI4IX9Gfz9-2a6his/edit#gid=0\"\",\"\"RWA!F:BZ\"\"),44,0))\"),\"\")","v":""},{"$f":"IFERROR(__xludf.DUMMYFUNCTION(\"iferror(VLOOKUP(B997,IMPORTRANGE(\"\"https://docs.google.com/spreadsheets/d/1-zcOrI_PgX9R0t6_sOpXptmEcBDI4IX9Gfz9-2a6his/edit#gid=0\"\",\"\"RWA!F:BZ\"\"),48,0))\"),\"\")","v":""},{"$f":"IFERROR(__xludf.DUMMYFUNCTION(\"iferror(VLOOKUP(B997,IMPORTRANGE(\"\"https://docs.google.com/spreadsheets/d/1-zcOrI_PgX9R0t6_sOpXptmEcBDI4IX9Gfz9-2a6his/edit#gid=0\"\",\"\"RWA!F:BZ\"\"),49,0))\"),\"\")","v":""}]
[{"$nulls":4},{"$f":"IFERROR(__xludf.DUMMYFUNCTION(\"iferror(VLOOKUP(B998,IMPORTRANGE(\"\"https://docs.google.com/spreadsheets/d/1-zcOrI_PgX9R0t6_sOpXptmEcBDI4IX9Gfz9-2a6his/edit#gid=0\"\",\"\"RWA!F:BZ\"\"),44,0))\"),\"\")","v":""},{"$f":"IFERROR(__xludf.DUMMYFUNCTION(\"iferror(VLOOKUP(B998,IMPORTRANGE(\"\"https://docs.google.com/spreadsheets/d/1-zcOrI_PgX9R0t6_sOpXptmEcBDI4IX9Gfz9-2a6his/edit#gid=0\"\",\"\"RWA!F:BZ\"\"),48,0))\"),\"\")","v":""},{"$f":"IFERROR(__xludf.DUMMYFUNCTION(\"iferror(VLOOKUP(B998,IMPORTRANGE(\"\"https://docs.google.com/spreadsheets/d/1-zcOrI_PgX9R0t6_sOpXptmEcBDI4IX9Gfz9-2a6his/edit#gid=0\"\",\"\"RWA!F:BZ\"\"),49,0))\"),\"\")","v":""}]
[{"$nulls":4},{"$f":"IFERROR(__xludf.DUMMYFUNCTION(\"iferror(VLOOKUP(B999,IMPORTRANGE(\"\"https://docs.google.com/spreadsheets/d/1-zcOrI_PgX9R0t6_sOpXptmEcBDI4IX9Gfz9-2a6his/edit#gid=0\"\",\"\"RWA!F:BZ\"\"),44,0))\"),\"\")","v":""},{"$f":"IFERROR(__xludf.DUMMYFUNCTION(\"iferror(VLOOKUP(B999,IMPORTRANGE(\"\"https://docs.google.com/spreadsheets/d/1-zcOrI_PgX9R0t6_sOpXptmEcBDI4IX9Gfz9-2a6his/edit#gid=0\"\",\"\"RWA!F:BZ\"\"),48,0))\"),\"\")","v":""},{"$f":"IFERROR(__xludf.DUMMYFUNCTION(\"iferror(VLOOKUP(B999,IMPORTRANGE(\"\"https://docs.google.com/spreadsheets/d/1-zcOrI_PgX9R0t6_sOpXptmEcBDI4IX9Gfz9-2a6his/edit#gid=0\"\",\"\"RWA!F:BZ\"\"),49,0))\"),\"\")","v":""}]
[{"$nulls":4},{"$f":"IFERROR(__xludf.DUMMYFUNCTION(\"iferror(VLOOKUP(B1000,IMPORTRANGE(\"\"https://docs.google.com/spreadsheets/d/1-zcOrI_PgX9R0t6_sOpXptmEcBDI4IX9Gfz9-2a6his/edit#gid=0\"\",\"\"RWA!F:BZ\"\"),44,0))\"),\"\")","v":""},{"$f":"IFERROR(__xludf.DUMMYFUNCTION(\"iferror(VLOOKUP(B1000,IMPORTRANGE(\"\"https://docs.google.com/spreadsheets/d/1-zcOrI_PgX9R0t6_sOpXptmEcBDI4IX9Gfz9-2a6his/edit#gid=0\"\",\"\"RWA!F:BZ\"\"),48,0))\"),\"\")","v":""},{"$f":"IFERROR(__xludf.DUMMYFUNCTION(\"iferror(VLOOKUP(B1000,IMPORTRANGE(\"\"https://docs.google.com/spreadsheets/d/1-zcOrI_PgX9R0t6_sOpXptmEcBDI4IX9Gfz9-2a6his/edit#gid=0\"\",\"\"RWA!F:BZ\"\"),49,0))\"),\"\")","v":""}]